{"text_format":"1","workbook":"xlsx","n_sheets":9,"sheets":["Intro","Piano di Azione","Elenco dei soci","Dettaglio delle attività","Indicatori","Piano gest. rif e res agricoli","Foglio2","Piano Varianti","Indicatori Varianti"],"not_rendered":{"charts":0,"images":3,"macros":1,"external_links":0,"defined_names":19,"comments":0,"pivot_tables":0},"unopened":[],"bounds":{"document_bytes":16777216,"sheet_cells":100000,"rows_first":2000,"rows_last":500,"rows_between":2000,"halvings":0,"cell_chars":16384,"cell_head_chars":4096},"cells_cut":0,"cells_raw":0,"read":"whole","date_system":"1900"}

{"sheet":"Intro","index":0,"n_rows":45,"n_cols":25,"rows_kept":45,"cut":false,"hidden":false,"merged":[[52,2,53,20],[16,3,17,56],[40,24,41,38],[10,19,13,40],[24,3,29,55],[31,0,37,57],[21,2,22,56],[44,10,45,27],[44,28,45,53]]}
[]
[]
[]
[]
[]
[]
[]
[]
[]
[]
[null,null,null,null,null,null,null,null,null,null,null,null,null,null,null,null,null,null,null,"REGIONE PUGLIA"]
[]
[]
[]
[]
[]
[null,null,null,"DIPARTIMENTO AGRICOLTURA, SVILUPPO RURALE E TUTELA DELL’AMBIENTE"]
[]
[]
[]
[]
[null,null,"Programma di Sviluppo Rurale della Regione Puglia 2014-2020 Fondo F.E.A.S.R."]
[]
[]
[null,null,null,"Misura 9 Costituzione di Associazioni e Organizzazioni di produttori – Art. 27 Reg (UE) n. 1305/2013"]
[]
[]
[]
[]
[]
[]
["Sottomisura 9.1 – “Costituzione di Associazioni e Organizzazioni di produttori nei settori agricolo e forestale”"]
[]
[]
[]
[]
[]
[]
[]
[]
[null,null,null,null,null,null,null,null,null,null,null,null,null,null,null,null,null,null,null,null,null,null,null,null,"PIANO AZIENDALE"]
[]
[]
[]
[null,null,null,null,null,null,null,null,null,null,"CUAA OP/AOP"]

{"sheet":"Piano di Azione","index":1,"n_rows":242,"n_cols":54,"rows_kept":242,"cut":false,"hidden":false,"merged":[[43,44,44,69],[49,44,50,69],[56,2,56,69],[51,34,52,43],[53,34,54,43],[47,2,48,43],[45,44,46,69],[47,44,48,69],[11,51,12,69],[237,2,239,69],[192,2,194,69],[184,2,190,69],[181,2,182,18],[181,19,182,35],[181,36,182,52],[175,53,176,69],[177,19,178,35],[177,36,178,52],[177,53,178,69],[179,19,180,35],[179,36,180,52],[35,2,36,17],[35,20,36,68],[37,2,38,17],[27,2,28,17],[29,2,30,17],[25,2,26,17],[31,2,32,17],[11,22,12,48],[12,2,12,3],[31,20,32,68],[14,2,15,69],[21,20,22,68],[23,20,24,68],[25,20,26,68],[17,2,18,17],[19,2,20,17],[21,2,22,17],[23,2,24,17],[17,20,18,68],[19,20,20,68],[27,20,28,68],[173,53,174,69],[171,53,172,69],[167,53,170,69],[167,36,170,52],[37,20,38,68],[40,2,41,69],[29,20,30,68],[33,20,34,68],[33,2,34,17],[43,2,46,43],[51,44,52,69],[53,44,54,69],[49,2,54,33],[49,34,50,43],[171,2,172,18],[171,19,172,35],[171,36,172,52],[173,2,174,18],[173,19,174,35],[173,36,174,52],[167,2,170,18],[167,19,170,35],[157,2,162,69],[153,2,155,69],[77,2,79,69],[81,2,99,69],[100,2,132,69],[164,2,165,17],[164,18,165,28],[241,7,243,26],[241,43,243,62],[177,2,178,18],[179,2,180,18],[175,19,176,35],[204,2,231,69],[179,53,180,69],[175,2,176,18],[196,2,201,69],[175,36,176,52],[181,53,182,69]]}
[]
[]
[]
[]
[]
[]
[]
[]
[]
[]
[]
[null,null,null,null,null,null,null,null,null,null,null,null,null,null,null,null,null,null,null,null,null,null,"PIANO AZIENDALE",null,null,null,null,null,null,null,null,null,null,null,null,null,null,null,null,null,null,null,null,null,null,null,null,null,null,null,null,{"$f":"IF(Intro!AC45=\"\",\"\",Intro!AC45)","v":""}]
[]
[]
[null,null,"1.      DATI IDENTIFICATIVI DELL’OP/AOP"]
[]
[]
[null,null,"Denominazione"]
[]
[null,null,"Forma Giuridica"]
[]
[null,null,"Sede legale"]
[]
[null,null,"Sede operativa"]
[]
[null,null,"Sedi secondarie"]
[]
[null,null,"n. telefono  "]
[]
[null,null,"e-mail"]
[]
[null,null,"PEC"]
[]
[null,null,"Partita IVA/codice fiscale"]
[]
[null,null,"Numero e Data riconoscimento OP"]
[]
[null,null,"Data di presentazione domanda di riconoscimento"]
[]
[]
[null,null,"2.      COMPARTO "]
[]
[]
[null,null,"Comparto di riferimento",null,null,null,null,null,null,null,null,null,null,null,null,null,null,null,null,null,null,null,null,null,null,null,null,null,null,null,null,null,null,null,null,null,null,null,null,null,null,null,null,null,"Comparto"]
[]
[null,null,null,null,null,null,null,null,null,null,null,null,null,null,null,null,null,null,null,null,null,null,null,null,null,null,null,null,null,null,null,null,null,null,null,null,null,null,null,null,null,null,null,null,{"$f":"IF('Elenco dei soci'!F9=\"\",\" \",'Elenco dei soci'!F9)","v":" "}]
[]
[null,null,"Numero  totale soci dell’OP/AOP (diretti + indiretti)",null,null,null,null,null,null,null,null,null,null,null,null,null,null,null,null,null,null,null,null,null,null,null,null,null,null,null,null,null,null,null,null,null,null,null,null,null,null,null,null,null,{"$f":"COUNTA('Elenco dei soci'!D14:D1048576)","v":0}]
[]
[null,null,"Numero soci aderenti ad un regime di qualità",null,null,null,null,null,null,null,null,null,null,null,null,null,null,null,null,null,null,null,null,null,null,null,null,null,null,null,null,null,null,null,"DOP/IGP",null,null,null,null,null,null,null,null,null,{"$f":"COUNTIFS('Elenco dei soci'!G14:G1000000,\"SI\")","v":0}]
[]
[null,null,null,null,null,null,null,null,null,null,null,null,null,null,null,null,null,null,null,null,null,null,null,null,null,null,null,null,null,null,null,null,null,null,"BIOLOGICO",null,null,null,null,null,null,null,null,null,{"$f":"COUNTIFS('Elenco dei soci'!H14:H1000000,\"SI\")","v":0}]
[]
[null,null,null,null,null,null,null,null,null,null,null,null,null,null,null,null,null,null,null,null,null,null,null,null,null,null,null,null,null,null,null,null,null,null,"ALTRI REGIMI",null,null,null,null,null,null,null,null,null,{"$f":"COUNTIFS('Elenco dei soci'!I14:I1000000,\"SI\")","v":0}]
[]
[]
[null,null,"I campi si popolano in automatico con la compilazione del foglio Elenco dei soci"]
[]
[]
[]
[]
[]
[]
[]
[]
[]
[]
[]
[]
[]
[]
[]
[]
[]
[]
[]
[]
[null,null,"3.     DESCRIZIONE DELLE ATTIVITA' PREVISTE PER IL RAGGIUNGIMENTO DEGLI OBIETTIVIDEL PIANO AZIENDALE"]
[]
[]
[]
[null,null,"Si richiede una descrizione dettagliata degli investimenti materiali e immateriali  e degli altri interventi che si prevede di realizzare nel periodo prescelto dalla quale  risulti evidente il collegamento con le finalità generali e gli obiettivi specifici  del piano. \n\nLa descrizione delle attività può avvenire anche tramite l’utilizzo dei seguenti indicatori numerici:\n• livello di ricavi e di utile attesi;\n• valore produzione che si prevede di commercializzare;\n• variazione del valore unitario della produzione commercializzata; \n• incremento previsto della quota di mercato;  \n• elementi differenziali in ambito produttivo; \n• numero di aziende coinvolte nelle attività di formazione; \n• numero di ettari interessati e/o numero di aziende partecipanti ai sistemi di produzione biologica od integrata, etc.).    \nGli indicatori utilizzati hanno solo valore descrittivo.  \n"]
[]
[]
[]
[]
[]
[]
[]
[]
[]
[]
[]
[]
[]
[]
[]
[]
[]
[]
[]
[]
[]
[]
[]
[]
[]
[]
[]
[]
[]
[]
[]
[]
[]
[]
[]
[]
[]
[]
[]
[]
[]
[]
[]
[]
[]
[]
[]
[]
[]
[]
[]
[]
[]
[]
[]
[]
[]
[]
[]
[]
[]
[]
[]
[]
[]
[]
[]
[]
[]
[]
[]
[null,null,"4.     SOSTEGNO RICHIESTO"]
[]
[]
[]
[null,null,"La prima annualità corrisponde all’annualità successiva alla presentazione della domanda di sostegno. Per le OP/AOP riconosciute nel 2014 il piano ha durata massima di un anno in quanto il quinquennio si conclude nel 2018. Per le OP/AOP riconosciute nel 2015 il piano ha durata massima di due anni in quanto il quinquennio si conclude nel 2019. Per le OP/AOP riconosciute nel 2016 il piano ha  durata massima di tre anni in quanto il quinquennio si conclude nel 2020. Per le OP/AOP riconosciute nel 2017 il piano ha  durata massima di quattro anni in quanto il quinquennio si conclude nel 2021.Per le OP/AOP non ancora riconosciute il piano ha durata massima di cinque anni."]
[]
[]
[]
[]
[]
[]
[null,null,"Selezionare l'anno di riconoscimento dell'OP/AOP",null,null,null,null,null,null,null,null,null,null,null,null,null,null,null,2018]
[]
[]
[null,null,"Anni di attuazione del Piano Aziendale",null,null,null,null,null,null,null,null,null,null,null,null,null,null,null,null,"VPC: Valore\nProduzione Commercializzata o Commercializzabile (€) (a)",null,null,null,null,null,null,null,null,null,null,null,null,null,null,null,null,"IMPORTO MASSIMO CONCEDIBILE (€)\n(b)",null,null,null,null,null,null,null,null,null,null,null,null,null,null,null,null,"INCIDENZA PERCENTUALE (b)/(a)"]
[]
[]
[]
[null,null,"1°",null,null,null,null,null,null,null,null,null,null,null,null,null,null,null,null,null,null,null,null,null,null,null,null,null,null,null,null,null,null,null,null,null,{"$f":"IF(T172*0.1<100000,T172*0.1,100000)","v":0},null,null,null,null,null,null,null,null,null,null,null,null,null,null,null,null,{"$f":"IF(T172*0.1>100000,\"IMPORTO RIMODULATO\",AK172/T172)","v":{"$error":"#DIV/0!"}}]
[]
[null,null,"2°",null,null,null,null,null,null,null,null,null,null,null,null,null,null,null,null,null,null,null,null,null,null,null,null,null,null,null,null,null,null,null,null,null,{"$f":"IF(T174*0.08<100000,T174*0.08,100000)","v":0},null,null,null,null,null,null,null,null,null,null,null,null,null,null,null,null,{"$f":"IF(T174*0.08>100000,\"IMPORTO RIMODULATO\",AK174/T174)","v":{"$error":"#DIV/0!"}}]
[]
[null,null,"3°",null,null,null,null,null,null,null,null,null,null,null,null,null,null,null,null,null,null,null,null,null,null,null,null,null,null,null,null,null,null,null,null,null,{"$f":"IF(T176*0.06<100000,T176*0.06,100000)","v":0},null,null,null,null,null,null,null,null,null,null,null,null,null,null,null,null,{"$f":"IF(T176*0.06>100000,\"IMPORTO RIMODULATO\",AK176/T176)","v":{"$error":"#DIV/0!"}}]
[]
[null,null,"4°",null,null,null,null,null,null,null,null,null,null,null,null,null,null,null,null,null,null,null,null,null,null,null,null,null,null,null,null,null,null,null,null,null,{"$f":"IF(T178*0.04<100000,T178*0.04,100000)","v":0},null,null,null,null,null,null,null,null,null,null,null,null,null,null,null,null,{"$f":"IF(T178*0.02>100000,\"IMPORTO RIMODULATO\",AK178/T178)","v":{"$error":"#DIV/0!"}}]
[]
[null,null,"5°",null,null,null,null,null,null,null,null,null,null,null,null,null,null,null,null,null,null,null,null,null,null,null,null,null,null,null,null,null,null,null,null,null,{"$f":"IF(T180*0.02<100000,T180*0.02,100000)","v":0},null,null,null,null,null,null,null,null,null,null,null,null,null,null,null,null,{"$f":"IF(T180*0.04>100000,\"IMPORTO RIMODULATO\",AK180/T180)","v":{"$error":"#DIV/0!"}}]
[]
[null,null,"Totale",null,null,null,null,null,null,null,null,null,null,null,null,null,null,null,null,{"$f":"IF(S165=2018,SUM(T172:AJ181),IF(S165=2017,SUM(T174:AJ181),IF(S165=2016,SUM(T176:AJ181),IF(S165=2015,SUM(T178:AJ181),IF(S165=2014,SUM(T180),\" \")))))","v":0},null,null,null,null,null,null,null,null,null,null,null,null,null,null,null,null,{"$f":"IF(S165=2018,SUM(AK172:BA181),IF(S165=2017,SUM(AK174:BA181),IF(S165=2016,SUM(AK176:BA181),IF(S165=2015,SUM(AK178:BA181),IF(S165=2014,SUM(AK180),\" \")))))","v":0}]
[]
[]
[null,null,"Per l'imputazione del valore del VPC fare riferimento a quanto indicato nello schema esemplificativo presente nell'avviso pubblico al paragrafo 10: Tipologia ed entità del sostegno pubblico, in cui vengono indicate anche le percentuali massime di sostegno per ciascun anno in relazione alla durata complessiva del piano aziendale ed all'anno di riconoscimento.\n"]
[]
[]
[]
[]
[]
[]
[]
[null,null,"5.    SITUAZIONE DELL’OP/AOP AL TERMINE DEL PERIODO DI REALIZZAZIONE DEL PIANO "]
[]
[]
[]
[null,null,"Descrizione degli effetti e dei risultati derivanti dalla realizzazione delle attività previste al termine del periodo del piano. La descrizione dei risultati attesi può avvenire tramite l’utilizzo di indicatori numerici quali, ad esempio: livello di ricavi e di utile attesi,  valore produzione commercializzata, variazione del valore unitario della produzione commercializzata, incremento previsto della quota di mercato, elementi differenziali in ambito produttivo, numero di aziende coinvolte nelle attività di formazione, numero di ettari interessati e/o numero di aziende partecipanti ai sistemi di produzione biologica od integrata, etc.).    \n"]
[]
[]
[]
[]
[]
[]
[]
[]
[]
[]
[]
[]
[]
[]
[]
[]
[]
[]
[]
[]
[]
[]
[]
[]
[]
[]
[]
[]
[]
[]
[]
[]
[]
[]
[]
[]
[]
[]
[]
[]
[null,null,"6. TIPOLOGIA E QUANTITA' DI RIFIUTI E RESIDUI AGRICOLI PRODOTTI"]
[]
[]
[]
[null,null,null,null,null,null,null,"Presenza Piano gestione rifiuti e residui agricoli",null,null,null,null,null,null,null,null,null,null,null,null,null,null,null,null,null,null,null,null,null,null,null,null,null,null,null,null,null,null,null,null,null,null,null,"Assenza Piano gestione rifiuti e residui agricoli"]

{"sheet":"Elenco dei soci","index":2,"n_rows":66,"n_cols":9,"rows_kept":66,"cut":false,"hidden":false,"merged":[[8,7,9,8],[11,3,11,8],[8,4,9,4],[8,5,9,6]]}
[]
[]
[]
[]
[]
[]
[]
[]
[null,null,null,null,"Comparto",null,null,{"$f":"IF(Intro!AC45=\"\",\"\",Intro!AC45)","v":""}]
[]
[]
[null,null,null,"Situazione ex ante"]
[null,null,"N","Ragione Sociale","CUAA","Partecipazione","DOP/IGP","Biologico","Altri Regimi"]
[null,null,{"$f":"ROW(C1)","v":1}]
[null,null,2]
[null,null,3]
[null,null,4]
[null,null,5]
[null,null,6]
[null,null,7]
[null,null,8]
[null,null,9]
[null,null,10]
[null,null,11]
[null,null,12]
[null,null,13]
[null,null,14]
[null,null,15]
[null,null,16]
[null,null,17]
[null,null,18]
[null,null,19]
[null,null,{"$f":"ROW(C20)","v":20}]
[null,null,21]
[null,null,22]
[null,null,23]
[null,null,24]
[null,null,25]
[null,null,26]
[null,null,27]
[null,null,28]
[null,null,29]
[null,null,30]
[null,null,31]
[null,null,32]
[null,null,33]
[null,null,34]
[null,null,35]
[null,null,36]
[null,null,37]
[null,null,38]
[null,null,39]
[null,null,40]
[null,null,41]
[null,null,42]
[null,null,43]
[null,null,44]
[null,null,{"$f":"ROW(C45)","v":45}]
[null,null,46]
[null,null,47]
[null,null,48]
[null,null,49]
[null,null,50]
[null,null,{"$f":"ROW(C51)","v":51}]
[null,null,{"$f":"ROW(C52)","v":52}]
[null,null,{"$f":"ROW(C53)","v":53}]

{"sheet":"Dettaglio delle attività","index":3,"n_rows":174,"n_cols":10,"rows_kept":174,"cut":false,"hidden":false,"merged":[[3,6,4,7],[8,6,8,7],[8,8,8,9],[9,6,9,7],[9,8,9,9],[6,1,7,9]]}
[]
[]
[]
[null,null,null,null,null,null,{"$f":"IF(Intro!AC45=\"\",\"\",Intro!AC45)","v":""}]
[]
[]
[null,"Descrizione Attività"]
[]
[]
[null,null,null,null,null,null,"INIZIO",null,"FINE"]
[null,"Progressivo","Finalità/ obiettivi generali","Obiettivi specifici","Elenco analitico delle attività da realizzare\n\nNOTA BENE: tale colonna viene considerata ai fini del calcolo delle riduzioni ed esclusioni, pertanto inserire\nin ogni riga un solo intervento.\n","Descrizione qualitativa dell’attività","Anno di Inizio","Mese di attuazione","Anno di conclusione dell'attività","Mese di conclusione"]
[null,{"$f":"ROW(A1)","v":1}]
[null,2]
[null,3]
[null,4]
[null,5]
[null,6]
[null,7]
[null,8]
[null,9]
[null,10]
[null,11]
[null,12]
[null,13]
[null,14]
[null,15]
[null,16]
[null,17]
[null,18]
[null,19]
[null,20]
[null,21]
[null,22]
[null,23]
[null,24]
[null,25]
[null,26]
[null,27]
[null,28]
[null,29]
[null,30]
[null,31]
[null,32]
[null,{"$f":"ROW(A33)","v":33}]
[null,34]
[null,35]
[null,36]
[null,37]
[null,38]
[null,39]
[null,40]
[null,41]
[null,42]
[null,43]
[null,44]
[null,45]
[null,46]
[null,47]
[null,48]
[null,49]
[null,50]
[null,51]
[null,52]
[null,53]
[null,54]
[null,55]
[null,56]
[null,57]
[null,58]
[null,59]
[null,60]
[null,61]
[null,62]
[null,63]
[null,64]
[null,{"$f":"ROW(A65)","v":65}]
[null,66]
[null,67]
[null,68]
[null,69]
[null,70]
[null,71]
[null,72]
[null,73]
[null,74]
[null,75]
[null,76]
[null,77]
[null,78]
[null,79]
[null,80]
[null,81]
[null,82]
[null,83]
[null,84]
[null,85]
[null,86]
[null,87]
[null,88]
[null,89]
[null,90]
[null,91]
[null,92]
[null,93]
[null,94]
[null,95]
[null,96]
[null,{"$f":"ROW(A97)","v":97}]
[null,98]
[null,99]
[null,100]
[null,101]
[null,102]
[null,103]
[null,104]
[null,105]
[null,106]
[null,107]
[null,108]
[null,109]
[null,110]
[null,111]
[null,112]
[null,113]
[null,114]
[null,115]
[null,116]
[null,117]
[null,118]
[null,119]
[null,120]
[null,121]
[null,122]
[null,123]
[null,124]
[null,125]
[null,126]
[null,127]
[null,128]
[null,{"$f":"ROW(A129)","v":129}]
[null,130]
[null,131]
[null,132]
[null,133]
[null,134]
[null,135]
[null,136]
[null,137]
[null,138]
[null,139]
[null,140]
[null,141]
[null,142]
[null,143]
[null,144]
[null,145]
[null,146]
[null,147]
[null,148]
[null,149]
[null,150]
[null,151]
[null,152]
[null,153]
[null,154]
[null,155]
[null,156]
[null,157]
[null,158]
[null,159]
[null,160]
[null,{"$f":"ROW(A161)","v":161}]
[null,162]
[null,163]

{"sheet":"Indicatori","index":4,"n_rows":173,"n_cols":7,"rows_kept":173,"cut":false,"hidden":false,"merged":[[6,6,7,6],[9,1,10,6]]}
[]
[]
[]
[]
[]
[]
[null,null,null,null,null,null,{"$f":"IF(Intro!AC45=\"\",\" \",Intro!AC45)","v":" "}]
[]
[]
[null,"Indicatori"]
[]
[]
[null,"Progressivo","Attività","Indicatore","Metodo di calcolo dell'indicatore di risultato","Quantificazione dei risultati attesi","Descrizione dell'indicatore"]
[null,{"$f":"ROW(B1)","v":1},{"$f":"IF('Dettaglio delle attività'!E12=\"\",\" \",'Dettaglio delle attività'!E12)","v":" "},{"$f":"IF(Tabella1[[#This Row],[Attività]]=\"\",\" \",IF(Tabella1[[#This Row],[Attività]]=\" \",\" \",CONCATENATE(Tabella1[[#This Row],[Attività]],\".\",Tabella1[[#This Row],[Progressivo]])))","v":" "}]
[null,2,{"$f":"IF('Dettaglio delle attività'!E13=\"\",\" \",'Dettaglio delle attività'!E13)","v":" "},{"$f":"IF(Tabella1[[#This Row],[Attività]]=\"\",\" \",IF(Tabella1[[#This Row],[Attività]]=\" \",\" \",CONCATENATE(Tabella1[[#This Row],[Attività]],\".\",Tabella1[[#This Row],[Progressivo]])))","v":" "}]
[null,3,{"$f":"IF('Dettaglio delle attività'!E14=\"\",\" \",'Dettaglio delle attività'!E14)","v":" "},{"$f":"IF(Tabella1[[#This Row],[Attività]]=\"\",\" \",IF(Tabella1[[#This Row],[Attività]]=\" \",\" \",CONCATENATE(Tabella1[[#This Row],[Attività]],\".\",Tabella1[[#This Row],[Progressivo]])))","v":" "}]
[null,4,{"$f":"IF('Dettaglio delle attività'!E15=\"\",\" \",'Dettaglio delle attività'!E15)","v":" "},{"$f":"IF(Tabella1[[#This Row],[Attività]]=\"\",\" \",IF(Tabella1[[#This Row],[Attività]]=\" \",\" \",CONCATENATE(Tabella1[[#This Row],[Attività]],\".\",Tabella1[[#This Row],[Progressivo]])))","v":" "}]
[null,5,{"$f":"IF('Dettaglio delle attività'!E16=\"\",\" \",'Dettaglio delle attività'!E16)","v":" "},{"$f":"IF(Tabella1[[#This Row],[Attività]]=\"\",\" \",IF(Tabella1[[#This Row],[Attività]]=\" \",\" \",CONCATENATE(Tabella1[[#This Row],[Attività]],\".\",Tabella1[[#This Row],[Progressivo]])))","v":" "}]
[null,6,{"$f":"IF('Dettaglio delle attività'!E17=\"\",\" \",'Dettaglio delle attività'!E17)","v":" "},{"$f":"IF(Tabella1[[#This Row],[Attività]]=\"\",\" \",IF(Tabella1[[#This Row],[Attività]]=\" \",\" \",CONCATENATE(Tabella1[[#This Row],[Attività]],\".\",Tabella1[[#This Row],[Progressivo]])))","v":" "}]
[null,7,{"$f":"IF('Dettaglio delle attività'!E18=\"\",\" \",'Dettaglio delle attività'!E18)","v":" "},{"$f":"IF(Tabella1[[#This Row],[Attività]]=\"\",\" \",IF(Tabella1[[#This Row],[Attività]]=\" \",\" \",CONCATENATE(Tabella1[[#This Row],[Attività]],\".\",Tabella1[[#This Row],[Progressivo]])))","v":" "}]
[null,8,{"$f":"IF('Dettaglio delle attività'!E19=\"\",\" \",'Dettaglio delle attività'!E19)","v":" "},{"$f":"IF(Tabella1[[#This Row],[Attività]]=\"\",\" \",IF(Tabella1[[#This Row],[Attività]]=\" \",\" \",CONCATENATE(Tabella1[[#This Row],[Attività]],\".\",Tabella1[[#This Row],[Progressivo]])))","v":" "}]
[null,9,{"$f":"IF('Dettaglio delle attività'!E20=\"\",\" \",'Dettaglio delle attività'!E20)","v":" "},{"$f":"IF(Tabella1[[#This Row],[Attività]]=\"\",\" \",IF(Tabella1[[#This Row],[Attività]]=\" \",\" \",CONCATENATE(Tabella1[[#This Row],[Attività]],\".\",Tabella1[[#This Row],[Progressivo]])))","v":" "}]
[null,10,{"$f":"IF('Dettaglio delle attività'!E21=\"\",\" \",'Dettaglio delle attività'!E21)","v":" "},{"$f":"IF(Tabella1[[#This Row],[Attività]]=\"\",\" \",IF(Tabella1[[#This Row],[Attività]]=\" \",\" \",CONCATENATE(Tabella1[[#This Row],[Attività]],\".\",Tabella1[[#This Row],[Progressivo]])))","v":" "}]
[null,11,{"$f":"IF('Dettaglio delle attività'!E22=\"\",\" \",'Dettaglio delle attività'!E22)","v":" "},{"$f":"IF(Tabella1[[#This Row],[Attività]]=\"\",\" \",IF(Tabella1[[#This Row],[Attività]]=\" \",\" \",CONCATENATE(Tabella1[[#This Row],[Attività]],\".\",Tabella1[[#This Row],[Progressivo]])))","v":" "}]
[null,12,{"$f":"IF('Dettaglio delle attività'!E23=\"\",\" \",'Dettaglio delle attività'!E23)","v":" "},{"$f":"IF(Tabella1[[#This Row],[Attività]]=\"\",\" \",IF(Tabella1[[#This Row],[Attività]]=\" \",\" \",CONCATENATE(Tabella1[[#This Row],[Attività]],\".\",Tabella1[[#This Row],[Progressivo]])))","v":" "}]
[null,13,{"$f":"IF('Dettaglio delle attività'!E24=\"\",\" \",'Dettaglio delle attività'!E24)","v":" "},{"$f":"IF(Tabella1[[#This Row],[Attività]]=\"\",\" \",IF(Tabella1[[#This Row],[Attività]]=\" \",\" \",CONCATENATE(Tabella1[[#This Row],[Attività]],\".\",Tabella1[[#This Row],[Progressivo]])))","v":" "}]
[null,14,{"$f":"IF('Dettaglio delle attività'!E25=\"\",\" \",'Dettaglio delle attività'!E25)","v":" "},{"$f":"IF(Tabella1[[#This Row],[Attività]]=\"\",\" \",IF(Tabella1[[#This Row],[Attività]]=\" \",\" \",CONCATENATE(Tabella1[[#This Row],[Attività]],\".\",Tabella1[[#This Row],[Progressivo]])))","v":" "}]
[null,15,{"$f":"IF('Dettaglio delle attività'!E26=\"\",\" \",'Dettaglio delle attività'!E26)","v":" "},{"$f":"IF(Tabella1[[#This Row],[Attività]]=\"\",\" \",IF(Tabella1[[#This Row],[Attività]]=\" \",\" \",CONCATENATE(Tabella1[[#This Row],[Attività]],\".\",Tabella1[[#This Row],[Progressivo]])))","v":" "}]
[null,16,{"$f":"IF('Dettaglio delle attività'!E27=\"\",\" \",'Dettaglio delle attività'!E27)","v":" "},{"$f":"IF(Tabella1[[#This Row],[Attività]]=\"\",\" \",IF(Tabella1[[#This Row],[Attività]]=\" \",\" \",CONCATENATE(Tabella1[[#This Row],[Attività]],\".\",Tabella1[[#This Row],[Progressivo]])))","v":" "}]
[null,17,{"$f":"IF('Dettaglio delle attività'!E28=\"\",\" \",'Dettaglio delle attività'!E28)","v":" "},{"$f":"IF(Tabella1[[#This Row],[Attività]]=\"\",\" \",IF(Tabella1[[#This Row],[Attività]]=\" \",\" \",CONCATENATE(Tabella1[[#This Row],[Attività]],\".\",Tabella1[[#This Row],[Progressivo]])))","v":" "}]
[null,18,{"$f":"IF('Dettaglio delle attività'!E29=\"\",\" \",'Dettaglio delle attività'!E29)","v":" "},{"$f":"IF(Tabella1[[#This Row],[Attività]]=\"\",\" \",IF(Tabella1[[#This Row],[Attività]]=\" \",\" \",CONCATENATE(Tabella1[[#This Row],[Attività]],\".\",Tabella1[[#This Row],[Progressivo]])))","v":" "}]
[null,19,{"$f":"IF('Dettaglio delle attività'!E30=\"\",\" \",'Dettaglio delle attività'!E30)","v":" "},{"$f":"IF(Tabella1[[#This Row],[Attività]]=\"\",\" \",IF(Tabella1[[#This Row],[Attività]]=\" \",\" \",CONCATENATE(Tabella1[[#This Row],[Attività]],\".\",Tabella1[[#This Row],[Progressivo]])))","v":" "}]
[null,20,{"$f":"IF('Dettaglio delle attività'!E31=\"\",\" \",'Dettaglio delle attività'!E31)","v":" "},{"$f":"IF(Tabella1[[#This Row],[Attività]]=\"\",\" \",IF(Tabella1[[#This Row],[Attività]]=\" \",\" \",CONCATENATE(Tabella1[[#This Row],[Attività]],\".\",Tabella1[[#This Row],[Progressivo]])))","v":" "}]
[null,21,{"$f":"IF('Dettaglio delle attività'!E32=\"\",\" \",'Dettaglio delle attività'!E32)","v":" "},{"$f":"IF(Tabella1[[#This Row],[Attività]]=\"\",\" \",IF(Tabella1[[#This Row],[Attività]]=\" \",\" \",CONCATENATE(Tabella1[[#This Row],[Attività]],\".\",Tabella1[[#This Row],[Progressivo]])))","v":" "}]
[null,22,{"$f":"IF('Dettaglio delle attività'!E33=\"\",\" \",'Dettaglio delle attività'!E33)","v":" "},{"$f":"IF(Tabella1[[#This Row],[Attività]]=\"\",\" \",IF(Tabella1[[#This Row],[Attività]]=\" \",\" \",CONCATENATE(Tabella1[[#This Row],[Attività]],\".\",Tabella1[[#This Row],[Progressivo]])))","v":" "}]
[null,23,{"$f":"IF('Dettaglio delle attività'!E34=\"\",\" \",'Dettaglio delle attività'!E34)","v":" "},{"$f":"IF(Tabella1[[#This Row],[Attività]]=\"\",\" \",IF(Tabella1[[#This Row],[Attività]]=\" \",\" \",CONCATENATE(Tabella1[[#This Row],[Attività]],\".\",Tabella1[[#This Row],[Progressivo]])))","v":" "}]
[null,24,{"$f":"IF('Dettaglio delle attività'!E35=\"\",\" \",'Dettaglio delle attività'!E35)","v":" "},{"$f":"IF(Tabella1[[#This Row],[Attività]]=\"\",\" \",IF(Tabella1[[#This Row],[Attività]]=\" \",\" \",CONCATENATE(Tabella1[[#This Row],[Attività]],\".\",Tabella1[[#This Row],[Progressivo]])))","v":" "}]
[null,25,{"$f":"IF('Dettaglio delle attività'!E36=\"\",\" \",'Dettaglio delle attività'!E36)","v":" "},{"$f":"IF(Tabella1[[#This Row],[Attività]]=\"\",\" \",IF(Tabella1[[#This Row],[Attività]]=\" \",\" \",CONCATENATE(Tabella1[[#This Row],[Attività]],\".\",Tabella1[[#This Row],[Progressivo]])))","v":" "}]
[null,26,{"$f":"IF('Dettaglio delle attività'!E37=\"\",\" \",'Dettaglio delle attività'!E37)","v":" "},{"$f":"IF(Tabella1[[#This Row],[Attività]]=\"\",\" \",IF(Tabella1[[#This Row],[Attività]]=\" \",\" \",CONCATENATE(Tabella1[[#This Row],[Attività]],\".\",Tabella1[[#This Row],[Progressivo]])))","v":" "}]
[null,27,{"$f":"IF('Dettaglio delle attività'!E38=\"\",\" \",'Dettaglio delle attività'!E38)","v":" "},{"$f":"IF(Tabella1[[#This Row],[Attività]]=\"\",\" \",IF(Tabella1[[#This Row],[Attività]]=\" \",\" \",CONCATENATE(Tabella1[[#This Row],[Attività]],\".\",Tabella1[[#This Row],[Progressivo]])))","v":" "}]
[null,{"$f":"ROW(B28)","v":28},{"$f":"IF('Dettaglio delle attività'!E39=\"\",\" \",'Dettaglio delle attività'!E39)","v":" "},{"$f":"IF(Tabella1[[#This Row],[Attività]]=\"\",\" \",IF(Tabella1[[#This Row],[Attività]]=\" \",\" \",CONCATENATE(Tabella1[[#This Row],[Attività]],\".\",Tabella1[[#This Row],[Progressivo]])))","v":" "}]
[null,{"$f":"ROW(B29)","v":29},{"$f":"IF('Dettaglio delle attività'!E40=\"\",\" \",'Dettaglio delle attività'!E40)","v":" "},{"$f":"IF(Tabella1[[#This Row],[Attività]]=\"\",\" \",IF(Tabella1[[#This Row],[Attività]]=\" \",\" \",CONCATENATE(Tabella1[[#This Row],[Attività]],\".\",Tabella1[[#This Row],[Progressivo]])))","v":" "}]
[null,{"$f":"ROW(B30)","v":30},{"$f":"IF('Dettaglio delle attività'!E41=\"\",\" \",'Dettaglio delle attività'!E41)","v":" "},{"$f":"IF(Tabella1[[#This Row],[Attività]]=\"\",\" \",IF(Tabella1[[#This Row],[Attività]]=\" \",\" \",CONCATENATE(Tabella1[[#This Row],[Attività]],\".\",Tabella1[[#This Row],[Progressivo]])))","v":" "}]
[null,31,{"$f":"IF('Dettaglio delle attività'!E42=\"\",\" \",'Dettaglio delle attività'!E42)","v":" "},{"$f":"IF(Tabella1[[#This Row],[Attività]]=\"\",\" \",IF(Tabella1[[#This Row],[Attività]]=\" \",\" \",CONCATENATE(Tabella1[[#This Row],[Attività]],\".\",Tabella1[[#This Row],[Progressivo]])))","v":" "}]
[null,32,{"$f":"IF('Dettaglio delle attività'!E43=\"\",\" \",'Dettaglio delle attività'!E43)","v":" "},{"$f":"IF(Tabella1[[#This Row],[Attività]]=\"\",\" \",IF(Tabella1[[#This Row],[Attività]]=\" \",\" \",CONCATENATE(Tabella1[[#This Row],[Attività]],\".\",Tabella1[[#This Row],[Progressivo]])))","v":" "}]
[null,33,{"$f":"IF('Dettaglio delle attività'!E44=\"\",\" \",'Dettaglio delle attività'!E44)","v":" "},{"$f":"IF(Tabella1[[#This Row],[Attività]]=\"\",\" \",IF(Tabella1[[#This Row],[Attività]]=\" \",\" \",CONCATENATE(Tabella1[[#This Row],[Attività]],\".\",Tabella1[[#This Row],[Progressivo]])))","v":" "}]
[null,34,{"$f":"IF('Dettaglio delle attività'!E45=\"\",\" \",'Dettaglio delle attività'!E45)","v":" "},{"$f":"IF(Tabella1[[#This Row],[Attività]]=\"\",\" \",IF(Tabella1[[#This Row],[Attività]]=\" \",\" \",CONCATENATE(Tabella1[[#This Row],[Attività]],\".\",Tabella1[[#This Row],[Progressivo]])))","v":" "}]
[null,35,{"$f":"IF('Dettaglio delle attività'!E46=\"\",\" \",'Dettaglio delle attività'!E46)","v":" "},{"$f":"IF(Tabella1[[#This Row],[Attività]]=\"\",\" \",IF(Tabella1[[#This Row],[Attività]]=\" \",\" \",CONCATENATE(Tabella1[[#This Row],[Attività]],\".\",Tabella1[[#This Row],[Progressivo]])))","v":" "}]
[null,36,{"$f":"IF('Dettaglio delle attività'!E47=\"\",\" \",'Dettaglio delle attività'!E47)","v":" "},{"$f":"IF(Tabella1[[#This Row],[Attività]]=\"\",\" \",IF(Tabella1[[#This Row],[Attività]]=\" \",\" \",CONCATENATE(Tabella1[[#This Row],[Attività]],\".\",Tabella1[[#This Row],[Progressivo]])))","v":" "}]
[null,37,{"$f":"IF('Dettaglio delle attività'!E48=\"\",\" \",'Dettaglio delle attività'!E48)","v":" "},{"$f":"IF(Tabella1[[#This Row],[Attività]]=\"\",\" \",IF(Tabella1[[#This Row],[Attività]]=\" \",\" \",CONCATENATE(Tabella1[[#This Row],[Attività]],\".\",Tabella1[[#This Row],[Progressivo]])))","v":" "}]
[null,38,{"$f":"IF('Dettaglio delle attività'!E49=\"\",\" \",'Dettaglio delle attività'!E49)","v":" "},{"$f":"IF(Tabella1[[#This Row],[Attività]]=\"\",\" \",IF(Tabella1[[#This Row],[Attività]]=\" \",\" \",CONCATENATE(Tabella1[[#This Row],[Attività]],\".\",Tabella1[[#This Row],[Progressivo]])))","v":" "}]
[null,39,{"$f":"IF('Dettaglio delle attività'!E50=\"\",\" \",'Dettaglio delle attività'!E50)","v":" "},{"$f":"IF(Tabella1[[#This Row],[Attività]]=\"\",\" \",IF(Tabella1[[#This Row],[Attività]]=\" \",\" \",CONCATENATE(Tabella1[[#This Row],[Attività]],\".\",Tabella1[[#This Row],[Progressivo]])))","v":" "}]
[null,40,{"$f":"IF('Dettaglio delle attività'!E51=\"\",\" \",'Dettaglio delle attività'!E51)","v":" "},{"$f":"IF(Tabella1[[#This Row],[Attività]]=\"\",\" \",IF(Tabella1[[#This Row],[Attività]]=\" \",\" \",CONCATENATE(Tabella1[[#This Row],[Attività]],\".\",Tabella1[[#This Row],[Progressivo]])))","v":" "}]
[null,41,{"$f":"IF('Dettaglio delle attività'!E52=\"\",\" \",'Dettaglio delle attività'!E52)","v":" "},{"$f":"IF(Tabella1[[#This Row],[Attività]]=\"\",\" \",IF(Tabella1[[#This Row],[Attività]]=\" \",\" \",CONCATENATE(Tabella1[[#This Row],[Attività]],\".\",Tabella1[[#This Row],[Progressivo]])))","v":" "}]
[null,42,{"$f":"IF('Dettaglio delle attività'!E53=\"\",\" \",'Dettaglio delle attività'!E53)","v":" "},{"$f":"IF(Tabella1[[#This Row],[Attività]]=\"\",\" \",IF(Tabella1[[#This Row],[Attività]]=\" \",\" \",CONCATENATE(Tabella1[[#This Row],[Attività]],\".\",Tabella1[[#This Row],[Progressivo]])))","v":" "}]
[null,43,{"$f":"IF('Dettaglio delle attività'!E54=\"\",\" \",'Dettaglio delle attività'!E54)","v":" "},{"$f":"IF(Tabella1[[#This Row],[Attività]]=\"\",\" \",IF(Tabella1[[#This Row],[Attività]]=\" \",\" \",CONCATENATE(Tabella1[[#This Row],[Attività]],\".\",Tabella1[[#This Row],[Progressivo]])))","v":" "}]
[null,44,{"$f":"IF('Dettaglio delle attività'!E55=\"\",\" \",'Dettaglio delle attività'!E55)","v":" "},{"$f":"IF(Tabella1[[#This Row],[Attività]]=\"\",\" \",IF(Tabella1[[#This Row],[Attività]]=\" \",\" \",CONCATENATE(Tabella1[[#This Row],[Attività]],\".\",Tabella1[[#This Row],[Progressivo]])))","v":" "}]
[null,45,{"$f":"IF('Dettaglio delle attività'!E56=\"\",\" \",'Dettaglio delle attività'!E56)","v":" "},{"$f":"IF(Tabella1[[#This Row],[Attività]]=\"\",\" \",IF(Tabella1[[#This Row],[Attività]]=\" \",\" \",CONCATENATE(Tabella1[[#This Row],[Attività]],\".\",Tabella1[[#This Row],[Progressivo]])))","v":" "}]
[null,46,{"$f":"IF('Dettaglio delle attività'!E57=\"\",\" \",'Dettaglio delle attività'!E57)","v":" "},{"$f":"IF(Tabella1[[#This Row],[Attività]]=\"\",\" \",IF(Tabella1[[#This Row],[Attività]]=\" \",\" \",CONCATENATE(Tabella1[[#This Row],[Attività]],\".\",Tabella1[[#This Row],[Progressivo]])))","v":" "}]
[null,47,{"$f":"IF('Dettaglio delle attività'!E58=\"\",\" \",'Dettaglio delle attività'!E58)","v":" "},{"$f":"IF(Tabella1[[#This Row],[Attività]]=\"\",\" \",IF(Tabella1[[#This Row],[Attività]]=\" \",\" \",CONCATENATE(Tabella1[[#This Row],[Attività]],\".\",Tabella1[[#This Row],[Progressivo]])))","v":" "}]
[null,48,{"$f":"IF('Dettaglio delle attività'!E59=\"\",\" \",'Dettaglio delle attività'!E59)","v":" "},{"$f":"IF(Tabella1[[#This Row],[Attività]]=\"\",\" \",IF(Tabella1[[#This Row],[Attività]]=\" \",\" \",CONCATENATE(Tabella1[[#This Row],[Attività]],\".\",Tabella1[[#This Row],[Progressivo]])))","v":" "}]
[null,49,{"$f":"IF('Dettaglio delle attività'!E60=\"\",\" \",'Dettaglio delle attività'!E60)","v":" "},{"$f":"IF(Tabella1[[#This Row],[Attività]]=\"\",\" \",IF(Tabella1[[#This Row],[Attività]]=\" \",\" \",CONCATENATE(Tabella1[[#This Row],[Attività]],\".\",Tabella1[[#This Row],[Progressivo]])))","v":" "}]
[null,50,{"$f":"IF('Dettaglio delle attività'!E61=\"\",\" \",'Dettaglio delle attività'!E61)","v":" "},{"$f":"IF(Tabella1[[#This Row],[Attività]]=\"\",\" \",IF(Tabella1[[#This Row],[Attività]]=\" \",\" \",CONCATENATE(Tabella1[[#This Row],[Attività]],\".\",Tabella1[[#This Row],[Progressivo]])))","v":" "}]
[null,51,{"$f":"IF('Dettaglio delle attività'!E62=\"\",\" \",'Dettaglio delle attività'!E62)","v":" "},{"$f":"IF(Tabella1[[#This Row],[Attività]]=\"\",\" \",IF(Tabella1[[#This Row],[Attività]]=\" \",\" \",CONCATENATE(Tabella1[[#This Row],[Attività]],\".\",Tabella1[[#This Row],[Progressivo]])))","v":" "}]
[null,52,{"$f":"IF('Dettaglio delle attività'!E63=\"\",\" \",'Dettaglio delle attività'!E63)","v":" "},{"$f":"IF(Tabella1[[#This Row],[Attività]]=\"\",\" \",IF(Tabella1[[#This Row],[Attività]]=\" \",\" \",CONCATENATE(Tabella1[[#This Row],[Attività]],\".\",Tabella1[[#This Row],[Progressivo]])))","v":" "}]
[null,53,{"$f":"IF('Dettaglio delle attività'!E64=\"\",\" \",'Dettaglio delle attività'!E64)","v":" "},{"$f":"IF(Tabella1[[#This Row],[Attività]]=\"\",\" \",IF(Tabella1[[#This Row],[Attività]]=\" \",\" \",CONCATENATE(Tabella1[[#This Row],[Attività]],\".\",Tabella1[[#This Row],[Progressivo]])))","v":" "}]
[null,54,{"$f":"IF('Dettaglio delle attività'!E65=\"\",\" \",'Dettaglio delle attività'!E65)","v":" "},{"$f":"IF(Tabella1[[#This Row],[Attività]]=\"\",\" \",IF(Tabella1[[#This Row],[Attività]]=\" \",\" \",CONCATENATE(Tabella1[[#This Row],[Attività]],\".\",Tabella1[[#This Row],[Progressivo]])))","v":" "}]
[null,55,{"$f":"IF('Dettaglio delle attività'!E66=\"\",\" \",'Dettaglio delle attività'!E66)","v":" "},{"$f":"IF(Tabella1[[#This Row],[Attività]]=\"\",\" \",IF(Tabella1[[#This Row],[Attività]]=\" \",\" \",CONCATENATE(Tabella1[[#This Row],[Attività]],\".\",Tabella1[[#This Row],[Progressivo]])))","v":" "}]
[null,56,{"$f":"IF('Dettaglio delle attività'!E67=\"\",\" \",'Dettaglio delle attività'!E67)","v":" "},{"$f":"IF(Tabella1[[#This Row],[Attività]]=\"\",\" \",IF(Tabella1[[#This Row],[Attività]]=\" \",\" \",CONCATENATE(Tabella1[[#This Row],[Attività]],\".\",Tabella1[[#This Row],[Progressivo]])))","v":" "}]
[null,57,{"$f":"IF('Dettaglio delle attività'!E68=\"\",\" \",'Dettaglio delle attività'!E68)","v":" "},{"$f":"IF(Tabella1[[#This Row],[Attività]]=\"\",\" \",IF(Tabella1[[#This Row],[Attività]]=\" \",\" \",CONCATENATE(Tabella1[[#This Row],[Attività]],\".\",Tabella1[[#This Row],[Progressivo]])))","v":" "}]
[null,58,{"$f":"IF('Dettaglio delle attività'!E69=\"\",\" \",'Dettaglio delle attività'!E69)","v":" "},{"$f":"IF(Tabella1[[#This Row],[Attività]]=\"\",\" \",IF(Tabella1[[#This Row],[Attività]]=\" \",\" \",CONCATENATE(Tabella1[[#This Row],[Attività]],\".\",Tabella1[[#This Row],[Progressivo]])))","v":" "}]
[null,59,{"$f":"IF('Dettaglio delle attività'!E70=\"\",\" \",'Dettaglio delle attività'!E70)","v":" "},{"$f":"IF(Tabella1[[#This Row],[Attività]]=\"\",\" \",IF(Tabella1[[#This Row],[Attività]]=\" \",\" \",CONCATENATE(Tabella1[[#This Row],[Attività]],\".\",Tabella1[[#This Row],[Progressivo]])))","v":" "}]
[null,60,{"$f":"IF('Dettaglio delle attività'!E71=\"\",\" \",'Dettaglio delle attività'!E71)","v":" "},{"$f":"IF(Tabella1[[#This Row],[Attività]]=\"\",\" \",IF(Tabella1[[#This Row],[Attività]]=\" \",\" \",CONCATENATE(Tabella1[[#This Row],[Attività]],\".\",Tabella1[[#This Row],[Progressivo]])))","v":" "}]
[null,61,{"$f":"IF('Dettaglio delle attività'!E72=\"\",\" \",'Dettaglio delle attività'!E72)","v":" "},{"$f":"IF(Tabella1[[#This Row],[Attività]]=\"\",\" \",IF(Tabella1[[#This Row],[Attività]]=\" \",\" \",CONCATENATE(Tabella1[[#This Row],[Attività]],\".\",Tabella1[[#This Row],[Progressivo]])))","v":" "}]
[null,62,{"$f":"IF('Dettaglio delle attività'!E73=\"\",\" \",'Dettaglio delle attività'!E73)","v":" "},{"$f":"IF(Tabella1[[#This Row],[Attività]]=\"\",\" \",IF(Tabella1[[#This Row],[Attività]]=\" \",\" \",CONCATENATE(Tabella1[[#This Row],[Attività]],\".\",Tabella1[[#This Row],[Progressivo]])))","v":" "}]
[null,63,{"$f":"IF('Dettaglio delle attività'!E74=\"\",\" \",'Dettaglio delle attività'!E74)","v":" "},{"$f":"IF(Tabella1[[#This Row],[Attività]]=\"\",\" \",IF(Tabella1[[#This Row],[Attività]]=\" \",\" \",CONCATENATE(Tabella1[[#This Row],[Attività]],\".\",Tabella1[[#This Row],[Progressivo]])))","v":" "}]
[null,64,{"$f":"IF('Dettaglio delle attività'!E75=\"\",\" \",'Dettaglio delle attività'!E75)","v":" "},{"$f":"IF(Tabella1[[#This Row],[Attività]]=\"\",\" \",IF(Tabella1[[#This Row],[Attività]]=\" \",\" \",CONCATENATE(Tabella1[[#This Row],[Attività]],\".\",Tabella1[[#This Row],[Progressivo]])))","v":" "}]
[null,65,{"$f":"IF('Dettaglio delle attività'!E76=\"\",\" \",'Dettaglio delle attività'!E76)","v":" "},{"$f":"IF(Tabella1[[#This Row],[Attività]]=\"\",\" \",IF(Tabella1[[#This Row],[Attività]]=\" \",\" \",CONCATENATE(Tabella1[[#This Row],[Attività]],\".\",Tabella1[[#This Row],[Progressivo]])))","v":" "}]
[null,66,{"$f":"IF('Dettaglio delle attività'!E77=\"\",\" \",'Dettaglio delle attività'!E77)","v":" "},{"$f":"IF(Tabella1[[#This Row],[Attività]]=\"\",\" \",IF(Tabella1[[#This Row],[Attività]]=\" \",\" \",CONCATENATE(Tabella1[[#This Row],[Attività]],\".\",Tabella1[[#This Row],[Progressivo]])))","v":" "}]
[null,67,{"$f":"IF('Dettaglio delle attività'!E78=\"\",\" \",'Dettaglio delle attività'!E78)","v":" "},{"$f":"IF(Tabella1[[#This Row],[Attività]]=\"\",\" \",IF(Tabella1[[#This Row],[Attività]]=\" \",\" \",CONCATENATE(Tabella1[[#This Row],[Attività]],\".\",Tabella1[[#This Row],[Progressivo]])))","v":" "}]
[null,68,{"$f":"IF('Dettaglio delle attività'!E79=\"\",\" \",'Dettaglio delle attività'!E79)","v":" "},{"$f":"IF(Tabella1[[#This Row],[Attività]]=\"\",\" \",IF(Tabella1[[#This Row],[Attività]]=\" \",\" \",CONCATENATE(Tabella1[[#This Row],[Attività]],\".\",Tabella1[[#This Row],[Progressivo]])))","v":" "}]
[null,69,{"$f":"IF('Dettaglio delle attività'!E80=\"\",\" \",'Dettaglio delle attività'!E80)","v":" "},{"$f":"IF(Tabella1[[#This Row],[Attività]]=\"\",\" \",IF(Tabella1[[#This Row],[Attività]]=\" \",\" \",CONCATENATE(Tabella1[[#This Row],[Attività]],\".\",Tabella1[[#This Row],[Progressivo]])))","v":" "}]
[null,70,{"$f":"IF('Dettaglio delle attività'!E81=\"\",\" \",'Dettaglio delle attività'!E81)","v":" "},{"$f":"IF(Tabella1[[#This Row],[Attività]]=\"\",\" \",IF(Tabella1[[#This Row],[Attività]]=\" \",\" \",CONCATENATE(Tabella1[[#This Row],[Attività]],\".\",Tabella1[[#This Row],[Progressivo]])))","v":" "}]
[null,71,{"$f":"IF('Dettaglio delle attività'!E82=\"\",\" \",'Dettaglio delle attività'!E82)","v":" "},{"$f":"IF(Tabella1[[#This Row],[Attività]]=\"\",\" \",IF(Tabella1[[#This Row],[Attività]]=\" \",\" \",CONCATENATE(Tabella1[[#This Row],[Attività]],\".\",Tabella1[[#This Row],[Progressivo]])))","v":" "}]
[null,72,{"$f":"IF('Dettaglio delle attività'!E83=\"\",\" \",'Dettaglio delle attività'!E83)","v":" "},{"$f":"IF(Tabella1[[#This Row],[Attività]]=\"\",\" \",IF(Tabella1[[#This Row],[Attività]]=\" \",\" \",CONCATENATE(Tabella1[[#This Row],[Attività]],\".\",Tabella1[[#This Row],[Progressivo]])))","v":" "}]
[null,73,{"$f":"IF('Dettaglio delle attività'!E84=\"\",\" \",'Dettaglio delle attività'!E84)","v":" "},{"$f":"IF(Tabella1[[#This Row],[Attività]]=\"\",\" \",IF(Tabella1[[#This Row],[Attività]]=\" \",\" \",CONCATENATE(Tabella1[[#This Row],[Attività]],\".\",Tabella1[[#This Row],[Progressivo]])))","v":" "}]
[null,{"$f":"ROW(B74)","v":74},{"$f":"IF('Dettaglio delle attività'!E85=\"\",\" \",'Dettaglio delle attività'!E85)","v":" "},{"$f":"IF(Tabella1[[#This Row],[Attività]]=\"\",\" \",IF(Tabella1[[#This Row],[Attività]]=\" \",\" \",CONCATENATE(Tabella1[[#This Row],[Attività]],\".\",Tabella1[[#This Row],[Progressivo]])))","v":" "}]
[null,75,{"$f":"IF('Dettaglio delle attività'!E86=\"\",\" \",'Dettaglio delle attività'!E86)","v":" "},{"$f":"IF(Tabella1[[#This Row],[Attività]]=\"\",\" \",IF(Tabella1[[#This Row],[Attività]]=\" \",\" \",CONCATENATE(Tabella1[[#This Row],[Attività]],\".\",Tabella1[[#This Row],[Progressivo]])))","v":" "}]
[null,76,{"$f":"IF('Dettaglio delle attività'!E87=\"\",\" \",'Dettaglio delle attività'!E87)","v":" "},{"$f":"IF(Tabella1[[#This Row],[Attività]]=\"\",\" \",IF(Tabella1[[#This Row],[Attività]]=\" \",\" \",CONCATENATE(Tabella1[[#This Row],[Attività]],\".\",Tabella1[[#This Row],[Progressivo]])))","v":" "}]
[null,77,{"$f":"IF('Dettaglio delle attività'!E88=\"\",\" \",'Dettaglio delle attività'!E88)","v":" "},{"$f":"IF(Tabella1[[#This Row],[Attività]]=\"\",\" \",IF(Tabella1[[#This Row],[Attività]]=\" \",\" \",CONCATENATE(Tabella1[[#This Row],[Attività]],\".\",Tabella1[[#This Row],[Progressivo]])))","v":" "}]
[null,78,{"$f":"IF('Dettaglio delle attività'!E89=\"\",\" \",'Dettaglio delle attività'!E89)","v":" "},{"$f":"IF(Tabella1[[#This Row],[Attività]]=\"\",\" \",IF(Tabella1[[#This Row],[Attività]]=\" \",\" \",CONCATENATE(Tabella1[[#This Row],[Attività]],\".\",Tabella1[[#This Row],[Progressivo]])))","v":" "}]
[null,79,{"$f":"IF('Dettaglio delle attività'!E90=\"\",\" \",'Dettaglio delle attività'!E90)","v":" "},{"$f":"IF(Tabella1[[#This Row],[Attività]]=\"\",\" \",IF(Tabella1[[#This Row],[Attività]]=\" \",\" \",CONCATENATE(Tabella1[[#This Row],[Attività]],\".\",Tabella1[[#This Row],[Progressivo]])))","v":" "}]
[null,80,{"$f":"IF('Dettaglio delle attività'!E91=\"\",\" \",'Dettaglio delle attività'!E91)","v":" "},{"$f":"IF(Tabella1[[#This Row],[Attività]]=\"\",\" \",IF(Tabella1[[#This Row],[Attività]]=\" \",\" \",CONCATENATE(Tabella1[[#This Row],[Attività]],\".\",Tabella1[[#This Row],[Progressivo]])))","v":" "}]
[null,81,{"$f":"IF('Dettaglio delle attività'!E92=\"\",\" \",'Dettaglio delle attività'!E92)","v":" "},{"$f":"IF(Tabella1[[#This Row],[Attività]]=\"\",\" \",IF(Tabella1[[#This Row],[Attività]]=\" \",\" \",CONCATENATE(Tabella1[[#This Row],[Attività]],\".\",Tabella1[[#This Row],[Progressivo]])))","v":" "}]
[null,82,{"$f":"IF('Dettaglio delle attività'!E93=\"\",\" \",'Dettaglio delle attività'!E93)","v":" "},{"$f":"IF(Tabella1[[#This Row],[Attività]]=\"\",\" \",IF(Tabella1[[#This Row],[Attività]]=\" \",\" \",CONCATENATE(Tabella1[[#This Row],[Attività]],\".\",Tabella1[[#This Row],[Progressivo]])))","v":" "}]
[null,83,{"$f":"IF('Dettaglio delle attività'!E94=\"\",\" \",'Dettaglio delle attività'!E94)","v":" "},{"$f":"IF(Tabella1[[#This Row],[Attività]]=\"\",\" \",IF(Tabella1[[#This Row],[Attività]]=\" \",\" \",CONCATENATE(Tabella1[[#This Row],[Attività]],\".\",Tabella1[[#This Row],[Progressivo]])))","v":" "}]
[null,84,{"$f":"IF('Dettaglio delle attività'!E95=\"\",\" \",'Dettaglio delle attività'!E95)","v":" "},{"$f":"IF(Tabella1[[#This Row],[Attività]]=\"\",\" \",IF(Tabella1[[#This Row],[Attività]]=\" \",\" \",CONCATENATE(Tabella1[[#This Row],[Attività]],\".\",Tabella1[[#This Row],[Progressivo]])))","v":" "}]
[null,85,{"$f":"IF('Dettaglio delle attività'!E96=\"\",\" \",'Dettaglio delle attività'!E96)","v":" "},{"$f":"IF(Tabella1[[#This Row],[Attività]]=\"\",\" \",IF(Tabella1[[#This Row],[Attività]]=\" \",\" \",CONCATENATE(Tabella1[[#This Row],[Attività]],\".\",Tabella1[[#This Row],[Progressivo]])))","v":" "}]
[null,86,{"$f":"IF('Dettaglio delle attività'!E97=\"\",\" \",'Dettaglio delle attività'!E97)","v":" "},{"$f":"IF(Tabella1[[#This Row],[Attività]]=\"\",\" \",IF(Tabella1[[#This Row],[Attività]]=\" \",\" \",CONCATENATE(Tabella1[[#This Row],[Attività]],\".\",Tabella1[[#This Row],[Progressivo]])))","v":" "}]
[null,87,{"$f":"IF('Dettaglio delle attività'!E98=\"\",\" \",'Dettaglio delle attività'!E98)","v":" "},{"$f":"IF(Tabella1[[#This Row],[Attività]]=\"\",\" \",IF(Tabella1[[#This Row],[Attività]]=\" \",\" \",CONCATENATE(Tabella1[[#This Row],[Attività]],\".\",Tabella1[[#This Row],[Progressivo]])))","v":" "}]
[null,88,{"$f":"IF('Dettaglio delle attività'!E99=\"\",\" \",'Dettaglio delle attività'!E99)","v":" "},{"$f":"IF(Tabella1[[#This Row],[Attività]]=\"\",\" \",IF(Tabella1[[#This Row],[Attività]]=\" \",\" \",CONCATENATE(Tabella1[[#This Row],[Attività]],\".\",Tabella1[[#This Row],[Progressivo]])))","v":" "}]
[null,89,{"$f":"IF('Dettaglio delle attività'!E100=\"\",\" \",'Dettaglio delle attività'!E100)","v":" "},{"$f":"IF(Tabella1[[#This Row],[Attività]]=\"\",\" \",IF(Tabella1[[#This Row],[Attività]]=\" \",\" \",CONCATENATE(Tabella1[[#This Row],[Attività]],\".\",Tabella1[[#This Row],[Progressivo]])))","v":" "}]
[null,90,{"$f":"IF('Dettaglio delle attività'!E101=\"\",\" \",'Dettaglio delle attività'!E101)","v":" "},{"$f":"IF(Tabella1[[#This Row],[Attività]]=\"\",\" \",IF(Tabella1[[#This Row],[Attività]]=\" \",\" \",CONCATENATE(Tabella1[[#This Row],[Attività]],\".\",Tabella1[[#This Row],[Progressivo]])))","v":" "}]
[null,91,{"$f":"IF('Dettaglio delle attività'!E102=\"\",\" \",'Dettaglio delle attività'!E102)","v":" "},{"$f":"IF(Tabella1[[#This Row],[Attività]]=\"\",\" \",IF(Tabella1[[#This Row],[Attività]]=\" \",\" \",CONCATENATE(Tabella1[[#This Row],[Attività]],\".\",Tabella1[[#This Row],[Progressivo]])))","v":" "}]
[null,92,{"$f":"IF('Dettaglio delle attività'!E103=\"\",\" \",'Dettaglio delle attività'!E103)","v":" "},{"$f":"IF(Tabella1[[#This Row],[Attività]]=\"\",\" \",IF(Tabella1[[#This Row],[Attività]]=\" \",\" \",CONCATENATE(Tabella1[[#This Row],[Attività]],\".\",Tabella1[[#This Row],[Progressivo]])))","v":" "}]
[null,93,{"$f":"IF('Dettaglio delle attività'!E104=\"\",\" \",'Dettaglio delle attività'!E104)","v":" "},{"$f":"IF(Tabella1[[#This Row],[Attività]]=\"\",\" \",IF(Tabella1[[#This Row],[Attività]]=\" \",\" \",CONCATENATE(Tabella1[[#This Row],[Attività]],\".\",Tabella1[[#This Row],[Progressivo]])))","v":" "}]
[null,94,{"$f":"IF('Dettaglio delle attività'!E105=\"\",\" \",'Dettaglio delle attività'!E105)","v":" "},{"$f":"IF(Tabella1[[#This Row],[Attività]]=\"\",\" \",IF(Tabella1[[#This Row],[Attività]]=\" \",\" \",CONCATENATE(Tabella1[[#This Row],[Attività]],\".\",Tabella1[[#This Row],[Progressivo]])))","v":" "}]
[null,95,{"$f":"IF('Dettaglio delle attività'!E106=\"\",\" \",'Dettaglio delle attività'!E106)","v":" "},{"$f":"IF(Tabella1[[#This Row],[Attività]]=\"\",\" \",IF(Tabella1[[#This Row],[Attività]]=\" \",\" \",CONCATENATE(Tabella1[[#This Row],[Attività]],\".\",Tabella1[[#This Row],[Progressivo]])))","v":" "}]
[null,96,{"$f":"IF('Dettaglio delle attività'!E107=\"\",\" \",'Dettaglio delle attività'!E107)","v":" "},{"$f":"IF(Tabella1[[#This Row],[Attività]]=\"\",\" \",IF(Tabella1[[#This Row],[Attività]]=\" \",\" \",CONCATENATE(Tabella1[[#This Row],[Attività]],\".\",Tabella1[[#This Row],[Progressivo]])))","v":" "}]
[null,97,{"$f":"IF('Dettaglio delle attività'!E108=\"\",\" \",'Dettaglio delle attività'!E108)","v":" "},{"$f":"IF(Tabella1[[#This Row],[Attività]]=\"\",\" \",IF(Tabella1[[#This Row],[Attività]]=\" \",\" \",CONCATENATE(Tabella1[[#This Row],[Attività]],\".\",Tabella1[[#This Row],[Progressivo]])))","v":" "}]
[null,98,{"$f":"IF('Dettaglio delle attività'!E109=\"\",\" \",'Dettaglio delle attività'!E109)","v":" "},{"$f":"IF(Tabella1[[#This Row],[Attività]]=\"\",\" \",IF(Tabella1[[#This Row],[Attività]]=\" \",\" \",CONCATENATE(Tabella1[[#This Row],[Attività]],\".\",Tabella1[[#This Row],[Progressivo]])))","v":" "}]
[null,99,{"$f":"IF('Dettaglio delle attività'!E110=\"\",\" \",'Dettaglio delle attività'!E110)","v":" "},{"$f":"IF(Tabella1[[#This Row],[Attività]]=\"\",\" \",IF(Tabella1[[#This Row],[Attività]]=\" \",\" \",CONCATENATE(Tabella1[[#This Row],[Attività]],\".\",Tabella1[[#This Row],[Progressivo]])))","v":" "}]
[null,100,{"$f":"IF('Dettaglio delle attività'!E111=\"\",\" \",'Dettaglio delle attività'!E111)","v":" "},{"$f":"IF(Tabella1[[#This Row],[Attività]]=\"\",\" \",IF(Tabella1[[#This Row],[Attività]]=\" \",\" \",CONCATENATE(Tabella1[[#This Row],[Attività]],\".\",Tabella1[[#This Row],[Progressivo]])))","v":" "}]
[null,101,{"$f":"IF('Dettaglio delle attività'!E112=\"\",\" \",'Dettaglio delle attività'!E112)","v":" "},{"$f":"IF(Tabella1[[#This Row],[Attività]]=\"\",\" \",IF(Tabella1[[#This Row],[Attività]]=\" \",\" \",CONCATENATE(Tabella1[[#This Row],[Attività]],\".\",Tabella1[[#This Row],[Progressivo]])))","v":" "}]
[null,102,{"$f":"IF('Dettaglio delle attività'!E113=\"\",\" \",'Dettaglio delle attività'!E113)","v":" "},{"$f":"IF(Tabella1[[#This Row],[Attività]]=\"\",\" \",IF(Tabella1[[#This Row],[Attività]]=\" \",\" \",CONCATENATE(Tabella1[[#This Row],[Attività]],\".\",Tabella1[[#This Row],[Progressivo]])))","v":" "}]
[null,{"$f":"ROW(B103)","v":103},{"$f":"IF('Dettaglio delle attività'!E114=\"\",\" \",'Dettaglio delle attività'!E114)","v":" "},{"$f":"IF(Tabella1[[#This Row],[Attività]]=\"\",\" \",IF(Tabella1[[#This Row],[Attività]]=\" \",\" \",CONCATENATE(Tabella1[[#This Row],[Attività]],\".\",Tabella1[[#This Row],[Progressivo]])))","v":" "}]
[null,104,{"$f":"IF('Dettaglio delle attività'!E115=\"\",\" \",'Dettaglio delle attività'!E115)","v":" "},{"$f":"IF(Tabella1[[#This Row],[Attività]]=\"\",\" \",IF(Tabella1[[#This Row],[Attività]]=\" \",\" \",CONCATENATE(Tabella1[[#This Row],[Attività]],\".\",Tabella1[[#This Row],[Progressivo]])))","v":" "}]
[null,105,{"$f":"IF('Dettaglio delle attività'!E116=\"\",\" \",'Dettaglio delle attività'!E116)","v":" "},{"$f":"IF(Tabella1[[#This Row],[Attività]]=\"\",\" \",IF(Tabella1[[#This Row],[Attività]]=\" \",\" \",CONCATENATE(Tabella1[[#This Row],[Attività]],\".\",Tabella1[[#This Row],[Progressivo]])))","v":" "}]
[null,106,{"$f":"IF('Dettaglio delle attività'!E117=\"\",\" \",'Dettaglio delle attività'!E117)","v":" "},{"$f":"IF(Tabella1[[#This Row],[Attività]]=\"\",\" \",IF(Tabella1[[#This Row],[Attività]]=\" \",\" \",CONCATENATE(Tabella1[[#This Row],[Attività]],\".\",Tabella1[[#This Row],[Progressivo]])))","v":" "}]
[null,107,{"$f":"IF('Dettaglio delle attività'!E118=\"\",\" \",'Dettaglio delle attività'!E118)","v":" "},{"$f":"IF(Tabella1[[#This Row],[Attività]]=\"\",\" \",IF(Tabella1[[#This Row],[Attività]]=\" \",\" \",CONCATENATE(Tabella1[[#This Row],[Attività]],\".\",Tabella1[[#This Row],[Progressivo]])))","v":" "}]
[null,108,{"$f":"IF('Dettaglio delle attività'!E119=\"\",\" \",'Dettaglio delle attività'!E119)","v":" "},{"$f":"IF(Tabella1[[#This Row],[Attività]]=\"\",\" \",IF(Tabella1[[#This Row],[Attività]]=\" \",\" \",CONCATENATE(Tabella1[[#This Row],[Attività]],\".\",Tabella1[[#This Row],[Progressivo]])))","v":" "}]
[null,109,{"$f":"IF('Dettaglio delle attività'!E120=\"\",\" \",'Dettaglio delle attività'!E120)","v":" "},{"$f":"IF(Tabella1[[#This Row],[Attività]]=\"\",\" \",IF(Tabella1[[#This Row],[Attività]]=\" \",\" \",CONCATENATE(Tabella1[[#This Row],[Attività]],\".\",Tabella1[[#This Row],[Progressivo]])))","v":" "}]
[null,110,{"$f":"IF('Dettaglio delle attività'!E121=\"\",\" \",'Dettaglio delle attività'!E121)","v":" "},{"$f":"IF(Tabella1[[#This Row],[Attività]]=\"\",\" \",IF(Tabella1[[#This Row],[Attività]]=\" \",\" \",CONCATENATE(Tabella1[[#This Row],[Attività]],\".\",Tabella1[[#This Row],[Progressivo]])))","v":" "}]
[null,111,{"$f":"IF('Dettaglio delle attività'!E122=\"\",\" \",'Dettaglio delle attività'!E122)","v":" "},{"$f":"IF(Tabella1[[#This Row],[Attività]]=\"\",\" \",IF(Tabella1[[#This Row],[Attività]]=\" \",\" \",CONCATENATE(Tabella1[[#This Row],[Attività]],\".\",Tabella1[[#This Row],[Progressivo]])))","v":" "}]
[null,112,{"$f":"IF('Dettaglio delle attività'!E123=\"\",\" \",'Dettaglio delle attività'!E123)","v":" "},{"$f":"IF(Tabella1[[#This Row],[Attività]]=\"\",\" \",IF(Tabella1[[#This Row],[Attività]]=\" \",\" \",CONCATENATE(Tabella1[[#This Row],[Attività]],\".\",Tabella1[[#This Row],[Progressivo]])))","v":" "}]
[null,113,{"$f":"IF('Dettaglio delle attività'!E124=\"\",\" \",'Dettaglio delle attività'!E124)","v":" "},{"$f":"IF(Tabella1[[#This Row],[Attività]]=\"\",\" \",IF(Tabella1[[#This Row],[Attività]]=\" \",\" \",CONCATENATE(Tabella1[[#This Row],[Attività]],\".\",Tabella1[[#This Row],[Progressivo]])))","v":" "}]
[null,114,{"$f":"IF('Dettaglio delle attività'!E125=\"\",\" \",'Dettaglio delle attività'!E125)","v":" "},{"$f":"IF(Tabella1[[#This Row],[Attività]]=\"\",\" \",IF(Tabella1[[#This Row],[Attività]]=\" \",\" \",CONCATENATE(Tabella1[[#This Row],[Attività]],\".\",Tabella1[[#This Row],[Progressivo]])))","v":" "}]
[null,115,{"$f":"IF('Dettaglio delle attività'!E126=\"\",\" \",'Dettaglio delle attività'!E126)","v":" "},{"$f":"IF(Tabella1[[#This Row],[Attività]]=\"\",\" \",IF(Tabella1[[#This Row],[Attività]]=\" \",\" \",CONCATENATE(Tabella1[[#This Row],[Attività]],\".\",Tabella1[[#This Row],[Progressivo]])))","v":" "}]
[null,116,{"$f":"IF('Dettaglio delle attività'!E127=\"\",\" \",'Dettaglio delle attività'!E127)","v":" "},{"$f":"IF(Tabella1[[#This Row],[Attività]]=\"\",\" \",IF(Tabella1[[#This Row],[Attività]]=\" \",\" \",CONCATENATE(Tabella1[[#This Row],[Attività]],\".\",Tabella1[[#This Row],[Progressivo]])))","v":" "}]
[null,117,{"$f":"IF('Dettaglio delle attività'!E128=\"\",\" \",'Dettaglio delle attività'!E128)","v":" "},{"$f":"IF(Tabella1[[#This Row],[Attività]]=\"\",\" \",IF(Tabella1[[#This Row],[Attività]]=\" \",\" \",CONCATENATE(Tabella1[[#This Row],[Attività]],\".\",Tabella1[[#This Row],[Progressivo]])))","v":" "}]
[null,118,{"$f":"IF('Dettaglio delle attività'!E129=\"\",\" \",'Dettaglio delle attività'!E129)","v":" "},{"$f":"IF(Tabella1[[#This Row],[Attività]]=\"\",\" \",IF(Tabella1[[#This Row],[Attività]]=\" \",\" \",CONCATENATE(Tabella1[[#This Row],[Attività]],\".\",Tabella1[[#This Row],[Progressivo]])))","v":" "}]
[null,119,{"$f":"IF('Dettaglio delle attività'!E130=\"\",\" \",'Dettaglio delle attività'!E130)","v":" "},{"$f":"IF(Tabella1[[#This Row],[Attività]]=\"\",\" \",IF(Tabella1[[#This Row],[Attività]]=\" \",\" \",CONCATENATE(Tabella1[[#This Row],[Attività]],\".\",Tabella1[[#This Row],[Progressivo]])))","v":" "}]
[null,120,{"$f":"IF('Dettaglio delle attività'!E131=\"\",\" \",'Dettaglio delle attività'!E131)","v":" "},{"$f":"IF(Tabella1[[#This Row],[Attività]]=\"\",\" \",IF(Tabella1[[#This Row],[Attività]]=\" \",\" \",CONCATENATE(Tabella1[[#This Row],[Attività]],\".\",Tabella1[[#This Row],[Progressivo]])))","v":" "}]
[null,121,{"$f":"IF('Dettaglio delle attività'!E132=\"\",\" \",'Dettaglio delle attività'!E132)","v":" "},{"$f":"IF(Tabella1[[#This Row],[Attività]]=\"\",\" \",IF(Tabella1[[#This Row],[Attività]]=\" \",\" \",CONCATENATE(Tabella1[[#This Row],[Attività]],\".\",Tabella1[[#This Row],[Progressivo]])))","v":" "}]
[null,122,{"$f":"IF('Dettaglio delle attività'!E133=\"\",\" \",'Dettaglio delle attività'!E133)","v":" "},{"$f":"IF(Tabella1[[#This Row],[Attività]]=\"\",\" \",IF(Tabella1[[#This Row],[Attività]]=\" \",\" \",CONCATENATE(Tabella1[[#This Row],[Attività]],\".\",Tabella1[[#This Row],[Progressivo]])))","v":" "}]
[null,123,{"$f":"IF('Dettaglio delle attività'!E134=\"\",\" \",'Dettaglio delle attività'!E134)","v":" "},{"$f":"IF(Tabella1[[#This Row],[Attività]]=\"\",\" \",IF(Tabella1[[#This Row],[Attività]]=\" \",\" \",CONCATENATE(Tabella1[[#This Row],[Attività]],\".\",Tabella1[[#This Row],[Progressivo]])))","v":" "}]
[null,124,{"$f":"IF('Dettaglio delle attività'!E135=\"\",\" \",'Dettaglio delle attività'!E135)","v":" "},{"$f":"IF(Tabella1[[#This Row],[Attività]]=\"\",\" \",IF(Tabella1[[#This Row],[Attività]]=\" \",\" \",CONCATENATE(Tabella1[[#This Row],[Attività]],\".\",Tabella1[[#This Row],[Progressivo]])))","v":" "}]
[null,125,{"$f":"IF('Dettaglio delle attività'!E136=\"\",\" \",'Dettaglio delle attività'!E136)","v":" "},{"$f":"IF(Tabella1[[#This Row],[Attività]]=\"\",\" \",IF(Tabella1[[#This Row],[Attività]]=\" \",\" \",CONCATENATE(Tabella1[[#This Row],[Attività]],\".\",Tabella1[[#This Row],[Progressivo]])))","v":" "}]
[null,126,{"$f":"IF('Dettaglio delle attività'!E137=\"\",\" \",'Dettaglio delle attività'!E137)","v":" "},{"$f":"IF(Tabella1[[#This Row],[Attività]]=\"\",\" \",IF(Tabella1[[#This Row],[Attività]]=\" \",\" \",CONCATENATE(Tabella1[[#This Row],[Attività]],\".\",Tabella1[[#This Row],[Progressivo]])))","v":" "}]
[null,127,{"$f":"IF('Dettaglio delle attività'!E138=\"\",\" \",'Dettaglio delle attività'!E138)","v":" "},{"$f":"IF(Tabella1[[#This Row],[Attività]]=\"\",\" \",IF(Tabella1[[#This Row],[Attività]]=\" \",\" \",CONCATENATE(Tabella1[[#This Row],[Attività]],\".\",Tabella1[[#This Row],[Progressivo]])))","v":" "}]
[null,128,{"$f":"IF('Dettaglio delle attività'!E139=\"\",\" \",'Dettaglio delle attività'!E139)","v":" "},{"$f":"IF(Tabella1[[#This Row],[Attività]]=\"\",\" \",IF(Tabella1[[#This Row],[Attività]]=\" \",\" \",CONCATENATE(Tabella1[[#This Row],[Attività]],\".\",Tabella1[[#This Row],[Progressivo]])))","v":" "}]
[null,129,{"$f":"IF('Dettaglio delle attività'!E140=\"\",\" \",'Dettaglio delle attività'!E140)","v":" "},{"$f":"IF(Tabella1[[#This Row],[Attività]]=\"\",\" \",IF(Tabella1[[#This Row],[Attività]]=\" \",\" \",CONCATENATE(Tabella1[[#This Row],[Attività]],\".\",Tabella1[[#This Row],[Progressivo]])))","v":" "}]
[null,130,{"$f":"IF('Dettaglio delle attività'!E141=\"\",\" \",'Dettaglio delle attività'!E141)","v":" "},{"$f":"IF(Tabella1[[#This Row],[Attività]]=\"\",\" \",IF(Tabella1[[#This Row],[Attività]]=\" \",\" \",CONCATENATE(Tabella1[[#This Row],[Attività]],\".\",Tabella1[[#This Row],[Progressivo]])))","v":" "}]
[null,131,{"$f":"IF('Dettaglio delle attività'!E142=\"\",\" \",'Dettaglio delle attività'!E142)","v":" "},{"$f":"IF(Tabella1[[#This Row],[Attività]]=\"\",\" \",IF(Tabella1[[#This Row],[Attività]]=\" \",\" \",CONCATENATE(Tabella1[[#This Row],[Attività]],\".\",Tabella1[[#This Row],[Progressivo]])))","v":" "}]
[null,132,{"$f":"IF('Dettaglio delle attività'!E143=\"\",\" \",'Dettaglio delle attività'!E143)","v":" "},{"$f":"IF(Tabella1[[#This Row],[Attività]]=\"\",\" \",IF(Tabella1[[#This Row],[Attività]]=\" \",\" \",CONCATENATE(Tabella1[[#This Row],[Attività]],\".\",Tabella1[[#This Row],[Progressivo]])))","v":" "}]
[null,133,{"$f":"IF('Dettaglio delle attività'!E144=\"\",\" \",'Dettaglio delle attività'!E144)","v":" "},{"$f":"IF(Tabella1[[#This Row],[Attività]]=\"\",\" \",IF(Tabella1[[#This Row],[Attività]]=\" \",\" \",CONCATENATE(Tabella1[[#This Row],[Attività]],\".\",Tabella1[[#This Row],[Progressivo]])))","v":" "}]
[null,134,{"$f":"IF('Dettaglio delle attività'!E145=\"\",\" \",'Dettaglio delle attività'!E145)","v":" "},{"$f":"IF(Tabella1[[#This Row],[Attività]]=\"\",\" \",IF(Tabella1[[#This Row],[Attività]]=\" \",\" \",CONCATENATE(Tabella1[[#This Row],[Attività]],\".\",Tabella1[[#This Row],[Progressivo]])))","v":" "}]
[null,{"$f":"ROW(B135)","v":135},{"$f":"IF('Dettaglio delle attività'!E146=\"\",\" \",'Dettaglio delle attività'!E146)","v":" "},{"$f":"IF(Tabella1[[#This Row],[Attività]]=\"\",\" \",IF(Tabella1[[#This Row],[Attività]]=\" \",\" \",CONCATENATE(Tabella1[[#This Row],[Attività]],\".\",Tabella1[[#This Row],[Progressivo]])))","v":" "}]
[null,136,{"$f":"IF('Dettaglio delle attività'!E147=\"\",\" \",'Dettaglio delle attività'!E147)","v":" "},{"$f":"IF(Tabella1[[#This Row],[Attività]]=\"\",\" \",IF(Tabella1[[#This Row],[Attività]]=\" \",\" \",CONCATENATE(Tabella1[[#This Row],[Attività]],\".\",Tabella1[[#This Row],[Progressivo]])))","v":" "}]
[null,137,{"$f":"IF('Dettaglio delle attività'!E148=\"\",\" \",'Dettaglio delle attività'!E148)","v":" "},{"$f":"IF(Tabella1[[#This Row],[Attività]]=\"\",\" \",IF(Tabella1[[#This Row],[Attività]]=\" \",\" \",CONCATENATE(Tabella1[[#This Row],[Attività]],\".\",Tabella1[[#This Row],[Progressivo]])))","v":" "}]
[null,138,{"$f":"IF('Dettaglio delle attività'!E149=\"\",\" \",'Dettaglio delle attività'!E149)","v":" "},{"$f":"IF(Tabella1[[#This Row],[Attività]]=\"\",\" \",IF(Tabella1[[#This Row],[Attività]]=\" \",\" \",CONCATENATE(Tabella1[[#This Row],[Attività]],\".\",Tabella1[[#This Row],[Progressivo]])))","v":" "}]
[null,139,{"$f":"IF('Dettaglio delle attività'!E150=\"\",\" \",'Dettaglio delle attività'!E150)","v":" "},{"$f":"IF(Tabella1[[#This Row],[Attività]]=\"\",\" \",IF(Tabella1[[#This Row],[Attività]]=\" \",\" \",CONCATENATE(Tabella1[[#This Row],[Attività]],\".\",Tabella1[[#This Row],[Progressivo]])))","v":" "}]
[null,140,{"$f":"IF('Dettaglio delle attività'!E151=\"\",\" \",'Dettaglio delle attività'!E151)","v":" "},{"$f":"IF(Tabella1[[#This Row],[Attività]]=\"\",\" \",IF(Tabella1[[#This Row],[Attività]]=\" \",\" \",CONCATENATE(Tabella1[[#This Row],[Attività]],\".\",Tabella1[[#This Row],[Progressivo]])))","v":" "}]
[null,141,{"$f":"IF('Dettaglio delle attività'!E152=\"\",\" \",'Dettaglio delle attività'!E152)","v":" "},{"$f":"IF(Tabella1[[#This Row],[Attività]]=\"\",\" \",IF(Tabella1[[#This Row],[Attività]]=\" \",\" \",CONCATENATE(Tabella1[[#This Row],[Attività]],\".\",Tabella1[[#This Row],[Progressivo]])))","v":" "}]
[null,142,{"$f":"IF('Dettaglio delle attività'!E153=\"\",\" \",'Dettaglio delle attività'!E153)","v":" "},{"$f":"IF(Tabella1[[#This Row],[Attività]]=\"\",\" \",IF(Tabella1[[#This Row],[Attività]]=\" \",\" \",CONCATENATE(Tabella1[[#This Row],[Attività]],\".\",Tabella1[[#This Row],[Progressivo]])))","v":" "}]
[null,143,{"$f":"IF('Dettaglio delle attività'!E154=\"\",\" \",'Dettaglio delle attività'!E154)","v":" "},{"$f":"IF(Tabella1[[#This Row],[Attività]]=\"\",\" \",IF(Tabella1[[#This Row],[Attività]]=\" \",\" \",CONCATENATE(Tabella1[[#This Row],[Attività]],\".\",Tabella1[[#This Row],[Progressivo]])))","v":" "}]
[null,144,{"$f":"IF('Dettaglio delle attività'!E155=\"\",\" \",'Dettaglio delle attività'!E155)","v":" "},{"$f":"IF(Tabella1[[#This Row],[Attività]]=\"\",\" \",IF(Tabella1[[#This Row],[Attività]]=\" \",\" \",CONCATENATE(Tabella1[[#This Row],[Attività]],\".\",Tabella1[[#This Row],[Progressivo]])))","v":" "}]
[null,145,{"$f":"IF('Dettaglio delle attività'!E156=\"\",\" \",'Dettaglio delle attività'!E156)","v":" "},{"$f":"IF(Tabella1[[#This Row],[Attività]]=\"\",\" \",IF(Tabella1[[#This Row],[Attività]]=\" \",\" \",CONCATENATE(Tabella1[[#This Row],[Attività]],\".\",Tabella1[[#This Row],[Progressivo]])))","v":" "}]
[null,146,{"$f":"IF('Dettaglio delle attività'!E157=\"\",\" \",'Dettaglio delle attività'!E157)","v":" "},{"$f":"IF(Tabella1[[#This Row],[Attività]]=\"\",\" \",IF(Tabella1[[#This Row],[Attività]]=\" \",\" \",CONCATENATE(Tabella1[[#This Row],[Attività]],\".\",Tabella1[[#This Row],[Progressivo]])))","v":" "}]
[null,147,{"$f":"IF('Dettaglio delle attività'!E158=\"\",\" \",'Dettaglio delle attività'!E158)","v":" "},{"$f":"IF(Tabella1[[#This Row],[Attività]]=\"\",\" \",IF(Tabella1[[#This Row],[Attività]]=\" \",\" \",CONCATENATE(Tabella1[[#This Row],[Attività]],\".\",Tabella1[[#This Row],[Progressivo]])))","v":" "}]
[null,148,{"$f":"IF('Dettaglio delle attività'!E159=\"\",\" \",'Dettaglio delle attività'!E159)","v":" "},{"$f":"IF(Tabella1[[#This Row],[Attività]]=\"\",\" \",IF(Tabella1[[#This Row],[Attività]]=\" \",\" \",CONCATENATE(Tabella1[[#This Row],[Attività]],\".\",Tabella1[[#This Row],[Progressivo]])))","v":" "}]
[null,149,{"$f":"IF('Dettaglio delle attività'!E160=\"\",\" \",'Dettaglio delle attività'!E160)","v":" "},{"$f":"IF(Tabella1[[#This Row],[Attività]]=\"\",\" \",IF(Tabella1[[#This Row],[Attività]]=\" \",\" \",CONCATENATE(Tabella1[[#This Row],[Attività]],\".\",Tabella1[[#This Row],[Progressivo]])))","v":" "}]
[null,150,{"$f":"IF('Dettaglio delle attività'!E161=\"\",\" \",'Dettaglio delle attività'!E161)","v":" "},{"$f":"IF(Tabella1[[#This Row],[Attività]]=\"\",\" \",IF(Tabella1[[#This Row],[Attività]]=\" \",\" \",CONCATENATE(Tabella1[[#This Row],[Attività]],\".\",Tabella1[[#This Row],[Progressivo]])))","v":" "}]
[null,151,{"$f":"IF('Dettaglio delle attività'!E162=\"\",\" \",'Dettaglio delle attività'!E162)","v":" "},{"$f":"IF(Tabella1[[#This Row],[Attività]]=\"\",\" \",IF(Tabella1[[#This Row],[Attività]]=\" \",\" \",CONCATENATE(Tabella1[[#This Row],[Attività]],\".\",Tabella1[[#This Row],[Progressivo]])))","v":" "}]
[null,152,{"$f":"IF('Dettaglio delle attività'!E163=\"\",\" \",'Dettaglio delle attività'!E163)","v":" "},{"$f":"IF(Tabella1[[#This Row],[Attività]]=\"\",\" \",IF(Tabella1[[#This Row],[Attività]]=\" \",\" \",CONCATENATE(Tabella1[[#This Row],[Attività]],\".\",Tabella1[[#This Row],[Progressivo]])))","v":" "}]
[null,153,{"$f":"IF('Dettaglio delle attività'!E164=\"\",\" \",'Dettaglio delle attività'!E164)","v":" "},{"$f":"IF(Tabella1[[#This Row],[Attività]]=\"\",\" \",IF(Tabella1[[#This Row],[Attività]]=\" \",\" \",CONCATENATE(Tabella1[[#This Row],[Attività]],\".\",Tabella1[[#This Row],[Progressivo]])))","v":" "}]
[null,154,{"$f":"IF('Dettaglio delle attività'!E165=\"\",\" \",'Dettaglio delle attività'!E165)","v":" "},{"$f":"IF(Tabella1[[#This Row],[Attività]]=\"\",\" \",IF(Tabella1[[#This Row],[Attività]]=\" \",\" \",CONCATENATE(Tabella1[[#This Row],[Attività]],\".\",Tabella1[[#This Row],[Progressivo]])))","v":" "}]
[null,155,{"$f":"IF('Dettaglio delle attività'!E166=\"\",\" \",'Dettaglio delle attività'!E166)","v":" "},{"$f":"IF(Tabella1[[#This Row],[Attività]]=\"\",\" \",IF(Tabella1[[#This Row],[Attività]]=\" \",\" \",CONCATENATE(Tabella1[[#This Row],[Attività]],\".\",Tabella1[[#This Row],[Progressivo]])))","v":" "}]
[null,156,{"$f":"IF('Dettaglio delle attività'!E167=\"\",\" \",'Dettaglio delle attività'!E167)","v":" "},{"$f":"IF(Tabella1[[#This Row],[Attività]]=\"\",\" \",IF(Tabella1[[#This Row],[Attività]]=\" \",\" \",CONCATENATE(Tabella1[[#This Row],[Attività]],\".\",Tabella1[[#This Row],[Progressivo]])))","v":" "}]
[null,157,{"$f":"IF('Dettaglio delle attività'!E168=\"\",\" \",'Dettaglio delle attività'!E168)","v":" "},{"$f":"IF(Tabella1[[#This Row],[Attività]]=\"\",\" \",IF(Tabella1[[#This Row],[Attività]]=\" \",\" \",CONCATENATE(Tabella1[[#This Row],[Attività]],\".\",Tabella1[[#This Row],[Progressivo]])))","v":" "}]
[null,158,{"$f":"IF('Dettaglio delle attività'!E169=\"\",\" \",'Dettaglio delle attività'!E169)","v":" "},{"$f":"IF(Tabella1[[#This Row],[Attività]]=\"\",\" \",IF(Tabella1[[#This Row],[Attività]]=\" \",\" \",CONCATENATE(Tabella1[[#This Row],[Attività]],\".\",Tabella1[[#This Row],[Progressivo]])))","v":" "}]
[null,159,{"$f":"IF('Dettaglio delle attività'!E170=\"\",\" \",'Dettaglio delle attività'!E170)","v":" "},{"$f":"IF(Tabella1[[#This Row],[Attività]]=\"\",\" \",IF(Tabella1[[#This Row],[Attività]]=\" \",\" \",CONCATENATE(Tabella1[[#This Row],[Attività]],\".\",Tabella1[[#This Row],[Progressivo]])))","v":" "}]
[null,{"$f":"ROW(B160)","v":160},{"$f":"IF('Dettaglio delle attività'!E171=\"\",\" \",'Dettaglio delle attività'!E171)","v":" "},{"$f":"IF(Tabella1[[#This Row],[Attività]]=\"\",\" \",IF(Tabella1[[#This Row],[Attività]]=\" \",\" \",CONCATENATE(Tabella1[[#This Row],[Attività]],\".\",Tabella1[[#This Row],[Progressivo]])))","v":" "}]

{"sheet":"Piano gest. rif e res agricoli","index":5,"n_rows":13,"n_cols":4,"rows_kept":13,"cut":false,"hidden":false,"merged":[[9,1,10,3],[6,3,7,3]]}
[]
[]
[]
[]
[]
[]
[null,null,null,{"$f":"IF(Intro!AC45=\"\",\" \",Intro!AC45)","v":" "}]
[]
[]
[null,"Piano di gestione rifiuti/residui agricoli"]
[]
[]
[null,"Tipologia di rifiuto/residuo","Quantità annua media gestita in kg o litri (stima)","Uso rifiuto/residuo"]

{"sheet":"Foglio2","index":6,"n_rows":41,"n_cols":17,"rows_kept":41,"cut":false,"hidden":true,"merged":[]}
["partecipazione ",null,"REGIMI",null,"finalità","Adeguamento_della_produzione_e_dei_prodotti_dei_soci_di_tali_organizzazioni_alle_esigenze_del_mercato","Commercializzazione_in_comune_dei_prodotti_compresi_il_condizionamento_per_la_vendita_la_vendita_centralizzata_e_la_fornitura_all_ingrosso","Definizione_di_norme_comuni_in_materia_di_informazione_sulla_produzione_con_particolare_riguardo_al_raccolto_e_alla_disponibilità_dei_prodotti","Altre_attività_come_lo_sviluppo_delle_competenze_imprenditoriali_e_commerciali_o_la_promozione_e_l_organizzazione_di_processi_innovativi",null,"Anno","Mese",null,"Destinazione rifiuti"]
[null,null,null,null,"Adeguamento_della_produzione_e_dei_prodotti_dei_soci_di_tali_organizzazioni_alle_esigenze_del_mercato","ATT._1.1","ATT._2.1","ATT._3.1","ATT._4.1",null,2014,"Gennaio",null,"Produzione di energia rinnovabile",null,null,"Oggetto di variante"]
["DIRETTA","Olivicolo","SI",null,"Commercializzazione_in_comune_dei_prodotti_compresi_il_condizionamento_per_la_vendita_la_vendita_centralizzata_e_la_fornitura_all_ingrosso","ATT._1.2","ATT._2.2","ATT._3.2","ATT._4.2",null,2015,"Febbraio",null,"Prodotti da agricoltura biologica",null,null,"Non oggetto di variante"]
["INDIRETTA","Vitivinicolo","NO",null,"Definizione_di_norme_comuni_in_materia_di_informazione_sulla_produzione_con_particolare_riguardo_al_raccolto_e_alla_disponibilità_dei_prodotti","ATT._1.3","ATT._2.3","ATT._3.3","ATT._4.3",null,2016,"Marzo",null,"Creazione di strutture organizzative per la consegna della biomassa"]
[null,null,null,null,"Altre_attività_come_lo_sviluppo_delle_competenze_imprenditoriali_e_commerciali_o_la_promozione_e_l_organizzazione_di_processi_innovativi","ATT._1.4","ATT._2.4","ATT._3.4","ATT._4.4",null,2017,"Aprile"]
[null,null,null,null,null,"ATT._1.5","ATT._2.5","ATT._3.5","ATT._4.5",null,2018,"Maggio"]
[null,null,null,null,null,"ATT._1.6","ATT._2.6","ATT._3.6","ATT._4.6",null,2019,"Giugno"]
[null,null,null,null,null,"ATT._1.7","ATT._2.7","ATT._3.7","ATT._4.7",null,2020,"Luglio"]
[null,null,null,null,null,"ATT._1.8","ATT._2.8","ATT._3.8","ATT._4.8",null,2021,"Agosto"]
[null,null,null,null,null,"ATT._1.9","ATT._2.9","ATT._3.9","ATT._4.9",null,2022,"Settembre"]
[null,null,null,null,null,"ATT._1.10","ATT._2.10","ATT._3.10","ATT._4.10",null,2023,"Ottobre"]
[null,null,null,null,null,"ATT._1.11","ATT._2.11","ATT._3.11","ATT._4.11",null,2024,"Novembre"]
[null,null,null,null,null,"ATT._1.12","ATT._2.12","ATT._3.12","ATT._4.12",null,2025,"Dicembre"]
[null,null,null,null,null,"ATT._1.13","ATT._2.13","ATT._3.13","ATT._4.13",null,2026]
[null,null,null,null,null,"ATT._1.14","ATT._2.14","ATT._3.14","ATT._4.14",null,2027]
[null,null,null,null,null,"ATT._1.15","ATT._2.15","ATT._3.15","ATT._4.15"]
[null,null,null,null,null,"ATT._1.16","ATT._2.16","ATT._3.16","ATT._4.16"]
[null,null,null,null,null,"ATT._1.17","ATT._2.17","ATT._3.17","ATT._4.17"]
[null,null,null,null,null,"ATT._1.18","ATT._2.18","ATT._3.18","ATT._4.18"]
[null,null,null,null,null,"ATT._1.19","ATT._2.19","ATT._3.19","ATT._4.19"]
[null,null,null,null,null,"ATT._1.20","ATT._2.20","ATT._3.20","ATT._4.20"]
[null,null,null,null,null,"ATT._1.21","ATT._2.21","ATT._3.21","ATT._4.21"]
[null,null,null,null,null,"ATT._1.22","ATT._2.22","ATT._3.22","ATT._4.22"]
[null,null,null,null,null,"ATT._1.23","ATT._2.23","ATT._3.23","ATT._4.23"]
[null,null,null,null,null,"ATT._1.24","ATT._2.24","ATT._3.24","ATT._4.24"]
[null,null,null,null,null,"ATT._1.25","ATT._2.25","ATT._3.25","ATT._4.25"]
[null,null,null,null,null,"ATT._1.26","ATT._2.26","ATT._3.26","ATT._4.26"]
[null,null,null,null,null,"ATT._1.27","ATT._2.27","ATT._3.27","ATT._4.27"]
[null,null,null,null,null,"ATT._1.28","ATT._2.28","ATT._3.28","ATT._4.28"]
[null,null,null,null,null,"ATT._1.29","ATT._2.29","ATT._3.29","ATT._4.29"]
[null,null,null,null,null,"ATT._1.30","ATT._2.30","ATT._3.30","ATT._4.30"]
[null,null,null,null,null,"ATT._1.31","ATT._2.31","ATT._3.31","ATT._4.31"]
[null,null,null,null,null,"ATT._1.32","ATT._2.32","ATT._3.32","ATT._4.32"]
[null,null,null,null,null,"ATT._1.33","ATT._2.33","ATT._3.33","ATT._4.33"]
[null,null,null,null,null,"ATT._1.34","ATT._2.34","ATT._3.34","ATT._4.34"]
[null,null,null,null,null,"ATT._1.35","ATT._2.35","ATT._3.35","ATT._4.35"]
[null,null,null,null,null,"ATT._1.36","ATT._2.36","ATT._3.36","ATT._4.36"]
[null,null,null,null,null,"ATT._1.37","ATT._2.37","ATT._3.37","ATT._4.37"]
[null,null,null,null,null,"ATT._1.38","ATT._2.38","ATT._3.38","ATT._4.38"]
[null,null,null,null,null,"ATT._1.39","ATT._2.39","ATT._3.39","ATT._4.39"]
[null,null,null,null,null,"ATT._1.40","ATT._2.40","ATT._3.40","ATT._4.40"]

{"sheet":"Piano Varianti","index":7,"n_rows":1442,"n_cols":13,"rows_kept":1442,"cut":false,"hidden":false,"merged":[[5,10,6,10],[9,2,10,12]]}
[]
[]
[]
[]
[]
[null,null,null,null,null,null,null,null,null,null,{"$f":"IF(Intro!AC45=\"\",\" \",Intro!AC45)","v":" "}]
[]
[]
[]
[null,null,"Piano Varianti"]
[]
[]
[null,null,"Progressivo","Finalità/ obiettivi generali iniziali","Obiettivi specifici","Elenco analitico delle attività da realizzare","Indicatore","Variante","Motivazioni della variante","Nuove Finalità/ obiettivi generali ","Nuovi Obiettivi specifici"," Nuovo Elenco analitico delle attività da realizzare"," Nuovo Indicatore"]
[null,null,{"$f":"ROW(A1)","v":1},{"$f":"IF('Dettaglio delle attività'!C12=\"\",\" \",'Dettaglio delle attività'!C12)","v":" "},{"$f":"IF('Dettaglio delle attività'!D12=\"\",\" \",'Dettaglio delle attività'!D12)","v":" "},{"$f":"IF('Dettaglio delle attività'!E12=\"\",\" \",'Dettaglio delle attività'!E12)","v":" "},{"$f":"Tabella1[[#This Row],[Indicatore]]","v":" "},null,null,null,null,null,{"$f":"IF(Tabella11[[ Nuovo Elenco analitico delle attività da realizzare]]=\"\",\"\",CONCATENATE(\"VAR\",\".\",Tabella11[[ Nuovo Elenco analitico delle attività da realizzare]],\".\",ROW(C1)))","v":""}]
[null,null,2,{"$f":"IF('Dettaglio delle attività'!C13=\"\",\" \",'Dettaglio delle attività'!C13)","v":" "},{"$f":"IF('Dettaglio delle attività'!D13=\"\",\" \",'Dettaglio delle attività'!D13)","v":" "},{"$f":"IF('Dettaglio delle attività'!E13=\"\",\" \",'Dettaglio delle attività'!E13)","v":" "},{"$f":"Tabella1[[#This Row],[Indicatore]]","v":" "},null,null,null,null,null,{"$f":"IF(Tabella11[[ Nuovo Elenco analitico delle attività da realizzare]]=\"\",\"\",CONCATENATE(\"VAR\",\".\",Tabella11[[ Nuovo Elenco analitico delle attività da realizzare]],\".\",ROW(C2)))","v":""}]
[null,null,3,{"$f":"IF('Dettaglio delle attività'!C14=\"\",\" \",'Dettaglio delle attività'!C14)","v":" "},{"$f":"IF('Dettaglio delle attività'!D14=\"\",\" \",'Dettaglio delle attività'!D14)","v":" "},{"$f":"IF('Dettaglio delle attività'!E14=\"\",\" \",'Dettaglio delle attività'!E14)","v":" "},{"$f":"Tabella1[[#This Row],[Indicatore]]","v":" "},null,null,null,null,null,{"$f":"IF(Tabella11[[ Nuovo Elenco analitico delle attività da realizzare]]=\"\",\"\",CONCATENATE(\"VAR\",\".\",Tabella11[[ Nuovo Elenco analitico delle attività da realizzare]],\".\",ROW(C3)))","v":""}]
[null,null,4,{"$f":"IF('Dettaglio delle attività'!C15=\"\",\" \",'Dettaglio delle attività'!C15)","v":" "},{"$f":"IF('Dettaglio delle attività'!D15=\"\",\" \",'Dettaglio delle attività'!D15)","v":" "},{"$f":"IF('Dettaglio delle attività'!E15=\"\",\" \",'Dettaglio delle attività'!E15)","v":" "},{"$f":"Tabella1[[#This Row],[Indicatore]]","v":" "},null,null,null,null,null,{"$f":"IF(Tabella11[[ Nuovo Elenco analitico delle attività da realizzare]]=\"\",\"\",CONCATENATE(\"VAR\",\".\",Tabella11[[ Nuovo Elenco analitico delle attività da realizzare]],\".\",ROW(C4)))","v":""}]
[null,null,5,{"$f":"IF('Dettaglio delle attività'!C16=\"\",\" \",'Dettaglio delle attività'!C16)","v":" "},{"$f":"IF('Dettaglio delle attività'!D16=\"\",\" \",'Dettaglio delle attività'!D16)","v":" "},{"$f":"IF('Dettaglio delle attività'!E16=\"\",\" \",'Dettaglio delle attività'!E16)","v":" "},{"$f":"Tabella1[[#This Row],[Indicatore]]","v":" "},null,null,null,null,null,{"$f":"IF(Tabella11[[ Nuovo Elenco analitico delle attività da realizzare]]=\"\",\"\",CONCATENATE(\"VAR\",\".\",Tabella11[[ Nuovo Elenco analitico delle attività da realizzare]],\".\",ROW(C5)))","v":""}]
[null,null,6,{"$f":"IF('Dettaglio delle attività'!C17=\"\",\" \",'Dettaglio delle attività'!C17)","v":" "},{"$f":"IF('Dettaglio delle attività'!D17=\"\",\" \",'Dettaglio delle attività'!D17)","v":" "},{"$f":"IF('Dettaglio delle attività'!E17=\"\",\" \",'Dettaglio delle attività'!E17)","v":" "},{"$f":"Tabella1[[#This Row],[Indicatore]]","v":" "},null,null,null,null,null,{"$f":"IF(Tabella11[[ Nuovo Elenco analitico delle attività da realizzare]]=\"\",\"\",CONCATENATE(\"VAR\",\".\",Tabella11[[ Nuovo Elenco analitico delle attività da realizzare]],\".\",ROW(C6)))","v":""}]
[null,null,7,{"$f":"IF('Dettaglio delle attività'!C18=\"\",\" \",'Dettaglio delle attività'!C18)","v":" "},{"$f":"IF('Dettaglio delle attività'!D18=\"\",\" \",'Dettaglio delle attività'!D18)","v":" "},{"$f":"IF('Dettaglio delle attività'!E18=\"\",\" \",'Dettaglio delle attività'!E18)","v":" "},{"$f":"Tabella1[[#This Row],[Indicatore]]","v":" "},null,null,null,null,null,{"$f":"IF(Tabella11[[ Nuovo Elenco analitico delle attività da realizzare]]=\"\",\"\",CONCATENATE(\"VAR\",\".\",Tabella11[[ Nuovo Elenco analitico delle attività da realizzare]],\".\",ROW(C7)))","v":""}]
[null,null,8,{"$f":"IF('Dettaglio delle attività'!C19=\"\",\" \",'Dettaglio delle attività'!C19)","v":" "},{"$f":"IF('Dettaglio delle attività'!D19=\"\",\" \",'Dettaglio delle attività'!D19)","v":" "},{"$f":"IF('Dettaglio delle attività'!E19=\"\",\" \",'Dettaglio delle attività'!E19)","v":" "},{"$f":"Tabella1[[#This Row],[Indicatore]]","v":" "},null,null,null,null,null,{"$f":"IF(Tabella11[[ Nuovo Elenco analitico delle attività da realizzare]]=\"\",\"\",CONCATENATE(\"VAR\",\".\",Tabella11[[ Nuovo Elenco analitico delle attività da realizzare]],\".\",ROW(C8)))","v":""}]
[null,null,9,{"$f":"IF('Dettaglio delle attività'!C20=\"\",\" \",'Dettaglio delle attività'!C20)","v":" "},{"$f":"IF('Dettaglio delle attività'!D20=\"\",\" \",'Dettaglio delle attività'!D20)","v":" "},{"$f":"IF('Dettaglio delle attività'!E20=\"\",\" \",'Dettaglio delle attività'!E20)","v":" "},{"$f":"Tabella1[[#This Row],[Indicatore]]","v":" "},null,null,null,null,null,{"$f":"IF(Tabella11[[ Nuovo Elenco analitico delle attività da realizzare]]=\"\",\"\",CONCATENATE(\"VAR\",\".\",Tabella11[[ Nuovo Elenco analitico delle attività da realizzare]],\".\",ROW(C9)))","v":""}]
[null,null,10,{"$f":"IF('Dettaglio delle attività'!C21=\"\",\" \",'Dettaglio delle attività'!C21)","v":" "},{"$f":"IF('Dettaglio delle attività'!D21=\"\",\" \",'Dettaglio delle attività'!D21)","v":" "},{"$f":"IF('Dettaglio delle attività'!E21=\"\",\" \",'Dettaglio delle attività'!E21)","v":" "},{"$f":"Tabella1[[#This Row],[Indicatore]]","v":" "},null,null,null,null,null,{"$f":"IF(Tabella11[[ Nuovo Elenco analitico delle attività da realizzare]]=\"\",\"\",CONCATENATE(\"VAR\",\".\",Tabella11[[ Nuovo Elenco analitico delle attività da realizzare]],\".\",ROW(C10)))","v":""}]
[null,null,11,{"$f":"IF('Dettaglio delle attività'!C22=\"\",\" \",'Dettaglio delle attività'!C22)","v":" "},{"$f":"IF('Dettaglio delle attività'!D22=\"\",\" \",'Dettaglio delle attività'!D22)","v":" "},{"$f":"IF('Dettaglio delle attività'!E22=\"\",\" \",'Dettaglio delle attività'!E22)","v":" "},{"$f":"Tabella1[[#This Row],[Indicatore]]","v":" "},null,null,null,null,null,{"$f":"IF(Tabella11[[ Nuovo Elenco analitico delle attività da realizzare]]=\"\",\"\",CONCATENATE(\"VAR\",\".\",Tabella11[[ Nuovo Elenco analitico delle attività da realizzare]],\".\",ROW(C11)))","v":""}]
[null,null,12,{"$f":"IF('Dettaglio delle attività'!C23=\"\",\" \",'Dettaglio delle attività'!C23)","v":" "},{"$f":"IF('Dettaglio delle attività'!D23=\"\",\" \",'Dettaglio delle attività'!D23)","v":" "},{"$f":"IF('Dettaglio delle attività'!E23=\"\",\" \",'Dettaglio delle attività'!E23)","v":" "},{"$f":"Tabella1[[#This Row],[Indicatore]]","v":" "},null,null,null,null,null,{"$f":"IF(Tabella11[[ Nuovo Elenco analitico delle attività da realizzare]]=\"\",\"\",CONCATENATE(\"VAR\",\".\",Tabella11[[ Nuovo Elenco analitico delle attività da realizzare]],\".\",ROW(C12)))","v":""}]
[null,null,13,{"$f":"IF('Dettaglio delle attività'!C24=\"\",\" \",'Dettaglio delle attività'!C24)","v":" "},{"$f":"IF('Dettaglio delle attività'!D24=\"\",\" \",'Dettaglio delle attività'!D24)","v":" "},{"$f":"IF('Dettaglio delle attività'!E24=\"\",\" \",'Dettaglio delle attività'!E24)","v":" "},{"$f":"Tabella1[[#This Row],[Indicatore]]","v":" "},null,null,null,null,null,{"$f":"IF(Tabella11[[ Nuovo Elenco analitico delle attività da realizzare]]=\"\",\"\",CONCATENATE(\"VAR\",\".\",Tabella11[[ Nuovo Elenco analitico delle attività da realizzare]],\".\",ROW(C13)))","v":""}]
[null,null,14,{"$f":"IF('Dettaglio delle attività'!C25=\"\",\" \",'Dettaglio delle attività'!C25)","v":" "},{"$f":"IF('Dettaglio delle attività'!D25=\"\",\" \",'Dettaglio delle attività'!D25)","v":" "},{"$f":"IF('Dettaglio delle attività'!E25=\"\",\" \",'Dettaglio delle attività'!E25)","v":" "},{"$f":"Tabella1[[#This Row],[Indicatore]]","v":" "},null,null,null,null,null,{"$f":"IF(Tabella11[[ Nuovo Elenco analitico delle attività da realizzare]]=\"\",\"\",CONCATENATE(\"VAR\",\".\",Tabella11[[ Nuovo Elenco analitico delle attività da realizzare]],\".\",ROW(C14)))","v":""}]
[null,null,15,{"$f":"IF('Dettaglio delle attività'!C26=\"\",\" \",'Dettaglio delle attività'!C26)","v":" "},{"$f":"IF('Dettaglio delle attività'!D26=\"\",\" \",'Dettaglio delle attività'!D26)","v":" "},{"$f":"IF('Dettaglio delle attività'!E26=\"\",\" \",'Dettaglio delle attività'!E26)","v":" "},{"$f":"Tabella1[[#This Row],[Indicatore]]","v":" "},null,null,null,null,null,{"$f":"IF(Tabella11[[ Nuovo Elenco analitico delle attività da realizzare]]=\"\",\"\",CONCATENATE(\"VAR\",\".\",Tabella11[[ Nuovo Elenco analitico delle attività da realizzare]],\".\",ROW(C15)))","v":""}]
[null,null,16,{"$f":"IF('Dettaglio delle attività'!C27=\"\",\" \",'Dettaglio delle attività'!C27)","v":" "},{"$f":"IF('Dettaglio delle attività'!D27=\"\",\" \",'Dettaglio delle attività'!D27)","v":" "},{"$f":"IF('Dettaglio delle attività'!E27=\"\",\" \",'Dettaglio delle attività'!E27)","v":" "},{"$f":"Tabella1[[#This Row],[Indicatore]]","v":" "},null,null,null,null,null,{"$f":"IF(Tabella11[[ Nuovo Elenco analitico delle attività da realizzare]]=\"\",\"\",CONCATENATE(\"VAR\",\".\",Tabella11[[ Nuovo Elenco analitico delle attività da realizzare]],\".\",ROW(C16)))","v":""}]
[null,null,17,{"$f":"IF('Dettaglio delle attività'!C28=\"\",\" \",'Dettaglio delle attività'!C28)","v":" "},{"$f":"IF('Dettaglio delle attività'!D28=\"\",\" \",'Dettaglio delle attività'!D28)","v":" "},{"$f":"IF('Dettaglio delle attività'!E28=\"\",\" \",'Dettaglio delle attività'!E28)","v":" "},{"$f":"Tabella1[[#This Row],[Indicatore]]","v":" "},null,null,null,null,null,{"$f":"IF(Tabella11[[ Nuovo Elenco analitico delle attività da realizzare]]=\"\",\"\",CONCATENATE(\"VAR\",\".\",Tabella11[[ Nuovo Elenco analitico delle attività da realizzare]],\".\",ROW(C17)))","v":""}]
[null,null,18,{"$f":"IF('Dettaglio delle attività'!C29=\"\",\" \",'Dettaglio delle attività'!C29)","v":" "},{"$f":"IF('Dettaglio delle attività'!D29=\"\",\" \",'Dettaglio delle attività'!D29)","v":" "},{"$f":"IF('Dettaglio delle attività'!E29=\"\",\" \",'Dettaglio delle attività'!E29)","v":" "},{"$f":"Tabella1[[#This Row],[Indicatore]]","v":" "},null,null,null,null,null,{"$f":"IF(Tabella11[[ Nuovo Elenco analitico delle attività da realizzare]]=\"\",\"\",CONCATENATE(\"VAR\",\".\",Tabella11[[ Nuovo Elenco analitico delle attività da realizzare]],\".\",ROW(C18)))","v":""}]
[null,null,19,{"$f":"IF('Dettaglio delle attività'!C30=\"\",\" \",'Dettaglio delle attività'!C30)","v":" "},{"$f":"IF('Dettaglio delle attività'!D30=\"\",\" \",'Dettaglio delle attività'!D30)","v":" "},{"$f":"IF('Dettaglio delle attività'!E30=\"\",\" \",'Dettaglio delle attività'!E30)","v":" "},{"$f":"Tabella1[[#This Row],[Indicatore]]","v":" "},null,null,null,null,null,{"$f":"IF(Tabella11[[ Nuovo Elenco analitico delle attività da realizzare]]=\"\",\"\",CONCATENATE(\"VAR\",\".\",Tabella11[[ Nuovo Elenco analitico delle attività da realizzare]],\".\",ROW(C19)))","v":""}]
[null,null,20,{"$f":"IF('Dettaglio delle attività'!C31=\"\",\" \",'Dettaglio delle attività'!C31)","v":" "},{"$f":"IF('Dettaglio delle attività'!D31=\"\",\" \",'Dettaglio delle attività'!D31)","v":" "},{"$f":"IF('Dettaglio delle attività'!E31=\"\",\" \",'Dettaglio delle attività'!E31)","v":" "},{"$f":"Tabella1[[#This Row],[Indicatore]]","v":" "},null,null,null,null,null,{"$f":"IF(Tabella11[[ Nuovo Elenco analitico delle attività da realizzare]]=\"\",\"\",CONCATENATE(\"VAR\",\".\",Tabella11[[ Nuovo Elenco analitico delle attività da realizzare]],\".\",ROW(C20)))","v":""}]
[null,null,21,{"$f":"IF('Dettaglio delle attività'!C32=\"\",\" \",'Dettaglio delle attività'!C32)","v":" "},{"$f":"IF('Dettaglio delle attività'!D32=\"\",\" \",'Dettaglio delle attività'!D32)","v":" "},{"$f":"IF('Dettaglio delle attività'!E32=\"\",\" \",'Dettaglio delle attività'!E32)","v":" "},{"$f":"Tabella1[[#This Row],[Indicatore]]","v":" "},null,null,null,null,null,{"$f":"IF(Tabella11[[ Nuovo Elenco analitico delle attività da realizzare]]=\"\",\"\",CONCATENATE(\"VAR\",\".\",Tabella11[[ Nuovo Elenco analitico delle attività da realizzare]],\".\",ROW(C21)))","v":""}]
[null,null,22,{"$f":"IF('Dettaglio delle attività'!C33=\"\",\" \",'Dettaglio delle attività'!C33)","v":" "},{"$f":"IF('Dettaglio delle attività'!D33=\"\",\" \",'Dettaglio delle attività'!D33)","v":" "},{"$f":"IF('Dettaglio delle attività'!E33=\"\",\" \",'Dettaglio delle attività'!E33)","v":" "},{"$f":"Tabella1[[#This Row],[Indicatore]]","v":" "},null,null,null,null,null,{"$f":"IF(Tabella11[[ Nuovo Elenco analitico delle attività da realizzare]]=\"\",\"\",CONCATENATE(\"VAR\",\".\",Tabella11[[ Nuovo Elenco analitico delle attività da realizzare]],\".\",ROW(C22)))","v":""}]
[null,null,23,{"$f":"IF('Dettaglio delle attività'!C34=\"\",\" \",'Dettaglio delle attività'!C34)","v":" "},{"$f":"IF('Dettaglio delle attività'!D34=\"\",\" \",'Dettaglio delle attività'!D34)","v":" "},{"$f":"IF('Dettaglio delle attività'!E34=\"\",\" \",'Dettaglio delle attività'!E34)","v":" "},{"$f":"Tabella1[[#This Row],[Indicatore]]","v":" "},null,null,null,null,null,{"$f":"IF(Tabella11[[ Nuovo Elenco analitico delle attività da realizzare]]=\"\",\"\",CONCATENATE(\"VAR\",\".\",Tabella11[[ Nuovo Elenco analitico delle attività da realizzare]],\".\",ROW(C23)))","v":""}]
[null,null,24,{"$f":"IF('Dettaglio delle attività'!C35=\"\",\" \",'Dettaglio delle attività'!C35)","v":" "},{"$f":"IF('Dettaglio delle attività'!D35=\"\",\" \",'Dettaglio delle attività'!D35)","v":" "},{"$f":"IF('Dettaglio delle attività'!E35=\"\",\" \",'Dettaglio delle attività'!E35)","v":" "},{"$f":"Tabella1[[#This Row],[Indicatore]]","v":" "},null,null,null,null,null,{"$f":"IF(Tabella11[[ Nuovo Elenco analitico delle attività da realizzare]]=\"\",\"\",CONCATENATE(\"VAR\",\".\",Tabella11[[ Nuovo Elenco analitico delle attività da realizzare]],\".\",ROW(C24)))","v":""}]
[null,null,25,{"$f":"IF('Dettaglio delle attività'!C36=\"\",\" \",'Dettaglio delle attività'!C36)","v":" "},{"$f":"IF('Dettaglio delle attività'!D36=\"\",\" \",'Dettaglio delle attività'!D36)","v":" "},{"$f":"IF('Dettaglio delle attività'!E36=\"\",\" \",'Dettaglio delle attività'!E36)","v":" "},{"$f":"Tabella1[[#This Row],[Indicatore]]","v":" "},null,null,null,null,null,{"$f":"IF(Tabella11[[ Nuovo Elenco analitico delle attività da realizzare]]=\"\",\"\",CONCATENATE(\"VAR\",\".\",Tabella11[[ Nuovo Elenco analitico delle attività da realizzare]],\".\",ROW(C25)))","v":""}]
[null,null,26,{"$f":"IF('Dettaglio delle attività'!C37=\"\",\" \",'Dettaglio delle attività'!C37)","v":" "},{"$f":"IF('Dettaglio delle attività'!D37=\"\",\" \",'Dettaglio delle attività'!D37)","v":" "},{"$f":"IF('Dettaglio delle attività'!E37=\"\",\" \",'Dettaglio delle attività'!E37)","v":" "},{"$f":"Tabella1[[#This Row],[Indicatore]]","v":" "},null,null,null,null,null,{"$f":"IF(Tabella11[[ Nuovo Elenco analitico delle attività da realizzare]]=\"\",\"\",CONCATENATE(\"VAR\",\".\",Tabella11[[ Nuovo Elenco analitico delle attività da realizzare]],\".\",ROW(C26)))","v":""}]
[null,null,27,{"$f":"IF('Dettaglio delle attività'!C38=\"\",\" \",'Dettaglio delle attività'!C38)","v":" "},{"$f":"IF('Dettaglio delle attività'!D38=\"\",\" \",'Dettaglio delle attività'!D38)","v":" "},{"$f":"IF('Dettaglio delle attività'!E38=\"\",\" \",'Dettaglio delle attività'!E38)","v":" "},{"$f":"Tabella1[[#This Row],[Indicatore]]","v":" "},null,null,null,null,null,{"$f":"IF(Tabella11[[ Nuovo Elenco analitico delle attività da realizzare]]=\"\",\"\",CONCATENATE(\"VAR\",\".\",Tabella11[[ Nuovo Elenco analitico delle attività da realizzare]],\".\",ROW(C27)))","v":""}]
[null,null,28,{"$f":"IF('Dettaglio delle attività'!C39=\"\",\" \",'Dettaglio delle attività'!C39)","v":" "},{"$f":"IF('Dettaglio delle attività'!D39=\"\",\" \",'Dettaglio delle attività'!D39)","v":" "},{"$f":"IF('Dettaglio delle attività'!E39=\"\",\" \",'Dettaglio delle attività'!E39)","v":" "},{"$f":"Tabella1[[#This Row],[Indicatore]]","v":" "},null,null,null,null,null,{"$f":"IF(Tabella11[[ Nuovo Elenco analitico delle attività da realizzare]]=\"\",\"\",CONCATENATE(\"VAR\",\".\",Tabella11[[ Nuovo Elenco analitico delle attività da realizzare]],\".\",ROW(C28)))","v":""}]
[null,null,29,{"$f":"IF('Dettaglio delle attività'!C40=\"\",\" \",'Dettaglio delle attività'!C40)","v":" "},{"$f":"IF('Dettaglio delle attività'!D40=\"\",\" \",'Dettaglio delle attività'!D40)","v":" "},{"$f":"IF('Dettaglio delle attività'!E40=\"\",\" \",'Dettaglio delle attività'!E40)","v":" "},{"$f":"Tabella1[[#This Row],[Indicatore]]","v":" "},null,null,null,null,null,{"$f":"IF(Tabella11[[ Nuovo Elenco analitico delle attività da realizzare]]=\"\",\"\",CONCATENATE(\"VAR\",\".\",Tabella11[[ Nuovo Elenco analitico delle attività da realizzare]],\".\",ROW(C29)))","v":""}]
[null,null,30,{"$f":"IF('Dettaglio delle attività'!C41=\"\",\" \",'Dettaglio delle attività'!C41)","v":" "},{"$f":"IF('Dettaglio delle attività'!D41=\"\",\" \",'Dettaglio delle attività'!D41)","v":" "},{"$f":"IF('Dettaglio delle attività'!E41=\"\",\" \",'Dettaglio delle attività'!E41)","v":" "},{"$f":"Tabella1[[#This Row],[Indicatore]]","v":" "},null,null,null,null,null,{"$f":"IF(Tabella11[[ Nuovo Elenco analitico delle attività da realizzare]]=\"\",\"\",CONCATENATE(\"VAR\",\".\",Tabella11[[ Nuovo Elenco analitico delle attività da realizzare]],\".\",ROW(C30)))","v":""}]
[null,null,31,{"$f":"IF('Dettaglio delle attività'!C42=\"\",\" \",'Dettaglio delle attività'!C42)","v":" "},{"$f":"IF('Dettaglio delle attività'!D42=\"\",\" \",'Dettaglio delle attività'!D42)","v":" "},{"$f":"IF('Dettaglio delle attività'!E42=\"\",\" \",'Dettaglio delle attività'!E42)","v":" "},{"$f":"Tabella1[[#This Row],[Indicatore]]","v":" "},null,null,null,null,null,{"$f":"IF(Tabella11[[ Nuovo Elenco analitico delle attività da realizzare]]=\"\",\"\",CONCATENATE(\"VAR\",\".\",Tabella11[[ Nuovo Elenco analitico delle attività da realizzare]],\".\",ROW(C31)))","v":""}]
[null,null,32,{"$f":"IF('Dettaglio delle attività'!C43=\"\",\" \",'Dettaglio delle attività'!C43)","v":" "},{"$f":"IF('Dettaglio delle attività'!D43=\"\",\" \",'Dettaglio delle attività'!D43)","v":" "},{"$f":"IF('Dettaglio delle attività'!E43=\"\",\" \",'Dettaglio delle attività'!E43)","v":" "},{"$f":"Tabella1[[#This Row],[Indicatore]]","v":" "},null,null,null,null,null,{"$f":"IF(Tabella11[[ Nuovo Elenco analitico delle attività da realizzare]]=\"\",\"\",CONCATENATE(\"VAR\",\".\",Tabella11[[ Nuovo Elenco analitico delle attività da realizzare]],\".\",ROW(C32)))","v":""}]
[null,null,{"$f":"ROW(A33)","v":33},{"$f":"IF('Dettaglio delle attività'!C44=\"\",\" \",'Dettaglio delle attività'!C44)","v":" "},{"$f":"IF('Dettaglio delle attività'!D44=\"\",\" \",'Dettaglio delle attività'!D44)","v":" "},{"$f":"IF('Dettaglio delle attività'!E44=\"\",\" \",'Dettaglio delle attività'!E44)","v":" "},{"$f":"Tabella1[[#This Row],[Indicatore]]","v":" "},null,null,null,null,null,{"$f":"IF(Tabella11[[ Nuovo Elenco analitico delle attività da realizzare]]=\"\",\"\",CONCATENATE(\"VAR\",\".\",Tabella11[[ Nuovo Elenco analitico delle attività da realizzare]],\".\",ROW(C33)))","v":""}]
[null,null,34,{"$f":"IF('Dettaglio delle attività'!C45=\"\",\" \",'Dettaglio delle attività'!C45)","v":" "},{"$f":"IF('Dettaglio delle attività'!D45=\"\",\" \",'Dettaglio delle attività'!D45)","v":" "},{"$f":"IF('Dettaglio delle attività'!E45=\"\",\" \",'Dettaglio delle attività'!E45)","v":" "},{"$f":"Tabella1[[#This Row],[Indicatore]]","v":" "},null,null,null,null,null,{"$f":"IF(Tabella11[[ Nuovo Elenco analitico delle attività da realizzare]]=\"\",\"\",CONCATENATE(\"VAR\",\".\",Tabella11[[ Nuovo Elenco analitico delle attività da realizzare]],\".\",ROW(C34)))","v":""}]
[null,null,35,{"$f":"IF('Dettaglio delle attività'!C46=\"\",\" \",'Dettaglio delle attività'!C46)","v":" "},{"$f":"IF('Dettaglio delle attività'!D46=\"\",\" \",'Dettaglio delle attività'!D46)","v":" "},{"$f":"IF('Dettaglio delle attività'!E46=\"\",\" \",'Dettaglio delle attività'!E46)","v":" "},{"$f":"Tabella1[[#This Row],[Indicatore]]","v":" "},null,null,null,null,null,{"$f":"IF(Tabella11[[ Nuovo Elenco analitico delle attività da realizzare]]=\"\",\"\",CONCATENATE(\"VAR\",\".\",Tabella11[[ Nuovo Elenco analitico delle attività da realizzare]],\".\",ROW(C35)))","v":""}]
[null,null,36,{"$f":"IF('Dettaglio delle attività'!C47=\"\",\" \",'Dettaglio delle attività'!C47)","v":" "},{"$f":"IF('Dettaglio delle attività'!D47=\"\",\" \",'Dettaglio delle attività'!D47)","v":" "},{"$f":"IF('Dettaglio delle attività'!E47=\"\",\" \",'Dettaglio delle attività'!E47)","v":" "},{"$f":"Tabella1[[#This Row],[Indicatore]]","v":" "},null,null,null,null,null,{"$f":"IF(Tabella11[[ Nuovo Elenco analitico delle attività da realizzare]]=\"\",\"\",CONCATENATE(\"VAR\",\".\",Tabella11[[ Nuovo Elenco analitico delle attività da realizzare]],\".\",ROW(C36)))","v":""}]
[null,null,37,{"$f":"IF('Dettaglio delle attività'!C48=\"\",\" \",'Dettaglio delle attività'!C48)","v":" "},{"$f":"IF('Dettaglio delle attività'!D48=\"\",\" \",'Dettaglio delle attività'!D48)","v":" "},{"$f":"IF('Dettaglio delle attività'!E48=\"\",\" \",'Dettaglio delle attività'!E48)","v":" "},{"$f":"Tabella1[[#This Row],[Indicatore]]","v":" "},null,null,null,null,null,{"$f":"IF(Tabella11[[ Nuovo Elenco analitico delle attività da realizzare]]=\"\",\"\",CONCATENATE(\"VAR\",\".\",Tabella11[[ Nuovo Elenco analitico delle attività da realizzare]],\".\",ROW(C37)))","v":""}]
[null,null,38,{"$f":"IF('Dettaglio delle attività'!C49=\"\",\" \",'Dettaglio delle attività'!C49)","v":" "},{"$f":"IF('Dettaglio delle attività'!D49=\"\",\" \",'Dettaglio delle attività'!D49)","v":" "},{"$f":"IF('Dettaglio delle attività'!E49=\"\",\" \",'Dettaglio delle attività'!E49)","v":" "},{"$f":"Tabella1[[#This Row],[Indicatore]]","v":" "},null,null,null,null,null,{"$f":"IF(Tabella11[[ Nuovo Elenco analitico delle attività da realizzare]]=\"\",\"\",CONCATENATE(\"VAR\",\".\",Tabella11[[ Nuovo Elenco analitico delle attività da realizzare]],\".\",ROW(C38)))","v":""}]
[null,null,39,{"$f":"IF('Dettaglio delle attività'!C50=\"\",\" \",'Dettaglio delle attività'!C50)","v":" "},{"$f":"IF('Dettaglio delle attività'!D50=\"\",\" \",'Dettaglio delle attività'!D50)","v":" "},{"$f":"IF('Dettaglio delle attività'!E50=\"\",\" \",'Dettaglio delle attività'!E50)","v":" "},{"$f":"Tabella1[[#This Row],[Indicatore]]","v":" "},null,null,null,null,null,{"$f":"IF(Tabella11[[ Nuovo Elenco analitico delle attività da realizzare]]=\"\",\"\",CONCATENATE(\"VAR\",\".\",Tabella11[[ Nuovo Elenco analitico delle attività da realizzare]],\".\",ROW(C39)))","v":""}]
[null,null,40,{"$f":"IF('Dettaglio delle attività'!C51=\"\",\" \",'Dettaglio delle attività'!C51)","v":" "},{"$f":"IF('Dettaglio delle attività'!D51=\"\",\" \",'Dettaglio delle attività'!D51)","v":" "},{"$f":"IF('Dettaglio delle attività'!E51=\"\",\" \",'Dettaglio delle attività'!E51)","v":" "},{"$f":"Tabella1[[#This Row],[Indicatore]]","v":" "},null,null,null,null,null,{"$f":"IF(Tabella11[[ Nuovo Elenco analitico delle attività da realizzare]]=\"\",\"\",CONCATENATE(\"VAR\",\".\",Tabella11[[ Nuovo Elenco analitico delle attività da realizzare]],\".\",ROW(C40)))","v":""}]
[null,null,41,{"$f":"IF('Dettaglio delle attività'!C52=\"\",\" \",'Dettaglio delle attività'!C52)","v":" "},{"$f":"IF('Dettaglio delle attività'!D52=\"\",\" \",'Dettaglio delle attività'!D52)","v":" "},{"$f":"IF('Dettaglio delle attività'!E52=\"\",\" \",'Dettaglio delle attività'!E52)","v":" "},{"$f":"Tabella1[[#This Row],[Indicatore]]","v":" "},null,null,null,null,null,{"$f":"IF(Tabella11[[ Nuovo Elenco analitico delle attività da realizzare]]=\"\",\"\",CONCATENATE(\"VAR\",\".\",Tabella11[[ Nuovo Elenco analitico delle attività da realizzare]],\".\",ROW(C41)))","v":""}]
[null,null,42,{"$f":"IF('Dettaglio delle attività'!C53=\"\",\" \",'Dettaglio delle attività'!C53)","v":" "},{"$f":"IF('Dettaglio delle attività'!D53=\"\",\" \",'Dettaglio delle attività'!D53)","v":" "},{"$f":"IF('Dettaglio delle attività'!E53=\"\",\" \",'Dettaglio delle attività'!E53)","v":" "},{"$f":"Tabella1[[#This Row],[Indicatore]]","v":" "},null,null,null,null,null,{"$f":"IF(Tabella11[[ Nuovo Elenco analitico delle attività da realizzare]]=\"\",\"\",CONCATENATE(\"VAR\",\".\",Tabella11[[ Nuovo Elenco analitico delle attività da realizzare]],\".\",ROW(C42)))","v":""}]
[null,null,43,{"$f":"IF('Dettaglio delle attività'!C54=\"\",\" \",'Dettaglio delle attività'!C54)","v":" "},{"$f":"IF('Dettaglio delle attività'!D54=\"\",\" \",'Dettaglio delle attività'!D54)","v":" "},{"$f":"IF('Dettaglio delle attività'!E54=\"\",\" \",'Dettaglio delle attività'!E54)","v":" "},{"$f":"Tabella1[[#This Row],[Indicatore]]","v":" "},null,null,null,null,null,{"$f":"IF(Tabella11[[ Nuovo Elenco analitico delle attività da realizzare]]=\"\",\"\",CONCATENATE(\"VAR\",\".\",Tabella11[[ Nuovo Elenco analitico delle attività da realizzare]],\".\",ROW(C43)))","v":""}]
[null,null,44,{"$f":"IF('Dettaglio delle attività'!C55=\"\",\" \",'Dettaglio delle attività'!C55)","v":" "},{"$f":"IF('Dettaglio delle attività'!D55=\"\",\" \",'Dettaglio delle attività'!D55)","v":" "},{"$f":"IF('Dettaglio delle attività'!E55=\"\",\" \",'Dettaglio delle attività'!E55)","v":" "},{"$f":"Tabella1[[#This Row],[Indicatore]]","v":" "},null,null,null,null,null,{"$f":"IF(Tabella11[[ Nuovo Elenco analitico delle attività da realizzare]]=\"\",\"\",CONCATENATE(\"VAR\",\".\",Tabella11[[ Nuovo Elenco analitico delle attività da realizzare]],\".\",ROW(C44)))","v":""}]
[null,null,45,{"$f":"IF('Dettaglio delle attività'!C56=\"\",\" \",'Dettaglio delle attività'!C56)","v":" "},{"$f":"IF('Dettaglio delle attività'!D56=\"\",\" \",'Dettaglio delle attività'!D56)","v":" "},{"$f":"IF('Dettaglio delle attività'!E56=\"\",\" \",'Dettaglio delle attività'!E56)","v":" "},{"$f":"Tabella1[[#This Row],[Indicatore]]","v":" "},null,null,null,null,null,{"$f":"IF(Tabella11[[ Nuovo Elenco analitico delle attività da realizzare]]=\"\",\"\",CONCATENATE(\"VAR\",\".\",Tabella11[[ Nuovo Elenco analitico delle attività da realizzare]],\".\",ROW(C45)))","v":""}]
[null,null,46,{"$f":"IF('Dettaglio delle attività'!C57=\"\",\" \",'Dettaglio delle attività'!C57)","v":" "},{"$f":"IF('Dettaglio delle attività'!D57=\"\",\" \",'Dettaglio delle attività'!D57)","v":" "},{"$f":"IF('Dettaglio delle attività'!E57=\"\",\" \",'Dettaglio delle attività'!E57)","v":" "},{"$f":"Tabella1[[#This Row],[Indicatore]]","v":" "},null,null,null,null,null,{"$f":"IF(Tabella11[[ Nuovo Elenco analitico delle attività da realizzare]]=\"\",\"\",CONCATENATE(\"VAR\",\".\",Tabella11[[ Nuovo Elenco analitico delle attività da realizzare]],\".\",ROW(C46)))","v":""}]
[null,null,47,{"$f":"IF('Dettaglio delle attività'!C58=\"\",\" \",'Dettaglio delle attività'!C58)","v":" "},{"$f":"IF('Dettaglio delle attività'!D58=\"\",\" \",'Dettaglio delle attività'!D58)","v":" "},{"$f":"IF('Dettaglio delle attività'!E58=\"\",\" \",'Dettaglio delle attività'!E58)","v":" "},{"$f":"Tabella1[[#This Row],[Indicatore]]","v":" "},null,null,null,null,null,{"$f":"IF(Tabella11[[ Nuovo Elenco analitico delle attività da realizzare]]=\"\",\"\",CONCATENATE(\"VAR\",\".\",Tabella11[[ Nuovo Elenco analitico delle attività da realizzare]],\".\",ROW(C47)))","v":""}]
[null,null,48,{"$f":"IF('Dettaglio delle attività'!C59=\"\",\" \",'Dettaglio delle attività'!C59)","v":" "},{"$f":"IF('Dettaglio delle attività'!D59=\"\",\" \",'Dettaglio delle attività'!D59)","v":" "},{"$f":"IF('Dettaglio delle attività'!E59=\"\",\" \",'Dettaglio delle attività'!E59)","v":" "},{"$f":"Tabella1[[#This Row],[Indicatore]]","v":" "},null,null,null,null,null,{"$f":"IF(Tabella11[[ Nuovo Elenco analitico delle attività da realizzare]]=\"\",\"\",CONCATENATE(\"VAR\",\".\",Tabella11[[ Nuovo Elenco analitico delle attività da realizzare]],\".\",ROW(C48)))","v":""}]
[null,null,49,{"$f":"IF('Dettaglio delle attività'!C60=\"\",\" \",'Dettaglio delle attività'!C60)","v":" "},{"$f":"IF('Dettaglio delle attività'!D60=\"\",\" \",'Dettaglio delle attività'!D60)","v":" "},{"$f":"IF('Dettaglio delle attività'!E60=\"\",\" \",'Dettaglio delle attività'!E60)","v":" "},{"$f":"Tabella1[[#This Row],[Indicatore]]","v":" "},null,null,null,null,null,{"$f":"IF(Tabella11[[ Nuovo Elenco analitico delle attività da realizzare]]=\"\",\"\",CONCATENATE(\"VAR\",\".\",Tabella11[[ Nuovo Elenco analitico delle attività da realizzare]],\".\",ROW(C49)))","v":""}]
[null,null,50,{"$f":"IF('Dettaglio delle attività'!C61=\"\",\" \",'Dettaglio delle attività'!C61)","v":" "},{"$f":"IF('Dettaglio delle attività'!D61=\"\",\" \",'Dettaglio delle attività'!D61)","v":" "},{"$f":"IF('Dettaglio delle attività'!E61=\"\",\" \",'Dettaglio delle attività'!E61)","v":" "},{"$f":"Tabella1[[#This Row],[Indicatore]]","v":" "},null,null,null,null,null,{"$f":"IF(Tabella11[[ Nuovo Elenco analitico delle attività da realizzare]]=\"\",\"\",CONCATENATE(\"VAR\",\".\",Tabella11[[ Nuovo Elenco analitico delle attività da realizzare]],\".\",ROW(C50)))","v":""}]
[null,null,51,{"$f":"IF('Dettaglio delle attività'!C62=\"\",\" \",'Dettaglio delle attività'!C62)","v":" "},{"$f":"IF('Dettaglio delle attività'!D62=\"\",\" \",'Dettaglio delle attività'!D62)","v":" "},{"$f":"IF('Dettaglio delle attività'!E62=\"\",\" \",'Dettaglio delle attività'!E62)","v":" "},{"$f":"Tabella1[[#This Row],[Indicatore]]","v":" "},null,null,null,null,null,{"$f":"IF(Tabella11[[ Nuovo Elenco analitico delle attività da realizzare]]=\"\",\"\",CONCATENATE(\"VAR\",\".\",Tabella11[[ Nuovo Elenco analitico delle attività da realizzare]],\".\",ROW(C51)))","v":""}]
[null,null,52,{"$f":"IF('Dettaglio delle attività'!C63=\"\",\" \",'Dettaglio delle attività'!C63)","v":" "},{"$f":"IF('Dettaglio delle attività'!D63=\"\",\" \",'Dettaglio delle attività'!D63)","v":" "},{"$f":"IF('Dettaglio delle attività'!E63=\"\",\" \",'Dettaglio delle attività'!E63)","v":" "},{"$f":"Tabella1[[#This Row],[Indicatore]]","v":" "},null,null,null,null,null,{"$f":"IF(Tabella11[[ Nuovo Elenco analitico delle attività da realizzare]]=\"\",\"\",CONCATENATE(\"VAR\",\".\",Tabella11[[ Nuovo Elenco analitico delle attività da realizzare]],\".\",ROW(C52)))","v":""}]
[null,null,53,{"$f":"IF('Dettaglio delle attività'!C64=\"\",\" \",'Dettaglio delle attività'!C64)","v":" "},{"$f":"IF('Dettaglio delle attività'!D64=\"\",\" \",'Dettaglio delle attività'!D64)","v":" "},{"$f":"IF('Dettaglio delle attività'!E64=\"\",\" \",'Dettaglio delle attività'!E64)","v":" "},{"$f":"Tabella1[[#This Row],[Indicatore]]","v":" "},null,null,null,null,null,{"$f":"IF(Tabella11[[ Nuovo Elenco analitico delle attività da realizzare]]=\"\",\"\",CONCATENATE(\"VAR\",\".\",Tabella11[[ Nuovo Elenco analitico delle attività da realizzare]],\".\",ROW(C53)))","v":""}]
[null,null,54,{"$f":"IF('Dettaglio delle attività'!C65=\"\",\" \",'Dettaglio delle attività'!C65)","v":" "},{"$f":"IF('Dettaglio delle attività'!D65=\"\",\" \",'Dettaglio delle attività'!D65)","v":" "},{"$f":"IF('Dettaglio delle attività'!E65=\"\",\" \",'Dettaglio delle attività'!E65)","v":" "},{"$f":"Tabella1[[#This Row],[Indicatore]]","v":" "},null,null,null,null,null,{"$f":"IF(Tabella11[[ Nuovo Elenco analitico delle attività da realizzare]]=\"\",\"\",CONCATENATE(\"VAR\",\".\",Tabella11[[ Nuovo Elenco analitico delle attività da realizzare]],\".\",ROW(C54)))","v":""}]
[null,null,55,{"$f":"IF('Dettaglio delle attività'!C66=\"\",\" \",'Dettaglio delle attività'!C66)","v":" "},{"$f":"IF('Dettaglio delle attività'!D66=\"\",\" \",'Dettaglio delle attività'!D66)","v":" "},{"$f":"IF('Dettaglio delle attività'!E66=\"\",\" \",'Dettaglio delle attività'!E66)","v":" "},{"$f":"Tabella1[[#This Row],[Indicatore]]","v":" "},null,null,null,null,null,{"$f":"IF(Tabella11[[ Nuovo Elenco analitico delle attività da realizzare]]=\"\",\"\",CONCATENATE(\"VAR\",\".\",Tabella11[[ Nuovo Elenco analitico delle attività da realizzare]],\".\",ROW(C55)))","v":""}]
[null,null,56,{"$f":"IF('Dettaglio delle attività'!C67=\"\",\" \",'Dettaglio delle attività'!C67)","v":" "},{"$f":"IF('Dettaglio delle attività'!D67=\"\",\" \",'Dettaglio delle attività'!D67)","v":" "},{"$f":"IF('Dettaglio delle attività'!E67=\"\",\" \",'Dettaglio delle attività'!E67)","v":" "},{"$f":"Tabella1[[#This Row],[Indicatore]]","v":" "},null,null,null,null,null,{"$f":"IF(Tabella11[[ Nuovo Elenco analitico delle attività da realizzare]]=\"\",\"\",CONCATENATE(\"VAR\",\".\",Tabella11[[ Nuovo Elenco analitico delle attività da realizzare]],\".\",ROW(C56)))","v":""}]
[null,null,57,{"$f":"IF('Dettaglio delle attività'!C68=\"\",\" \",'Dettaglio delle attività'!C68)","v":" "},{"$f":"IF('Dettaglio delle attività'!D68=\"\",\" \",'Dettaglio delle attività'!D68)","v":" "},{"$f":"IF('Dettaglio delle attività'!E68=\"\",\" \",'Dettaglio delle attività'!E68)","v":" "},{"$f":"Tabella1[[#This Row],[Indicatore]]","v":" "},null,null,null,null,null,{"$f":"IF(Tabella11[[ Nuovo Elenco analitico delle attività da realizzare]]=\"\",\"\",CONCATENATE(\"VAR\",\".\",Tabella11[[ Nuovo Elenco analitico delle attività da realizzare]],\".\",ROW(C57)))","v":""}]
[null,null,58,{"$f":"IF('Dettaglio delle attività'!C69=\"\",\" \",'Dettaglio delle attività'!C69)","v":" "},{"$f":"IF('Dettaglio delle attività'!D69=\"\",\" \",'Dettaglio delle attività'!D69)","v":" "},{"$f":"IF('Dettaglio delle attività'!E69=\"\",\" \",'Dettaglio delle attività'!E69)","v":" "},{"$f":"Tabella1[[#This Row],[Indicatore]]","v":" "},null,null,null,null,null,{"$f":"IF(Tabella11[[ Nuovo Elenco analitico delle attività da realizzare]]=\"\",\"\",CONCATENATE(\"VAR\",\".\",Tabella11[[ Nuovo Elenco analitico delle attività da realizzare]],\".\",ROW(C58)))","v":""}]
[null,null,59,{"$f":"IF('Dettaglio delle attività'!C70=\"\",\" \",'Dettaglio delle attività'!C70)","v":" "},{"$f":"IF('Dettaglio delle attività'!D70=\"\",\" \",'Dettaglio delle attività'!D70)","v":" "},{"$f":"IF('Dettaglio delle attività'!E70=\"\",\" \",'Dettaglio delle attività'!E70)","v":" "},{"$f":"Tabella1[[#This Row],[Indicatore]]","v":" "},null,null,null,null,null,{"$f":"IF(Tabella11[[ Nuovo Elenco analitico delle attività da realizzare]]=\"\",\"\",CONCATENATE(\"VAR\",\".\",Tabella11[[ Nuovo Elenco analitico delle attività da realizzare]],\".\",ROW(C59)))","v":""}]
[null,null,60,{"$f":"IF('Dettaglio delle attività'!C71=\"\",\" \",'Dettaglio delle attività'!C71)","v":" "},{"$f":"IF('Dettaglio delle attività'!D71=\"\",\" \",'Dettaglio delle attività'!D71)","v":" "},{"$f":"IF('Dettaglio delle attività'!E71=\"\",\" \",'Dettaglio delle attività'!E71)","v":" "},{"$f":"Tabella1[[#This Row],[Indicatore]]","v":" "},null,null,null,null,null,{"$f":"IF(Tabella11[[ Nuovo Elenco analitico delle attività da realizzare]]=\"\",\"\",CONCATENATE(\"VAR\",\".\",Tabella11[[ Nuovo Elenco analitico delle attività da realizzare]],\".\",ROW(C60)))","v":""}]
[null,null,61,{"$f":"IF('Dettaglio delle attività'!C72=\"\",\" \",'Dettaglio delle attività'!C72)","v":" "},{"$f":"IF('Dettaglio delle attività'!D72=\"\",\" \",'Dettaglio delle attività'!D72)","v":" "},{"$f":"IF('Dettaglio delle attività'!E72=\"\",\" \",'Dettaglio delle attività'!E72)","v":" "},{"$f":"Tabella1[[#This Row],[Indicatore]]","v":" "},null,null,null,null,null,{"$f":"IF(Tabella11[[ Nuovo Elenco analitico delle attività da realizzare]]=\"\",\"\",CONCATENATE(\"VAR\",\".\",Tabella11[[ Nuovo Elenco analitico delle attività da realizzare]],\".\",ROW(C61)))","v":""}]
[null,null,62,{"$f":"IF('Dettaglio delle attività'!C73=\"\",\" \",'Dettaglio delle attività'!C73)","v":" "},{"$f":"IF('Dettaglio delle attività'!D73=\"\",\" \",'Dettaglio delle attività'!D73)","v":" "},{"$f":"IF('Dettaglio delle attività'!E73=\"\",\" \",'Dettaglio delle attività'!E73)","v":" "},{"$f":"Tabella1[[#This Row],[Indicatore]]","v":" "},null,null,null,null,null,{"$f":"IF(Tabella11[[ Nuovo Elenco analitico delle attività da realizzare]]=\"\",\"\",CONCATENATE(\"VAR\",\".\",Tabella11[[ Nuovo Elenco analitico delle attività da realizzare]],\".\",ROW(C62)))","v":""}]
[null,null,63,{"$f":"IF('Dettaglio delle attività'!C74=\"\",\" \",'Dettaglio delle attività'!C74)","v":" "},{"$f":"IF('Dettaglio delle attività'!D74=\"\",\" \",'Dettaglio delle attività'!D74)","v":" "},{"$f":"IF('Dettaglio delle attività'!E74=\"\",\" \",'Dettaglio delle attività'!E74)","v":" "},{"$f":"Tabella1[[#This Row],[Indicatore]]","v":" "},null,null,null,null,null,{"$f":"IF(Tabella11[[ Nuovo Elenco analitico delle attività da realizzare]]=\"\",\"\",CONCATENATE(\"VAR\",\".\",Tabella11[[ Nuovo Elenco analitico delle attività da realizzare]],\".\",ROW(C63)))","v":""}]
[null,null,64,{"$f":"IF('Dettaglio delle attività'!C75=\"\",\" \",'Dettaglio delle attività'!C75)","v":" "},{"$f":"IF('Dettaglio delle attività'!D75=\"\",\" \",'Dettaglio delle attività'!D75)","v":" "},{"$f":"IF('Dettaglio delle attività'!E75=\"\",\" \",'Dettaglio delle attività'!E75)","v":" "},{"$f":"Tabella1[[#This Row],[Indicatore]]","v":" "},null,null,null,null,null,{"$f":"IF(Tabella11[[ Nuovo Elenco analitico delle attività da realizzare]]=\"\",\"\",CONCATENATE(\"VAR\",\".\",Tabella11[[ Nuovo Elenco analitico delle attività da realizzare]],\".\",ROW(C64)))","v":""}]
[null,null,{"$f":"ROW(A65)","v":65},{"$f":"IF('Dettaglio delle attività'!C76=\"\",\" \",'Dettaglio delle attività'!C76)","v":" "},{"$f":"IF('Dettaglio delle attività'!D76=\"\",\" \",'Dettaglio delle attività'!D76)","v":" "},{"$f":"IF('Dettaglio delle attività'!E76=\"\",\" \",'Dettaglio delle attività'!E76)","v":" "},{"$f":"Tabella1[[#This Row],[Indicatore]]","v":" "},null,null,null,null,null,{"$f":"IF(Tabella11[[ Nuovo Elenco analitico delle attività da realizzare]]=\"\",\"\",CONCATENATE(\"VAR\",\".\",Tabella11[[ Nuovo Elenco analitico delle attività da realizzare]],\".\",ROW(C65)))","v":""}]
[null,null,66,{"$f":"IF('Dettaglio delle attività'!C77=\"\",\" \",'Dettaglio delle attività'!C77)","v":" "},{"$f":"IF('Dettaglio delle attività'!D77=\"\",\" \",'Dettaglio delle attività'!D77)","v":" "},{"$f":"IF('Dettaglio delle attività'!E77=\"\",\" \",'Dettaglio delle attività'!E77)","v":" "},{"$f":"Tabella1[[#This Row],[Indicatore]]","v":" "},null,null,null,null,null,{"$f":"IF(Tabella11[[ Nuovo Elenco analitico delle attività da realizzare]]=\"\",\"\",CONCATENATE(\"VAR\",\".\",Tabella11[[ Nuovo Elenco analitico delle attività da realizzare]],\".\",ROW(C66)))","v":""}]
[null,null,67,{"$f":"IF('Dettaglio delle attività'!C78=\"\",\" \",'Dettaglio delle attività'!C78)","v":" "},{"$f":"IF('Dettaglio delle attività'!D78=\"\",\" \",'Dettaglio delle attività'!D78)","v":" "},{"$f":"IF('Dettaglio delle attività'!E78=\"\",\" \",'Dettaglio delle attività'!E78)","v":" "},{"$f":"Tabella1[[#This Row],[Indicatore]]","v":" "},null,null,null,null,null,{"$f":"IF(Tabella11[[ Nuovo Elenco analitico delle attività da realizzare]]=\"\",\"\",CONCATENATE(\"VAR\",\".\",Tabella11[[ Nuovo Elenco analitico delle attività da realizzare]],\".\",ROW(C67)))","v":""}]
[null,null,68,{"$f":"IF('Dettaglio delle attività'!C79=\"\",\" \",'Dettaglio delle attività'!C79)","v":" "},{"$f":"IF('Dettaglio delle attività'!D79=\"\",\" \",'Dettaglio delle attività'!D79)","v":" "},{"$f":"IF('Dettaglio delle attività'!E79=\"\",\" \",'Dettaglio delle attività'!E79)","v":" "},{"$f":"Tabella1[[#This Row],[Indicatore]]","v":" "},null,null,null,null,null,{"$f":"IF(Tabella11[[ Nuovo Elenco analitico delle attività da realizzare]]=\"\",\"\",CONCATENATE(\"VAR\",\".\",Tabella11[[ Nuovo Elenco analitico delle attività da realizzare]],\".\",ROW(C68)))","v":""}]
[null,null,69,{"$f":"IF('Dettaglio delle attività'!C80=\"\",\" \",'Dettaglio delle attività'!C80)","v":" "},{"$f":"IF('Dettaglio delle attività'!D80=\"\",\" \",'Dettaglio delle attività'!D80)","v":" "},{"$f":"IF('Dettaglio delle attività'!E80=\"\",\" \",'Dettaglio delle attività'!E80)","v":" "},{"$f":"Tabella1[[#This Row],[Indicatore]]","v":" "},null,null,null,null,null,{"$f":"IF(Tabella11[[ Nuovo Elenco analitico delle attività da realizzare]]=\"\",\"\",CONCATENATE(\"VAR\",\".\",Tabella11[[ Nuovo Elenco analitico delle attività da realizzare]],\".\",ROW(C69)))","v":""}]
[null,null,70,{"$f":"IF('Dettaglio delle attività'!C81=\"\",\" \",'Dettaglio delle attività'!C81)","v":" "},{"$f":"IF('Dettaglio delle attività'!D81=\"\",\" \",'Dettaglio delle attività'!D81)","v":" "},{"$f":"IF('Dettaglio delle attività'!E81=\"\",\" \",'Dettaglio delle attività'!E81)","v":" "},{"$f":"Tabella1[[#This Row],[Indicatore]]","v":" "},null,null,null,null,null,{"$f":"IF(Tabella11[[ Nuovo Elenco analitico delle attività da realizzare]]=\"\",\"\",CONCATENATE(\"VAR\",\".\",Tabella11[[ Nuovo Elenco analitico delle attività da realizzare]],\".\",ROW(C70)))","v":""}]
[null,null,71,{"$f":"IF('Dettaglio delle attività'!C82=\"\",\" \",'Dettaglio delle attività'!C82)","v":" "},{"$f":"IF('Dettaglio delle attività'!D82=\"\",\" \",'Dettaglio delle attività'!D82)","v":" "},{"$f":"IF('Dettaglio delle attività'!E82=\"\",\" \",'Dettaglio delle attività'!E82)","v":" "},{"$f":"Tabella1[[#This Row],[Indicatore]]","v":" "},null,null,null,null,null,{"$f":"IF(Tabella11[[ Nuovo Elenco analitico delle attività da realizzare]]=\"\",\"\",CONCATENATE(\"VAR\",\".\",Tabella11[[ Nuovo Elenco analitico delle attività da realizzare]],\".\",ROW(C71)))","v":""}]
[null,null,72,{"$f":"IF('Dettaglio delle attività'!C83=\"\",\" \",'Dettaglio delle attività'!C83)","v":" "},{"$f":"IF('Dettaglio delle attività'!D83=\"\",\" \",'Dettaglio delle attività'!D83)","v":" "},{"$f":"IF('Dettaglio delle attività'!E83=\"\",\" \",'Dettaglio delle attività'!E83)","v":" "},{"$f":"Tabella1[[#This Row],[Indicatore]]","v":" "},null,null,null,null,null,{"$f":"IF(Tabella11[[ Nuovo Elenco analitico delle attività da realizzare]]=\"\",\"\",CONCATENATE(\"VAR\",\".\",Tabella11[[ Nuovo Elenco analitico delle attività da realizzare]],\".\",ROW(C72)))","v":""}]
[null,null,73,{"$f":"IF('Dettaglio delle attività'!C84=\"\",\" \",'Dettaglio delle attività'!C84)","v":" "},{"$f":"IF('Dettaglio delle attività'!D84=\"\",\" \",'Dettaglio delle attività'!D84)","v":" "},{"$f":"IF('Dettaglio delle attività'!E84=\"\",\" \",'Dettaglio delle attività'!E84)","v":" "},{"$f":"Tabella1[[#This Row],[Indicatore]]","v":" "},null,null,null,null,null,{"$f":"IF(Tabella11[[ Nuovo Elenco analitico delle attività da realizzare]]=\"\",\"\",CONCATENATE(\"VAR\",\".\",Tabella11[[ Nuovo Elenco analitico delle attività da realizzare]],\".\",ROW(C73)))","v":""}]
[null,null,74,{"$f":"IF('Dettaglio delle attività'!C85=\"\",\" \",'Dettaglio delle attività'!C85)","v":" "},{"$f":"IF('Dettaglio delle attività'!D85=\"\",\" \",'Dettaglio delle attività'!D85)","v":" "},{"$f":"IF('Dettaglio delle attività'!E85=\"\",\" \",'Dettaglio delle attività'!E85)","v":" "},{"$f":"Tabella1[[#This Row],[Indicatore]]","v":" "},null,null,null,null,null,{"$f":"IF(Tabella11[[ Nuovo Elenco analitico delle attività da realizzare]]=\"\",\"\",CONCATENATE(\"VAR\",\".\",Tabella11[[ Nuovo Elenco analitico delle attività da realizzare]],\".\",ROW(C74)))","v":""}]
[null,null,75,{"$f":"IF('Dettaglio delle attività'!C86=\"\",\" \",'Dettaglio delle attività'!C86)","v":" "},{"$f":"IF('Dettaglio delle attività'!D86=\"\",\" \",'Dettaglio delle attività'!D86)","v":" "},{"$f":"IF('Dettaglio delle attività'!E86=\"\",\" \",'Dettaglio delle attività'!E86)","v":" "},{"$f":"Tabella1[[#This Row],[Indicatore]]","v":" "},null,null,null,null,null,{"$f":"IF(Tabella11[[ Nuovo Elenco analitico delle attività da realizzare]]=\"\",\"\",CONCATENATE(\"VAR\",\".\",Tabella11[[ Nuovo Elenco analitico delle attività da realizzare]],\".\",ROW(C75)))","v":""}]
[null,null,76,{"$f":"IF('Dettaglio delle attività'!C87=\"\",\" \",'Dettaglio delle attività'!C87)","v":" "},{"$f":"IF('Dettaglio delle attività'!D85=\"\",\" \",'Dettaglio delle attività'!D85)","v":" "},{"$f":"IF('Dettaglio delle attività'!E87=\"\",\" \",'Dettaglio delle attività'!E87)","v":" "},{"$f":"Tabella1[[#This Row],[Indicatore]]","v":" "},null,null,null,null,null,{"$f":"IF(Tabella11[[ Nuovo Elenco analitico delle attività da realizzare]]=\"\",\"\",CONCATENATE(\"VAR\",\".\",Tabella11[[ Nuovo Elenco analitico delle attività da realizzare]],\".\",ROW(C76)))","v":""}]
[null,null,77,{"$f":"IF('Dettaglio delle attività'!C88=\"\",\" \",'Dettaglio delle attività'!C88)","v":" "},{"$f":"IF('Dettaglio delle attività'!D86=\"\",\" \",'Dettaglio delle attività'!D86)","v":" "},{"$f":"IF('Dettaglio delle attività'!E88=\"\",\" \",'Dettaglio delle attività'!E88)","v":" "},{"$f":"Tabella1[[#This Row],[Indicatore]]","v":" "},null,null,null,null,null,{"$f":"IF(Tabella11[[ Nuovo Elenco analitico delle attività da realizzare]]=\"\",\"\",CONCATENATE(\"VAR\",\".\",Tabella11[[ Nuovo Elenco analitico delle attività da realizzare]],\".\",ROW(C77)))","v":""}]
[null,null,78,{"$f":"IF('Dettaglio delle attività'!C89=\"\",\" \",'Dettaglio delle attività'!C89)","v":" "},{"$f":"IF('Dettaglio delle attività'!D87=\"\",\" \",'Dettaglio delle attività'!D87)","v":" "},{"$f":"IF('Dettaglio delle attività'!E89=\"\",\" \",'Dettaglio delle attività'!E89)","v":" "},{"$f":"Tabella1[[#This Row],[Indicatore]]","v":" "},null,null,null,null,null,{"$f":"IF(Tabella11[[ Nuovo Elenco analitico delle attività da realizzare]]=\"\",\"\",CONCATENATE(\"VAR\",\".\",Tabella11[[ Nuovo Elenco analitico delle attività da realizzare]],\".\",ROW(C78)))","v":""}]
[null,null,79,{"$f":"IF('Dettaglio delle attività'!C90=\"\",\" \",'Dettaglio delle attività'!C90)","v":" "},{"$f":"IF('Dettaglio delle attività'!D88=\"\",\" \",'Dettaglio delle attività'!D88)","v":" "},{"$f":"IF('Dettaglio delle attività'!E90=\"\",\" \",'Dettaglio delle attività'!E90)","v":" "},{"$f":"Tabella1[[#This Row],[Indicatore]]","v":" "},null,null,null,null,null,{"$f":"IF(Tabella11[[ Nuovo Elenco analitico delle attività da realizzare]]=\"\",\"\",CONCATENATE(\"VAR\",\".\",Tabella11[[ Nuovo Elenco analitico delle attività da realizzare]],\".\",ROW(C79)))","v":""}]
[null,null,80,{"$f":"IF('Dettaglio delle attività'!C91=\"\",\" \",'Dettaglio delle attività'!C91)","v":" "},{"$f":"IF('Dettaglio delle attività'!D89=\"\",\" \",'Dettaglio delle attività'!D89)","v":" "},{"$f":"IF('Dettaglio delle attività'!E91=\"\",\" \",'Dettaglio delle attività'!E91)","v":" "},{"$f":"Tabella1[[#This Row],[Indicatore]]","v":" "},null,null,null,null,null,{"$f":"IF(Tabella11[[ Nuovo Elenco analitico delle attività da realizzare]]=\"\",\"\",CONCATENATE(\"VAR\",\".\",Tabella11[[ Nuovo Elenco analitico delle attività da realizzare]],\".\",ROW(C80)))","v":""}]
[null,null,81,{"$f":"IF('Dettaglio delle attività'!C92=\"\",\" \",'Dettaglio delle attività'!C92)","v":" "},{"$f":"IF('Dettaglio delle attività'!D90=\"\",\" \",'Dettaglio delle attività'!D90)","v":" "},{"$f":"IF('Dettaglio delle attività'!E92=\"\",\" \",'Dettaglio delle attività'!E92)","v":" "},{"$f":"Tabella1[[#This Row],[Indicatore]]","v":" "},null,null,null,null,null,{"$f":"IF(Tabella11[[ Nuovo Elenco analitico delle attività da realizzare]]=\"\",\"\",CONCATENATE(\"VAR\",\".\",Tabella11[[ Nuovo Elenco analitico delle attività da realizzare]],\".\",ROW(C81)))","v":""}]
[null,null,82,{"$f":"IF('Dettaglio delle attività'!C93=\"\",\" \",'Dettaglio delle attività'!C93)","v":" "},{"$f":"IF('Dettaglio delle attività'!D91=\"\",\" \",'Dettaglio delle attività'!D91)","v":" "},{"$f":"IF('Dettaglio delle attività'!E93=\"\",\" \",'Dettaglio delle attività'!E93)","v":" "},{"$f":"Tabella1[[#This Row],[Indicatore]]","v":" "},null,null,null,null,null,{"$f":"IF(Tabella11[[ Nuovo Elenco analitico delle attività da realizzare]]=\"\",\"\",CONCATENATE(\"VAR\",\".\",Tabella11[[ Nuovo Elenco analitico delle attività da realizzare]],\".\",ROW(C82)))","v":""}]
[null,null,83,{"$f":"IF('Dettaglio delle attività'!C94=\"\",\" \",'Dettaglio delle attività'!C94)","v":" "},{"$f":"IF('Dettaglio delle attività'!D92=\"\",\" \",'Dettaglio delle attività'!D92)","v":" "},{"$f":"IF('Dettaglio delle attività'!E94=\"\",\" \",'Dettaglio delle attività'!E94)","v":" "},{"$f":"Tabella1[[#This Row],[Indicatore]]","v":" "},null,null,null,null,null,{"$f":"IF(Tabella11[[ Nuovo Elenco analitico delle attività da realizzare]]=\"\",\"\",CONCATENATE(\"VAR\",\".\",Tabella11[[ Nuovo Elenco analitico delle attività da realizzare]],\".\",ROW(C83)))","v":""}]
[null,null,84,{"$f":"IF('Dettaglio delle attività'!C95=\"\",\" \",'Dettaglio delle attività'!C95)","v":" "},{"$f":"IF('Dettaglio delle attività'!D93=\"\",\" \",'Dettaglio delle attività'!D93)","v":" "},{"$f":"IF('Dettaglio delle attività'!E95=\"\",\" \",'Dettaglio delle attività'!E95)","v":" "},{"$f":"Tabella1[[#This Row],[Indicatore]]","v":" "},null,null,null,null,null,{"$f":"IF(Tabella11[[ Nuovo Elenco analitico delle attività da realizzare]]=\"\",\"\",CONCATENATE(\"VAR\",\".\",Tabella11[[ Nuovo Elenco analitico delle attività da realizzare]],\".\",ROW(C84)))","v":""}]
[null,null,85,{"$f":"IF('Dettaglio delle attività'!C96=\"\",\" \",'Dettaglio delle attività'!C96)","v":" "},{"$f":"IF('Dettaglio delle attività'!D94=\"\",\" \",'Dettaglio delle attività'!D94)","v":" "},{"$f":"IF('Dettaglio delle attività'!E96=\"\",\" \",'Dettaglio delle attività'!E96)","v":" "},{"$f":"Tabella1[[#This Row],[Indicatore]]","v":" "},null,null,null,null,null,{"$f":"IF(Tabella11[[ Nuovo Elenco analitico delle attività da realizzare]]=\"\",\"\",CONCATENATE(\"VAR\",\".\",Tabella11[[ Nuovo Elenco analitico delle attività da realizzare]],\".\",ROW(C85)))","v":""}]
[null,null,86,{"$f":"IF('Dettaglio delle attività'!C97=\"\",\" \",'Dettaglio delle attività'!C97)","v":" "},{"$f":"IF('Dettaglio delle attività'!D95=\"\",\" \",'Dettaglio delle attività'!D95)","v":" "},{"$f":"IF('Dettaglio delle attività'!E97=\"\",\" \",'Dettaglio delle attività'!E97)","v":" "},{"$f":"Tabella1[[#This Row],[Indicatore]]","v":" "},null,null,null,null,null,{"$f":"IF(Tabella11[[ Nuovo Elenco analitico delle attività da realizzare]]=\"\",\"\",CONCATENATE(\"VAR\",\".\",Tabella11[[ Nuovo Elenco analitico delle attività da realizzare]],\".\",ROW(C86)))","v":""}]
[null,null,87,{"$f":"IF('Dettaglio delle attività'!C98=\"\",\" \",'Dettaglio delle attività'!C98)","v":" "},{"$f":"IF('Dettaglio delle attività'!D96=\"\",\" \",'Dettaglio delle attività'!D96)","v":" "},{"$f":"IF('Dettaglio delle attività'!E98=\"\",\" \",'Dettaglio delle attività'!E98)","v":" "},{"$f":"Tabella1[[#This Row],[Indicatore]]","v":" "},null,null,null,null,null,{"$f":"IF(Tabella11[[ Nuovo Elenco analitico delle attività da realizzare]]=\"\",\"\",CONCATENATE(\"VAR\",\".\",Tabella11[[ Nuovo Elenco analitico delle attività da realizzare]],\".\",ROW(C87)))","v":""}]
[null,null,88,{"$f":"IF('Dettaglio delle attività'!C99=\"\",\" \",'Dettaglio delle attività'!C99)","v":" "},{"$f":"IF('Dettaglio delle attività'!D97=\"\",\" \",'Dettaglio delle attività'!D97)","v":" "},{"$f":"IF('Dettaglio delle attività'!E99=\"\",\" \",'Dettaglio delle attività'!E99)","v":" "},{"$f":"Tabella1[[#This Row],[Indicatore]]","v":" "},null,null,null,null,null,{"$f":"IF(Tabella11[[ Nuovo Elenco analitico delle attività da realizzare]]=\"\",\"\",CONCATENATE(\"VAR\",\".\",Tabella11[[ Nuovo Elenco analitico delle attività da realizzare]],\".\",ROW(C88)))","v":""}]
[null,null,89,{"$f":"IF('Dettaglio delle attività'!C100=\"\",\" \",'Dettaglio delle attività'!C100)","v":" "},{"$f":"IF('Dettaglio delle attività'!D98=\"\",\" \",'Dettaglio delle attività'!D98)","v":" "},{"$f":"IF('Dettaglio delle attività'!E100=\"\",\" \",'Dettaglio delle attività'!E100)","v":" "},{"$f":"Tabella1[[#This Row],[Indicatore]]","v":" "},null,null,null,null,null,{"$f":"IF(Tabella11[[ Nuovo Elenco analitico delle attività da realizzare]]=\"\",\"\",CONCATENATE(\"VAR\",\".\",Tabella11[[ Nuovo Elenco analitico delle attività da realizzare]],\".\",ROW(C89)))","v":""}]
[null,null,90,{"$f":"IF('Dettaglio delle attività'!C101=\"\",\" \",'Dettaglio delle attività'!C101)","v":" "},{"$f":"IF('Dettaglio delle attività'!D99=\"\",\" \",'Dettaglio delle attività'!D99)","v":" "},{"$f":"IF('Dettaglio delle attività'!E101=\"\",\" \",'Dettaglio delle attività'!E101)","v":" "},{"$f":"Tabella1[[#This Row],[Indicatore]]","v":" "},null,null,null,null,null,{"$f":"IF(Tabella11[[ Nuovo Elenco analitico delle attività da realizzare]]=\"\",\"\",CONCATENATE(\"VAR\",\".\",Tabella11[[ Nuovo Elenco analitico delle attività da realizzare]],\".\",ROW(C90)))","v":""}]
[null,null,91,{"$f":"IF('Dettaglio delle attività'!C102=\"\",\" \",'Dettaglio delle attività'!C102)","v":" "},{"$f":"IF('Dettaglio delle attività'!D100=\"\",\" \",'Dettaglio delle attività'!D100)","v":" "},{"$f":"IF('Dettaglio delle attività'!E102=\"\",\" \",'Dettaglio delle attività'!E102)","v":" "},{"$f":"Tabella1[[#This Row],[Indicatore]]","v":" "},null,null,null,null,null,{"$f":"IF(Tabella11[[ Nuovo Elenco analitico delle attività da realizzare]]=\"\",\"\",CONCATENATE(\"VAR\",\".\",Tabella11[[ Nuovo Elenco analitico delle attività da realizzare]],\".\",ROW(C91)))","v":""}]
[null,null,92,{"$f":"IF('Dettaglio delle attività'!C103=\"\",\" \",'Dettaglio delle attività'!C103)","v":" "},{"$f":"IF('Dettaglio delle attività'!D101=\"\",\" \",'Dettaglio delle attività'!D101)","v":" "},{"$f":"IF('Dettaglio delle attività'!E103=\"\",\" \",'Dettaglio delle attività'!E103)","v":" "},{"$f":"Tabella1[[#This Row],[Indicatore]]","v":" "},null,null,null,null,null,{"$f":"IF(Tabella11[[ Nuovo Elenco analitico delle attività da realizzare]]=\"\",\"\",CONCATENATE(\"VAR\",\".\",Tabella11[[ Nuovo Elenco analitico delle attività da realizzare]],\".\",ROW(C92)))","v":""}]
[null,null,93,{"$f":"IF('Dettaglio delle attività'!C104=\"\",\" \",'Dettaglio delle attività'!C104)","v":" "},{"$f":"IF('Dettaglio delle attività'!D102=\"\",\" \",'Dettaglio delle attività'!D102)","v":" "},{"$f":"IF('Dettaglio delle attività'!E104=\"\",\" \",'Dettaglio delle attività'!E104)","v":" "},{"$f":"Tabella1[[#This Row],[Indicatore]]","v":" "},null,null,null,null,null,{"$f":"IF(Tabella11[[ Nuovo Elenco analitico delle attività da realizzare]]=\"\",\"\",CONCATENATE(\"VAR\",\".\",Tabella11[[ Nuovo Elenco analitico delle attività da realizzare]],\".\",ROW(C93)))","v":""}]
[null,null,94,{"$f":"IF('Dettaglio delle attività'!C105=\"\",\" \",'Dettaglio delle attività'!C105)","v":" "},{"$f":"IF('Dettaglio delle attività'!D103=\"\",\" \",'Dettaglio delle attività'!D103)","v":" "},{"$f":"IF('Dettaglio delle attività'!E105=\"\",\" \",'Dettaglio delle attività'!E105)","v":" "},{"$f":"Tabella1[[#This Row],[Indicatore]]","v":" "},null,null,null,null,null,{"$f":"IF(Tabella11[[ Nuovo Elenco analitico delle attività da realizzare]]=\"\",\"\",CONCATENATE(\"VAR\",\".\",Tabella11[[ Nuovo Elenco analitico delle attività da realizzare]],\".\",ROW(C94)))","v":""}]
[null,null,95,{"$f":"IF('Dettaglio delle attività'!C106=\"\",\" \",'Dettaglio delle attività'!C106)","v":" "},{"$f":"IF('Dettaglio delle attività'!D104=\"\",\" \",'Dettaglio delle attività'!D104)","v":" "},{"$f":"IF('Dettaglio delle attività'!E106=\"\",\" \",'Dettaglio delle attività'!E106)","v":" "},{"$f":"Tabella1[[#This Row],[Indicatore]]","v":" "},null,null,null,null,null,{"$f":"IF(Tabella11[[ Nuovo Elenco analitico delle attività da realizzare]]=\"\",\"\",CONCATENATE(\"VAR\",\".\",Tabella11[[ Nuovo Elenco analitico delle attività da realizzare]],\".\",ROW(C95)))","v":""}]
[null,null,96,{"$f":"IF('Dettaglio delle attività'!C107=\"\",\" \",'Dettaglio delle attività'!C107)","v":" "},{"$f":"IF('Dettaglio delle attività'!D105=\"\",\" \",'Dettaglio delle attività'!D105)","v":" "},{"$f":"IF('Dettaglio delle attività'!E107=\"\",\" \",'Dettaglio delle attività'!E107)","v":" "},{"$f":"Tabella1[[#This Row],[Indicatore]]","v":" "},null,null,null,null,null,{"$f":"IF(Tabella11[[ Nuovo Elenco analitico delle attività da realizzare]]=\"\",\"\",CONCATENATE(\"VAR\",\".\",Tabella11[[ Nuovo Elenco analitico delle attività da realizzare]],\".\",ROW(C96)))","v":""}]
[null,null,{"$f":"ROW(A97)","v":97},{"$f":"IF('Dettaglio delle attività'!C108=\"\",\" \",'Dettaglio delle attività'!C108)","v":" "},{"$f":"IF('Dettaglio delle attività'!D106=\"\",\" \",'Dettaglio delle attività'!D106)","v":" "},{"$f":"IF('Dettaglio delle attività'!E108=\"\",\" \",'Dettaglio delle attività'!E108)","v":" "},{"$f":"Tabella1[[#This Row],[Indicatore]]","v":" "},null,null,null,null,null,{"$f":"IF(Tabella11[[ Nuovo Elenco analitico delle attività da realizzare]]=\"\",\"\",CONCATENATE(\"VAR\",\".\",Tabella11[[ Nuovo Elenco analitico delle attività da realizzare]],\".\",ROW(C97)))","v":""}]
[null,null,98,{"$f":"IF('Dettaglio delle attività'!C109=\"\",\" \",'Dettaglio delle attività'!C109)","v":" "},{"$f":"IF('Dettaglio delle attività'!D107=\"\",\" \",'Dettaglio delle attività'!D107)","v":" "},{"$f":"IF('Dettaglio delle attività'!E109=\"\",\" \",'Dettaglio delle attività'!E109)","v":" "},{"$f":"Tabella1[[#This Row],[Indicatore]]","v":" "},null,null,null,null,null,{"$f":"IF(Tabella11[[ Nuovo Elenco analitico delle attività da realizzare]]=\"\",\"\",CONCATENATE(\"VAR\",\".\",Tabella11[[ Nuovo Elenco analitico delle attività da realizzare]],\".\",ROW(C98)))","v":""}]
[null,null,99,{"$f":"IF('Dettaglio delle attività'!C110=\"\",\" \",'Dettaglio delle attività'!C110)","v":" "},{"$f":"IF('Dettaglio delle attività'!D108=\"\",\" \",'Dettaglio delle attività'!D108)","v":" "},{"$f":"IF('Dettaglio delle attività'!E110=\"\",\" \",'Dettaglio delle attività'!E110)","v":" "},{"$f":"Tabella1[[#This Row],[Indicatore]]","v":" "},null,null,null,null,null,{"$f":"IF(Tabella11[[ Nuovo Elenco analitico delle attività da realizzare]]=\"\",\"\",CONCATENATE(\"VAR\",\".\",Tabella11[[ Nuovo Elenco analitico delle attività da realizzare]],\".\",ROW(C99)))","v":""}]
[null,null,100,{"$f":"IF('Dettaglio delle attività'!C111=\"\",\" \",'Dettaglio delle attività'!C111)","v":" "},{"$f":"IF('Dettaglio delle attività'!D109=\"\",\" \",'Dettaglio delle attività'!D109)","v":" "},{"$f":"IF('Dettaglio delle attività'!E111=\"\",\" \",'Dettaglio delle attività'!E111)","v":" "},{"$f":"Tabella1[[#This Row],[Indicatore]]","v":" "},null,null,null,null,null,{"$f":"IF(Tabella11[[ Nuovo Elenco analitico delle attività da realizzare]]=\"\",\"\",CONCATENATE(\"VAR\",\".\",Tabella11[[ Nuovo Elenco analitico delle attività da realizzare]],\".\",ROW(C100)))","v":""}]
[null,null,101,{"$f":"IF('Dettaglio delle attività'!C112=\"\",\" \",'Dettaglio delle attività'!C112)","v":" "},{"$f":"IF('Dettaglio delle attività'!D110=\"\",\" \",'Dettaglio delle attività'!D110)","v":" "},{"$f":"IF('Dettaglio delle attività'!E112=\"\",\" \",'Dettaglio delle attività'!E112)","v":" "},{"$f":"Tabella1[[#This Row],[Indicatore]]","v":" "},null,null,null,null,null,{"$f":"IF(Tabella11[[ Nuovo Elenco analitico delle attività da realizzare]]=\"\",\"\",CONCATENATE(\"VAR\",\".\",Tabella11[[ Nuovo Elenco analitico delle attività da realizzare]],\".\",ROW(C101)))","v":""}]
[null,null,102,{"$f":"IF('Dettaglio delle attività'!C113=\"\",\" \",'Dettaglio delle attività'!C113)","v":" "},{"$f":"IF('Dettaglio delle attività'!D111=\"\",\" \",'Dettaglio delle attività'!D111)","v":" "},{"$f":"IF('Dettaglio delle attività'!E113=\"\",\" \",'Dettaglio delle attività'!E113)","v":" "},{"$f":"Tabella1[[#This Row],[Indicatore]]","v":" "},null,null,null,null,null,{"$f":"IF(Tabella11[[ Nuovo Elenco analitico delle attività da realizzare]]=\"\",\"\",CONCATENATE(\"VAR\",\".\",Tabella11[[ Nuovo Elenco analitico delle attività da realizzare]],\".\",ROW(C102)))","v":""}]
[null,null,103,{"$f":"IF('Dettaglio delle attività'!C114=\"\",\" \",'Dettaglio delle attività'!C114)","v":" "},{"$f":"IF('Dettaglio delle attività'!D112=\"\",\" \",'Dettaglio delle attività'!D112)","v":" "},{"$f":"IF('Dettaglio delle attività'!E114=\"\",\" \",'Dettaglio delle attività'!E114)","v":" "},{"$f":"Tabella1[[#This Row],[Indicatore]]","v":" "},null,null,null,null,null,{"$f":"IF(Tabella11[[ Nuovo Elenco analitico delle attività da realizzare]]=\"\",\"\",CONCATENATE(\"VAR\",\".\",Tabella11[[ Nuovo Elenco analitico delle attività da realizzare]],\".\",ROW(C103)))","v":""}]
[null,null,104,{"$f":"IF('Dettaglio delle attività'!C115=\"\",\" \",'Dettaglio delle attività'!C115)","v":" "},{"$f":"IF('Dettaglio delle attività'!D113=\"\",\" \",'Dettaglio delle attività'!D113)","v":" "},{"$f":"IF('Dettaglio delle attività'!E115=\"\",\" \",'Dettaglio delle attività'!E115)","v":" "},{"$f":"Tabella1[[#This Row],[Indicatore]]","v":" "},null,null,null,null,null,{"$f":"IF(Tabella11[[ Nuovo Elenco analitico delle attività da realizzare]]=\"\",\"\",CONCATENATE(\"VAR\",\".\",Tabella11[[ Nuovo Elenco analitico delle attività da realizzare]],\".\",ROW(C104)))","v":""}]
[null,null,105,{"$f":"IF('Dettaglio delle attività'!C116=\"\",\" \",'Dettaglio delle attività'!C116)","v":" "},{"$f":"IF('Dettaglio delle attività'!D114=\"\",\" \",'Dettaglio delle attività'!D114)","v":" "},{"$f":"IF('Dettaglio delle attività'!E116=\"\",\" \",'Dettaglio delle attività'!E116)","v":" "},{"$f":"Tabella1[[#This Row],[Indicatore]]","v":" "},null,null,null,null,null,{"$f":"IF(Tabella11[[ Nuovo Elenco analitico delle attività da realizzare]]=\"\",\"\",CONCATENATE(\"VAR\",\".\",Tabella11[[ Nuovo Elenco analitico delle attività da realizzare]],\".\",ROW(C105)))","v":""}]
[null,null,106,{"$f":"IF('Dettaglio delle attività'!C117=\"\",\" \",'Dettaglio delle attività'!C117)","v":" "},{"$f":"IF('Dettaglio delle attività'!D115=\"\",\" \",'Dettaglio delle attività'!D115)","v":" "},{"$f":"IF('Dettaglio delle attività'!E117=\"\",\" \",'Dettaglio delle attività'!E117)","v":" "},{"$f":"Tabella1[[#This Row],[Indicatore]]","v":" "},null,null,null,null,null,{"$f":"IF(Tabella11[[ Nuovo Elenco analitico delle attività da realizzare]]=\"\",\"\",CONCATENATE(\"VAR\",\".\",Tabella11[[ Nuovo Elenco analitico delle attività da realizzare]],\".\",ROW(C106)))","v":""}]
[null,null,107,{"$f":"IF('Dettaglio delle attività'!C118=\"\",\" \",'Dettaglio delle attività'!C118)","v":" "},{"$f":"IF('Dettaglio delle attività'!D116=\"\",\" \",'Dettaglio delle attività'!D116)","v":" "},{"$f":"IF('Dettaglio delle attività'!E118=\"\",\" \",'Dettaglio delle attività'!E118)","v":" "},{"$f":"Tabella1[[#This Row],[Indicatore]]","v":" "},null,null,null,null,null,{"$f":"IF(Tabella11[[ Nuovo Elenco analitico delle attività da realizzare]]=\"\",\"\",CONCATENATE(\"VAR\",\".\",Tabella11[[ Nuovo Elenco analitico delle attività da realizzare]],\".\",ROW(C107)))","v":""}]
[null,null,108,{"$f":"IF('Dettaglio delle attività'!C119=\"\",\" \",'Dettaglio delle attività'!C119)","v":" "},{"$f":"IF('Dettaglio delle attività'!D117=\"\",\" \",'Dettaglio delle attività'!D117)","v":" "},{"$f":"IF('Dettaglio delle attività'!E119=\"\",\" \",'Dettaglio delle attività'!E119)","v":" "},{"$f":"Tabella1[[#This Row],[Indicatore]]","v":" "},null,null,null,null,null,{"$f":"IF(Tabella11[[ Nuovo Elenco analitico delle attività da realizzare]]=\"\",\"\",CONCATENATE(\"VAR\",\".\",Tabella11[[ Nuovo Elenco analitico delle attività da realizzare]],\".\",ROW(C108)))","v":""}]
[null,null,109,{"$f":"IF('Dettaglio delle attività'!C120=\"\",\" \",'Dettaglio delle attività'!C120)","v":" "},{"$f":"IF('Dettaglio delle attività'!D118=\"\",\" \",'Dettaglio delle attività'!D118)","v":" "},{"$f":"IF('Dettaglio delle attività'!E120=\"\",\" \",'Dettaglio delle attività'!E120)","v":" "},{"$f":"Tabella1[[#This Row],[Indicatore]]","v":" "},null,null,null,null,null,{"$f":"IF(Tabella11[[ Nuovo Elenco analitico delle attività da realizzare]]=\"\",\"\",CONCATENATE(\"VAR\",\".\",Tabella11[[ Nuovo Elenco analitico delle attività da realizzare]],\".\",ROW(C109)))","v":""}]
[null,null,110,{"$f":"IF('Dettaglio delle attività'!C121=\"\",\" \",'Dettaglio delle attività'!C121)","v":" "},{"$f":"IF('Dettaglio delle attività'!D119=\"\",\" \",'Dettaglio delle attività'!D119)","v":" "},{"$f":"IF('Dettaglio delle attività'!E121=\"\",\" \",'Dettaglio delle attività'!E121)","v":" "},{"$f":"Tabella1[[#This Row],[Indicatore]]","v":" "},null,null,null,null,null,{"$f":"IF(Tabella11[[ Nuovo Elenco analitico delle attività da realizzare]]=\"\",\"\",CONCATENATE(\"VAR\",\".\",Tabella11[[ Nuovo Elenco analitico delle attività da realizzare]],\".\",ROW(C110)))","v":""}]
[null,null,111,{"$f":"IF('Dettaglio delle attività'!C122=\"\",\" \",'Dettaglio delle attività'!C122)","v":" "},{"$f":"IF('Dettaglio delle attività'!D120=\"\",\" \",'Dettaglio delle attività'!D120)","v":" "},{"$f":"IF('Dettaglio delle attività'!E122=\"\",\" \",'Dettaglio delle attività'!E122)","v":" "},{"$f":"Tabella1[[#This Row],[Indicatore]]","v":" "},null,null,null,null,null,{"$f":"IF(Tabella11[[ Nuovo Elenco analitico delle attività da realizzare]]=\"\",\"\",CONCATENATE(\"VAR\",\".\",Tabella11[[ Nuovo Elenco analitico delle attività da realizzare]],\".\",ROW(C111)))","v":""}]
[null,null,112,{"$f":"IF('Dettaglio delle attività'!C123=\"\",\" \",'Dettaglio delle attività'!C123)","v":" "},{"$f":"IF('Dettaglio delle attività'!D121=\"\",\" \",'Dettaglio delle attività'!D121)","v":" "},{"$f":"IF('Dettaglio delle attività'!E123=\"\",\" \",'Dettaglio delle attività'!E123)","v":" "},{"$f":"Tabella1[[#This Row],[Indicatore]]","v":" "},null,null,null,null,null,{"$f":"IF(Tabella11[[ Nuovo Elenco analitico delle attività da realizzare]]=\"\",\"\",CONCATENATE(\"VAR\",\".\",Tabella11[[ Nuovo Elenco analitico delle attività da realizzare]],\".\",ROW(C112)))","v":""}]
[null,null,113,{"$f":"IF('Dettaglio delle attività'!C124=\"\",\" \",'Dettaglio delle attività'!C124)","v":" "},{"$f":"IF('Dettaglio delle attività'!D122=\"\",\" \",'Dettaglio delle attività'!D122)","v":" "},{"$f":"IF('Dettaglio delle attività'!E124=\"\",\" \",'Dettaglio delle attività'!E124)","v":" "},{"$f":"Tabella1[[#This Row],[Indicatore]]","v":" "},null,null,null,null,null,{"$f":"IF(Tabella11[[ Nuovo Elenco analitico delle attività da realizzare]]=\"\",\"\",CONCATENATE(\"VAR\",\".\",Tabella11[[ Nuovo Elenco analitico delle attività da realizzare]],\".\",ROW(C113)))","v":""}]
[null,null,114,{"$f":"IF('Dettaglio delle attività'!C125=\"\",\" \",'Dettaglio delle attività'!C125)","v":" "},{"$f":"IF('Dettaglio delle attività'!D123=\"\",\" \",'Dettaglio delle attività'!D123)","v":" "},{"$f":"IF('Dettaglio delle attività'!E125=\"\",\" \",'Dettaglio delle attività'!E125)","v":" "},{"$f":"Tabella1[[#This Row],[Indicatore]]","v":" "},null,null,null,null,null,{"$f":"IF(Tabella11[[ Nuovo Elenco analitico delle attività da realizzare]]=\"\",\"\",CONCATENATE(\"VAR\",\".\",Tabella11[[ Nuovo Elenco analitico delle attività da realizzare]],\".\",ROW(C114)))","v":""}]
[null,null,115,{"$f":"IF('Dettaglio delle attività'!C126=\"\",\" \",'Dettaglio delle attività'!C126)","v":" "},{"$f":"IF('Dettaglio delle attività'!D124=\"\",\" \",'Dettaglio delle attività'!D124)","v":" "},{"$f":"IF('Dettaglio delle attività'!E126=\"\",\" \",'Dettaglio delle attività'!E126)","v":" "},{"$f":"Tabella1[[#This Row],[Indicatore]]","v":" "},null,null,null,null,null,{"$f":"IF(Tabella11[[ Nuovo Elenco analitico delle attività da realizzare]]=\"\",\"\",CONCATENATE(\"VAR\",\".\",Tabella11[[ Nuovo Elenco analitico delle attività da realizzare]],\".\",ROW(C115)))","v":""}]
[null,null,116,{"$f":"IF('Dettaglio delle attività'!C127=\"\",\" \",'Dettaglio delle attività'!C127)","v":" "},{"$f":"IF('Dettaglio delle attività'!D125=\"\",\" \",'Dettaglio delle attività'!D125)","v":" "},{"$f":"IF('Dettaglio delle attività'!E127=\"\",\" \",'Dettaglio delle attività'!E127)","v":" "},{"$f":"Tabella1[[#This Row],[Indicatore]]","v":" "},null,null,null,null,null,{"$f":"IF(Tabella11[[ Nuovo Elenco analitico delle attività da realizzare]]=\"\",\"\",CONCATENATE(\"VAR\",\".\",Tabella11[[ Nuovo Elenco analitico delle attività da realizzare]],\".\",ROW(C116)))","v":""}]
[null,null,117,{"$f":"IF('Dettaglio delle attività'!C128=\"\",\" \",'Dettaglio delle attività'!C128)","v":" "},{"$f":"IF('Dettaglio delle attività'!D126=\"\",\" \",'Dettaglio delle attività'!D126)","v":" "},{"$f":"IF('Dettaglio delle attività'!E128=\"\",\" \",'Dettaglio delle attività'!E128)","v":" "},{"$f":"Tabella1[[#This Row],[Indicatore]]","v":" "},null,null,null,null,null,{"$f":"IF(Tabella11[[ Nuovo Elenco analitico delle attività da realizzare]]=\"\",\"\",CONCATENATE(\"VAR\",\".\",Tabella11[[ Nuovo Elenco analitico delle attività da realizzare]],\".\",ROW(C117)))","v":""}]
[null,null,118,{"$f":"IF('Dettaglio delle attività'!C129=\"\",\" \",'Dettaglio delle attività'!C129)","v":" "},{"$f":"IF('Dettaglio delle attività'!D127=\"\",\" \",'Dettaglio delle attività'!D127)","v":" "},{"$f":"IF('Dettaglio delle attività'!E129=\"\",\" \",'Dettaglio delle attività'!E129)","v":" "},{"$f":"Tabella1[[#This Row],[Indicatore]]","v":" "},null,null,null,null,null,{"$f":"IF(Tabella11[[ Nuovo Elenco analitico delle attività da realizzare]]=\"\",\"\",CONCATENATE(\"VAR\",\".\",Tabella11[[ Nuovo Elenco analitico delle attività da realizzare]],\".\",ROW(C118)))","v":""}]
[null,null,119,{"$f":"IF('Dettaglio delle attività'!C130=\"\",\" \",'Dettaglio delle attività'!C130)","v":" "},{"$f":"IF('Dettaglio delle attività'!D128=\"\",\" \",'Dettaglio delle attività'!D128)","v":" "},{"$f":"IF('Dettaglio delle attività'!E130=\"\",\" \",'Dettaglio delle attività'!E130)","v":" "},{"$f":"Tabella1[[#This Row],[Indicatore]]","v":" "},null,null,null,null,null,{"$f":"IF(Tabella11[[ Nuovo Elenco analitico delle attività da realizzare]]=\"\",\"\",CONCATENATE(\"VAR\",\".\",Tabella11[[ Nuovo Elenco analitico delle attività da realizzare]],\".\",ROW(C119)))","v":""}]
[null,null,120,{"$f":"IF('Dettaglio delle attività'!C131=\"\",\" \",'Dettaglio delle attività'!C131)","v":" "},{"$f":"IF('Dettaglio delle attività'!D129=\"\",\" \",'Dettaglio delle attività'!D129)","v":" "},{"$f":"IF('Dettaglio delle attività'!E131=\"\",\" \",'Dettaglio delle attività'!E131)","v":" "},{"$f":"Tabella1[[#This Row],[Indicatore]]","v":" "},null,null,null,null,null,{"$f":"IF(Tabella11[[ Nuovo Elenco analitico delle attività da realizzare]]=\"\",\"\",CONCATENATE(\"VAR\",\".\",Tabella11[[ Nuovo Elenco analitico delle attività da realizzare]],\".\",ROW(C120)))","v":""}]
[null,null,121,{"$f":"IF('Dettaglio delle attività'!C132=\"\",\" \",'Dettaglio delle attività'!C132)","v":" "},{"$f":"IF('Dettaglio delle attività'!D130=\"\",\" \",'Dettaglio delle attività'!D130)","v":" "},{"$f":"IF('Dettaglio delle attività'!E132=\"\",\" \",'Dettaglio delle attività'!E132)","v":" "},{"$f":"Tabella1[[#This Row],[Indicatore]]","v":" "},null,null,null,null,null,{"$f":"IF(Tabella11[[ Nuovo Elenco analitico delle attività da realizzare]]=\"\",\"\",CONCATENATE(\"VAR\",\".\",Tabella11[[ Nuovo Elenco analitico delle attività da realizzare]],\".\",ROW(C121)))","v":""}]
[null,null,122,{"$f":"IF('Dettaglio delle attività'!C133=\"\",\" \",'Dettaglio delle attività'!C133)","v":" "},{"$f":"IF('Dettaglio delle attività'!D131=\"\",\" \",'Dettaglio delle attività'!D131)","v":" "},{"$f":"IF('Dettaglio delle attività'!E133=\"\",\" \",'Dettaglio delle attività'!E133)","v":" "},{"$f":"Tabella1[[#This Row],[Indicatore]]","v":" "},null,null,null,null,null,{"$f":"IF(Tabella11[[ Nuovo Elenco analitico delle attività da realizzare]]=\"\",\"\",CONCATENATE(\"VAR\",\".\",Tabella11[[ Nuovo Elenco analitico delle attività da realizzare]],\".\",ROW(C122)))","v":""}]
[null,null,123,{"$f":"IF('Dettaglio delle attività'!C134=\"\",\" \",'Dettaglio delle attività'!C134)","v":" "},{"$f":"IF('Dettaglio delle attività'!D132=\"\",\" \",'Dettaglio delle attività'!D132)","v":" "},{"$f":"IF('Dettaglio delle attività'!E134=\"\",\" \",'Dettaglio delle attività'!E134)","v":" "},{"$f":"Tabella1[[#This Row],[Indicatore]]","v":" "},null,null,null,null,null,{"$f":"IF(Tabella11[[ Nuovo Elenco analitico delle attività da realizzare]]=\"\",\"\",CONCATENATE(\"VAR\",\".\",Tabella11[[ Nuovo Elenco analitico delle attività da realizzare]],\".\",ROW(C123)))","v":""}]
[null,null,124,{"$f":"IF('Dettaglio delle attività'!C135=\"\",\" \",'Dettaglio delle attività'!C135)","v":" "},{"$f":"IF('Dettaglio delle attività'!D133=\"\",\" \",'Dettaglio delle attività'!D133)","v":" "},{"$f":"IF('Dettaglio delle attività'!E135=\"\",\" \",'Dettaglio delle attività'!E135)","v":" "},{"$f":"Tabella1[[#This Row],[Indicatore]]","v":" "},null,null,null,null,null,{"$f":"IF(Tabella11[[ Nuovo Elenco analitico delle attività da realizzare]]=\"\",\"\",CONCATENATE(\"VAR\",\".\",Tabella11[[ Nuovo Elenco analitico delle attività da realizzare]],\".\",ROW(C124)))","v":""}]
[null,null,125,{"$f":"IF('Dettaglio delle attività'!C136=\"\",\" \",'Dettaglio delle attività'!C136)","v":" "},{"$f":"IF('Dettaglio delle attività'!D134=\"\",\" \",'Dettaglio delle attività'!D134)","v":" "},{"$f":"IF('Dettaglio delle attività'!E136=\"\",\" \",'Dettaglio delle attività'!E136)","v":" "},{"$f":"Tabella1[[#This Row],[Indicatore]]","v":" "},null,null,null,null,null,{"$f":"IF(Tabella11[[ Nuovo Elenco analitico delle attività da realizzare]]=\"\",\"\",CONCATENATE(\"VAR\",\".\",Tabella11[[ Nuovo Elenco analitico delle attività da realizzare]],\".\",ROW(C125)))","v":""}]
[null,null,126,{"$f":"IF('Dettaglio delle attività'!C137=\"\",\" \",'Dettaglio delle attività'!C137)","v":" "},{"$f":"IF('Dettaglio delle attività'!D135=\"\",\" \",'Dettaglio delle attività'!D135)","v":" "},{"$f":"IF('Dettaglio delle attività'!E137=\"\",\" \",'Dettaglio delle attività'!E137)","v":" "},{"$f":"Tabella1[[#This Row],[Indicatore]]","v":" "},null,null,null,null,null,{"$f":"IF(Tabella11[[ Nuovo Elenco analitico delle attività da realizzare]]=\"\",\"\",CONCATENATE(\"VAR\",\".\",Tabella11[[ Nuovo Elenco analitico delle attività da realizzare]],\".\",ROW(C126)))","v":""}]
[null,null,127,{"$f":"IF('Dettaglio delle attività'!C138=\"\",\" \",'Dettaglio delle attività'!C138)","v":" "},{"$f":"IF('Dettaglio delle attività'!D136=\"\",\" \",'Dettaglio delle attività'!D136)","v":" "},{"$f":"IF('Dettaglio delle attività'!E138=\"\",\" \",'Dettaglio delle attività'!E138)","v":" "},{"$f":"Tabella1[[#This Row],[Indicatore]]","v":" "},null,null,null,null,null,{"$f":"IF(Tabella11[[ Nuovo Elenco analitico delle attività da realizzare]]=\"\",\"\",CONCATENATE(\"VAR\",\".\",Tabella11[[ Nuovo Elenco analitico delle attività da realizzare]],\".\",ROW(C127)))","v":""}]
[null,null,128,{"$f":"IF('Dettaglio delle attività'!C139=\"\",\" \",'Dettaglio delle attività'!C139)","v":" "},{"$f":"IF('Dettaglio delle attività'!D137=\"\",\" \",'Dettaglio delle attività'!D137)","v":" "},{"$f":"IF('Dettaglio delle attività'!E139=\"\",\" \",'Dettaglio delle attività'!E139)","v":" "},{"$f":"Tabella1[[#This Row],[Indicatore]]","v":" "},null,null,null,null,null,{"$f":"IF(Tabella11[[ Nuovo Elenco analitico delle attività da realizzare]]=\"\",\"\",CONCATENATE(\"VAR\",\".\",Tabella11[[ Nuovo Elenco analitico delle attività da realizzare]],\".\",ROW(C128)))","v":""}]
[null,null,{"$f":"ROW(A129)","v":129},{"$f":"IF('Dettaglio delle attività'!C140=\"\",\" \",'Dettaglio delle attività'!C140)","v":" "},{"$f":"IF('Dettaglio delle attività'!D138=\"\",\" \",'Dettaglio delle attività'!D138)","v":" "},{"$f":"IF('Dettaglio delle attività'!E140=\"\",\" \",'Dettaglio delle attività'!E140)","v":" "},{"$f":"Tabella1[[#This Row],[Indicatore]]","v":" "},null,null,null,null,null,{"$f":"IF(Tabella11[[ Nuovo Elenco analitico delle attività da realizzare]]=\"\",\"\",CONCATENATE(\"VAR\",\".\",Tabella11[[ Nuovo Elenco analitico delle attività da realizzare]],\".\",ROW(C129)))","v":""}]
[null,null,130,{"$f":"IF('Dettaglio delle attività'!C141=\"\",\" \",'Dettaglio delle attività'!C141)","v":" "},{"$f":"IF('Dettaglio delle attività'!D139=\"\",\" \",'Dettaglio delle attività'!D139)","v":" "},{"$f":"IF('Dettaglio delle attività'!E141=\"\",\" \",'Dettaglio delle attività'!E141)","v":" "},{"$f":"Tabella1[[#This Row],[Indicatore]]","v":" "},null,null,null,null,null,{"$f":"IF(Tabella11[[ Nuovo Elenco analitico delle attività da realizzare]]=\"\",\"\",CONCATENATE(\"VAR\",\".\",Tabella11[[ Nuovo Elenco analitico delle attività da realizzare]],\".\",ROW(C130)))","v":""}]
[null,null,131,{"$f":"IF('Dettaglio delle attività'!C142=\"\",\" \",'Dettaglio delle attività'!C142)","v":" "},{"$f":"IF('Dettaglio delle attività'!D140=\"\",\" \",'Dettaglio delle attività'!D140)","v":" "},{"$f":"IF('Dettaglio delle attività'!E142=\"\",\" \",'Dettaglio delle attività'!E142)","v":" "},{"$f":"Tabella1[[#This Row],[Indicatore]]","v":" "},null,null,null,null,null,{"$f":"IF(Tabella11[[ Nuovo Elenco analitico delle attività da realizzare]]=\"\",\"\",CONCATENATE(\"VAR\",\".\",Tabella11[[ Nuovo Elenco analitico delle attività da realizzare]],\".\",ROW(C131)))","v":""}]
[null,null,132,{"$f":"IF('Dettaglio delle attività'!C143=\"\",\" \",'Dettaglio delle attività'!C143)","v":" "},{"$f":"IF('Dettaglio delle attività'!D141=\"\",\" \",'Dettaglio delle attività'!D141)","v":" "},{"$f":"IF('Dettaglio delle attività'!E143=\"\",\" \",'Dettaglio delle attività'!E143)","v":" "},{"$f":"Tabella1[[#This Row],[Indicatore]]","v":" "},null,null,null,null,null,{"$f":"IF(Tabella11[[ Nuovo Elenco analitico delle attività da realizzare]]=\"\",\"\",CONCATENATE(\"VAR\",\".\",Tabella11[[ Nuovo Elenco analitico delle attività da realizzare]],\".\",ROW(C132)))","v":""}]
[null,null,133,{"$f":"IF('Dettaglio delle attività'!C144=\"\",\" \",'Dettaglio delle attività'!C144)","v":" "},{"$f":"IF('Dettaglio delle attività'!D142=\"\",\" \",'Dettaglio delle attività'!D142)","v":" "},{"$f":"IF('Dettaglio delle attività'!E144=\"\",\" \",'Dettaglio delle attività'!E144)","v":" "},{"$f":"Tabella1[[#This Row],[Indicatore]]","v":" "},null,null,null,null,null,{"$f":"IF(Tabella11[[ Nuovo Elenco analitico delle attività da realizzare]]=\"\",\"\",CONCATENATE(\"VAR\",\".\",Tabella11[[ Nuovo Elenco analitico delle attività da realizzare]],\".\",ROW(C133)))","v":""}]
[null,null,134,{"$f":"IF('Dettaglio delle attività'!C145=\"\",\" \",'Dettaglio delle attività'!C145)","v":" "},{"$f":"IF('Dettaglio delle attività'!D143=\"\",\" \",'Dettaglio delle attività'!D143)","v":" "},{"$f":"IF('Dettaglio delle attività'!E145=\"\",\" \",'Dettaglio delle attività'!E145)","v":" "},{"$f":"Tabella1[[#This Row],[Indicatore]]","v":" "},null,null,null,null,null,{"$f":"IF(Tabella11[[ Nuovo Elenco analitico delle attività da realizzare]]=\"\",\"\",CONCATENATE(\"VAR\",\".\",Tabella11[[ Nuovo Elenco analitico delle attività da realizzare]],\".\",ROW(C134)))","v":""}]
[null,null,135,{"$f":"IF('Dettaglio delle attività'!C146=\"\",\" \",'Dettaglio delle attività'!C146)","v":" "},{"$f":"IF('Dettaglio delle attività'!D144=\"\",\" \",'Dettaglio delle attività'!D144)","v":" "},{"$f":"IF('Dettaglio delle attività'!E146=\"\",\" \",'Dettaglio delle attività'!E146)","v":" "},{"$f":"Tabella1[[#This Row],[Indicatore]]","v":" "},null,null,null,null,null,{"$f":"IF(Tabella11[[ Nuovo Elenco analitico delle attività da realizzare]]=\"\",\"\",CONCATENATE(\"VAR\",\".\",Tabella11[[ Nuovo Elenco analitico delle attività da realizzare]],\".\",ROW(C135)))","v":""}]
[null,null,136,{"$f":"IF('Dettaglio delle attività'!C147=\"\",\" \",'Dettaglio delle attività'!C147)","v":" "},{"$f":"IF('Dettaglio delle attività'!D145=\"\",\" \",'Dettaglio delle attività'!D145)","v":" "},{"$f":"IF('Dettaglio delle attività'!E147=\"\",\" \",'Dettaglio delle attività'!E147)","v":" "},{"$f":"Tabella1[[#This Row],[Indicatore]]","v":" "},null,null,null,null,null,{"$f":"IF(Tabella11[[ Nuovo Elenco analitico delle attività da realizzare]]=\"\",\"\",CONCATENATE(\"VAR\",\".\",Tabella11[[ Nuovo Elenco analitico delle attività da realizzare]],\".\",ROW(C136)))","v":""}]
[null,null,137,{"$f":"IF('Dettaglio delle attività'!C148=\"\",\" \",'Dettaglio delle attività'!C148)","v":" "},{"$f":"IF('Dettaglio delle attività'!D146=\"\",\" \",'Dettaglio delle attività'!D146)","v":" "},{"$f":"IF('Dettaglio delle attività'!E148=\"\",\" \",'Dettaglio delle attività'!E148)","v":" "},{"$f":"Tabella1[[#This Row],[Indicatore]]","v":" "},null,null,null,null,null,{"$f":"IF(Tabella11[[ Nuovo Elenco analitico delle attività da realizzare]]=\"\",\"\",CONCATENATE(\"VAR\",\".\",Tabella11[[ Nuovo Elenco analitico delle attività da realizzare]],\".\",ROW(C137)))","v":""}]
[null,null,138,{"$f":"IF('Dettaglio delle attività'!C149=\"\",\" \",'Dettaglio delle attività'!C149)","v":" "},{"$f":"IF('Dettaglio delle attività'!D147=\"\",\" \",'Dettaglio delle attività'!D147)","v":" "},{"$f":"IF('Dettaglio delle attività'!E149=\"\",\" \",'Dettaglio delle attività'!E149)","v":" "},{"$f":"Tabella1[[#This Row],[Indicatore]]","v":" "},null,null,null,null,null,{"$f":"IF(Tabella11[[ Nuovo Elenco analitico delle attività da realizzare]]=\"\",\"\",CONCATENATE(\"VAR\",\".\",Tabella11[[ Nuovo Elenco analitico delle attività da realizzare]],\".\",ROW(C138)))","v":""}]
[null,null,139,{"$f":"IF('Dettaglio delle attività'!C150=\"\",\" \",'Dettaglio delle attività'!C150)","v":" "},{"$f":"IF('Dettaglio delle attività'!D148=\"\",\" \",'Dettaglio delle attività'!D148)","v":" "},{"$f":"IF('Dettaglio delle attività'!E150=\"\",\" \",'Dettaglio delle attività'!E150)","v":" "},{"$f":"Tabella1[[#This Row],[Indicatore]]","v":" "},null,null,null,null,null,{"$f":"IF(Tabella11[[ Nuovo Elenco analitico delle attività da realizzare]]=\"\",\"\",CONCATENATE(\"VAR\",\".\",Tabella11[[ Nuovo Elenco analitico delle attività da realizzare]],\".\",ROW(C139)))","v":""}]
[null,null,140,{"$f":"IF('Dettaglio delle attività'!C151=\"\",\" \",'Dettaglio delle attività'!C151)","v":" "},{"$f":"IF('Dettaglio delle attività'!D149=\"\",\" \",'Dettaglio delle attività'!D149)","v":" "},{"$f":"IF('Dettaglio delle attività'!E151=\"\",\" \",'Dettaglio delle attività'!E151)","v":" "},{"$f":"Tabella1[[#This Row],[Indicatore]]","v":" "},null,null,null,null,null,{"$f":"IF(Tabella11[[ Nuovo Elenco analitico delle attività da realizzare]]=\"\",\"\",CONCATENATE(\"VAR\",\".\",Tabella11[[ Nuovo Elenco analitico delle attività da realizzare]],\".\",ROW(C140)))","v":""}]
[null,null,141,{"$f":"IF('Dettaglio delle attività'!C152=\"\",\" \",'Dettaglio delle attività'!C152)","v":" "},{"$f":"IF('Dettaglio delle attività'!D150=\"\",\" \",'Dettaglio delle attività'!D150)","v":" "},{"$f":"IF('Dettaglio delle attività'!E152=\"\",\" \",'Dettaglio delle attività'!E152)","v":" "},{"$f":"Tabella1[[#This Row],[Indicatore]]","v":" "},null,null,null,null,null,{"$f":"IF(Tabella11[[ Nuovo Elenco analitico delle attività da realizzare]]=\"\",\"\",CONCATENATE(\"VAR\",\".\",Tabella11[[ Nuovo Elenco analitico delle attività da realizzare]],\".\",ROW(C141)))","v":""}]
[null,null,142,{"$f":"IF('Dettaglio delle attività'!C153=\"\",\" \",'Dettaglio delle attività'!C153)","v":" "},{"$f":"IF('Dettaglio delle attività'!D151=\"\",\" \",'Dettaglio delle attività'!D151)","v":" "},{"$f":"IF('Dettaglio delle attività'!E153=\"\",\" \",'Dettaglio delle attività'!E153)","v":" "},{"$f":"Tabella1[[#This Row],[Indicatore]]","v":" "},null,null,null,null,null,{"$f":"IF(Tabella11[[ Nuovo Elenco analitico delle attività da realizzare]]=\"\",\"\",CONCATENATE(\"VAR\",\".\",Tabella11[[ Nuovo Elenco analitico delle attività da realizzare]],\".\",ROW(C142)))","v":""}]
[null,null,143,{"$f":"IF('Dettaglio delle attività'!C154=\"\",\" \",'Dettaglio delle attività'!C154)","v":" "},{"$f":"IF('Dettaglio delle attività'!D152=\"\",\" \",'Dettaglio delle attività'!D152)","v":" "},{"$f":"IF('Dettaglio delle attività'!E154=\"\",\" \",'Dettaglio delle attività'!E154)","v":" "},{"$f":"Tabella1[[#This Row],[Indicatore]]","v":" "},null,null,null,null,null,{"$f":"IF(Tabella11[[ Nuovo Elenco analitico delle attività da realizzare]]=\"\",\"\",CONCATENATE(\"VAR\",\".\",Tabella11[[ Nuovo Elenco analitico delle attività da realizzare]],\".\",ROW(C143)))","v":""}]
[null,null,144,{"$f":"IF('Dettaglio delle attività'!C155=\"\",\" \",'Dettaglio delle attività'!C155)","v":" "},{"$f":"IF('Dettaglio delle attività'!D153=\"\",\" \",'Dettaglio delle attività'!D153)","v":" "},{"$f":"IF('Dettaglio delle attività'!E155=\"\",\" \",'Dettaglio delle attività'!E155)","v":" "},{"$f":"Tabella1[[#This Row],[Indicatore]]","v":" "},null,null,null,null,null,{"$f":"IF(Tabella11[[ Nuovo Elenco analitico delle attività da realizzare]]=\"\",\"\",CONCATENATE(\"VAR\",\".\",Tabella11[[ Nuovo Elenco analitico delle attività da realizzare]],\".\",ROW(C144)))","v":""}]
[null,null,145,{"$f":"IF('Dettaglio delle attività'!C156=\"\",\" \",'Dettaglio delle attività'!C156)","v":" "},{"$f":"IF('Dettaglio delle attività'!D154=\"\",\" \",'Dettaglio delle attività'!D154)","v":" "},{"$f":"IF('Dettaglio delle attività'!E156=\"\",\" \",'Dettaglio delle attività'!E156)","v":" "},{"$f":"Tabella1[[#This Row],[Indicatore]]","v":" "},null,null,null,null,null,{"$f":"IF(Tabella11[[ Nuovo Elenco analitico delle attività da realizzare]]=\"\",\"\",CONCATENATE(\"VAR\",\".\",Tabella11[[ Nuovo Elenco analitico delle attività da realizzare]],\".\",ROW(C145)))","v":""}]
[null,null,146,{"$f":"IF('Dettaglio delle attività'!C157=\"\",\" \",'Dettaglio delle attività'!C157)","v":" "},{"$f":"IF('Dettaglio delle attività'!D155=\"\",\" \",'Dettaglio delle attività'!D155)","v":" "},{"$f":"IF('Dettaglio delle attività'!E157=\"\",\" \",'Dettaglio delle attività'!E157)","v":" "},{"$f":"Tabella1[[#This Row],[Indicatore]]","v":" "},null,null,null,null,null,{"$f":"IF(Tabella11[[ Nuovo Elenco analitico delle attività da realizzare]]=\"\",\"\",CONCATENATE(\"VAR\",\".\",Tabella11[[ Nuovo Elenco analitico delle attività da realizzare]],\".\",ROW(C146)))","v":""}]
[null,null,147,{"$f":"IF('Dettaglio delle attività'!C158=\"\",\" \",'Dettaglio delle attività'!C158)","v":" "},{"$f":"IF('Dettaglio delle attività'!D156=\"\",\" \",'Dettaglio delle attività'!D156)","v":" "},{"$f":"IF('Dettaglio delle attività'!E158=\"\",\" \",'Dettaglio delle attività'!E158)","v":" "},{"$f":"Tabella1[[#This Row],[Indicatore]]","v":" "},null,null,null,null,null,{"$f":"IF(Tabella11[[ Nuovo Elenco analitico delle attività da realizzare]]=\"\",\"\",CONCATENATE(\"VAR\",\".\",Tabella11[[ Nuovo Elenco analitico delle attività da realizzare]],\".\",ROW(C147)))","v":""}]
[null,null,148,{"$f":"IF('Dettaglio delle attività'!C159=\"\",\" \",'Dettaglio delle attività'!C159)","v":" "},{"$f":"IF('Dettaglio delle attività'!D157=\"\",\" \",'Dettaglio delle attività'!D157)","v":" "},{"$f":"IF('Dettaglio delle attività'!E159=\"\",\" \",'Dettaglio delle attività'!E159)","v":" "},{"$f":"Tabella1[[#This Row],[Indicatore]]","v":" "},null,null,null,null,null,{"$f":"IF(Tabella11[[ Nuovo Elenco analitico delle attività da realizzare]]=\"\",\"\",CONCATENATE(\"VAR\",\".\",Tabella11[[ Nuovo Elenco analitico delle attività da realizzare]],\".\",ROW(C148)))","v":""}]
[null,null,149,{"$f":"IF('Dettaglio delle attività'!C160=\"\",\" \",'Dettaglio delle attività'!C160)","v":" "},{"$f":"IF('Dettaglio delle attività'!D158=\"\",\" \",'Dettaglio delle attività'!D158)","v":" "},{"$f":"IF('Dettaglio delle attività'!E160=\"\",\" \",'Dettaglio delle attività'!E160)","v":" "},{"$f":"Tabella1[[#This Row],[Indicatore]]","v":" "},null,null,null,null,null,{"$f":"IF(Tabella11[[ Nuovo Elenco analitico delle attività da realizzare]]=\"\",\"\",CONCATENATE(\"VAR\",\".\",Tabella11[[ Nuovo Elenco analitico delle attività da realizzare]],\".\",ROW(C149)))","v":""}]
[null,null,150,{"$f":"IF('Dettaglio delle attività'!C161=\"\",\" \",'Dettaglio delle attività'!C161)","v":" "},{"$f":"IF('Dettaglio delle attività'!D159=\"\",\" \",'Dettaglio delle attività'!D159)","v":" "},{"$f":"IF('Dettaglio delle attività'!E161=\"\",\" \",'Dettaglio delle attività'!E161)","v":" "},{"$f":"Tabella1[[#This Row],[Indicatore]]","v":" "},null,null,null,null,null,{"$f":"IF(Tabella11[[ Nuovo Elenco analitico delle attività da realizzare]]=\"\",\"\",CONCATENATE(\"VAR\",\".\",Tabella11[[ Nuovo Elenco analitico delle attività da realizzare]],\".\",ROW(C150)))","v":""}]
[null,null,151,{"$f":"IF('Dettaglio delle attività'!C162=\"\",\" \",'Dettaglio delle attività'!C162)","v":" "},{"$f":"IF('Dettaglio delle attività'!D160=\"\",\" \",'Dettaglio delle attività'!D160)","v":" "},{"$f":"IF('Dettaglio delle attività'!E162=\"\",\" \",'Dettaglio delle attività'!E162)","v":" "},{"$f":"Tabella1[[#This Row],[Indicatore]]","v":" "},null,null,null,null,null,{"$f":"IF(Tabella11[[ Nuovo Elenco analitico delle attività da realizzare]]=\"\",\"\",CONCATENATE(\"VAR\",\".\",Tabella11[[ Nuovo Elenco analitico delle attività da realizzare]],\".\",ROW(C151)))","v":""}]
[null,null,152,{"$f":"IF('Dettaglio delle attività'!C163=\"\",\" \",'Dettaglio delle attività'!C163)","v":" "},{"$f":"IF('Dettaglio delle attività'!D161=\"\",\" \",'Dettaglio delle attività'!D161)","v":" "},{"$f":"IF('Dettaglio delle attività'!E163=\"\",\" \",'Dettaglio delle attività'!E163)","v":" "},{"$f":"Tabella1[[#This Row],[Indicatore]]","v":" "},null,null,null,null,null,{"$f":"IF(Tabella11[[ Nuovo Elenco analitico delle attività da realizzare]]=\"\",\"\",CONCATENATE(\"VAR\",\".\",Tabella11[[ Nuovo Elenco analitico delle attività da realizzare]],\".\",ROW(C152)))","v":""}]
[null,null,153,{"$f":"IF('Dettaglio delle attività'!C164=\"\",\" \",'Dettaglio delle attività'!C164)","v":" "},{"$f":"IF('Dettaglio delle attività'!D162=\"\",\" \",'Dettaglio delle attività'!D162)","v":" "},{"$f":"IF('Dettaglio delle attività'!E164=\"\",\" \",'Dettaglio delle attività'!E164)","v":" "},{"$f":"Tabella1[[#This Row],[Indicatore]]","v":" "},null,null,null,null,null,{"$f":"IF(Tabella11[[ Nuovo Elenco analitico delle attività da realizzare]]=\"\",\"\",CONCATENATE(\"VAR\",\".\",Tabella11[[ Nuovo Elenco analitico delle attività da realizzare]],\".\",ROW(C153)))","v":""}]
[null,null,154,{"$f":"IF('Dettaglio delle attività'!C165=\"\",\" \",'Dettaglio delle attività'!C165)","v":" "},{"$f":"IF('Dettaglio delle attività'!D163=\"\",\" \",'Dettaglio delle attività'!D163)","v":" "},{"$f":"IF('Dettaglio delle attività'!E165=\"\",\" \",'Dettaglio delle attività'!E165)","v":" "},{"$f":"Tabella1[[#This Row],[Indicatore]]","v":" "},null,null,null,null,null,{"$f":"IF(Tabella11[[ Nuovo Elenco analitico delle attività da realizzare]]=\"\",\"\",CONCATENATE(\"VAR\",\".\",Tabella11[[ Nuovo Elenco analitico delle attività da realizzare]],\".\",ROW(C154)))","v":""}]
[null,null,155,{"$f":"IF('Dettaglio delle attività'!C166=\"\",\" \",'Dettaglio delle attività'!C166)","v":" "},{"$f":"IF('Dettaglio delle attività'!D164=\"\",\" \",'Dettaglio delle attività'!D164)","v":" "},{"$f":"IF('Dettaglio delle attività'!E166=\"\",\" \",'Dettaglio delle attività'!E166)","v":" "},{"$f":"Tabella1[[#This Row],[Indicatore]]","v":" "},null,null,null,null,null,{"$f":"IF(Tabella11[[ Nuovo Elenco analitico delle attività da realizzare]]=\"\",\"\",CONCATENATE(\"VAR\",\".\",Tabella11[[ Nuovo Elenco analitico delle attività da realizzare]],\".\",ROW(C155)))","v":""}]
[null,null,156,{"$f":"IF('Dettaglio delle attività'!C167=\"\",\" \",'Dettaglio delle attività'!C167)","v":" "},{"$f":"IF('Dettaglio delle attività'!D165=\"\",\" \",'Dettaglio delle attività'!D165)","v":" "},{"$f":"IF('Dettaglio delle attività'!E167=\"\",\" \",'Dettaglio delle attività'!E167)","v":" "},{"$f":"Tabella1[[#This Row],[Indicatore]]","v":" "},null,null,null,null,null,{"$f":"IF(Tabella11[[ Nuovo Elenco analitico delle attività da realizzare]]=\"\",\"\",CONCATENATE(\"VAR\",\".\",Tabella11[[ Nuovo Elenco analitico delle attività da realizzare]],\".\",ROW(C156)))","v":""}]
[null,null,157,{"$f":"IF('Dettaglio delle attività'!C168=\"\",\" \",'Dettaglio delle attività'!C168)","v":" "},{"$f":"IF('Dettaglio delle attività'!D166=\"\",\" \",'Dettaglio delle attività'!D166)","v":" "},{"$f":"IF('Dettaglio delle attività'!E168=\"\",\" \",'Dettaglio delle attività'!E168)","v":" "},{"$f":"Tabella1[[#This Row],[Indicatore]]","v":" "},null,null,null,null,null,{"$f":"IF(Tabella11[[ Nuovo Elenco analitico delle attività da realizzare]]=\"\",\"\",CONCATENATE(\"VAR\",\".\",Tabella11[[ Nuovo Elenco analitico delle attività da realizzare]],\".\",ROW(C157)))","v":""}]
[null,null,158,{"$f":"IF('Dettaglio delle attività'!C169=\"\",\" \",'Dettaglio delle attività'!C169)","v":" "},{"$f":"IF('Dettaglio delle attività'!D167=\"\",\" \",'Dettaglio delle attività'!D167)","v":" "},{"$f":"IF('Dettaglio delle attività'!E169=\"\",\" \",'Dettaglio delle attività'!E169)","v":" "},{"$f":"Tabella1[[#This Row],[Indicatore]]","v":" "},null,null,null,null,null,{"$f":"IF(Tabella11[[ Nuovo Elenco analitico delle attività da realizzare]]=\"\",\"\",CONCATENATE(\"VAR\",\".\",Tabella11[[ Nuovo Elenco analitico delle attività da realizzare]],\".\",ROW(C158)))","v":""}]
[null,null,159,{"$f":"IF('Dettaglio delle attività'!C170=\"\",\" \",'Dettaglio delle attività'!C170)","v":" "},{"$f":"IF('Dettaglio delle attività'!D168=\"\",\" \",'Dettaglio delle attività'!D168)","v":" "},{"$f":"IF('Dettaglio delle attività'!E170=\"\",\" \",'Dettaglio delle attività'!E170)","v":" "},{"$f":"Tabella1[[#This Row],[Indicatore]]","v":" "},null,null,null,null,null,{"$f":"IF(Tabella11[[ Nuovo Elenco analitico delle attività da realizzare]]=\"\",\"\",CONCATENATE(\"VAR\",\".\",Tabella11[[ Nuovo Elenco analitico delle attività da realizzare]],\".\",ROW(C159)))","v":""}]
[null,null,160,{"$f":"IF('Dettaglio delle attività'!C171=\"\",\" \",'Dettaglio delle attività'!C171)","v":" "},{"$f":"IF('Dettaglio delle attività'!D169=\"\",\" \",'Dettaglio delle attività'!D169)","v":" "},{"$f":"IF('Dettaglio delle attività'!E171=\"\",\" \",'Dettaglio delle attività'!E171)","v":" "},{"$f":"Tabella1[[#This Row],[Indicatore]]","v":" "},null,null,null,null,null,{"$f":"IF(Tabella11[[ Nuovo Elenco analitico delle attività da realizzare]]=\"\",\"\",CONCATENATE(\"VAR\",\".\",Tabella11[[ Nuovo Elenco analitico delle attività da realizzare]],\".\",ROW(C160)))","v":""}]
[]
[]
[]
[]
[]
[]
[]
[]
[]
[]
[]
[]
[]
[]
[]
[]
[]
[]
[]
[]
[]
[null,null,null,{"$f":"IF('Dettaglio delle attività'!C191=\"\",\" \",'Dettaglio delle attività'!C191)","v":" "},{"$f":"IF('Dettaglio delle attività'!D191=\"\",\" \",'Dettaglio delle attività'!D191)","v":" "},{"$f":"IF('Dettaglio delle attività'!E191=\"\",\" \",'Dettaglio delle attività'!E191)","v":" "}]
[null,null,null,{"$f":"IF('Dettaglio delle attività'!C192=\"\",\" \",'Dettaglio delle attività'!C192)","v":" "},{"$f":"IF('Dettaglio delle attività'!D192=\"\",\" \",'Dettaglio delle attività'!D192)","v":" "},{"$f":"IF('Dettaglio delle attività'!E192=\"\",\" \",'Dettaglio delle attività'!E192)","v":" "}]
[null,null,null,{"$f":"IF('Dettaglio delle attività'!C193=\"\",\" \",'Dettaglio delle attività'!C193)","v":" "},{"$f":"IF('Dettaglio delle attività'!D193=\"\",\" \",'Dettaglio delle attività'!D193)","v":" "},{"$f":"IF('Dettaglio delle attività'!E193=\"\",\" \",'Dettaglio delle attività'!E193)","v":" "}]
[null,null,null,{"$f":"IF('Dettaglio delle attività'!C194=\"\",\" \",'Dettaglio delle attività'!C194)","v":" "},{"$f":"IF('Dettaglio delle attività'!D194=\"\",\" \",'Dettaglio delle attività'!D194)","v":" "},{"$f":"IF('Dettaglio delle attività'!E194=\"\",\" \",'Dettaglio delle attività'!E194)","v":" "}]
[null,null,null,{"$f":"IF('Dettaglio delle attività'!C195=\"\",\" \",'Dettaglio delle attività'!C195)","v":" "},{"$f":"IF('Dettaglio delle attività'!D195=\"\",\" \",'Dettaglio delle attività'!D195)","v":" "},{"$f":"IF('Dettaglio delle attività'!E195=\"\",\" \",'Dettaglio delle attività'!E195)","v":" "}]
[null,null,null,{"$f":"IF('Dettaglio delle attività'!C196=\"\",\" \",'Dettaglio delle attività'!C196)","v":" "},{"$f":"IF('Dettaglio delle attività'!D196=\"\",\" \",'Dettaglio delle attività'!D196)","v":" "},{"$f":"IF('Dettaglio delle attività'!E196=\"\",\" \",'Dettaglio delle attività'!E196)","v":" "}]
[null,null,null,{"$f":"IF('Dettaglio delle attività'!C197=\"\",\" \",'Dettaglio delle attività'!C197)","v":" "},{"$f":"IF('Dettaglio delle attività'!D197=\"\",\" \",'Dettaglio delle attività'!D197)","v":" "},{"$f":"IF('Dettaglio delle attività'!E197=\"\",\" \",'Dettaglio delle attività'!E197)","v":" "}]
[null,null,null,{"$f":"IF('Dettaglio delle attività'!C198=\"\",\" \",'Dettaglio delle attività'!C198)","v":" "},{"$f":"IF('Dettaglio delle attività'!D198=\"\",\" \",'Dettaglio delle attività'!D198)","v":" "},{"$f":"IF('Dettaglio delle attività'!E198=\"\",\" \",'Dettaglio delle attività'!E198)","v":" "}]
[null,null,null,{"$f":"IF('Dettaglio delle attività'!C199=\"\",\" \",'Dettaglio delle attività'!C199)","v":" "},{"$f":"IF('Dettaglio delle attività'!D199=\"\",\" \",'Dettaglio delle attività'!D199)","v":" "},{"$f":"IF('Dettaglio delle attività'!E199=\"\",\" \",'Dettaglio delle attività'!E199)","v":" "}]
[null,null,null,{"$f":"IF('Dettaglio delle attività'!C200=\"\",\" \",'Dettaglio delle attività'!C200)","v":" "},{"$f":"IF('Dettaglio delle attività'!D200=\"\",\" \",'Dettaglio delle attività'!D200)","v":" "},{"$f":"IF('Dettaglio delle attività'!E200=\"\",\" \",'Dettaglio delle attività'!E200)","v":" "}]
[null,null,null,{"$f":"IF('Dettaglio delle attività'!C201=\"\",\" \",'Dettaglio delle attività'!C201)","v":" "},{"$f":"IF('Dettaglio delle attività'!D201=\"\",\" \",'Dettaglio delle attività'!D201)","v":" "},{"$f":"IF('Dettaglio delle attività'!E201=\"\",\" \",'Dettaglio delle attività'!E201)","v":" "}]
[null,null,null,{"$f":"IF('Dettaglio delle attività'!C202=\"\",\" \",'Dettaglio delle attività'!C202)","v":" "},{"$f":"IF('Dettaglio delle attività'!D202=\"\",\" \",'Dettaglio delle attività'!D202)","v":" "},{"$f":"IF('Dettaglio delle attività'!E202=\"\",\" \",'Dettaglio delle attività'!E202)","v":" "}]
[null,null,null,{"$f":"IF('Dettaglio delle attività'!C203=\"\",\" \",'Dettaglio delle attività'!C203)","v":" "},{"$f":"IF('Dettaglio delle attività'!D203=\"\",\" \",'Dettaglio delle attività'!D203)","v":" "},{"$f":"IF('Dettaglio delle attività'!E203=\"\",\" \",'Dettaglio delle attività'!E203)","v":" "}]
[null,null,null,{"$f":"IF('Dettaglio delle attività'!C204=\"\",\" \",'Dettaglio delle attività'!C204)","v":" "},{"$f":"IF('Dettaglio delle attività'!D204=\"\",\" \",'Dettaglio delle attività'!D204)","v":" "},{"$f":"IF('Dettaglio delle attività'!E204=\"\",\" \",'Dettaglio delle attività'!E204)","v":" "}]
[null,null,null,{"$f":"IF('Dettaglio delle attività'!C205=\"\",\" \",'Dettaglio delle attività'!C205)","v":" "},{"$f":"IF('Dettaglio delle attività'!D205=\"\",\" \",'Dettaglio delle attività'!D205)","v":" "},{"$f":"IF('Dettaglio delle attività'!E205=\"\",\" \",'Dettaglio delle attività'!E205)","v":" "}]
[null,null,null,{"$f":"IF('Dettaglio delle attività'!C206=\"\",\" \",'Dettaglio delle attività'!C206)","v":" "},{"$f":"IF('Dettaglio delle attività'!D206=\"\",\" \",'Dettaglio delle attività'!D206)","v":" "},{"$f":"IF('Dettaglio delle attività'!E206=\"\",\" \",'Dettaglio delle attività'!E206)","v":" "}]
[null,null,null,{"$f":"IF('Dettaglio delle attività'!C207=\"\",\" \",'Dettaglio delle attività'!C207)","v":" "},{"$f":"IF('Dettaglio delle attività'!D207=\"\",\" \",'Dettaglio delle attività'!D207)","v":" "},{"$f":"IF('Dettaglio delle attività'!E207=\"\",\" \",'Dettaglio delle attività'!E207)","v":" "}]
[null,null,null,{"$f":"IF('Dettaglio delle attività'!C208=\"\",\" \",'Dettaglio delle attività'!C208)","v":" "},{"$f":"IF('Dettaglio delle attività'!D208=\"\",\" \",'Dettaglio delle attività'!D208)","v":" "},{"$f":"IF('Dettaglio delle attività'!E208=\"\",\" \",'Dettaglio delle attività'!E208)","v":" "}]
[null,null,null,{"$f":"IF('Dettaglio delle attività'!C209=\"\",\" \",'Dettaglio delle attività'!C209)","v":" "},{"$f":"IF('Dettaglio delle attività'!D209=\"\",\" \",'Dettaglio delle attività'!D209)","v":" "},{"$f":"IF('Dettaglio delle attività'!E209=\"\",\" \",'Dettaglio delle attività'!E209)","v":" "}]
[null,null,null,{"$f":"IF('Dettaglio delle attività'!C210=\"\",\" \",'Dettaglio delle attività'!C210)","v":" "},{"$f":"IF('Dettaglio delle attività'!D210=\"\",\" \",'Dettaglio delle attività'!D210)","v":" "},{"$f":"IF('Dettaglio delle attività'!E210=\"\",\" \",'Dettaglio delle attività'!E210)","v":" "}]
[null,null,null,{"$f":"IF('Dettaglio delle attività'!C211=\"\",\" \",'Dettaglio delle attività'!C211)","v":" "},{"$f":"IF('Dettaglio delle attività'!D211=\"\",\" \",'Dettaglio delle attività'!D211)","v":" "},{"$f":"IF('Dettaglio delle attività'!E211=\"\",\" \",'Dettaglio delle attività'!E211)","v":" "}]
[null,null,null,{"$f":"IF('Dettaglio delle attività'!C212=\"\",\" \",'Dettaglio delle attività'!C212)","v":" "},{"$f":"IF('Dettaglio delle attività'!D212=\"\",\" \",'Dettaglio delle attività'!D212)","v":" "},{"$f":"IF('Dettaglio delle attività'!E212=\"\",\" \",'Dettaglio delle attività'!E212)","v":" "}]
[null,null,null,{"$f":"IF('Dettaglio delle attività'!C213=\"\",\" \",'Dettaglio delle attività'!C213)","v":" "},{"$f":"IF('Dettaglio delle attività'!D213=\"\",\" \",'Dettaglio delle attività'!D213)","v":" "},{"$f":"IF('Dettaglio delle attività'!E213=\"\",\" \",'Dettaglio delle attività'!E213)","v":" "}]
[null,null,null,{"$f":"IF('Dettaglio delle attività'!C214=\"\",\" \",'Dettaglio delle attività'!C214)","v":" "},{"$f":"IF('Dettaglio delle attività'!D214=\"\",\" \",'Dettaglio delle attività'!D214)","v":" "},{"$f":"IF('Dettaglio delle attività'!E214=\"\",\" \",'Dettaglio delle attività'!E214)","v":" "}]
[null,null,null,{"$f":"IF('Dettaglio delle attività'!C215=\"\",\" \",'Dettaglio delle attività'!C215)","v":" "},{"$f":"IF('Dettaglio delle attività'!D215=\"\",\" \",'Dettaglio delle attività'!D215)","v":" "},{"$f":"IF('Dettaglio delle attività'!E215=\"\",\" \",'Dettaglio delle attività'!E215)","v":" "}]
[null,null,null,{"$f":"IF('Dettaglio delle attività'!C216=\"\",\" \",'Dettaglio delle attività'!C216)","v":" "},{"$f":"IF('Dettaglio delle attività'!D216=\"\",\" \",'Dettaglio delle attività'!D216)","v":" "},{"$f":"IF('Dettaglio delle attività'!E216=\"\",\" \",'Dettaglio delle attività'!E216)","v":" "}]
[null,null,null,{"$f":"IF('Dettaglio delle attività'!C217=\"\",\" \",'Dettaglio delle attività'!C217)","v":" "},{"$f":"IF('Dettaglio delle attività'!D217=\"\",\" \",'Dettaglio delle attività'!D217)","v":" "},{"$f":"IF('Dettaglio delle attività'!E217=\"\",\" \",'Dettaglio delle attività'!E217)","v":" "}]
[null,null,null,{"$f":"IF('Dettaglio delle attività'!C218=\"\",\" \",'Dettaglio delle attività'!C218)","v":" "},{"$f":"IF('Dettaglio delle attività'!D218=\"\",\" \",'Dettaglio delle attività'!D218)","v":" "},{"$f":"IF('Dettaglio delle attività'!E218=\"\",\" \",'Dettaglio delle attività'!E218)","v":" "}]
[null,null,null,{"$f":"IF('Dettaglio delle attività'!C219=\"\",\" \",'Dettaglio delle attività'!C219)","v":" "},{"$f":"IF('Dettaglio delle attività'!D219=\"\",\" \",'Dettaglio delle attività'!D219)","v":" "},{"$f":"IF('Dettaglio delle attività'!E219=\"\",\" \",'Dettaglio delle attività'!E219)","v":" "}]
[null,null,null,{"$f":"IF('Dettaglio delle attività'!C220=\"\",\" \",'Dettaglio delle attività'!C220)","v":" "},{"$f":"IF('Dettaglio delle attività'!D220=\"\",\" \",'Dettaglio delle attività'!D220)","v":" "},{"$f":"IF('Dettaglio delle attività'!E220=\"\",\" \",'Dettaglio delle attività'!E220)","v":" "}]
[null,null,null,{"$f":"IF('Dettaglio delle attività'!C221=\"\",\" \",'Dettaglio delle attività'!C221)","v":" "},{"$f":"IF('Dettaglio delle attività'!D221=\"\",\" \",'Dettaglio delle attività'!D221)","v":" "},{"$f":"IF('Dettaglio delle attività'!E221=\"\",\" \",'Dettaglio delle attività'!E221)","v":" "}]
[null,null,null,{"$f":"IF('Dettaglio delle attività'!C222=\"\",\" \",'Dettaglio delle attività'!C222)","v":" "},{"$f":"IF('Dettaglio delle attività'!D222=\"\",\" \",'Dettaglio delle attività'!D222)","v":" "},{"$f":"IF('Dettaglio delle attività'!E222=\"\",\" \",'Dettaglio delle attività'!E222)","v":" "}]
[null,null,null,{"$f":"IF('Dettaglio delle attività'!C223=\"\",\" \",'Dettaglio delle attività'!C223)","v":" "},{"$f":"IF('Dettaglio delle attività'!D223=\"\",\" \",'Dettaglio delle attività'!D223)","v":" "},{"$f":"IF('Dettaglio delle attività'!E223=\"\",\" \",'Dettaglio delle attività'!E223)","v":" "}]
[null,null,null,{"$f":"IF('Dettaglio delle attività'!C224=\"\",\" \",'Dettaglio delle attività'!C224)","v":" "},{"$f":"IF('Dettaglio delle attività'!D224=\"\",\" \",'Dettaglio delle attività'!D224)","v":" "},{"$f":"IF('Dettaglio delle attività'!E224=\"\",\" \",'Dettaglio delle attività'!E224)","v":" "}]
[null,null,null,{"$f":"IF('Dettaglio delle attività'!C225=\"\",\" \",'Dettaglio delle attività'!C225)","v":" "},{"$f":"IF('Dettaglio delle attività'!D225=\"\",\" \",'Dettaglio delle attività'!D225)","v":" "},{"$f":"IF('Dettaglio delle attività'!E225=\"\",\" \",'Dettaglio delle attività'!E225)","v":" "}]
[null,null,null,{"$f":"IF('Dettaglio delle attività'!C226=\"\",\" \",'Dettaglio delle attività'!C226)","v":" "},{"$f":"IF('Dettaglio delle attività'!D226=\"\",\" \",'Dettaglio delle attività'!D226)","v":" "},{"$f":"IF('Dettaglio delle attività'!E226=\"\",\" \",'Dettaglio delle attività'!E226)","v":" "}]
[null,null,null,{"$f":"IF('Dettaglio delle attività'!C227=\"\",\" \",'Dettaglio delle attività'!C227)","v":" "},{"$f":"IF('Dettaglio delle attività'!D227=\"\",\" \",'Dettaglio delle attività'!D227)","v":" "},{"$f":"IF('Dettaglio delle attività'!E227=\"\",\" \",'Dettaglio delle attività'!E227)","v":" "}]
[null,null,null,{"$f":"IF('Dettaglio delle attività'!C228=\"\",\" \",'Dettaglio delle attività'!C228)","v":" "},{"$f":"IF('Dettaglio delle attività'!D228=\"\",\" \",'Dettaglio delle attività'!D228)","v":" "},{"$f":"IF('Dettaglio delle attività'!E228=\"\",\" \",'Dettaglio delle attività'!E228)","v":" "}]
[null,null,null,{"$f":"IF('Dettaglio delle attività'!C229=\"\",\" \",'Dettaglio delle attività'!C229)","v":" "},{"$f":"IF('Dettaglio delle attività'!D229=\"\",\" \",'Dettaglio delle attività'!D229)","v":" "},{"$f":"IF('Dettaglio delle attività'!E229=\"\",\" \",'Dettaglio delle attività'!E229)","v":" "}]
[null,null,null,{"$f":"IF('Dettaglio delle attività'!C230=\"\",\" \",'Dettaglio delle attività'!C230)","v":" "},{"$f":"IF('Dettaglio delle attività'!D230=\"\",\" \",'Dettaglio delle attività'!D230)","v":" "},{"$f":"IF('Dettaglio delle attività'!E230=\"\",\" \",'Dettaglio delle attività'!E230)","v":" "}]
[null,null,null,{"$f":"IF('Dettaglio delle attività'!C231=\"\",\" \",'Dettaglio delle attività'!C231)","v":" "},{"$f":"IF('Dettaglio delle attività'!D231=\"\",\" \",'Dettaglio delle attività'!D231)","v":" "},{"$f":"IF('Dettaglio delle attività'!E231=\"\",\" \",'Dettaglio delle attività'!E231)","v":" "}]
[null,null,null,{"$f":"IF('Dettaglio delle attività'!C232=\"\",\" \",'Dettaglio delle attività'!C232)","v":" "},{"$f":"IF('Dettaglio delle attività'!D232=\"\",\" \",'Dettaglio delle attività'!D232)","v":" "},{"$f":"IF('Dettaglio delle attività'!E232=\"\",\" \",'Dettaglio delle attività'!E232)","v":" "}]
[null,null,null,{"$f":"IF('Dettaglio delle attività'!C233=\"\",\" \",'Dettaglio delle attività'!C233)","v":" "},{"$f":"IF('Dettaglio delle attività'!D233=\"\",\" \",'Dettaglio delle attività'!D233)","v":" "},{"$f":"IF('Dettaglio delle attività'!E233=\"\",\" \",'Dettaglio delle attività'!E233)","v":" "}]
[null,null,null,{"$f":"IF('Dettaglio delle attività'!C234=\"\",\" \",'Dettaglio delle attività'!C234)","v":" "},{"$f":"IF('Dettaglio delle attività'!D234=\"\",\" \",'Dettaglio delle attività'!D234)","v":" "},{"$f":"IF('Dettaglio delle attività'!E234=\"\",\" \",'Dettaglio delle attività'!E234)","v":" "}]
[null,null,null,{"$f":"IF('Dettaglio delle attività'!C235=\"\",\" \",'Dettaglio delle attività'!C235)","v":" "},{"$f":"IF('Dettaglio delle attività'!D235=\"\",\" \",'Dettaglio delle attività'!D235)","v":" "},{"$f":"IF('Dettaglio delle attività'!E235=\"\",\" \",'Dettaglio delle attività'!E235)","v":" "}]
[null,null,null,{"$f":"IF('Dettaglio delle attività'!C236=\"\",\" \",'Dettaglio delle attività'!C236)","v":" "},{"$f":"IF('Dettaglio delle attività'!D236=\"\",\" \",'Dettaglio delle attività'!D236)","v":" "},{"$f":"IF('Dettaglio delle attività'!E236=\"\",\" \",'Dettaglio delle attività'!E236)","v":" "}]
[null,null,null,{"$f":"IF('Dettaglio delle attività'!C237=\"\",\" \",'Dettaglio delle attività'!C237)","v":" "},{"$f":"IF('Dettaglio delle attività'!D237=\"\",\" \",'Dettaglio delle attività'!D237)","v":" "},{"$f":"IF('Dettaglio delle attività'!E237=\"\",\" \",'Dettaglio delle attività'!E237)","v":" "}]
[null,null,null,{"$f":"IF('Dettaglio delle attività'!C238=\"\",\" \",'Dettaglio delle attività'!C238)","v":" "},{"$f":"IF('Dettaglio delle attività'!D238=\"\",\" \",'Dettaglio delle attività'!D238)","v":" "},{"$f":"IF('Dettaglio delle attività'!E238=\"\",\" \",'Dettaglio delle attività'!E238)","v":" "}]
[null,null,null,{"$f":"IF('Dettaglio delle attività'!C239=\"\",\" \",'Dettaglio delle attività'!C239)","v":" "},{"$f":"IF('Dettaglio delle attività'!D239=\"\",\" \",'Dettaglio delle attività'!D239)","v":" "},{"$f":"IF('Dettaglio delle attività'!E239=\"\",\" \",'Dettaglio delle attività'!E239)","v":" "}]
[null,null,null,{"$f":"IF('Dettaglio delle attività'!C240=\"\",\" \",'Dettaglio delle attività'!C240)","v":" "},{"$f":"IF('Dettaglio delle attività'!D240=\"\",\" \",'Dettaglio delle attività'!D240)","v":" "},{"$f":"IF('Dettaglio delle attività'!E240=\"\",\" \",'Dettaglio delle attività'!E240)","v":" "}]
[null,null,null,{"$f":"IF('Dettaglio delle attività'!C241=\"\",\" \",'Dettaglio delle attività'!C241)","v":" "},{"$f":"IF('Dettaglio delle attività'!D241=\"\",\" \",'Dettaglio delle attività'!D241)","v":" "},{"$f":"IF('Dettaglio delle attività'!E241=\"\",\" \",'Dettaglio delle attività'!E241)","v":" "}]
[null,null,null,{"$f":"IF('Dettaglio delle attività'!C242=\"\",\" \",'Dettaglio delle attività'!C242)","v":" "},{"$f":"IF('Dettaglio delle attività'!D242=\"\",\" \",'Dettaglio delle attività'!D242)","v":" "},{"$f":"IF('Dettaglio delle attività'!E242=\"\",\" \",'Dettaglio delle attività'!E242)","v":" "}]
[null,null,null,{"$f":"IF('Dettaglio delle attività'!C243=\"\",\" \",'Dettaglio delle attività'!C243)","v":" "},{"$f":"IF('Dettaglio delle attività'!D243=\"\",\" \",'Dettaglio delle attività'!D243)","v":" "},{"$f":"IF('Dettaglio delle attività'!E243=\"\",\" \",'Dettaglio delle attività'!E243)","v":" "}]
[null,null,null,{"$f":"IF('Dettaglio delle attività'!C244=\"\",\" \",'Dettaglio delle attività'!C244)","v":" "},{"$f":"IF('Dettaglio delle attività'!D244=\"\",\" \",'Dettaglio delle attività'!D244)","v":" "},{"$f":"IF('Dettaglio delle attività'!E244=\"\",\" \",'Dettaglio delle attività'!E244)","v":" "}]
[null,null,null,{"$f":"IF('Dettaglio delle attività'!C245=\"\",\" \",'Dettaglio delle attività'!C245)","v":" "},{"$f":"IF('Dettaglio delle attività'!D245=\"\",\" \",'Dettaglio delle attività'!D245)","v":" "},{"$f":"IF('Dettaglio delle attività'!E245=\"\",\" \",'Dettaglio delle attività'!E245)","v":" "}]
[null,null,null,{"$f":"IF('Dettaglio delle attività'!C246=\"\",\" \",'Dettaglio delle attività'!C246)","v":" "},{"$f":"IF('Dettaglio delle attività'!D246=\"\",\" \",'Dettaglio delle attività'!D246)","v":" "},{"$f":"IF('Dettaglio delle attività'!E246=\"\",\" \",'Dettaglio delle attività'!E246)","v":" "}]
[null,null,null,{"$f":"IF('Dettaglio delle attività'!C247=\"\",\" \",'Dettaglio delle attività'!C247)","v":" "},{"$f":"IF('Dettaglio delle attività'!D247=\"\",\" \",'Dettaglio delle attività'!D247)","v":" "},{"$f":"IF('Dettaglio delle attività'!E247=\"\",\" \",'Dettaglio delle attività'!E247)","v":" "}]
[null,null,null,{"$f":"IF('Dettaglio delle attività'!C248=\"\",\" \",'Dettaglio delle attività'!C248)","v":" "},{"$f":"IF('Dettaglio delle attività'!D248=\"\",\" \",'Dettaglio delle attività'!D248)","v":" "},{"$f":"IF('Dettaglio delle attività'!E248=\"\",\" \",'Dettaglio delle attività'!E248)","v":" "}]
[null,null,null,{"$f":"IF('Dettaglio delle attività'!C249=\"\",\" \",'Dettaglio delle attività'!C249)","v":" "},{"$f":"IF('Dettaglio delle attività'!D249=\"\",\" \",'Dettaglio delle attività'!D249)","v":" "},{"$f":"IF('Dettaglio delle attività'!E249=\"\",\" \",'Dettaglio delle attività'!E249)","v":" "}]
[null,null,null,{"$f":"IF('Dettaglio delle attività'!C250=\"\",\" \",'Dettaglio delle attività'!C250)","v":" "},{"$f":"IF('Dettaglio delle attività'!D250=\"\",\" \",'Dettaglio delle attività'!D250)","v":" "},{"$f":"IF('Dettaglio delle attività'!E250=\"\",\" \",'Dettaglio delle attività'!E250)","v":" "}]
[null,null,null,{"$f":"IF('Dettaglio delle attività'!C251=\"\",\" \",'Dettaglio delle attività'!C251)","v":" "},{"$f":"IF('Dettaglio delle attività'!D251=\"\",\" \",'Dettaglio delle attività'!D251)","v":" "},{"$f":"IF('Dettaglio delle attività'!E251=\"\",\" \",'Dettaglio delle attività'!E251)","v":" "}]
[null,null,null,{"$f":"IF('Dettaglio delle attività'!C252=\"\",\" \",'Dettaglio delle attività'!C252)","v":" "},{"$f":"IF('Dettaglio delle attività'!D252=\"\",\" \",'Dettaglio delle attività'!D252)","v":" "},{"$f":"IF('Dettaglio delle attività'!E252=\"\",\" \",'Dettaglio delle attività'!E252)","v":" "}]
[null,null,null,{"$f":"IF('Dettaglio delle attività'!C253=\"\",\" \",'Dettaglio delle attività'!C253)","v":" "},{"$f":"IF('Dettaglio delle attività'!D253=\"\",\" \",'Dettaglio delle attività'!D253)","v":" "},{"$f":"IF('Dettaglio delle attività'!E253=\"\",\" \",'Dettaglio delle attività'!E253)","v":" "}]
[null,null,null,{"$f":"IF('Dettaglio delle attività'!C254=\"\",\" \",'Dettaglio delle attività'!C254)","v":" "},{"$f":"IF('Dettaglio delle attività'!D254=\"\",\" \",'Dettaglio delle attività'!D254)","v":" "},{"$f":"IF('Dettaglio delle attività'!E254=\"\",\" \",'Dettaglio delle attività'!E254)","v":" "}]
[null,null,null,{"$f":"IF('Dettaglio delle attività'!C255=\"\",\" \",'Dettaglio delle attività'!C255)","v":" "},{"$f":"IF('Dettaglio delle attività'!D255=\"\",\" \",'Dettaglio delle attività'!D255)","v":" "},{"$f":"IF('Dettaglio delle attività'!E255=\"\",\" \",'Dettaglio delle attività'!E255)","v":" "}]
[null,null,null,{"$f":"IF('Dettaglio delle attività'!C256=\"\",\" \",'Dettaglio delle attività'!C256)","v":" "},{"$f":"IF('Dettaglio delle attività'!D256=\"\",\" \",'Dettaglio delle attività'!D256)","v":" "},{"$f":"IF('Dettaglio delle attività'!E256=\"\",\" \",'Dettaglio delle attività'!E256)","v":" "}]
[null,null,null,{"$f":"IF('Dettaglio delle attività'!C257=\"\",\" \",'Dettaglio delle attività'!C257)","v":" "},{"$f":"IF('Dettaglio delle attività'!D257=\"\",\" \",'Dettaglio delle attività'!D257)","v":" "},{"$f":"IF('Dettaglio delle attività'!E257=\"\",\" \",'Dettaglio delle attività'!E257)","v":" "}]
[null,null,null,{"$f":"IF('Dettaglio delle attività'!C258=\"\",\" \",'Dettaglio delle attività'!C258)","v":" "},{"$f":"IF('Dettaglio delle attività'!D258=\"\",\" \",'Dettaglio delle attività'!D258)","v":" "},{"$f":"IF('Dettaglio delle attività'!E258=\"\",\" \",'Dettaglio delle attività'!E258)","v":" "}]
[null,null,null,{"$f":"IF('Dettaglio delle attività'!C259=\"\",\" \",'Dettaglio delle attività'!C259)","v":" "},{"$f":"IF('Dettaglio delle attività'!D259=\"\",\" \",'Dettaglio delle attività'!D259)","v":" "},{"$f":"IF('Dettaglio delle attività'!E259=\"\",\" \",'Dettaglio delle attività'!E259)","v":" "}]
[null,null,null,{"$f":"IF('Dettaglio delle attività'!C260=\"\",\" \",'Dettaglio delle attività'!C260)","v":" "},{"$f":"IF('Dettaglio delle attività'!D260=\"\",\" \",'Dettaglio delle attività'!D260)","v":" "},{"$f":"IF('Dettaglio delle attività'!E260=\"\",\" \",'Dettaglio delle attività'!E260)","v":" "}]
[null,null,null,{"$f":"IF('Dettaglio delle attività'!C261=\"\",\" \",'Dettaglio delle attività'!C261)","v":" "},{"$f":"IF('Dettaglio delle attività'!D261=\"\",\" \",'Dettaglio delle attività'!D261)","v":" "},{"$f":"IF('Dettaglio delle attività'!E261=\"\",\" \",'Dettaglio delle attività'!E261)","v":" "}]
[null,null,null,{"$f":"IF('Dettaglio delle attività'!C262=\"\",\" \",'Dettaglio delle attività'!C262)","v":" "},{"$f":"IF('Dettaglio delle attività'!D262=\"\",\" \",'Dettaglio delle attività'!D262)","v":" "},{"$f":"IF('Dettaglio delle attività'!E262=\"\",\" \",'Dettaglio delle attività'!E262)","v":" "}]
[null,null,null,{"$f":"IF('Dettaglio delle attività'!C263=\"\",\" \",'Dettaglio delle attività'!C263)","v":" "},{"$f":"IF('Dettaglio delle attività'!D263=\"\",\" \",'Dettaglio delle attività'!D263)","v":" "},{"$f":"IF('Dettaglio delle attività'!E263=\"\",\" \",'Dettaglio delle attività'!E263)","v":" "}]
[null,null,null,{"$f":"IF('Dettaglio delle attività'!C264=\"\",\" \",'Dettaglio delle attività'!C264)","v":" "},{"$f":"IF('Dettaglio delle attività'!D264=\"\",\" \",'Dettaglio delle attività'!D264)","v":" "},{"$f":"IF('Dettaglio delle attività'!E264=\"\",\" \",'Dettaglio delle attività'!E264)","v":" "}]
[null,null,null,{"$f":"IF('Dettaglio delle attività'!C265=\"\",\" \",'Dettaglio delle attività'!C265)","v":" "},{"$f":"IF('Dettaglio delle attività'!D265=\"\",\" \",'Dettaglio delle attività'!D265)","v":" "},{"$f":"IF('Dettaglio delle attività'!E265=\"\",\" \",'Dettaglio delle attività'!E265)","v":" "}]
[null,null,null,{"$f":"IF('Dettaglio delle attività'!C266=\"\",\" \",'Dettaglio delle attività'!C266)","v":" "},{"$f":"IF('Dettaglio delle attività'!D266=\"\",\" \",'Dettaglio delle attività'!D266)","v":" "},{"$f":"IF('Dettaglio delle attività'!E266=\"\",\" \",'Dettaglio delle attività'!E266)","v":" "}]
[null,null,null,{"$f":"IF('Dettaglio delle attività'!C267=\"\",\" \",'Dettaglio delle attività'!C267)","v":" "},{"$f":"IF('Dettaglio delle attività'!D267=\"\",\" \",'Dettaglio delle attività'!D267)","v":" "},{"$f":"IF('Dettaglio delle attività'!E267=\"\",\" \",'Dettaglio delle attività'!E267)","v":" "}]
[null,null,null,{"$f":"IF('Dettaglio delle attività'!C268=\"\",\" \",'Dettaglio delle attività'!C268)","v":" "},{"$f":"IF('Dettaglio delle attività'!D268=\"\",\" \",'Dettaglio delle attività'!D268)","v":" "},{"$f":"IF('Dettaglio delle attività'!E268=\"\",\" \",'Dettaglio delle attività'!E268)","v":" "}]
[null,null,null,{"$f":"IF('Dettaglio delle attività'!C269=\"\",\" \",'Dettaglio delle attività'!C269)","v":" "},{"$f":"IF('Dettaglio delle attività'!D269=\"\",\" \",'Dettaglio delle attività'!D269)","v":" "},{"$f":"IF('Dettaglio delle attività'!E269=\"\",\" \",'Dettaglio delle attività'!E269)","v":" "}]
[null,null,null,{"$f":"IF('Dettaglio delle attività'!C270=\"\",\" \",'Dettaglio delle attività'!C270)","v":" "},{"$f":"IF('Dettaglio delle attività'!D270=\"\",\" \",'Dettaglio delle attività'!D270)","v":" "},{"$f":"IF('Dettaglio delle attività'!E270=\"\",\" \",'Dettaglio delle attività'!E270)","v":" "}]
[null,null,null,{"$f":"IF('Dettaglio delle attività'!C271=\"\",\" \",'Dettaglio delle attività'!C271)","v":" "},{"$f":"IF('Dettaglio delle attività'!D271=\"\",\" \",'Dettaglio delle attività'!D271)","v":" "},{"$f":"IF('Dettaglio delle attività'!E271=\"\",\" \",'Dettaglio delle attività'!E271)","v":" "}]
[null,null,null,{"$f":"IF('Dettaglio delle attività'!C272=\"\",\" \",'Dettaglio delle attività'!C272)","v":" "},{"$f":"IF('Dettaglio delle attività'!D272=\"\",\" \",'Dettaglio delle attività'!D272)","v":" "},{"$f":"IF('Dettaglio delle attività'!E272=\"\",\" \",'Dettaglio delle attività'!E272)","v":" "}]
[null,null,null,{"$f":"IF('Dettaglio delle attività'!C273=\"\",\" \",'Dettaglio delle attività'!C273)","v":" "},{"$f":"IF('Dettaglio delle attività'!D273=\"\",\" \",'Dettaglio delle attività'!D273)","v":" "},{"$f":"IF('Dettaglio delle attività'!E273=\"\",\" \",'Dettaglio delle attività'!E273)","v":" "}]
[null,null,null,{"$f":"IF('Dettaglio delle attività'!C274=\"\",\" \",'Dettaglio delle attività'!C274)","v":" "},{"$f":"IF('Dettaglio delle attività'!D274=\"\",\" \",'Dettaglio delle attività'!D274)","v":" "},{"$f":"IF('Dettaglio delle attività'!E274=\"\",\" \",'Dettaglio delle attività'!E274)","v":" "}]
[null,null,null,{"$f":"IF('Dettaglio delle attività'!C275=\"\",\" \",'Dettaglio delle attività'!C275)","v":" "},{"$f":"IF('Dettaglio delle attività'!D275=\"\",\" \",'Dettaglio delle attività'!D275)","v":" "},{"$f":"IF('Dettaglio delle attività'!E275=\"\",\" \",'Dettaglio delle attività'!E275)","v":" "}]
[null,null,null,{"$f":"IF('Dettaglio delle attività'!C276=\"\",\" \",'Dettaglio delle attività'!C276)","v":" "},{"$f":"IF('Dettaglio delle attività'!D276=\"\",\" \",'Dettaglio delle attività'!D276)","v":" "},{"$f":"IF('Dettaglio delle attività'!E276=\"\",\" \",'Dettaglio delle attività'!E276)","v":" "}]
[null,null,null,{"$f":"IF('Dettaglio delle attività'!C277=\"\",\" \",'Dettaglio delle attività'!C277)","v":" "},{"$f":"IF('Dettaglio delle attività'!D277=\"\",\" \",'Dettaglio delle attività'!D277)","v":" "},{"$f":"IF('Dettaglio delle attività'!E277=\"\",\" \",'Dettaglio delle attività'!E277)","v":" "}]
[null,null,null,{"$f":"IF('Dettaglio delle attività'!C278=\"\",\" \",'Dettaglio delle attività'!C278)","v":" "},{"$f":"IF('Dettaglio delle attività'!D278=\"\",\" \",'Dettaglio delle attività'!D278)","v":" "},{"$f":"IF('Dettaglio delle attività'!E278=\"\",\" \",'Dettaglio delle attività'!E278)","v":" "}]
[null,null,null,{"$f":"IF('Dettaglio delle attività'!C279=\"\",\" \",'Dettaglio delle attività'!C279)","v":" "},{"$f":"IF('Dettaglio delle attività'!D279=\"\",\" \",'Dettaglio delle attività'!D279)","v":" "},{"$f":"IF('Dettaglio delle attività'!E279=\"\",\" \",'Dettaglio delle attività'!E279)","v":" "}]
[null,null,null,{"$f":"IF('Dettaglio delle attività'!C280=\"\",\" \",'Dettaglio delle attività'!C280)","v":" "},{"$f":"IF('Dettaglio delle attività'!D280=\"\",\" \",'Dettaglio delle attività'!D280)","v":" "},{"$f":"IF('Dettaglio delle attività'!E280=\"\",\" \",'Dettaglio delle attività'!E280)","v":" "}]
[null,null,null,{"$f":"IF('Dettaglio delle attività'!C281=\"\",\" \",'Dettaglio delle attività'!C281)","v":" "},{"$f":"IF('Dettaglio delle attività'!D281=\"\",\" \",'Dettaglio delle attività'!D281)","v":" "},{"$f":"IF('Dettaglio delle attività'!E281=\"\",\" \",'Dettaglio delle attività'!E281)","v":" "}]
[null,null,null,{"$f":"IF('Dettaglio delle attività'!C282=\"\",\" \",'Dettaglio delle attività'!C282)","v":" "},{"$f":"IF('Dettaglio delle attività'!D282=\"\",\" \",'Dettaglio delle attività'!D282)","v":" "},{"$f":"IF('Dettaglio delle attività'!E282=\"\",\" \",'Dettaglio delle attività'!E282)","v":" "}]
[null,null,null,{"$f":"IF('Dettaglio delle attività'!C283=\"\",\" \",'Dettaglio delle attività'!C283)","v":" "},{"$f":"IF('Dettaglio delle attività'!D283=\"\",\" \",'Dettaglio delle attività'!D283)","v":" "},{"$f":"IF('Dettaglio delle attività'!E283=\"\",\" \",'Dettaglio delle attività'!E283)","v":" "}]
[null,null,null,{"$f":"IF('Dettaglio delle attività'!C284=\"\",\" \",'Dettaglio delle attività'!C284)","v":" "},{"$f":"IF('Dettaglio delle attività'!D284=\"\",\" \",'Dettaglio delle attività'!D284)","v":" "},{"$f":"IF('Dettaglio delle attività'!E284=\"\",\" \",'Dettaglio delle attività'!E284)","v":" "}]
[null,null,null,{"$f":"IF('Dettaglio delle attività'!C285=\"\",\" \",'Dettaglio delle attività'!C285)","v":" "},{"$f":"IF('Dettaglio delle attività'!D285=\"\",\" \",'Dettaglio delle attività'!D285)","v":" "},{"$f":"IF('Dettaglio delle attività'!E285=\"\",\" \",'Dettaglio delle attività'!E285)","v":" "}]
[null,null,null,{"$f":"IF('Dettaglio delle attività'!C286=\"\",\" \",'Dettaglio delle attività'!C286)","v":" "},{"$f":"IF('Dettaglio delle attività'!D286=\"\",\" \",'Dettaglio delle attività'!D286)","v":" "},{"$f":"IF('Dettaglio delle attività'!E286=\"\",\" \",'Dettaglio delle attività'!E286)","v":" "}]
[null,null,null,{"$f":"IF('Dettaglio delle attività'!C287=\"\",\" \",'Dettaglio delle attività'!C287)","v":" "},{"$f":"IF('Dettaglio delle attività'!D287=\"\",\" \",'Dettaglio delle attività'!D287)","v":" "},{"$f":"IF('Dettaglio delle attività'!E287=\"\",\" \",'Dettaglio delle attività'!E287)","v":" "}]
[null,null,null,{"$f":"IF('Dettaglio delle attività'!C288=\"\",\" \",'Dettaglio delle attività'!C288)","v":" "},{"$f":"IF('Dettaglio delle attività'!D288=\"\",\" \",'Dettaglio delle attività'!D288)","v":" "},{"$f":"IF('Dettaglio delle attività'!E288=\"\",\" \",'Dettaglio delle attività'!E288)","v":" "}]
[null,null,null,{"$f":"IF('Dettaglio delle attività'!C289=\"\",\" \",'Dettaglio delle attività'!C289)","v":" "},{"$f":"IF('Dettaglio delle attività'!D289=\"\",\" \",'Dettaglio delle attività'!D289)","v":" "},{"$f":"IF('Dettaglio delle attività'!E289=\"\",\" \",'Dettaglio delle attività'!E289)","v":" "}]
[null,null,null,{"$f":"IF('Dettaglio delle attività'!C290=\"\",\" \",'Dettaglio delle attività'!C290)","v":" "},{"$f":"IF('Dettaglio delle attività'!D290=\"\",\" \",'Dettaglio delle attività'!D290)","v":" "},{"$f":"IF('Dettaglio delle attività'!E290=\"\",\" \",'Dettaglio delle attività'!E290)","v":" "}]
[null,null,null,{"$f":"IF('Dettaglio delle attività'!C291=\"\",\" \",'Dettaglio delle attività'!C291)","v":" "},{"$f":"IF('Dettaglio delle attività'!D291=\"\",\" \",'Dettaglio delle attività'!D291)","v":" "},{"$f":"IF('Dettaglio delle attività'!E291=\"\",\" \",'Dettaglio delle attività'!E291)","v":" "}]
[null,null,null,{"$f":"IF('Dettaglio delle attività'!C292=\"\",\" \",'Dettaglio delle attività'!C292)","v":" "},{"$f":"IF('Dettaglio delle attività'!D292=\"\",\" \",'Dettaglio delle attività'!D292)","v":" "},{"$f":"IF('Dettaglio delle attività'!E292=\"\",\" \",'Dettaglio delle attività'!E292)","v":" "}]
[null,null,null,{"$f":"IF('Dettaglio delle attività'!C293=\"\",\" \",'Dettaglio delle attività'!C293)","v":" "},{"$f":"IF('Dettaglio delle attività'!D293=\"\",\" \",'Dettaglio delle attività'!D293)","v":" "},{"$f":"IF('Dettaglio delle attività'!E293=\"\",\" \",'Dettaglio delle attività'!E293)","v":" "}]
[null,null,null,{"$f":"IF('Dettaglio delle attività'!C294=\"\",\" \",'Dettaglio delle attività'!C294)","v":" "},{"$f":"IF('Dettaglio delle attività'!D294=\"\",\" \",'Dettaglio delle attività'!D294)","v":" "},{"$f":"IF('Dettaglio delle attività'!E294=\"\",\" \",'Dettaglio delle attività'!E294)","v":" "}]
[null,null,null,{"$f":"IF('Dettaglio delle attività'!C295=\"\",\" \",'Dettaglio delle attività'!C295)","v":" "},{"$f":"IF('Dettaglio delle attività'!D295=\"\",\" \",'Dettaglio delle attività'!D295)","v":" "},{"$f":"IF('Dettaglio delle attività'!E295=\"\",\" \",'Dettaglio delle attività'!E295)","v":" "}]
[null,null,null,{"$f":"IF('Dettaglio delle attività'!C296=\"\",\" \",'Dettaglio delle attività'!C296)","v":" "},{"$f":"IF('Dettaglio delle attività'!D296=\"\",\" \",'Dettaglio delle attività'!D296)","v":" "},{"$f":"IF('Dettaglio delle attività'!E296=\"\",\" \",'Dettaglio delle attività'!E296)","v":" "}]
[null,null,null,{"$f":"IF('Dettaglio delle attività'!C297=\"\",\" \",'Dettaglio delle attività'!C297)","v":" "},{"$f":"IF('Dettaglio delle attività'!D297=\"\",\" \",'Dettaglio delle attività'!D297)","v":" "},{"$f":"IF('Dettaglio delle attività'!E297=\"\",\" \",'Dettaglio delle attività'!E297)","v":" "}]
[null,null,null,{"$f":"IF('Dettaglio delle attività'!C298=\"\",\" \",'Dettaglio delle attività'!C298)","v":" "},{"$f":"IF('Dettaglio delle attività'!D298=\"\",\" \",'Dettaglio delle attività'!D298)","v":" "},{"$f":"IF('Dettaglio delle attività'!E298=\"\",\" \",'Dettaglio delle attività'!E298)","v":" "}]
[null,null,null,{"$f":"IF('Dettaglio delle attività'!C299=\"\",\" \",'Dettaglio delle attività'!C299)","v":" "},{"$f":"IF('Dettaglio delle attività'!D299=\"\",\" \",'Dettaglio delle attività'!D299)","v":" "},{"$f":"IF('Dettaglio delle attività'!E299=\"\",\" \",'Dettaglio delle attività'!E299)","v":" "}]
[null,null,null,{"$f":"IF('Dettaglio delle attività'!C300=\"\",\" \",'Dettaglio delle attività'!C300)","v":" "},{"$f":"IF('Dettaglio delle attività'!D300=\"\",\" \",'Dettaglio delle attività'!D300)","v":" "},{"$f":"IF('Dettaglio delle attività'!E300=\"\",\" \",'Dettaglio delle attività'!E300)","v":" "}]
[null,null,null,{"$f":"IF('Dettaglio delle attività'!C301=\"\",\" \",'Dettaglio delle attività'!C301)","v":" "},{"$f":"IF('Dettaglio delle attività'!D301=\"\",\" \",'Dettaglio delle attività'!D301)","v":" "},{"$f":"IF('Dettaglio delle attività'!E301=\"\",\" \",'Dettaglio delle attività'!E301)","v":" "}]
[null,null,null,{"$f":"IF('Dettaglio delle attività'!C302=\"\",\" \",'Dettaglio delle attività'!C302)","v":" "},{"$f":"IF('Dettaglio delle attività'!D302=\"\",\" \",'Dettaglio delle attività'!D302)","v":" "},{"$f":"IF('Dettaglio delle attività'!E302=\"\",\" \",'Dettaglio delle attività'!E302)","v":" "}]
[null,null,null,{"$f":"IF('Dettaglio delle attività'!C303=\"\",\" \",'Dettaglio delle attività'!C303)","v":" "},{"$f":"IF('Dettaglio delle attività'!D303=\"\",\" \",'Dettaglio delle attività'!D303)","v":" "},{"$f":"IF('Dettaglio delle attività'!E303=\"\",\" \",'Dettaglio delle attività'!E303)","v":" "}]
[null,null,null,{"$f":"IF('Dettaglio delle attività'!C304=\"\",\" \",'Dettaglio delle attività'!C304)","v":" "},{"$f":"IF('Dettaglio delle attività'!D304=\"\",\" \",'Dettaglio delle attività'!D304)","v":" "},{"$f":"IF('Dettaglio delle attività'!E304=\"\",\" \",'Dettaglio delle attività'!E304)","v":" "}]
[null,null,null,{"$f":"IF('Dettaglio delle attività'!C305=\"\",\" \",'Dettaglio delle attività'!C305)","v":" "},{"$f":"IF('Dettaglio delle attività'!D305=\"\",\" \",'Dettaglio delle attività'!D305)","v":" "},{"$f":"IF('Dettaglio delle attività'!E305=\"\",\" \",'Dettaglio delle attività'!E305)","v":" "}]
[null,null,null,{"$f":"IF('Dettaglio delle attività'!C306=\"\",\" \",'Dettaglio delle attività'!C306)","v":" "},{"$f":"IF('Dettaglio delle attività'!D306=\"\",\" \",'Dettaglio delle attività'!D306)","v":" "},{"$f":"IF('Dettaglio delle attività'!E306=\"\",\" \",'Dettaglio delle attività'!E306)","v":" "}]
[null,null,null,{"$f":"IF('Dettaglio delle attività'!C307=\"\",\" \",'Dettaglio delle attività'!C307)","v":" "},{"$f":"IF('Dettaglio delle attività'!D307=\"\",\" \",'Dettaglio delle attività'!D307)","v":" "},{"$f":"IF('Dettaglio delle attività'!E307=\"\",\" \",'Dettaglio delle attività'!E307)","v":" "}]
[null,null,null,{"$f":"IF('Dettaglio delle attività'!C308=\"\",\" \",'Dettaglio delle attività'!C308)","v":" "},{"$f":"IF('Dettaglio delle attività'!D308=\"\",\" \",'Dettaglio delle attività'!D308)","v":" "},{"$f":"IF('Dettaglio delle attività'!E308=\"\",\" \",'Dettaglio delle attività'!E308)","v":" "}]
[null,null,null,{"$f":"IF('Dettaglio delle attività'!C309=\"\",\" \",'Dettaglio delle attività'!C309)","v":" "},{"$f":"IF('Dettaglio delle attività'!D309=\"\",\" \",'Dettaglio delle attività'!D309)","v":" "},{"$f":"IF('Dettaglio delle attività'!E309=\"\",\" \",'Dettaglio delle attività'!E309)","v":" "}]
[null,null,null,{"$f":"IF('Dettaglio delle attività'!C310=\"\",\" \",'Dettaglio delle attività'!C310)","v":" "},{"$f":"IF('Dettaglio delle attività'!D310=\"\",\" \",'Dettaglio delle attività'!D310)","v":" "},{"$f":"IF('Dettaglio delle attività'!E310=\"\",\" \",'Dettaglio delle attività'!E310)","v":" "}]
[null,null,null,{"$f":"IF('Dettaglio delle attività'!C311=\"\",\" \",'Dettaglio delle attività'!C311)","v":" "},{"$f":"IF('Dettaglio delle attività'!D311=\"\",\" \",'Dettaglio delle attività'!D311)","v":" "},{"$f":"IF('Dettaglio delle attività'!E311=\"\",\" \",'Dettaglio delle attività'!E311)","v":" "}]
[null,null,null,{"$f":"IF('Dettaglio delle attività'!C312=\"\",\" \",'Dettaglio delle attività'!C312)","v":" "},{"$f":"IF('Dettaglio delle attività'!D312=\"\",\" \",'Dettaglio delle attività'!D312)","v":" "},{"$f":"IF('Dettaglio delle attività'!E312=\"\",\" \",'Dettaglio delle attività'!E312)","v":" "}]
[null,null,null,{"$f":"IF('Dettaglio delle attività'!C313=\"\",\" \",'Dettaglio delle attività'!C313)","v":" "},{"$f":"IF('Dettaglio delle attività'!D313=\"\",\" \",'Dettaglio delle attività'!D313)","v":" "},{"$f":"IF('Dettaglio delle attività'!E313=\"\",\" \",'Dettaglio delle attività'!E313)","v":" "}]
[null,null,null,{"$f":"IF('Dettaglio delle attività'!C314=\"\",\" \",'Dettaglio delle attività'!C314)","v":" "},{"$f":"IF('Dettaglio delle attività'!D314=\"\",\" \",'Dettaglio delle attività'!D314)","v":" "},{"$f":"IF('Dettaglio delle attività'!E314=\"\",\" \",'Dettaglio delle attività'!E314)","v":" "}]
[null,null,null,{"$f":"IF('Dettaglio delle attività'!C315=\"\",\" \",'Dettaglio delle attività'!C315)","v":" "},{"$f":"IF('Dettaglio delle attività'!D315=\"\",\" \",'Dettaglio delle attività'!D315)","v":" "},{"$f":"IF('Dettaglio delle attività'!E315=\"\",\" \",'Dettaglio delle attività'!E315)","v":" "}]
[null,null,null,{"$f":"IF('Dettaglio delle attività'!C316=\"\",\" \",'Dettaglio delle attività'!C316)","v":" "},{"$f":"IF('Dettaglio delle attività'!D316=\"\",\" \",'Dettaglio delle attività'!D316)","v":" "},{"$f":"IF('Dettaglio delle attività'!E316=\"\",\" \",'Dettaglio delle attività'!E316)","v":" "}]
[null,null,null,{"$f":"IF('Dettaglio delle attività'!C317=\"\",\" \",'Dettaglio delle attività'!C317)","v":" "},{"$f":"IF('Dettaglio delle attività'!D317=\"\",\" \",'Dettaglio delle attività'!D317)","v":" "},{"$f":"IF('Dettaglio delle attività'!E317=\"\",\" \",'Dettaglio delle attività'!E317)","v":" "}]
[null,null,null,{"$f":"IF('Dettaglio delle attività'!C318=\"\",\" \",'Dettaglio delle attività'!C318)","v":" "},{"$f":"IF('Dettaglio delle attività'!D318=\"\",\" \",'Dettaglio delle attività'!D318)","v":" "},{"$f":"IF('Dettaglio delle attività'!E318=\"\",\" \",'Dettaglio delle attività'!E318)","v":" "}]
[null,null,null,{"$f":"IF('Dettaglio delle attività'!C319=\"\",\" \",'Dettaglio delle attività'!C319)","v":" "},{"$f":"IF('Dettaglio delle attività'!D319=\"\",\" \",'Dettaglio delle attività'!D319)","v":" "},{"$f":"IF('Dettaglio delle attività'!E319=\"\",\" \",'Dettaglio delle attività'!E319)","v":" "}]
[null,null,null,{"$f":"IF('Dettaglio delle attività'!C320=\"\",\" \",'Dettaglio delle attività'!C320)","v":" "},{"$f":"IF('Dettaglio delle attività'!D320=\"\",\" \",'Dettaglio delle attività'!D320)","v":" "},{"$f":"IF('Dettaglio delle attività'!E320=\"\",\" \",'Dettaglio delle attività'!E320)","v":" "}]
[null,null,null,{"$f":"IF('Dettaglio delle attività'!C321=\"\",\" \",'Dettaglio delle attività'!C321)","v":" "},{"$f":"IF('Dettaglio delle attività'!D321=\"\",\" \",'Dettaglio delle attività'!D321)","v":" "},{"$f":"IF('Dettaglio delle attività'!E321=\"\",\" \",'Dettaglio delle attività'!E321)","v":" "}]
[null,null,null,{"$f":"IF('Dettaglio delle attività'!C322=\"\",\" \",'Dettaglio delle attività'!C322)","v":" "},{"$f":"IF('Dettaglio delle attività'!D322=\"\",\" \",'Dettaglio delle attività'!D322)","v":" "},{"$f":"IF('Dettaglio delle attività'!E322=\"\",\" \",'Dettaglio delle attività'!E322)","v":" "}]
[null,null,null,{"$f":"IF('Dettaglio delle attività'!C323=\"\",\" \",'Dettaglio delle attività'!C323)","v":" "},{"$f":"IF('Dettaglio delle attività'!D323=\"\",\" \",'Dettaglio delle attività'!D323)","v":" "},{"$f":"IF('Dettaglio delle attività'!E323=\"\",\" \",'Dettaglio delle attività'!E323)","v":" "}]
[null,null,null,{"$f":"IF('Dettaglio delle attività'!C324=\"\",\" \",'Dettaglio delle attività'!C324)","v":" "},{"$f":"IF('Dettaglio delle attività'!D324=\"\",\" \",'Dettaglio delle attività'!D324)","v":" "},{"$f":"IF('Dettaglio delle attività'!E324=\"\",\" \",'Dettaglio delle attività'!E324)","v":" "}]
[null,null,null,{"$f":"IF('Dettaglio delle attività'!C325=\"\",\" \",'Dettaglio delle attività'!C325)","v":" "},{"$f":"IF('Dettaglio delle attività'!D325=\"\",\" \",'Dettaglio delle attività'!D325)","v":" "},{"$f":"IF('Dettaglio delle attività'!E325=\"\",\" \",'Dettaglio delle attività'!E325)","v":" "}]
[null,null,null,{"$f":"IF('Dettaglio delle attività'!C326=\"\",\" \",'Dettaglio delle attività'!C326)","v":" "},{"$f":"IF('Dettaglio delle attività'!D326=\"\",\" \",'Dettaglio delle attività'!D326)","v":" "},{"$f":"IF('Dettaglio delle attività'!E326=\"\",\" \",'Dettaglio delle attività'!E326)","v":" "}]
[null,null,null,{"$f":"IF('Dettaglio delle attività'!C327=\"\",\" \",'Dettaglio delle attività'!C327)","v":" "},{"$f":"IF('Dettaglio delle attività'!D327=\"\",\" \",'Dettaglio delle attività'!D327)","v":" "},{"$f":"IF('Dettaglio delle attività'!E327=\"\",\" \",'Dettaglio delle attività'!E327)","v":" "}]
[null,null,null,{"$f":"IF('Dettaglio delle attività'!C328=\"\",\" \",'Dettaglio delle attività'!C328)","v":" "},{"$f":"IF('Dettaglio delle attività'!D328=\"\",\" \",'Dettaglio delle attività'!D328)","v":" "},{"$f":"IF('Dettaglio delle attività'!E328=\"\",\" \",'Dettaglio delle attività'!E328)","v":" "}]
[null,null,null,{"$f":"IF('Dettaglio delle attività'!C329=\"\",\" \",'Dettaglio delle attività'!C329)","v":" "},{"$f":"IF('Dettaglio delle attività'!D329=\"\",\" \",'Dettaglio delle attività'!D329)","v":" "},{"$f":"IF('Dettaglio delle attività'!E329=\"\",\" \",'Dettaglio delle attività'!E329)","v":" "}]
[null,null,null,{"$f":"IF('Dettaglio delle attività'!C330=\"\",\" \",'Dettaglio delle attività'!C330)","v":" "},{"$f":"IF('Dettaglio delle attività'!D330=\"\",\" \",'Dettaglio delle attività'!D330)","v":" "},{"$f":"IF('Dettaglio delle attività'!E330=\"\",\" \",'Dettaglio delle attività'!E330)","v":" "}]
[null,null,null,{"$f":"IF('Dettaglio delle attività'!C331=\"\",\" \",'Dettaglio delle attività'!C331)","v":" "},{"$f":"IF('Dettaglio delle attività'!D331=\"\",\" \",'Dettaglio delle attività'!D331)","v":" "},{"$f":"IF('Dettaglio delle attività'!E331=\"\",\" \",'Dettaglio delle attività'!E331)","v":" "}]
[null,null,null,{"$f":"IF('Dettaglio delle attività'!C332=\"\",\" \",'Dettaglio delle attività'!C332)","v":" "},{"$f":"IF('Dettaglio delle attività'!D332=\"\",\" \",'Dettaglio delle attività'!D332)","v":" "},{"$f":"IF('Dettaglio delle attività'!E332=\"\",\" \",'Dettaglio delle attività'!E332)","v":" "}]
[null,null,null,{"$f":"IF('Dettaglio delle attività'!C333=\"\",\" \",'Dettaglio delle attività'!C333)","v":" "},{"$f":"IF('Dettaglio delle attività'!D333=\"\",\" \",'Dettaglio delle attività'!D333)","v":" "},{"$f":"IF('Dettaglio delle attività'!E333=\"\",\" \",'Dettaglio delle attività'!E333)","v":" "}]
[null,null,null,{"$f":"IF('Dettaglio delle attività'!C334=\"\",\" \",'Dettaglio delle attività'!C334)","v":" "},{"$f":"IF('Dettaglio delle attività'!D334=\"\",\" \",'Dettaglio delle attività'!D334)","v":" "},{"$f":"IF('Dettaglio delle attività'!E334=\"\",\" \",'Dettaglio delle attività'!E334)","v":" "}]
[null,null,null,{"$f":"IF('Dettaglio delle attività'!C335=\"\",\" \",'Dettaglio delle attività'!C335)","v":" "},{"$f":"IF('Dettaglio delle attività'!D335=\"\",\" \",'Dettaglio delle attività'!D335)","v":" "},{"$f":"IF('Dettaglio delle attività'!E335=\"\",\" \",'Dettaglio delle attività'!E335)","v":" "}]
[null,null,null,{"$f":"IF('Dettaglio delle attività'!C336=\"\",\" \",'Dettaglio delle attività'!C336)","v":" "},{"$f":"IF('Dettaglio delle attività'!D336=\"\",\" \",'Dettaglio delle attività'!D336)","v":" "},{"$f":"IF('Dettaglio delle attività'!E336=\"\",\" \",'Dettaglio delle attività'!E336)","v":" "}]
[null,null,null,{"$f":"IF('Dettaglio delle attività'!C337=\"\",\" \",'Dettaglio delle attività'!C337)","v":" "},{"$f":"IF('Dettaglio delle attività'!D337=\"\",\" \",'Dettaglio delle attività'!D337)","v":" "},{"$f":"IF('Dettaglio delle attività'!E337=\"\",\" \",'Dettaglio delle attività'!E337)","v":" "}]
[null,null,null,{"$f":"IF('Dettaglio delle attività'!C338=\"\",\" \",'Dettaglio delle attività'!C338)","v":" "},{"$f":"IF('Dettaglio delle attività'!D338=\"\",\" \",'Dettaglio delle attività'!D338)","v":" "},{"$f":"IF('Dettaglio delle attività'!E338=\"\",\" \",'Dettaglio delle attività'!E338)","v":" "}]
[null,null,null,{"$f":"IF('Dettaglio delle attività'!C339=\"\",\" \",'Dettaglio delle attività'!C339)","v":" "},{"$f":"IF('Dettaglio delle attività'!D339=\"\",\" \",'Dettaglio delle attività'!D339)","v":" "},{"$f":"IF('Dettaglio delle attività'!E339=\"\",\" \",'Dettaglio delle attività'!E339)","v":" "}]
[null,null,null,{"$f":"IF('Dettaglio delle attività'!C340=\"\",\" \",'Dettaglio delle attività'!C340)","v":" "},{"$f":"IF('Dettaglio delle attività'!D340=\"\",\" \",'Dettaglio delle attività'!D340)","v":" "},{"$f":"IF('Dettaglio delle attività'!E340=\"\",\" \",'Dettaglio delle attività'!E340)","v":" "}]
[null,null,null,{"$f":"IF('Dettaglio delle attività'!C341=\"\",\" \",'Dettaglio delle attività'!C341)","v":" "},{"$f":"IF('Dettaglio delle attività'!D341=\"\",\" \",'Dettaglio delle attività'!D341)","v":" "},{"$f":"IF('Dettaglio delle attività'!E341=\"\",\" \",'Dettaglio delle attività'!E341)","v":" "}]
[null,null,null,{"$f":"IF('Dettaglio delle attività'!C342=\"\",\" \",'Dettaglio delle attività'!C342)","v":" "},{"$f":"IF('Dettaglio delle attività'!D342=\"\",\" \",'Dettaglio delle attività'!D342)","v":" "},{"$f":"IF('Dettaglio delle attività'!E342=\"\",\" \",'Dettaglio delle attività'!E342)","v":" "}]
[null,null,null,{"$f":"IF('Dettaglio delle attività'!C343=\"\",\" \",'Dettaglio delle attività'!C343)","v":" "},{"$f":"IF('Dettaglio delle attività'!D343=\"\",\" \",'Dettaglio delle attività'!D343)","v":" "},{"$f":"IF('Dettaglio delle attività'!E343=\"\",\" \",'Dettaglio delle attività'!E343)","v":" "}]
[null,null,null,{"$f":"IF('Dettaglio delle attività'!C344=\"\",\" \",'Dettaglio delle attività'!C344)","v":" "},{"$f":"IF('Dettaglio delle attività'!D344=\"\",\" \",'Dettaglio delle attività'!D344)","v":" "},{"$f":"IF('Dettaglio delle attività'!E344=\"\",\" \",'Dettaglio delle attività'!E344)","v":" "}]
[null,null,null,{"$f":"IF('Dettaglio delle attività'!C345=\"\",\" \",'Dettaglio delle attività'!C345)","v":" "},{"$f":"IF('Dettaglio delle attività'!D345=\"\",\" \",'Dettaglio delle attività'!D345)","v":" "},{"$f":"IF('Dettaglio delle attività'!E345=\"\",\" \",'Dettaglio delle attività'!E345)","v":" "}]
[null,null,null,{"$f":"IF('Dettaglio delle attività'!C346=\"\",\" \",'Dettaglio delle attività'!C346)","v":" "},{"$f":"IF('Dettaglio delle attività'!D346=\"\",\" \",'Dettaglio delle attività'!D346)","v":" "},{"$f":"IF('Dettaglio delle attività'!E346=\"\",\" \",'Dettaglio delle attività'!E346)","v":" "}]
[null,null,null,{"$f":"IF('Dettaglio delle attività'!C347=\"\",\" \",'Dettaglio delle attività'!C347)","v":" "},{"$f":"IF('Dettaglio delle attività'!D347=\"\",\" \",'Dettaglio delle attività'!D347)","v":" "},{"$f":"IF('Dettaglio delle attività'!E347=\"\",\" \",'Dettaglio delle attività'!E347)","v":" "}]
[null,null,null,{"$f":"IF('Dettaglio delle attività'!C348=\"\",\" \",'Dettaglio delle attività'!C348)","v":" "},{"$f":"IF('Dettaglio delle attività'!D348=\"\",\" \",'Dettaglio delle attività'!D348)","v":" "},{"$f":"IF('Dettaglio delle attività'!E348=\"\",\" \",'Dettaglio delle attività'!E348)","v":" "}]
[null,null,null,{"$f":"IF('Dettaglio delle attività'!C349=\"\",\" \",'Dettaglio delle attività'!C349)","v":" "},{"$f":"IF('Dettaglio delle attività'!D349=\"\",\" \",'Dettaglio delle attività'!D349)","v":" "},{"$f":"IF('Dettaglio delle attività'!E349=\"\",\" \",'Dettaglio delle attività'!E349)","v":" "}]
[null,null,null,{"$f":"IF('Dettaglio delle attività'!C350=\"\",\" \",'Dettaglio delle attività'!C350)","v":" "},{"$f":"IF('Dettaglio delle attività'!D350=\"\",\" \",'Dettaglio delle attività'!D350)","v":" "},{"$f":"IF('Dettaglio delle attività'!E350=\"\",\" \",'Dettaglio delle attività'!E350)","v":" "}]
[null,null,null,{"$f":"IF('Dettaglio delle attività'!C351=\"\",\" \",'Dettaglio delle attività'!C351)","v":" "},{"$f":"IF('Dettaglio delle attività'!D351=\"\",\" \",'Dettaglio delle attività'!D351)","v":" "},{"$f":"IF('Dettaglio delle attività'!E351=\"\",\" \",'Dettaglio delle attività'!E351)","v":" "}]
[null,null,null,{"$f":"IF('Dettaglio delle attività'!C352=\"\",\" \",'Dettaglio delle attività'!C352)","v":" "},{"$f":"IF('Dettaglio delle attività'!D352=\"\",\" \",'Dettaglio delle attività'!D352)","v":" "},{"$f":"IF('Dettaglio delle attività'!E352=\"\",\" \",'Dettaglio delle attività'!E352)","v":" "}]
[null,null,null,{"$f":"IF('Dettaglio delle attività'!C353=\"\",\" \",'Dettaglio delle attività'!C353)","v":" "},{"$f":"IF('Dettaglio delle attività'!D353=\"\",\" \",'Dettaglio delle attività'!D353)","v":" "},{"$f":"IF('Dettaglio delle attività'!E353=\"\",\" \",'Dettaglio delle attività'!E353)","v":" "}]
[null,null,null,{"$f":"IF('Dettaglio delle attività'!C354=\"\",\" \",'Dettaglio delle attività'!C354)","v":" "},{"$f":"IF('Dettaglio delle attività'!D354=\"\",\" \",'Dettaglio delle attività'!D354)","v":" "},{"$f":"IF('Dettaglio delle attività'!E354=\"\",\" \",'Dettaglio delle attività'!E354)","v":" "}]
[null,null,null,{"$f":"IF('Dettaglio delle attività'!C355=\"\",\" \",'Dettaglio delle attività'!C355)","v":" "},{"$f":"IF('Dettaglio delle attività'!D355=\"\",\" \",'Dettaglio delle attività'!D355)","v":" "},{"$f":"IF('Dettaglio delle attività'!E355=\"\",\" \",'Dettaglio delle attività'!E355)","v":" "}]
[null,null,null,{"$f":"IF('Dettaglio delle attività'!C356=\"\",\" \",'Dettaglio delle attività'!C356)","v":" "},{"$f":"IF('Dettaglio delle attività'!D356=\"\",\" \",'Dettaglio delle attività'!D356)","v":" "},{"$f":"IF('Dettaglio delle attività'!E356=\"\",\" \",'Dettaglio delle attività'!E356)","v":" "}]
[null,null,null,{"$f":"IF('Dettaglio delle attività'!C357=\"\",\" \",'Dettaglio delle attività'!C357)","v":" "},{"$f":"IF('Dettaglio delle attività'!D357=\"\",\" \",'Dettaglio delle attività'!D357)","v":" "},{"$f":"IF('Dettaglio delle attività'!E357=\"\",\" \",'Dettaglio delle attività'!E357)","v":" "}]
[null,null,null,{"$f":"IF('Dettaglio delle attività'!C358=\"\",\" \",'Dettaglio delle attività'!C358)","v":" "},{"$f":"IF('Dettaglio delle attività'!D358=\"\",\" \",'Dettaglio delle attività'!D358)","v":" "},{"$f":"IF('Dettaglio delle attività'!E358=\"\",\" \",'Dettaglio delle attività'!E358)","v":" "}]
[null,null,null,{"$f":"IF('Dettaglio delle attività'!C359=\"\",\" \",'Dettaglio delle attività'!C359)","v":" "},{"$f":"IF('Dettaglio delle attività'!D359=\"\",\" \",'Dettaglio delle attività'!D359)","v":" "},{"$f":"IF('Dettaglio delle attività'!E359=\"\",\" \",'Dettaglio delle attività'!E359)","v":" "}]
[null,null,null,{"$f":"IF('Dettaglio delle attività'!C360=\"\",\" \",'Dettaglio delle attività'!C360)","v":" "},{"$f":"IF('Dettaglio delle attività'!D360=\"\",\" \",'Dettaglio delle attività'!D360)","v":" "},{"$f":"IF('Dettaglio delle attività'!E360=\"\",\" \",'Dettaglio delle attività'!E360)","v":" "}]
[null,null,null,{"$f":"IF('Dettaglio delle attività'!C361=\"\",\" \",'Dettaglio delle attività'!C361)","v":" "},{"$f":"IF('Dettaglio delle attività'!D361=\"\",\" \",'Dettaglio delle attività'!D361)","v":" "},{"$f":"IF('Dettaglio delle attività'!E361=\"\",\" \",'Dettaglio delle attività'!E361)","v":" "}]
[null,null,null,{"$f":"IF('Dettaglio delle attività'!C362=\"\",\" \",'Dettaglio delle attività'!C362)","v":" "},{"$f":"IF('Dettaglio delle attività'!D362=\"\",\" \",'Dettaglio delle attività'!D362)","v":" "},{"$f":"IF('Dettaglio delle attività'!E362=\"\",\" \",'Dettaglio delle attività'!E362)","v":" "}]
[null,null,null,{"$f":"IF('Dettaglio delle attività'!C363=\"\",\" \",'Dettaglio delle attività'!C363)","v":" "},{"$f":"IF('Dettaglio delle attività'!D363=\"\",\" \",'Dettaglio delle attività'!D363)","v":" "},{"$f":"IF('Dettaglio delle attività'!E363=\"\",\" \",'Dettaglio delle attività'!E363)","v":" "}]
[null,null,null,{"$f":"IF('Dettaglio delle attività'!C364=\"\",\" \",'Dettaglio delle attività'!C364)","v":" "},{"$f":"IF('Dettaglio delle attività'!D364=\"\",\" \",'Dettaglio delle attività'!D364)","v":" "},{"$f":"IF('Dettaglio delle attività'!E364=\"\",\" \",'Dettaglio delle attività'!E364)","v":" "}]
[null,null,null,{"$f":"IF('Dettaglio delle attività'!C365=\"\",\" \",'Dettaglio delle attività'!C365)","v":" "},{"$f":"IF('Dettaglio delle attività'!D365=\"\",\" \",'Dettaglio delle attività'!D365)","v":" "},{"$f":"IF('Dettaglio delle attività'!E365=\"\",\" \",'Dettaglio delle attività'!E365)","v":" "}]
[null,null,null,{"$f":"IF('Dettaglio delle attività'!C366=\"\",\" \",'Dettaglio delle attività'!C366)","v":" "},{"$f":"IF('Dettaglio delle attività'!D366=\"\",\" \",'Dettaglio delle attività'!D366)","v":" "},{"$f":"IF('Dettaglio delle attività'!E366=\"\",\" \",'Dettaglio delle attività'!E366)","v":" "}]
[null,null,null,{"$f":"IF('Dettaglio delle attività'!C367=\"\",\" \",'Dettaglio delle attività'!C367)","v":" "},{"$f":"IF('Dettaglio delle attività'!D367=\"\",\" \",'Dettaglio delle attività'!D367)","v":" "},{"$f":"IF('Dettaglio delle attività'!E367=\"\",\" \",'Dettaglio delle attività'!E367)","v":" "}]
[null,null,null,{"$f":"IF('Dettaglio delle attività'!C368=\"\",\" \",'Dettaglio delle attività'!C368)","v":" "},{"$f":"IF('Dettaglio delle attività'!D368=\"\",\" \",'Dettaglio delle attività'!D368)","v":" "},{"$f":"IF('Dettaglio delle attività'!E368=\"\",\" \",'Dettaglio delle attività'!E368)","v":" "}]
[null,null,null,{"$f":"IF('Dettaglio delle attività'!C369=\"\",\" \",'Dettaglio delle attività'!C369)","v":" "},{"$f":"IF('Dettaglio delle attività'!D369=\"\",\" \",'Dettaglio delle attività'!D369)","v":" "},{"$f":"IF('Dettaglio delle attività'!E369=\"\",\" \",'Dettaglio delle attività'!E369)","v":" "}]
[null,null,null,{"$f":"IF('Dettaglio delle attività'!C370=\"\",\" \",'Dettaglio delle attività'!C370)","v":" "},{"$f":"IF('Dettaglio delle attività'!D370=\"\",\" \",'Dettaglio delle attività'!D370)","v":" "},{"$f":"IF('Dettaglio delle attività'!E370=\"\",\" \",'Dettaglio delle attività'!E370)","v":" "}]
[null,null,null,{"$f":"IF('Dettaglio delle attività'!C371=\"\",\" \",'Dettaglio delle attività'!C371)","v":" "},{"$f":"IF('Dettaglio delle attività'!D371=\"\",\" \",'Dettaglio delle attività'!D371)","v":" "},{"$f":"IF('Dettaglio delle attività'!E371=\"\",\" \",'Dettaglio delle attività'!E371)","v":" "}]
[null,null,null,{"$f":"IF('Dettaglio delle attività'!C372=\"\",\" \",'Dettaglio delle attività'!C372)","v":" "},{"$f":"IF('Dettaglio delle attività'!D372=\"\",\" \",'Dettaglio delle attività'!D372)","v":" "},{"$f":"IF('Dettaglio delle attività'!E372=\"\",\" \",'Dettaglio delle attività'!E372)","v":" "}]
[null,null,null,{"$f":"IF('Dettaglio delle attività'!C373=\"\",\" \",'Dettaglio delle attività'!C373)","v":" "},{"$f":"IF('Dettaglio delle attività'!D373=\"\",\" \",'Dettaglio delle attività'!D373)","v":" "},{"$f":"IF('Dettaglio delle attività'!E373=\"\",\" \",'Dettaglio delle attività'!E373)","v":" "}]
[null,null,null,{"$f":"IF('Dettaglio delle attività'!C374=\"\",\" \",'Dettaglio delle attività'!C374)","v":" "},{"$f":"IF('Dettaglio delle attività'!D374=\"\",\" \",'Dettaglio delle attività'!D374)","v":" "},{"$f":"IF('Dettaglio delle attività'!E374=\"\",\" \",'Dettaglio delle attività'!E374)","v":" "}]
[null,null,null,{"$f":"IF('Dettaglio delle attività'!C375=\"\",\" \",'Dettaglio delle attività'!C375)","v":" "},{"$f":"IF('Dettaglio delle attività'!D375=\"\",\" \",'Dettaglio delle attività'!D375)","v":" "},{"$f":"IF('Dettaglio delle attività'!E375=\"\",\" \",'Dettaglio delle attività'!E375)","v":" "}]
[null,null,null,{"$f":"IF('Dettaglio delle attività'!C376=\"\",\" \",'Dettaglio delle attività'!C376)","v":" "},{"$f":"IF('Dettaglio delle attività'!D376=\"\",\" \",'Dettaglio delle attività'!D376)","v":" "},{"$f":"IF('Dettaglio delle attività'!E376=\"\",\" \",'Dettaglio delle attività'!E376)","v":" "}]
[null,null,null,{"$f":"IF('Dettaglio delle attività'!C377=\"\",\" \",'Dettaglio delle attività'!C377)","v":" "},{"$f":"IF('Dettaglio delle attività'!D377=\"\",\" \",'Dettaglio delle attività'!D377)","v":" "},{"$f":"IF('Dettaglio delle attività'!E377=\"\",\" \",'Dettaglio delle attività'!E377)","v":" "}]
[null,null,null,{"$f":"IF('Dettaglio delle attività'!C378=\"\",\" \",'Dettaglio delle attività'!C378)","v":" "},{"$f":"IF('Dettaglio delle attività'!D378=\"\",\" \",'Dettaglio delle attività'!D378)","v":" "},{"$f":"IF('Dettaglio delle attività'!E378=\"\",\" \",'Dettaglio delle attività'!E378)","v":" "}]
[null,null,null,{"$f":"IF('Dettaglio delle attività'!C379=\"\",\" \",'Dettaglio delle attività'!C379)","v":" "},{"$f":"IF('Dettaglio delle attività'!D379=\"\",\" \",'Dettaglio delle attività'!D379)","v":" "},{"$f":"IF('Dettaglio delle attività'!E379=\"\",\" \",'Dettaglio delle attività'!E379)","v":" "}]
[null,null,null,{"$f":"IF('Dettaglio delle attività'!C380=\"\",\" \",'Dettaglio delle attività'!C380)","v":" "},{"$f":"IF('Dettaglio delle attività'!D380=\"\",\" \",'Dettaglio delle attività'!D380)","v":" "},{"$f":"IF('Dettaglio delle attività'!E380=\"\",\" \",'Dettaglio delle attività'!E380)","v":" "}]
[null,null,null,{"$f":"IF('Dettaglio delle attività'!C381=\"\",\" \",'Dettaglio delle attività'!C381)","v":" "},{"$f":"IF('Dettaglio delle attività'!D381=\"\",\" \",'Dettaglio delle attività'!D381)","v":" "},{"$f":"IF('Dettaglio delle attività'!E381=\"\",\" \",'Dettaglio delle attività'!E381)","v":" "}]
[null,null,null,{"$f":"IF('Dettaglio delle attività'!C382=\"\",\" \",'Dettaglio delle attività'!C382)","v":" "},{"$f":"IF('Dettaglio delle attività'!D382=\"\",\" \",'Dettaglio delle attività'!D382)","v":" "},{"$f":"IF('Dettaglio delle attività'!E382=\"\",\" \",'Dettaglio delle attività'!E382)","v":" "}]
[null,null,null,{"$f":"IF('Dettaglio delle attività'!C383=\"\",\" \",'Dettaglio delle attività'!C383)","v":" "},{"$f":"IF('Dettaglio delle attività'!D383=\"\",\" \",'Dettaglio delle attività'!D383)","v":" "},{"$f":"IF('Dettaglio delle attività'!E383=\"\",\" \",'Dettaglio delle attività'!E383)","v":" "}]
[null,null,null,{"$f":"IF('Dettaglio delle attività'!C384=\"\",\" \",'Dettaglio delle attività'!C384)","v":" "},{"$f":"IF('Dettaglio delle attività'!D384=\"\",\" \",'Dettaglio delle attività'!D384)","v":" "},{"$f":"IF('Dettaglio delle attività'!E384=\"\",\" \",'Dettaglio delle attività'!E384)","v":" "}]
[null,null,null,{"$f":"IF('Dettaglio delle attività'!C385=\"\",\" \",'Dettaglio delle attività'!C385)","v":" "},{"$f":"IF('Dettaglio delle attività'!D385=\"\",\" \",'Dettaglio delle attività'!D385)","v":" "},{"$f":"IF('Dettaglio delle attività'!E385=\"\",\" \",'Dettaglio delle attività'!E385)","v":" "}]
[null,null,null,{"$f":"IF('Dettaglio delle attività'!C386=\"\",\" \",'Dettaglio delle attività'!C386)","v":" "},{"$f":"IF('Dettaglio delle attività'!D386=\"\",\" \",'Dettaglio delle attività'!D386)","v":" "},{"$f":"IF('Dettaglio delle attività'!E386=\"\",\" \",'Dettaglio delle attività'!E386)","v":" "}]
[null,null,null,{"$f":"IF('Dettaglio delle attività'!C387=\"\",\" \",'Dettaglio delle attività'!C387)","v":" "},{"$f":"IF('Dettaglio delle attività'!D387=\"\",\" \",'Dettaglio delle attività'!D387)","v":" "},{"$f":"IF('Dettaglio delle attività'!E387=\"\",\" \",'Dettaglio delle attività'!E387)","v":" "}]
[null,null,null,{"$f":"IF('Dettaglio delle attività'!C388=\"\",\" \",'Dettaglio delle attività'!C388)","v":" "},{"$f":"IF('Dettaglio delle attività'!D388=\"\",\" \",'Dettaglio delle attività'!D388)","v":" "},{"$f":"IF('Dettaglio delle attività'!E388=\"\",\" \",'Dettaglio delle attività'!E388)","v":" "}]
[null,null,null,{"$f":"IF('Dettaglio delle attività'!C389=\"\",\" \",'Dettaglio delle attività'!C389)","v":" "},{"$f":"IF('Dettaglio delle attività'!D389=\"\",\" \",'Dettaglio delle attività'!D389)","v":" "},{"$f":"IF('Dettaglio delle attività'!E389=\"\",\" \",'Dettaglio delle attività'!E389)","v":" "}]
[null,null,null,{"$f":"IF('Dettaglio delle attività'!C390=\"\",\" \",'Dettaglio delle attività'!C390)","v":" "},{"$f":"IF('Dettaglio delle attività'!D390=\"\",\" \",'Dettaglio delle attività'!D390)","v":" "},{"$f":"IF('Dettaglio delle attività'!E390=\"\",\" \",'Dettaglio delle attività'!E390)","v":" "}]
[null,null,null,{"$f":"IF('Dettaglio delle attività'!C391=\"\",\" \",'Dettaglio delle attività'!C391)","v":" "},{"$f":"IF('Dettaglio delle attività'!D391=\"\",\" \",'Dettaglio delle attività'!D391)","v":" "},{"$f":"IF('Dettaglio delle attività'!E391=\"\",\" \",'Dettaglio delle attività'!E391)","v":" "}]
[null,null,null,{"$f":"IF('Dettaglio delle attività'!C392=\"\",\" \",'Dettaglio delle attività'!C392)","v":" "},{"$f":"IF('Dettaglio delle attività'!D392=\"\",\" \",'Dettaglio delle attività'!D392)","v":" "},{"$f":"IF('Dettaglio delle attività'!E392=\"\",\" \",'Dettaglio delle attività'!E392)","v":" "}]
[null,null,null,{"$f":"IF('Dettaglio delle attività'!C393=\"\",\" \",'Dettaglio delle attività'!C393)","v":" "},{"$f":"IF('Dettaglio delle attività'!D393=\"\",\" \",'Dettaglio delle attività'!D393)","v":" "},{"$f":"IF('Dettaglio delle attività'!E393=\"\",\" \",'Dettaglio delle attività'!E393)","v":" "}]
[null,null,null,{"$f":"IF('Dettaglio delle attività'!C394=\"\",\" \",'Dettaglio delle attività'!C394)","v":" "},{"$f":"IF('Dettaglio delle attività'!D394=\"\",\" \",'Dettaglio delle attività'!D394)","v":" "},{"$f":"IF('Dettaglio delle attività'!E394=\"\",\" \",'Dettaglio delle attività'!E394)","v":" "}]
[null,null,null,{"$f":"IF('Dettaglio delle attività'!C395=\"\",\" \",'Dettaglio delle attività'!C395)","v":" "},{"$f":"IF('Dettaglio delle attività'!D395=\"\",\" \",'Dettaglio delle attività'!D395)","v":" "},{"$f":"IF('Dettaglio delle attività'!E395=\"\",\" \",'Dettaglio delle attività'!E395)","v":" "}]
[null,null,null,{"$f":"IF('Dettaglio delle attività'!C396=\"\",\" \",'Dettaglio delle attività'!C396)","v":" "},{"$f":"IF('Dettaglio delle attività'!D396=\"\",\" \",'Dettaglio delle attività'!D396)","v":" "},{"$f":"IF('Dettaglio delle attività'!E396=\"\",\" \",'Dettaglio delle attività'!E396)","v":" "}]
[null,null,null,{"$f":"IF('Dettaglio delle attività'!C397=\"\",\" \",'Dettaglio delle attività'!C397)","v":" "},{"$f":"IF('Dettaglio delle attività'!D397=\"\",\" \",'Dettaglio delle attività'!D397)","v":" "},{"$f":"IF('Dettaglio delle attività'!E397=\"\",\" \",'Dettaglio delle attività'!E397)","v":" "}]
[null,null,null,{"$f":"IF('Dettaglio delle attività'!C398=\"\",\" \",'Dettaglio delle attività'!C398)","v":" "},{"$f":"IF('Dettaglio delle attività'!D398=\"\",\" \",'Dettaglio delle attività'!D398)","v":" "},{"$f":"IF('Dettaglio delle attività'!E398=\"\",\" \",'Dettaglio delle attività'!E398)","v":" "}]
[null,null,null,{"$f":"IF('Dettaglio delle attività'!C399=\"\",\" \",'Dettaglio delle attività'!C399)","v":" "},{"$f":"IF('Dettaglio delle attività'!D399=\"\",\" \",'Dettaglio delle attività'!D399)","v":" "},{"$f":"IF('Dettaglio delle attività'!E399=\"\",\" \",'Dettaglio delle attività'!E399)","v":" "}]
[null,null,null,{"$f":"IF('Dettaglio delle attività'!C400=\"\",\" \",'Dettaglio delle attività'!C400)","v":" "},{"$f":"IF('Dettaglio delle attività'!D400=\"\",\" \",'Dettaglio delle attività'!D400)","v":" "},{"$f":"IF('Dettaglio delle attività'!E400=\"\",\" \",'Dettaglio delle attività'!E400)","v":" "}]
[null,null,null,{"$f":"IF('Dettaglio delle attività'!C401=\"\",\" \",'Dettaglio delle attività'!C401)","v":" "},{"$f":"IF('Dettaglio delle attività'!D401=\"\",\" \",'Dettaglio delle attività'!D401)","v":" "},{"$f":"IF('Dettaglio delle attività'!E401=\"\",\" \",'Dettaglio delle attività'!E401)","v":" "}]
[null,null,null,{"$f":"IF('Dettaglio delle attività'!C402=\"\",\" \",'Dettaglio delle attività'!C402)","v":" "},{"$f":"IF('Dettaglio delle attività'!D402=\"\",\" \",'Dettaglio delle attività'!D402)","v":" "},{"$f":"IF('Dettaglio delle attività'!E402=\"\",\" \",'Dettaglio delle attività'!E402)","v":" "}]
[null,null,null,{"$f":"IF('Dettaglio delle attività'!C403=\"\",\" \",'Dettaglio delle attività'!C403)","v":" "},{"$f":"IF('Dettaglio delle attività'!D403=\"\",\" \",'Dettaglio delle attività'!D403)","v":" "},{"$f":"IF('Dettaglio delle attività'!E403=\"\",\" \",'Dettaglio delle attività'!E403)","v":" "}]
[null,null,null,{"$f":"IF('Dettaglio delle attività'!C404=\"\",\" \",'Dettaglio delle attività'!C404)","v":" "},{"$f":"IF('Dettaglio delle attività'!D404=\"\",\" \",'Dettaglio delle attività'!D404)","v":" "},{"$f":"IF('Dettaglio delle attività'!E404=\"\",\" \",'Dettaglio delle attività'!E404)","v":" "}]
[null,null,null,{"$f":"IF('Dettaglio delle attività'!C405=\"\",\" \",'Dettaglio delle attività'!C405)","v":" "},{"$f":"IF('Dettaglio delle attività'!D405=\"\",\" \",'Dettaglio delle attività'!D405)","v":" "},{"$f":"IF('Dettaglio delle attività'!E405=\"\",\" \",'Dettaglio delle attività'!E405)","v":" "}]
[null,null,null,{"$f":"IF('Dettaglio delle attività'!C406=\"\",\" \",'Dettaglio delle attività'!C406)","v":" "},{"$f":"IF('Dettaglio delle attività'!D406=\"\",\" \",'Dettaglio delle attività'!D406)","v":" "},{"$f":"IF('Dettaglio delle attività'!E406=\"\",\" \",'Dettaglio delle attività'!E406)","v":" "}]
[null,null,null,{"$f":"IF('Dettaglio delle attività'!C407=\"\",\" \",'Dettaglio delle attività'!C407)","v":" "},{"$f":"IF('Dettaglio delle attività'!D407=\"\",\" \",'Dettaglio delle attività'!D407)","v":" "},{"$f":"IF('Dettaglio delle attività'!E407=\"\",\" \",'Dettaglio delle attività'!E407)","v":" "}]
[null,null,null,{"$f":"IF('Dettaglio delle attività'!C408=\"\",\" \",'Dettaglio delle attività'!C408)","v":" "},{"$f":"IF('Dettaglio delle attività'!D408=\"\",\" \",'Dettaglio delle attività'!D408)","v":" "},{"$f":"IF('Dettaglio delle attività'!E408=\"\",\" \",'Dettaglio delle attività'!E408)","v":" "}]
[null,null,null,{"$f":"IF('Dettaglio delle attività'!C409=\"\",\" \",'Dettaglio delle attività'!C409)","v":" "},{"$f":"IF('Dettaglio delle attività'!D409=\"\",\" \",'Dettaglio delle attività'!D409)","v":" "},{"$f":"IF('Dettaglio delle attività'!E409=\"\",\" \",'Dettaglio delle attività'!E409)","v":" "}]
[null,null,null,{"$f":"IF('Dettaglio delle attività'!C410=\"\",\" \",'Dettaglio delle attività'!C410)","v":" "},{"$f":"IF('Dettaglio delle attività'!D410=\"\",\" \",'Dettaglio delle attività'!D410)","v":" "},{"$f":"IF('Dettaglio delle attività'!E410=\"\",\" \",'Dettaglio delle attività'!E410)","v":" "}]
[null,null,null,{"$f":"IF('Dettaglio delle attività'!C411=\"\",\" \",'Dettaglio delle attività'!C411)","v":" "},{"$f":"IF('Dettaglio delle attività'!D411=\"\",\" \",'Dettaglio delle attività'!D411)","v":" "},{"$f":"IF('Dettaglio delle attività'!E411=\"\",\" \",'Dettaglio delle attività'!E411)","v":" "}]
[null,null,null,{"$f":"IF('Dettaglio delle attività'!C412=\"\",\" \",'Dettaglio delle attività'!C412)","v":" "},{"$f":"IF('Dettaglio delle attività'!D412=\"\",\" \",'Dettaglio delle attività'!D412)","v":" "},{"$f":"IF('Dettaglio delle attività'!E412=\"\",\" \",'Dettaglio delle attività'!E412)","v":" "}]
[null,null,null,{"$f":"IF('Dettaglio delle attività'!C413=\"\",\" \",'Dettaglio delle attività'!C413)","v":" "},{"$f":"IF('Dettaglio delle attività'!D413=\"\",\" \",'Dettaglio delle attività'!D413)","v":" "},{"$f":"IF('Dettaglio delle attività'!E413=\"\",\" \",'Dettaglio delle attività'!E413)","v":" "}]
[null,null,null,{"$f":"IF('Dettaglio delle attività'!C414=\"\",\" \",'Dettaglio delle attività'!C414)","v":" "},{"$f":"IF('Dettaglio delle attività'!D414=\"\",\" \",'Dettaglio delle attività'!D414)","v":" "},{"$f":"IF('Dettaglio delle attività'!E414=\"\",\" \",'Dettaglio delle attività'!E414)","v":" "}]
[null,null,null,{"$f":"IF('Dettaglio delle attività'!C415=\"\",\" \",'Dettaglio delle attività'!C415)","v":" "},{"$f":"IF('Dettaglio delle attività'!D415=\"\",\" \",'Dettaglio delle attività'!D415)","v":" "},{"$f":"IF('Dettaglio delle attività'!E415=\"\",\" \",'Dettaglio delle attività'!E415)","v":" "}]
[null,null,null,{"$f":"IF('Dettaglio delle attività'!C416=\"\",\" \",'Dettaglio delle attività'!C416)","v":" "},{"$f":"IF('Dettaglio delle attività'!D416=\"\",\" \",'Dettaglio delle attività'!D416)","v":" "},{"$f":"IF('Dettaglio delle attività'!E416=\"\",\" \",'Dettaglio delle attività'!E416)","v":" "}]
[null,null,null,{"$f":"IF('Dettaglio delle attività'!C417=\"\",\" \",'Dettaglio delle attività'!C417)","v":" "},{"$f":"IF('Dettaglio delle attività'!D417=\"\",\" \",'Dettaglio delle attività'!D417)","v":" "},{"$f":"IF('Dettaglio delle attività'!E417=\"\",\" \",'Dettaglio delle attività'!E417)","v":" "}]
[null,null,null,{"$f":"IF('Dettaglio delle attività'!C418=\"\",\" \",'Dettaglio delle attività'!C418)","v":" "},{"$f":"IF('Dettaglio delle attività'!D418=\"\",\" \",'Dettaglio delle attività'!D418)","v":" "},{"$f":"IF('Dettaglio delle attività'!E418=\"\",\" \",'Dettaglio delle attività'!E418)","v":" "}]
[null,null,null,{"$f":"IF('Dettaglio delle attività'!C419=\"\",\" \",'Dettaglio delle attività'!C419)","v":" "},{"$f":"IF('Dettaglio delle attività'!D419=\"\",\" \",'Dettaglio delle attività'!D419)","v":" "},{"$f":"IF('Dettaglio delle attività'!E419=\"\",\" \",'Dettaglio delle attività'!E419)","v":" "}]
[null,null,null,{"$f":"IF('Dettaglio delle attività'!C420=\"\",\" \",'Dettaglio delle attività'!C420)","v":" "},{"$f":"IF('Dettaglio delle attività'!D420=\"\",\" \",'Dettaglio delle attività'!D420)","v":" "},{"$f":"IF('Dettaglio delle attività'!E420=\"\",\" \",'Dettaglio delle attività'!E420)","v":" "}]
[null,null,null,{"$f":"IF('Dettaglio delle attività'!C421=\"\",\" \",'Dettaglio delle attività'!C421)","v":" "},{"$f":"IF('Dettaglio delle attività'!D421=\"\",\" \",'Dettaglio delle attività'!D421)","v":" "},{"$f":"IF('Dettaglio delle attività'!E421=\"\",\" \",'Dettaglio delle attività'!E421)","v":" "}]
[null,null,null,{"$f":"IF('Dettaglio delle attività'!C422=\"\",\" \",'Dettaglio delle attività'!C422)","v":" "},{"$f":"IF('Dettaglio delle attività'!D422=\"\",\" \",'Dettaglio delle attività'!D422)","v":" "},{"$f":"IF('Dettaglio delle attività'!E422=\"\",\" \",'Dettaglio delle attività'!E422)","v":" "}]
[null,null,null,{"$f":"IF('Dettaglio delle attività'!C423=\"\",\" \",'Dettaglio delle attività'!C423)","v":" "},{"$f":"IF('Dettaglio delle attività'!D423=\"\",\" \",'Dettaglio delle attività'!D423)","v":" "},{"$f":"IF('Dettaglio delle attività'!E423=\"\",\" \",'Dettaglio delle attività'!E423)","v":" "}]
[null,null,null,{"$f":"IF('Dettaglio delle attività'!C424=\"\",\" \",'Dettaglio delle attività'!C424)","v":" "},{"$f":"IF('Dettaglio delle attività'!D424=\"\",\" \",'Dettaglio delle attività'!D424)","v":" "},{"$f":"IF('Dettaglio delle attività'!E424=\"\",\" \",'Dettaglio delle attività'!E424)","v":" "}]
[null,null,null,{"$f":"IF('Dettaglio delle attività'!C425=\"\",\" \",'Dettaglio delle attività'!C425)","v":" "},{"$f":"IF('Dettaglio delle attività'!D425=\"\",\" \",'Dettaglio delle attività'!D425)","v":" "},{"$f":"IF('Dettaglio delle attività'!E425=\"\",\" \",'Dettaglio delle attività'!E425)","v":" "}]
[null,null,null,{"$f":"IF('Dettaglio delle attività'!C426=\"\",\" \",'Dettaglio delle attività'!C426)","v":" "},{"$f":"IF('Dettaglio delle attività'!D426=\"\",\" \",'Dettaglio delle attività'!D426)","v":" "},{"$f":"IF('Dettaglio delle attività'!E426=\"\",\" \",'Dettaglio delle attività'!E426)","v":" "}]
[null,null,null,{"$f":"IF('Dettaglio delle attività'!C427=\"\",\" \",'Dettaglio delle attività'!C427)","v":" "},{"$f":"IF('Dettaglio delle attività'!D427=\"\",\" \",'Dettaglio delle attività'!D427)","v":" "},{"$f":"IF('Dettaglio delle attività'!E427=\"\",\" \",'Dettaglio delle attività'!E427)","v":" "}]
[null,null,null,{"$f":"IF('Dettaglio delle attività'!C428=\"\",\" \",'Dettaglio delle attività'!C428)","v":" "},{"$f":"IF('Dettaglio delle attività'!D428=\"\",\" \",'Dettaglio delle attività'!D428)","v":" "},{"$f":"IF('Dettaglio delle attività'!E428=\"\",\" \",'Dettaglio delle attività'!E428)","v":" "}]
[null,null,null,{"$f":"IF('Dettaglio delle attività'!C429=\"\",\" \",'Dettaglio delle attività'!C429)","v":" "},{"$f":"IF('Dettaglio delle attività'!D429=\"\",\" \",'Dettaglio delle attività'!D429)","v":" "},{"$f":"IF('Dettaglio delle attività'!E429=\"\",\" \",'Dettaglio delle attività'!E429)","v":" "}]
[null,null,null,{"$f":"IF('Dettaglio delle attività'!C430=\"\",\" \",'Dettaglio delle attività'!C430)","v":" "},{"$f":"IF('Dettaglio delle attività'!D430=\"\",\" \",'Dettaglio delle attività'!D430)","v":" "},{"$f":"IF('Dettaglio delle attività'!E430=\"\",\" \",'Dettaglio delle attività'!E430)","v":" "}]
[null,null,null,{"$f":"IF('Dettaglio delle attività'!C431=\"\",\" \",'Dettaglio delle attività'!C431)","v":" "},{"$f":"IF('Dettaglio delle attività'!D431=\"\",\" \",'Dettaglio delle attività'!D431)","v":" "},{"$f":"IF('Dettaglio delle attività'!E431=\"\",\" \",'Dettaglio delle attività'!E431)","v":" "}]
[null,null,null,{"$f":"IF('Dettaglio delle attività'!C432=\"\",\" \",'Dettaglio delle attività'!C432)","v":" "},{"$f":"IF('Dettaglio delle attività'!D432=\"\",\" \",'Dettaglio delle attività'!D432)","v":" "},{"$f":"IF('Dettaglio delle attività'!E432=\"\",\" \",'Dettaglio delle attività'!E432)","v":" "}]
[null,null,null,{"$f":"IF('Dettaglio delle attività'!C433=\"\",\" \",'Dettaglio delle attività'!C433)","v":" "},{"$f":"IF('Dettaglio delle attività'!D433=\"\",\" \",'Dettaglio delle attività'!D433)","v":" "},{"$f":"IF('Dettaglio delle attività'!E433=\"\",\" \",'Dettaglio delle attività'!E433)","v":" "}]
[null,null,null,{"$f":"IF('Dettaglio delle attività'!C434=\"\",\" \",'Dettaglio delle attività'!C434)","v":" "},{"$f":"IF('Dettaglio delle attività'!D434=\"\",\" \",'Dettaglio delle attività'!D434)","v":" "},{"$f":"IF('Dettaglio delle attività'!E434=\"\",\" \",'Dettaglio delle attività'!E434)","v":" "}]
[null,null,null,{"$f":"IF('Dettaglio delle attività'!C435=\"\",\" \",'Dettaglio delle attività'!C435)","v":" "},{"$f":"IF('Dettaglio delle attività'!D435=\"\",\" \",'Dettaglio delle attività'!D435)","v":" "},{"$f":"IF('Dettaglio delle attività'!E435=\"\",\" \",'Dettaglio delle attività'!E435)","v":" "}]
[null,null,null,{"$f":"IF('Dettaglio delle attività'!C436=\"\",\" \",'Dettaglio delle attività'!C436)","v":" "},{"$f":"IF('Dettaglio delle attività'!D436=\"\",\" \",'Dettaglio delle attività'!D436)","v":" "},{"$f":"IF('Dettaglio delle attività'!E436=\"\",\" \",'Dettaglio delle attività'!E436)","v":" "}]
[null,null,null,{"$f":"IF('Dettaglio delle attività'!C437=\"\",\" \",'Dettaglio delle attività'!C437)","v":" "},{"$f":"IF('Dettaglio delle attività'!D437=\"\",\" \",'Dettaglio delle attività'!D437)","v":" "},{"$f":"IF('Dettaglio delle attività'!E437=\"\",\" \",'Dettaglio delle attività'!E437)","v":" "}]
[null,null,null,{"$f":"IF('Dettaglio delle attività'!C438=\"\",\" \",'Dettaglio delle attività'!C438)","v":" "},{"$f":"IF('Dettaglio delle attività'!D438=\"\",\" \",'Dettaglio delle attività'!D438)","v":" "},{"$f":"IF('Dettaglio delle attività'!E438=\"\",\" \",'Dettaglio delle attività'!E438)","v":" "}]
[null,null,null,{"$f":"IF('Dettaglio delle attività'!C439=\"\",\" \",'Dettaglio delle attività'!C439)","v":" "},{"$f":"IF('Dettaglio delle attività'!D439=\"\",\" \",'Dettaglio delle attività'!D439)","v":" "},{"$f":"IF('Dettaglio delle attività'!E439=\"\",\" \",'Dettaglio delle attività'!E439)","v":" "}]
[null,null,null,{"$f":"IF('Dettaglio delle attività'!C440=\"\",\" \",'Dettaglio delle attività'!C440)","v":" "},{"$f":"IF('Dettaglio delle attività'!D440=\"\",\" \",'Dettaglio delle attività'!D440)","v":" "},{"$f":"IF('Dettaglio delle attività'!E440=\"\",\" \",'Dettaglio delle attività'!E440)","v":" "}]
[null,null,null,{"$f":"IF('Dettaglio delle attività'!C441=\"\",\" \",'Dettaglio delle attività'!C441)","v":" "},{"$f":"IF('Dettaglio delle attività'!D441=\"\",\" \",'Dettaglio delle attività'!D441)","v":" "},{"$f":"IF('Dettaglio delle attività'!E441=\"\",\" \",'Dettaglio delle attività'!E441)","v":" "}]
[null,null,null,{"$f":"IF('Dettaglio delle attività'!C442=\"\",\" \",'Dettaglio delle attività'!C442)","v":" "},{"$f":"IF('Dettaglio delle attività'!D442=\"\",\" \",'Dettaglio delle attività'!D442)","v":" "},{"$f":"IF('Dettaglio delle attività'!E442=\"\",\" \",'Dettaglio delle attività'!E442)","v":" "}]
[null,null,null,{"$f":"IF('Dettaglio delle attività'!C443=\"\",\" \",'Dettaglio delle attività'!C443)","v":" "},{"$f":"IF('Dettaglio delle attività'!D443=\"\",\" \",'Dettaglio delle attività'!D443)","v":" "},{"$f":"IF('Dettaglio delle attività'!E443=\"\",\" \",'Dettaglio delle attività'!E443)","v":" "}]
[null,null,null,{"$f":"IF('Dettaglio delle attività'!C444=\"\",\" \",'Dettaglio delle attività'!C444)","v":" "},{"$f":"IF('Dettaglio delle attività'!D444=\"\",\" \",'Dettaglio delle attività'!D444)","v":" "},{"$f":"IF('Dettaglio delle attività'!E444=\"\",\" \",'Dettaglio delle attività'!E444)","v":" "}]
[null,null,null,{"$f":"IF('Dettaglio delle attività'!C445=\"\",\" \",'Dettaglio delle attività'!C445)","v":" "},{"$f":"IF('Dettaglio delle attività'!D445=\"\",\" \",'Dettaglio delle attività'!D445)","v":" "},{"$f":"IF('Dettaglio delle attività'!E445=\"\",\" \",'Dettaglio delle attività'!E445)","v":" "}]
[null,null,null,{"$f":"IF('Dettaglio delle attività'!C446=\"\",\" \",'Dettaglio delle attività'!C446)","v":" "},{"$f":"IF('Dettaglio delle attività'!D446=\"\",\" \",'Dettaglio delle attività'!D446)","v":" "},{"$f":"IF('Dettaglio delle attività'!E446=\"\",\" \",'Dettaglio delle attività'!E446)","v":" "}]
[null,null,null,{"$f":"IF('Dettaglio delle attività'!C447=\"\",\" \",'Dettaglio delle attività'!C447)","v":" "},{"$f":"IF('Dettaglio delle attività'!D447=\"\",\" \",'Dettaglio delle attività'!D447)","v":" "},{"$f":"IF('Dettaglio delle attività'!E447=\"\",\" \",'Dettaglio delle attività'!E447)","v":" "}]
[null,null,null,{"$f":"IF('Dettaglio delle attività'!C448=\"\",\" \",'Dettaglio delle attività'!C448)","v":" "},{"$f":"IF('Dettaglio delle attività'!D448=\"\",\" \",'Dettaglio delle attività'!D448)","v":" "},{"$f":"IF('Dettaglio delle attività'!E448=\"\",\" \",'Dettaglio delle attività'!E448)","v":" "}]
[null,null,null,{"$f":"IF('Dettaglio delle attività'!C449=\"\",\" \",'Dettaglio delle attività'!C449)","v":" "},{"$f":"IF('Dettaglio delle attività'!D449=\"\",\" \",'Dettaglio delle attività'!D449)","v":" "},{"$f":"IF('Dettaglio delle attività'!E449=\"\",\" \",'Dettaglio delle attività'!E449)","v":" "}]
[null,null,null,{"$f":"IF('Dettaglio delle attività'!C450=\"\",\" \",'Dettaglio delle attività'!C450)","v":" "},{"$f":"IF('Dettaglio delle attività'!D450=\"\",\" \",'Dettaglio delle attività'!D450)","v":" "},{"$f":"IF('Dettaglio delle attività'!E450=\"\",\" \",'Dettaglio delle attività'!E450)","v":" "}]
[null,null,null,{"$f":"IF('Dettaglio delle attività'!C451=\"\",\" \",'Dettaglio delle attività'!C451)","v":" "},{"$f":"IF('Dettaglio delle attività'!D451=\"\",\" \",'Dettaglio delle attività'!D451)","v":" "},{"$f":"IF('Dettaglio delle attività'!E451=\"\",\" \",'Dettaglio delle attività'!E451)","v":" "}]
[null,null,null,{"$f":"IF('Dettaglio delle attività'!C452=\"\",\" \",'Dettaglio delle attività'!C452)","v":" "},{"$f":"IF('Dettaglio delle attività'!D452=\"\",\" \",'Dettaglio delle attività'!D452)","v":" "},{"$f":"IF('Dettaglio delle attività'!E452=\"\",\" \",'Dettaglio delle attività'!E452)","v":" "}]
[null,null,null,{"$f":"IF('Dettaglio delle attività'!C453=\"\",\" \",'Dettaglio delle attività'!C453)","v":" "},{"$f":"IF('Dettaglio delle attività'!D453=\"\",\" \",'Dettaglio delle attività'!D453)","v":" "},{"$f":"IF('Dettaglio delle attività'!E453=\"\",\" \",'Dettaglio delle attività'!E453)","v":" "}]
[null,null,null,{"$f":"IF('Dettaglio delle attività'!C454=\"\",\" \",'Dettaglio delle attività'!C454)","v":" "},{"$f":"IF('Dettaglio delle attività'!D454=\"\",\" \",'Dettaglio delle attività'!D454)","v":" "},{"$f":"IF('Dettaglio delle attività'!E454=\"\",\" \",'Dettaglio delle attività'!E454)","v":" "}]
[null,null,null,{"$f":"IF('Dettaglio delle attività'!C455=\"\",\" \",'Dettaglio delle attività'!C455)","v":" "},{"$f":"IF('Dettaglio delle attività'!D455=\"\",\" \",'Dettaglio delle attività'!D455)","v":" "},{"$f":"IF('Dettaglio delle attività'!E455=\"\",\" \",'Dettaglio delle attività'!E455)","v":" "}]
[null,null,null,{"$f":"IF('Dettaglio delle attività'!C456=\"\",\" \",'Dettaglio delle attività'!C456)","v":" "},{"$f":"IF('Dettaglio delle attività'!D456=\"\",\" \",'Dettaglio delle attività'!D456)","v":" "},{"$f":"IF('Dettaglio delle attività'!E456=\"\",\" \",'Dettaglio delle attività'!E456)","v":" "}]
[null,null,null,{"$f":"IF('Dettaglio delle attività'!C457=\"\",\" \",'Dettaglio delle attività'!C457)","v":" "},{"$f":"IF('Dettaglio delle attività'!D457=\"\",\" \",'Dettaglio delle attività'!D457)","v":" "},{"$f":"IF('Dettaglio delle attività'!E457=\"\",\" \",'Dettaglio delle attività'!E457)","v":" "}]
[null,null,null,{"$f":"IF('Dettaglio delle attività'!C458=\"\",\" \",'Dettaglio delle attività'!C458)","v":" "},{"$f":"IF('Dettaglio delle attività'!D458=\"\",\" \",'Dettaglio delle attività'!D458)","v":" "},{"$f":"IF('Dettaglio delle attività'!E458=\"\",\" \",'Dettaglio delle attività'!E458)","v":" "}]
[null,null,null,{"$f":"IF('Dettaglio delle attività'!C459=\"\",\" \",'Dettaglio delle attività'!C459)","v":" "},{"$f":"IF('Dettaglio delle attività'!D459=\"\",\" \",'Dettaglio delle attività'!D459)","v":" "},{"$f":"IF('Dettaglio delle attività'!E459=\"\",\" \",'Dettaglio delle attività'!E459)","v":" "}]
[null,null,null,{"$f":"IF('Dettaglio delle attività'!C460=\"\",\" \",'Dettaglio delle attività'!C460)","v":" "},{"$f":"IF('Dettaglio delle attività'!D460=\"\",\" \",'Dettaglio delle attività'!D460)","v":" "},{"$f":"IF('Dettaglio delle attività'!E460=\"\",\" \",'Dettaglio delle attività'!E460)","v":" "}]
[null,null,null,{"$f":"IF('Dettaglio delle attività'!C461=\"\",\" \",'Dettaglio delle attività'!C461)","v":" "},{"$f":"IF('Dettaglio delle attività'!D461=\"\",\" \",'Dettaglio delle attività'!D461)","v":" "},{"$f":"IF('Dettaglio delle attività'!E461=\"\",\" \",'Dettaglio delle attività'!E461)","v":" "}]
[null,null,null,{"$f":"IF('Dettaglio delle attività'!C462=\"\",\" \",'Dettaglio delle attività'!C462)","v":" "},{"$f":"IF('Dettaglio delle attività'!D462=\"\",\" \",'Dettaglio delle attività'!D462)","v":" "},{"$f":"IF('Dettaglio delle attività'!E462=\"\",\" \",'Dettaglio delle attività'!E462)","v":" "}]
[null,null,null,{"$f":"IF('Dettaglio delle attività'!C463=\"\",\" \",'Dettaglio delle attività'!C463)","v":" "},{"$f":"IF('Dettaglio delle attività'!D463=\"\",\" \",'Dettaglio delle attività'!D463)","v":" "},{"$f":"IF('Dettaglio delle attività'!E463=\"\",\" \",'Dettaglio delle attività'!E463)","v":" "}]
[null,null,null,{"$f":"IF('Dettaglio delle attività'!C464=\"\",\" \",'Dettaglio delle attività'!C464)","v":" "},{"$f":"IF('Dettaglio delle attività'!D464=\"\",\" \",'Dettaglio delle attività'!D464)","v":" "},{"$f":"IF('Dettaglio delle attività'!E464=\"\",\" \",'Dettaglio delle attività'!E464)","v":" "}]
[null,null,null,{"$f":"IF('Dettaglio delle attività'!C465=\"\",\" \",'Dettaglio delle attività'!C465)","v":" "},{"$f":"IF('Dettaglio delle attività'!D465=\"\",\" \",'Dettaglio delle attività'!D465)","v":" "},{"$f":"IF('Dettaglio delle attività'!E465=\"\",\" \",'Dettaglio delle attività'!E465)","v":" "}]
[null,null,null,{"$f":"IF('Dettaglio delle attività'!C466=\"\",\" \",'Dettaglio delle attività'!C466)","v":" "},{"$f":"IF('Dettaglio delle attività'!D466=\"\",\" \",'Dettaglio delle attività'!D466)","v":" "},{"$f":"IF('Dettaglio delle attività'!E466=\"\",\" \",'Dettaglio delle attività'!E466)","v":" "}]
[null,null,null,{"$f":"IF('Dettaglio delle attività'!C467=\"\",\" \",'Dettaglio delle attività'!C467)","v":" "},{"$f":"IF('Dettaglio delle attività'!D467=\"\",\" \",'Dettaglio delle attività'!D467)","v":" "},{"$f":"IF('Dettaglio delle attività'!E467=\"\",\" \",'Dettaglio delle attività'!E467)","v":" "}]
[null,null,null,{"$f":"IF('Dettaglio delle attività'!C468=\"\",\" \",'Dettaglio delle attività'!C468)","v":" "},{"$f":"IF('Dettaglio delle attività'!D468=\"\",\" \",'Dettaglio delle attività'!D468)","v":" "},{"$f":"IF('Dettaglio delle attività'!E468=\"\",\" \",'Dettaglio delle attività'!E468)","v":" "}]
[null,null,null,{"$f":"IF('Dettaglio delle attività'!C469=\"\",\" \",'Dettaglio delle attività'!C469)","v":" "},{"$f":"IF('Dettaglio delle attività'!D469=\"\",\" \",'Dettaglio delle attività'!D469)","v":" "},{"$f":"IF('Dettaglio delle attività'!E469=\"\",\" \",'Dettaglio delle attività'!E469)","v":" "}]
[null,null,null,{"$f":"IF('Dettaglio delle attività'!C470=\"\",\" \",'Dettaglio delle attività'!C470)","v":" "},{"$f":"IF('Dettaglio delle attività'!D470=\"\",\" \",'Dettaglio delle attività'!D470)","v":" "},{"$f":"IF('Dettaglio delle attività'!E470=\"\",\" \",'Dettaglio delle attività'!E470)","v":" "}]
[null,null,null,{"$f":"IF('Dettaglio delle attività'!C471=\"\",\" \",'Dettaglio delle attività'!C471)","v":" "},{"$f":"IF('Dettaglio delle attività'!D471=\"\",\" \",'Dettaglio delle attività'!D471)","v":" "},{"$f":"IF('Dettaglio delle attività'!E471=\"\",\" \",'Dettaglio delle attività'!E471)","v":" "}]
[null,null,null,{"$f":"IF('Dettaglio delle attività'!C472=\"\",\" \",'Dettaglio delle attività'!C472)","v":" "},{"$f":"IF('Dettaglio delle attività'!D472=\"\",\" \",'Dettaglio delle attività'!D472)","v":" "},{"$f":"IF('Dettaglio delle attività'!E472=\"\",\" \",'Dettaglio delle attività'!E472)","v":" "}]
[null,null,null,{"$f":"IF('Dettaglio delle attività'!C473=\"\",\" \",'Dettaglio delle attività'!C473)","v":" "},{"$f":"IF('Dettaglio delle attività'!D473=\"\",\" \",'Dettaglio delle attività'!D473)","v":" "},{"$f":"IF('Dettaglio delle attività'!E473=\"\",\" \",'Dettaglio delle attività'!E473)","v":" "}]
[null,null,null,{"$f":"IF('Dettaglio delle attività'!C474=\"\",\" \",'Dettaglio delle attività'!C474)","v":" "},{"$f":"IF('Dettaglio delle attività'!D474=\"\",\" \",'Dettaglio delle attività'!D474)","v":" "},{"$f":"IF('Dettaglio delle attività'!E474=\"\",\" \",'Dettaglio delle attività'!E474)","v":" "}]
[null,null,null,{"$f":"IF('Dettaglio delle attività'!C475=\"\",\" \",'Dettaglio delle attività'!C475)","v":" "},{"$f":"IF('Dettaglio delle attività'!D475=\"\",\" \",'Dettaglio delle attività'!D475)","v":" "},{"$f":"IF('Dettaglio delle attività'!E475=\"\",\" \",'Dettaglio delle attività'!E475)","v":" "}]
[null,null,null,{"$f":"IF('Dettaglio delle attività'!C476=\"\",\" \",'Dettaglio delle attività'!C476)","v":" "},{"$f":"IF('Dettaglio delle attività'!D476=\"\",\" \",'Dettaglio delle attività'!D476)","v":" "},{"$f":"IF('Dettaglio delle attività'!E476=\"\",\" \",'Dettaglio delle attività'!E476)","v":" "}]
[null,null,null,{"$f":"IF('Dettaglio delle attività'!C477=\"\",\" \",'Dettaglio delle attività'!C477)","v":" "},{"$f":"IF('Dettaglio delle attività'!D477=\"\",\" \",'Dettaglio delle attività'!D477)","v":" "},{"$f":"IF('Dettaglio delle attività'!E477=\"\",\" \",'Dettaglio delle attività'!E477)","v":" "}]
[null,null,null,{"$f":"IF('Dettaglio delle attività'!C478=\"\",\" \",'Dettaglio delle attività'!C478)","v":" "},{"$f":"IF('Dettaglio delle attività'!D478=\"\",\" \",'Dettaglio delle attività'!D478)","v":" "},{"$f":"IF('Dettaglio delle attività'!E478=\"\",\" \",'Dettaglio delle attività'!E478)","v":" "}]
[null,null,null,{"$f":"IF('Dettaglio delle attività'!C479=\"\",\" \",'Dettaglio delle attività'!C479)","v":" "},{"$f":"IF('Dettaglio delle attività'!D479=\"\",\" \",'Dettaglio delle attività'!D479)","v":" "},{"$f":"IF('Dettaglio delle attività'!E479=\"\",\" \",'Dettaglio delle attività'!E479)","v":" "}]
[null,null,null,{"$f":"IF('Dettaglio delle attività'!C480=\"\",\" \",'Dettaglio delle attività'!C480)","v":" "},{"$f":"IF('Dettaglio delle attività'!D480=\"\",\" \",'Dettaglio delle attività'!D480)","v":" "},{"$f":"IF('Dettaglio delle attività'!E480=\"\",\" \",'Dettaglio delle attività'!E480)","v":" "}]
[null,null,null,{"$f":"IF('Dettaglio delle attività'!C481=\"\",\" \",'Dettaglio delle attività'!C481)","v":" "},{"$f":"IF('Dettaglio delle attività'!D481=\"\",\" \",'Dettaglio delle attività'!D481)","v":" "},{"$f":"IF('Dettaglio delle attività'!E481=\"\",\" \",'Dettaglio delle attività'!E481)","v":" "}]
[null,null,null,{"$f":"IF('Dettaglio delle attività'!C482=\"\",\" \",'Dettaglio delle attività'!C482)","v":" "},{"$f":"IF('Dettaglio delle attività'!D482=\"\",\" \",'Dettaglio delle attività'!D482)","v":" "},{"$f":"IF('Dettaglio delle attività'!E482=\"\",\" \",'Dettaglio delle attività'!E482)","v":" "}]
[null,null,null,{"$f":"IF('Dettaglio delle attività'!C483=\"\",\" \",'Dettaglio delle attività'!C483)","v":" "},{"$f":"IF('Dettaglio delle attività'!D483=\"\",\" \",'Dettaglio delle attività'!D483)","v":" "},{"$f":"IF('Dettaglio delle attività'!E483=\"\",\" \",'Dettaglio delle attività'!E483)","v":" "}]
[null,null,null,{"$f":"IF('Dettaglio delle attività'!C484=\"\",\" \",'Dettaglio delle attività'!C484)","v":" "},{"$f":"IF('Dettaglio delle attività'!D484=\"\",\" \",'Dettaglio delle attività'!D484)","v":" "},{"$f":"IF('Dettaglio delle attività'!E484=\"\",\" \",'Dettaglio delle attività'!E484)","v":" "}]
[null,null,null,{"$f":"IF('Dettaglio delle attività'!C485=\"\",\" \",'Dettaglio delle attività'!C485)","v":" "},{"$f":"IF('Dettaglio delle attività'!D485=\"\",\" \",'Dettaglio delle attività'!D485)","v":" "},{"$f":"IF('Dettaglio delle attività'!E485=\"\",\" \",'Dettaglio delle attività'!E485)","v":" "}]
[null,null,null,{"$f":"IF('Dettaglio delle attività'!C486=\"\",\" \",'Dettaglio delle attività'!C486)","v":" "},{"$f":"IF('Dettaglio delle attività'!D486=\"\",\" \",'Dettaglio delle attività'!D486)","v":" "},{"$f":"IF('Dettaglio delle attività'!E486=\"\",\" \",'Dettaglio delle attività'!E486)","v":" "}]
[null,null,null,{"$f":"IF('Dettaglio delle attività'!C487=\"\",\" \",'Dettaglio delle attività'!C487)","v":" "},{"$f":"IF('Dettaglio delle attività'!D487=\"\",\" \",'Dettaglio delle attività'!D487)","v":" "},{"$f":"IF('Dettaglio delle attività'!E487=\"\",\" \",'Dettaglio delle attività'!E487)","v":" "}]
[null,null,null,{"$f":"IF('Dettaglio delle attività'!C488=\"\",\" \",'Dettaglio delle attività'!C488)","v":" "},{"$f":"IF('Dettaglio delle attività'!D488=\"\",\" \",'Dettaglio delle attività'!D488)","v":" "},{"$f":"IF('Dettaglio delle attività'!E488=\"\",\" \",'Dettaglio delle attività'!E488)","v":" "}]
[null,null,null,{"$f":"IF('Dettaglio delle attività'!C489=\"\",\" \",'Dettaglio delle attività'!C489)","v":" "},{"$f":"IF('Dettaglio delle attività'!D489=\"\",\" \",'Dettaglio delle attività'!D489)","v":" "},{"$f":"IF('Dettaglio delle attività'!E489=\"\",\" \",'Dettaglio delle attività'!E489)","v":" "}]
[null,null,null,{"$f":"IF('Dettaglio delle attività'!C490=\"\",\" \",'Dettaglio delle attività'!C490)","v":" "},{"$f":"IF('Dettaglio delle attività'!D490=\"\",\" \",'Dettaglio delle attività'!D490)","v":" "},{"$f":"IF('Dettaglio delle attività'!E490=\"\",\" \",'Dettaglio delle attività'!E490)","v":" "}]
[null,null,null,{"$f":"IF('Dettaglio delle attività'!C491=\"\",\" \",'Dettaglio delle attività'!C491)","v":" "},{"$f":"IF('Dettaglio delle attività'!D491=\"\",\" \",'Dettaglio delle attività'!D491)","v":" "},{"$f":"IF('Dettaglio delle attività'!E491=\"\",\" \",'Dettaglio delle attività'!E491)","v":" "}]
[null,null,null,{"$f":"IF('Dettaglio delle attività'!C492=\"\",\" \",'Dettaglio delle attività'!C492)","v":" "},{"$f":"IF('Dettaglio delle attività'!D492=\"\",\" \",'Dettaglio delle attività'!D492)","v":" "},{"$f":"IF('Dettaglio delle attività'!E492=\"\",\" \",'Dettaglio delle attività'!E492)","v":" "}]
[null,null,null,{"$f":"IF('Dettaglio delle attività'!C493=\"\",\" \",'Dettaglio delle attività'!C493)","v":" "},{"$f":"IF('Dettaglio delle attività'!D493=\"\",\" \",'Dettaglio delle attività'!D493)","v":" "},{"$f":"IF('Dettaglio delle attività'!E493=\"\",\" \",'Dettaglio delle attività'!E493)","v":" "}]
[null,null,null,{"$f":"IF('Dettaglio delle attività'!C494=\"\",\" \",'Dettaglio delle attività'!C494)","v":" "},{"$f":"IF('Dettaglio delle attività'!D494=\"\",\" \",'Dettaglio delle attività'!D494)","v":" "},{"$f":"IF('Dettaglio delle attività'!E494=\"\",\" \",'Dettaglio delle attività'!E494)","v":" "}]
[null,null,null,{"$f":"IF('Dettaglio delle attività'!C495=\"\",\" \",'Dettaglio delle attività'!C495)","v":" "},{"$f":"IF('Dettaglio delle attività'!D495=\"\",\" \",'Dettaglio delle attività'!D495)","v":" "},{"$f":"IF('Dettaglio delle attività'!E495=\"\",\" \",'Dettaglio delle attività'!E495)","v":" "}]
[null,null,null,{"$f":"IF('Dettaglio delle attività'!C496=\"\",\" \",'Dettaglio delle attività'!C496)","v":" "},{"$f":"IF('Dettaglio delle attività'!D496=\"\",\" \",'Dettaglio delle attività'!D496)","v":" "},{"$f":"IF('Dettaglio delle attività'!E496=\"\",\" \",'Dettaglio delle attività'!E496)","v":" "}]
[null,null,null,{"$f":"IF('Dettaglio delle attività'!C497=\"\",\" \",'Dettaglio delle attività'!C497)","v":" "},{"$f":"IF('Dettaglio delle attività'!D497=\"\",\" \",'Dettaglio delle attività'!D497)","v":" "},{"$f":"IF('Dettaglio delle attività'!E497=\"\",\" \",'Dettaglio delle attività'!E497)","v":" "}]
[null,null,null,{"$f":"IF('Dettaglio delle attività'!C498=\"\",\" \",'Dettaglio delle attività'!C498)","v":" "},{"$f":"IF('Dettaglio delle attività'!D498=\"\",\" \",'Dettaglio delle attività'!D498)","v":" "},{"$f":"IF('Dettaglio delle attività'!E498=\"\",\" \",'Dettaglio delle attività'!E498)","v":" "}]
[null,null,null,{"$f":"IF('Dettaglio delle attività'!C499=\"\",\" \",'Dettaglio delle attività'!C499)","v":" "},{"$f":"IF('Dettaglio delle attività'!D499=\"\",\" \",'Dettaglio delle attività'!D499)","v":" "},{"$f":"IF('Dettaglio delle attività'!E499=\"\",\" \",'Dettaglio delle attività'!E499)","v":" "}]
[null,null,null,{"$f":"IF('Dettaglio delle attività'!C500=\"\",\" \",'Dettaglio delle attività'!C500)","v":" "},{"$f":"IF('Dettaglio delle attività'!D500=\"\",\" \",'Dettaglio delle attività'!D500)","v":" "},{"$f":"IF('Dettaglio delle attività'!E500=\"\",\" \",'Dettaglio delle attività'!E500)","v":" "}]
[null,null,null,{"$f":"IF('Dettaglio delle attività'!C501=\"\",\" \",'Dettaglio delle attività'!C501)","v":" "},{"$f":"IF('Dettaglio delle attività'!D501=\"\",\" \",'Dettaglio delle attività'!D501)","v":" "},{"$f":"IF('Dettaglio delle attività'!E501=\"\",\" \",'Dettaglio delle attività'!E501)","v":" "}]
[null,null,null,{"$f":"IF('Dettaglio delle attività'!C502=\"\",\" \",'Dettaglio delle attività'!C502)","v":" "},{"$f":"IF('Dettaglio delle attività'!D502=\"\",\" \",'Dettaglio delle attività'!D502)","v":" "},{"$f":"IF('Dettaglio delle attività'!E502=\"\",\" \",'Dettaglio delle attività'!E502)","v":" "}]
[null,null,null,{"$f":"IF('Dettaglio delle attività'!C503=\"\",\" \",'Dettaglio delle attività'!C503)","v":" "},{"$f":"IF('Dettaglio delle attività'!D503=\"\",\" \",'Dettaglio delle attività'!D503)","v":" "},{"$f":"IF('Dettaglio delle attività'!E503=\"\",\" \",'Dettaglio delle attività'!E503)","v":" "}]
[null,null,null,{"$f":"IF('Dettaglio delle attività'!C504=\"\",\" \",'Dettaglio delle attività'!C504)","v":" "},{"$f":"IF('Dettaglio delle attività'!D504=\"\",\" \",'Dettaglio delle attività'!D504)","v":" "},{"$f":"IF('Dettaglio delle attività'!E504=\"\",\" \",'Dettaglio delle attività'!E504)","v":" "}]
[null,null,null,{"$f":"IF('Dettaglio delle attività'!C505=\"\",\" \",'Dettaglio delle attività'!C505)","v":" "},{"$f":"IF('Dettaglio delle attività'!D505=\"\",\" \",'Dettaglio delle attività'!D505)","v":" "},{"$f":"IF('Dettaglio delle attività'!E505=\"\",\" \",'Dettaglio delle attività'!E505)","v":" "}]
[null,null,null,{"$f":"IF('Dettaglio delle attività'!C506=\"\",\" \",'Dettaglio delle attività'!C506)","v":" "},{"$f":"IF('Dettaglio delle attività'!D506=\"\",\" \",'Dettaglio delle attività'!D506)","v":" "},{"$f":"IF('Dettaglio delle attività'!E506=\"\",\" \",'Dettaglio delle attività'!E506)","v":" "}]
[null,null,null,{"$f":"IF('Dettaglio delle attività'!C507=\"\",\" \",'Dettaglio delle attività'!C507)","v":" "},{"$f":"IF('Dettaglio delle attività'!D507=\"\",\" \",'Dettaglio delle attività'!D507)","v":" "},{"$f":"IF('Dettaglio delle attività'!E507=\"\",\" \",'Dettaglio delle attività'!E507)","v":" "}]
[null,null,null,{"$f":"IF('Dettaglio delle attività'!C508=\"\",\" \",'Dettaglio delle attività'!C508)","v":" "},{"$f":"IF('Dettaglio delle attività'!D508=\"\",\" \",'Dettaglio delle attività'!D508)","v":" "},{"$f":"IF('Dettaglio delle attività'!E508=\"\",\" \",'Dettaglio delle attività'!E508)","v":" "}]
[null,null,null,{"$f":"IF('Dettaglio delle attività'!C509=\"\",\" \",'Dettaglio delle attività'!C509)","v":" "},{"$f":"IF('Dettaglio delle attività'!D509=\"\",\" \",'Dettaglio delle attività'!D509)","v":" "},{"$f":"IF('Dettaglio delle attività'!E509=\"\",\" \",'Dettaglio delle attività'!E509)","v":" "}]
[null,null,null,{"$f":"IF('Dettaglio delle attività'!C510=\"\",\" \",'Dettaglio delle attività'!C510)","v":" "},{"$f":"IF('Dettaglio delle attività'!D510=\"\",\" \",'Dettaglio delle attività'!D510)","v":" "},{"$f":"IF('Dettaglio delle attività'!E510=\"\",\" \",'Dettaglio delle attività'!E510)","v":" "}]
[null,null,null,{"$f":"IF('Dettaglio delle attività'!C511=\"\",\" \",'Dettaglio delle attività'!C511)","v":" "},{"$f":"IF('Dettaglio delle attività'!D511=\"\",\" \",'Dettaglio delle attività'!D511)","v":" "},{"$f":"IF('Dettaglio delle attività'!E511=\"\",\" \",'Dettaglio delle attività'!E511)","v":" "}]
[null,null,null,{"$f":"IF('Dettaglio delle attività'!C512=\"\",\" \",'Dettaglio delle attività'!C512)","v":" "},{"$f":"IF('Dettaglio delle attività'!D512=\"\",\" \",'Dettaglio delle attività'!D512)","v":" "},{"$f":"IF('Dettaglio delle attività'!E512=\"\",\" \",'Dettaglio delle attività'!E512)","v":" "}]
[null,null,null,{"$f":"IF('Dettaglio delle attività'!C513=\"\",\" \",'Dettaglio delle attività'!C513)","v":" "},{"$f":"IF('Dettaglio delle attività'!D513=\"\",\" \",'Dettaglio delle attività'!D513)","v":" "},{"$f":"IF('Dettaglio delle attività'!E513=\"\",\" \",'Dettaglio delle attività'!E513)","v":" "}]
[null,null,null,{"$f":"IF('Dettaglio delle attività'!C514=\"\",\" \",'Dettaglio delle attività'!C514)","v":" "},{"$f":"IF('Dettaglio delle attività'!D514=\"\",\" \",'Dettaglio delle attività'!D514)","v":" "},{"$f":"IF('Dettaglio delle attività'!E514=\"\",\" \",'Dettaglio delle attività'!E514)","v":" "}]
[null,null,null,{"$f":"IF('Dettaglio delle attività'!C515=\"\",\" \",'Dettaglio delle attività'!C515)","v":" "},{"$f":"IF('Dettaglio delle attività'!D515=\"\",\" \",'Dettaglio delle attività'!D515)","v":" "},{"$f":"IF('Dettaglio delle attività'!E515=\"\",\" \",'Dettaglio delle attività'!E515)","v":" "}]
[null,null,null,{"$f":"IF('Dettaglio delle attività'!C516=\"\",\" \",'Dettaglio delle attività'!C516)","v":" "},{"$f":"IF('Dettaglio delle attività'!D516=\"\",\" \",'Dettaglio delle attività'!D516)","v":" "},{"$f":"IF('Dettaglio delle attività'!E516=\"\",\" \",'Dettaglio delle attività'!E516)","v":" "}]
[null,null,null,{"$f":"IF('Dettaglio delle attività'!C517=\"\",\" \",'Dettaglio delle attività'!C517)","v":" "},{"$f":"IF('Dettaglio delle attività'!D517=\"\",\" \",'Dettaglio delle attività'!D517)","v":" "},{"$f":"IF('Dettaglio delle attività'!E517=\"\",\" \",'Dettaglio delle attività'!E517)","v":" "}]
[null,null,null,{"$f":"IF('Dettaglio delle attività'!C518=\"\",\" \",'Dettaglio delle attività'!C518)","v":" "},{"$f":"IF('Dettaglio delle attività'!D518=\"\",\" \",'Dettaglio delle attività'!D518)","v":" "},{"$f":"IF('Dettaglio delle attività'!E518=\"\",\" \",'Dettaglio delle attività'!E518)","v":" "}]
[null,null,null,{"$f":"IF('Dettaglio delle attività'!C519=\"\",\" \",'Dettaglio delle attività'!C519)","v":" "},{"$f":"IF('Dettaglio delle attività'!D519=\"\",\" \",'Dettaglio delle attività'!D519)","v":" "},{"$f":"IF('Dettaglio delle attività'!E519=\"\",\" \",'Dettaglio delle attività'!E519)","v":" "}]
[null,null,null,{"$f":"IF('Dettaglio delle attività'!C520=\"\",\" \",'Dettaglio delle attività'!C520)","v":" "},{"$f":"IF('Dettaglio delle attività'!D520=\"\",\" \",'Dettaglio delle attività'!D520)","v":" "},{"$f":"IF('Dettaglio delle attività'!E520=\"\",\" \",'Dettaglio delle attività'!E520)","v":" "}]
[null,null,null,{"$f":"IF('Dettaglio delle attività'!C521=\"\",\" \",'Dettaglio delle attività'!C521)","v":" "},{"$f":"IF('Dettaglio delle attività'!D521=\"\",\" \",'Dettaglio delle attività'!D521)","v":" "},{"$f":"IF('Dettaglio delle attività'!E521=\"\",\" \",'Dettaglio delle attività'!E521)","v":" "}]
[null,null,null,{"$f":"IF('Dettaglio delle attività'!C522=\"\",\" \",'Dettaglio delle attività'!C522)","v":" "},{"$f":"IF('Dettaglio delle attività'!D522=\"\",\" \",'Dettaglio delle attività'!D522)","v":" "},{"$f":"IF('Dettaglio delle attività'!E522=\"\",\" \",'Dettaglio delle attività'!E522)","v":" "}]
[null,null,null,{"$f":"IF('Dettaglio delle attività'!C523=\"\",\" \",'Dettaglio delle attività'!C523)","v":" "},{"$f":"IF('Dettaglio delle attività'!D523=\"\",\" \",'Dettaglio delle attività'!D523)","v":" "},{"$f":"IF('Dettaglio delle attività'!E523=\"\",\" \",'Dettaglio delle attività'!E523)","v":" "}]
[null,null,null,{"$f":"IF('Dettaglio delle attività'!C524=\"\",\" \",'Dettaglio delle attività'!C524)","v":" "},{"$f":"IF('Dettaglio delle attività'!D524=\"\",\" \",'Dettaglio delle attività'!D524)","v":" "},{"$f":"IF('Dettaglio delle attività'!E524=\"\",\" \",'Dettaglio delle attività'!E524)","v":" "}]
[null,null,null,{"$f":"IF('Dettaglio delle attività'!C525=\"\",\" \",'Dettaglio delle attività'!C525)","v":" "},{"$f":"IF('Dettaglio delle attività'!D525=\"\",\" \",'Dettaglio delle attività'!D525)","v":" "},{"$f":"IF('Dettaglio delle attività'!E525=\"\",\" \",'Dettaglio delle attività'!E525)","v":" "}]
[null,null,null,{"$f":"IF('Dettaglio delle attività'!C526=\"\",\" \",'Dettaglio delle attività'!C526)","v":" "},{"$f":"IF('Dettaglio delle attività'!D526=\"\",\" \",'Dettaglio delle attività'!D526)","v":" "},{"$f":"IF('Dettaglio delle attività'!E526=\"\",\" \",'Dettaglio delle attività'!E526)","v":" "}]
[null,null,null,{"$f":"IF('Dettaglio delle attività'!C527=\"\",\" \",'Dettaglio delle attività'!C527)","v":" "},{"$f":"IF('Dettaglio delle attività'!D527=\"\",\" \",'Dettaglio delle attività'!D527)","v":" "},{"$f":"IF('Dettaglio delle attività'!E527=\"\",\" \",'Dettaglio delle attività'!E527)","v":" "}]
[null,null,null,{"$f":"IF('Dettaglio delle attività'!C528=\"\",\" \",'Dettaglio delle attività'!C528)","v":" "},{"$f":"IF('Dettaglio delle attività'!D528=\"\",\" \",'Dettaglio delle attività'!D528)","v":" "},{"$f":"IF('Dettaglio delle attività'!E528=\"\",\" \",'Dettaglio delle attività'!E528)","v":" "}]
[null,null,null,{"$f":"IF('Dettaglio delle attività'!C529=\"\",\" \",'Dettaglio delle attività'!C529)","v":" "},{"$f":"IF('Dettaglio delle attività'!D529=\"\",\" \",'Dettaglio delle attività'!D529)","v":" "},{"$f":"IF('Dettaglio delle attività'!E529=\"\",\" \",'Dettaglio delle attività'!E529)","v":" "}]
[null,null,null,{"$f":"IF('Dettaglio delle attività'!C530=\"\",\" \",'Dettaglio delle attività'!C530)","v":" "},{"$f":"IF('Dettaglio delle attività'!D530=\"\",\" \",'Dettaglio delle attività'!D530)","v":" "},{"$f":"IF('Dettaglio delle attività'!E530=\"\",\" \",'Dettaglio delle attività'!E530)","v":" "}]
[null,null,null,{"$f":"IF('Dettaglio delle attività'!C531=\"\",\" \",'Dettaglio delle attività'!C531)","v":" "},{"$f":"IF('Dettaglio delle attività'!D531=\"\",\" \",'Dettaglio delle attività'!D531)","v":" "},{"$f":"IF('Dettaglio delle attività'!E531=\"\",\" \",'Dettaglio delle attività'!E531)","v":" "}]
[null,null,null,{"$f":"IF('Dettaglio delle attività'!C532=\"\",\" \",'Dettaglio delle attività'!C532)","v":" "},{"$f":"IF('Dettaglio delle attività'!D532=\"\",\" \",'Dettaglio delle attività'!D532)","v":" "},{"$f":"IF('Dettaglio delle attività'!E532=\"\",\" \",'Dettaglio delle attività'!E532)","v":" "}]
[null,null,null,{"$f":"IF('Dettaglio delle attività'!C533=\"\",\" \",'Dettaglio delle attività'!C533)","v":" "},{"$f":"IF('Dettaglio delle attività'!D533=\"\",\" \",'Dettaglio delle attività'!D533)","v":" "},{"$f":"IF('Dettaglio delle attività'!E533=\"\",\" \",'Dettaglio delle attività'!E533)","v":" "}]
[null,null,null,{"$f":"IF('Dettaglio delle attività'!C534=\"\",\" \",'Dettaglio delle attività'!C534)","v":" "},{"$f":"IF('Dettaglio delle attività'!D534=\"\",\" \",'Dettaglio delle attività'!D534)","v":" "},{"$f":"IF('Dettaglio delle attività'!E534=\"\",\" \",'Dettaglio delle attività'!E534)","v":" "}]
[null,null,null,{"$f":"IF('Dettaglio delle attività'!C535=\"\",\" \",'Dettaglio delle attività'!C535)","v":" "},{"$f":"IF('Dettaglio delle attività'!D535=\"\",\" \",'Dettaglio delle attività'!D535)","v":" "},{"$f":"IF('Dettaglio delle attività'!E535=\"\",\" \",'Dettaglio delle attività'!E535)","v":" "}]
[null,null,null,{"$f":"IF('Dettaglio delle attività'!C536=\"\",\" \",'Dettaglio delle attività'!C536)","v":" "},{"$f":"IF('Dettaglio delle attività'!D536=\"\",\" \",'Dettaglio delle attività'!D536)","v":" "},{"$f":"IF('Dettaglio delle attività'!E536=\"\",\" \",'Dettaglio delle attività'!E536)","v":" "}]
[null,null,null,{"$f":"IF('Dettaglio delle attività'!C537=\"\",\" \",'Dettaglio delle attività'!C537)","v":" "},{"$f":"IF('Dettaglio delle attività'!D537=\"\",\" \",'Dettaglio delle attività'!D537)","v":" "},{"$f":"IF('Dettaglio delle attività'!E537=\"\",\" \",'Dettaglio delle attività'!E537)","v":" "}]
[null,null,null,{"$f":"IF('Dettaglio delle attività'!C538=\"\",\" \",'Dettaglio delle attività'!C538)","v":" "},{"$f":"IF('Dettaglio delle attività'!D538=\"\",\" \",'Dettaglio delle attività'!D538)","v":" "},{"$f":"IF('Dettaglio delle attività'!E538=\"\",\" \",'Dettaglio delle attività'!E538)","v":" "}]
[null,null,null,{"$f":"IF('Dettaglio delle attività'!C539=\"\",\" \",'Dettaglio delle attività'!C539)","v":" "},{"$f":"IF('Dettaglio delle attività'!D539=\"\",\" \",'Dettaglio delle attività'!D539)","v":" "},{"$f":"IF('Dettaglio delle attività'!E539=\"\",\" \",'Dettaglio delle attività'!E539)","v":" "}]
[null,null,null,{"$f":"IF('Dettaglio delle attività'!C540=\"\",\" \",'Dettaglio delle attività'!C540)","v":" "},{"$f":"IF('Dettaglio delle attività'!D540=\"\",\" \",'Dettaglio delle attività'!D540)","v":" "},{"$f":"IF('Dettaglio delle attività'!E540=\"\",\" \",'Dettaglio delle attività'!E540)","v":" "}]
[null,null,null,{"$f":"IF('Dettaglio delle attività'!C541=\"\",\" \",'Dettaglio delle attività'!C541)","v":" "},{"$f":"IF('Dettaglio delle attività'!D541=\"\",\" \",'Dettaglio delle attività'!D541)","v":" "},{"$f":"IF('Dettaglio delle attività'!E541=\"\",\" \",'Dettaglio delle attività'!E541)","v":" "}]
[null,null,null,{"$f":"IF('Dettaglio delle attività'!C542=\"\",\" \",'Dettaglio delle attività'!C542)","v":" "},{"$f":"IF('Dettaglio delle attività'!D542=\"\",\" \",'Dettaglio delle attività'!D542)","v":" "},{"$f":"IF('Dettaglio delle attività'!E542=\"\",\" \",'Dettaglio delle attività'!E542)","v":" "}]
[null,null,null,{"$f":"IF('Dettaglio delle attività'!C543=\"\",\" \",'Dettaglio delle attività'!C543)","v":" "},{"$f":"IF('Dettaglio delle attività'!D543=\"\",\" \",'Dettaglio delle attività'!D543)","v":" "},{"$f":"IF('Dettaglio delle attività'!E543=\"\",\" \",'Dettaglio delle attività'!E543)","v":" "}]
[null,null,null,{"$f":"IF('Dettaglio delle attività'!C544=\"\",\" \",'Dettaglio delle attività'!C544)","v":" "},{"$f":"IF('Dettaglio delle attività'!D544=\"\",\" \",'Dettaglio delle attività'!D544)","v":" "},{"$f":"IF('Dettaglio delle attività'!E544=\"\",\" \",'Dettaglio delle attività'!E544)","v":" "}]
[null,null,null,{"$f":"IF('Dettaglio delle attività'!C545=\"\",\" \",'Dettaglio delle attività'!C545)","v":" "},{"$f":"IF('Dettaglio delle attività'!D545=\"\",\" \",'Dettaglio delle attività'!D545)","v":" "},{"$f":"IF('Dettaglio delle attività'!E545=\"\",\" \",'Dettaglio delle attività'!E545)","v":" "}]
[null,null,null,{"$f":"IF('Dettaglio delle attività'!C546=\"\",\" \",'Dettaglio delle attività'!C546)","v":" "},{"$f":"IF('Dettaglio delle attività'!D546=\"\",\" \",'Dettaglio delle attività'!D546)","v":" "},{"$f":"IF('Dettaglio delle attività'!E546=\"\",\" \",'Dettaglio delle attività'!E546)","v":" "}]
[null,null,null,{"$f":"IF('Dettaglio delle attività'!C547=\"\",\" \",'Dettaglio delle attività'!C547)","v":" "},{"$f":"IF('Dettaglio delle attività'!D547=\"\",\" \",'Dettaglio delle attività'!D547)","v":" "},{"$f":"IF('Dettaglio delle attività'!E547=\"\",\" \",'Dettaglio delle attività'!E547)","v":" "}]
[null,null,null,{"$f":"IF('Dettaglio delle attività'!C548=\"\",\" \",'Dettaglio delle attività'!C548)","v":" "},{"$f":"IF('Dettaglio delle attività'!D548=\"\",\" \",'Dettaglio delle attività'!D548)","v":" "},{"$f":"IF('Dettaglio delle attività'!E548=\"\",\" \",'Dettaglio delle attività'!E548)","v":" "}]
[null,null,null,{"$f":"IF('Dettaglio delle attività'!C549=\"\",\" \",'Dettaglio delle attività'!C549)","v":" "},{"$f":"IF('Dettaglio delle attività'!D549=\"\",\" \",'Dettaglio delle attività'!D549)","v":" "},{"$f":"IF('Dettaglio delle attività'!E549=\"\",\" \",'Dettaglio delle attività'!E549)","v":" "}]
[null,null,null,{"$f":"IF('Dettaglio delle attività'!C550=\"\",\" \",'Dettaglio delle attività'!C550)","v":" "},{"$f":"IF('Dettaglio delle attività'!D550=\"\",\" \",'Dettaglio delle attività'!D550)","v":" "},{"$f":"IF('Dettaglio delle attività'!E550=\"\",\" \",'Dettaglio delle attività'!E550)","v":" "}]
[null,null,null,{"$f":"IF('Dettaglio delle attività'!C551=\"\",\" \",'Dettaglio delle attività'!C551)","v":" "},{"$f":"IF('Dettaglio delle attività'!D551=\"\",\" \",'Dettaglio delle attività'!D551)","v":" "},{"$f":"IF('Dettaglio delle attività'!E551=\"\",\" \",'Dettaglio delle attività'!E551)","v":" "}]
[null,null,null,{"$f":"IF('Dettaglio delle attività'!C552=\"\",\" \",'Dettaglio delle attività'!C552)","v":" "},{"$f":"IF('Dettaglio delle attività'!D552=\"\",\" \",'Dettaglio delle attività'!D552)","v":" "},{"$f":"IF('Dettaglio delle attività'!E552=\"\",\" \",'Dettaglio delle attività'!E552)","v":" "}]
[null,null,null,{"$f":"IF('Dettaglio delle attività'!C553=\"\",\" \",'Dettaglio delle attività'!C553)","v":" "},{"$f":"IF('Dettaglio delle attività'!D553=\"\",\" \",'Dettaglio delle attività'!D553)","v":" "},{"$f":"IF('Dettaglio delle attività'!E553=\"\",\" \",'Dettaglio delle attività'!E553)","v":" "}]
[null,null,null,{"$f":"IF('Dettaglio delle attività'!C554=\"\",\" \",'Dettaglio delle attività'!C554)","v":" "},{"$f":"IF('Dettaglio delle attività'!D554=\"\",\" \",'Dettaglio delle attività'!D554)","v":" "},{"$f":"IF('Dettaglio delle attività'!E554=\"\",\" \",'Dettaglio delle attività'!E554)","v":" "}]
[null,null,null,{"$f":"IF('Dettaglio delle attività'!C555=\"\",\" \",'Dettaglio delle attività'!C555)","v":" "},{"$f":"IF('Dettaglio delle attività'!D555=\"\",\" \",'Dettaglio delle attività'!D555)","v":" "},{"$f":"IF('Dettaglio delle attività'!E555=\"\",\" \",'Dettaglio delle attività'!E555)","v":" "}]
[null,null,null,{"$f":"IF('Dettaglio delle attività'!C556=\"\",\" \",'Dettaglio delle attività'!C556)","v":" "},{"$f":"IF('Dettaglio delle attività'!D556=\"\",\" \",'Dettaglio delle attività'!D556)","v":" "},{"$f":"IF('Dettaglio delle attività'!E556=\"\",\" \",'Dettaglio delle attività'!E556)","v":" "}]
[null,null,null,{"$f":"IF('Dettaglio delle attività'!C557=\"\",\" \",'Dettaglio delle attività'!C557)","v":" "},{"$f":"IF('Dettaglio delle attività'!D557=\"\",\" \",'Dettaglio delle attività'!D557)","v":" "},{"$f":"IF('Dettaglio delle attività'!E557=\"\",\" \",'Dettaglio delle attività'!E557)","v":" "}]
[null,null,null,{"$f":"IF('Dettaglio delle attività'!C558=\"\",\" \",'Dettaglio delle attività'!C558)","v":" "},{"$f":"IF('Dettaglio delle attività'!D558=\"\",\" \",'Dettaglio delle attività'!D558)","v":" "},{"$f":"IF('Dettaglio delle attività'!E558=\"\",\" \",'Dettaglio delle attività'!E558)","v":" "}]
[null,null,null,{"$f":"IF('Dettaglio delle attività'!C559=\"\",\" \",'Dettaglio delle attività'!C559)","v":" "},{"$f":"IF('Dettaglio delle attività'!D559=\"\",\" \",'Dettaglio delle attività'!D559)","v":" "},{"$f":"IF('Dettaglio delle attività'!E559=\"\",\" \",'Dettaglio delle attività'!E559)","v":" "}]
[null,null,null,{"$f":"IF('Dettaglio delle attività'!C560=\"\",\" \",'Dettaglio delle attività'!C560)","v":" "},{"$f":"IF('Dettaglio delle attività'!D560=\"\",\" \",'Dettaglio delle attività'!D560)","v":" "},{"$f":"IF('Dettaglio delle attività'!E560=\"\",\" \",'Dettaglio delle attività'!E560)","v":" "}]
[null,null,null,{"$f":"IF('Dettaglio delle attività'!C561=\"\",\" \",'Dettaglio delle attività'!C561)","v":" "},{"$f":"IF('Dettaglio delle attività'!D561=\"\",\" \",'Dettaglio delle attività'!D561)","v":" "},{"$f":"IF('Dettaglio delle attività'!E561=\"\",\" \",'Dettaglio delle attività'!E561)","v":" "}]
[null,null,null,{"$f":"IF('Dettaglio delle attività'!C562=\"\",\" \",'Dettaglio delle attività'!C562)","v":" "},{"$f":"IF('Dettaglio delle attività'!D562=\"\",\" \",'Dettaglio delle attività'!D562)","v":" "},{"$f":"IF('Dettaglio delle attività'!E562=\"\",\" \",'Dettaglio delle attività'!E562)","v":" "}]
[null,null,null,{"$f":"IF('Dettaglio delle attività'!C563=\"\",\" \",'Dettaglio delle attività'!C563)","v":" "},{"$f":"IF('Dettaglio delle attività'!D563=\"\",\" \",'Dettaglio delle attività'!D563)","v":" "},{"$f":"IF('Dettaglio delle attività'!E563=\"\",\" \",'Dettaglio delle attività'!E563)","v":" "}]
[null,null,null,{"$f":"IF('Dettaglio delle attività'!C564=\"\",\" \",'Dettaglio delle attività'!C564)","v":" "},{"$f":"IF('Dettaglio delle attività'!D564=\"\",\" \",'Dettaglio delle attività'!D564)","v":" "},{"$f":"IF('Dettaglio delle attività'!E564=\"\",\" \",'Dettaglio delle attività'!E564)","v":" "}]
[null,null,null,{"$f":"IF('Dettaglio delle attività'!C565=\"\",\" \",'Dettaglio delle attività'!C565)","v":" "},{"$f":"IF('Dettaglio delle attività'!D565=\"\",\" \",'Dettaglio delle attività'!D565)","v":" "},{"$f":"IF('Dettaglio delle attività'!E565=\"\",\" \",'Dettaglio delle attività'!E565)","v":" "}]
[null,null,null,{"$f":"IF('Dettaglio delle attività'!C566=\"\",\" \",'Dettaglio delle attività'!C566)","v":" "},{"$f":"IF('Dettaglio delle attività'!D566=\"\",\" \",'Dettaglio delle attività'!D566)","v":" "},{"$f":"IF('Dettaglio delle attività'!E566=\"\",\" \",'Dettaglio delle attività'!E566)","v":" "}]
[null,null,null,{"$f":"IF('Dettaglio delle attività'!C567=\"\",\" \",'Dettaglio delle attività'!C567)","v":" "},{"$f":"IF('Dettaglio delle attività'!D567=\"\",\" \",'Dettaglio delle attività'!D567)","v":" "},{"$f":"IF('Dettaglio delle attività'!E567=\"\",\" \",'Dettaglio delle attività'!E567)","v":" "}]
[null,null,null,{"$f":"IF('Dettaglio delle attività'!C568=\"\",\" \",'Dettaglio delle attività'!C568)","v":" "},{"$f":"IF('Dettaglio delle attività'!D568=\"\",\" \",'Dettaglio delle attività'!D568)","v":" "},{"$f":"IF('Dettaglio delle attività'!E568=\"\",\" \",'Dettaglio delle attività'!E568)","v":" "}]
[null,null,null,{"$f":"IF('Dettaglio delle attività'!C569=\"\",\" \",'Dettaglio delle attività'!C569)","v":" "},{"$f":"IF('Dettaglio delle attività'!D569=\"\",\" \",'Dettaglio delle attività'!D569)","v":" "},{"$f":"IF('Dettaglio delle attività'!E569=\"\",\" \",'Dettaglio delle attività'!E569)","v":" "}]
[null,null,null,{"$f":"IF('Dettaglio delle attività'!C570=\"\",\" \",'Dettaglio delle attività'!C570)","v":" "},{"$f":"IF('Dettaglio delle attività'!D570=\"\",\" \",'Dettaglio delle attività'!D570)","v":" "},{"$f":"IF('Dettaglio delle attività'!E570=\"\",\" \",'Dettaglio delle attività'!E570)","v":" "}]
[null,null,null,{"$f":"IF('Dettaglio delle attività'!C571=\"\",\" \",'Dettaglio delle attività'!C571)","v":" "},{"$f":"IF('Dettaglio delle attività'!D571=\"\",\" \",'Dettaglio delle attività'!D571)","v":" "},{"$f":"IF('Dettaglio delle attività'!E571=\"\",\" \",'Dettaglio delle attività'!E571)","v":" "}]
[null,null,null,{"$f":"IF('Dettaglio delle attività'!C572=\"\",\" \",'Dettaglio delle attività'!C572)","v":" "},{"$f":"IF('Dettaglio delle attività'!D572=\"\",\" \",'Dettaglio delle attività'!D572)","v":" "},{"$f":"IF('Dettaglio delle attività'!E572=\"\",\" \",'Dettaglio delle attività'!E572)","v":" "}]
[null,null,null,{"$f":"IF('Dettaglio delle attività'!C573=\"\",\" \",'Dettaglio delle attività'!C573)","v":" "},{"$f":"IF('Dettaglio delle attività'!D573=\"\",\" \",'Dettaglio delle attività'!D573)","v":" "},{"$f":"IF('Dettaglio delle attività'!E573=\"\",\" \",'Dettaglio delle attività'!E573)","v":" "}]
[null,null,null,{"$f":"IF('Dettaglio delle attività'!C574=\"\",\" \",'Dettaglio delle attività'!C574)","v":" "},{"$f":"IF('Dettaglio delle attività'!D574=\"\",\" \",'Dettaglio delle attività'!D574)","v":" "},{"$f":"IF('Dettaglio delle attività'!E574=\"\",\" \",'Dettaglio delle attività'!E574)","v":" "}]
[null,null,null,{"$f":"IF('Dettaglio delle attività'!C575=\"\",\" \",'Dettaglio delle attività'!C575)","v":" "},{"$f":"IF('Dettaglio delle attività'!D575=\"\",\" \",'Dettaglio delle attività'!D575)","v":" "},{"$f":"IF('Dettaglio delle attività'!E575=\"\",\" \",'Dettaglio delle attività'!E575)","v":" "}]
[null,null,null,{"$f":"IF('Dettaglio delle attività'!C576=\"\",\" \",'Dettaglio delle attività'!C576)","v":" "},{"$f":"IF('Dettaglio delle attività'!D576=\"\",\" \",'Dettaglio delle attività'!D576)","v":" "},{"$f":"IF('Dettaglio delle attività'!E576=\"\",\" \",'Dettaglio delle attività'!E576)","v":" "}]
[null,null,null,{"$f":"IF('Dettaglio delle attività'!C577=\"\",\" \",'Dettaglio delle attività'!C577)","v":" "},{"$f":"IF('Dettaglio delle attività'!D577=\"\",\" \",'Dettaglio delle attività'!D577)","v":" "},{"$f":"IF('Dettaglio delle attività'!E577=\"\",\" \",'Dettaglio delle attività'!E577)","v":" "}]
[null,null,null,{"$f":"IF('Dettaglio delle attività'!C578=\"\",\" \",'Dettaglio delle attività'!C578)","v":" "},{"$f":"IF('Dettaglio delle attività'!D578=\"\",\" \",'Dettaglio delle attività'!D578)","v":" "},{"$f":"IF('Dettaglio delle attività'!E578=\"\",\" \",'Dettaglio delle attività'!E578)","v":" "}]
[null,null,null,{"$f":"IF('Dettaglio delle attività'!C579=\"\",\" \",'Dettaglio delle attività'!C579)","v":" "},{"$f":"IF('Dettaglio delle attività'!D579=\"\",\" \",'Dettaglio delle attività'!D579)","v":" "},{"$f":"IF('Dettaglio delle attività'!E579=\"\",\" \",'Dettaglio delle attività'!E579)","v":" "}]
[null,null,null,{"$f":"IF('Dettaglio delle attività'!C580=\"\",\" \",'Dettaglio delle attività'!C580)","v":" "},{"$f":"IF('Dettaglio delle attività'!D580=\"\",\" \",'Dettaglio delle attività'!D580)","v":" "},{"$f":"IF('Dettaglio delle attività'!E580=\"\",\" \",'Dettaglio delle attività'!E580)","v":" "}]
[null,null,null,{"$f":"IF('Dettaglio delle attività'!C581=\"\",\" \",'Dettaglio delle attività'!C581)","v":" "},{"$f":"IF('Dettaglio delle attività'!D581=\"\",\" \",'Dettaglio delle attività'!D581)","v":" "},{"$f":"IF('Dettaglio delle attività'!E581=\"\",\" \",'Dettaglio delle attività'!E581)","v":" "}]
[null,null,null,{"$f":"IF('Dettaglio delle attività'!C582=\"\",\" \",'Dettaglio delle attività'!C582)","v":" "},{"$f":"IF('Dettaglio delle attività'!D582=\"\",\" \",'Dettaglio delle attività'!D582)","v":" "},{"$f":"IF('Dettaglio delle attività'!E582=\"\",\" \",'Dettaglio delle attività'!E582)","v":" "}]
[null,null,null,{"$f":"IF('Dettaglio delle attività'!C583=\"\",\" \",'Dettaglio delle attività'!C583)","v":" "},{"$f":"IF('Dettaglio delle attività'!D583=\"\",\" \",'Dettaglio delle attività'!D583)","v":" "},{"$f":"IF('Dettaglio delle attività'!E583=\"\",\" \",'Dettaglio delle attività'!E583)","v":" "}]
[null,null,null,{"$f":"IF('Dettaglio delle attività'!C584=\"\",\" \",'Dettaglio delle attività'!C584)","v":" "},{"$f":"IF('Dettaglio delle attività'!D584=\"\",\" \",'Dettaglio delle attività'!D584)","v":" "},{"$f":"IF('Dettaglio delle attività'!E584=\"\",\" \",'Dettaglio delle attività'!E584)","v":" "}]
[null,null,null,{"$f":"IF('Dettaglio delle attività'!C585=\"\",\" \",'Dettaglio delle attività'!C585)","v":" "},{"$f":"IF('Dettaglio delle attività'!D585=\"\",\" \",'Dettaglio delle attività'!D585)","v":" "},{"$f":"IF('Dettaglio delle attività'!E585=\"\",\" \",'Dettaglio delle attività'!E585)","v":" "}]
[null,null,null,{"$f":"IF('Dettaglio delle attività'!C586=\"\",\" \",'Dettaglio delle attività'!C586)","v":" "},{"$f":"IF('Dettaglio delle attività'!D586=\"\",\" \",'Dettaglio delle attività'!D586)","v":" "},{"$f":"IF('Dettaglio delle attività'!E586=\"\",\" \",'Dettaglio delle attività'!E586)","v":" "}]
[null,null,null,{"$f":"IF('Dettaglio delle attività'!C587=\"\",\" \",'Dettaglio delle attività'!C587)","v":" "},{"$f":"IF('Dettaglio delle attività'!D587=\"\",\" \",'Dettaglio delle attività'!D587)","v":" "},{"$f":"IF('Dettaglio delle attività'!E587=\"\",\" \",'Dettaglio delle attività'!E587)","v":" "}]
[null,null,null,{"$f":"IF('Dettaglio delle attività'!C588=\"\",\" \",'Dettaglio delle attività'!C588)","v":" "},{"$f":"IF('Dettaglio delle attività'!D588=\"\",\" \",'Dettaglio delle attività'!D588)","v":" "},{"$f":"IF('Dettaglio delle attività'!E588=\"\",\" \",'Dettaglio delle attività'!E588)","v":" "}]
[null,null,null,{"$f":"IF('Dettaglio delle attività'!C589=\"\",\" \",'Dettaglio delle attività'!C589)","v":" "},{"$f":"IF('Dettaglio delle attività'!D589=\"\",\" \",'Dettaglio delle attività'!D589)","v":" "},{"$f":"IF('Dettaglio delle attività'!E589=\"\",\" \",'Dettaglio delle attività'!E589)","v":" "}]
[null,null,null,{"$f":"IF('Dettaglio delle attività'!C590=\"\",\" \",'Dettaglio delle attività'!C590)","v":" "},{"$f":"IF('Dettaglio delle attività'!D590=\"\",\" \",'Dettaglio delle attività'!D590)","v":" "},{"$f":"IF('Dettaglio delle attività'!E590=\"\",\" \",'Dettaglio delle attività'!E590)","v":" "}]
[null,null,null,{"$f":"IF('Dettaglio delle attività'!C591=\"\",\" \",'Dettaglio delle attività'!C591)","v":" "},{"$f":"IF('Dettaglio delle attività'!D591=\"\",\" \",'Dettaglio delle attività'!D591)","v":" "},{"$f":"IF('Dettaglio delle attività'!E591=\"\",\" \",'Dettaglio delle attività'!E591)","v":" "}]
[null,null,null,{"$f":"IF('Dettaglio delle attività'!C592=\"\",\" \",'Dettaglio delle attività'!C592)","v":" "},{"$f":"IF('Dettaglio delle attività'!D592=\"\",\" \",'Dettaglio delle attività'!D592)","v":" "},{"$f":"IF('Dettaglio delle attività'!E592=\"\",\" \",'Dettaglio delle attività'!E592)","v":" "}]
[null,null,null,{"$f":"IF('Dettaglio delle attività'!C593=\"\",\" \",'Dettaglio delle attività'!C593)","v":" "},{"$f":"IF('Dettaglio delle attività'!D593=\"\",\" \",'Dettaglio delle attività'!D593)","v":" "},{"$f":"IF('Dettaglio delle attività'!E593=\"\",\" \",'Dettaglio delle attività'!E593)","v":" "}]
[null,null,null,{"$f":"IF('Dettaglio delle attività'!C594=\"\",\" \",'Dettaglio delle attività'!C594)","v":" "},{"$f":"IF('Dettaglio delle attività'!D594=\"\",\" \",'Dettaglio delle attività'!D594)","v":" "},{"$f":"IF('Dettaglio delle attività'!E594=\"\",\" \",'Dettaglio delle attività'!E594)","v":" "}]
[null,null,null,{"$f":"IF('Dettaglio delle attività'!C595=\"\",\" \",'Dettaglio delle attività'!C595)","v":" "},{"$f":"IF('Dettaglio delle attività'!D595=\"\",\" \",'Dettaglio delle attività'!D595)","v":" "},{"$f":"IF('Dettaglio delle attività'!E595=\"\",\" \",'Dettaglio delle attività'!E595)","v":" "}]
[null,null,null,{"$f":"IF('Dettaglio delle attività'!C596=\"\",\" \",'Dettaglio delle attività'!C596)","v":" "},{"$f":"IF('Dettaglio delle attività'!D596=\"\",\" \",'Dettaglio delle attività'!D596)","v":" "},{"$f":"IF('Dettaglio delle attività'!E596=\"\",\" \",'Dettaglio delle attività'!E596)","v":" "}]
[null,null,null,{"$f":"IF('Dettaglio delle attività'!C597=\"\",\" \",'Dettaglio delle attività'!C597)","v":" "},{"$f":"IF('Dettaglio delle attività'!D597=\"\",\" \",'Dettaglio delle attività'!D597)","v":" "},{"$f":"IF('Dettaglio delle attività'!E597=\"\",\" \",'Dettaglio delle attività'!E597)","v":" "}]
[null,null,null,{"$f":"IF('Dettaglio delle attività'!C598=\"\",\" \",'Dettaglio delle attività'!C598)","v":" "},{"$f":"IF('Dettaglio delle attività'!D598=\"\",\" \",'Dettaglio delle attività'!D598)","v":" "},{"$f":"IF('Dettaglio delle attività'!E598=\"\",\" \",'Dettaglio delle attività'!E598)","v":" "}]
[null,null,null,{"$f":"IF('Dettaglio delle attività'!C599=\"\",\" \",'Dettaglio delle attività'!C599)","v":" "},{"$f":"IF('Dettaglio delle attività'!D599=\"\",\" \",'Dettaglio delle attività'!D599)","v":" "},{"$f":"IF('Dettaglio delle attività'!E599=\"\",\" \",'Dettaglio delle attività'!E599)","v":" "}]
[null,null,null,{"$f":"IF('Dettaglio delle attività'!C600=\"\",\" \",'Dettaglio delle attività'!C600)","v":" "},{"$f":"IF('Dettaglio delle attività'!D600=\"\",\" \",'Dettaglio delle attività'!D600)","v":" "},{"$f":"IF('Dettaglio delle attività'!E600=\"\",\" \",'Dettaglio delle attività'!E600)","v":" "}]
[null,null,null,{"$f":"IF('Dettaglio delle attività'!C601=\"\",\" \",'Dettaglio delle attività'!C601)","v":" "},{"$f":"IF('Dettaglio delle attività'!D601=\"\",\" \",'Dettaglio delle attività'!D601)","v":" "},{"$f":"IF('Dettaglio delle attività'!E601=\"\",\" \",'Dettaglio delle attività'!E601)","v":" "}]
[null,null,null,{"$f":"IF('Dettaglio delle attività'!C602=\"\",\" \",'Dettaglio delle attività'!C602)","v":" "},{"$f":"IF('Dettaglio delle attività'!D602=\"\",\" \",'Dettaglio delle attività'!D602)","v":" "},{"$f":"IF('Dettaglio delle attività'!E602=\"\",\" \",'Dettaglio delle attività'!E602)","v":" "}]
[null,null,null,{"$f":"IF('Dettaglio delle attività'!C603=\"\",\" \",'Dettaglio delle attività'!C603)","v":" "},{"$f":"IF('Dettaglio delle attività'!D603=\"\",\" \",'Dettaglio delle attività'!D603)","v":" "},{"$f":"IF('Dettaglio delle attività'!E603=\"\",\" \",'Dettaglio delle attività'!E603)","v":" "}]
[null,null,null,{"$f":"IF('Dettaglio delle attività'!C604=\"\",\" \",'Dettaglio delle attività'!C604)","v":" "},{"$f":"IF('Dettaglio delle attività'!D604=\"\",\" \",'Dettaglio delle attività'!D604)","v":" "},{"$f":"IF('Dettaglio delle attività'!E604=\"\",\" \",'Dettaglio delle attività'!E604)","v":" "}]
[null,null,null,{"$f":"IF('Dettaglio delle attività'!C605=\"\",\" \",'Dettaglio delle attività'!C605)","v":" "},{"$f":"IF('Dettaglio delle attività'!D605=\"\",\" \",'Dettaglio delle attività'!D605)","v":" "},{"$f":"IF('Dettaglio delle attività'!E605=\"\",\" \",'Dettaglio delle attività'!E605)","v":" "}]
[null,null,null,{"$f":"IF('Dettaglio delle attività'!C606=\"\",\" \",'Dettaglio delle attività'!C606)","v":" "},{"$f":"IF('Dettaglio delle attività'!D606=\"\",\" \",'Dettaglio delle attività'!D606)","v":" "},{"$f":"IF('Dettaglio delle attività'!E606=\"\",\" \",'Dettaglio delle attività'!E606)","v":" "}]
[null,null,null,{"$f":"IF('Dettaglio delle attività'!C607=\"\",\" \",'Dettaglio delle attività'!C607)","v":" "},{"$f":"IF('Dettaglio delle attività'!D607=\"\",\" \",'Dettaglio delle attività'!D607)","v":" "},{"$f":"IF('Dettaglio delle attività'!E607=\"\",\" \",'Dettaglio delle attività'!E607)","v":" "}]
[null,null,null,{"$f":"IF('Dettaglio delle attività'!C608=\"\",\" \",'Dettaglio delle attività'!C608)","v":" "},{"$f":"IF('Dettaglio delle attività'!D608=\"\",\" \",'Dettaglio delle attività'!D608)","v":" "},{"$f":"IF('Dettaglio delle attività'!E608=\"\",\" \",'Dettaglio delle attività'!E608)","v":" "}]
[null,null,null,{"$f":"IF('Dettaglio delle attività'!C609=\"\",\" \",'Dettaglio delle attività'!C609)","v":" "},{"$f":"IF('Dettaglio delle attività'!D609=\"\",\" \",'Dettaglio delle attività'!D609)","v":" "},{"$f":"IF('Dettaglio delle attività'!E609=\"\",\" \",'Dettaglio delle attività'!E609)","v":" "}]
[null,null,null,{"$f":"IF('Dettaglio delle attività'!C610=\"\",\" \",'Dettaglio delle attività'!C610)","v":" "},{"$f":"IF('Dettaglio delle attività'!D610=\"\",\" \",'Dettaglio delle attività'!D610)","v":" "},{"$f":"IF('Dettaglio delle attività'!E610=\"\",\" \",'Dettaglio delle attività'!E610)","v":" "}]
[null,null,null,{"$f":"IF('Dettaglio delle attività'!C611=\"\",\" \",'Dettaglio delle attività'!C611)","v":" "},{"$f":"IF('Dettaglio delle attività'!D611=\"\",\" \",'Dettaglio delle attività'!D611)","v":" "},{"$f":"IF('Dettaglio delle attività'!E611=\"\",\" \",'Dettaglio delle attività'!E611)","v":" "}]
[null,null,null,{"$f":"IF('Dettaglio delle attività'!C612=\"\",\" \",'Dettaglio delle attività'!C612)","v":" "},{"$f":"IF('Dettaglio delle attività'!D612=\"\",\" \",'Dettaglio delle attività'!D612)","v":" "},{"$f":"IF('Dettaglio delle attività'!E612=\"\",\" \",'Dettaglio delle attività'!E612)","v":" "}]
[null,null,null,{"$f":"IF('Dettaglio delle attività'!C613=\"\",\" \",'Dettaglio delle attività'!C613)","v":" "},{"$f":"IF('Dettaglio delle attività'!D613=\"\",\" \",'Dettaglio delle attività'!D613)","v":" "},{"$f":"IF('Dettaglio delle attività'!E613=\"\",\" \",'Dettaglio delle attività'!E613)","v":" "}]
[null,null,null,{"$f":"IF('Dettaglio delle attività'!C614=\"\",\" \",'Dettaglio delle attività'!C614)","v":" "},{"$f":"IF('Dettaglio delle attività'!D614=\"\",\" \",'Dettaglio delle attività'!D614)","v":" "},{"$f":"IF('Dettaglio delle attività'!E614=\"\",\" \",'Dettaglio delle attività'!E614)","v":" "}]
[null,null,null,{"$f":"IF('Dettaglio delle attività'!C615=\"\",\" \",'Dettaglio delle attività'!C615)","v":" "},{"$f":"IF('Dettaglio delle attività'!D615=\"\",\" \",'Dettaglio delle attività'!D615)","v":" "},{"$f":"IF('Dettaglio delle attività'!E615=\"\",\" \",'Dettaglio delle attività'!E615)","v":" "}]
[null,null,null,{"$f":"IF('Dettaglio delle attività'!C616=\"\",\" \",'Dettaglio delle attività'!C616)","v":" "},{"$f":"IF('Dettaglio delle attività'!D616=\"\",\" \",'Dettaglio delle attività'!D616)","v":" "},{"$f":"IF('Dettaglio delle attività'!E616=\"\",\" \",'Dettaglio delle attività'!E616)","v":" "}]
[null,null,null,{"$f":"IF('Dettaglio delle attività'!C617=\"\",\" \",'Dettaglio delle attività'!C617)","v":" "},{"$f":"IF('Dettaglio delle attività'!D617=\"\",\" \",'Dettaglio delle attività'!D617)","v":" "},{"$f":"IF('Dettaglio delle attività'!E617=\"\",\" \",'Dettaglio delle attività'!E617)","v":" "}]
[null,null,null,{"$f":"IF('Dettaglio delle attività'!C618=\"\",\" \",'Dettaglio delle attività'!C618)","v":" "},{"$f":"IF('Dettaglio delle attività'!D618=\"\",\" \",'Dettaglio delle attività'!D618)","v":" "},{"$f":"IF('Dettaglio delle attività'!E618=\"\",\" \",'Dettaglio delle attività'!E618)","v":" "}]
[null,null,null,{"$f":"IF('Dettaglio delle attività'!C619=\"\",\" \",'Dettaglio delle attività'!C619)","v":" "},{"$f":"IF('Dettaglio delle attività'!D619=\"\",\" \",'Dettaglio delle attività'!D619)","v":" "},{"$f":"IF('Dettaglio delle attività'!E619=\"\",\" \",'Dettaglio delle attività'!E619)","v":" "}]
[null,null,null,{"$f":"IF('Dettaglio delle attività'!C620=\"\",\" \",'Dettaglio delle attività'!C620)","v":" "},{"$f":"IF('Dettaglio delle attività'!D620=\"\",\" \",'Dettaglio delle attività'!D620)","v":" "},{"$f":"IF('Dettaglio delle attività'!E620=\"\",\" \",'Dettaglio delle attività'!E620)","v":" "}]
[null,null,null,{"$f":"IF('Dettaglio delle attività'!C621=\"\",\" \",'Dettaglio delle attività'!C621)","v":" "},{"$f":"IF('Dettaglio delle attività'!D621=\"\",\" \",'Dettaglio delle attività'!D621)","v":" "},{"$f":"IF('Dettaglio delle attività'!E621=\"\",\" \",'Dettaglio delle attività'!E621)","v":" "}]
[null,null,null,{"$f":"IF('Dettaglio delle attività'!C622=\"\",\" \",'Dettaglio delle attività'!C622)","v":" "},{"$f":"IF('Dettaglio delle attività'!D622=\"\",\" \",'Dettaglio delle attività'!D622)","v":" "},{"$f":"IF('Dettaglio delle attività'!E622=\"\",\" \",'Dettaglio delle attività'!E622)","v":" "}]
[null,null,null,{"$f":"IF('Dettaglio delle attività'!C623=\"\",\" \",'Dettaglio delle attività'!C623)","v":" "},{"$f":"IF('Dettaglio delle attività'!D623=\"\",\" \",'Dettaglio delle attività'!D623)","v":" "},{"$f":"IF('Dettaglio delle attività'!E623=\"\",\" \",'Dettaglio delle attività'!E623)","v":" "}]
[null,null,null,{"$f":"IF('Dettaglio delle attività'!C624=\"\",\" \",'Dettaglio delle attività'!C624)","v":" "},{"$f":"IF('Dettaglio delle attività'!D624=\"\",\" \",'Dettaglio delle attività'!D624)","v":" "},{"$f":"IF('Dettaglio delle attività'!E624=\"\",\" \",'Dettaglio delle attività'!E624)","v":" "}]
[null,null,null,{"$f":"IF('Dettaglio delle attività'!C625=\"\",\" \",'Dettaglio delle attività'!C625)","v":" "},{"$f":"IF('Dettaglio delle attività'!D625=\"\",\" \",'Dettaglio delle attività'!D625)","v":" "},{"$f":"IF('Dettaglio delle attività'!E625=\"\",\" \",'Dettaglio delle attività'!E625)","v":" "}]
[null,null,null,{"$f":"IF('Dettaglio delle attività'!C626=\"\",\" \",'Dettaglio delle attività'!C626)","v":" "},{"$f":"IF('Dettaglio delle attività'!D626=\"\",\" \",'Dettaglio delle attività'!D626)","v":" "},{"$f":"IF('Dettaglio delle attività'!E626=\"\",\" \",'Dettaglio delle attività'!E626)","v":" "}]
[null,null,null,{"$f":"IF('Dettaglio delle attività'!C627=\"\",\" \",'Dettaglio delle attività'!C627)","v":" "},{"$f":"IF('Dettaglio delle attività'!D627=\"\",\" \",'Dettaglio delle attività'!D627)","v":" "},{"$f":"IF('Dettaglio delle attività'!E627=\"\",\" \",'Dettaglio delle attività'!E627)","v":" "}]
[null,null,null,{"$f":"IF('Dettaglio delle attività'!C628=\"\",\" \",'Dettaglio delle attività'!C628)","v":" "},{"$f":"IF('Dettaglio delle attività'!D628=\"\",\" \",'Dettaglio delle attività'!D628)","v":" "},{"$f":"IF('Dettaglio delle attività'!E628=\"\",\" \",'Dettaglio delle attività'!E628)","v":" "}]
[null,null,null,{"$f":"IF('Dettaglio delle attività'!C629=\"\",\" \",'Dettaglio delle attività'!C629)","v":" "},{"$f":"IF('Dettaglio delle attività'!D629=\"\",\" \",'Dettaglio delle attività'!D629)","v":" "},{"$f":"IF('Dettaglio delle attività'!E629=\"\",\" \",'Dettaglio delle attività'!E629)","v":" "}]
[null,null,null,{"$f":"IF('Dettaglio delle attività'!C630=\"\",\" \",'Dettaglio delle attività'!C630)","v":" "},{"$f":"IF('Dettaglio delle attività'!D630=\"\",\" \",'Dettaglio delle attività'!D630)","v":" "},{"$f":"IF('Dettaglio delle attività'!E630=\"\",\" \",'Dettaglio delle attività'!E630)","v":" "}]
[null,null,null,{"$f":"IF('Dettaglio delle attività'!C631=\"\",\" \",'Dettaglio delle attività'!C631)","v":" "},{"$f":"IF('Dettaglio delle attività'!D631=\"\",\" \",'Dettaglio delle attività'!D631)","v":" "},{"$f":"IF('Dettaglio delle attività'!E631=\"\",\" \",'Dettaglio delle attività'!E631)","v":" "}]
[null,null,null,{"$f":"IF('Dettaglio delle attività'!C632=\"\",\" \",'Dettaglio delle attività'!C632)","v":" "},{"$f":"IF('Dettaglio delle attività'!D632=\"\",\" \",'Dettaglio delle attività'!D632)","v":" "},{"$f":"IF('Dettaglio delle attività'!E632=\"\",\" \",'Dettaglio delle attività'!E632)","v":" "}]
[null,null,null,{"$f":"IF('Dettaglio delle attività'!C633=\"\",\" \",'Dettaglio delle attività'!C633)","v":" "},{"$f":"IF('Dettaglio delle attività'!D633=\"\",\" \",'Dettaglio delle attività'!D633)","v":" "},{"$f":"IF('Dettaglio delle attività'!E633=\"\",\" \",'Dettaglio delle attività'!E633)","v":" "}]
[null,null,null,{"$f":"IF('Dettaglio delle attività'!C634=\"\",\" \",'Dettaglio delle attività'!C634)","v":" "},{"$f":"IF('Dettaglio delle attività'!D634=\"\",\" \",'Dettaglio delle attività'!D634)","v":" "},{"$f":"IF('Dettaglio delle attività'!E634=\"\",\" \",'Dettaglio delle attività'!E634)","v":" "}]
[null,null,null,{"$f":"IF('Dettaglio delle attività'!C635=\"\",\" \",'Dettaglio delle attività'!C635)","v":" "},{"$f":"IF('Dettaglio delle attività'!D635=\"\",\" \",'Dettaglio delle attività'!D635)","v":" "},{"$f":"IF('Dettaglio delle attività'!E635=\"\",\" \",'Dettaglio delle attività'!E635)","v":" "}]
[null,null,null,{"$f":"IF('Dettaglio delle attività'!C636=\"\",\" \",'Dettaglio delle attività'!C636)","v":" "},{"$f":"IF('Dettaglio delle attività'!D636=\"\",\" \",'Dettaglio delle attività'!D636)","v":" "},{"$f":"IF('Dettaglio delle attività'!E636=\"\",\" \",'Dettaglio delle attività'!E636)","v":" "}]
[null,null,null,{"$f":"IF('Dettaglio delle attività'!C637=\"\",\" \",'Dettaglio delle attività'!C637)","v":" "},{"$f":"IF('Dettaglio delle attività'!D637=\"\",\" \",'Dettaglio delle attività'!D637)","v":" "},{"$f":"IF('Dettaglio delle attività'!E637=\"\",\" \",'Dettaglio delle attività'!E637)","v":" "}]
[null,null,null,{"$f":"IF('Dettaglio delle attività'!C638=\"\",\" \",'Dettaglio delle attività'!C638)","v":" "},{"$f":"IF('Dettaglio delle attività'!D638=\"\",\" \",'Dettaglio delle attività'!D638)","v":" "},{"$f":"IF('Dettaglio delle attività'!E638=\"\",\" \",'Dettaglio delle attività'!E638)","v":" "}]
[null,null,null,{"$f":"IF('Dettaglio delle attività'!C639=\"\",\" \",'Dettaglio delle attività'!C639)","v":" "},{"$f":"IF('Dettaglio delle attività'!D639=\"\",\" \",'Dettaglio delle attività'!D639)","v":" "},{"$f":"IF('Dettaglio delle attività'!E639=\"\",\" \",'Dettaglio delle attività'!E639)","v":" "}]
[null,null,null,{"$f":"IF('Dettaglio delle attività'!C640=\"\",\" \",'Dettaglio delle attività'!C640)","v":" "},{"$f":"IF('Dettaglio delle attività'!D640=\"\",\" \",'Dettaglio delle attività'!D640)","v":" "},{"$f":"IF('Dettaglio delle attività'!E640=\"\",\" \",'Dettaglio delle attività'!E640)","v":" "}]
[null,null,null,{"$f":"IF('Dettaglio delle attività'!C641=\"\",\" \",'Dettaglio delle attività'!C641)","v":" "},{"$f":"IF('Dettaglio delle attività'!D641=\"\",\" \",'Dettaglio delle attività'!D641)","v":" "},{"$f":"IF('Dettaglio delle attività'!E641=\"\",\" \",'Dettaglio delle attività'!E641)","v":" "}]
[null,null,null,{"$f":"IF('Dettaglio delle attività'!C642=\"\",\" \",'Dettaglio delle attività'!C642)","v":" "},{"$f":"IF('Dettaglio delle attività'!D642=\"\",\" \",'Dettaglio delle attività'!D642)","v":" "},{"$f":"IF('Dettaglio delle attività'!E642=\"\",\" \",'Dettaglio delle attività'!E642)","v":" "}]
[null,null,null,{"$f":"IF('Dettaglio delle attività'!C643=\"\",\" \",'Dettaglio delle attività'!C643)","v":" "},{"$f":"IF('Dettaglio delle attività'!D643=\"\",\" \",'Dettaglio delle attività'!D643)","v":" "},{"$f":"IF('Dettaglio delle attività'!E643=\"\",\" \",'Dettaglio delle attività'!E643)","v":" "}]
[null,null,null,{"$f":"IF('Dettaglio delle attività'!C644=\"\",\" \",'Dettaglio delle attività'!C644)","v":" "},{"$f":"IF('Dettaglio delle attività'!D644=\"\",\" \",'Dettaglio delle attività'!D644)","v":" "},{"$f":"IF('Dettaglio delle attività'!E644=\"\",\" \",'Dettaglio delle attività'!E644)","v":" "}]
[null,null,null,{"$f":"IF('Dettaglio delle attività'!C645=\"\",\" \",'Dettaglio delle attività'!C645)","v":" "},{"$f":"IF('Dettaglio delle attività'!D645=\"\",\" \",'Dettaglio delle attività'!D645)","v":" "},{"$f":"IF('Dettaglio delle attività'!E645=\"\",\" \",'Dettaglio delle attività'!E645)","v":" "}]
[null,null,null,{"$f":"IF('Dettaglio delle attività'!C646=\"\",\" \",'Dettaglio delle attività'!C646)","v":" "},{"$f":"IF('Dettaglio delle attività'!D646=\"\",\" \",'Dettaglio delle attività'!D646)","v":" "},{"$f":"IF('Dettaglio delle attività'!E646=\"\",\" \",'Dettaglio delle attività'!E646)","v":" "}]
[null,null,null,{"$f":"IF('Dettaglio delle attività'!C647=\"\",\" \",'Dettaglio delle attività'!C647)","v":" "},{"$f":"IF('Dettaglio delle attività'!D647=\"\",\" \",'Dettaglio delle attività'!D647)","v":" "},{"$f":"IF('Dettaglio delle attività'!E647=\"\",\" \",'Dettaglio delle attività'!E647)","v":" "}]
[null,null,null,{"$f":"IF('Dettaglio delle attività'!C648=\"\",\" \",'Dettaglio delle attività'!C648)","v":" "},{"$f":"IF('Dettaglio delle attività'!D648=\"\",\" \",'Dettaglio delle attività'!D648)","v":" "},{"$f":"IF('Dettaglio delle attività'!E648=\"\",\" \",'Dettaglio delle attività'!E648)","v":" "}]
[null,null,null,{"$f":"IF('Dettaglio delle attività'!C649=\"\",\" \",'Dettaglio delle attività'!C649)","v":" "},{"$f":"IF('Dettaglio delle attività'!D649=\"\",\" \",'Dettaglio delle attività'!D649)","v":" "},{"$f":"IF('Dettaglio delle attività'!E649=\"\",\" \",'Dettaglio delle attività'!E649)","v":" "}]
[null,null,null,{"$f":"IF('Dettaglio delle attività'!C650=\"\",\" \",'Dettaglio delle attività'!C650)","v":" "},{"$f":"IF('Dettaglio delle attività'!D650=\"\",\" \",'Dettaglio delle attività'!D650)","v":" "},{"$f":"IF('Dettaglio delle attività'!E650=\"\",\" \",'Dettaglio delle attività'!E650)","v":" "}]
[null,null,null,{"$f":"IF('Dettaglio delle attività'!C651=\"\",\" \",'Dettaglio delle attività'!C651)","v":" "},{"$f":"IF('Dettaglio delle attività'!D651=\"\",\" \",'Dettaglio delle attività'!D651)","v":" "},{"$f":"IF('Dettaglio delle attività'!E651=\"\",\" \",'Dettaglio delle attività'!E651)","v":" "}]
[null,null,null,{"$f":"IF('Dettaglio delle attività'!C652=\"\",\" \",'Dettaglio delle attività'!C652)","v":" "},{"$f":"IF('Dettaglio delle attività'!D652=\"\",\" \",'Dettaglio delle attività'!D652)","v":" "},{"$f":"IF('Dettaglio delle attività'!E652=\"\",\" \",'Dettaglio delle attività'!E652)","v":" "}]
[null,null,null,{"$f":"IF('Dettaglio delle attività'!C653=\"\",\" \",'Dettaglio delle attività'!C653)","v":" "},{"$f":"IF('Dettaglio delle attività'!D653=\"\",\" \",'Dettaglio delle attività'!D653)","v":" "},{"$f":"IF('Dettaglio delle attività'!E653=\"\",\" \",'Dettaglio delle attività'!E653)","v":" "}]
[null,null,null,{"$f":"IF('Dettaglio delle attività'!C654=\"\",\" \",'Dettaglio delle attività'!C654)","v":" "},{"$f":"IF('Dettaglio delle attività'!D654=\"\",\" \",'Dettaglio delle attività'!D654)","v":" "},{"$f":"IF('Dettaglio delle attività'!E654=\"\",\" \",'Dettaglio delle attività'!E654)","v":" "}]
[null,null,null,{"$f":"IF('Dettaglio delle attività'!C655=\"\",\" \",'Dettaglio delle attività'!C655)","v":" "},{"$f":"IF('Dettaglio delle attività'!D655=\"\",\" \",'Dettaglio delle attività'!D655)","v":" "},{"$f":"IF('Dettaglio delle attività'!E655=\"\",\" \",'Dettaglio delle attività'!E655)","v":" "}]
[null,null,null,{"$f":"IF('Dettaglio delle attività'!C656=\"\",\" \",'Dettaglio delle attività'!C656)","v":" "},{"$f":"IF('Dettaglio delle attività'!D656=\"\",\" \",'Dettaglio delle attività'!D656)","v":" "},{"$f":"IF('Dettaglio delle attività'!E656=\"\",\" \",'Dettaglio delle attività'!E656)","v":" "}]
[null,null,null,{"$f":"IF('Dettaglio delle attività'!C657=\"\",\" \",'Dettaglio delle attività'!C657)","v":" "},{"$f":"IF('Dettaglio delle attività'!D657=\"\",\" \",'Dettaglio delle attività'!D657)","v":" "},{"$f":"IF('Dettaglio delle attività'!E657=\"\",\" \",'Dettaglio delle attività'!E657)","v":" "}]
[null,null,null,{"$f":"IF('Dettaglio delle attività'!C658=\"\",\" \",'Dettaglio delle attività'!C658)","v":" "},{"$f":"IF('Dettaglio delle attività'!D658=\"\",\" \",'Dettaglio delle attività'!D658)","v":" "},{"$f":"IF('Dettaglio delle attività'!E658=\"\",\" \",'Dettaglio delle attività'!E658)","v":" "}]
[null,null,null,{"$f":"IF('Dettaglio delle attività'!C659=\"\",\" \",'Dettaglio delle attività'!C659)","v":" "},{"$f":"IF('Dettaglio delle attività'!D659=\"\",\" \",'Dettaglio delle attività'!D659)","v":" "},{"$f":"IF('Dettaglio delle attività'!E659=\"\",\" \",'Dettaglio delle attività'!E659)","v":" "}]
[null,null,null,{"$f":"IF('Dettaglio delle attività'!C660=\"\",\" \",'Dettaglio delle attività'!C660)","v":" "},{"$f":"IF('Dettaglio delle attività'!D660=\"\",\" \",'Dettaglio delle attività'!D660)","v":" "},{"$f":"IF('Dettaglio delle attività'!E660=\"\",\" \",'Dettaglio delle attività'!E660)","v":" "}]
[null,null,null,{"$f":"IF('Dettaglio delle attività'!C661=\"\",\" \",'Dettaglio delle attività'!C661)","v":" "},{"$f":"IF('Dettaglio delle attività'!D661=\"\",\" \",'Dettaglio delle attività'!D661)","v":" "},{"$f":"IF('Dettaglio delle attività'!E661=\"\",\" \",'Dettaglio delle attività'!E661)","v":" "}]
[null,null,null,{"$f":"IF('Dettaglio delle attività'!C662=\"\",\" \",'Dettaglio delle attività'!C662)","v":" "},{"$f":"IF('Dettaglio delle attività'!D662=\"\",\" \",'Dettaglio delle attività'!D662)","v":" "},{"$f":"IF('Dettaglio delle attività'!E662=\"\",\" \",'Dettaglio delle attività'!E662)","v":" "}]
[null,null,null,{"$f":"IF('Dettaglio delle attività'!C663=\"\",\" \",'Dettaglio delle attività'!C663)","v":" "},{"$f":"IF('Dettaglio delle attività'!D663=\"\",\" \",'Dettaglio delle attività'!D663)","v":" "},{"$f":"IF('Dettaglio delle attività'!E663=\"\",\" \",'Dettaglio delle attività'!E663)","v":" "}]
[null,null,null,{"$f":"IF('Dettaglio delle attività'!C664=\"\",\" \",'Dettaglio delle attività'!C664)","v":" "},{"$f":"IF('Dettaglio delle attività'!D664=\"\",\" \",'Dettaglio delle attività'!D664)","v":" "},{"$f":"IF('Dettaglio delle attività'!E664=\"\",\" \",'Dettaglio delle attività'!E664)","v":" "}]
[null,null,null,{"$f":"IF('Dettaglio delle attività'!C665=\"\",\" \",'Dettaglio delle attività'!C665)","v":" "},{"$f":"IF('Dettaglio delle attività'!D665=\"\",\" \",'Dettaglio delle attività'!D665)","v":" "},{"$f":"IF('Dettaglio delle attività'!E665=\"\",\" \",'Dettaglio delle attività'!E665)","v":" "}]
[null,null,null,{"$f":"IF('Dettaglio delle attività'!C666=\"\",\" \",'Dettaglio delle attività'!C666)","v":" "},{"$f":"IF('Dettaglio delle attività'!D666=\"\",\" \",'Dettaglio delle attività'!D666)","v":" "},{"$f":"IF('Dettaglio delle attività'!E666=\"\",\" \",'Dettaglio delle attività'!E666)","v":" "}]
[null,null,null,{"$f":"IF('Dettaglio delle attività'!C667=\"\",\" \",'Dettaglio delle attività'!C667)","v":" "},{"$f":"IF('Dettaglio delle attività'!D667=\"\",\" \",'Dettaglio delle attività'!D667)","v":" "},{"$f":"IF('Dettaglio delle attività'!E667=\"\",\" \",'Dettaglio delle attività'!E667)","v":" "}]
[null,null,null,{"$f":"IF('Dettaglio delle attività'!C668=\"\",\" \",'Dettaglio delle attività'!C668)","v":" "},{"$f":"IF('Dettaglio delle attività'!D668=\"\",\" \",'Dettaglio delle attività'!D668)","v":" "},{"$f":"IF('Dettaglio delle attività'!E668=\"\",\" \",'Dettaglio delle attività'!E668)","v":" "}]
[null,null,null,{"$f":"IF('Dettaglio delle attività'!C669=\"\",\" \",'Dettaglio delle attività'!C669)","v":" "},{"$f":"IF('Dettaglio delle attività'!D669=\"\",\" \",'Dettaglio delle attività'!D669)","v":" "},{"$f":"IF('Dettaglio delle attività'!E669=\"\",\" \",'Dettaglio delle attività'!E669)","v":" "}]
[null,null,null,{"$f":"IF('Dettaglio delle attività'!C670=\"\",\" \",'Dettaglio delle attività'!C670)","v":" "},{"$f":"IF('Dettaglio delle attività'!D670=\"\",\" \",'Dettaglio delle attività'!D670)","v":" "},{"$f":"IF('Dettaglio delle attività'!E670=\"\",\" \",'Dettaglio delle attività'!E670)","v":" "}]
[null,null,null,{"$f":"IF('Dettaglio delle attività'!C671=\"\",\" \",'Dettaglio delle attività'!C671)","v":" "},{"$f":"IF('Dettaglio delle attività'!D671=\"\",\" \",'Dettaglio delle attività'!D671)","v":" "},{"$f":"IF('Dettaglio delle attività'!E671=\"\",\" \",'Dettaglio delle attività'!E671)","v":" "}]
[null,null,null,{"$f":"IF('Dettaglio delle attività'!C672=\"\",\" \",'Dettaglio delle attività'!C672)","v":" "},{"$f":"IF('Dettaglio delle attività'!D672=\"\",\" \",'Dettaglio delle attività'!D672)","v":" "},{"$f":"IF('Dettaglio delle attività'!E672=\"\",\" \",'Dettaglio delle attività'!E672)","v":" "}]
[null,null,null,{"$f":"IF('Dettaglio delle attività'!C673=\"\",\" \",'Dettaglio delle attività'!C673)","v":" "},{"$f":"IF('Dettaglio delle attività'!D673=\"\",\" \",'Dettaglio delle attività'!D673)","v":" "},{"$f":"IF('Dettaglio delle attività'!E673=\"\",\" \",'Dettaglio delle attività'!E673)","v":" "}]
[null,null,null,{"$f":"IF('Dettaglio delle attività'!C674=\"\",\" \",'Dettaglio delle attività'!C674)","v":" "},{"$f":"IF('Dettaglio delle attività'!D674=\"\",\" \",'Dettaglio delle attività'!D674)","v":" "},{"$f":"IF('Dettaglio delle attività'!E674=\"\",\" \",'Dettaglio delle attività'!E674)","v":" "}]
[null,null,null,{"$f":"IF('Dettaglio delle attività'!C675=\"\",\" \",'Dettaglio delle attività'!C675)","v":" "},{"$f":"IF('Dettaglio delle attività'!D675=\"\",\" \",'Dettaglio delle attività'!D675)","v":" "},{"$f":"IF('Dettaglio delle attività'!E675=\"\",\" \",'Dettaglio delle attività'!E675)","v":" "}]
[null,null,null,{"$f":"IF('Dettaglio delle attività'!C676=\"\",\" \",'Dettaglio delle attività'!C676)","v":" "},{"$f":"IF('Dettaglio delle attività'!D676=\"\",\" \",'Dettaglio delle attività'!D676)","v":" "},{"$f":"IF('Dettaglio delle attività'!E676=\"\",\" \",'Dettaglio delle attività'!E676)","v":" "}]
[null,null,null,{"$f":"IF('Dettaglio delle attività'!C677=\"\",\" \",'Dettaglio delle attività'!C677)","v":" "},{"$f":"IF('Dettaglio delle attività'!D677=\"\",\" \",'Dettaglio delle attività'!D677)","v":" "},{"$f":"IF('Dettaglio delle attività'!E677=\"\",\" \",'Dettaglio delle attività'!E677)","v":" "}]
[null,null,null,{"$f":"IF('Dettaglio delle attività'!C678=\"\",\" \",'Dettaglio delle attività'!C678)","v":" "},{"$f":"IF('Dettaglio delle attività'!D678=\"\",\" \",'Dettaglio delle attività'!D678)","v":" "},{"$f":"IF('Dettaglio delle attività'!E678=\"\",\" \",'Dettaglio delle attività'!E678)","v":" "}]
[null,null,null,{"$f":"IF('Dettaglio delle attività'!C679=\"\",\" \",'Dettaglio delle attività'!C679)","v":" "},{"$f":"IF('Dettaglio delle attività'!D679=\"\",\" \",'Dettaglio delle attività'!D679)","v":" "},{"$f":"IF('Dettaglio delle attività'!E679=\"\",\" \",'Dettaglio delle attività'!E679)","v":" "}]
[null,null,null,{"$f":"IF('Dettaglio delle attività'!C680=\"\",\" \",'Dettaglio delle attività'!C680)","v":" "},{"$f":"IF('Dettaglio delle attività'!D680=\"\",\" \",'Dettaglio delle attività'!D680)","v":" "},{"$f":"IF('Dettaglio delle attività'!E680=\"\",\" \",'Dettaglio delle attività'!E680)","v":" "}]
[null,null,null,{"$f":"IF('Dettaglio delle attività'!C681=\"\",\" \",'Dettaglio delle attività'!C681)","v":" "},{"$f":"IF('Dettaglio delle attività'!D681=\"\",\" \",'Dettaglio delle attività'!D681)","v":" "},{"$f":"IF('Dettaglio delle attività'!E681=\"\",\" \",'Dettaglio delle attività'!E681)","v":" "}]
[null,null,null,{"$f":"IF('Dettaglio delle attività'!C682=\"\",\" \",'Dettaglio delle attività'!C682)","v":" "},{"$f":"IF('Dettaglio delle attività'!D682=\"\",\" \",'Dettaglio delle attività'!D682)","v":" "},{"$f":"IF('Dettaglio delle attività'!E682=\"\",\" \",'Dettaglio delle attività'!E682)","v":" "}]
[null,null,null,{"$f":"IF('Dettaglio delle attività'!C683=\"\",\" \",'Dettaglio delle attività'!C683)","v":" "},{"$f":"IF('Dettaglio delle attività'!D683=\"\",\" \",'Dettaglio delle attività'!D683)","v":" "},{"$f":"IF('Dettaglio delle attività'!E683=\"\",\" \",'Dettaglio delle attività'!E683)","v":" "}]
[null,null,null,{"$f":"IF('Dettaglio delle attività'!C684=\"\",\" \",'Dettaglio delle attività'!C684)","v":" "},{"$f":"IF('Dettaglio delle attività'!D684=\"\",\" \",'Dettaglio delle attività'!D684)","v":" "},{"$f":"IF('Dettaglio delle attività'!E684=\"\",\" \",'Dettaglio delle attività'!E684)","v":" "}]
[null,null,null,{"$f":"IF('Dettaglio delle attività'!C685=\"\",\" \",'Dettaglio delle attività'!C685)","v":" "},{"$f":"IF('Dettaglio delle attività'!D685=\"\",\" \",'Dettaglio delle attività'!D685)","v":" "},{"$f":"IF('Dettaglio delle attività'!E685=\"\",\" \",'Dettaglio delle attività'!E685)","v":" "}]
[null,null,null,{"$f":"IF('Dettaglio delle attività'!C686=\"\",\" \",'Dettaglio delle attività'!C686)","v":" "},{"$f":"IF('Dettaglio delle attività'!D686=\"\",\" \",'Dettaglio delle attività'!D686)","v":" "},{"$f":"IF('Dettaglio delle attività'!E686=\"\",\" \",'Dettaglio delle attività'!E686)","v":" "}]
[null,null,null,{"$f":"IF('Dettaglio delle attività'!C687=\"\",\" \",'Dettaglio delle attività'!C687)","v":" "},{"$f":"IF('Dettaglio delle attività'!D687=\"\",\" \",'Dettaglio delle attività'!D687)","v":" "},{"$f":"IF('Dettaglio delle attività'!E687=\"\",\" \",'Dettaglio delle attività'!E687)","v":" "}]
[null,null,null,{"$f":"IF('Dettaglio delle attività'!C688=\"\",\" \",'Dettaglio delle attività'!C688)","v":" "},{"$f":"IF('Dettaglio delle attività'!D688=\"\",\" \",'Dettaglio delle attività'!D688)","v":" "},{"$f":"IF('Dettaglio delle attività'!E688=\"\",\" \",'Dettaglio delle attività'!E688)","v":" "}]
[null,null,null,{"$f":"IF('Dettaglio delle attività'!C689=\"\",\" \",'Dettaglio delle attività'!C689)","v":" "},{"$f":"IF('Dettaglio delle attività'!D689=\"\",\" \",'Dettaglio delle attività'!D689)","v":" "},{"$f":"IF('Dettaglio delle attività'!E689=\"\",\" \",'Dettaglio delle attività'!E689)","v":" "}]
[null,null,null,{"$f":"IF('Dettaglio delle attività'!C690=\"\",\" \",'Dettaglio delle attività'!C690)","v":" "},{"$f":"IF('Dettaglio delle attività'!D690=\"\",\" \",'Dettaglio delle attività'!D690)","v":" "},{"$f":"IF('Dettaglio delle attività'!E690=\"\",\" \",'Dettaglio delle attività'!E690)","v":" "}]
[null,null,null,{"$f":"IF('Dettaglio delle attività'!C691=\"\",\" \",'Dettaglio delle attività'!C691)","v":" "},{"$f":"IF('Dettaglio delle attività'!D691=\"\",\" \",'Dettaglio delle attività'!D691)","v":" "},{"$f":"IF('Dettaglio delle attività'!E691=\"\",\" \",'Dettaglio delle attività'!E691)","v":" "}]
[null,null,null,{"$f":"IF('Dettaglio delle attività'!C692=\"\",\" \",'Dettaglio delle attività'!C692)","v":" "},{"$f":"IF('Dettaglio delle attività'!D692=\"\",\" \",'Dettaglio delle attività'!D692)","v":" "},{"$f":"IF('Dettaglio delle attività'!E692=\"\",\" \",'Dettaglio delle attività'!E692)","v":" "}]
[null,null,null,{"$f":"IF('Dettaglio delle attività'!C693=\"\",\" \",'Dettaglio delle attività'!C693)","v":" "},{"$f":"IF('Dettaglio delle attività'!D693=\"\",\" \",'Dettaglio delle attività'!D693)","v":" "},{"$f":"IF('Dettaglio delle attività'!E693=\"\",\" \",'Dettaglio delle attività'!E693)","v":" "}]
[null,null,null,{"$f":"IF('Dettaglio delle attività'!C694=\"\",\" \",'Dettaglio delle attività'!C694)","v":" "},{"$f":"IF('Dettaglio delle attività'!D694=\"\",\" \",'Dettaglio delle attività'!D694)","v":" "},{"$f":"IF('Dettaglio delle attività'!E694=\"\",\" \",'Dettaglio delle attività'!E694)","v":" "}]
[null,null,null,{"$f":"IF('Dettaglio delle attività'!C695=\"\",\" \",'Dettaglio delle attività'!C695)","v":" "},{"$f":"IF('Dettaglio delle attività'!D695=\"\",\" \",'Dettaglio delle attività'!D695)","v":" "},{"$f":"IF('Dettaglio delle attività'!E695=\"\",\" \",'Dettaglio delle attività'!E695)","v":" "}]
[null,null,null,{"$f":"IF('Dettaglio delle attività'!C696=\"\",\" \",'Dettaglio delle attività'!C696)","v":" "},{"$f":"IF('Dettaglio delle attività'!D696=\"\",\" \",'Dettaglio delle attività'!D696)","v":" "},{"$f":"IF('Dettaglio delle attività'!E696=\"\",\" \",'Dettaglio delle attività'!E696)","v":" "}]
[null,null,null,{"$f":"IF('Dettaglio delle attività'!C697=\"\",\" \",'Dettaglio delle attività'!C697)","v":" "},{"$f":"IF('Dettaglio delle attività'!D697=\"\",\" \",'Dettaglio delle attività'!D697)","v":" "},{"$f":"IF('Dettaglio delle attività'!E697=\"\",\" \",'Dettaglio delle attività'!E697)","v":" "}]
[null,null,null,{"$f":"IF('Dettaglio delle attività'!C698=\"\",\" \",'Dettaglio delle attività'!C698)","v":" "},{"$f":"IF('Dettaglio delle attività'!D698=\"\",\" \",'Dettaglio delle attività'!D698)","v":" "},{"$f":"IF('Dettaglio delle attività'!E698=\"\",\" \",'Dettaglio delle attività'!E698)","v":" "}]
[null,null,null,{"$f":"IF('Dettaglio delle attività'!C699=\"\",\" \",'Dettaglio delle attività'!C699)","v":" "},{"$f":"IF('Dettaglio delle attività'!D699=\"\",\" \",'Dettaglio delle attività'!D699)","v":" "},{"$f":"IF('Dettaglio delle attività'!E699=\"\",\" \",'Dettaglio delle attività'!E699)","v":" "}]
[null,null,null,{"$f":"IF('Dettaglio delle attività'!C700=\"\",\" \",'Dettaglio delle attività'!C700)","v":" "},{"$f":"IF('Dettaglio delle attività'!D700=\"\",\" \",'Dettaglio delle attività'!D700)","v":" "},{"$f":"IF('Dettaglio delle attività'!E700=\"\",\" \",'Dettaglio delle attività'!E700)","v":" "}]
[null,null,null,{"$f":"IF('Dettaglio delle attività'!C701=\"\",\" \",'Dettaglio delle attività'!C701)","v":" "},{"$f":"IF('Dettaglio delle attività'!D701=\"\",\" \",'Dettaglio delle attività'!D701)","v":" "},{"$f":"IF('Dettaglio delle attività'!E701=\"\",\" \",'Dettaglio delle attività'!E701)","v":" "}]
[null,null,null,{"$f":"IF('Dettaglio delle attività'!C702=\"\",\" \",'Dettaglio delle attività'!C702)","v":" "},{"$f":"IF('Dettaglio delle attività'!D702=\"\",\" \",'Dettaglio delle attività'!D702)","v":" "},{"$f":"IF('Dettaglio delle attività'!E702=\"\",\" \",'Dettaglio delle attività'!E702)","v":" "}]
[null,null,null,{"$f":"IF('Dettaglio delle attività'!C703=\"\",\" \",'Dettaglio delle attività'!C703)","v":" "},{"$f":"IF('Dettaglio delle attività'!D703=\"\",\" \",'Dettaglio delle attività'!D703)","v":" "},{"$f":"IF('Dettaglio delle attività'!E703=\"\",\" \",'Dettaglio delle attività'!E703)","v":" "}]
[null,null,null,{"$f":"IF('Dettaglio delle attività'!C704=\"\",\" \",'Dettaglio delle attività'!C704)","v":" "},{"$f":"IF('Dettaglio delle attività'!D704=\"\",\" \",'Dettaglio delle attività'!D704)","v":" "},{"$f":"IF('Dettaglio delle attività'!E704=\"\",\" \",'Dettaglio delle attività'!E704)","v":" "}]
[null,null,null,{"$f":"IF('Dettaglio delle attività'!C705=\"\",\" \",'Dettaglio delle attività'!C705)","v":" "},{"$f":"IF('Dettaglio delle attività'!D705=\"\",\" \",'Dettaglio delle attività'!D705)","v":" "},{"$f":"IF('Dettaglio delle attività'!E705=\"\",\" \",'Dettaglio delle attività'!E705)","v":" "}]
[null,null,null,{"$f":"IF('Dettaglio delle attività'!C706=\"\",\" \",'Dettaglio delle attività'!C706)","v":" "},{"$f":"IF('Dettaglio delle attività'!D706=\"\",\" \",'Dettaglio delle attività'!D706)","v":" "},{"$f":"IF('Dettaglio delle attività'!E706=\"\",\" \",'Dettaglio delle attività'!E706)","v":" "}]
[null,null,null,{"$f":"IF('Dettaglio delle attività'!C707=\"\",\" \",'Dettaglio delle attività'!C707)","v":" "},{"$f":"IF('Dettaglio delle attività'!D707=\"\",\" \",'Dettaglio delle attività'!D707)","v":" "},{"$f":"IF('Dettaglio delle attività'!E707=\"\",\" \",'Dettaglio delle attività'!E707)","v":" "}]
[null,null,null,{"$f":"IF('Dettaglio delle attività'!C708=\"\",\" \",'Dettaglio delle attività'!C708)","v":" "},{"$f":"IF('Dettaglio delle attività'!D708=\"\",\" \",'Dettaglio delle attività'!D708)","v":" "},{"$f":"IF('Dettaglio delle attività'!E708=\"\",\" \",'Dettaglio delle attività'!E708)","v":" "}]
[null,null,null,{"$f":"IF('Dettaglio delle attività'!C709=\"\",\" \",'Dettaglio delle attività'!C709)","v":" "},{"$f":"IF('Dettaglio delle attività'!D709=\"\",\" \",'Dettaglio delle attività'!D709)","v":" "},{"$f":"IF('Dettaglio delle attività'!E709=\"\",\" \",'Dettaglio delle attività'!E709)","v":" "}]
[null,null,null,{"$f":"IF('Dettaglio delle attività'!C710=\"\",\" \",'Dettaglio delle attività'!C710)","v":" "},{"$f":"IF('Dettaglio delle attività'!D710=\"\",\" \",'Dettaglio delle attività'!D710)","v":" "},{"$f":"IF('Dettaglio delle attività'!E710=\"\",\" \",'Dettaglio delle attività'!E710)","v":" "}]
[null,null,null,{"$f":"IF('Dettaglio delle attività'!C711=\"\",\" \",'Dettaglio delle attività'!C711)","v":" "},{"$f":"IF('Dettaglio delle attività'!D711=\"\",\" \",'Dettaglio delle attività'!D711)","v":" "},{"$f":"IF('Dettaglio delle attività'!E711=\"\",\" \",'Dettaglio delle attività'!E711)","v":" "}]
[null,null,null,{"$f":"IF('Dettaglio delle attività'!C712=\"\",\" \",'Dettaglio delle attività'!C712)","v":" "},{"$f":"IF('Dettaglio delle attività'!D712=\"\",\" \",'Dettaglio delle attività'!D712)","v":" "},{"$f":"IF('Dettaglio delle attività'!E712=\"\",\" \",'Dettaglio delle attività'!E712)","v":" "}]
[null,null,null,{"$f":"IF('Dettaglio delle attività'!C713=\"\",\" \",'Dettaglio delle attività'!C713)","v":" "},{"$f":"IF('Dettaglio delle attività'!D713=\"\",\" \",'Dettaglio delle attività'!D713)","v":" "},{"$f":"IF('Dettaglio delle attività'!E713=\"\",\" \",'Dettaglio delle attività'!E713)","v":" "}]
[null,null,null,{"$f":"IF('Dettaglio delle attività'!C714=\"\",\" \",'Dettaglio delle attività'!C714)","v":" "},{"$f":"IF('Dettaglio delle attività'!D714=\"\",\" \",'Dettaglio delle attività'!D714)","v":" "},{"$f":"IF('Dettaglio delle attività'!E714=\"\",\" \",'Dettaglio delle attività'!E714)","v":" "}]
[null,null,null,{"$f":"IF('Dettaglio delle attività'!C715=\"\",\" \",'Dettaglio delle attività'!C715)","v":" "},{"$f":"IF('Dettaglio delle attività'!D715=\"\",\" \",'Dettaglio delle attività'!D715)","v":" "},{"$f":"IF('Dettaglio delle attività'!E715=\"\",\" \",'Dettaglio delle attività'!E715)","v":" "}]
[null,null,null,{"$f":"IF('Dettaglio delle attività'!C716=\"\",\" \",'Dettaglio delle attività'!C716)","v":" "},{"$f":"IF('Dettaglio delle attività'!D716=\"\",\" \",'Dettaglio delle attività'!D716)","v":" "},{"$f":"IF('Dettaglio delle attività'!E716=\"\",\" \",'Dettaglio delle attività'!E716)","v":" "}]
[null,null,null,{"$f":"IF('Dettaglio delle attività'!C717=\"\",\" \",'Dettaglio delle attività'!C717)","v":" "},{"$f":"IF('Dettaglio delle attività'!D717=\"\",\" \",'Dettaglio delle attività'!D717)","v":" "},{"$f":"IF('Dettaglio delle attività'!E717=\"\",\" \",'Dettaglio delle attività'!E717)","v":" "}]
[null,null,null,{"$f":"IF('Dettaglio delle attività'!C718=\"\",\" \",'Dettaglio delle attività'!C718)","v":" "},{"$f":"IF('Dettaglio delle attività'!D718=\"\",\" \",'Dettaglio delle attività'!D718)","v":" "},{"$f":"IF('Dettaglio delle attività'!E718=\"\",\" \",'Dettaglio delle attività'!E718)","v":" "}]
[null,null,null,{"$f":"IF('Dettaglio delle attività'!C719=\"\",\" \",'Dettaglio delle attività'!C719)","v":" "},{"$f":"IF('Dettaglio delle attività'!D719=\"\",\" \",'Dettaglio delle attività'!D719)","v":" "},{"$f":"IF('Dettaglio delle attività'!E719=\"\",\" \",'Dettaglio delle attività'!E719)","v":" "}]
[null,null,null,{"$f":"IF('Dettaglio delle attività'!C720=\"\",\" \",'Dettaglio delle attività'!C720)","v":" "},{"$f":"IF('Dettaglio delle attività'!D720=\"\",\" \",'Dettaglio delle attività'!D720)","v":" "},{"$f":"IF('Dettaglio delle attività'!E720=\"\",\" \",'Dettaglio delle attività'!E720)","v":" "}]
[null,null,null,{"$f":"IF('Dettaglio delle attività'!C721=\"\",\" \",'Dettaglio delle attività'!C721)","v":" "},{"$f":"IF('Dettaglio delle attività'!D721=\"\",\" \",'Dettaglio delle attività'!D721)","v":" "},{"$f":"IF('Dettaglio delle attività'!E721=\"\",\" \",'Dettaglio delle attività'!E721)","v":" "}]
[null,null,null,{"$f":"IF('Dettaglio delle attività'!C722=\"\",\" \",'Dettaglio delle attività'!C722)","v":" "},{"$f":"IF('Dettaglio delle attività'!D722=\"\",\" \",'Dettaglio delle attività'!D722)","v":" "},{"$f":"IF('Dettaglio delle attività'!E722=\"\",\" \",'Dettaglio delle attività'!E722)","v":" "}]
[null,null,null,{"$f":"IF('Dettaglio delle attività'!C723=\"\",\" \",'Dettaglio delle attività'!C723)","v":" "},{"$f":"IF('Dettaglio delle attività'!D723=\"\",\" \",'Dettaglio delle attività'!D723)","v":" "},{"$f":"IF('Dettaglio delle attività'!E723=\"\",\" \",'Dettaglio delle attività'!E723)","v":" "}]
[null,null,null,{"$f":"IF('Dettaglio delle attività'!C724=\"\",\" \",'Dettaglio delle attività'!C724)","v":" "},{"$f":"IF('Dettaglio delle attività'!D724=\"\",\" \",'Dettaglio delle attività'!D724)","v":" "},{"$f":"IF('Dettaglio delle attività'!E724=\"\",\" \",'Dettaglio delle attività'!E724)","v":" "}]
[null,null,null,{"$f":"IF('Dettaglio delle attività'!C725=\"\",\" \",'Dettaglio delle attività'!C725)","v":" "},{"$f":"IF('Dettaglio delle attività'!D725=\"\",\" \",'Dettaglio delle attività'!D725)","v":" "},{"$f":"IF('Dettaglio delle attività'!E725=\"\",\" \",'Dettaglio delle attività'!E725)","v":" "}]
[null,null,null,{"$f":"IF('Dettaglio delle attività'!C726=\"\",\" \",'Dettaglio delle attività'!C726)","v":" "},{"$f":"IF('Dettaglio delle attività'!D726=\"\",\" \",'Dettaglio delle attività'!D726)","v":" "},{"$f":"IF('Dettaglio delle attività'!E726=\"\",\" \",'Dettaglio delle attività'!E726)","v":" "}]
[null,null,null,{"$f":"IF('Dettaglio delle attività'!C727=\"\",\" \",'Dettaglio delle attività'!C727)","v":" "},{"$f":"IF('Dettaglio delle attività'!D727=\"\",\" \",'Dettaglio delle attività'!D727)","v":" "},{"$f":"IF('Dettaglio delle attività'!E727=\"\",\" \",'Dettaglio delle attività'!E727)","v":" "}]
[null,null,null,{"$f":"IF('Dettaglio delle attività'!C728=\"\",\" \",'Dettaglio delle attività'!C728)","v":" "},{"$f":"IF('Dettaglio delle attività'!D728=\"\",\" \",'Dettaglio delle attività'!D728)","v":" "},{"$f":"IF('Dettaglio delle attività'!E728=\"\",\" \",'Dettaglio delle attività'!E728)","v":" "}]
[null,null,null,{"$f":"IF('Dettaglio delle attività'!C729=\"\",\" \",'Dettaglio delle attività'!C729)","v":" "},{"$f":"IF('Dettaglio delle attività'!D729=\"\",\" \",'Dettaglio delle attività'!D729)","v":" "},{"$f":"IF('Dettaglio delle attività'!E729=\"\",\" \",'Dettaglio delle attività'!E729)","v":" "}]
[null,null,null,{"$f":"IF('Dettaglio delle attività'!C730=\"\",\" \",'Dettaglio delle attività'!C730)","v":" "},{"$f":"IF('Dettaglio delle attività'!D730=\"\",\" \",'Dettaglio delle attività'!D730)","v":" "},{"$f":"IF('Dettaglio delle attività'!E730=\"\",\" \",'Dettaglio delle attività'!E730)","v":" "}]
[null,null,null,{"$f":"IF('Dettaglio delle attività'!C731=\"\",\" \",'Dettaglio delle attività'!C731)","v":" "},{"$f":"IF('Dettaglio delle attività'!D731=\"\",\" \",'Dettaglio delle attività'!D731)","v":" "},{"$f":"IF('Dettaglio delle attività'!E731=\"\",\" \",'Dettaglio delle attività'!E731)","v":" "}]
[null,null,null,{"$f":"IF('Dettaglio delle attività'!C732=\"\",\" \",'Dettaglio delle attività'!C732)","v":" "},{"$f":"IF('Dettaglio delle attività'!D732=\"\",\" \",'Dettaglio delle attività'!D732)","v":" "},{"$f":"IF('Dettaglio delle attività'!E732=\"\",\" \",'Dettaglio delle attività'!E732)","v":" "}]
[null,null,null,{"$f":"IF('Dettaglio delle attività'!C733=\"\",\" \",'Dettaglio delle attività'!C733)","v":" "},{"$f":"IF('Dettaglio delle attività'!D733=\"\",\" \",'Dettaglio delle attività'!D733)","v":" "},{"$f":"IF('Dettaglio delle attività'!E733=\"\",\" \",'Dettaglio delle attività'!E733)","v":" "}]
[null,null,null,{"$f":"IF('Dettaglio delle attività'!C734=\"\",\" \",'Dettaglio delle attività'!C734)","v":" "},{"$f":"IF('Dettaglio delle attività'!D734=\"\",\" \",'Dettaglio delle attività'!D734)","v":" "},{"$f":"IF('Dettaglio delle attività'!E734=\"\",\" \",'Dettaglio delle attività'!E734)","v":" "}]
[null,null,null,{"$f":"IF('Dettaglio delle attività'!C735=\"\",\" \",'Dettaglio delle attività'!C735)","v":" "},{"$f":"IF('Dettaglio delle attività'!D735=\"\",\" \",'Dettaglio delle attività'!D735)","v":" "},{"$f":"IF('Dettaglio delle attività'!E735=\"\",\" \",'Dettaglio delle attività'!E735)","v":" "}]
[null,null,null,{"$f":"IF('Dettaglio delle attività'!C736=\"\",\" \",'Dettaglio delle attività'!C736)","v":" "},{"$f":"IF('Dettaglio delle attività'!D736=\"\",\" \",'Dettaglio delle attività'!D736)","v":" "},{"$f":"IF('Dettaglio delle attività'!E736=\"\",\" \",'Dettaglio delle attività'!E736)","v":" "}]
[null,null,null,{"$f":"IF('Dettaglio delle attività'!C737=\"\",\" \",'Dettaglio delle attività'!C737)","v":" "},{"$f":"IF('Dettaglio delle attività'!D737=\"\",\" \",'Dettaglio delle attività'!D737)","v":" "},{"$f":"IF('Dettaglio delle attività'!E737=\"\",\" \",'Dettaglio delle attività'!E737)","v":" "}]
[null,null,null,{"$f":"IF('Dettaglio delle attività'!C738=\"\",\" \",'Dettaglio delle attività'!C738)","v":" "},{"$f":"IF('Dettaglio delle attività'!D738=\"\",\" \",'Dettaglio delle attività'!D738)","v":" "},{"$f":"IF('Dettaglio delle attività'!E738=\"\",\" \",'Dettaglio delle attività'!E738)","v":" "}]
[null,null,null,{"$f":"IF('Dettaglio delle attività'!C739=\"\",\" \",'Dettaglio delle attività'!C739)","v":" "},{"$f":"IF('Dettaglio delle attività'!D739=\"\",\" \",'Dettaglio delle attività'!D739)","v":" "},{"$f":"IF('Dettaglio delle attività'!E739=\"\",\" \",'Dettaglio delle attività'!E739)","v":" "}]
[null,null,null,{"$f":"IF('Dettaglio delle attività'!C740=\"\",\" \",'Dettaglio delle attività'!C740)","v":" "},{"$f":"IF('Dettaglio delle attività'!D740=\"\",\" \",'Dettaglio delle attività'!D740)","v":" "},{"$f":"IF('Dettaglio delle attività'!E740=\"\",\" \",'Dettaglio delle attività'!E740)","v":" "}]
[null,null,null,{"$f":"IF('Dettaglio delle attività'!C741=\"\",\" \",'Dettaglio delle attività'!C741)","v":" "},{"$f":"IF('Dettaglio delle attività'!D741=\"\",\" \",'Dettaglio delle attività'!D741)","v":" "},{"$f":"IF('Dettaglio delle attività'!E741=\"\",\" \",'Dettaglio delle attività'!E741)","v":" "}]
[null,null,null,{"$f":"IF('Dettaglio delle attività'!C742=\"\",\" \",'Dettaglio delle attività'!C742)","v":" "},{"$f":"IF('Dettaglio delle attività'!D742=\"\",\" \",'Dettaglio delle attività'!D742)","v":" "},{"$f":"IF('Dettaglio delle attività'!E742=\"\",\" \",'Dettaglio delle attività'!E742)","v":" "}]
[null,null,null,{"$f":"IF('Dettaglio delle attività'!C743=\"\",\" \",'Dettaglio delle attività'!C743)","v":" "},{"$f":"IF('Dettaglio delle attività'!D743=\"\",\" \",'Dettaglio delle attività'!D743)","v":" "},{"$f":"IF('Dettaglio delle attività'!E743=\"\",\" \",'Dettaglio delle attività'!E743)","v":" "}]
[null,null,null,{"$f":"IF('Dettaglio delle attività'!C744=\"\",\" \",'Dettaglio delle attività'!C744)","v":" "},{"$f":"IF('Dettaglio delle attività'!D744=\"\",\" \",'Dettaglio delle attività'!D744)","v":" "},{"$f":"IF('Dettaglio delle attività'!E744=\"\",\" \",'Dettaglio delle attività'!E744)","v":" "}]
[null,null,null,{"$f":"IF('Dettaglio delle attività'!C745=\"\",\" \",'Dettaglio delle attività'!C745)","v":" "},{"$f":"IF('Dettaglio delle attività'!D745=\"\",\" \",'Dettaglio delle attività'!D745)","v":" "},{"$f":"IF('Dettaglio delle attività'!E745=\"\",\" \",'Dettaglio delle attività'!E745)","v":" "}]
[null,null,null,{"$f":"IF('Dettaglio delle attività'!C746=\"\",\" \",'Dettaglio delle attività'!C746)","v":" "},{"$f":"IF('Dettaglio delle attività'!D746=\"\",\" \",'Dettaglio delle attività'!D746)","v":" "},{"$f":"IF('Dettaglio delle attività'!E746=\"\",\" \",'Dettaglio delle attività'!E746)","v":" "}]
[null,null,null,{"$f":"IF('Dettaglio delle attività'!C747=\"\",\" \",'Dettaglio delle attività'!C747)","v":" "},{"$f":"IF('Dettaglio delle attività'!D747=\"\",\" \",'Dettaglio delle attività'!D747)","v":" "},{"$f":"IF('Dettaglio delle attività'!E747=\"\",\" \",'Dettaglio delle attività'!E747)","v":" "}]
[null,null,null,{"$f":"IF('Dettaglio delle attività'!C748=\"\",\" \",'Dettaglio delle attività'!C748)","v":" "},{"$f":"IF('Dettaglio delle attività'!D748=\"\",\" \",'Dettaglio delle attività'!D748)","v":" "},{"$f":"IF('Dettaglio delle attività'!E748=\"\",\" \",'Dettaglio delle attività'!E748)","v":" "}]
[null,null,null,{"$f":"IF('Dettaglio delle attività'!C749=\"\",\" \",'Dettaglio delle attività'!C749)","v":" "},{"$f":"IF('Dettaglio delle attività'!D749=\"\",\" \",'Dettaglio delle attività'!D749)","v":" "},{"$f":"IF('Dettaglio delle attività'!E749=\"\",\" \",'Dettaglio delle attività'!E749)","v":" "}]
[null,null,null,{"$f":"IF('Dettaglio delle attività'!C750=\"\",\" \",'Dettaglio delle attività'!C750)","v":" "},{"$f":"IF('Dettaglio delle attività'!D750=\"\",\" \",'Dettaglio delle attività'!D750)","v":" "},{"$f":"IF('Dettaglio delle attività'!E750=\"\",\" \",'Dettaglio delle attività'!E750)","v":" "}]
[null,null,null,{"$f":"IF('Dettaglio delle attività'!C751=\"\",\" \",'Dettaglio delle attività'!C751)","v":" "},{"$f":"IF('Dettaglio delle attività'!D751=\"\",\" \",'Dettaglio delle attività'!D751)","v":" "},{"$f":"IF('Dettaglio delle attività'!E751=\"\",\" \",'Dettaglio delle attività'!E751)","v":" "}]
[null,null,null,{"$f":"IF('Dettaglio delle attività'!C752=\"\",\" \",'Dettaglio delle attività'!C752)","v":" "},{"$f":"IF('Dettaglio delle attività'!D752=\"\",\" \",'Dettaglio delle attività'!D752)","v":" "},{"$f":"IF('Dettaglio delle attività'!E752=\"\",\" \",'Dettaglio delle attività'!E752)","v":" "}]
[null,null,null,{"$f":"IF('Dettaglio delle attività'!C753=\"\",\" \",'Dettaglio delle attività'!C753)","v":" "},{"$f":"IF('Dettaglio delle attività'!D753=\"\",\" \",'Dettaglio delle attività'!D753)","v":" "},{"$f":"IF('Dettaglio delle attività'!E753=\"\",\" \",'Dettaglio delle attività'!E753)","v":" "}]
[null,null,null,{"$f":"IF('Dettaglio delle attività'!C754=\"\",\" \",'Dettaglio delle attività'!C754)","v":" "},{"$f":"IF('Dettaglio delle attività'!D754=\"\",\" \",'Dettaglio delle attività'!D754)","v":" "},{"$f":"IF('Dettaglio delle attività'!E754=\"\",\" \",'Dettaglio delle attività'!E754)","v":" "}]
[null,null,null,{"$f":"IF('Dettaglio delle attività'!C755=\"\",\" \",'Dettaglio delle attività'!C755)","v":" "},{"$f":"IF('Dettaglio delle attività'!D755=\"\",\" \",'Dettaglio delle attività'!D755)","v":" "},{"$f":"IF('Dettaglio delle attività'!E755=\"\",\" \",'Dettaglio delle attività'!E755)","v":" "}]
[null,null,null,{"$f":"IF('Dettaglio delle attività'!C756=\"\",\" \",'Dettaglio delle attività'!C756)","v":" "},{"$f":"IF('Dettaglio delle attività'!D756=\"\",\" \",'Dettaglio delle attività'!D756)","v":" "},{"$f":"IF('Dettaglio delle attività'!E756=\"\",\" \",'Dettaglio delle attività'!E756)","v":" "}]
[null,null,null,{"$f":"IF('Dettaglio delle attività'!C757=\"\",\" \",'Dettaglio delle attività'!C757)","v":" "},{"$f":"IF('Dettaglio delle attività'!D757=\"\",\" \",'Dettaglio delle attività'!D757)","v":" "},{"$f":"IF('Dettaglio delle attività'!E757=\"\",\" \",'Dettaglio delle attività'!E757)","v":" "}]
[null,null,null,{"$f":"IF('Dettaglio delle attività'!C758=\"\",\" \",'Dettaglio delle attività'!C758)","v":" "},{"$f":"IF('Dettaglio delle attività'!D758=\"\",\" \",'Dettaglio delle attività'!D758)","v":" "},{"$f":"IF('Dettaglio delle attività'!E758=\"\",\" \",'Dettaglio delle attività'!E758)","v":" "}]
[null,null,null,{"$f":"IF('Dettaglio delle attività'!C759=\"\",\" \",'Dettaglio delle attività'!C759)","v":" "},{"$f":"IF('Dettaglio delle attività'!D759=\"\",\" \",'Dettaglio delle attività'!D759)","v":" "},{"$f":"IF('Dettaglio delle attività'!E759=\"\",\" \",'Dettaglio delle attività'!E759)","v":" "}]
[null,null,null,{"$f":"IF('Dettaglio delle attività'!C760=\"\",\" \",'Dettaglio delle attività'!C760)","v":" "},{"$f":"IF('Dettaglio delle attività'!D760=\"\",\" \",'Dettaglio delle attività'!D760)","v":" "},{"$f":"IF('Dettaglio delle attività'!E760=\"\",\" \",'Dettaglio delle attività'!E760)","v":" "}]
[null,null,null,{"$f":"IF('Dettaglio delle attività'!C761=\"\",\" \",'Dettaglio delle attività'!C761)","v":" "},{"$f":"IF('Dettaglio delle attività'!D761=\"\",\" \",'Dettaglio delle attività'!D761)","v":" "},{"$f":"IF('Dettaglio delle attività'!E761=\"\",\" \",'Dettaglio delle attività'!E761)","v":" "}]
[null,null,null,{"$f":"IF('Dettaglio delle attività'!C762=\"\",\" \",'Dettaglio delle attività'!C762)","v":" "},{"$f":"IF('Dettaglio delle attività'!D762=\"\",\" \",'Dettaglio delle attività'!D762)","v":" "},{"$f":"IF('Dettaglio delle attività'!E762=\"\",\" \",'Dettaglio delle attività'!E762)","v":" "}]
[null,null,null,{"$f":"IF('Dettaglio delle attività'!C763=\"\",\" \",'Dettaglio delle attività'!C763)","v":" "},{"$f":"IF('Dettaglio delle attività'!D763=\"\",\" \",'Dettaglio delle attività'!D763)","v":" "},{"$f":"IF('Dettaglio delle attività'!E763=\"\",\" \",'Dettaglio delle attività'!E763)","v":" "}]
[null,null,null,{"$f":"IF('Dettaglio delle attività'!C764=\"\",\" \",'Dettaglio delle attività'!C764)","v":" "},{"$f":"IF('Dettaglio delle attività'!D764=\"\",\" \",'Dettaglio delle attività'!D764)","v":" "},{"$f":"IF('Dettaglio delle attività'!E764=\"\",\" \",'Dettaglio delle attività'!E764)","v":" "}]
[null,null,null,{"$f":"IF('Dettaglio delle attività'!C765=\"\",\" \",'Dettaglio delle attività'!C765)","v":" "},{"$f":"IF('Dettaglio delle attività'!D765=\"\",\" \",'Dettaglio delle attività'!D765)","v":" "},{"$f":"IF('Dettaglio delle attività'!E765=\"\",\" \",'Dettaglio delle attività'!E765)","v":" "}]
[null,null,null,{"$f":"IF('Dettaglio delle attività'!C766=\"\",\" \",'Dettaglio delle attività'!C766)","v":" "},{"$f":"IF('Dettaglio delle attività'!D766=\"\",\" \",'Dettaglio delle attività'!D766)","v":" "},{"$f":"IF('Dettaglio delle attività'!E766=\"\",\" \",'Dettaglio delle attività'!E766)","v":" "}]
[null,null,null,{"$f":"IF('Dettaglio delle attività'!C767=\"\",\" \",'Dettaglio delle attività'!C767)","v":" "},{"$f":"IF('Dettaglio delle attività'!D767=\"\",\" \",'Dettaglio delle attività'!D767)","v":" "},{"$f":"IF('Dettaglio delle attività'!E767=\"\",\" \",'Dettaglio delle attività'!E767)","v":" "}]
[null,null,null,{"$f":"IF('Dettaglio delle attività'!C768=\"\",\" \",'Dettaglio delle attività'!C768)","v":" "},{"$f":"IF('Dettaglio delle attività'!D768=\"\",\" \",'Dettaglio delle attività'!D768)","v":" "},{"$f":"IF('Dettaglio delle attività'!E768=\"\",\" \",'Dettaglio delle attività'!E768)","v":" "}]
[null,null,null,{"$f":"IF('Dettaglio delle attività'!C769=\"\",\" \",'Dettaglio delle attività'!C769)","v":" "},{"$f":"IF('Dettaglio delle attività'!D769=\"\",\" \",'Dettaglio delle attività'!D769)","v":" "},{"$f":"IF('Dettaglio delle attività'!E769=\"\",\" \",'Dettaglio delle attività'!E769)","v":" "}]
[null,null,null,{"$f":"IF('Dettaglio delle attività'!C770=\"\",\" \",'Dettaglio delle attività'!C770)","v":" "},{"$f":"IF('Dettaglio delle attività'!D770=\"\",\" \",'Dettaglio delle attività'!D770)","v":" "},{"$f":"IF('Dettaglio delle attività'!E770=\"\",\" \",'Dettaglio delle attività'!E770)","v":" "}]
[null,null,null,{"$f":"IF('Dettaglio delle attività'!C771=\"\",\" \",'Dettaglio delle attività'!C771)","v":" "},{"$f":"IF('Dettaglio delle attività'!D771=\"\",\" \",'Dettaglio delle attività'!D771)","v":" "},{"$f":"IF('Dettaglio delle attività'!E771=\"\",\" \",'Dettaglio delle attività'!E771)","v":" "}]
[null,null,null,{"$f":"IF('Dettaglio delle attività'!C772=\"\",\" \",'Dettaglio delle attività'!C772)","v":" "},{"$f":"IF('Dettaglio delle attività'!D772=\"\",\" \",'Dettaglio delle attività'!D772)","v":" "},{"$f":"IF('Dettaglio delle attività'!E772=\"\",\" \",'Dettaglio delle attività'!E772)","v":" "}]
[null,null,null,{"$f":"IF('Dettaglio delle attività'!C773=\"\",\" \",'Dettaglio delle attività'!C773)","v":" "},{"$f":"IF('Dettaglio delle attività'!D773=\"\",\" \",'Dettaglio delle attività'!D773)","v":" "},{"$f":"IF('Dettaglio delle attività'!E773=\"\",\" \",'Dettaglio delle attività'!E773)","v":" "}]
[null,null,null,{"$f":"IF('Dettaglio delle attività'!C774=\"\",\" \",'Dettaglio delle attività'!C774)","v":" "},{"$f":"IF('Dettaglio delle attività'!D774=\"\",\" \",'Dettaglio delle attività'!D774)","v":" "},{"$f":"IF('Dettaglio delle attività'!E774=\"\",\" \",'Dettaglio delle attività'!E774)","v":" "}]
[null,null,null,{"$f":"IF('Dettaglio delle attività'!C775=\"\",\" \",'Dettaglio delle attività'!C775)","v":" "},{"$f":"IF('Dettaglio delle attività'!D775=\"\",\" \",'Dettaglio delle attività'!D775)","v":" "},{"$f":"IF('Dettaglio delle attività'!E775=\"\",\" \",'Dettaglio delle attività'!E775)","v":" "}]
[null,null,null,{"$f":"IF('Dettaglio delle attività'!C776=\"\",\" \",'Dettaglio delle attività'!C776)","v":" "},{"$f":"IF('Dettaglio delle attività'!D776=\"\",\" \",'Dettaglio delle attività'!D776)","v":" "},{"$f":"IF('Dettaglio delle attività'!E776=\"\",\" \",'Dettaglio delle attività'!E776)","v":" "}]
[null,null,null,{"$f":"IF('Dettaglio delle attività'!C777=\"\",\" \",'Dettaglio delle attività'!C777)","v":" "},{"$f":"IF('Dettaglio delle attività'!D777=\"\",\" \",'Dettaglio delle attività'!D777)","v":" "},{"$f":"IF('Dettaglio delle attività'!E777=\"\",\" \",'Dettaglio delle attività'!E777)","v":" "}]
[null,null,null,{"$f":"IF('Dettaglio delle attività'!C778=\"\",\" \",'Dettaglio delle attività'!C778)","v":" "},{"$f":"IF('Dettaglio delle attività'!D778=\"\",\" \",'Dettaglio delle attività'!D778)","v":" "},{"$f":"IF('Dettaglio delle attività'!E778=\"\",\" \",'Dettaglio delle attività'!E778)","v":" "}]
[null,null,null,{"$f":"IF('Dettaglio delle attività'!C779=\"\",\" \",'Dettaglio delle attività'!C779)","v":" "},{"$f":"IF('Dettaglio delle attività'!D779=\"\",\" \",'Dettaglio delle attività'!D779)","v":" "},{"$f":"IF('Dettaglio delle attività'!E779=\"\",\" \",'Dettaglio delle attività'!E779)","v":" "}]
[null,null,null,{"$f":"IF('Dettaglio delle attività'!C780=\"\",\" \",'Dettaglio delle attività'!C780)","v":" "},{"$f":"IF('Dettaglio delle attività'!D780=\"\",\" \",'Dettaglio delle attività'!D780)","v":" "},{"$f":"IF('Dettaglio delle attività'!E780=\"\",\" \",'Dettaglio delle attività'!E780)","v":" "}]
[null,null,null,{"$f":"IF('Dettaglio delle attività'!C781=\"\",\" \",'Dettaglio delle attività'!C781)","v":" "},{"$f":"IF('Dettaglio delle attività'!D781=\"\",\" \",'Dettaglio delle attività'!D781)","v":" "},{"$f":"IF('Dettaglio delle attività'!E781=\"\",\" \",'Dettaglio delle attività'!E781)","v":" "}]
[null,null,null,{"$f":"IF('Dettaglio delle attività'!C782=\"\",\" \",'Dettaglio delle attività'!C782)","v":" "},{"$f":"IF('Dettaglio delle attività'!D782=\"\",\" \",'Dettaglio delle attività'!D782)","v":" "},{"$f":"IF('Dettaglio delle attività'!E782=\"\",\" \",'Dettaglio delle attività'!E782)","v":" "}]
[null,null,null,{"$f":"IF('Dettaglio delle attività'!C783=\"\",\" \",'Dettaglio delle attività'!C783)","v":" "},{"$f":"IF('Dettaglio delle attività'!D783=\"\",\" \",'Dettaglio delle attività'!D783)","v":" "},{"$f":"IF('Dettaglio delle attività'!E783=\"\",\" \",'Dettaglio delle attività'!E783)","v":" "}]
[null,null,null,{"$f":"IF('Dettaglio delle attività'!C784=\"\",\" \",'Dettaglio delle attività'!C784)","v":" "},{"$f":"IF('Dettaglio delle attività'!D784=\"\",\" \",'Dettaglio delle attività'!D784)","v":" "},{"$f":"IF('Dettaglio delle attività'!E784=\"\",\" \",'Dettaglio delle attività'!E784)","v":" "}]
[null,null,null,{"$f":"IF('Dettaglio delle attività'!C785=\"\",\" \",'Dettaglio delle attività'!C785)","v":" "},{"$f":"IF('Dettaglio delle attività'!D785=\"\",\" \",'Dettaglio delle attività'!D785)","v":" "},{"$f":"IF('Dettaglio delle attività'!E785=\"\",\" \",'Dettaglio delle attività'!E785)","v":" "}]
[null,null,null,{"$f":"IF('Dettaglio delle attività'!C786=\"\",\" \",'Dettaglio delle attività'!C786)","v":" "},{"$f":"IF('Dettaglio delle attività'!D786=\"\",\" \",'Dettaglio delle attività'!D786)","v":" "},{"$f":"IF('Dettaglio delle attività'!E786=\"\",\" \",'Dettaglio delle attività'!E786)","v":" "}]
[null,null,null,{"$f":"IF('Dettaglio delle attività'!C787=\"\",\" \",'Dettaglio delle attività'!C787)","v":" "},{"$f":"IF('Dettaglio delle attività'!D787=\"\",\" \",'Dettaglio delle attività'!D787)","v":" "},{"$f":"IF('Dettaglio delle attività'!E787=\"\",\" \",'Dettaglio delle attività'!E787)","v":" "}]
[null,null,null,{"$f":"IF('Dettaglio delle attività'!C788=\"\",\" \",'Dettaglio delle attività'!C788)","v":" "},{"$f":"IF('Dettaglio delle attività'!D788=\"\",\" \",'Dettaglio delle attività'!D788)","v":" "},{"$f":"IF('Dettaglio delle attività'!E788=\"\",\" \",'Dettaglio delle attività'!E788)","v":" "}]
[null,null,null,{"$f":"IF('Dettaglio delle attività'!C789=\"\",\" \",'Dettaglio delle attività'!C789)","v":" "},{"$f":"IF('Dettaglio delle attività'!D789=\"\",\" \",'Dettaglio delle attività'!D789)","v":" "},{"$f":"IF('Dettaglio delle attività'!E789=\"\",\" \",'Dettaglio delle attività'!E789)","v":" "}]
[null,null,null,{"$f":"IF('Dettaglio delle attività'!C790=\"\",\" \",'Dettaglio delle attività'!C790)","v":" "},{"$f":"IF('Dettaglio delle attività'!D790=\"\",\" \",'Dettaglio delle attività'!D790)","v":" "},{"$f":"IF('Dettaglio delle attività'!E790=\"\",\" \",'Dettaglio delle attività'!E790)","v":" "}]
[null,null,null,{"$f":"IF('Dettaglio delle attività'!C791=\"\",\" \",'Dettaglio delle attività'!C791)","v":" "},{"$f":"IF('Dettaglio delle attività'!D791=\"\",\" \",'Dettaglio delle attività'!D791)","v":" "},{"$f":"IF('Dettaglio delle attività'!E791=\"\",\" \",'Dettaglio delle attività'!E791)","v":" "}]
[null,null,null,{"$f":"IF('Dettaglio delle attività'!C792=\"\",\" \",'Dettaglio delle attività'!C792)","v":" "},{"$f":"IF('Dettaglio delle attività'!D792=\"\",\" \",'Dettaglio delle attività'!D792)","v":" "},{"$f":"IF('Dettaglio delle attività'!E792=\"\",\" \",'Dettaglio delle attività'!E792)","v":" "}]
[null,null,null,{"$f":"IF('Dettaglio delle attività'!C793=\"\",\" \",'Dettaglio delle attività'!C793)","v":" "},{"$f":"IF('Dettaglio delle attività'!D793=\"\",\" \",'Dettaglio delle attività'!D793)","v":" "},{"$f":"IF('Dettaglio delle attività'!E793=\"\",\" \",'Dettaglio delle attività'!E793)","v":" "}]
[null,null,null,{"$f":"IF('Dettaglio delle attività'!C794=\"\",\" \",'Dettaglio delle attività'!C794)","v":" "},{"$f":"IF('Dettaglio delle attività'!D794=\"\",\" \",'Dettaglio delle attività'!D794)","v":" "},{"$f":"IF('Dettaglio delle attività'!E794=\"\",\" \",'Dettaglio delle attività'!E794)","v":" "}]
[null,null,null,{"$f":"IF('Dettaglio delle attività'!C795=\"\",\" \",'Dettaglio delle attività'!C795)","v":" "},{"$f":"IF('Dettaglio delle attività'!D795=\"\",\" \",'Dettaglio delle attività'!D795)","v":" "},{"$f":"IF('Dettaglio delle attività'!E795=\"\",\" \",'Dettaglio delle attività'!E795)","v":" "}]
[null,null,null,{"$f":"IF('Dettaglio delle attività'!C796=\"\",\" \",'Dettaglio delle attività'!C796)","v":" "},{"$f":"IF('Dettaglio delle attività'!D796=\"\",\" \",'Dettaglio delle attività'!D796)","v":" "},{"$f":"IF('Dettaglio delle attività'!E796=\"\",\" \",'Dettaglio delle attività'!E796)","v":" "}]
[null,null,null,{"$f":"IF('Dettaglio delle attività'!C797=\"\",\" \",'Dettaglio delle attività'!C797)","v":" "},{"$f":"IF('Dettaglio delle attività'!D797=\"\",\" \",'Dettaglio delle attività'!D797)","v":" "},{"$f":"IF('Dettaglio delle attività'!E797=\"\",\" \",'Dettaglio delle attività'!E797)","v":" "}]
[null,null,null,{"$f":"IF('Dettaglio delle attività'!C798=\"\",\" \",'Dettaglio delle attività'!C798)","v":" "},{"$f":"IF('Dettaglio delle attività'!D798=\"\",\" \",'Dettaglio delle attività'!D798)","v":" "},{"$f":"IF('Dettaglio delle attività'!E798=\"\",\" \",'Dettaglio delle attività'!E798)","v":" "}]
[null,null,null,{"$f":"IF('Dettaglio delle attività'!C799=\"\",\" \",'Dettaglio delle attività'!C799)","v":" "},{"$f":"IF('Dettaglio delle attività'!D799=\"\",\" \",'Dettaglio delle attività'!D799)","v":" "},{"$f":"IF('Dettaglio delle attività'!E799=\"\",\" \",'Dettaglio delle attività'!E799)","v":" "}]
[null,null,null,{"$f":"IF('Dettaglio delle attività'!C800=\"\",\" \",'Dettaglio delle attività'!C800)","v":" "},{"$f":"IF('Dettaglio delle attività'!D800=\"\",\" \",'Dettaglio delle attività'!D800)","v":" "},{"$f":"IF('Dettaglio delle attività'!E800=\"\",\" \",'Dettaglio delle attività'!E800)","v":" "}]
[null,null,null,{"$f":"IF('Dettaglio delle attività'!C801=\"\",\" \",'Dettaglio delle attività'!C801)","v":" "},{"$f":"IF('Dettaglio delle attività'!D801=\"\",\" \",'Dettaglio delle attività'!D801)","v":" "},{"$f":"IF('Dettaglio delle attività'!E801=\"\",\" \",'Dettaglio delle attività'!E801)","v":" "}]
[null,null,null,{"$f":"IF('Dettaglio delle attività'!C802=\"\",\" \",'Dettaglio delle attività'!C802)","v":" "},{"$f":"IF('Dettaglio delle attività'!D802=\"\",\" \",'Dettaglio delle attività'!D802)","v":" "},{"$f":"IF('Dettaglio delle attività'!E802=\"\",\" \",'Dettaglio delle attività'!E802)","v":" "}]
[null,null,null,{"$f":"IF('Dettaglio delle attività'!C803=\"\",\" \",'Dettaglio delle attività'!C803)","v":" "},{"$f":"IF('Dettaglio delle attività'!D803=\"\",\" \",'Dettaglio delle attività'!D803)","v":" "},{"$f":"IF('Dettaglio delle attività'!E803=\"\",\" \",'Dettaglio delle attività'!E803)","v":" "}]
[null,null,null,{"$f":"IF('Dettaglio delle attività'!C804=\"\",\" \",'Dettaglio delle attività'!C804)","v":" "},{"$f":"IF('Dettaglio delle attività'!D804=\"\",\" \",'Dettaglio delle attività'!D804)","v":" "},{"$f":"IF('Dettaglio delle attività'!E804=\"\",\" \",'Dettaglio delle attività'!E804)","v":" "}]
[null,null,null,{"$f":"IF('Dettaglio delle attività'!C805=\"\",\" \",'Dettaglio delle attività'!C805)","v":" "},{"$f":"IF('Dettaglio delle attività'!D805=\"\",\" \",'Dettaglio delle attività'!D805)","v":" "},{"$f":"IF('Dettaglio delle attività'!E805=\"\",\" \",'Dettaglio delle attività'!E805)","v":" "}]
[null,null,null,{"$f":"IF('Dettaglio delle attività'!C806=\"\",\" \",'Dettaglio delle attività'!C806)","v":" "},{"$f":"IF('Dettaglio delle attività'!D806=\"\",\" \",'Dettaglio delle attività'!D806)","v":" "},{"$f":"IF('Dettaglio delle attività'!E806=\"\",\" \",'Dettaglio delle attività'!E806)","v":" "}]
[null,null,null,{"$f":"IF('Dettaglio delle attività'!C807=\"\",\" \",'Dettaglio delle attività'!C807)","v":" "},{"$f":"IF('Dettaglio delle attività'!D807=\"\",\" \",'Dettaglio delle attività'!D807)","v":" "},{"$f":"IF('Dettaglio delle attività'!E807=\"\",\" \",'Dettaglio delle attività'!E807)","v":" "}]
[null,null,null,{"$f":"IF('Dettaglio delle attività'!C808=\"\",\" \",'Dettaglio delle attività'!C808)","v":" "},{"$f":"IF('Dettaglio delle attività'!D808=\"\",\" \",'Dettaglio delle attività'!D808)","v":" "},{"$f":"IF('Dettaglio delle attività'!E808=\"\",\" \",'Dettaglio delle attività'!E808)","v":" "}]
[null,null,null,{"$f":"IF('Dettaglio delle attività'!C809=\"\",\" \",'Dettaglio delle attività'!C809)","v":" "},{"$f":"IF('Dettaglio delle attività'!D809=\"\",\" \",'Dettaglio delle attività'!D809)","v":" "},{"$f":"IF('Dettaglio delle attività'!E809=\"\",\" \",'Dettaglio delle attività'!E809)","v":" "}]
[null,null,null,{"$f":"IF('Dettaglio delle attività'!C810=\"\",\" \",'Dettaglio delle attività'!C810)","v":" "},{"$f":"IF('Dettaglio delle attività'!D810=\"\",\" \",'Dettaglio delle attività'!D810)","v":" "},{"$f":"IF('Dettaglio delle attività'!E810=\"\",\" \",'Dettaglio delle attività'!E810)","v":" "}]
[null,null,null,{"$f":"IF('Dettaglio delle attività'!C811=\"\",\" \",'Dettaglio delle attività'!C811)","v":" "},{"$f":"IF('Dettaglio delle attività'!D811=\"\",\" \",'Dettaglio delle attività'!D811)","v":" "},{"$f":"IF('Dettaglio delle attività'!E811=\"\",\" \",'Dettaglio delle attività'!E811)","v":" "}]
[null,null,null,{"$f":"IF('Dettaglio delle attività'!C812=\"\",\" \",'Dettaglio delle attività'!C812)","v":" "},{"$f":"IF('Dettaglio delle attività'!D812=\"\",\" \",'Dettaglio delle attività'!D812)","v":" "},{"$f":"IF('Dettaglio delle attività'!E812=\"\",\" \",'Dettaglio delle attività'!E812)","v":" "}]
[null,null,null,{"$f":"IF('Dettaglio delle attività'!C813=\"\",\" \",'Dettaglio delle attività'!C813)","v":" "},{"$f":"IF('Dettaglio delle attività'!D813=\"\",\" \",'Dettaglio delle attività'!D813)","v":" "},{"$f":"IF('Dettaglio delle attività'!E813=\"\",\" \",'Dettaglio delle attività'!E813)","v":" "}]
[null,null,null,{"$f":"IF('Dettaglio delle attività'!C814=\"\",\" \",'Dettaglio delle attività'!C814)","v":" "},{"$f":"IF('Dettaglio delle attività'!D814=\"\",\" \",'Dettaglio delle attività'!D814)","v":" "},{"$f":"IF('Dettaglio delle attività'!E814=\"\",\" \",'Dettaglio delle attività'!E814)","v":" "}]
[null,null,null,{"$f":"IF('Dettaglio delle attività'!C815=\"\",\" \",'Dettaglio delle attività'!C815)","v":" "},{"$f":"IF('Dettaglio delle attività'!D815=\"\",\" \",'Dettaglio delle attività'!D815)","v":" "},{"$f":"IF('Dettaglio delle attività'!E815=\"\",\" \",'Dettaglio delle attività'!E815)","v":" "}]
[null,null,null,{"$f":"IF('Dettaglio delle attività'!C816=\"\",\" \",'Dettaglio delle attività'!C816)","v":" "},{"$f":"IF('Dettaglio delle attività'!D816=\"\",\" \",'Dettaglio delle attività'!D816)","v":" "},{"$f":"IF('Dettaglio delle attività'!E816=\"\",\" \",'Dettaglio delle attività'!E816)","v":" "}]
[null,null,null,{"$f":"IF('Dettaglio delle attività'!C817=\"\",\" \",'Dettaglio delle attività'!C817)","v":" "},{"$f":"IF('Dettaglio delle attività'!D817=\"\",\" \",'Dettaglio delle attività'!D817)","v":" "},{"$f":"IF('Dettaglio delle attività'!E817=\"\",\" \",'Dettaglio delle attività'!E817)","v":" "}]
[null,null,null,{"$f":"IF('Dettaglio delle attività'!C818=\"\",\" \",'Dettaglio delle attività'!C818)","v":" "},{"$f":"IF('Dettaglio delle attività'!D818=\"\",\" \",'Dettaglio delle attività'!D818)","v":" "},{"$f":"IF('Dettaglio delle attività'!E818=\"\",\" \",'Dettaglio delle attività'!E818)","v":" "}]
[null,null,null,{"$f":"IF('Dettaglio delle attività'!C819=\"\",\" \",'Dettaglio delle attività'!C819)","v":" "},{"$f":"IF('Dettaglio delle attività'!D819=\"\",\" \",'Dettaglio delle attività'!D819)","v":" "},{"$f":"IF('Dettaglio delle attività'!E819=\"\",\" \",'Dettaglio delle attività'!E819)","v":" "}]
[null,null,null,{"$f":"IF('Dettaglio delle attività'!C820=\"\",\" \",'Dettaglio delle attività'!C820)","v":" "},{"$f":"IF('Dettaglio delle attività'!D820=\"\",\" \",'Dettaglio delle attività'!D820)","v":" "},{"$f":"IF('Dettaglio delle attività'!E820=\"\",\" \",'Dettaglio delle attività'!E820)","v":" "}]
[null,null,null,{"$f":"IF('Dettaglio delle attività'!C821=\"\",\" \",'Dettaglio delle attività'!C821)","v":" "},{"$f":"IF('Dettaglio delle attività'!D821=\"\",\" \",'Dettaglio delle attività'!D821)","v":" "},{"$f":"IF('Dettaglio delle attività'!E821=\"\",\" \",'Dettaglio delle attività'!E821)","v":" "}]
[null,null,null,{"$f":"IF('Dettaglio delle attività'!C822=\"\",\" \",'Dettaglio delle attività'!C822)","v":" "},{"$f":"IF('Dettaglio delle attività'!D822=\"\",\" \",'Dettaglio delle attività'!D822)","v":" "},{"$f":"IF('Dettaglio delle attività'!E822=\"\",\" \",'Dettaglio delle attività'!E822)","v":" "}]
[null,null,null,{"$f":"IF('Dettaglio delle attività'!C823=\"\",\" \",'Dettaglio delle attività'!C823)","v":" "},{"$f":"IF('Dettaglio delle attività'!D823=\"\",\" \",'Dettaglio delle attività'!D823)","v":" "},{"$f":"IF('Dettaglio delle attività'!E823=\"\",\" \",'Dettaglio delle attività'!E823)","v":" "}]
[null,null,null,{"$f":"IF('Dettaglio delle attività'!C824=\"\",\" \",'Dettaglio delle attività'!C824)","v":" "},{"$f":"IF('Dettaglio delle attività'!D824=\"\",\" \",'Dettaglio delle attività'!D824)","v":" "},{"$f":"IF('Dettaglio delle attività'!E824=\"\",\" \",'Dettaglio delle attività'!E824)","v":" "}]
[null,null,null,{"$f":"IF('Dettaglio delle attività'!C825=\"\",\" \",'Dettaglio delle attività'!C825)","v":" "},{"$f":"IF('Dettaglio delle attività'!D825=\"\",\" \",'Dettaglio delle attività'!D825)","v":" "},{"$f":"IF('Dettaglio delle attività'!E825=\"\",\" \",'Dettaglio delle attività'!E825)","v":" "}]
[null,null,null,{"$f":"IF('Dettaglio delle attività'!C826=\"\",\" \",'Dettaglio delle attività'!C826)","v":" "},{"$f":"IF('Dettaglio delle attività'!D826=\"\",\" \",'Dettaglio delle attività'!D826)","v":" "},{"$f":"IF('Dettaglio delle attività'!E826=\"\",\" \",'Dettaglio delle attività'!E826)","v":" "}]
[null,null,null,{"$f":"IF('Dettaglio delle attività'!C827=\"\",\" \",'Dettaglio delle attività'!C827)","v":" "},{"$f":"IF('Dettaglio delle attività'!D827=\"\",\" \",'Dettaglio delle attività'!D827)","v":" "},{"$f":"IF('Dettaglio delle attività'!E827=\"\",\" \",'Dettaglio delle attività'!E827)","v":" "}]
[null,null,null,{"$f":"IF('Dettaglio delle attività'!C828=\"\",\" \",'Dettaglio delle attività'!C828)","v":" "},{"$f":"IF('Dettaglio delle attività'!D828=\"\",\" \",'Dettaglio delle attività'!D828)","v":" "},{"$f":"IF('Dettaglio delle attività'!E828=\"\",\" \",'Dettaglio delle attività'!E828)","v":" "}]
[null,null,null,{"$f":"IF('Dettaglio delle attività'!C829=\"\",\" \",'Dettaglio delle attività'!C829)","v":" "},{"$f":"IF('Dettaglio delle attività'!D829=\"\",\" \",'Dettaglio delle attività'!D829)","v":" "},{"$f":"IF('Dettaglio delle attività'!E829=\"\",\" \",'Dettaglio delle attività'!E829)","v":" "}]
[null,null,null,{"$f":"IF('Dettaglio delle attività'!C830=\"\",\" \",'Dettaglio delle attività'!C830)","v":" "},{"$f":"IF('Dettaglio delle attività'!D830=\"\",\" \",'Dettaglio delle attività'!D830)","v":" "},{"$f":"IF('Dettaglio delle attività'!E830=\"\",\" \",'Dettaglio delle attività'!E830)","v":" "}]
[null,null,null,{"$f":"IF('Dettaglio delle attività'!C831=\"\",\" \",'Dettaglio delle attività'!C831)","v":" "},{"$f":"IF('Dettaglio delle attività'!D831=\"\",\" \",'Dettaglio delle attività'!D831)","v":" "},{"$f":"IF('Dettaglio delle attività'!E831=\"\",\" \",'Dettaglio delle attività'!E831)","v":" "}]
[null,null,null,{"$f":"IF('Dettaglio delle attività'!C832=\"\",\" \",'Dettaglio delle attività'!C832)","v":" "},{"$f":"IF('Dettaglio delle attività'!D832=\"\",\" \",'Dettaglio delle attività'!D832)","v":" "},{"$f":"IF('Dettaglio delle attività'!E832=\"\",\" \",'Dettaglio delle attività'!E832)","v":" "}]
[null,null,null,{"$f":"IF('Dettaglio delle attività'!C833=\"\",\" \",'Dettaglio delle attività'!C833)","v":" "},{"$f":"IF('Dettaglio delle attività'!D833=\"\",\" \",'Dettaglio delle attività'!D833)","v":" "},{"$f":"IF('Dettaglio delle attività'!E833=\"\",\" \",'Dettaglio delle attività'!E833)","v":" "}]
[null,null,null,{"$f":"IF('Dettaglio delle attività'!C834=\"\",\" \",'Dettaglio delle attività'!C834)","v":" "},{"$f":"IF('Dettaglio delle attività'!D834=\"\",\" \",'Dettaglio delle attività'!D834)","v":" "},{"$f":"IF('Dettaglio delle attività'!E834=\"\",\" \",'Dettaglio delle attività'!E834)","v":" "}]
[null,null,null,{"$f":"IF('Dettaglio delle attività'!C835=\"\",\" \",'Dettaglio delle attività'!C835)","v":" "},{"$f":"IF('Dettaglio delle attività'!D835=\"\",\" \",'Dettaglio delle attività'!D835)","v":" "},{"$f":"IF('Dettaglio delle attività'!E835=\"\",\" \",'Dettaglio delle attività'!E835)","v":" "}]
[null,null,null,{"$f":"IF('Dettaglio delle attività'!C836=\"\",\" \",'Dettaglio delle attività'!C836)","v":" "},{"$f":"IF('Dettaglio delle attività'!D836=\"\",\" \",'Dettaglio delle attività'!D836)","v":" "},{"$f":"IF('Dettaglio delle attività'!E836=\"\",\" \",'Dettaglio delle attività'!E836)","v":" "}]
[null,null,null,{"$f":"IF('Dettaglio delle attività'!C837=\"\",\" \",'Dettaglio delle attività'!C837)","v":" "},{"$f":"IF('Dettaglio delle attività'!D837=\"\",\" \",'Dettaglio delle attività'!D837)","v":" "},{"$f":"IF('Dettaglio delle attività'!E837=\"\",\" \",'Dettaglio delle attività'!E837)","v":" "}]
[null,null,null,{"$f":"IF('Dettaglio delle attività'!C838=\"\",\" \",'Dettaglio delle attività'!C838)","v":" "},{"$f":"IF('Dettaglio delle attività'!D838=\"\",\" \",'Dettaglio delle attività'!D838)","v":" "},{"$f":"IF('Dettaglio delle attività'!E838=\"\",\" \",'Dettaglio delle attività'!E838)","v":" "}]
[null,null,null,{"$f":"IF('Dettaglio delle attività'!C839=\"\",\" \",'Dettaglio delle attività'!C839)","v":" "},{"$f":"IF('Dettaglio delle attività'!D839=\"\",\" \",'Dettaglio delle attività'!D839)","v":" "},{"$f":"IF('Dettaglio delle attività'!E839=\"\",\" \",'Dettaglio delle attività'!E839)","v":" "}]
[null,null,null,{"$f":"IF('Dettaglio delle attività'!C840=\"\",\" \",'Dettaglio delle attività'!C840)","v":" "},{"$f":"IF('Dettaglio delle attività'!D840=\"\",\" \",'Dettaglio delle attività'!D840)","v":" "},{"$f":"IF('Dettaglio delle attività'!E840=\"\",\" \",'Dettaglio delle attività'!E840)","v":" "}]
[null,null,null,{"$f":"IF('Dettaglio delle attività'!C841=\"\",\" \",'Dettaglio delle attività'!C841)","v":" "},{"$f":"IF('Dettaglio delle attività'!D841=\"\",\" \",'Dettaglio delle attività'!D841)","v":" "},{"$f":"IF('Dettaglio delle attività'!E841=\"\",\" \",'Dettaglio delle attività'!E841)","v":" "}]
[null,null,null,{"$f":"IF('Dettaglio delle attività'!C842=\"\",\" \",'Dettaglio delle attività'!C842)","v":" "},{"$f":"IF('Dettaglio delle attività'!D842=\"\",\" \",'Dettaglio delle attività'!D842)","v":" "},{"$f":"IF('Dettaglio delle attività'!E842=\"\",\" \",'Dettaglio delle attività'!E842)","v":" "}]
[null,null,null,{"$f":"IF('Dettaglio delle attività'!C843=\"\",\" \",'Dettaglio delle attività'!C843)","v":" "},{"$f":"IF('Dettaglio delle attività'!D843=\"\",\" \",'Dettaglio delle attività'!D843)","v":" "},{"$f":"IF('Dettaglio delle attività'!E843=\"\",\" \",'Dettaglio delle attività'!E843)","v":" "}]
[null,null,null,{"$f":"IF('Dettaglio delle attività'!C844=\"\",\" \",'Dettaglio delle attività'!C844)","v":" "},{"$f":"IF('Dettaglio delle attività'!D844=\"\",\" \",'Dettaglio delle attività'!D844)","v":" "},{"$f":"IF('Dettaglio delle attività'!E844=\"\",\" \",'Dettaglio delle attività'!E844)","v":" "}]
[null,null,null,{"$f":"IF('Dettaglio delle attività'!C845=\"\",\" \",'Dettaglio delle attività'!C845)","v":" "},{"$f":"IF('Dettaglio delle attività'!D845=\"\",\" \",'Dettaglio delle attività'!D845)","v":" "},{"$f":"IF('Dettaglio delle attività'!E845=\"\",\" \",'Dettaglio delle attività'!E845)","v":" "}]
[null,null,null,{"$f":"IF('Dettaglio delle attività'!C846=\"\",\" \",'Dettaglio delle attività'!C846)","v":" "},{"$f":"IF('Dettaglio delle attività'!D846=\"\",\" \",'Dettaglio delle attività'!D846)","v":" "},{"$f":"IF('Dettaglio delle attività'!E846=\"\",\" \",'Dettaglio delle attività'!E846)","v":" "}]
[null,null,null,{"$f":"IF('Dettaglio delle attività'!C847=\"\",\" \",'Dettaglio delle attività'!C847)","v":" "},{"$f":"IF('Dettaglio delle attività'!D847=\"\",\" \",'Dettaglio delle attività'!D847)","v":" "},{"$f":"IF('Dettaglio delle attività'!E847=\"\",\" \",'Dettaglio delle attività'!E847)","v":" "}]
[null,null,null,{"$f":"IF('Dettaglio delle attività'!C848=\"\",\" \",'Dettaglio delle attività'!C848)","v":" "},{"$f":"IF('Dettaglio delle attività'!D848=\"\",\" \",'Dettaglio delle attività'!D848)","v":" "},{"$f":"IF('Dettaglio delle attività'!E848=\"\",\" \",'Dettaglio delle attività'!E848)","v":" "}]
[null,null,null,{"$f":"IF('Dettaglio delle attività'!C849=\"\",\" \",'Dettaglio delle attività'!C849)","v":" "},{"$f":"IF('Dettaglio delle attività'!D849=\"\",\" \",'Dettaglio delle attività'!D849)","v":" "},{"$f":"IF('Dettaglio delle attività'!E849=\"\",\" \",'Dettaglio delle attività'!E849)","v":" "}]
[null,null,null,{"$f":"IF('Dettaglio delle attività'!C850=\"\",\" \",'Dettaglio delle attività'!C850)","v":" "},{"$f":"IF('Dettaglio delle attività'!D850=\"\",\" \",'Dettaglio delle attività'!D850)","v":" "},{"$f":"IF('Dettaglio delle attività'!E850=\"\",\" \",'Dettaglio delle attività'!E850)","v":" "}]
[null,null,null,{"$f":"IF('Dettaglio delle attività'!C851=\"\",\" \",'Dettaglio delle attività'!C851)","v":" "},{"$f":"IF('Dettaglio delle attività'!D851=\"\",\" \",'Dettaglio delle attività'!D851)","v":" "},{"$f":"IF('Dettaglio delle attività'!E851=\"\",\" \",'Dettaglio delle attività'!E851)","v":" "}]
[null,null,null,{"$f":"IF('Dettaglio delle attività'!C852=\"\",\" \",'Dettaglio delle attività'!C852)","v":" "},{"$f":"IF('Dettaglio delle attività'!D852=\"\",\" \",'Dettaglio delle attività'!D852)","v":" "},{"$f":"IF('Dettaglio delle attività'!E852=\"\",\" \",'Dettaglio delle attività'!E852)","v":" "}]
[null,null,null,{"$f":"IF('Dettaglio delle attività'!C853=\"\",\" \",'Dettaglio delle attività'!C853)","v":" "},{"$f":"IF('Dettaglio delle attività'!D853=\"\",\" \",'Dettaglio delle attività'!D853)","v":" "},{"$f":"IF('Dettaglio delle attività'!E853=\"\",\" \",'Dettaglio delle attività'!E853)","v":" "}]
[null,null,null,{"$f":"IF('Dettaglio delle attività'!C854=\"\",\" \",'Dettaglio delle attività'!C854)","v":" "},{"$f":"IF('Dettaglio delle attività'!D854=\"\",\" \",'Dettaglio delle attività'!D854)","v":" "},{"$f":"IF('Dettaglio delle attività'!E854=\"\",\" \",'Dettaglio delle attività'!E854)","v":" "}]
[null,null,null,{"$f":"IF('Dettaglio delle attività'!C855=\"\",\" \",'Dettaglio delle attività'!C855)","v":" "},{"$f":"IF('Dettaglio delle attività'!D855=\"\",\" \",'Dettaglio delle attività'!D855)","v":" "},{"$f":"IF('Dettaglio delle attività'!E855=\"\",\" \",'Dettaglio delle attività'!E855)","v":" "}]
[null,null,null,{"$f":"IF('Dettaglio delle attività'!C856=\"\",\" \",'Dettaglio delle attività'!C856)","v":" "},{"$f":"IF('Dettaglio delle attività'!D856=\"\",\" \",'Dettaglio delle attività'!D856)","v":" "},{"$f":"IF('Dettaglio delle attività'!E856=\"\",\" \",'Dettaglio delle attività'!E856)","v":" "}]
[null,null,null,{"$f":"IF('Dettaglio delle attività'!C857=\"\",\" \",'Dettaglio delle attività'!C857)","v":" "},{"$f":"IF('Dettaglio delle attività'!D857=\"\",\" \",'Dettaglio delle attività'!D857)","v":" "},{"$f":"IF('Dettaglio delle attività'!E857=\"\",\" \",'Dettaglio delle attività'!E857)","v":" "}]
[null,null,null,{"$f":"IF('Dettaglio delle attività'!C858=\"\",\" \",'Dettaglio delle attività'!C858)","v":" "},{"$f":"IF('Dettaglio delle attività'!D858=\"\",\" \",'Dettaglio delle attività'!D858)","v":" "},{"$f":"IF('Dettaglio delle attività'!E858=\"\",\" \",'Dettaglio delle attività'!E858)","v":" "}]
[null,null,null,{"$f":"IF('Dettaglio delle attività'!C859=\"\",\" \",'Dettaglio delle attività'!C859)","v":" "},{"$f":"IF('Dettaglio delle attività'!D859=\"\",\" \",'Dettaglio delle attività'!D859)","v":" "},{"$f":"IF('Dettaglio delle attività'!E859=\"\",\" \",'Dettaglio delle attività'!E859)","v":" "}]
[null,null,null,{"$f":"IF('Dettaglio delle attività'!C860=\"\",\" \",'Dettaglio delle attività'!C860)","v":" "},{"$f":"IF('Dettaglio delle attività'!D860=\"\",\" \",'Dettaglio delle attività'!D860)","v":" "},{"$f":"IF('Dettaglio delle attività'!E860=\"\",\" \",'Dettaglio delle attività'!E860)","v":" "}]
[null,null,null,{"$f":"IF('Dettaglio delle attività'!C861=\"\",\" \",'Dettaglio delle attività'!C861)","v":" "},{"$f":"IF('Dettaglio delle attività'!D861=\"\",\" \",'Dettaglio delle attività'!D861)","v":" "},{"$f":"IF('Dettaglio delle attività'!E861=\"\",\" \",'Dettaglio delle attività'!E861)","v":" "}]
[null,null,null,{"$f":"IF('Dettaglio delle attività'!C862=\"\",\" \",'Dettaglio delle attività'!C862)","v":" "},{"$f":"IF('Dettaglio delle attività'!D862=\"\",\" \",'Dettaglio delle attività'!D862)","v":" "},{"$f":"IF('Dettaglio delle attività'!E862=\"\",\" \",'Dettaglio delle attività'!E862)","v":" "}]
[null,null,null,{"$f":"IF('Dettaglio delle attività'!C863=\"\",\" \",'Dettaglio delle attività'!C863)","v":" "},{"$f":"IF('Dettaglio delle attività'!D863=\"\",\" \",'Dettaglio delle attività'!D863)","v":" "},{"$f":"IF('Dettaglio delle attività'!E863=\"\",\" \",'Dettaglio delle attività'!E863)","v":" "}]
[null,null,null,{"$f":"IF('Dettaglio delle attività'!C864=\"\",\" \",'Dettaglio delle attività'!C864)","v":" "},{"$f":"IF('Dettaglio delle attività'!D864=\"\",\" \",'Dettaglio delle attività'!D864)","v":" "},{"$f":"IF('Dettaglio delle attività'!E864=\"\",\" \",'Dettaglio delle attività'!E864)","v":" "}]
[null,null,null,{"$f":"IF('Dettaglio delle attività'!C865=\"\",\" \",'Dettaglio delle attività'!C865)","v":" "},{"$f":"IF('Dettaglio delle attività'!D865=\"\",\" \",'Dettaglio delle attività'!D865)","v":" "},{"$f":"IF('Dettaglio delle attività'!E865=\"\",\" \",'Dettaglio delle attività'!E865)","v":" "}]
[null,null,null,{"$f":"IF('Dettaglio delle attività'!C866=\"\",\" \",'Dettaglio delle attività'!C866)","v":" "},{"$f":"IF('Dettaglio delle attività'!D866=\"\",\" \",'Dettaglio delle attività'!D866)","v":" "},{"$f":"IF('Dettaglio delle attività'!E866=\"\",\" \",'Dettaglio delle attività'!E866)","v":" "}]
[null,null,null,{"$f":"IF('Dettaglio delle attività'!C867=\"\",\" \",'Dettaglio delle attività'!C867)","v":" "},{"$f":"IF('Dettaglio delle attività'!D867=\"\",\" \",'Dettaglio delle attività'!D867)","v":" "},{"$f":"IF('Dettaglio delle attività'!E867=\"\",\" \",'Dettaglio delle attività'!E867)","v":" "}]
[null,null,null,{"$f":"IF('Dettaglio delle attività'!C868=\"\",\" \",'Dettaglio delle attività'!C868)","v":" "},{"$f":"IF('Dettaglio delle attività'!D868=\"\",\" \",'Dettaglio delle attività'!D868)","v":" "},{"$f":"IF('Dettaglio delle attività'!E868=\"\",\" \",'Dettaglio delle attività'!E868)","v":" "}]
[null,null,null,{"$f":"IF('Dettaglio delle attività'!C869=\"\",\" \",'Dettaglio delle attività'!C869)","v":" "},{"$f":"IF('Dettaglio delle attività'!D869=\"\",\" \",'Dettaglio delle attività'!D869)","v":" "},{"$f":"IF('Dettaglio delle attività'!E869=\"\",\" \",'Dettaglio delle attività'!E869)","v":" "}]
[null,null,null,{"$f":"IF('Dettaglio delle attività'!C870=\"\",\" \",'Dettaglio delle attività'!C870)","v":" "},{"$f":"IF('Dettaglio delle attività'!D870=\"\",\" \",'Dettaglio delle attività'!D870)","v":" "},{"$f":"IF('Dettaglio delle attività'!E870=\"\",\" \",'Dettaglio delle attività'!E870)","v":" "}]
[null,null,null,{"$f":"IF('Dettaglio delle attività'!C871=\"\",\" \",'Dettaglio delle attività'!C871)","v":" "},{"$f":"IF('Dettaglio delle attività'!D871=\"\",\" \",'Dettaglio delle attività'!D871)","v":" "},{"$f":"IF('Dettaglio delle attività'!E871=\"\",\" \",'Dettaglio delle attività'!E871)","v":" "}]
[null,null,null,{"$f":"IF('Dettaglio delle attività'!C872=\"\",\" \",'Dettaglio delle attività'!C872)","v":" "},{"$f":"IF('Dettaglio delle attività'!D872=\"\",\" \",'Dettaglio delle attività'!D872)","v":" "},{"$f":"IF('Dettaglio delle attività'!E872=\"\",\" \",'Dettaglio delle attività'!E872)","v":" "}]
[null,null,null,{"$f":"IF('Dettaglio delle attività'!C873=\"\",\" \",'Dettaglio delle attività'!C873)","v":" "},{"$f":"IF('Dettaglio delle attività'!D873=\"\",\" \",'Dettaglio delle attività'!D873)","v":" "},{"$f":"IF('Dettaglio delle attività'!E873=\"\",\" \",'Dettaglio delle attività'!E873)","v":" "}]
[null,null,null,{"$f":"IF('Dettaglio delle attività'!C874=\"\",\" \",'Dettaglio delle attività'!C874)","v":" "},{"$f":"IF('Dettaglio delle attività'!D874=\"\",\" \",'Dettaglio delle attività'!D874)","v":" "},{"$f":"IF('Dettaglio delle attività'!E874=\"\",\" \",'Dettaglio delle attività'!E874)","v":" "}]
[null,null,null,{"$f":"IF('Dettaglio delle attività'!C875=\"\",\" \",'Dettaglio delle attività'!C875)","v":" "},{"$f":"IF('Dettaglio delle attività'!D875=\"\",\" \",'Dettaglio delle attività'!D875)","v":" "},{"$f":"IF('Dettaglio delle attività'!E875=\"\",\" \",'Dettaglio delle attività'!E875)","v":" "}]
[null,null,null,{"$f":"IF('Dettaglio delle attività'!C876=\"\",\" \",'Dettaglio delle attività'!C876)","v":" "},{"$f":"IF('Dettaglio delle attività'!D876=\"\",\" \",'Dettaglio delle attività'!D876)","v":" "},{"$f":"IF('Dettaglio delle attività'!E876=\"\",\" \",'Dettaglio delle attività'!E876)","v":" "}]
[null,null,null,{"$f":"IF('Dettaglio delle attività'!C877=\"\",\" \",'Dettaglio delle attività'!C877)","v":" "},{"$f":"IF('Dettaglio delle attività'!D877=\"\",\" \",'Dettaglio delle attività'!D877)","v":" "},{"$f":"IF('Dettaglio delle attività'!E877=\"\",\" \",'Dettaglio delle attività'!E877)","v":" "}]
[null,null,null,{"$f":"IF('Dettaglio delle attività'!C878=\"\",\" \",'Dettaglio delle attività'!C878)","v":" "},{"$f":"IF('Dettaglio delle attività'!D878=\"\",\" \",'Dettaglio delle attività'!D878)","v":" "},{"$f":"IF('Dettaglio delle attività'!E878=\"\",\" \",'Dettaglio delle attività'!E878)","v":" "}]
[null,null,null,{"$f":"IF('Dettaglio delle attività'!C879=\"\",\" \",'Dettaglio delle attività'!C879)","v":" "},{"$f":"IF('Dettaglio delle attività'!D879=\"\",\" \",'Dettaglio delle attività'!D879)","v":" "},{"$f":"IF('Dettaglio delle attività'!E879=\"\",\" \",'Dettaglio delle attività'!E879)","v":" "}]
[null,null,null,{"$f":"IF('Dettaglio delle attività'!C880=\"\",\" \",'Dettaglio delle attività'!C880)","v":" "},{"$f":"IF('Dettaglio delle attività'!D880=\"\",\" \",'Dettaglio delle attività'!D880)","v":" "},{"$f":"IF('Dettaglio delle attività'!E880=\"\",\" \",'Dettaglio delle attività'!E880)","v":" "}]
[null,null,null,{"$f":"IF('Dettaglio delle attività'!C881=\"\",\" \",'Dettaglio delle attività'!C881)","v":" "},{"$f":"IF('Dettaglio delle attività'!D881=\"\",\" \",'Dettaglio delle attività'!D881)","v":" "},{"$f":"IF('Dettaglio delle attività'!E881=\"\",\" \",'Dettaglio delle attività'!E881)","v":" "}]
[null,null,null,{"$f":"IF('Dettaglio delle attività'!C882=\"\",\" \",'Dettaglio delle attività'!C882)","v":" "},{"$f":"IF('Dettaglio delle attività'!D882=\"\",\" \",'Dettaglio delle attività'!D882)","v":" "},{"$f":"IF('Dettaglio delle attività'!E882=\"\",\" \",'Dettaglio delle attività'!E882)","v":" "}]
[null,null,null,{"$f":"IF('Dettaglio delle attività'!C883=\"\",\" \",'Dettaglio delle attività'!C883)","v":" "},{"$f":"IF('Dettaglio delle attività'!D883=\"\",\" \",'Dettaglio delle attività'!D883)","v":" "},{"$f":"IF('Dettaglio delle attività'!E883=\"\",\" \",'Dettaglio delle attività'!E883)","v":" "}]
[null,null,null,{"$f":"IF('Dettaglio delle attività'!C884=\"\",\" \",'Dettaglio delle attività'!C884)","v":" "},{"$f":"IF('Dettaglio delle attività'!D884=\"\",\" \",'Dettaglio delle attività'!D884)","v":" "},{"$f":"IF('Dettaglio delle attività'!E884=\"\",\" \",'Dettaglio delle attività'!E884)","v":" "}]
[null,null,null,{"$f":"IF('Dettaglio delle attività'!C885=\"\",\" \",'Dettaglio delle attività'!C885)","v":" "},{"$f":"IF('Dettaglio delle attività'!D885=\"\",\" \",'Dettaglio delle attività'!D885)","v":" "},{"$f":"IF('Dettaglio delle attività'!E885=\"\",\" \",'Dettaglio delle attività'!E885)","v":" "}]
[null,null,null,{"$f":"IF('Dettaglio delle attività'!C886=\"\",\" \",'Dettaglio delle attività'!C886)","v":" "},{"$f":"IF('Dettaglio delle attività'!D886=\"\",\" \",'Dettaglio delle attività'!D886)","v":" "},{"$f":"IF('Dettaglio delle attività'!E886=\"\",\" \",'Dettaglio delle attività'!E886)","v":" "}]
[null,null,null,{"$f":"IF('Dettaglio delle attività'!C887=\"\",\" \",'Dettaglio delle attività'!C887)","v":" "},{"$f":"IF('Dettaglio delle attività'!D887=\"\",\" \",'Dettaglio delle attività'!D887)","v":" "},{"$f":"IF('Dettaglio delle attività'!E887=\"\",\" \",'Dettaglio delle attività'!E887)","v":" "}]
[null,null,null,{"$f":"IF('Dettaglio delle attività'!C888=\"\",\" \",'Dettaglio delle attività'!C888)","v":" "},{"$f":"IF('Dettaglio delle attività'!D888=\"\",\" \",'Dettaglio delle attività'!D888)","v":" "},{"$f":"IF('Dettaglio delle attività'!E888=\"\",\" \",'Dettaglio delle attività'!E888)","v":" "}]
[null,null,null,{"$f":"IF('Dettaglio delle attività'!C889=\"\",\" \",'Dettaglio delle attività'!C889)","v":" "},{"$f":"IF('Dettaglio delle attività'!D889=\"\",\" \",'Dettaglio delle attività'!D889)","v":" "},{"$f":"IF('Dettaglio delle attività'!E889=\"\",\" \",'Dettaglio delle attività'!E889)","v":" "}]
[null,null,null,{"$f":"IF('Dettaglio delle attività'!C890=\"\",\" \",'Dettaglio delle attività'!C890)","v":" "},{"$f":"IF('Dettaglio delle attività'!D890=\"\",\" \",'Dettaglio delle attività'!D890)","v":" "},{"$f":"IF('Dettaglio delle attività'!E890=\"\",\" \",'Dettaglio delle attività'!E890)","v":" "}]
[null,null,null,{"$f":"IF('Dettaglio delle attività'!C891=\"\",\" \",'Dettaglio delle attività'!C891)","v":" "},{"$f":"IF('Dettaglio delle attività'!D891=\"\",\" \",'Dettaglio delle attività'!D891)","v":" "},{"$f":"IF('Dettaglio delle attività'!E891=\"\",\" \",'Dettaglio delle attività'!E891)","v":" "}]
[null,null,null,{"$f":"IF('Dettaglio delle attività'!C892=\"\",\" \",'Dettaglio delle attività'!C892)","v":" "},{"$f":"IF('Dettaglio delle attività'!D892=\"\",\" \",'Dettaglio delle attività'!D892)","v":" "},{"$f":"IF('Dettaglio delle attività'!E892=\"\",\" \",'Dettaglio delle attività'!E892)","v":" "}]
[null,null,null,{"$f":"IF('Dettaglio delle attività'!C893=\"\",\" \",'Dettaglio delle attività'!C893)","v":" "},{"$f":"IF('Dettaglio delle attività'!D893=\"\",\" \",'Dettaglio delle attività'!D893)","v":" "},{"$f":"IF('Dettaglio delle attività'!E893=\"\",\" \",'Dettaglio delle attività'!E893)","v":" "}]
[null,null,null,{"$f":"IF('Dettaglio delle attività'!C894=\"\",\" \",'Dettaglio delle attività'!C894)","v":" "},{"$f":"IF('Dettaglio delle attività'!D894=\"\",\" \",'Dettaglio delle attività'!D894)","v":" "},{"$f":"IF('Dettaglio delle attività'!E894=\"\",\" \",'Dettaglio delle attività'!E894)","v":" "}]
[null,null,null,{"$f":"IF('Dettaglio delle attività'!C895=\"\",\" \",'Dettaglio delle attività'!C895)","v":" "},{"$f":"IF('Dettaglio delle attività'!D895=\"\",\" \",'Dettaglio delle attività'!D895)","v":" "},{"$f":"IF('Dettaglio delle attività'!E895=\"\",\" \",'Dettaglio delle attività'!E895)","v":" "}]
[null,null,null,{"$f":"IF('Dettaglio delle attività'!C896=\"\",\" \",'Dettaglio delle attività'!C896)","v":" "},{"$f":"IF('Dettaglio delle attività'!D896=\"\",\" \",'Dettaglio delle attività'!D896)","v":" "},{"$f":"IF('Dettaglio delle attività'!E896=\"\",\" \",'Dettaglio delle attività'!E896)","v":" "}]
[null,null,null,{"$f":"IF('Dettaglio delle attività'!C897=\"\",\" \",'Dettaglio delle attività'!C897)","v":" "},{"$f":"IF('Dettaglio delle attività'!D897=\"\",\" \",'Dettaglio delle attività'!D897)","v":" "},{"$f":"IF('Dettaglio delle attività'!E897=\"\",\" \",'Dettaglio delle attività'!E897)","v":" "}]
[null,null,null,{"$f":"IF('Dettaglio delle attività'!C898=\"\",\" \",'Dettaglio delle attività'!C898)","v":" "},{"$f":"IF('Dettaglio delle attività'!D898=\"\",\" \",'Dettaglio delle attività'!D898)","v":" "},{"$f":"IF('Dettaglio delle attività'!E898=\"\",\" \",'Dettaglio delle attività'!E898)","v":" "}]
[null,null,null,{"$f":"IF('Dettaglio delle attività'!C899=\"\",\" \",'Dettaglio delle attività'!C899)","v":" "},{"$f":"IF('Dettaglio delle attività'!D899=\"\",\" \",'Dettaglio delle attività'!D899)","v":" "},{"$f":"IF('Dettaglio delle attività'!E899=\"\",\" \",'Dettaglio delle attività'!E899)","v":" "}]
[null,null,null,{"$f":"IF('Dettaglio delle attività'!C900=\"\",\" \",'Dettaglio delle attività'!C900)","v":" "},{"$f":"IF('Dettaglio delle attività'!D900=\"\",\" \",'Dettaglio delle attività'!D900)","v":" "},{"$f":"IF('Dettaglio delle attività'!E900=\"\",\" \",'Dettaglio delle attività'!E900)","v":" "}]
[null,null,null,{"$f":"IF('Dettaglio delle attività'!C901=\"\",\" \",'Dettaglio delle attività'!C901)","v":" "},{"$f":"IF('Dettaglio delle attività'!D901=\"\",\" \",'Dettaglio delle attività'!D901)","v":" "},{"$f":"IF('Dettaglio delle attività'!E901=\"\",\" \",'Dettaglio delle attività'!E901)","v":" "}]
[null,null,null,{"$f":"IF('Dettaglio delle attività'!C902=\"\",\" \",'Dettaglio delle attività'!C902)","v":" "},{"$f":"IF('Dettaglio delle attività'!D902=\"\",\" \",'Dettaglio delle attività'!D902)","v":" "},{"$f":"IF('Dettaglio delle attività'!E902=\"\",\" \",'Dettaglio delle attività'!E902)","v":" "}]
[null,null,null,{"$f":"IF('Dettaglio delle attività'!C903=\"\",\" \",'Dettaglio delle attività'!C903)","v":" "},{"$f":"IF('Dettaglio delle attività'!D903=\"\",\" \",'Dettaglio delle attività'!D903)","v":" "},{"$f":"IF('Dettaglio delle attività'!E903=\"\",\" \",'Dettaglio delle attività'!E903)","v":" "}]
[null,null,null,{"$f":"IF('Dettaglio delle attività'!C904=\"\",\" \",'Dettaglio delle attività'!C904)","v":" "},{"$f":"IF('Dettaglio delle attività'!D904=\"\",\" \",'Dettaglio delle attività'!D904)","v":" "},{"$f":"IF('Dettaglio delle attività'!E904=\"\",\" \",'Dettaglio delle attività'!E904)","v":" "}]
[null,null,null,{"$f":"IF('Dettaglio delle attività'!C905=\"\",\" \",'Dettaglio delle attività'!C905)","v":" "},{"$f":"IF('Dettaglio delle attività'!D905=\"\",\" \",'Dettaglio delle attività'!D905)","v":" "},{"$f":"IF('Dettaglio delle attività'!E905=\"\",\" \",'Dettaglio delle attività'!E905)","v":" "}]
[null,null,null,{"$f":"IF('Dettaglio delle attività'!C906=\"\",\" \",'Dettaglio delle attività'!C906)","v":" "},{"$f":"IF('Dettaglio delle attività'!D906=\"\",\" \",'Dettaglio delle attività'!D906)","v":" "},{"$f":"IF('Dettaglio delle attività'!E906=\"\",\" \",'Dettaglio delle attività'!E906)","v":" "}]
[null,null,null,{"$f":"IF('Dettaglio delle attività'!C907=\"\",\" \",'Dettaglio delle attività'!C907)","v":" "},{"$f":"IF('Dettaglio delle attività'!D907=\"\",\" \",'Dettaglio delle attività'!D907)","v":" "},{"$f":"IF('Dettaglio delle attività'!E907=\"\",\" \",'Dettaglio delle attività'!E907)","v":" "}]
[null,null,null,{"$f":"IF('Dettaglio delle attività'!C908=\"\",\" \",'Dettaglio delle attività'!C908)","v":" "},{"$f":"IF('Dettaglio delle attività'!D908=\"\",\" \",'Dettaglio delle attività'!D908)","v":" "},{"$f":"IF('Dettaglio delle attività'!E908=\"\",\" \",'Dettaglio delle attività'!E908)","v":" "}]
[null,null,null,{"$f":"IF('Dettaglio delle attività'!C909=\"\",\" \",'Dettaglio delle attività'!C909)","v":" "},{"$f":"IF('Dettaglio delle attività'!D909=\"\",\" \",'Dettaglio delle attività'!D909)","v":" "},{"$f":"IF('Dettaglio delle attività'!E909=\"\",\" \",'Dettaglio delle attività'!E909)","v":" "}]
[null,null,null,{"$f":"IF('Dettaglio delle attività'!C910=\"\",\" \",'Dettaglio delle attività'!C910)","v":" "},{"$f":"IF('Dettaglio delle attività'!D910=\"\",\" \",'Dettaglio delle attività'!D910)","v":" "},{"$f":"IF('Dettaglio delle attività'!E910=\"\",\" \",'Dettaglio delle attività'!E910)","v":" "}]
[null,null,null,{"$f":"IF('Dettaglio delle attività'!C911=\"\",\" \",'Dettaglio delle attività'!C911)","v":" "},{"$f":"IF('Dettaglio delle attività'!D911=\"\",\" \",'Dettaglio delle attività'!D911)","v":" "},{"$f":"IF('Dettaglio delle attività'!E911=\"\",\" \",'Dettaglio delle attività'!E911)","v":" "}]
[null,null,null,{"$f":"IF('Dettaglio delle attività'!C912=\"\",\" \",'Dettaglio delle attività'!C912)","v":" "},{"$f":"IF('Dettaglio delle attività'!D912=\"\",\" \",'Dettaglio delle attività'!D912)","v":" "},{"$f":"IF('Dettaglio delle attività'!E912=\"\",\" \",'Dettaglio delle attività'!E912)","v":" "}]
[null,null,null,{"$f":"IF('Dettaglio delle attività'!C913=\"\",\" \",'Dettaglio delle attività'!C913)","v":" "},{"$f":"IF('Dettaglio delle attività'!D913=\"\",\" \",'Dettaglio delle attività'!D913)","v":" "},{"$f":"IF('Dettaglio delle attività'!E913=\"\",\" \",'Dettaglio delle attività'!E913)","v":" "}]
[null,null,null,{"$f":"IF('Dettaglio delle attività'!C914=\"\",\" \",'Dettaglio delle attività'!C914)","v":" "},{"$f":"IF('Dettaglio delle attività'!D914=\"\",\" \",'Dettaglio delle attività'!D914)","v":" "},{"$f":"IF('Dettaglio delle attività'!E914=\"\",\" \",'Dettaglio delle attività'!E914)","v":" "}]
[null,null,null,{"$f":"IF('Dettaglio delle attività'!C915=\"\",\" \",'Dettaglio delle attività'!C915)","v":" "},{"$f":"IF('Dettaglio delle attività'!D915=\"\",\" \",'Dettaglio delle attività'!D915)","v":" "},{"$f":"IF('Dettaglio delle attività'!E915=\"\",\" \",'Dettaglio delle attività'!E915)","v":" "}]
[null,null,null,{"$f":"IF('Dettaglio delle attività'!C916=\"\",\" \",'Dettaglio delle attività'!C916)","v":" "},{"$f":"IF('Dettaglio delle attività'!D916=\"\",\" \",'Dettaglio delle attività'!D916)","v":" "},{"$f":"IF('Dettaglio delle attività'!E916=\"\",\" \",'Dettaglio delle attività'!E916)","v":" "}]
[null,null,null,{"$f":"IF('Dettaglio delle attività'!C917=\"\",\" \",'Dettaglio delle attività'!C917)","v":" "},{"$f":"IF('Dettaglio delle attività'!D917=\"\",\" \",'Dettaglio delle attività'!D917)","v":" "},{"$f":"IF('Dettaglio delle attività'!E917=\"\",\" \",'Dettaglio delle attività'!E917)","v":" "}]
[null,null,null,{"$f":"IF('Dettaglio delle attività'!C918=\"\",\" \",'Dettaglio delle attività'!C918)","v":" "},{"$f":"IF('Dettaglio delle attività'!D918=\"\",\" \",'Dettaglio delle attività'!D918)","v":" "},{"$f":"IF('Dettaglio delle attività'!E918=\"\",\" \",'Dettaglio delle attività'!E918)","v":" "}]
[null,null,null,{"$f":"IF('Dettaglio delle attività'!C919=\"\",\" \",'Dettaglio delle attività'!C919)","v":" "},{"$f":"IF('Dettaglio delle attività'!D919=\"\",\" \",'Dettaglio delle attività'!D919)","v":" "},{"$f":"IF('Dettaglio delle attività'!E919=\"\",\" \",'Dettaglio delle attività'!E919)","v":" "}]
[null,null,null,{"$f":"IF('Dettaglio delle attività'!C920=\"\",\" \",'Dettaglio delle attività'!C920)","v":" "},{"$f":"IF('Dettaglio delle attività'!D920=\"\",\" \",'Dettaglio delle attività'!D920)","v":" "},{"$f":"IF('Dettaglio delle attività'!E920=\"\",\" \",'Dettaglio delle attività'!E920)","v":" "}]
[null,null,null,{"$f":"IF('Dettaglio delle attività'!C921=\"\",\" \",'Dettaglio delle attività'!C921)","v":" "},{"$f":"IF('Dettaglio delle attività'!D921=\"\",\" \",'Dettaglio delle attività'!D921)","v":" "},{"$f":"IF('Dettaglio delle attività'!E921=\"\",\" \",'Dettaglio delle attività'!E921)","v":" "}]
[null,null,null,{"$f":"IF('Dettaglio delle attività'!C922=\"\",\" \",'Dettaglio delle attività'!C922)","v":" "},{"$f":"IF('Dettaglio delle attività'!D922=\"\",\" \",'Dettaglio delle attività'!D922)","v":" "},{"$f":"IF('Dettaglio delle attività'!E922=\"\",\" \",'Dettaglio delle attività'!E922)","v":" "}]
[null,null,null,{"$f":"IF('Dettaglio delle attività'!C923=\"\",\" \",'Dettaglio delle attività'!C923)","v":" "},{"$f":"IF('Dettaglio delle attività'!D923=\"\",\" \",'Dettaglio delle attività'!D923)","v":" "},{"$f":"IF('Dettaglio delle attività'!E923=\"\",\" \",'Dettaglio delle attività'!E923)","v":" "}]
[null,null,null,{"$f":"IF('Dettaglio delle attività'!C924=\"\",\" \",'Dettaglio delle attività'!C924)","v":" "},{"$f":"IF('Dettaglio delle attività'!D924=\"\",\" \",'Dettaglio delle attività'!D924)","v":" "},{"$f":"IF('Dettaglio delle attività'!E924=\"\",\" \",'Dettaglio delle attività'!E924)","v":" "}]
[null,null,null,{"$f":"IF('Dettaglio delle attività'!C925=\"\",\" \",'Dettaglio delle attività'!C925)","v":" "},{"$f":"IF('Dettaglio delle attività'!D925=\"\",\" \",'Dettaglio delle attività'!D925)","v":" "},{"$f":"IF('Dettaglio delle attività'!E925=\"\",\" \",'Dettaglio delle attività'!E925)","v":" "}]
[null,null,null,{"$f":"IF('Dettaglio delle attività'!C926=\"\",\" \",'Dettaglio delle attività'!C926)","v":" "},{"$f":"IF('Dettaglio delle attività'!D926=\"\",\" \",'Dettaglio delle attività'!D926)","v":" "},{"$f":"IF('Dettaglio delle attività'!E926=\"\",\" \",'Dettaglio delle attività'!E926)","v":" "}]
[null,null,null,{"$f":"IF('Dettaglio delle attività'!C927=\"\",\" \",'Dettaglio delle attività'!C927)","v":" "},{"$f":"IF('Dettaglio delle attività'!D927=\"\",\" \",'Dettaglio delle attività'!D927)","v":" "},{"$f":"IF('Dettaglio delle attività'!E927=\"\",\" \",'Dettaglio delle attività'!E927)","v":" "}]
[null,null,null,{"$f":"IF('Dettaglio delle attività'!C928=\"\",\" \",'Dettaglio delle attività'!C928)","v":" "},{"$f":"IF('Dettaglio delle attività'!D928=\"\",\" \",'Dettaglio delle attività'!D928)","v":" "},{"$f":"IF('Dettaglio delle attività'!E928=\"\",\" \",'Dettaglio delle attività'!E928)","v":" "}]
[null,null,null,{"$f":"IF('Dettaglio delle attività'!C929=\"\",\" \",'Dettaglio delle attività'!C929)","v":" "},{"$f":"IF('Dettaglio delle attività'!D929=\"\",\" \",'Dettaglio delle attività'!D929)","v":" "},{"$f":"IF('Dettaglio delle attività'!E929=\"\",\" \",'Dettaglio delle attività'!E929)","v":" "}]
[null,null,null,{"$f":"IF('Dettaglio delle attività'!C930=\"\",\" \",'Dettaglio delle attività'!C930)","v":" "},{"$f":"IF('Dettaglio delle attività'!D930=\"\",\" \",'Dettaglio delle attività'!D930)","v":" "},{"$f":"IF('Dettaglio delle attività'!E930=\"\",\" \",'Dettaglio delle attività'!E930)","v":" "}]
[null,null,null,{"$f":"IF('Dettaglio delle attività'!C931=\"\",\" \",'Dettaglio delle attività'!C931)","v":" "},{"$f":"IF('Dettaglio delle attività'!D931=\"\",\" \",'Dettaglio delle attività'!D931)","v":" "},{"$f":"IF('Dettaglio delle attività'!E931=\"\",\" \",'Dettaglio delle attività'!E931)","v":" "}]
[null,null,null,{"$f":"IF('Dettaglio delle attività'!C932=\"\",\" \",'Dettaglio delle attività'!C932)","v":" "},{"$f":"IF('Dettaglio delle attività'!D932=\"\",\" \",'Dettaglio delle attività'!D932)","v":" "},{"$f":"IF('Dettaglio delle attività'!E932=\"\",\" \",'Dettaglio delle attività'!E932)","v":" "}]
[null,null,null,{"$f":"IF('Dettaglio delle attività'!C933=\"\",\" \",'Dettaglio delle attività'!C933)","v":" "},{"$f":"IF('Dettaglio delle attività'!D933=\"\",\" \",'Dettaglio delle attività'!D933)","v":" "},{"$f":"IF('Dettaglio delle attività'!E933=\"\",\" \",'Dettaglio delle attività'!E933)","v":" "}]
[null,null,null,{"$f":"IF('Dettaglio delle attività'!C934=\"\",\" \",'Dettaglio delle attività'!C934)","v":" "},{"$f":"IF('Dettaglio delle attività'!D934=\"\",\" \",'Dettaglio delle attività'!D934)","v":" "},{"$f":"IF('Dettaglio delle attività'!E934=\"\",\" \",'Dettaglio delle attività'!E934)","v":" "}]
[null,null,null,{"$f":"IF('Dettaglio delle attività'!C935=\"\",\" \",'Dettaglio delle attività'!C935)","v":" "},{"$f":"IF('Dettaglio delle attività'!D935=\"\",\" \",'Dettaglio delle attività'!D935)","v":" "},{"$f":"IF('Dettaglio delle attività'!E935=\"\",\" \",'Dettaglio delle attività'!E935)","v":" "}]
[null,null,null,{"$f":"IF('Dettaglio delle attività'!C936=\"\",\" \",'Dettaglio delle attività'!C936)","v":" "},{"$f":"IF('Dettaglio delle attività'!D936=\"\",\" \",'Dettaglio delle attività'!D936)","v":" "},{"$f":"IF('Dettaglio delle attività'!E936=\"\",\" \",'Dettaglio delle attività'!E936)","v":" "}]
[null,null,null,{"$f":"IF('Dettaglio delle attività'!C937=\"\",\" \",'Dettaglio delle attività'!C937)","v":" "},{"$f":"IF('Dettaglio delle attività'!D937=\"\",\" \",'Dettaglio delle attività'!D937)","v":" "},{"$f":"IF('Dettaglio delle attività'!E937=\"\",\" \",'Dettaglio delle attività'!E937)","v":" "}]
[null,null,null,{"$f":"IF('Dettaglio delle attività'!C938=\"\",\" \",'Dettaglio delle attività'!C938)","v":" "},{"$f":"IF('Dettaglio delle attività'!D938=\"\",\" \",'Dettaglio delle attività'!D938)","v":" "},{"$f":"IF('Dettaglio delle attività'!E938=\"\",\" \",'Dettaglio delle attività'!E938)","v":" "}]
[null,null,null,{"$f":"IF('Dettaglio delle attività'!C939=\"\",\" \",'Dettaglio delle attività'!C939)","v":" "},{"$f":"IF('Dettaglio delle attività'!D939=\"\",\" \",'Dettaglio delle attività'!D939)","v":" "},{"$f":"IF('Dettaglio delle attività'!E939=\"\",\" \",'Dettaglio delle attività'!E939)","v":" "}]
[null,null,null,{"$f":"IF('Dettaglio delle attività'!C940=\"\",\" \",'Dettaglio delle attività'!C940)","v":" "},{"$f":"IF('Dettaglio delle attività'!D940=\"\",\" \",'Dettaglio delle attività'!D940)","v":" "},{"$f":"IF('Dettaglio delle attività'!E940=\"\",\" \",'Dettaglio delle attività'!E940)","v":" "}]
[null,null,null,{"$f":"IF('Dettaglio delle attività'!C941=\"\",\" \",'Dettaglio delle attività'!C941)","v":" "},{"$f":"IF('Dettaglio delle attività'!D941=\"\",\" \",'Dettaglio delle attività'!D941)","v":" "},{"$f":"IF('Dettaglio delle attività'!E941=\"\",\" \",'Dettaglio delle attività'!E941)","v":" "}]
[null,null,null,{"$f":"IF('Dettaglio delle attività'!C942=\"\",\" \",'Dettaglio delle attività'!C942)","v":" "},{"$f":"IF('Dettaglio delle attività'!D942=\"\",\" \",'Dettaglio delle attività'!D942)","v":" "},{"$f":"IF('Dettaglio delle attività'!E942=\"\",\" \",'Dettaglio delle attività'!E942)","v":" "}]
[null,null,null,{"$f":"IF('Dettaglio delle attività'!C943=\"\",\" \",'Dettaglio delle attività'!C943)","v":" "},{"$f":"IF('Dettaglio delle attività'!D943=\"\",\" \",'Dettaglio delle attività'!D943)","v":" "},{"$f":"IF('Dettaglio delle attività'!E943=\"\",\" \",'Dettaglio delle attività'!E943)","v":" "}]
[null,null,null,{"$f":"IF('Dettaglio delle attività'!C944=\"\",\" \",'Dettaglio delle attività'!C944)","v":" "},{"$f":"IF('Dettaglio delle attività'!D944=\"\",\" \",'Dettaglio delle attività'!D944)","v":" "},{"$f":"IF('Dettaglio delle attività'!E944=\"\",\" \",'Dettaglio delle attività'!E944)","v":" "}]
[null,null,null,{"$f":"IF('Dettaglio delle attività'!C945=\"\",\" \",'Dettaglio delle attività'!C945)","v":" "},{"$f":"IF('Dettaglio delle attività'!D945=\"\",\" \",'Dettaglio delle attività'!D945)","v":" "},{"$f":"IF('Dettaglio delle attività'!E945=\"\",\" \",'Dettaglio delle attività'!E945)","v":" "}]
[null,null,null,{"$f":"IF('Dettaglio delle attività'!C946=\"\",\" \",'Dettaglio delle attività'!C946)","v":" "},{"$f":"IF('Dettaglio delle attività'!D946=\"\",\" \",'Dettaglio delle attività'!D946)","v":" "},{"$f":"IF('Dettaglio delle attività'!E946=\"\",\" \",'Dettaglio delle attività'!E946)","v":" "}]
[null,null,null,{"$f":"IF('Dettaglio delle attività'!C947=\"\",\" \",'Dettaglio delle attività'!C947)","v":" "},{"$f":"IF('Dettaglio delle attività'!D947=\"\",\" \",'Dettaglio delle attività'!D947)","v":" "},{"$f":"IF('Dettaglio delle attività'!E947=\"\",\" \",'Dettaglio delle attività'!E947)","v":" "}]
[null,null,null,{"$f":"IF('Dettaglio delle attività'!C948=\"\",\" \",'Dettaglio delle attività'!C948)","v":" "},{"$f":"IF('Dettaglio delle attività'!D948=\"\",\" \",'Dettaglio delle attività'!D948)","v":" "},{"$f":"IF('Dettaglio delle attività'!E948=\"\",\" \",'Dettaglio delle attività'!E948)","v":" "}]
[null,null,null,{"$f":"IF('Dettaglio delle attività'!C949=\"\",\" \",'Dettaglio delle attività'!C949)","v":" "},{"$f":"IF('Dettaglio delle attività'!D949=\"\",\" \",'Dettaglio delle attività'!D949)","v":" "},{"$f":"IF('Dettaglio delle attività'!E949=\"\",\" \",'Dettaglio delle attività'!E949)","v":" "}]
[null,null,null,{"$f":"IF('Dettaglio delle attività'!C950=\"\",\" \",'Dettaglio delle attività'!C950)","v":" "},{"$f":"IF('Dettaglio delle attività'!D950=\"\",\" \",'Dettaglio delle attività'!D950)","v":" "},{"$f":"IF('Dettaglio delle attività'!E950=\"\",\" \",'Dettaglio delle attività'!E950)","v":" "}]
[null,null,null,{"$f":"IF('Dettaglio delle attività'!C951=\"\",\" \",'Dettaglio delle attività'!C951)","v":" "},{"$f":"IF('Dettaglio delle attività'!D951=\"\",\" \",'Dettaglio delle attività'!D951)","v":" "},{"$f":"IF('Dettaglio delle attività'!E951=\"\",\" \",'Dettaglio delle attività'!E951)","v":" "}]
[null,null,null,{"$f":"IF('Dettaglio delle attività'!C952=\"\",\" \",'Dettaglio delle attività'!C952)","v":" "},{"$f":"IF('Dettaglio delle attività'!D952=\"\",\" \",'Dettaglio delle attività'!D952)","v":" "},{"$f":"IF('Dettaglio delle attività'!E952=\"\",\" \",'Dettaglio delle attività'!E952)","v":" "}]
[null,null,null,{"$f":"IF('Dettaglio delle attività'!C953=\"\",\" \",'Dettaglio delle attività'!C953)","v":" "},{"$f":"IF('Dettaglio delle attività'!D953=\"\",\" \",'Dettaglio delle attività'!D953)","v":" "},{"$f":"IF('Dettaglio delle attività'!E953=\"\",\" \",'Dettaglio delle attività'!E953)","v":" "}]
[null,null,null,{"$f":"IF('Dettaglio delle attività'!C954=\"\",\" \",'Dettaglio delle attività'!C954)","v":" "},{"$f":"IF('Dettaglio delle attività'!D954=\"\",\" \",'Dettaglio delle attività'!D954)","v":" "},{"$f":"IF('Dettaglio delle attività'!E954=\"\",\" \",'Dettaglio delle attività'!E954)","v":" "}]
[null,null,null,{"$f":"IF('Dettaglio delle attività'!C955=\"\",\" \",'Dettaglio delle attività'!C955)","v":" "},{"$f":"IF('Dettaglio delle attività'!D955=\"\",\" \",'Dettaglio delle attività'!D955)","v":" "},{"$f":"IF('Dettaglio delle attività'!E955=\"\",\" \",'Dettaglio delle attività'!E955)","v":" "}]
[null,null,null,{"$f":"IF('Dettaglio delle attività'!C956=\"\",\" \",'Dettaglio delle attività'!C956)","v":" "},{"$f":"IF('Dettaglio delle attività'!D956=\"\",\" \",'Dettaglio delle attività'!D956)","v":" "},{"$f":"IF('Dettaglio delle attività'!E956=\"\",\" \",'Dettaglio delle attività'!E956)","v":" "}]
[null,null,null,{"$f":"IF('Dettaglio delle attività'!C957=\"\",\" \",'Dettaglio delle attività'!C957)","v":" "},{"$f":"IF('Dettaglio delle attività'!D957=\"\",\" \",'Dettaglio delle attività'!D957)","v":" "},{"$f":"IF('Dettaglio delle attività'!E957=\"\",\" \",'Dettaglio delle attività'!E957)","v":" "}]
[null,null,null,{"$f":"IF('Dettaglio delle attività'!C958=\"\",\" \",'Dettaglio delle attività'!C958)","v":" "},{"$f":"IF('Dettaglio delle attività'!D958=\"\",\" \",'Dettaglio delle attività'!D958)","v":" "},{"$f":"IF('Dettaglio delle attività'!E958=\"\",\" \",'Dettaglio delle attività'!E958)","v":" "}]
[null,null,null,{"$f":"IF('Dettaglio delle attività'!C959=\"\",\" \",'Dettaglio delle attività'!C959)","v":" "},{"$f":"IF('Dettaglio delle attività'!D959=\"\",\" \",'Dettaglio delle attività'!D959)","v":" "},{"$f":"IF('Dettaglio delle attività'!E959=\"\",\" \",'Dettaglio delle attività'!E959)","v":" "}]
[null,null,null,{"$f":"IF('Dettaglio delle attività'!C960=\"\",\" \",'Dettaglio delle attività'!C960)","v":" "},{"$f":"IF('Dettaglio delle attività'!D960=\"\",\" \",'Dettaglio delle attività'!D960)","v":" "},{"$f":"IF('Dettaglio delle attività'!E960=\"\",\" \",'Dettaglio delle attività'!E960)","v":" "}]
[null,null,null,{"$f":"IF('Dettaglio delle attività'!C961=\"\",\" \",'Dettaglio delle attività'!C961)","v":" "},{"$f":"IF('Dettaglio delle attività'!D961=\"\",\" \",'Dettaglio delle attività'!D961)","v":" "},{"$f":"IF('Dettaglio delle attività'!E961=\"\",\" \",'Dettaglio delle attività'!E961)","v":" "}]
[null,null,null,{"$f":"IF('Dettaglio delle attività'!C962=\"\",\" \",'Dettaglio delle attività'!C962)","v":" "},{"$f":"IF('Dettaglio delle attività'!D962=\"\",\" \",'Dettaglio delle attività'!D962)","v":" "},{"$f":"IF('Dettaglio delle attività'!E962=\"\",\" \",'Dettaglio delle attività'!E962)","v":" "}]
[null,null,null,{"$f":"IF('Dettaglio delle attività'!C963=\"\",\" \",'Dettaglio delle attività'!C963)","v":" "},{"$f":"IF('Dettaglio delle attività'!D963=\"\",\" \",'Dettaglio delle attività'!D963)","v":" "},{"$f":"IF('Dettaglio delle attività'!E963=\"\",\" \",'Dettaglio delle attività'!E963)","v":" "}]
[null,null,null,{"$f":"IF('Dettaglio delle attività'!C964=\"\",\" \",'Dettaglio delle attività'!C964)","v":" "},{"$f":"IF('Dettaglio delle attività'!D964=\"\",\" \",'Dettaglio delle attività'!D964)","v":" "},{"$f":"IF('Dettaglio delle attività'!E964=\"\",\" \",'Dettaglio delle attività'!E964)","v":" "}]
[null,null,null,{"$f":"IF('Dettaglio delle attività'!C965=\"\",\" \",'Dettaglio delle attività'!C965)","v":" "},{"$f":"IF('Dettaglio delle attività'!D965=\"\",\" \",'Dettaglio delle attività'!D965)","v":" "},{"$f":"IF('Dettaglio delle attività'!E965=\"\",\" \",'Dettaglio delle attività'!E965)","v":" "}]
[null,null,null,{"$f":"IF('Dettaglio delle attività'!C966=\"\",\" \",'Dettaglio delle attività'!C966)","v":" "},{"$f":"IF('Dettaglio delle attività'!D966=\"\",\" \",'Dettaglio delle attività'!D966)","v":" "},{"$f":"IF('Dettaglio delle attività'!E966=\"\",\" \",'Dettaglio delle attività'!E966)","v":" "}]
[null,null,null,{"$f":"IF('Dettaglio delle attività'!C967=\"\",\" \",'Dettaglio delle attività'!C967)","v":" "},{"$f":"IF('Dettaglio delle attività'!D967=\"\",\" \",'Dettaglio delle attività'!D967)","v":" "},{"$f":"IF('Dettaglio delle attività'!E967=\"\",\" \",'Dettaglio delle attività'!E967)","v":" "}]
[null,null,null,{"$f":"IF('Dettaglio delle attività'!C968=\"\",\" \",'Dettaglio delle attività'!C968)","v":" "},{"$f":"IF('Dettaglio delle attività'!D968=\"\",\" \",'Dettaglio delle attività'!D968)","v":" "},{"$f":"IF('Dettaglio delle attività'!E968=\"\",\" \",'Dettaglio delle attività'!E968)","v":" "}]
[null,null,null,{"$f":"IF('Dettaglio delle attività'!C969=\"\",\" \",'Dettaglio delle attività'!C969)","v":" "},{"$f":"IF('Dettaglio delle attività'!D969=\"\",\" \",'Dettaglio delle attività'!D969)","v":" "},{"$f":"IF('Dettaglio delle attività'!E969=\"\",\" \",'Dettaglio delle attività'!E969)","v":" "}]
[null,null,null,{"$f":"IF('Dettaglio delle attività'!C970=\"\",\" \",'Dettaglio delle attività'!C970)","v":" "},{"$f":"IF('Dettaglio delle attività'!D970=\"\",\" \",'Dettaglio delle attività'!D970)","v":" "},{"$f":"IF('Dettaglio delle attività'!E970=\"\",\" \",'Dettaglio delle attività'!E970)","v":" "}]
[null,null,null,{"$f":"IF('Dettaglio delle attività'!C971=\"\",\" \",'Dettaglio delle attività'!C971)","v":" "},{"$f":"IF('Dettaglio delle attività'!D971=\"\",\" \",'Dettaglio delle attività'!D971)","v":" "},{"$f":"IF('Dettaglio delle attività'!E971=\"\",\" \",'Dettaglio delle attività'!E971)","v":" "}]
[null,null,null,{"$f":"IF('Dettaglio delle attività'!C972=\"\",\" \",'Dettaglio delle attività'!C972)","v":" "},{"$f":"IF('Dettaglio delle attività'!D972=\"\",\" \",'Dettaglio delle attività'!D972)","v":" "},{"$f":"IF('Dettaglio delle attività'!E972=\"\",\" \",'Dettaglio delle attività'!E972)","v":" "}]
[null,null,null,{"$f":"IF('Dettaglio delle attività'!C973=\"\",\" \",'Dettaglio delle attività'!C973)","v":" "},{"$f":"IF('Dettaglio delle attività'!D973=\"\",\" \",'Dettaglio delle attività'!D973)","v":" "},{"$f":"IF('Dettaglio delle attività'!E973=\"\",\" \",'Dettaglio delle attività'!E973)","v":" "}]
[null,null,null,{"$f":"IF('Dettaglio delle attività'!C974=\"\",\" \",'Dettaglio delle attività'!C974)","v":" "},{"$f":"IF('Dettaglio delle attività'!D974=\"\",\" \",'Dettaglio delle attività'!D974)","v":" "},{"$f":"IF('Dettaglio delle attività'!E974=\"\",\" \",'Dettaglio delle attività'!E974)","v":" "}]
[null,null,null,{"$f":"IF('Dettaglio delle attività'!C975=\"\",\" \",'Dettaglio delle attività'!C975)","v":" "},{"$f":"IF('Dettaglio delle attività'!D975=\"\",\" \",'Dettaglio delle attività'!D975)","v":" "},{"$f":"IF('Dettaglio delle attività'!E975=\"\",\" \",'Dettaglio delle attività'!E975)","v":" "}]
[null,null,null,{"$f":"IF('Dettaglio delle attività'!C976=\"\",\" \",'Dettaglio delle attività'!C976)","v":" "},{"$f":"IF('Dettaglio delle attività'!D976=\"\",\" \",'Dettaglio delle attività'!D976)","v":" "},{"$f":"IF('Dettaglio delle attività'!E976=\"\",\" \",'Dettaglio delle attività'!E976)","v":" "}]
[null,null,null,{"$f":"IF('Dettaglio delle attività'!C977=\"\",\" \",'Dettaglio delle attività'!C977)","v":" "},{"$f":"IF('Dettaglio delle attività'!D977=\"\",\" \",'Dettaglio delle attività'!D977)","v":" "},{"$f":"IF('Dettaglio delle attività'!E977=\"\",\" \",'Dettaglio delle attività'!E977)","v":" "}]
[null,null,null,{"$f":"IF('Dettaglio delle attività'!C978=\"\",\" \",'Dettaglio delle attività'!C978)","v":" "},{"$f":"IF('Dettaglio delle attività'!D978=\"\",\" \",'Dettaglio delle attività'!D978)","v":" "},{"$f":"IF('Dettaglio delle attività'!E978=\"\",\" \",'Dettaglio delle attività'!E978)","v":" "}]
[null,null,null,{"$f":"IF('Dettaglio delle attività'!C979=\"\",\" \",'Dettaglio delle attività'!C979)","v":" "},{"$f":"IF('Dettaglio delle attività'!D979=\"\",\" \",'Dettaglio delle attività'!D979)","v":" "},{"$f":"IF('Dettaglio delle attività'!E979=\"\",\" \",'Dettaglio delle attività'!E979)","v":" "}]
[null,null,null,{"$f":"IF('Dettaglio delle attività'!C980=\"\",\" \",'Dettaglio delle attività'!C980)","v":" "},{"$f":"IF('Dettaglio delle attività'!D980=\"\",\" \",'Dettaglio delle attività'!D980)","v":" "},{"$f":"IF('Dettaglio delle attività'!E980=\"\",\" \",'Dettaglio delle attività'!E980)","v":" "}]
[null,null,null,{"$f":"IF('Dettaglio delle attività'!C981=\"\",\" \",'Dettaglio delle attività'!C981)","v":" "},{"$f":"IF('Dettaglio delle attività'!D981=\"\",\" \",'Dettaglio delle attività'!D981)","v":" "},{"$f":"IF('Dettaglio delle attività'!E981=\"\",\" \",'Dettaglio delle attività'!E981)","v":" "}]
[null,null,null,{"$f":"IF('Dettaglio delle attività'!C982=\"\",\" \",'Dettaglio delle attività'!C982)","v":" "},{"$f":"IF('Dettaglio delle attività'!D982=\"\",\" \",'Dettaglio delle attività'!D982)","v":" "},{"$f":"IF('Dettaglio delle attività'!E982=\"\",\" \",'Dettaglio delle attività'!E982)","v":" "}]
[null,null,null,{"$f":"IF('Dettaglio delle attività'!C983=\"\",\" \",'Dettaglio delle attività'!C983)","v":" "},{"$f":"IF('Dettaglio delle attività'!D983=\"\",\" \",'Dettaglio delle attività'!D983)","v":" "},{"$f":"IF('Dettaglio delle attività'!E983=\"\",\" \",'Dettaglio delle attività'!E983)","v":" "}]
[null,null,null,{"$f":"IF('Dettaglio delle attività'!C984=\"\",\" \",'Dettaglio delle attività'!C984)","v":" "},{"$f":"IF('Dettaglio delle attività'!D984=\"\",\" \",'Dettaglio delle attività'!D984)","v":" "},{"$f":"IF('Dettaglio delle attività'!E984=\"\",\" \",'Dettaglio delle attività'!E984)","v":" "}]
[null,null,null,{"$f":"IF('Dettaglio delle attività'!C985=\"\",\" \",'Dettaglio delle attività'!C985)","v":" "},{"$f":"IF('Dettaglio delle attività'!D985=\"\",\" \",'Dettaglio delle attività'!D985)","v":" "},{"$f":"IF('Dettaglio delle attività'!E985=\"\",\" \",'Dettaglio delle attività'!E985)","v":" "}]
[null,null,null,{"$f":"IF('Dettaglio delle attività'!C986=\"\",\" \",'Dettaglio delle attività'!C986)","v":" "},{"$f":"IF('Dettaglio delle attività'!D986=\"\",\" \",'Dettaglio delle attività'!D986)","v":" "},{"$f":"IF('Dettaglio delle attività'!E986=\"\",\" \",'Dettaglio delle attività'!E986)","v":" "}]
[null,null,null,{"$f":"IF('Dettaglio delle attività'!C987=\"\",\" \",'Dettaglio delle attività'!C987)","v":" "},{"$f":"IF('Dettaglio delle attività'!D987=\"\",\" \",'Dettaglio delle attività'!D987)","v":" "},{"$f":"IF('Dettaglio delle attività'!E987=\"\",\" \",'Dettaglio delle attività'!E987)","v":" "}]
[null,null,null,{"$f":"IF('Dettaglio delle attività'!C988=\"\",\" \",'Dettaglio delle attività'!C988)","v":" "},{"$f":"IF('Dettaglio delle attività'!D988=\"\",\" \",'Dettaglio delle attività'!D988)","v":" "},{"$f":"IF('Dettaglio delle attività'!E988=\"\",\" \",'Dettaglio delle attività'!E988)","v":" "}]
[null,null,null,{"$f":"IF('Dettaglio delle attività'!C989=\"\",\" \",'Dettaglio delle attività'!C989)","v":" "},{"$f":"IF('Dettaglio delle attività'!D989=\"\",\" \",'Dettaglio delle attività'!D989)","v":" "},{"$f":"IF('Dettaglio delle attività'!E989=\"\",\" \",'Dettaglio delle attività'!E989)","v":" "}]
[null,null,null,{"$f":"IF('Dettaglio delle attività'!C990=\"\",\" \",'Dettaglio delle attività'!C990)","v":" "},{"$f":"IF('Dettaglio delle attività'!D990=\"\",\" \",'Dettaglio delle attività'!D990)","v":" "},{"$f":"IF('Dettaglio delle attività'!E990=\"\",\" \",'Dettaglio delle attività'!E990)","v":" "}]
[null,null,null,{"$f":"IF('Dettaglio delle attività'!C991=\"\",\" \",'Dettaglio delle attività'!C991)","v":" "},{"$f":"IF('Dettaglio delle attività'!D991=\"\",\" \",'Dettaglio delle attività'!D991)","v":" "},{"$f":"IF('Dettaglio delle attività'!E991=\"\",\" \",'Dettaglio delle attività'!E991)","v":" "}]
[null,null,null,{"$f":"IF('Dettaglio delle attività'!C992=\"\",\" \",'Dettaglio delle attività'!C992)","v":" "},{"$f":"IF('Dettaglio delle attività'!D992=\"\",\" \",'Dettaglio delle attività'!D992)","v":" "},{"$f":"IF('Dettaglio delle attività'!E992=\"\",\" \",'Dettaglio delle attività'!E992)","v":" "}]
[null,null,null,{"$f":"IF('Dettaglio delle attività'!C993=\"\",\" \",'Dettaglio delle attività'!C993)","v":" "},{"$f":"IF('Dettaglio delle attività'!D993=\"\",\" \",'Dettaglio delle attività'!D993)","v":" "},{"$f":"IF('Dettaglio delle attività'!E993=\"\",\" \",'Dettaglio delle attività'!E993)","v":" "}]
[null,null,null,{"$f":"IF('Dettaglio delle attività'!C994=\"\",\" \",'Dettaglio delle attività'!C994)","v":" "},{"$f":"IF('Dettaglio delle attività'!D994=\"\",\" \",'Dettaglio delle attività'!D994)","v":" "},{"$f":"IF('Dettaglio delle attività'!E994=\"\",\" \",'Dettaglio delle attività'!E994)","v":" "}]
[null,null,null,{"$f":"IF('Dettaglio delle attività'!C995=\"\",\" \",'Dettaglio delle attività'!C995)","v":" "},{"$f":"IF('Dettaglio delle attività'!D995=\"\",\" \",'Dettaglio delle attività'!D995)","v":" "},{"$f":"IF('Dettaglio delle attività'!E995=\"\",\" \",'Dettaglio delle attività'!E995)","v":" "}]
[null,null,null,{"$f":"IF('Dettaglio delle attività'!C996=\"\",\" \",'Dettaglio delle attività'!C996)","v":" "},{"$f":"IF('Dettaglio delle attività'!D996=\"\",\" \",'Dettaglio delle attività'!D996)","v":" "},{"$f":"IF('Dettaglio delle attività'!E996=\"\",\" \",'Dettaglio delle attività'!E996)","v":" "}]
[null,null,null,{"$f":"IF('Dettaglio delle attività'!C997=\"\",\" \",'Dettaglio delle attività'!C997)","v":" "},{"$f":"IF('Dettaglio delle attività'!D997=\"\",\" \",'Dettaglio delle attività'!D997)","v":" "},{"$f":"IF('Dettaglio delle attività'!E997=\"\",\" \",'Dettaglio delle attività'!E997)","v":" "}]
[null,null,null,{"$f":"IF('Dettaglio delle attività'!C998=\"\",\" \",'Dettaglio delle attività'!C998)","v":" "},{"$f":"IF('Dettaglio delle attività'!D998=\"\",\" \",'Dettaglio delle attività'!D998)","v":" "},{"$f":"IF('Dettaglio delle attività'!E998=\"\",\" \",'Dettaglio delle attività'!E998)","v":" "}]
[null,null,null,{"$f":"IF('Dettaglio delle attività'!C999=\"\",\" \",'Dettaglio delle attività'!C999)","v":" "},{"$f":"IF('Dettaglio delle attività'!D999=\"\",\" \",'Dettaglio delle attività'!D999)","v":" "},{"$f":"IF('Dettaglio delle attività'!E999=\"\",\" \",'Dettaglio delle attività'!E999)","v":" "}]
[null,null,null,{"$f":"IF('Dettaglio delle attività'!C1000=\"\",\" \",'Dettaglio delle attività'!C1000)","v":" "},{"$f":"IF('Dettaglio delle attività'!D1000=\"\",\" \",'Dettaglio delle attività'!D1000)","v":" "},{"$f":"IF('Dettaglio delle attività'!E1000=\"\",\" \",'Dettaglio delle attività'!E1000)","v":" "}]
[null,null,null,{"$f":"IF('Dettaglio delle attività'!C1001=\"\",\" \",'Dettaglio delle attività'!C1001)","v":" "},{"$f":"IF('Dettaglio delle attività'!D1001=\"\",\" \",'Dettaglio delle attività'!D1001)","v":" "},{"$f":"IF('Dettaglio delle attività'!E1001=\"\",\" \",'Dettaglio delle attività'!E1001)","v":" "}]
[null,null,null,{"$f":"IF('Dettaglio delle attività'!C1002=\"\",\" \",'Dettaglio delle attività'!C1002)","v":" "},{"$f":"IF('Dettaglio delle attività'!D1002=\"\",\" \",'Dettaglio delle attività'!D1002)","v":" "},{"$f":"IF('Dettaglio delle attività'!E1002=\"\",\" \",'Dettaglio delle attività'!E1002)","v":" "}]
[null,null,null,{"$f":"IF('Dettaglio delle attività'!C1003=\"\",\" \",'Dettaglio delle attività'!C1003)","v":" "},{"$f":"IF('Dettaglio delle attività'!D1003=\"\",\" \",'Dettaglio delle attività'!D1003)","v":" "},{"$f":"IF('Dettaglio delle attività'!E1003=\"\",\" \",'Dettaglio delle attività'!E1003)","v":" "}]
[null,null,null,{"$f":"IF('Dettaglio delle attività'!C1004=\"\",\" \",'Dettaglio delle attività'!C1004)","v":" "},{"$f":"IF('Dettaglio delle attività'!D1004=\"\",\" \",'Dettaglio delle attività'!D1004)","v":" "},{"$f":"IF('Dettaglio delle attività'!E1004=\"\",\" \",'Dettaglio delle attività'!E1004)","v":" "}]
[null,null,null,{"$f":"IF('Dettaglio delle attività'!C1005=\"\",\" \",'Dettaglio delle attività'!C1005)","v":" "},{"$f":"IF('Dettaglio delle attività'!D1005=\"\",\" \",'Dettaglio delle attività'!D1005)","v":" "},{"$f":"IF('Dettaglio delle attività'!E1005=\"\",\" \",'Dettaglio delle attività'!E1005)","v":" "}]
[null,null,null,{"$f":"IF('Dettaglio delle attività'!C1006=\"\",\" \",'Dettaglio delle attività'!C1006)","v":" "},{"$f":"IF('Dettaglio delle attività'!D1006=\"\",\" \",'Dettaglio delle attività'!D1006)","v":" "},{"$f":"IF('Dettaglio delle attività'!E1006=\"\",\" \",'Dettaglio delle attività'!E1006)","v":" "}]
[null,null,null,{"$f":"IF('Dettaglio delle attività'!C1007=\"\",\" \",'Dettaglio delle attività'!C1007)","v":" "},{"$f":"IF('Dettaglio delle attività'!D1007=\"\",\" \",'Dettaglio delle attività'!D1007)","v":" "},{"$f":"IF('Dettaglio delle attività'!E1007=\"\",\" \",'Dettaglio delle attività'!E1007)","v":" "}]
[null,null,null,{"$f":"IF('Dettaglio delle attività'!C1008=\"\",\" \",'Dettaglio delle attività'!C1008)","v":" "},{"$f":"IF('Dettaglio delle attività'!D1008=\"\",\" \",'Dettaglio delle attività'!D1008)","v":" "},{"$f":"IF('Dettaglio delle attività'!E1008=\"\",\" \",'Dettaglio delle attività'!E1008)","v":" "}]
[null,null,null,{"$f":"IF('Dettaglio delle attività'!C1009=\"\",\" \",'Dettaglio delle attività'!C1009)","v":" "},{"$f":"IF('Dettaglio delle attività'!D1009=\"\",\" \",'Dettaglio delle attività'!D1009)","v":" "},{"$f":"IF('Dettaglio delle attività'!E1009=\"\",\" \",'Dettaglio delle attività'!E1009)","v":" "}]
[null,null,null,{"$f":"IF('Dettaglio delle attività'!C1010=\"\",\" \",'Dettaglio delle attività'!C1010)","v":" "},{"$f":"IF('Dettaglio delle attività'!D1010=\"\",\" \",'Dettaglio delle attività'!D1010)","v":" "},{"$f":"IF('Dettaglio delle attività'!E1010=\"\",\" \",'Dettaglio delle attività'!E1010)","v":" "}]
[null,null,null,{"$f":"IF('Dettaglio delle attività'!C1011=\"\",\" \",'Dettaglio delle attività'!C1011)","v":" "},{"$f":"IF('Dettaglio delle attività'!D1011=\"\",\" \",'Dettaglio delle attività'!D1011)","v":" "},{"$f":"IF('Dettaglio delle attività'!E1011=\"\",\" \",'Dettaglio delle attività'!E1011)","v":" "}]
[null,null,null,{"$f":"IF('Dettaglio delle attività'!C1012=\"\",\" \",'Dettaglio delle attività'!C1012)","v":" "},{"$f":"IF('Dettaglio delle attività'!D1012=\"\",\" \",'Dettaglio delle attività'!D1012)","v":" "},{"$f":"IF('Dettaglio delle attività'!E1012=\"\",\" \",'Dettaglio delle attività'!E1012)","v":" "}]
[null,null,null,{"$f":"IF('Dettaglio delle attività'!C1013=\"\",\" \",'Dettaglio delle attività'!C1013)","v":" "},{"$f":"IF('Dettaglio delle attività'!D1013=\"\",\" \",'Dettaglio delle attività'!D1013)","v":" "},{"$f":"IF('Dettaglio delle attività'!E1013=\"\",\" \",'Dettaglio delle attività'!E1013)","v":" "}]
[null,null,null,{"$f":"IF('Dettaglio delle attività'!C1014=\"\",\" \",'Dettaglio delle attività'!C1014)","v":" "},{"$f":"IF('Dettaglio delle attività'!D1014=\"\",\" \",'Dettaglio delle attività'!D1014)","v":" "},{"$f":"IF('Dettaglio delle attività'!E1014=\"\",\" \",'Dettaglio delle attività'!E1014)","v":" "}]
[null,null,null,{"$f":"IF('Dettaglio delle attività'!C1015=\"\",\" \",'Dettaglio delle attività'!C1015)","v":" "},{"$f":"IF('Dettaglio delle attività'!D1015=\"\",\" \",'Dettaglio delle attività'!D1015)","v":" "},{"$f":"IF('Dettaglio delle attività'!E1015=\"\",\" \",'Dettaglio delle attività'!E1015)","v":" "}]
[null,null,null,{"$f":"IF('Dettaglio delle attività'!C1016=\"\",\" \",'Dettaglio delle attività'!C1016)","v":" "},{"$f":"IF('Dettaglio delle attività'!D1016=\"\",\" \",'Dettaglio delle attività'!D1016)","v":" "},{"$f":"IF('Dettaglio delle attività'!E1016=\"\",\" \",'Dettaglio delle attività'!E1016)","v":" "}]
[null,null,null,{"$f":"IF('Dettaglio delle attività'!C1017=\"\",\" \",'Dettaglio delle attività'!C1017)","v":" "},{"$f":"IF('Dettaglio delle attività'!D1017=\"\",\" \",'Dettaglio delle attività'!D1017)","v":" "},{"$f":"IF('Dettaglio delle attività'!E1017=\"\",\" \",'Dettaglio delle attività'!E1017)","v":" "}]
[null,null,null,{"$f":"IF('Dettaglio delle attività'!C1018=\"\",\" \",'Dettaglio delle attività'!C1018)","v":" "},{"$f":"IF('Dettaglio delle attività'!D1018=\"\",\" \",'Dettaglio delle attività'!D1018)","v":" "},{"$f":"IF('Dettaglio delle attività'!E1018=\"\",\" \",'Dettaglio delle attività'!E1018)","v":" "}]
[null,null,null,{"$f":"IF('Dettaglio delle attività'!C1019=\"\",\" \",'Dettaglio delle attività'!C1019)","v":" "},{"$f":"IF('Dettaglio delle attività'!D1019=\"\",\" \",'Dettaglio delle attività'!D1019)","v":" "},{"$f":"IF('Dettaglio delle attività'!E1019=\"\",\" \",'Dettaglio delle attività'!E1019)","v":" "}]
[null,null,null,{"$f":"IF('Dettaglio delle attività'!C1020=\"\",\" \",'Dettaglio delle attività'!C1020)","v":" "},{"$f":"IF('Dettaglio delle attività'!D1020=\"\",\" \",'Dettaglio delle attività'!D1020)","v":" "},{"$f":"IF('Dettaglio delle attività'!E1020=\"\",\" \",'Dettaglio delle attività'!E1020)","v":" "}]
[null,null,null,{"$f":"IF('Dettaglio delle attività'!C1021=\"\",\" \",'Dettaglio delle attività'!C1021)","v":" "},{"$f":"IF('Dettaglio delle attività'!D1021=\"\",\" \",'Dettaglio delle attività'!D1021)","v":" "},{"$f":"IF('Dettaglio delle attività'!E1021=\"\",\" \",'Dettaglio delle attività'!E1021)","v":" "}]
[null,null,null,{"$f":"IF('Dettaglio delle attività'!C1022=\"\",\" \",'Dettaglio delle attività'!C1022)","v":" "},{"$f":"IF('Dettaglio delle attività'!D1022=\"\",\" \",'Dettaglio delle attività'!D1022)","v":" "},{"$f":"IF('Dettaglio delle attività'!E1022=\"\",\" \",'Dettaglio delle attività'!E1022)","v":" "}]
[null,null,null,{"$f":"IF('Dettaglio delle attività'!C1023=\"\",\" \",'Dettaglio delle attività'!C1023)","v":" "},{"$f":"IF('Dettaglio delle attività'!D1023=\"\",\" \",'Dettaglio delle attività'!D1023)","v":" "},{"$f":"IF('Dettaglio delle attività'!E1023=\"\",\" \",'Dettaglio delle attività'!E1023)","v":" "}]
[null,null,null,{"$f":"IF('Dettaglio delle attività'!C1024=\"\",\" \",'Dettaglio delle attività'!C1024)","v":" "},{"$f":"IF('Dettaglio delle attività'!D1024=\"\",\" \",'Dettaglio delle attività'!D1024)","v":" "},{"$f":"IF('Dettaglio delle attività'!E1024=\"\",\" \",'Dettaglio delle attività'!E1024)","v":" "}]
[null,null,null,{"$f":"IF('Dettaglio delle attività'!C1025=\"\",\" \",'Dettaglio delle attività'!C1025)","v":" "},{"$f":"IF('Dettaglio delle attività'!D1025=\"\",\" \",'Dettaglio delle attività'!D1025)","v":" "},{"$f":"IF('Dettaglio delle attività'!E1025=\"\",\" \",'Dettaglio delle attività'!E1025)","v":" "}]
[null,null,null,{"$f":"IF('Dettaglio delle attività'!C1026=\"\",\" \",'Dettaglio delle attività'!C1026)","v":" "},{"$f":"IF('Dettaglio delle attività'!D1026=\"\",\" \",'Dettaglio delle attività'!D1026)","v":" "},{"$f":"IF('Dettaglio delle attività'!E1026=\"\",\" \",'Dettaglio delle attività'!E1026)","v":" "}]
[null,null,null,{"$f":"IF('Dettaglio delle attività'!C1027=\"\",\" \",'Dettaglio delle attività'!C1027)","v":" "},{"$f":"IF('Dettaglio delle attività'!D1027=\"\",\" \",'Dettaglio delle attività'!D1027)","v":" "},{"$f":"IF('Dettaglio delle attività'!E1027=\"\",\" \",'Dettaglio delle attività'!E1027)","v":" "}]
[null,null,null,{"$f":"IF('Dettaglio delle attività'!C1028=\"\",\" \",'Dettaglio delle attività'!C1028)","v":" "},{"$f":"IF('Dettaglio delle attività'!D1028=\"\",\" \",'Dettaglio delle attività'!D1028)","v":" "},{"$f":"IF('Dettaglio delle attività'!E1028=\"\",\" \",'Dettaglio delle attività'!E1028)","v":" "}]
[null,null,null,{"$f":"IF('Dettaglio delle attività'!C1029=\"\",\" \",'Dettaglio delle attività'!C1029)","v":" "},{"$f":"IF('Dettaglio delle attività'!D1029=\"\",\" \",'Dettaglio delle attività'!D1029)","v":" "},{"$f":"IF('Dettaglio delle attività'!E1029=\"\",\" \",'Dettaglio delle attività'!E1029)","v":" "}]
[null,null,null,{"$f":"IF('Dettaglio delle attività'!C1030=\"\",\" \",'Dettaglio delle attività'!C1030)","v":" "},{"$f":"IF('Dettaglio delle attività'!D1030=\"\",\" \",'Dettaglio delle attività'!D1030)","v":" "},{"$f":"IF('Dettaglio delle attività'!E1030=\"\",\" \",'Dettaglio delle attività'!E1030)","v":" "}]
[null,null,null,{"$f":"IF('Dettaglio delle attività'!C1031=\"\",\" \",'Dettaglio delle attività'!C1031)","v":" "},{"$f":"IF('Dettaglio delle attività'!D1031=\"\",\" \",'Dettaglio delle attività'!D1031)","v":" "},{"$f":"IF('Dettaglio delle attività'!E1031=\"\",\" \",'Dettaglio delle attività'!E1031)","v":" "}]
[null,null,null,{"$f":"IF('Dettaglio delle attività'!C1032=\"\",\" \",'Dettaglio delle attività'!C1032)","v":" "},{"$f":"IF('Dettaglio delle attività'!D1032=\"\",\" \",'Dettaglio delle attività'!D1032)","v":" "},{"$f":"IF('Dettaglio delle attività'!E1032=\"\",\" \",'Dettaglio delle attività'!E1032)","v":" "}]
[null,null,null,{"$f":"IF('Dettaglio delle attività'!C1033=\"\",\" \",'Dettaglio delle attività'!C1033)","v":" "},{"$f":"IF('Dettaglio delle attività'!D1033=\"\",\" \",'Dettaglio delle attività'!D1033)","v":" "},{"$f":"IF('Dettaglio delle attività'!E1033=\"\",\" \",'Dettaglio delle attività'!E1033)","v":" "}]
[null,null,null,{"$f":"IF('Dettaglio delle attività'!C1034=\"\",\" \",'Dettaglio delle attività'!C1034)","v":" "},{"$f":"IF('Dettaglio delle attività'!D1034=\"\",\" \",'Dettaglio delle attività'!D1034)","v":" "},{"$f":"IF('Dettaglio delle attività'!E1034=\"\",\" \",'Dettaglio delle attività'!E1034)","v":" "}]
[null,null,null,{"$f":"IF('Dettaglio delle attività'!C1035=\"\",\" \",'Dettaglio delle attività'!C1035)","v":" "},{"$f":"IF('Dettaglio delle attività'!D1035=\"\",\" \",'Dettaglio delle attività'!D1035)","v":" "},{"$f":"IF('Dettaglio delle attività'!E1035=\"\",\" \",'Dettaglio delle attività'!E1035)","v":" "}]
[null,null,null,{"$f":"IF('Dettaglio delle attività'!C1036=\"\",\" \",'Dettaglio delle attività'!C1036)","v":" "},{"$f":"IF('Dettaglio delle attività'!D1036=\"\",\" \",'Dettaglio delle attività'!D1036)","v":" "},{"$f":"IF('Dettaglio delle attività'!E1036=\"\",\" \",'Dettaglio delle attività'!E1036)","v":" "}]
[null,null,null,{"$f":"IF('Dettaglio delle attività'!C1037=\"\",\" \",'Dettaglio delle attività'!C1037)","v":" "},{"$f":"IF('Dettaglio delle attività'!D1037=\"\",\" \",'Dettaglio delle attività'!D1037)","v":" "},{"$f":"IF('Dettaglio delle attività'!E1037=\"\",\" \",'Dettaglio delle attività'!E1037)","v":" "}]
[null,null,null,{"$f":"IF('Dettaglio delle attività'!C1038=\"\",\" \",'Dettaglio delle attività'!C1038)","v":" "},{"$f":"IF('Dettaglio delle attività'!D1038=\"\",\" \",'Dettaglio delle attività'!D1038)","v":" "},{"$f":"IF('Dettaglio delle attività'!E1038=\"\",\" \",'Dettaglio delle attività'!E1038)","v":" "}]
[null,null,null,{"$f":"IF('Dettaglio delle attività'!C1039=\"\",\" \",'Dettaglio delle attività'!C1039)","v":" "},{"$f":"IF('Dettaglio delle attività'!D1039=\"\",\" \",'Dettaglio delle attività'!D1039)","v":" "},{"$f":"IF('Dettaglio delle attività'!E1039=\"\",\" \",'Dettaglio delle attività'!E1039)","v":" "}]
[null,null,null,{"$f":"IF('Dettaglio delle attività'!C1040=\"\",\" \",'Dettaglio delle attività'!C1040)","v":" "},{"$f":"IF('Dettaglio delle attività'!D1040=\"\",\" \",'Dettaglio delle attività'!D1040)","v":" "},{"$f":"IF('Dettaglio delle attività'!E1040=\"\",\" \",'Dettaglio delle attività'!E1040)","v":" "}]
[null,null,null,{"$f":"IF('Dettaglio delle attività'!C1041=\"\",\" \",'Dettaglio delle attività'!C1041)","v":" "},{"$f":"IF('Dettaglio delle attività'!D1041=\"\",\" \",'Dettaglio delle attività'!D1041)","v":" "},{"$f":"IF('Dettaglio delle attività'!E1041=\"\",\" \",'Dettaglio delle attività'!E1041)","v":" "}]
[null,null,null,{"$f":"IF('Dettaglio delle attività'!C1042=\"\",\" \",'Dettaglio delle attività'!C1042)","v":" "},{"$f":"IF('Dettaglio delle attività'!D1042=\"\",\" \",'Dettaglio delle attività'!D1042)","v":" "},{"$f":"IF('Dettaglio delle attività'!E1042=\"\",\" \",'Dettaglio delle attività'!E1042)","v":" "}]
[null,null,null,{"$f":"IF('Dettaglio delle attività'!C1043=\"\",\" \",'Dettaglio delle attività'!C1043)","v":" "},{"$f":"IF('Dettaglio delle attività'!D1043=\"\",\" \",'Dettaglio delle attività'!D1043)","v":" "},{"$f":"IF('Dettaglio delle attività'!E1043=\"\",\" \",'Dettaglio delle attività'!E1043)","v":" "}]
[null,null,null,{"$f":"IF('Dettaglio delle attività'!C1044=\"\",\" \",'Dettaglio delle attività'!C1044)","v":" "},{"$f":"IF('Dettaglio delle attività'!D1044=\"\",\" \",'Dettaglio delle attività'!D1044)","v":" "},{"$f":"IF('Dettaglio delle attività'!E1044=\"\",\" \",'Dettaglio delle attività'!E1044)","v":" "}]
[null,null,null,{"$f":"IF('Dettaglio delle attività'!C1045=\"\",\" \",'Dettaglio delle attività'!C1045)","v":" "},{"$f":"IF('Dettaglio delle attività'!D1045=\"\",\" \",'Dettaglio delle attività'!D1045)","v":" "},{"$f":"IF('Dettaglio delle attività'!E1045=\"\",\" \",'Dettaglio delle attività'!E1045)","v":" "}]
[null,null,null,{"$f":"IF('Dettaglio delle attività'!C1046=\"\",\" \",'Dettaglio delle attività'!C1046)","v":" "},{"$f":"IF('Dettaglio delle attività'!D1046=\"\",\" \",'Dettaglio delle attività'!D1046)","v":" "},{"$f":"IF('Dettaglio delle attività'!E1046=\"\",\" \",'Dettaglio delle attività'!E1046)","v":" "}]
[null,null,null,{"$f":"IF('Dettaglio delle attività'!C1047=\"\",\" \",'Dettaglio delle attività'!C1047)","v":" "},{"$f":"IF('Dettaglio delle attività'!D1047=\"\",\" \",'Dettaglio delle attività'!D1047)","v":" "},{"$f":"IF('Dettaglio delle attività'!E1047=\"\",\" \",'Dettaglio delle attività'!E1047)","v":" "}]
[null,null,null,{"$f":"IF('Dettaglio delle attività'!C1048=\"\",\" \",'Dettaglio delle attività'!C1048)","v":" "},{"$f":"IF('Dettaglio delle attività'!D1048=\"\",\" \",'Dettaglio delle attività'!D1048)","v":" "},{"$f":"IF('Dettaglio delle attività'!E1048=\"\",\" \",'Dettaglio delle attività'!E1048)","v":" "}]
[null,null,null,{"$f":"IF('Dettaglio delle attività'!C1049=\"\",\" \",'Dettaglio delle attività'!C1049)","v":" "},{"$f":"IF('Dettaglio delle attività'!D1049=\"\",\" \",'Dettaglio delle attività'!D1049)","v":" "},{"$f":"IF('Dettaglio delle attività'!E1049=\"\",\" \",'Dettaglio delle attività'!E1049)","v":" "}]
[null,null,null,{"$f":"IF('Dettaglio delle attività'!C1050=\"\",\" \",'Dettaglio delle attività'!C1050)","v":" "},{"$f":"IF('Dettaglio delle attività'!D1050=\"\",\" \",'Dettaglio delle attività'!D1050)","v":" "},{"$f":"IF('Dettaglio delle attività'!E1050=\"\",\" \",'Dettaglio delle attività'!E1050)","v":" "}]
[null,null,null,{"$f":"IF('Dettaglio delle attività'!C1051=\"\",\" \",'Dettaglio delle attività'!C1051)","v":" "},{"$f":"IF('Dettaglio delle attività'!D1051=\"\",\" \",'Dettaglio delle attività'!D1051)","v":" "},{"$f":"IF('Dettaglio delle attività'!E1051=\"\",\" \",'Dettaglio delle attività'!E1051)","v":" "}]
[null,null,null,{"$f":"IF('Dettaglio delle attività'!C1052=\"\",\" \",'Dettaglio delle attività'!C1052)","v":" "},{"$f":"IF('Dettaglio delle attività'!D1052=\"\",\" \",'Dettaglio delle attività'!D1052)","v":" "},{"$f":"IF('Dettaglio delle attività'!E1052=\"\",\" \",'Dettaglio delle attività'!E1052)","v":" "}]
[null,null,null,{"$f":"IF('Dettaglio delle attività'!C1053=\"\",\" \",'Dettaglio delle attività'!C1053)","v":" "},{"$f":"IF('Dettaglio delle attività'!D1053=\"\",\" \",'Dettaglio delle attività'!D1053)","v":" "},{"$f":"IF('Dettaglio delle attività'!E1053=\"\",\" \",'Dettaglio delle attività'!E1053)","v":" "}]
[null,null,null,{"$f":"IF('Dettaglio delle attività'!C1054=\"\",\" \",'Dettaglio delle attività'!C1054)","v":" "},{"$f":"IF('Dettaglio delle attività'!D1054=\"\",\" \",'Dettaglio delle attività'!D1054)","v":" "},{"$f":"IF('Dettaglio delle attività'!E1054=\"\",\" \",'Dettaglio delle attività'!E1054)","v":" "}]
[null,null,null,{"$f":"IF('Dettaglio delle attività'!C1055=\"\",\" \",'Dettaglio delle attività'!C1055)","v":" "},{"$f":"IF('Dettaglio delle attività'!D1055=\"\",\" \",'Dettaglio delle attività'!D1055)","v":" "},{"$f":"IF('Dettaglio delle attività'!E1055=\"\",\" \",'Dettaglio delle attività'!E1055)","v":" "}]
[null,null,null,{"$f":"IF('Dettaglio delle attività'!C1056=\"\",\" \",'Dettaglio delle attività'!C1056)","v":" "},{"$f":"IF('Dettaglio delle attività'!D1056=\"\",\" \",'Dettaglio delle attività'!D1056)","v":" "},{"$f":"IF('Dettaglio delle attività'!E1056=\"\",\" \",'Dettaglio delle attività'!E1056)","v":" "}]
[null,null,null,{"$f":"IF('Dettaglio delle attività'!C1057=\"\",\" \",'Dettaglio delle attività'!C1057)","v":" "},{"$f":"IF('Dettaglio delle attività'!D1057=\"\",\" \",'Dettaglio delle attività'!D1057)","v":" "},{"$f":"IF('Dettaglio delle attività'!E1057=\"\",\" \",'Dettaglio delle attività'!E1057)","v":" "}]
[null,null,null,{"$f":"IF('Dettaglio delle attività'!C1058=\"\",\" \",'Dettaglio delle attività'!C1058)","v":" "},{"$f":"IF('Dettaglio delle attività'!D1058=\"\",\" \",'Dettaglio delle attività'!D1058)","v":" "},{"$f":"IF('Dettaglio delle attività'!E1058=\"\",\" \",'Dettaglio delle attività'!E1058)","v":" "}]
[null,null,null,{"$f":"IF('Dettaglio delle attività'!C1059=\"\",\" \",'Dettaglio delle attività'!C1059)","v":" "},{"$f":"IF('Dettaglio delle attività'!D1059=\"\",\" \",'Dettaglio delle attività'!D1059)","v":" "},{"$f":"IF('Dettaglio delle attività'!E1059=\"\",\" \",'Dettaglio delle attività'!E1059)","v":" "}]
[null,null,null,{"$f":"IF('Dettaglio delle attività'!C1060=\"\",\" \",'Dettaglio delle attività'!C1060)","v":" "},{"$f":"IF('Dettaglio delle attività'!D1060=\"\",\" \",'Dettaglio delle attività'!D1060)","v":" "},{"$f":"IF('Dettaglio delle attività'!E1060=\"\",\" \",'Dettaglio delle attività'!E1060)","v":" "}]
[null,null,null,{"$f":"IF('Dettaglio delle attività'!C1061=\"\",\" \",'Dettaglio delle attività'!C1061)","v":" "},{"$f":"IF('Dettaglio delle attività'!D1061=\"\",\" \",'Dettaglio delle attività'!D1061)","v":" "},{"$f":"IF('Dettaglio delle attività'!E1061=\"\",\" \",'Dettaglio delle attività'!E1061)","v":" "}]
[null,null,null,{"$f":"IF('Dettaglio delle attività'!C1062=\"\",\" \",'Dettaglio delle attività'!C1062)","v":" "},{"$f":"IF('Dettaglio delle attività'!D1062=\"\",\" \",'Dettaglio delle attività'!D1062)","v":" "},{"$f":"IF('Dettaglio delle attività'!E1062=\"\",\" \",'Dettaglio delle attività'!E1062)","v":" "}]
[null,null,null,{"$f":"IF('Dettaglio delle attività'!C1063=\"\",\" \",'Dettaglio delle attività'!C1063)","v":" "},{"$f":"IF('Dettaglio delle attività'!D1063=\"\",\" \",'Dettaglio delle attività'!D1063)","v":" "},{"$f":"IF('Dettaglio delle attività'!E1063=\"\",\" \",'Dettaglio delle attività'!E1063)","v":" "}]
[null,null,null,{"$f":"IF('Dettaglio delle attività'!C1064=\"\",\" \",'Dettaglio delle attività'!C1064)","v":" "},{"$f":"IF('Dettaglio delle attività'!D1064=\"\",\" \",'Dettaglio delle attività'!D1064)","v":" "},{"$f":"IF('Dettaglio delle attività'!E1064=\"\",\" \",'Dettaglio delle attività'!E1064)","v":" "}]
[null,null,null,{"$f":"IF('Dettaglio delle attività'!C1065=\"\",\" \",'Dettaglio delle attività'!C1065)","v":" "},{"$f":"IF('Dettaglio delle attività'!D1065=\"\",\" \",'Dettaglio delle attività'!D1065)","v":" "},{"$f":"IF('Dettaglio delle attività'!E1065=\"\",\" \",'Dettaglio delle attività'!E1065)","v":" "}]
[null,null,null,{"$f":"IF('Dettaglio delle attività'!C1066=\"\",\" \",'Dettaglio delle attività'!C1066)","v":" "},{"$f":"IF('Dettaglio delle attività'!D1066=\"\",\" \",'Dettaglio delle attività'!D1066)","v":" "},{"$f":"IF('Dettaglio delle attività'!E1066=\"\",\" \",'Dettaglio delle attività'!E1066)","v":" "}]
[null,null,null,{"$f":"IF('Dettaglio delle attività'!C1067=\"\",\" \",'Dettaglio delle attività'!C1067)","v":" "},{"$f":"IF('Dettaglio delle attività'!D1067=\"\",\" \",'Dettaglio delle attività'!D1067)","v":" "},{"$f":"IF('Dettaglio delle attività'!E1067=\"\",\" \",'Dettaglio delle attività'!E1067)","v":" "}]
[null,null,null,{"$f":"IF('Dettaglio delle attività'!C1068=\"\",\" \",'Dettaglio delle attività'!C1068)","v":" "},{"$f":"IF('Dettaglio delle attività'!D1068=\"\",\" \",'Dettaglio delle attività'!D1068)","v":" "},{"$f":"IF('Dettaglio delle attività'!E1068=\"\",\" \",'Dettaglio delle attività'!E1068)","v":" "}]
[null,null,null,{"$f":"IF('Dettaglio delle attività'!C1069=\"\",\" \",'Dettaglio delle attività'!C1069)","v":" "},{"$f":"IF('Dettaglio delle attività'!D1069=\"\",\" \",'Dettaglio delle attività'!D1069)","v":" "},{"$f":"IF('Dettaglio delle attività'!E1069=\"\",\" \",'Dettaglio delle attività'!E1069)","v":" "}]
[null,null,null,{"$f":"IF('Dettaglio delle attività'!C1070=\"\",\" \",'Dettaglio delle attività'!C1070)","v":" "},{"$f":"IF('Dettaglio delle attività'!D1070=\"\",\" \",'Dettaglio delle attività'!D1070)","v":" "},{"$f":"IF('Dettaglio delle attività'!E1070=\"\",\" \",'Dettaglio delle attività'!E1070)","v":" "}]
[null,null,null,{"$f":"IF('Dettaglio delle attività'!C1071=\"\",\" \",'Dettaglio delle attività'!C1071)","v":" "},{"$f":"IF('Dettaglio delle attività'!D1071=\"\",\" \",'Dettaglio delle attività'!D1071)","v":" "},{"$f":"IF('Dettaglio delle attività'!E1071=\"\",\" \",'Dettaglio delle attività'!E1071)","v":" "}]
[null,null,null,{"$f":"IF('Dettaglio delle attività'!C1072=\"\",\" \",'Dettaglio delle attività'!C1072)","v":" "},{"$f":"IF('Dettaglio delle attività'!D1072=\"\",\" \",'Dettaglio delle attività'!D1072)","v":" "},{"$f":"IF('Dettaglio delle attività'!E1072=\"\",\" \",'Dettaglio delle attività'!E1072)","v":" "}]
[null,null,null,{"$f":"IF('Dettaglio delle attività'!C1073=\"\",\" \",'Dettaglio delle attività'!C1073)","v":" "},{"$f":"IF('Dettaglio delle attività'!D1073=\"\",\" \",'Dettaglio delle attività'!D1073)","v":" "},{"$f":"IF('Dettaglio delle attività'!E1073=\"\",\" \",'Dettaglio delle attività'!E1073)","v":" "}]
[null,null,null,{"$f":"IF('Dettaglio delle attività'!C1074=\"\",\" \",'Dettaglio delle attività'!C1074)","v":" "},{"$f":"IF('Dettaglio delle attività'!D1074=\"\",\" \",'Dettaglio delle attività'!D1074)","v":" "},{"$f":"IF('Dettaglio delle attività'!E1074=\"\",\" \",'Dettaglio delle attività'!E1074)","v":" "}]
[null,null,null,{"$f":"IF('Dettaglio delle attività'!C1075=\"\",\" \",'Dettaglio delle attività'!C1075)","v":" "},{"$f":"IF('Dettaglio delle attività'!D1075=\"\",\" \",'Dettaglio delle attività'!D1075)","v":" "},{"$f":"IF('Dettaglio delle attività'!E1075=\"\",\" \",'Dettaglio delle attività'!E1075)","v":" "}]
[null,null,null,{"$f":"IF('Dettaglio delle attività'!C1076=\"\",\" \",'Dettaglio delle attività'!C1076)","v":" "},{"$f":"IF('Dettaglio delle attività'!D1076=\"\",\" \",'Dettaglio delle attività'!D1076)","v":" "},{"$f":"IF('Dettaglio delle attività'!E1076=\"\",\" \",'Dettaglio delle attività'!E1076)","v":" "}]
[null,null,null,{"$f":"IF('Dettaglio delle attività'!C1077=\"\",\" \",'Dettaglio delle attività'!C1077)","v":" "},{"$f":"IF('Dettaglio delle attività'!D1077=\"\",\" \",'Dettaglio delle attività'!D1077)","v":" "},{"$f":"IF('Dettaglio delle attività'!E1077=\"\",\" \",'Dettaglio delle attività'!E1077)","v":" "}]
[null,null,null,{"$f":"IF('Dettaglio delle attività'!C1078=\"\",\" \",'Dettaglio delle attività'!C1078)","v":" "},{"$f":"IF('Dettaglio delle attività'!D1078=\"\",\" \",'Dettaglio delle attività'!D1078)","v":" "},{"$f":"IF('Dettaglio delle attività'!E1078=\"\",\" \",'Dettaglio delle attività'!E1078)","v":" "}]
[null,null,null,{"$f":"IF('Dettaglio delle attività'!C1079=\"\",\" \",'Dettaglio delle attività'!C1079)","v":" "},{"$f":"IF('Dettaglio delle attività'!D1079=\"\",\" \",'Dettaglio delle attività'!D1079)","v":" "},{"$f":"IF('Dettaglio delle attività'!E1079=\"\",\" \",'Dettaglio delle attività'!E1079)","v":" "}]
[null,null,null,{"$f":"IF('Dettaglio delle attività'!C1080=\"\",\" \",'Dettaglio delle attività'!C1080)","v":" "},{"$f":"IF('Dettaglio delle attività'!D1080=\"\",\" \",'Dettaglio delle attività'!D1080)","v":" "},{"$f":"IF('Dettaglio delle attività'!E1080=\"\",\" \",'Dettaglio delle attività'!E1080)","v":" "}]
[null,null,null,{"$f":"IF('Dettaglio delle attività'!C1081=\"\",\" \",'Dettaglio delle attività'!C1081)","v":" "},{"$f":"IF('Dettaglio delle attività'!D1081=\"\",\" \",'Dettaglio delle attività'!D1081)","v":" "},{"$f":"IF('Dettaglio delle attività'!E1081=\"\",\" \",'Dettaglio delle attività'!E1081)","v":" "}]
[null,null,null,{"$f":"IF('Dettaglio delle attività'!C1082=\"\",\" \",'Dettaglio delle attività'!C1082)","v":" "},{"$f":"IF('Dettaglio delle attività'!D1082=\"\",\" \",'Dettaglio delle attività'!D1082)","v":" "},{"$f":"IF('Dettaglio delle attività'!E1082=\"\",\" \",'Dettaglio delle attività'!E1082)","v":" "}]
[null,null,null,{"$f":"IF('Dettaglio delle attività'!C1083=\"\",\" \",'Dettaglio delle attività'!C1083)","v":" "},{"$f":"IF('Dettaglio delle attività'!D1083=\"\",\" \",'Dettaglio delle attività'!D1083)","v":" "},{"$f":"IF('Dettaglio delle attività'!E1083=\"\",\" \",'Dettaglio delle attività'!E1083)","v":" "}]
[null,null,null,{"$f":"IF('Dettaglio delle attività'!C1084=\"\",\" \",'Dettaglio delle attività'!C1084)","v":" "},{"$f":"IF('Dettaglio delle attività'!D1084=\"\",\" \",'Dettaglio delle attività'!D1084)","v":" "},{"$f":"IF('Dettaglio delle attività'!E1084=\"\",\" \",'Dettaglio delle attività'!E1084)","v":" "}]
[null,null,null,{"$f":"IF('Dettaglio delle attività'!C1085=\"\",\" \",'Dettaglio delle attività'!C1085)","v":" "},{"$f":"IF('Dettaglio delle attività'!D1085=\"\",\" \",'Dettaglio delle attività'!D1085)","v":" "},{"$f":"IF('Dettaglio delle attività'!E1085=\"\",\" \",'Dettaglio delle attività'!E1085)","v":" "}]
[null,null,null,{"$f":"IF('Dettaglio delle attività'!C1086=\"\",\" \",'Dettaglio delle attività'!C1086)","v":" "},{"$f":"IF('Dettaglio delle attività'!D1086=\"\",\" \",'Dettaglio delle attività'!D1086)","v":" "},{"$f":"IF('Dettaglio delle attività'!E1086=\"\",\" \",'Dettaglio delle attività'!E1086)","v":" "}]
[null,null,null,{"$f":"IF('Dettaglio delle attività'!C1087=\"\",\" \",'Dettaglio delle attività'!C1087)","v":" "},{"$f":"IF('Dettaglio delle attività'!D1087=\"\",\" \",'Dettaglio delle attività'!D1087)","v":" "},{"$f":"IF('Dettaglio delle attività'!E1087=\"\",\" \",'Dettaglio delle attività'!E1087)","v":" "}]
[null,null,null,{"$f":"IF('Dettaglio delle attività'!C1088=\"\",\" \",'Dettaglio delle attività'!C1088)","v":" "},{"$f":"IF('Dettaglio delle attività'!D1088=\"\",\" \",'Dettaglio delle attività'!D1088)","v":" "},{"$f":"IF('Dettaglio delle attività'!E1088=\"\",\" \",'Dettaglio delle attività'!E1088)","v":" "}]
[null,null,null,{"$f":"IF('Dettaglio delle attività'!C1089=\"\",\" \",'Dettaglio delle attività'!C1089)","v":" "},{"$f":"IF('Dettaglio delle attività'!D1089=\"\",\" \",'Dettaglio delle attività'!D1089)","v":" "},{"$f":"IF('Dettaglio delle attività'!E1089=\"\",\" \",'Dettaglio delle attività'!E1089)","v":" "}]
[null,null,null,{"$f":"IF('Dettaglio delle attività'!C1090=\"\",\" \",'Dettaglio delle attività'!C1090)","v":" "},{"$f":"IF('Dettaglio delle attività'!D1090=\"\",\" \",'Dettaglio delle attività'!D1090)","v":" "},{"$f":"IF('Dettaglio delle attività'!E1090=\"\",\" \",'Dettaglio delle attività'!E1090)","v":" "}]
[null,null,null,{"$f":"IF('Dettaglio delle attività'!C1091=\"\",\" \",'Dettaglio delle attività'!C1091)","v":" "},{"$f":"IF('Dettaglio delle attività'!D1091=\"\",\" \",'Dettaglio delle attività'!D1091)","v":" "},{"$f":"IF('Dettaglio delle attività'!E1091=\"\",\" \",'Dettaglio delle attività'!E1091)","v":" "}]
[null,null,null,{"$f":"IF('Dettaglio delle attività'!C1092=\"\",\" \",'Dettaglio delle attività'!C1092)","v":" "},{"$f":"IF('Dettaglio delle attività'!D1092=\"\",\" \",'Dettaglio delle attività'!D1092)","v":" "},{"$f":"IF('Dettaglio delle attività'!E1092=\"\",\" \",'Dettaglio delle attività'!E1092)","v":" "}]
[null,null,null,{"$f":"IF('Dettaglio delle attività'!C1093=\"\",\" \",'Dettaglio delle attività'!C1093)","v":" "},{"$f":"IF('Dettaglio delle attività'!D1093=\"\",\" \",'Dettaglio delle attività'!D1093)","v":" "},{"$f":"IF('Dettaglio delle attività'!E1093=\"\",\" \",'Dettaglio delle attività'!E1093)","v":" "}]
[null,null,null,{"$f":"IF('Dettaglio delle attività'!C1094=\"\",\" \",'Dettaglio delle attività'!C1094)","v":" "},{"$f":"IF('Dettaglio delle attività'!D1094=\"\",\" \",'Dettaglio delle attività'!D1094)","v":" "},{"$f":"IF('Dettaglio delle attività'!E1094=\"\",\" \",'Dettaglio delle attività'!E1094)","v":" "}]
[null,null,null,{"$f":"IF('Dettaglio delle attività'!C1095=\"\",\" \",'Dettaglio delle attività'!C1095)","v":" "},{"$f":"IF('Dettaglio delle attività'!D1095=\"\",\" \",'Dettaglio delle attività'!D1095)","v":" "},{"$f":"IF('Dettaglio delle attività'!E1095=\"\",\" \",'Dettaglio delle attività'!E1095)","v":" "}]
[null,null,null,{"$f":"IF('Dettaglio delle attività'!C1096=\"\",\" \",'Dettaglio delle attività'!C1096)","v":" "},{"$f":"IF('Dettaglio delle attività'!D1096=\"\",\" \",'Dettaglio delle attività'!D1096)","v":" "},{"$f":"IF('Dettaglio delle attività'!E1096=\"\",\" \",'Dettaglio delle attività'!E1096)","v":" "}]
[null,null,null,{"$f":"IF('Dettaglio delle attività'!C1097=\"\",\" \",'Dettaglio delle attività'!C1097)","v":" "},{"$f":"IF('Dettaglio delle attività'!D1097=\"\",\" \",'Dettaglio delle attività'!D1097)","v":" "},{"$f":"IF('Dettaglio delle attività'!E1097=\"\",\" \",'Dettaglio delle attività'!E1097)","v":" "}]
[null,null,null,{"$f":"IF('Dettaglio delle attività'!C1098=\"\",\" \",'Dettaglio delle attività'!C1098)","v":" "},{"$f":"IF('Dettaglio delle attività'!D1098=\"\",\" \",'Dettaglio delle attività'!D1098)","v":" "},{"$f":"IF('Dettaglio delle attività'!E1098=\"\",\" \",'Dettaglio delle attività'!E1098)","v":" "}]
[null,null,null,{"$f":"IF('Dettaglio delle attività'!C1099=\"\",\" \",'Dettaglio delle attività'!C1099)","v":" "},{"$f":"IF('Dettaglio delle attività'!D1099=\"\",\" \",'Dettaglio delle attività'!D1099)","v":" "},{"$f":"IF('Dettaglio delle attività'!E1099=\"\",\" \",'Dettaglio delle attività'!E1099)","v":" "}]
[null,null,null,{"$f":"IF('Dettaglio delle attività'!C1100=\"\",\" \",'Dettaglio delle attività'!C1100)","v":" "},{"$f":"IF('Dettaglio delle attività'!D1100=\"\",\" \",'Dettaglio delle attività'!D1100)","v":" "},{"$f":"IF('Dettaglio delle attività'!E1100=\"\",\" \",'Dettaglio delle attività'!E1100)","v":" "}]
[null,null,null,{"$f":"IF('Dettaglio delle attività'!C1101=\"\",\" \",'Dettaglio delle attività'!C1101)","v":" "},{"$f":"IF('Dettaglio delle attività'!D1101=\"\",\" \",'Dettaglio delle attività'!D1101)","v":" "},{"$f":"IF('Dettaglio delle attività'!E1101=\"\",\" \",'Dettaglio delle attività'!E1101)","v":" "}]
[null,null,null,{"$f":"IF('Dettaglio delle attività'!C1102=\"\",\" \",'Dettaglio delle attività'!C1102)","v":" "},{"$f":"IF('Dettaglio delle attività'!D1102=\"\",\" \",'Dettaglio delle attività'!D1102)","v":" "},{"$f":"IF('Dettaglio delle attività'!E1102=\"\",\" \",'Dettaglio delle attività'!E1102)","v":" "}]
[null,null,null,{"$f":"IF('Dettaglio delle attività'!C1103=\"\",\" \",'Dettaglio delle attività'!C1103)","v":" "},{"$f":"IF('Dettaglio delle attività'!D1103=\"\",\" \",'Dettaglio delle attività'!D1103)","v":" "},{"$f":"IF('Dettaglio delle attività'!E1103=\"\",\" \",'Dettaglio delle attività'!E1103)","v":" "}]
[null,null,null,{"$f":"IF('Dettaglio delle attività'!C1104=\"\",\" \",'Dettaglio delle attività'!C1104)","v":" "},{"$f":"IF('Dettaglio delle attività'!D1104=\"\",\" \",'Dettaglio delle attività'!D1104)","v":" "},{"$f":"IF('Dettaglio delle attività'!E1104=\"\",\" \",'Dettaglio delle attività'!E1104)","v":" "}]
[null,null,null,{"$f":"IF('Dettaglio delle attività'!C1105=\"\",\" \",'Dettaglio delle attività'!C1105)","v":" "},{"$f":"IF('Dettaglio delle attività'!D1105=\"\",\" \",'Dettaglio delle attività'!D1105)","v":" "},{"$f":"IF('Dettaglio delle attività'!E1105=\"\",\" \",'Dettaglio delle attività'!E1105)","v":" "}]
[null,null,null,{"$f":"IF('Dettaglio delle attività'!C1106=\"\",\" \",'Dettaglio delle attività'!C1106)","v":" "},{"$f":"IF('Dettaglio delle attività'!D1106=\"\",\" \",'Dettaglio delle attività'!D1106)","v":" "},{"$f":"IF('Dettaglio delle attività'!E1106=\"\",\" \",'Dettaglio delle attività'!E1106)","v":" "}]
[null,null,null,{"$f":"IF('Dettaglio delle attività'!C1107=\"\",\" \",'Dettaglio delle attività'!C1107)","v":" "},{"$f":"IF('Dettaglio delle attività'!D1107=\"\",\" \",'Dettaglio delle attività'!D1107)","v":" "},{"$f":"IF('Dettaglio delle attività'!E1107=\"\",\" \",'Dettaglio delle attività'!E1107)","v":" "}]
[null,null,null,{"$f":"IF('Dettaglio delle attività'!C1108=\"\",\" \",'Dettaglio delle attività'!C1108)","v":" "},{"$f":"IF('Dettaglio delle attività'!D1108=\"\",\" \",'Dettaglio delle attività'!D1108)","v":" "},{"$f":"IF('Dettaglio delle attività'!E1108=\"\",\" \",'Dettaglio delle attività'!E1108)","v":" "}]
[null,null,null,{"$f":"IF('Dettaglio delle attività'!C1109=\"\",\" \",'Dettaglio delle attività'!C1109)","v":" "},{"$f":"IF('Dettaglio delle attività'!D1109=\"\",\" \",'Dettaglio delle attività'!D1109)","v":" "},{"$f":"IF('Dettaglio delle attività'!E1109=\"\",\" \",'Dettaglio delle attività'!E1109)","v":" "}]
[null,null,null,{"$f":"IF('Dettaglio delle attività'!C1110=\"\",\" \",'Dettaglio delle attività'!C1110)","v":" "},{"$f":"IF('Dettaglio delle attività'!D1110=\"\",\" \",'Dettaglio delle attività'!D1110)","v":" "},{"$f":"IF('Dettaglio delle attività'!E1110=\"\",\" \",'Dettaglio delle attività'!E1110)","v":" "}]
[null,null,null,{"$f":"IF('Dettaglio delle attività'!C1111=\"\",\" \",'Dettaglio delle attività'!C1111)","v":" "},{"$f":"IF('Dettaglio delle attività'!D1111=\"\",\" \",'Dettaglio delle attività'!D1111)","v":" "},{"$f":"IF('Dettaglio delle attività'!E1111=\"\",\" \",'Dettaglio delle attività'!E1111)","v":" "}]
[null,null,null,{"$f":"IF('Dettaglio delle attività'!C1112=\"\",\" \",'Dettaglio delle attività'!C1112)","v":" "},{"$f":"IF('Dettaglio delle attività'!D1112=\"\",\" \",'Dettaglio delle attività'!D1112)","v":" "},{"$f":"IF('Dettaglio delle attività'!E1112=\"\",\" \",'Dettaglio delle attività'!E1112)","v":" "}]
[null,null,null,{"$f":"IF('Dettaglio delle attività'!C1113=\"\",\" \",'Dettaglio delle attività'!C1113)","v":" "},{"$f":"IF('Dettaglio delle attività'!D1113=\"\",\" \",'Dettaglio delle attività'!D1113)","v":" "},{"$f":"IF('Dettaglio delle attività'!E1113=\"\",\" \",'Dettaglio delle attività'!E1113)","v":" "}]
[null,null,null,{"$f":"IF('Dettaglio delle attività'!C1114=\"\",\" \",'Dettaglio delle attività'!C1114)","v":" "},{"$f":"IF('Dettaglio delle attività'!D1114=\"\",\" \",'Dettaglio delle attività'!D1114)","v":" "},{"$f":"IF('Dettaglio delle attività'!E1114=\"\",\" \",'Dettaglio delle attività'!E1114)","v":" "}]
[null,null,null,{"$f":"IF('Dettaglio delle attività'!C1115=\"\",\" \",'Dettaglio delle attività'!C1115)","v":" "},{"$f":"IF('Dettaglio delle attività'!D1115=\"\",\" \",'Dettaglio delle attività'!D1115)","v":" "},{"$f":"IF('Dettaglio delle attività'!E1115=\"\",\" \",'Dettaglio delle attività'!E1115)","v":" "}]
[null,null,null,{"$f":"IF('Dettaglio delle attività'!C1116=\"\",\" \",'Dettaglio delle attività'!C1116)","v":" "},{"$f":"IF('Dettaglio delle attività'!D1116=\"\",\" \",'Dettaglio delle attività'!D1116)","v":" "},{"$f":"IF('Dettaglio delle attività'!E1116=\"\",\" \",'Dettaglio delle attività'!E1116)","v":" "}]
[null,null,null,{"$f":"IF('Dettaglio delle attività'!C1117=\"\",\" \",'Dettaglio delle attività'!C1117)","v":" "},{"$f":"IF('Dettaglio delle attività'!D1117=\"\",\" \",'Dettaglio delle attività'!D1117)","v":" "},{"$f":"IF('Dettaglio delle attività'!E1117=\"\",\" \",'Dettaglio delle attività'!E1117)","v":" "}]
[null,null,null,{"$f":"IF('Dettaglio delle attività'!C1118=\"\",\" \",'Dettaglio delle attività'!C1118)","v":" "},{"$f":"IF('Dettaglio delle attività'!D1118=\"\",\" \",'Dettaglio delle attività'!D1118)","v":" "},{"$f":"IF('Dettaglio delle attività'!E1118=\"\",\" \",'Dettaglio delle attività'!E1118)","v":" "}]
[null,null,null,{"$f":"IF('Dettaglio delle attività'!C1119=\"\",\" \",'Dettaglio delle attività'!C1119)","v":" "},{"$f":"IF('Dettaglio delle attività'!D1119=\"\",\" \",'Dettaglio delle attività'!D1119)","v":" "},{"$f":"IF('Dettaglio delle attività'!E1119=\"\",\" \",'Dettaglio delle attività'!E1119)","v":" "}]
[null,null,null,{"$f":"IF('Dettaglio delle attività'!C1120=\"\",\" \",'Dettaglio delle attività'!C1120)","v":" "},{"$f":"IF('Dettaglio delle attività'!D1120=\"\",\" \",'Dettaglio delle attività'!D1120)","v":" "},{"$f":"IF('Dettaglio delle attività'!E1120=\"\",\" \",'Dettaglio delle attività'!E1120)","v":" "}]
[null,null,null,{"$f":"IF('Dettaglio delle attività'!C1121=\"\",\" \",'Dettaglio delle attività'!C1121)","v":" "},{"$f":"IF('Dettaglio delle attività'!D1121=\"\",\" \",'Dettaglio delle attività'!D1121)","v":" "},{"$f":"IF('Dettaglio delle attività'!E1121=\"\",\" \",'Dettaglio delle attività'!E1121)","v":" "}]
[null,null,null,{"$f":"IF('Dettaglio delle attività'!C1122=\"\",\" \",'Dettaglio delle attività'!C1122)","v":" "},{"$f":"IF('Dettaglio delle attività'!D1122=\"\",\" \",'Dettaglio delle attività'!D1122)","v":" "},{"$f":"IF('Dettaglio delle attività'!E1122=\"\",\" \",'Dettaglio delle attività'!E1122)","v":" "}]
[null,null,null,{"$f":"IF('Dettaglio delle attività'!C1123=\"\",\" \",'Dettaglio delle attività'!C1123)","v":" "},{"$f":"IF('Dettaglio delle attività'!D1123=\"\",\" \",'Dettaglio delle attività'!D1123)","v":" "},{"$f":"IF('Dettaglio delle attività'!E1123=\"\",\" \",'Dettaglio delle attività'!E1123)","v":" "}]
[null,null,null,{"$f":"IF('Dettaglio delle attività'!C1124=\"\",\" \",'Dettaglio delle attività'!C1124)","v":" "},{"$f":"IF('Dettaglio delle attività'!D1124=\"\",\" \",'Dettaglio delle attività'!D1124)","v":" "},{"$f":"IF('Dettaglio delle attività'!E1124=\"\",\" \",'Dettaglio delle attività'!E1124)","v":" "}]
[null,null,null,{"$f":"IF('Dettaglio delle attività'!C1125=\"\",\" \",'Dettaglio delle attività'!C1125)","v":" "},{"$f":"IF('Dettaglio delle attività'!D1125=\"\",\" \",'Dettaglio delle attività'!D1125)","v":" "},{"$f":"IF('Dettaglio delle attività'!E1125=\"\",\" \",'Dettaglio delle attività'!E1125)","v":" "}]
[null,null,null,{"$f":"IF('Dettaglio delle attività'!C1126=\"\",\" \",'Dettaglio delle attività'!C1126)","v":" "},{"$f":"IF('Dettaglio delle attività'!D1126=\"\",\" \",'Dettaglio delle attività'!D1126)","v":" "},{"$f":"IF('Dettaglio delle attività'!E1126=\"\",\" \",'Dettaglio delle attività'!E1126)","v":" "}]
[null,null,null,{"$f":"IF('Dettaglio delle attività'!C1127=\"\",\" \",'Dettaglio delle attività'!C1127)","v":" "},{"$f":"IF('Dettaglio delle attività'!D1127=\"\",\" \",'Dettaglio delle attività'!D1127)","v":" "},{"$f":"IF('Dettaglio delle attività'!E1127=\"\",\" \",'Dettaglio delle attività'!E1127)","v":" "}]
[null,null,null,{"$f":"IF('Dettaglio delle attività'!C1128=\"\",\" \",'Dettaglio delle attività'!C1128)","v":" "},{"$f":"IF('Dettaglio delle attività'!D1128=\"\",\" \",'Dettaglio delle attività'!D1128)","v":" "},{"$f":"IF('Dettaglio delle attività'!E1128=\"\",\" \",'Dettaglio delle attività'!E1128)","v":" "}]
[null,null,null,{"$f":"IF('Dettaglio delle attività'!C1129=\"\",\" \",'Dettaglio delle attività'!C1129)","v":" "},{"$f":"IF('Dettaglio delle attività'!D1129=\"\",\" \",'Dettaglio delle attività'!D1129)","v":" "},{"$f":"IF('Dettaglio delle attività'!E1129=\"\",\" \",'Dettaglio delle attività'!E1129)","v":" "}]
[null,null,null,{"$f":"IF('Dettaglio delle attività'!C1130=\"\",\" \",'Dettaglio delle attività'!C1130)","v":" "},{"$f":"IF('Dettaglio delle attività'!D1130=\"\",\" \",'Dettaglio delle attività'!D1130)","v":" "},{"$f":"IF('Dettaglio delle attività'!E1130=\"\",\" \",'Dettaglio delle attività'!E1130)","v":" "}]
[null,null,null,{"$f":"IF('Dettaglio delle attività'!C1131=\"\",\" \",'Dettaglio delle attività'!C1131)","v":" "},{"$f":"IF('Dettaglio delle attività'!D1131=\"\",\" \",'Dettaglio delle attività'!D1131)","v":" "},{"$f":"IF('Dettaglio delle attività'!E1131=\"\",\" \",'Dettaglio delle attività'!E1131)","v":" "}]
[null,null,null,{"$f":"IF('Dettaglio delle attività'!C1132=\"\",\" \",'Dettaglio delle attività'!C1132)","v":" "},{"$f":"IF('Dettaglio delle attività'!D1132=\"\",\" \",'Dettaglio delle attività'!D1132)","v":" "},{"$f":"IF('Dettaglio delle attività'!E1132=\"\",\" \",'Dettaglio delle attività'!E1132)","v":" "}]
[null,null,null,{"$f":"IF('Dettaglio delle attività'!C1133=\"\",\" \",'Dettaglio delle attività'!C1133)","v":" "},{"$f":"IF('Dettaglio delle attività'!D1133=\"\",\" \",'Dettaglio delle attività'!D1133)","v":" "},{"$f":"IF('Dettaglio delle attività'!E1133=\"\",\" \",'Dettaglio delle attività'!E1133)","v":" "}]
[null,null,null,{"$f":"IF('Dettaglio delle attività'!C1134=\"\",\" \",'Dettaglio delle attività'!C1134)","v":" "},{"$f":"IF('Dettaglio delle attività'!D1134=\"\",\" \",'Dettaglio delle attività'!D1134)","v":" "},{"$f":"IF('Dettaglio delle attività'!E1134=\"\",\" \",'Dettaglio delle attività'!E1134)","v":" "}]
[null,null,null,{"$f":"IF('Dettaglio delle attività'!C1135=\"\",\" \",'Dettaglio delle attività'!C1135)","v":" "},{"$f":"IF('Dettaglio delle attività'!D1135=\"\",\" \",'Dettaglio delle attività'!D1135)","v":" "},{"$f":"IF('Dettaglio delle attività'!E1135=\"\",\" \",'Dettaglio delle attività'!E1135)","v":" "}]
[null,null,null,{"$f":"IF('Dettaglio delle attività'!C1136=\"\",\" \",'Dettaglio delle attività'!C1136)","v":" "},{"$f":"IF('Dettaglio delle attività'!D1136=\"\",\" \",'Dettaglio delle attività'!D1136)","v":" "},{"$f":"IF('Dettaglio delle attività'!E1136=\"\",\" \",'Dettaglio delle attività'!E1136)","v":" "}]
[null,null,null,{"$f":"IF('Dettaglio delle attività'!C1137=\"\",\" \",'Dettaglio delle attività'!C1137)","v":" "},{"$f":"IF('Dettaglio delle attività'!D1137=\"\",\" \",'Dettaglio delle attività'!D1137)","v":" "},{"$f":"IF('Dettaglio delle attività'!E1137=\"\",\" \",'Dettaglio delle attività'!E1137)","v":" "}]
[null,null,null,{"$f":"IF('Dettaglio delle attività'!C1138=\"\",\" \",'Dettaglio delle attività'!C1138)","v":" "},{"$f":"IF('Dettaglio delle attività'!D1138=\"\",\" \",'Dettaglio delle attività'!D1138)","v":" "},{"$f":"IF('Dettaglio delle attività'!E1138=\"\",\" \",'Dettaglio delle attività'!E1138)","v":" "}]
[null,null,null,{"$f":"IF('Dettaglio delle attività'!C1139=\"\",\" \",'Dettaglio delle attività'!C1139)","v":" "},{"$f":"IF('Dettaglio delle attività'!D1139=\"\",\" \",'Dettaglio delle attività'!D1139)","v":" "},{"$f":"IF('Dettaglio delle attività'!E1139=\"\",\" \",'Dettaglio delle attività'!E1139)","v":" "}]
[null,null,null,{"$f":"IF('Dettaglio delle attività'!C1140=\"\",\" \",'Dettaglio delle attività'!C1140)","v":" "},{"$f":"IF('Dettaglio delle attività'!D1140=\"\",\" \",'Dettaglio delle attività'!D1140)","v":" "},{"$f":"IF('Dettaglio delle attività'!E1140=\"\",\" \",'Dettaglio delle attività'!E1140)","v":" "}]
[null,null,null,{"$f":"IF('Dettaglio delle attività'!C1141=\"\",\" \",'Dettaglio delle attività'!C1141)","v":" "},{"$f":"IF('Dettaglio delle attività'!D1141=\"\",\" \",'Dettaglio delle attività'!D1141)","v":" "},{"$f":"IF('Dettaglio delle attività'!E1141=\"\",\" \",'Dettaglio delle attività'!E1141)","v":" "}]
[null,null,null,{"$f":"IF('Dettaglio delle attività'!C1142=\"\",\" \",'Dettaglio delle attività'!C1142)","v":" "},{"$f":"IF('Dettaglio delle attività'!D1142=\"\",\" \",'Dettaglio delle attività'!D1142)","v":" "},{"$f":"IF('Dettaglio delle attività'!E1142=\"\",\" \",'Dettaglio delle attività'!E1142)","v":" "}]
[null,null,null,{"$f":"IF('Dettaglio delle attività'!C1143=\"\",\" \",'Dettaglio delle attività'!C1143)","v":" "},{"$f":"IF('Dettaglio delle attività'!D1143=\"\",\" \",'Dettaglio delle attività'!D1143)","v":" "},{"$f":"IF('Dettaglio delle attività'!E1143=\"\",\" \",'Dettaglio delle attività'!E1143)","v":" "}]
[null,null,null,{"$f":"IF('Dettaglio delle attività'!C1144=\"\",\" \",'Dettaglio delle attività'!C1144)","v":" "},{"$f":"IF('Dettaglio delle attività'!D1144=\"\",\" \",'Dettaglio delle attività'!D1144)","v":" "},{"$f":"IF('Dettaglio delle attività'!E1144=\"\",\" \",'Dettaglio delle attività'!E1144)","v":" "}]
[null,null,null,{"$f":"IF('Dettaglio delle attività'!C1145=\"\",\" \",'Dettaglio delle attività'!C1145)","v":" "},{"$f":"IF('Dettaglio delle attività'!D1145=\"\",\" \",'Dettaglio delle attività'!D1145)","v":" "},{"$f":"IF('Dettaglio delle attività'!E1145=\"\",\" \",'Dettaglio delle attività'!E1145)","v":" "}]
[null,null,null,{"$f":"IF('Dettaglio delle attività'!C1146=\"\",\" \",'Dettaglio delle attività'!C1146)","v":" "},{"$f":"IF('Dettaglio delle attività'!D1146=\"\",\" \",'Dettaglio delle attività'!D1146)","v":" "},{"$f":"IF('Dettaglio delle attività'!E1146=\"\",\" \",'Dettaglio delle attività'!E1146)","v":" "}]
[null,null,null,{"$f":"IF('Dettaglio delle attività'!C1147=\"\",\" \",'Dettaglio delle attività'!C1147)","v":" "},{"$f":"IF('Dettaglio delle attività'!D1147=\"\",\" \",'Dettaglio delle attività'!D1147)","v":" "},{"$f":"IF('Dettaglio delle attività'!E1147=\"\",\" \",'Dettaglio delle attività'!E1147)","v":" "}]
[null,null,null,{"$f":"IF('Dettaglio delle attività'!C1148=\"\",\" \",'Dettaglio delle attività'!C1148)","v":" "},{"$f":"IF('Dettaglio delle attività'!D1148=\"\",\" \",'Dettaglio delle attività'!D1148)","v":" "},{"$f":"IF('Dettaglio delle attività'!E1148=\"\",\" \",'Dettaglio delle attività'!E1148)","v":" "}]
[null,null,null,{"$f":"IF('Dettaglio delle attività'!C1149=\"\",\" \",'Dettaglio delle attività'!C1149)","v":" "},{"$f":"IF('Dettaglio delle attività'!D1149=\"\",\" \",'Dettaglio delle attività'!D1149)","v":" "},{"$f":"IF('Dettaglio delle attività'!E1149=\"\",\" \",'Dettaglio delle attività'!E1149)","v":" "}]
[null,null,null,{"$f":"IF('Dettaglio delle attività'!C1150=\"\",\" \",'Dettaglio delle attività'!C1150)","v":" "},{"$f":"IF('Dettaglio delle attività'!D1150=\"\",\" \",'Dettaglio delle attività'!D1150)","v":" "},{"$f":"IF('Dettaglio delle attività'!E1150=\"\",\" \",'Dettaglio delle attività'!E1150)","v":" "}]
[null,null,null,{"$f":"IF('Dettaglio delle attività'!C1151=\"\",\" \",'Dettaglio delle attività'!C1151)","v":" "},{"$f":"IF('Dettaglio delle attività'!D1151=\"\",\" \",'Dettaglio delle attività'!D1151)","v":" "},{"$f":"IF('Dettaglio delle attività'!E1151=\"\",\" \",'Dettaglio delle attività'!E1151)","v":" "}]
[null,null,null,{"$f":"IF('Dettaglio delle attività'!C1152=\"\",\" \",'Dettaglio delle attività'!C1152)","v":" "},{"$f":"IF('Dettaglio delle attività'!D1152=\"\",\" \",'Dettaglio delle attività'!D1152)","v":" "},{"$f":"IF('Dettaglio delle attività'!E1152=\"\",\" \",'Dettaglio delle attività'!E1152)","v":" "}]
[null,null,null,{"$f":"IF('Dettaglio delle attività'!C1153=\"\",\" \",'Dettaglio delle attività'!C1153)","v":" "},{"$f":"IF('Dettaglio delle attività'!D1153=\"\",\" \",'Dettaglio delle attività'!D1153)","v":" "},{"$f":"IF('Dettaglio delle attività'!E1153=\"\",\" \",'Dettaglio delle attività'!E1153)","v":" "}]
[null,null,null,{"$f":"IF('Dettaglio delle attività'!C1154=\"\",\" \",'Dettaglio delle attività'!C1154)","v":" "},{"$f":"IF('Dettaglio delle attività'!D1154=\"\",\" \",'Dettaglio delle attività'!D1154)","v":" "},{"$f":"IF('Dettaglio delle attività'!E1154=\"\",\" \",'Dettaglio delle attività'!E1154)","v":" "}]
[null,null,null,{"$f":"IF('Dettaglio delle attività'!C1155=\"\",\" \",'Dettaglio delle attività'!C1155)","v":" "},{"$f":"IF('Dettaglio delle attività'!D1155=\"\",\" \",'Dettaglio delle attività'!D1155)","v":" "},{"$f":"IF('Dettaglio delle attività'!E1155=\"\",\" \",'Dettaglio delle attività'!E1155)","v":" "}]
[null,null,null,{"$f":"IF('Dettaglio delle attività'!C1156=\"\",\" \",'Dettaglio delle attività'!C1156)","v":" "},{"$f":"IF('Dettaglio delle attività'!D1156=\"\",\" \",'Dettaglio delle attività'!D1156)","v":" "},{"$f":"IF('Dettaglio delle attività'!E1156=\"\",\" \",'Dettaglio delle attività'!E1156)","v":" "}]
[null,null,null,{"$f":"IF('Dettaglio delle attività'!C1157=\"\",\" \",'Dettaglio delle attività'!C1157)","v":" "},{"$f":"IF('Dettaglio delle attività'!D1157=\"\",\" \",'Dettaglio delle attività'!D1157)","v":" "},{"$f":"IF('Dettaglio delle attività'!E1157=\"\",\" \",'Dettaglio delle attività'!E1157)","v":" "}]
[null,null,null,{"$f":"IF('Dettaglio delle attività'!C1158=\"\",\" \",'Dettaglio delle attività'!C1158)","v":" "},{"$f":"IF('Dettaglio delle attività'!D1158=\"\",\" \",'Dettaglio delle attività'!D1158)","v":" "},{"$f":"IF('Dettaglio delle attività'!E1158=\"\",\" \",'Dettaglio delle attività'!E1158)","v":" "}]
[null,null,null,{"$f":"IF('Dettaglio delle attività'!C1159=\"\",\" \",'Dettaglio delle attività'!C1159)","v":" "},{"$f":"IF('Dettaglio delle attività'!D1159=\"\",\" \",'Dettaglio delle attività'!D1159)","v":" "},{"$f":"IF('Dettaglio delle attività'!E1159=\"\",\" \",'Dettaglio delle attività'!E1159)","v":" "}]
[null,null,null,{"$f":"IF('Dettaglio delle attività'!C1160=\"\",\" \",'Dettaglio delle attività'!C1160)","v":" "},{"$f":"IF('Dettaglio delle attività'!D1160=\"\",\" \",'Dettaglio delle attività'!D1160)","v":" "},{"$f":"IF('Dettaglio delle attività'!E1160=\"\",\" \",'Dettaglio delle attività'!E1160)","v":" "}]
[null,null,null,{"$f":"IF('Dettaglio delle attività'!C1161=\"\",\" \",'Dettaglio delle attività'!C1161)","v":" "},{"$f":"IF('Dettaglio delle attività'!D1161=\"\",\" \",'Dettaglio delle attività'!D1161)","v":" "},{"$f":"IF('Dettaglio delle attività'!E1161=\"\",\" \",'Dettaglio delle attività'!E1161)","v":" "}]
[null,null,null,{"$f":"IF('Dettaglio delle attività'!C1162=\"\",\" \",'Dettaglio delle attività'!C1162)","v":" "},{"$f":"IF('Dettaglio delle attività'!D1162=\"\",\" \",'Dettaglio delle attività'!D1162)","v":" "},{"$f":"IF('Dettaglio delle attività'!E1162=\"\",\" \",'Dettaglio delle attività'!E1162)","v":" "}]
[null,null,null,{"$f":"IF('Dettaglio delle attività'!C1163=\"\",\" \",'Dettaglio delle attività'!C1163)","v":" "},{"$f":"IF('Dettaglio delle attività'!D1163=\"\",\" \",'Dettaglio delle attività'!D1163)","v":" "},{"$f":"IF('Dettaglio delle attività'!E1163=\"\",\" \",'Dettaglio delle attività'!E1163)","v":" "}]
[null,null,null,{"$f":"IF('Dettaglio delle attività'!C1164=\"\",\" \",'Dettaglio delle attività'!C1164)","v":" "},{"$f":"IF('Dettaglio delle attività'!D1164=\"\",\" \",'Dettaglio delle attività'!D1164)","v":" "},{"$f":"IF('Dettaglio delle attività'!E1164=\"\",\" \",'Dettaglio delle attività'!E1164)","v":" "}]
[null,null,null,{"$f":"IF('Dettaglio delle attività'!C1165=\"\",\" \",'Dettaglio delle attività'!C1165)","v":" "},{"$f":"IF('Dettaglio delle attività'!D1165=\"\",\" \",'Dettaglio delle attività'!D1165)","v":" "},{"$f":"IF('Dettaglio delle attività'!E1165=\"\",\" \",'Dettaglio delle attività'!E1165)","v":" "}]
[null,null,null,{"$f":"IF('Dettaglio delle attività'!C1166=\"\",\" \",'Dettaglio delle attività'!C1166)","v":" "},{"$f":"IF('Dettaglio delle attività'!D1166=\"\",\" \",'Dettaglio delle attività'!D1166)","v":" "},{"$f":"IF('Dettaglio delle attività'!E1166=\"\",\" \",'Dettaglio delle attività'!E1166)","v":" "}]
[null,null,null,{"$f":"IF('Dettaglio delle attività'!C1167=\"\",\" \",'Dettaglio delle attività'!C1167)","v":" "},{"$f":"IF('Dettaglio delle attività'!D1167=\"\",\" \",'Dettaglio delle attività'!D1167)","v":" "},{"$f":"IF('Dettaglio delle attività'!E1167=\"\",\" \",'Dettaglio delle attività'!E1167)","v":" "}]
[null,null,null,{"$f":"IF('Dettaglio delle attività'!C1168=\"\",\" \",'Dettaglio delle attività'!C1168)","v":" "},{"$f":"IF('Dettaglio delle attività'!D1168=\"\",\" \",'Dettaglio delle attività'!D1168)","v":" "},{"$f":"IF('Dettaglio delle attività'!E1168=\"\",\" \",'Dettaglio delle attività'!E1168)","v":" "}]
[null,null,null,{"$f":"IF('Dettaglio delle attività'!C1169=\"\",\" \",'Dettaglio delle attività'!C1169)","v":" "},{"$f":"IF('Dettaglio delle attività'!D1169=\"\",\" \",'Dettaglio delle attività'!D1169)","v":" "},{"$f":"IF('Dettaglio delle attività'!E1169=\"\",\" \",'Dettaglio delle attività'!E1169)","v":" "}]
[null,null,null,{"$f":"IF('Dettaglio delle attività'!C1170=\"\",\" \",'Dettaglio delle attività'!C1170)","v":" "},{"$f":"IF('Dettaglio delle attività'!D1170=\"\",\" \",'Dettaglio delle attività'!D1170)","v":" "},{"$f":"IF('Dettaglio delle attività'!E1170=\"\",\" \",'Dettaglio delle attività'!E1170)","v":" "}]
[null,null,null,{"$f":"IF('Dettaglio delle attività'!C1171=\"\",\" \",'Dettaglio delle attività'!C1171)","v":" "},{"$f":"IF('Dettaglio delle attività'!D1171=\"\",\" \",'Dettaglio delle attività'!D1171)","v":" "},{"$f":"IF('Dettaglio delle attività'!E1171=\"\",\" \",'Dettaglio delle attività'!E1171)","v":" "}]
[null,null,null,{"$f":"IF('Dettaglio delle attività'!C1172=\"\",\" \",'Dettaglio delle attività'!C1172)","v":" "},{"$f":"IF('Dettaglio delle attività'!D1172=\"\",\" \",'Dettaglio delle attività'!D1172)","v":" "},{"$f":"IF('Dettaglio delle attività'!E1172=\"\",\" \",'Dettaglio delle attività'!E1172)","v":" "}]
[null,null,null,{"$f":"IF('Dettaglio delle attività'!C1173=\"\",\" \",'Dettaglio delle attività'!C1173)","v":" "},{"$f":"IF('Dettaglio delle attività'!D1173=\"\",\" \",'Dettaglio delle attività'!D1173)","v":" "},{"$f":"IF('Dettaglio delle attività'!E1173=\"\",\" \",'Dettaglio delle attività'!E1173)","v":" "}]
[null,null,null,{"$f":"IF('Dettaglio delle attività'!C1174=\"\",\" \",'Dettaglio delle attività'!C1174)","v":" "},{"$f":"IF('Dettaglio delle attività'!D1174=\"\",\" \",'Dettaglio delle attività'!D1174)","v":" "},{"$f":"IF('Dettaglio delle attività'!E1174=\"\",\" \",'Dettaglio delle attività'!E1174)","v":" "}]
[null,null,null,{"$f":"IF('Dettaglio delle attività'!C1175=\"\",\" \",'Dettaglio delle attività'!C1175)","v":" "},{"$f":"IF('Dettaglio delle attività'!D1175=\"\",\" \",'Dettaglio delle attività'!D1175)","v":" "},{"$f":"IF('Dettaglio delle attività'!E1175=\"\",\" \",'Dettaglio delle attività'!E1175)","v":" "}]
[null,null,null,{"$f":"IF('Dettaglio delle attività'!C1176=\"\",\" \",'Dettaglio delle attività'!C1176)","v":" "},{"$f":"IF('Dettaglio delle attività'!D1176=\"\",\" \",'Dettaglio delle attività'!D1176)","v":" "},{"$f":"IF('Dettaglio delle attività'!E1176=\"\",\" \",'Dettaglio delle attività'!E1176)","v":" "}]
[null,null,null,{"$f":"IF('Dettaglio delle attività'!C1177=\"\",\" \",'Dettaglio delle attività'!C1177)","v":" "},{"$f":"IF('Dettaglio delle attività'!D1177=\"\",\" \",'Dettaglio delle attività'!D1177)","v":" "},{"$f":"IF('Dettaglio delle attività'!E1177=\"\",\" \",'Dettaglio delle attività'!E1177)","v":" "}]
[null,null,null,{"$f":"IF('Dettaglio delle attività'!C1178=\"\",\" \",'Dettaglio delle attività'!C1178)","v":" "},{"$f":"IF('Dettaglio delle attività'!D1178=\"\",\" \",'Dettaglio delle attività'!D1178)","v":" "},{"$f":"IF('Dettaglio delle attività'!E1178=\"\",\" \",'Dettaglio delle attività'!E1178)","v":" "}]
[null,null,null,{"$f":"IF('Dettaglio delle attività'!C1179=\"\",\" \",'Dettaglio delle attività'!C1179)","v":" "},{"$f":"IF('Dettaglio delle attività'!D1179=\"\",\" \",'Dettaglio delle attività'!D1179)","v":" "},{"$f":"IF('Dettaglio delle attività'!E1179=\"\",\" \",'Dettaglio delle attività'!E1179)","v":" "}]
[null,null,null,{"$f":"IF('Dettaglio delle attività'!C1180=\"\",\" \",'Dettaglio delle attività'!C1180)","v":" "},{"$f":"IF('Dettaglio delle attività'!D1180=\"\",\" \",'Dettaglio delle attività'!D1180)","v":" "},{"$f":"IF('Dettaglio delle attività'!E1180=\"\",\" \",'Dettaglio delle attività'!E1180)","v":" "}]
[null,null,null,{"$f":"IF('Dettaglio delle attività'!C1181=\"\",\" \",'Dettaglio delle attività'!C1181)","v":" "},{"$f":"IF('Dettaglio delle attività'!D1181=\"\",\" \",'Dettaglio delle attività'!D1181)","v":" "},{"$f":"IF('Dettaglio delle attività'!E1181=\"\",\" \",'Dettaglio delle attività'!E1181)","v":" "}]
[null,null,null,{"$f":"IF('Dettaglio delle attività'!C1182=\"\",\" \",'Dettaglio delle attività'!C1182)","v":" "},{"$f":"IF('Dettaglio delle attività'!D1182=\"\",\" \",'Dettaglio delle attività'!D1182)","v":" "},{"$f":"IF('Dettaglio delle attività'!E1182=\"\",\" \",'Dettaglio delle attività'!E1182)","v":" "}]
[null,null,null,{"$f":"IF('Dettaglio delle attività'!C1183=\"\",\" \",'Dettaglio delle attività'!C1183)","v":" "},{"$f":"IF('Dettaglio delle attività'!D1183=\"\",\" \",'Dettaglio delle attività'!D1183)","v":" "},{"$f":"IF('Dettaglio delle attività'!E1183=\"\",\" \",'Dettaglio delle attività'!E1183)","v":" "}]
[null,null,null,{"$f":"IF('Dettaglio delle attività'!C1184=\"\",\" \",'Dettaglio delle attività'!C1184)","v":" "},{"$f":"IF('Dettaglio delle attività'!D1184=\"\",\" \",'Dettaglio delle attività'!D1184)","v":" "},{"$f":"IF('Dettaglio delle attività'!E1184=\"\",\" \",'Dettaglio delle attività'!E1184)","v":" "}]
[null,null,null,{"$f":"IF('Dettaglio delle attività'!C1185=\"\",\" \",'Dettaglio delle attività'!C1185)","v":" "},{"$f":"IF('Dettaglio delle attività'!D1185=\"\",\" \",'Dettaglio delle attività'!D1185)","v":" "},{"$f":"IF('Dettaglio delle attività'!E1185=\"\",\" \",'Dettaglio delle attività'!E1185)","v":" "}]
[null,null,null,{"$f":"IF('Dettaglio delle attività'!C1186=\"\",\" \",'Dettaglio delle attività'!C1186)","v":" "},{"$f":"IF('Dettaglio delle attività'!D1186=\"\",\" \",'Dettaglio delle attività'!D1186)","v":" "},{"$f":"IF('Dettaglio delle attività'!E1186=\"\",\" \",'Dettaglio delle attività'!E1186)","v":" "}]
[null,null,null,{"$f":"IF('Dettaglio delle attività'!C1187=\"\",\" \",'Dettaglio delle attività'!C1187)","v":" "},{"$f":"IF('Dettaglio delle attività'!D1187=\"\",\" \",'Dettaglio delle attività'!D1187)","v":" "},{"$f":"IF('Dettaglio delle attività'!E1187=\"\",\" \",'Dettaglio delle attività'!E1187)","v":" "}]
[null,null,null,{"$f":"IF('Dettaglio delle attività'!C1188=\"\",\" \",'Dettaglio delle attività'!C1188)","v":" "},{"$f":"IF('Dettaglio delle attività'!D1188=\"\",\" \",'Dettaglio delle attività'!D1188)","v":" "},{"$f":"IF('Dettaglio delle attività'!E1188=\"\",\" \",'Dettaglio delle attività'!E1188)","v":" "}]
[null,null,null,{"$f":"IF('Dettaglio delle attività'!C1189=\"\",\" \",'Dettaglio delle attività'!C1189)","v":" "},{"$f":"IF('Dettaglio delle attività'!D1189=\"\",\" \",'Dettaglio delle attività'!D1189)","v":" "},{"$f":"IF('Dettaglio delle attività'!E1189=\"\",\" \",'Dettaglio delle attività'!E1189)","v":" "}]
[null,null,null,{"$f":"IF('Dettaglio delle attività'!C1190=\"\",\" \",'Dettaglio delle attività'!C1190)","v":" "},{"$f":"IF('Dettaglio delle attività'!D1190=\"\",\" \",'Dettaglio delle attività'!D1190)","v":" "},{"$f":"IF('Dettaglio delle attività'!E1190=\"\",\" \",'Dettaglio delle attività'!E1190)","v":" "}]
[null,null,null,{"$f":"IF('Dettaglio delle attività'!C1191=\"\",\" \",'Dettaglio delle attività'!C1191)","v":" "},{"$f":"IF('Dettaglio delle attività'!D1191=\"\",\" \",'Dettaglio delle attività'!D1191)","v":" "},{"$f":"IF('Dettaglio delle attività'!E1191=\"\",\" \",'Dettaglio delle attività'!E1191)","v":" "}]
[null,null,null,{"$f":"IF('Dettaglio delle attività'!C1192=\"\",\" \",'Dettaglio delle attività'!C1192)","v":" "},{"$f":"IF('Dettaglio delle attività'!D1192=\"\",\" \",'Dettaglio delle attività'!D1192)","v":" "},{"$f":"IF('Dettaglio delle attività'!E1192=\"\",\" \",'Dettaglio delle attività'!E1192)","v":" "}]
[null,null,null,{"$f":"IF('Dettaglio delle attività'!C1193=\"\",\" \",'Dettaglio delle attività'!C1193)","v":" "},{"$f":"IF('Dettaglio delle attività'!D1193=\"\",\" \",'Dettaglio delle attività'!D1193)","v":" "},{"$f":"IF('Dettaglio delle attività'!E1193=\"\",\" \",'Dettaglio delle attività'!E1193)","v":" "}]
[null,null,null,{"$f":"IF('Dettaglio delle attività'!C1194=\"\",\" \",'Dettaglio delle attività'!C1194)","v":" "},{"$f":"IF('Dettaglio delle attività'!D1194=\"\",\" \",'Dettaglio delle attività'!D1194)","v":" "},{"$f":"IF('Dettaglio delle attività'!E1194=\"\",\" \",'Dettaglio delle attività'!E1194)","v":" "}]
[null,null,null,{"$f":"IF('Dettaglio delle attività'!C1195=\"\",\" \",'Dettaglio delle attività'!C1195)","v":" "},{"$f":"IF('Dettaglio delle attività'!D1195=\"\",\" \",'Dettaglio delle attività'!D1195)","v":" "},{"$f":"IF('Dettaglio delle attività'!E1195=\"\",\" \",'Dettaglio delle attività'!E1195)","v":" "}]
[null,null,null,{"$f":"IF('Dettaglio delle attività'!C1196=\"\",\" \",'Dettaglio delle attività'!C1196)","v":" "},{"$f":"IF('Dettaglio delle attività'!D1196=\"\",\" \",'Dettaglio delle attività'!D1196)","v":" "},{"$f":"IF('Dettaglio delle attività'!E1196=\"\",\" \",'Dettaglio delle attività'!E1196)","v":" "}]
[null,null,null,{"$f":"IF('Dettaglio delle attività'!C1197=\"\",\" \",'Dettaglio delle attività'!C1197)","v":" "},{"$f":"IF('Dettaglio delle attività'!D1197=\"\",\" \",'Dettaglio delle attività'!D1197)","v":" "},{"$f":"IF('Dettaglio delle attività'!E1197=\"\",\" \",'Dettaglio delle attività'!E1197)","v":" "}]
[null,null,null,{"$f":"IF('Dettaglio delle attività'!C1198=\"\",\" \",'Dettaglio delle attività'!C1198)","v":" "},{"$f":"IF('Dettaglio delle attività'!D1198=\"\",\" \",'Dettaglio delle attività'!D1198)","v":" "},{"$f":"IF('Dettaglio delle attività'!E1198=\"\",\" \",'Dettaglio delle attività'!E1198)","v":" "}]
[null,null,null,{"$f":"IF('Dettaglio delle attività'!C1199=\"\",\" \",'Dettaglio delle attività'!C1199)","v":" "},{"$f":"IF('Dettaglio delle attività'!D1199=\"\",\" \",'Dettaglio delle attività'!D1199)","v":" "},{"$f":"IF('Dettaglio delle attività'!E1199=\"\",\" \",'Dettaglio delle attività'!E1199)","v":" "}]
[null,null,null,{"$f":"IF('Dettaglio delle attività'!C1200=\"\",\" \",'Dettaglio delle attività'!C1200)","v":" "},{"$f":"IF('Dettaglio delle attività'!D1200=\"\",\" \",'Dettaglio delle attività'!D1200)","v":" "},{"$f":"IF('Dettaglio delle attività'!E1200=\"\",\" \",'Dettaglio delle attività'!E1200)","v":" "}]
[null,null,null,{"$f":"IF('Dettaglio delle attività'!C1201=\"\",\" \",'Dettaglio delle attività'!C1201)","v":" "},{"$f":"IF('Dettaglio delle attività'!D1201=\"\",\" \",'Dettaglio delle attività'!D1201)","v":" "},{"$f":"IF('Dettaglio delle attività'!E1201=\"\",\" \",'Dettaglio delle attività'!E1201)","v":" "}]
[null,null,null,{"$f":"IF('Dettaglio delle attività'!C1202=\"\",\" \",'Dettaglio delle attività'!C1202)","v":" "},{"$f":"IF('Dettaglio delle attività'!D1202=\"\",\" \",'Dettaglio delle attività'!D1202)","v":" "},{"$f":"IF('Dettaglio delle attività'!E1202=\"\",\" \",'Dettaglio delle attività'!E1202)","v":" "}]
[null,null,null,{"$f":"IF('Dettaglio delle attività'!C1203=\"\",\" \",'Dettaglio delle attività'!C1203)","v":" "},{"$f":"IF('Dettaglio delle attività'!D1203=\"\",\" \",'Dettaglio delle attività'!D1203)","v":" "},{"$f":"IF('Dettaglio delle attività'!E1203=\"\",\" \",'Dettaglio delle attività'!E1203)","v":" "}]
[null,null,null,{"$f":"IF('Dettaglio delle attività'!C1204=\"\",\" \",'Dettaglio delle attività'!C1204)","v":" "},{"$f":"IF('Dettaglio delle attività'!D1204=\"\",\" \",'Dettaglio delle attività'!D1204)","v":" "},{"$f":"IF('Dettaglio delle attività'!E1204=\"\",\" \",'Dettaglio delle attività'!E1204)","v":" "}]
[null,null,null,{"$f":"IF('Dettaglio delle attività'!C1205=\"\",\" \",'Dettaglio delle attività'!C1205)","v":" "},{"$f":"IF('Dettaglio delle attività'!D1205=\"\",\" \",'Dettaglio delle attività'!D1205)","v":" "},{"$f":"IF('Dettaglio delle attività'!E1205=\"\",\" \",'Dettaglio delle attività'!E1205)","v":" "}]
[null,null,null,{"$f":"IF('Dettaglio delle attività'!C1206=\"\",\" \",'Dettaglio delle attività'!C1206)","v":" "},{"$f":"IF('Dettaglio delle attività'!D1206=\"\",\" \",'Dettaglio delle attività'!D1206)","v":" "},{"$f":"IF('Dettaglio delle attività'!E1206=\"\",\" \",'Dettaglio delle attività'!E1206)","v":" "}]
[null,null,null,{"$f":"IF('Dettaglio delle attività'!C1207=\"\",\" \",'Dettaglio delle attività'!C1207)","v":" "},{"$f":"IF('Dettaglio delle attività'!D1207=\"\",\" \",'Dettaglio delle attività'!D1207)","v":" "},{"$f":"IF('Dettaglio delle attività'!E1207=\"\",\" \",'Dettaglio delle attività'!E1207)","v":" "}]
[null,null,null,{"$f":"IF('Dettaglio delle attività'!C1208=\"\",\" \",'Dettaglio delle attività'!C1208)","v":" "},{"$f":"IF('Dettaglio delle attività'!D1208=\"\",\" \",'Dettaglio delle attività'!D1208)","v":" "},{"$f":"IF('Dettaglio delle attività'!E1208=\"\",\" \",'Dettaglio delle attività'!E1208)","v":" "}]
[null,null,null,{"$f":"IF('Dettaglio delle attività'!C1209=\"\",\" \",'Dettaglio delle attività'!C1209)","v":" "},{"$f":"IF('Dettaglio delle attività'!D1209=\"\",\" \",'Dettaglio delle attività'!D1209)","v":" "},{"$f":"IF('Dettaglio delle attività'!E1209=\"\",\" \",'Dettaglio delle attività'!E1209)","v":" "}]
[null,null,null,{"$f":"IF('Dettaglio delle attività'!C1210=\"\",\" \",'Dettaglio delle attività'!C1210)","v":" "},{"$f":"IF('Dettaglio delle attività'!D1210=\"\",\" \",'Dettaglio delle attività'!D1210)","v":" "},{"$f":"IF('Dettaglio delle attività'!E1210=\"\",\" \",'Dettaglio delle attività'!E1210)","v":" "}]
[null,null,null,{"$f":"IF('Dettaglio delle attività'!C1211=\"\",\" \",'Dettaglio delle attività'!C1211)","v":" "},{"$f":"IF('Dettaglio delle attività'!D1211=\"\",\" \",'Dettaglio delle attività'!D1211)","v":" "},{"$f":"IF('Dettaglio delle attività'!E1211=\"\",\" \",'Dettaglio delle attività'!E1211)","v":" "}]
[null,null,null,{"$f":"IF('Dettaglio delle attività'!C1212=\"\",\" \",'Dettaglio delle attività'!C1212)","v":" "},{"$f":"IF('Dettaglio delle attività'!D1212=\"\",\" \",'Dettaglio delle attività'!D1212)","v":" "},{"$f":"IF('Dettaglio delle attività'!E1212=\"\",\" \",'Dettaglio delle attività'!E1212)","v":" "}]
[null,null,null,{"$f":"IF('Dettaglio delle attività'!C1213=\"\",\" \",'Dettaglio delle attività'!C1213)","v":" "},{"$f":"IF('Dettaglio delle attività'!D1213=\"\",\" \",'Dettaglio delle attività'!D1213)","v":" "},{"$f":"IF('Dettaglio delle attività'!E1213=\"\",\" \",'Dettaglio delle attività'!E1213)","v":" "}]
[null,null,null,{"$f":"IF('Dettaglio delle attività'!C1214=\"\",\" \",'Dettaglio delle attività'!C1214)","v":" "},{"$f":"IF('Dettaglio delle attività'!D1214=\"\",\" \",'Dettaglio delle attività'!D1214)","v":" "},{"$f":"IF('Dettaglio delle attività'!E1214=\"\",\" \",'Dettaglio delle attività'!E1214)","v":" "}]
[null,null,null,{"$f":"IF('Dettaglio delle attività'!C1215=\"\",\" \",'Dettaglio delle attività'!C1215)","v":" "},{"$f":"IF('Dettaglio delle attività'!D1215=\"\",\" \",'Dettaglio delle attività'!D1215)","v":" "},{"$f":"IF('Dettaglio delle attività'!E1215=\"\",\" \",'Dettaglio delle attività'!E1215)","v":" "}]
[null,null,null,{"$f":"IF('Dettaglio delle attività'!C1216=\"\",\" \",'Dettaglio delle attività'!C1216)","v":" "},{"$f":"IF('Dettaglio delle attività'!D1216=\"\",\" \",'Dettaglio delle attività'!D1216)","v":" "},{"$f":"IF('Dettaglio delle attività'!E1216=\"\",\" \",'Dettaglio delle attività'!E1216)","v":" "}]
[null,null,null,{"$f":"IF('Dettaglio delle attività'!C1217=\"\",\" \",'Dettaglio delle attività'!C1217)","v":" "},{"$f":"IF('Dettaglio delle attività'!D1217=\"\",\" \",'Dettaglio delle attività'!D1217)","v":" "},{"$f":"IF('Dettaglio delle attività'!E1217=\"\",\" \",'Dettaglio delle attività'!E1217)","v":" "}]
[null,null,null,{"$f":"IF('Dettaglio delle attività'!C1218=\"\",\" \",'Dettaglio delle attività'!C1218)","v":" "},{"$f":"IF('Dettaglio delle attività'!D1218=\"\",\" \",'Dettaglio delle attività'!D1218)","v":" "},{"$f":"IF('Dettaglio delle attività'!E1218=\"\",\" \",'Dettaglio delle attività'!E1218)","v":" "}]
[null,null,null,{"$f":"IF('Dettaglio delle attività'!C1219=\"\",\" \",'Dettaglio delle attività'!C1219)","v":" "},{"$f":"IF('Dettaglio delle attività'!D1219=\"\",\" \",'Dettaglio delle attività'!D1219)","v":" "},{"$f":"IF('Dettaglio delle attività'!E1219=\"\",\" \",'Dettaglio delle attività'!E1219)","v":" "}]
[null,null,null,{"$f":"IF('Dettaglio delle attività'!C1220=\"\",\" \",'Dettaglio delle attività'!C1220)","v":" "},{"$f":"IF('Dettaglio delle attività'!D1220=\"\",\" \",'Dettaglio delle attività'!D1220)","v":" "},{"$f":"IF('Dettaglio delle attività'!E1220=\"\",\" \",'Dettaglio delle attività'!E1220)","v":" "}]
[null,null,null,{"$f":"IF('Dettaglio delle attività'!C1221=\"\",\" \",'Dettaglio delle attività'!C1221)","v":" "},{"$f":"IF('Dettaglio delle attività'!D1221=\"\",\" \",'Dettaglio delle attività'!D1221)","v":" "},{"$f":"IF('Dettaglio delle attività'!E1221=\"\",\" \",'Dettaglio delle attività'!E1221)","v":" "}]
[null,null,null,{"$f":"IF('Dettaglio delle attività'!C1222=\"\",\" \",'Dettaglio delle attività'!C1222)","v":" "},{"$f":"IF('Dettaglio delle attività'!D1222=\"\",\" \",'Dettaglio delle attività'!D1222)","v":" "},{"$f":"IF('Dettaglio delle attività'!E1222=\"\",\" \",'Dettaglio delle attività'!E1222)","v":" "}]
[null,null,null,{"$f":"IF('Dettaglio delle attività'!C1223=\"\",\" \",'Dettaglio delle attività'!C1223)","v":" "},{"$f":"IF('Dettaglio delle attività'!D1223=\"\",\" \",'Dettaglio delle attività'!D1223)","v":" "},{"$f":"IF('Dettaglio delle attività'!E1223=\"\",\" \",'Dettaglio delle attività'!E1223)","v":" "}]
[null,null,null,{"$f":"IF('Dettaglio delle attività'!C1224=\"\",\" \",'Dettaglio delle attività'!C1224)","v":" "},{"$f":"IF('Dettaglio delle attività'!D1224=\"\",\" \",'Dettaglio delle attività'!D1224)","v":" "},{"$f":"IF('Dettaglio delle attività'!E1224=\"\",\" \",'Dettaglio delle attività'!E1224)","v":" "}]
[null,null,null,{"$f":"IF('Dettaglio delle attività'!C1225=\"\",\" \",'Dettaglio delle attività'!C1225)","v":" "},{"$f":"IF('Dettaglio delle attività'!D1225=\"\",\" \",'Dettaglio delle attività'!D1225)","v":" "},{"$f":"IF('Dettaglio delle attività'!E1225=\"\",\" \",'Dettaglio delle attività'!E1225)","v":" "}]
[null,null,null,{"$f":"IF('Dettaglio delle attività'!C1226=\"\",\" \",'Dettaglio delle attività'!C1226)","v":" "},{"$f":"IF('Dettaglio delle attività'!D1226=\"\",\" \",'Dettaglio delle attività'!D1226)","v":" "},{"$f":"IF('Dettaglio delle attività'!E1226=\"\",\" \",'Dettaglio delle attività'!E1226)","v":" "}]
[null,null,null,{"$f":"IF('Dettaglio delle attività'!C1227=\"\",\" \",'Dettaglio delle attività'!C1227)","v":" "},{"$f":"IF('Dettaglio delle attività'!D1227=\"\",\" \",'Dettaglio delle attività'!D1227)","v":" "},{"$f":"IF('Dettaglio delle attività'!E1227=\"\",\" \",'Dettaglio delle attività'!E1227)","v":" "}]
[null,null,null,{"$f":"IF('Dettaglio delle attività'!C1228=\"\",\" \",'Dettaglio delle attività'!C1228)","v":" "},{"$f":"IF('Dettaglio delle attività'!D1228=\"\",\" \",'Dettaglio delle attività'!D1228)","v":" "},{"$f":"IF('Dettaglio delle attività'!E1228=\"\",\" \",'Dettaglio delle attività'!E1228)","v":" "}]
[null,null,null,{"$f":"IF('Dettaglio delle attività'!C1229=\"\",\" \",'Dettaglio delle attività'!C1229)","v":" "},{"$f":"IF('Dettaglio delle attività'!D1229=\"\",\" \",'Dettaglio delle attività'!D1229)","v":" "},{"$f":"IF('Dettaglio delle attività'!E1229=\"\",\" \",'Dettaglio delle attività'!E1229)","v":" "}]
[null,null,null,{"$f":"IF('Dettaglio delle attività'!C1230=\"\",\" \",'Dettaglio delle attività'!C1230)","v":" "},{"$f":"IF('Dettaglio delle attività'!D1230=\"\",\" \",'Dettaglio delle attività'!D1230)","v":" "},{"$f":"IF('Dettaglio delle attività'!E1230=\"\",\" \",'Dettaglio delle attività'!E1230)","v":" "}]
[null,null,null,{"$f":"IF('Dettaglio delle attività'!C1231=\"\",\" \",'Dettaglio delle attività'!C1231)","v":" "},{"$f":"IF('Dettaglio delle attività'!D1231=\"\",\" \",'Dettaglio delle attività'!D1231)","v":" "},{"$f":"IF('Dettaglio delle attività'!E1231=\"\",\" \",'Dettaglio delle attività'!E1231)","v":" "}]
[null,null,null,{"$f":"IF('Dettaglio delle attività'!C1232=\"\",\" \",'Dettaglio delle attività'!C1232)","v":" "},{"$f":"IF('Dettaglio delle attività'!D1232=\"\",\" \",'Dettaglio delle attività'!D1232)","v":" "},{"$f":"IF('Dettaglio delle attività'!E1232=\"\",\" \",'Dettaglio delle attività'!E1232)","v":" "}]
[null,null,null,{"$f":"IF('Dettaglio delle attività'!C1233=\"\",\" \",'Dettaglio delle attività'!C1233)","v":" "},{"$f":"IF('Dettaglio delle attività'!D1233=\"\",\" \",'Dettaglio delle attività'!D1233)","v":" "},{"$f":"IF('Dettaglio delle attività'!E1233=\"\",\" \",'Dettaglio delle attività'!E1233)","v":" "}]
[null,null,null,{"$f":"IF('Dettaglio delle attività'!C1234=\"\",\" \",'Dettaglio delle attività'!C1234)","v":" "},{"$f":"IF('Dettaglio delle attività'!D1234=\"\",\" \",'Dettaglio delle attività'!D1234)","v":" "},{"$f":"IF('Dettaglio delle attività'!E1234=\"\",\" \",'Dettaglio delle attività'!E1234)","v":" "}]
[null,null,null,{"$f":"IF('Dettaglio delle attività'!C1235=\"\",\" \",'Dettaglio delle attività'!C1235)","v":" "},{"$f":"IF('Dettaglio delle attività'!D1235=\"\",\" \",'Dettaglio delle attività'!D1235)","v":" "},{"$f":"IF('Dettaglio delle attività'!E1235=\"\",\" \",'Dettaglio delle attività'!E1235)","v":" "}]
[null,null,null,{"$f":"IF('Dettaglio delle attività'!C1236=\"\",\" \",'Dettaglio delle attività'!C1236)","v":" "},{"$f":"IF('Dettaglio delle attività'!D1236=\"\",\" \",'Dettaglio delle attività'!D1236)","v":" "},{"$f":"IF('Dettaglio delle attività'!E1236=\"\",\" \",'Dettaglio delle attività'!E1236)","v":" "}]
[null,null,null,{"$f":"IF('Dettaglio delle attività'!C1237=\"\",\" \",'Dettaglio delle attività'!C1237)","v":" "},{"$f":"IF('Dettaglio delle attività'!D1237=\"\",\" \",'Dettaglio delle attività'!D1237)","v":" "},{"$f":"IF('Dettaglio delle attività'!E1237=\"\",\" \",'Dettaglio delle attività'!E1237)","v":" "}]
[null,null,null,{"$f":"IF('Dettaglio delle attività'!C1238=\"\",\" \",'Dettaglio delle attività'!C1238)","v":" "},{"$f":"IF('Dettaglio delle attività'!D1238=\"\",\" \",'Dettaglio delle attività'!D1238)","v":" "},{"$f":"IF('Dettaglio delle attività'!E1238=\"\",\" \",'Dettaglio delle attività'!E1238)","v":" "}]
[null,null,null,{"$f":"IF('Dettaglio delle attività'!C1239=\"\",\" \",'Dettaglio delle attività'!C1239)","v":" "},{"$f":"IF('Dettaglio delle attività'!D1239=\"\",\" \",'Dettaglio delle attività'!D1239)","v":" "},{"$f":"IF('Dettaglio delle attività'!E1239=\"\",\" \",'Dettaglio delle attività'!E1239)","v":" "}]
[null,null,null,{"$f":"IF('Dettaglio delle attività'!C1240=\"\",\" \",'Dettaglio delle attività'!C1240)","v":" "},{"$f":"IF('Dettaglio delle attività'!D1240=\"\",\" \",'Dettaglio delle attività'!D1240)","v":" "},{"$f":"IF('Dettaglio delle attività'!E1240=\"\",\" \",'Dettaglio delle attività'!E1240)","v":" "}]
[null,null,null,{"$f":"IF('Dettaglio delle attività'!C1241=\"\",\" \",'Dettaglio delle attività'!C1241)","v":" "},{"$f":"IF('Dettaglio delle attività'!D1241=\"\",\" \",'Dettaglio delle attività'!D1241)","v":" "},{"$f":"IF('Dettaglio delle attività'!E1241=\"\",\" \",'Dettaglio delle attività'!E1241)","v":" "}]
[null,null,null,{"$f":"IF('Dettaglio delle attività'!C1242=\"\",\" \",'Dettaglio delle attività'!C1242)","v":" "},{"$f":"IF('Dettaglio delle attività'!D1242=\"\",\" \",'Dettaglio delle attività'!D1242)","v":" "},{"$f":"IF('Dettaglio delle attività'!E1242=\"\",\" \",'Dettaglio delle attività'!E1242)","v":" "}]
[null,null,null,{"$f":"IF('Dettaglio delle attività'!C1243=\"\",\" \",'Dettaglio delle attività'!C1243)","v":" "},{"$f":"IF('Dettaglio delle attività'!D1243=\"\",\" \",'Dettaglio delle attività'!D1243)","v":" "},{"$f":"IF('Dettaglio delle attività'!E1243=\"\",\" \",'Dettaglio delle attività'!E1243)","v":" "}]
[null,null,null,{"$f":"IF('Dettaglio delle attività'!C1244=\"\",\" \",'Dettaglio delle attività'!C1244)","v":" "},{"$f":"IF('Dettaglio delle attività'!D1244=\"\",\" \",'Dettaglio delle attività'!D1244)","v":" "},{"$f":"IF('Dettaglio delle attività'!E1244=\"\",\" \",'Dettaglio delle attività'!E1244)","v":" "}]
[null,null,null,{"$f":"IF('Dettaglio delle attività'!C1245=\"\",\" \",'Dettaglio delle attività'!C1245)","v":" "},{"$f":"IF('Dettaglio delle attività'!D1245=\"\",\" \",'Dettaglio delle attività'!D1245)","v":" "},{"$f":"IF('Dettaglio delle attività'!E1245=\"\",\" \",'Dettaglio delle attività'!E1245)","v":" "}]
[null,null,null,{"$f":"IF('Dettaglio delle attività'!C1246=\"\",\" \",'Dettaglio delle attività'!C1246)","v":" "},{"$f":"IF('Dettaglio delle attività'!D1246=\"\",\" \",'Dettaglio delle attività'!D1246)","v":" "},{"$f":"IF('Dettaglio delle attività'!E1246=\"\",\" \",'Dettaglio delle attività'!E1246)","v":" "}]
[null,null,null,{"$f":"IF('Dettaglio delle attività'!C1247=\"\",\" \",'Dettaglio delle attività'!C1247)","v":" "},{"$f":"IF('Dettaglio delle attività'!D1247=\"\",\" \",'Dettaglio delle attività'!D1247)","v":" "},{"$f":"IF('Dettaglio delle attività'!E1247=\"\",\" \",'Dettaglio delle attività'!E1247)","v":" "}]
[null,null,null,{"$f":"IF('Dettaglio delle attività'!C1248=\"\",\" \",'Dettaglio delle attività'!C1248)","v":" "},{"$f":"IF('Dettaglio delle attività'!D1248=\"\",\" \",'Dettaglio delle attività'!D1248)","v":" "},{"$f":"IF('Dettaglio delle attività'!E1248=\"\",\" \",'Dettaglio delle attività'!E1248)","v":" "}]
[null,null,null,{"$f":"IF('Dettaglio delle attività'!C1249=\"\",\" \",'Dettaglio delle attività'!C1249)","v":" "},{"$f":"IF('Dettaglio delle attività'!D1249=\"\",\" \",'Dettaglio delle attività'!D1249)","v":" "},{"$f":"IF('Dettaglio delle attività'!E1249=\"\",\" \",'Dettaglio delle attività'!E1249)","v":" "}]
[null,null,null,{"$f":"IF('Dettaglio delle attività'!C1250=\"\",\" \",'Dettaglio delle attività'!C1250)","v":" "},{"$f":"IF('Dettaglio delle attività'!D1250=\"\",\" \",'Dettaglio delle attività'!D1250)","v":" "},{"$f":"IF('Dettaglio delle attività'!E1250=\"\",\" \",'Dettaglio delle attività'!E1250)","v":" "}]
[null,null,null,{"$f":"IF('Dettaglio delle attività'!C1251=\"\",\" \",'Dettaglio delle attività'!C1251)","v":" "},{"$f":"IF('Dettaglio delle attività'!D1251=\"\",\" \",'Dettaglio delle attività'!D1251)","v":" "},{"$f":"IF('Dettaglio delle attività'!E1251=\"\",\" \",'Dettaglio delle attività'!E1251)","v":" "}]
[null,null,null,{"$f":"IF('Dettaglio delle attività'!C1252=\"\",\" \",'Dettaglio delle attività'!C1252)","v":" "},{"$f":"IF('Dettaglio delle attività'!D1252=\"\",\" \",'Dettaglio delle attività'!D1252)","v":" "},{"$f":"IF('Dettaglio delle attività'!E1252=\"\",\" \",'Dettaglio delle attività'!E1252)","v":" "}]
[null,null,null,{"$f":"IF('Dettaglio delle attività'!C1253=\"\",\" \",'Dettaglio delle attività'!C1253)","v":" "},{"$f":"IF('Dettaglio delle attività'!D1253=\"\",\" \",'Dettaglio delle attività'!D1253)","v":" "},{"$f":"IF('Dettaglio delle attività'!E1253=\"\",\" \",'Dettaglio delle attività'!E1253)","v":" "}]
[null,null,null,{"$f":"IF('Dettaglio delle attività'!C1254=\"\",\" \",'Dettaglio delle attività'!C1254)","v":" "},{"$f":"IF('Dettaglio delle attività'!D1254=\"\",\" \",'Dettaglio delle attività'!D1254)","v":" "},{"$f":"IF('Dettaglio delle attività'!E1254=\"\",\" \",'Dettaglio delle attività'!E1254)","v":" "}]
[null,null,null,{"$f":"IF('Dettaglio delle attività'!C1255=\"\",\" \",'Dettaglio delle attività'!C1255)","v":" "},{"$f":"IF('Dettaglio delle attività'!D1255=\"\",\" \",'Dettaglio delle attività'!D1255)","v":" "},{"$f":"IF('Dettaglio delle attività'!E1255=\"\",\" \",'Dettaglio delle attività'!E1255)","v":" "}]
[null,null,null,{"$f":"IF('Dettaglio delle attività'!C1256=\"\",\" \",'Dettaglio delle attività'!C1256)","v":" "},{"$f":"IF('Dettaglio delle attività'!D1256=\"\",\" \",'Dettaglio delle attività'!D1256)","v":" "},{"$f":"IF('Dettaglio delle attività'!E1256=\"\",\" \",'Dettaglio delle attività'!E1256)","v":" "}]
[null,null,null,{"$f":"IF('Dettaglio delle attività'!C1257=\"\",\" \",'Dettaglio delle attività'!C1257)","v":" "},{"$f":"IF('Dettaglio delle attività'!D1257=\"\",\" \",'Dettaglio delle attività'!D1257)","v":" "},{"$f":"IF('Dettaglio delle attività'!E1257=\"\",\" \",'Dettaglio delle attività'!E1257)","v":" "}]
[null,null,null,{"$f":"IF('Dettaglio delle attività'!C1258=\"\",\" \",'Dettaglio delle attività'!C1258)","v":" "},{"$f":"IF('Dettaglio delle attività'!D1258=\"\",\" \",'Dettaglio delle attività'!D1258)","v":" "},{"$f":"IF('Dettaglio delle attività'!E1258=\"\",\" \",'Dettaglio delle attività'!E1258)","v":" "}]
[null,null,null,{"$f":"IF('Dettaglio delle attività'!C1259=\"\",\" \",'Dettaglio delle attività'!C1259)","v":" "},{"$f":"IF('Dettaglio delle attività'!D1259=\"\",\" \",'Dettaglio delle attività'!D1259)","v":" "},{"$f":"IF('Dettaglio delle attività'!E1259=\"\",\" \",'Dettaglio delle attività'!E1259)","v":" "}]
[null,null,null,{"$f":"IF('Dettaglio delle attività'!C1260=\"\",\" \",'Dettaglio delle attività'!C1260)","v":" "},{"$f":"IF('Dettaglio delle attività'!D1260=\"\",\" \",'Dettaglio delle attività'!D1260)","v":" "},{"$f":"IF('Dettaglio delle attività'!E1260=\"\",\" \",'Dettaglio delle attività'!E1260)","v":" "}]
[null,null,null,{"$f":"IF('Dettaglio delle attività'!C1261=\"\",\" \",'Dettaglio delle attività'!C1261)","v":" "},{"$f":"IF('Dettaglio delle attività'!D1261=\"\",\" \",'Dettaglio delle attività'!D1261)","v":" "},{"$f":"IF('Dettaglio delle attività'!E1261=\"\",\" \",'Dettaglio delle attività'!E1261)","v":" "}]
[null,null,null,{"$f":"IF('Dettaglio delle attività'!C1262=\"\",\" \",'Dettaglio delle attività'!C1262)","v":" "},{"$f":"IF('Dettaglio delle attività'!D1262=\"\",\" \",'Dettaglio delle attività'!D1262)","v":" "},{"$f":"IF('Dettaglio delle attività'!E1262=\"\",\" \",'Dettaglio delle attività'!E1262)","v":" "}]
[null,null,null,{"$f":"IF('Dettaglio delle attività'!C1263=\"\",\" \",'Dettaglio delle attività'!C1263)","v":" "},{"$f":"IF('Dettaglio delle attività'!D1263=\"\",\" \",'Dettaglio delle attività'!D1263)","v":" "},{"$f":"IF('Dettaglio delle attività'!E1263=\"\",\" \",'Dettaglio delle attività'!E1263)","v":" "}]
[null,null,null,{"$f":"IF('Dettaglio delle attività'!C1264=\"\",\" \",'Dettaglio delle attività'!C1264)","v":" "},{"$f":"IF('Dettaglio delle attività'!D1264=\"\",\" \",'Dettaglio delle attività'!D1264)","v":" "},{"$f":"IF('Dettaglio delle attività'!E1264=\"\",\" \",'Dettaglio delle attività'!E1264)","v":" "}]
[null,null,null,{"$f":"IF('Dettaglio delle attività'!C1265=\"\",\" \",'Dettaglio delle attività'!C1265)","v":" "},{"$f":"IF('Dettaglio delle attività'!D1265=\"\",\" \",'Dettaglio delle attività'!D1265)","v":" "},{"$f":"IF('Dettaglio delle attività'!E1265=\"\",\" \",'Dettaglio delle attività'!E1265)","v":" "}]
[null,null,null,{"$f":"IF('Dettaglio delle attività'!C1266=\"\",\" \",'Dettaglio delle attività'!C1266)","v":" "},{"$f":"IF('Dettaglio delle attività'!D1266=\"\",\" \",'Dettaglio delle attività'!D1266)","v":" "},{"$f":"IF('Dettaglio delle attività'!E1266=\"\",\" \",'Dettaglio delle attività'!E1266)","v":" "}]
[null,null,null,{"$f":"IF('Dettaglio delle attività'!C1267=\"\",\" \",'Dettaglio delle attività'!C1267)","v":" "},{"$f":"IF('Dettaglio delle attività'!D1267=\"\",\" \",'Dettaglio delle attività'!D1267)","v":" "},{"$f":"IF('Dettaglio delle attività'!E1267=\"\",\" \",'Dettaglio delle attività'!E1267)","v":" "}]
[null,null,null,{"$f":"IF('Dettaglio delle attività'!C1268=\"\",\" \",'Dettaglio delle attività'!C1268)","v":" "},{"$f":"IF('Dettaglio delle attività'!D1268=\"\",\" \",'Dettaglio delle attività'!D1268)","v":" "},{"$f":"IF('Dettaglio delle attività'!E1268=\"\",\" \",'Dettaglio delle attività'!E1268)","v":" "}]
[null,null,null,{"$f":"IF('Dettaglio delle attività'!C1269=\"\",\" \",'Dettaglio delle attività'!C1269)","v":" "},{"$f":"IF('Dettaglio delle attività'!D1269=\"\",\" \",'Dettaglio delle attività'!D1269)","v":" "},{"$f":"IF('Dettaglio delle attività'!E1269=\"\",\" \",'Dettaglio delle attività'!E1269)","v":" "}]
[null,null,null,{"$f":"IF('Dettaglio delle attività'!C1270=\"\",\" \",'Dettaglio delle attività'!C1270)","v":" "},{"$f":"IF('Dettaglio delle attività'!D1270=\"\",\" \",'Dettaglio delle attività'!D1270)","v":" "},{"$f":"IF('Dettaglio delle attività'!E1270=\"\",\" \",'Dettaglio delle attività'!E1270)","v":" "}]
[null,null,null,{"$f":"IF('Dettaglio delle attività'!C1271=\"\",\" \",'Dettaglio delle attività'!C1271)","v":" "},{"$f":"IF('Dettaglio delle attività'!D1271=\"\",\" \",'Dettaglio delle attività'!D1271)","v":" "},{"$f":"IF('Dettaglio delle attività'!E1271=\"\",\" \",'Dettaglio delle attività'!E1271)","v":" "}]
[null,null,null,{"$f":"IF('Dettaglio delle attività'!C1272=\"\",\" \",'Dettaglio delle attività'!C1272)","v":" "},{"$f":"IF('Dettaglio delle attività'!D1272=\"\",\" \",'Dettaglio delle attività'!D1272)","v":" "},{"$f":"IF('Dettaglio delle attività'!E1272=\"\",\" \",'Dettaglio delle attività'!E1272)","v":" "}]
[null,null,null,{"$f":"IF('Dettaglio delle attività'!C1273=\"\",\" \",'Dettaglio delle attività'!C1273)","v":" "},{"$f":"IF('Dettaglio delle attività'!D1273=\"\",\" \",'Dettaglio delle attività'!D1273)","v":" "},{"$f":"IF('Dettaglio delle attività'!E1273=\"\",\" \",'Dettaglio delle attività'!E1273)","v":" "}]
[null,null,null,{"$f":"IF('Dettaglio delle attività'!C1274=\"\",\" \",'Dettaglio delle attività'!C1274)","v":" "},{"$f":"IF('Dettaglio delle attività'!D1274=\"\",\" \",'Dettaglio delle attività'!D1274)","v":" "},{"$f":"IF('Dettaglio delle attività'!E1274=\"\",\" \",'Dettaglio delle attività'!E1274)","v":" "}]
[null,null,null,{"$f":"IF('Dettaglio delle attività'!C1275=\"\",\" \",'Dettaglio delle attività'!C1275)","v":" "},{"$f":"IF('Dettaglio delle attività'!D1275=\"\",\" \",'Dettaglio delle attività'!D1275)","v":" "},{"$f":"IF('Dettaglio delle attività'!E1275=\"\",\" \",'Dettaglio delle attività'!E1275)","v":" "}]
[null,null,null,{"$f":"IF('Dettaglio delle attività'!C1276=\"\",\" \",'Dettaglio delle attività'!C1276)","v":" "},{"$f":"IF('Dettaglio delle attività'!D1276=\"\",\" \",'Dettaglio delle attività'!D1276)","v":" "},{"$f":"IF('Dettaglio delle attività'!E1276=\"\",\" \",'Dettaglio delle attività'!E1276)","v":" "}]
[null,null,null,{"$f":"IF('Dettaglio delle attività'!C1277=\"\",\" \",'Dettaglio delle attività'!C1277)","v":" "},{"$f":"IF('Dettaglio delle attività'!D1277=\"\",\" \",'Dettaglio delle attività'!D1277)","v":" "},{"$f":"IF('Dettaglio delle attività'!E1277=\"\",\" \",'Dettaglio delle attività'!E1277)","v":" "}]
[null,null,null,{"$f":"IF('Dettaglio delle attività'!C1278=\"\",\" \",'Dettaglio delle attività'!C1278)","v":" "},{"$f":"IF('Dettaglio delle attività'!D1278=\"\",\" \",'Dettaglio delle attività'!D1278)","v":" "},{"$f":"IF('Dettaglio delle attività'!E1278=\"\",\" \",'Dettaglio delle attività'!E1278)","v":" "}]
[null,null,null,{"$f":"IF('Dettaglio delle attività'!C1279=\"\",\" \",'Dettaglio delle attività'!C1279)","v":" "},{"$f":"IF('Dettaglio delle attività'!D1279=\"\",\" \",'Dettaglio delle attività'!D1279)","v":" "},{"$f":"IF('Dettaglio delle attività'!E1279=\"\",\" \",'Dettaglio delle attività'!E1279)","v":" "}]
[null,null,null,{"$f":"IF('Dettaglio delle attività'!C1280=\"\",\" \",'Dettaglio delle attività'!C1280)","v":" "},{"$f":"IF('Dettaglio delle attività'!D1280=\"\",\" \",'Dettaglio delle attività'!D1280)","v":" "},{"$f":"IF('Dettaglio delle attività'!E1280=\"\",\" \",'Dettaglio delle attività'!E1280)","v":" "}]
[null,null,null,{"$f":"IF('Dettaglio delle attività'!C1281=\"\",\" \",'Dettaglio delle attività'!C1281)","v":" "},{"$f":"IF('Dettaglio delle attività'!D1281=\"\",\" \",'Dettaglio delle attività'!D1281)","v":" "},{"$f":"IF('Dettaglio delle attività'!E1281=\"\",\" \",'Dettaglio delle attività'!E1281)","v":" "}]
[null,null,null,{"$f":"IF('Dettaglio delle attività'!C1282=\"\",\" \",'Dettaglio delle attività'!C1282)","v":" "},{"$f":"IF('Dettaglio delle attività'!D1282=\"\",\" \",'Dettaglio delle attività'!D1282)","v":" "},{"$f":"IF('Dettaglio delle attività'!E1282=\"\",\" \",'Dettaglio delle attività'!E1282)","v":" "}]
[null,null,null,{"$f":"IF('Dettaglio delle attività'!C1283=\"\",\" \",'Dettaglio delle attività'!C1283)","v":" "},{"$f":"IF('Dettaglio delle attività'!D1283=\"\",\" \",'Dettaglio delle attività'!D1283)","v":" "},{"$f":"IF('Dettaglio delle attività'!E1283=\"\",\" \",'Dettaglio delle attività'!E1283)","v":" "}]
[null,null,null,{"$f":"IF('Dettaglio delle attività'!C1284=\"\",\" \",'Dettaglio delle attività'!C1284)","v":" "},{"$f":"IF('Dettaglio delle attività'!D1284=\"\",\" \",'Dettaglio delle attività'!D1284)","v":" "},{"$f":"IF('Dettaglio delle attività'!E1284=\"\",\" \",'Dettaglio delle attività'!E1284)","v":" "}]
[null,null,null,{"$f":"IF('Dettaglio delle attività'!C1285=\"\",\" \",'Dettaglio delle attività'!C1285)","v":" "},{"$f":"IF('Dettaglio delle attività'!D1285=\"\",\" \",'Dettaglio delle attività'!D1285)","v":" "},{"$f":"IF('Dettaglio delle attività'!E1285=\"\",\" \",'Dettaglio delle attività'!E1285)","v":" "}]
[null,null,null,{"$f":"IF('Dettaglio delle attività'!C1286=\"\",\" \",'Dettaglio delle attività'!C1286)","v":" "},{"$f":"IF('Dettaglio delle attività'!D1286=\"\",\" \",'Dettaglio delle attività'!D1286)","v":" "},{"$f":"IF('Dettaglio delle attività'!E1286=\"\",\" \",'Dettaglio delle attività'!E1286)","v":" "}]
[null,null,null,{"$f":"IF('Dettaglio delle attività'!C1287=\"\",\" \",'Dettaglio delle attività'!C1287)","v":" "},{"$f":"IF('Dettaglio delle attività'!D1287=\"\",\" \",'Dettaglio delle attività'!D1287)","v":" "},{"$f":"IF('Dettaglio delle attività'!E1287=\"\",\" \",'Dettaglio delle attività'!E1287)","v":" "}]
[null,null,null,{"$f":"IF('Dettaglio delle attività'!C1288=\"\",\" \",'Dettaglio delle attività'!C1288)","v":" "},{"$f":"IF('Dettaglio delle attività'!D1288=\"\",\" \",'Dettaglio delle attività'!D1288)","v":" "},{"$f":"IF('Dettaglio delle attività'!E1288=\"\",\" \",'Dettaglio delle attività'!E1288)","v":" "}]
[null,null,null,{"$f":"IF('Dettaglio delle attività'!C1289=\"\",\" \",'Dettaglio delle attività'!C1289)","v":" "},{"$f":"IF('Dettaglio delle attività'!D1289=\"\",\" \",'Dettaglio delle attività'!D1289)","v":" "},{"$f":"IF('Dettaglio delle attività'!E1289=\"\",\" \",'Dettaglio delle attività'!E1289)","v":" "}]
[null,null,null,{"$f":"IF('Dettaglio delle attività'!C1290=\"\",\" \",'Dettaglio delle attività'!C1290)","v":" "},{"$f":"IF('Dettaglio delle attività'!D1290=\"\",\" \",'Dettaglio delle attività'!D1290)","v":" "},{"$f":"IF('Dettaglio delle attività'!E1290=\"\",\" \",'Dettaglio delle attività'!E1290)","v":" "}]
[null,null,null,{"$f":"IF('Dettaglio delle attività'!C1291=\"\",\" \",'Dettaglio delle attività'!C1291)","v":" "},{"$f":"IF('Dettaglio delle attività'!D1291=\"\",\" \",'Dettaglio delle attività'!D1291)","v":" "},{"$f":"IF('Dettaglio delle attività'!E1291=\"\",\" \",'Dettaglio delle attività'!E1291)","v":" "}]
[null,null,null,{"$f":"IF('Dettaglio delle attività'!C1292=\"\",\" \",'Dettaglio delle attività'!C1292)","v":" "},{"$f":"IF('Dettaglio delle attività'!D1292=\"\",\" \",'Dettaglio delle attività'!D1292)","v":" "},{"$f":"IF('Dettaglio delle attività'!E1292=\"\",\" \",'Dettaglio delle attività'!E1292)","v":" "}]
[null,null,null,{"$f":"IF('Dettaglio delle attività'!C1293=\"\",\" \",'Dettaglio delle attività'!C1293)","v":" "},{"$f":"IF('Dettaglio delle attività'!D1293=\"\",\" \",'Dettaglio delle attività'!D1293)","v":" "},{"$f":"IF('Dettaglio delle attività'!E1293=\"\",\" \",'Dettaglio delle attività'!E1293)","v":" "}]
[null,null,null,{"$f":"IF('Dettaglio delle attività'!C1294=\"\",\" \",'Dettaglio delle attività'!C1294)","v":" "},{"$f":"IF('Dettaglio delle attività'!D1294=\"\",\" \",'Dettaglio delle attività'!D1294)","v":" "},{"$f":"IF('Dettaglio delle attività'!E1294=\"\",\" \",'Dettaglio delle attività'!E1294)","v":" "}]
[null,null,null,{"$f":"IF('Dettaglio delle attività'!C1295=\"\",\" \",'Dettaglio delle attività'!C1295)","v":" "},{"$f":"IF('Dettaglio delle attività'!D1295=\"\",\" \",'Dettaglio delle attività'!D1295)","v":" "},{"$f":"IF('Dettaglio delle attività'!E1295=\"\",\" \",'Dettaglio delle attività'!E1295)","v":" "}]
[null,null,null,{"$f":"IF('Dettaglio delle attività'!C1296=\"\",\" \",'Dettaglio delle attività'!C1296)","v":" "},{"$f":"IF('Dettaglio delle attività'!D1296=\"\",\" \",'Dettaglio delle attività'!D1296)","v":" "},{"$f":"IF('Dettaglio delle attività'!E1296=\"\",\" \",'Dettaglio delle attività'!E1296)","v":" "}]
[null,null,null,{"$f":"IF('Dettaglio delle attività'!C1297=\"\",\" \",'Dettaglio delle attività'!C1297)","v":" "},{"$f":"IF('Dettaglio delle attività'!D1297=\"\",\" \",'Dettaglio delle attività'!D1297)","v":" "},{"$f":"IF('Dettaglio delle attività'!E1297=\"\",\" \",'Dettaglio delle attività'!E1297)","v":" "}]
[null,null,null,{"$f":"IF('Dettaglio delle attività'!C1298=\"\",\" \",'Dettaglio delle attività'!C1298)","v":" "},{"$f":"IF('Dettaglio delle attività'!D1298=\"\",\" \",'Dettaglio delle attività'!D1298)","v":" "},{"$f":"IF('Dettaglio delle attività'!E1298=\"\",\" \",'Dettaglio delle attività'!E1298)","v":" "}]
[null,null,null,{"$f":"IF('Dettaglio delle attività'!C1299=\"\",\" \",'Dettaglio delle attività'!C1299)","v":" "},{"$f":"IF('Dettaglio delle attività'!D1299=\"\",\" \",'Dettaglio delle attività'!D1299)","v":" "},{"$f":"IF('Dettaglio delle attività'!E1299=\"\",\" \",'Dettaglio delle attività'!E1299)","v":" "}]
[null,null,null,{"$f":"IF('Dettaglio delle attività'!C1300=\"\",\" \",'Dettaglio delle attività'!C1300)","v":" "},{"$f":"IF('Dettaglio delle attività'!D1300=\"\",\" \",'Dettaglio delle attività'!D1300)","v":" "},{"$f":"IF('Dettaglio delle attività'!E1300=\"\",\" \",'Dettaglio delle attività'!E1300)","v":" "}]
[null,null,null,{"$f":"IF('Dettaglio delle attività'!C1301=\"\",\" \",'Dettaglio delle attività'!C1301)","v":" "},{"$f":"IF('Dettaglio delle attività'!D1301=\"\",\" \",'Dettaglio delle attività'!D1301)","v":" "},{"$f":"IF('Dettaglio delle attività'!E1301=\"\",\" \",'Dettaglio delle attività'!E1301)","v":" "}]
[null,null,null,{"$f":"IF('Dettaglio delle attività'!C1302=\"\",\" \",'Dettaglio delle attività'!C1302)","v":" "},{"$f":"IF('Dettaglio delle attività'!D1302=\"\",\" \",'Dettaglio delle attività'!D1302)","v":" "},{"$f":"IF('Dettaglio delle attività'!E1302=\"\",\" \",'Dettaglio delle attività'!E1302)","v":" "}]
[null,null,null,{"$f":"IF('Dettaglio delle attività'!C1303=\"\",\" \",'Dettaglio delle attività'!C1303)","v":" "},{"$f":"IF('Dettaglio delle attività'!D1303=\"\",\" \",'Dettaglio delle attività'!D1303)","v":" "},{"$f":"IF('Dettaglio delle attività'!E1303=\"\",\" \",'Dettaglio delle attività'!E1303)","v":" "}]
[null,null,null,{"$f":"IF('Dettaglio delle attività'!C1304=\"\",\" \",'Dettaglio delle attività'!C1304)","v":" "},{"$f":"IF('Dettaglio delle attività'!D1304=\"\",\" \",'Dettaglio delle attività'!D1304)","v":" "},{"$f":"IF('Dettaglio delle attività'!E1304=\"\",\" \",'Dettaglio delle attività'!E1304)","v":" "}]
[null,null,null,{"$f":"IF('Dettaglio delle attività'!C1305=\"\",\" \",'Dettaglio delle attività'!C1305)","v":" "},{"$f":"IF('Dettaglio delle attività'!D1305=\"\",\" \",'Dettaglio delle attività'!D1305)","v":" "},{"$f":"IF('Dettaglio delle attività'!E1305=\"\",\" \",'Dettaglio delle attività'!E1305)","v":" "}]
[null,null,null,{"$f":"IF('Dettaglio delle attività'!C1306=\"\",\" \",'Dettaglio delle attività'!C1306)","v":" "},{"$f":"IF('Dettaglio delle attività'!D1306=\"\",\" \",'Dettaglio delle attività'!D1306)","v":" "},{"$f":"IF('Dettaglio delle attività'!E1306=\"\",\" \",'Dettaglio delle attività'!E1306)","v":" "}]
[null,null,null,{"$f":"IF('Dettaglio delle attività'!C1307=\"\",\" \",'Dettaglio delle attività'!C1307)","v":" "},{"$f":"IF('Dettaglio delle attività'!D1307=\"\",\" \",'Dettaglio delle attività'!D1307)","v":" "},{"$f":"IF('Dettaglio delle attività'!E1307=\"\",\" \",'Dettaglio delle attività'!E1307)","v":" "}]
[null,null,null,{"$f":"IF('Dettaglio delle attività'!C1308=\"\",\" \",'Dettaglio delle attività'!C1308)","v":" "},{"$f":"IF('Dettaglio delle attività'!D1308=\"\",\" \",'Dettaglio delle attività'!D1308)","v":" "},{"$f":"IF('Dettaglio delle attività'!E1308=\"\",\" \",'Dettaglio delle attività'!E1308)","v":" "}]
[null,null,null,{"$f":"IF('Dettaglio delle attività'!C1309=\"\",\" \",'Dettaglio delle attività'!C1309)","v":" "},{"$f":"IF('Dettaglio delle attività'!D1309=\"\",\" \",'Dettaglio delle attività'!D1309)","v":" "},{"$f":"IF('Dettaglio delle attività'!E1309=\"\",\" \",'Dettaglio delle attività'!E1309)","v":" "}]
[null,null,null,{"$f":"IF('Dettaglio delle attività'!C1310=\"\",\" \",'Dettaglio delle attività'!C1310)","v":" "},{"$f":"IF('Dettaglio delle attività'!D1310=\"\",\" \",'Dettaglio delle attività'!D1310)","v":" "},{"$f":"IF('Dettaglio delle attività'!E1310=\"\",\" \",'Dettaglio delle attività'!E1310)","v":" "}]
[null,null,null,{"$f":"IF('Dettaglio delle attività'!C1311=\"\",\" \",'Dettaglio delle attività'!C1311)","v":" "},{"$f":"IF('Dettaglio delle attività'!D1311=\"\",\" \",'Dettaglio delle attività'!D1311)","v":" "},{"$f":"IF('Dettaglio delle attività'!E1311=\"\",\" \",'Dettaglio delle attività'!E1311)","v":" "}]
[null,null,null,{"$f":"IF('Dettaglio delle attività'!C1312=\"\",\" \",'Dettaglio delle attività'!C1312)","v":" "},{"$f":"IF('Dettaglio delle attività'!D1312=\"\",\" \",'Dettaglio delle attività'!D1312)","v":" "},{"$f":"IF('Dettaglio delle attività'!E1312=\"\",\" \",'Dettaglio delle attività'!E1312)","v":" "}]
[null,null,null,{"$f":"IF('Dettaglio delle attività'!C1313=\"\",\" \",'Dettaglio delle attività'!C1313)","v":" "},{"$f":"IF('Dettaglio delle attività'!D1313=\"\",\" \",'Dettaglio delle attività'!D1313)","v":" "},{"$f":"IF('Dettaglio delle attività'!E1313=\"\",\" \",'Dettaglio delle attività'!E1313)","v":" "}]
[null,null,null,{"$f":"IF('Dettaglio delle attività'!C1314=\"\",\" \",'Dettaglio delle attività'!C1314)","v":" "},{"$f":"IF('Dettaglio delle attività'!D1314=\"\",\" \",'Dettaglio delle attività'!D1314)","v":" "},{"$f":"IF('Dettaglio delle attività'!E1314=\"\",\" \",'Dettaglio delle attività'!E1314)","v":" "}]
[null,null,null,{"$f":"IF('Dettaglio delle attività'!C1315=\"\",\" \",'Dettaglio delle attività'!C1315)","v":" "},{"$f":"IF('Dettaglio delle attività'!D1315=\"\",\" \",'Dettaglio delle attività'!D1315)","v":" "},{"$f":"IF('Dettaglio delle attività'!E1315=\"\",\" \",'Dettaglio delle attività'!E1315)","v":" "}]
[null,null,null,{"$f":"IF('Dettaglio delle attività'!C1316=\"\",\" \",'Dettaglio delle attività'!C1316)","v":" "},{"$f":"IF('Dettaglio delle attività'!D1316=\"\",\" \",'Dettaglio delle attività'!D1316)","v":" "},{"$f":"IF('Dettaglio delle attività'!E1316=\"\",\" \",'Dettaglio delle attività'!E1316)","v":" "}]
[null,null,null,{"$f":"IF('Dettaglio delle attività'!C1317=\"\",\" \",'Dettaglio delle attività'!C1317)","v":" "},{"$f":"IF('Dettaglio delle attività'!D1317=\"\",\" \",'Dettaglio delle attività'!D1317)","v":" "},{"$f":"IF('Dettaglio delle attività'!E1317=\"\",\" \",'Dettaglio delle attività'!E1317)","v":" "}]
[null,null,null,{"$f":"IF('Dettaglio delle attività'!C1318=\"\",\" \",'Dettaglio delle attività'!C1318)","v":" "},{"$f":"IF('Dettaglio delle attività'!D1318=\"\",\" \",'Dettaglio delle attività'!D1318)","v":" "},{"$f":"IF('Dettaglio delle attività'!E1318=\"\",\" \",'Dettaglio delle attività'!E1318)","v":" "}]
[null,null,null,{"$f":"IF('Dettaglio delle attività'!C1319=\"\",\" \",'Dettaglio delle attività'!C1319)","v":" "},{"$f":"IF('Dettaglio delle attività'!D1319=\"\",\" \",'Dettaglio delle attività'!D1319)","v":" "},{"$f":"IF('Dettaglio delle attività'!E1319=\"\",\" \",'Dettaglio delle attività'!E1319)","v":" "}]
[null,null,null,{"$f":"IF('Dettaglio delle attività'!C1320=\"\",\" \",'Dettaglio delle attività'!C1320)","v":" "},{"$f":"IF('Dettaglio delle attività'!D1320=\"\",\" \",'Dettaglio delle attività'!D1320)","v":" "},{"$f":"IF('Dettaglio delle attività'!E1320=\"\",\" \",'Dettaglio delle attività'!E1320)","v":" "}]
[null,null,null,{"$f":"IF('Dettaglio delle attività'!C1321=\"\",\" \",'Dettaglio delle attività'!C1321)","v":" "},{"$f":"IF('Dettaglio delle attività'!D1321=\"\",\" \",'Dettaglio delle attività'!D1321)","v":" "},{"$f":"IF('Dettaglio delle attività'!E1321=\"\",\" \",'Dettaglio delle attività'!E1321)","v":" "}]
[null,null,null,{"$f":"IF('Dettaglio delle attività'!C1322=\"\",\" \",'Dettaglio delle attività'!C1322)","v":" "},{"$f":"IF('Dettaglio delle attività'!D1322=\"\",\" \",'Dettaglio delle attività'!D1322)","v":" "},{"$f":"IF('Dettaglio delle attività'!E1322=\"\",\" \",'Dettaglio delle attività'!E1322)","v":" "}]
[null,null,null,{"$f":"IF('Dettaglio delle attività'!C1323=\"\",\" \",'Dettaglio delle attività'!C1323)","v":" "},{"$f":"IF('Dettaglio delle attività'!D1323=\"\",\" \",'Dettaglio delle attività'!D1323)","v":" "},{"$f":"IF('Dettaglio delle attività'!E1323=\"\",\" \",'Dettaglio delle attività'!E1323)","v":" "}]
[null,null,null,{"$f":"IF('Dettaglio delle attività'!C1324=\"\",\" \",'Dettaglio delle attività'!C1324)","v":" "},{"$f":"IF('Dettaglio delle attività'!D1324=\"\",\" \",'Dettaglio delle attività'!D1324)","v":" "},{"$f":"IF('Dettaglio delle attività'!E1324=\"\",\" \",'Dettaglio delle attività'!E1324)","v":" "}]
[null,null,null,{"$f":"IF('Dettaglio delle attività'!C1325=\"\",\" \",'Dettaglio delle attività'!C1325)","v":" "},{"$f":"IF('Dettaglio delle attività'!D1325=\"\",\" \",'Dettaglio delle attività'!D1325)","v":" "},{"$f":"IF('Dettaglio delle attività'!E1325=\"\",\" \",'Dettaglio delle attività'!E1325)","v":" "}]
[null,null,null,{"$f":"IF('Dettaglio delle attività'!C1326=\"\",\" \",'Dettaglio delle attività'!C1326)","v":" "},{"$f":"IF('Dettaglio delle attività'!D1326=\"\",\" \",'Dettaglio delle attività'!D1326)","v":" "},{"$f":"IF('Dettaglio delle attività'!E1326=\"\",\" \",'Dettaglio delle attività'!E1326)","v":" "}]
[null,null,null,{"$f":"IF('Dettaglio delle attività'!C1327=\"\",\" \",'Dettaglio delle attività'!C1327)","v":" "},{"$f":"IF('Dettaglio delle attività'!D1327=\"\",\" \",'Dettaglio delle attività'!D1327)","v":" "},{"$f":"IF('Dettaglio delle attività'!E1327=\"\",\" \",'Dettaglio delle attività'!E1327)","v":" "}]
[null,null,null,{"$f":"IF('Dettaglio delle attività'!C1328=\"\",\" \",'Dettaglio delle attività'!C1328)","v":" "},{"$f":"IF('Dettaglio delle attività'!D1328=\"\",\" \",'Dettaglio delle attività'!D1328)","v":" "},{"$f":"IF('Dettaglio delle attività'!E1328=\"\",\" \",'Dettaglio delle attività'!E1328)","v":" "}]
[null,null,null,{"$f":"IF('Dettaglio delle attività'!C1329=\"\",\" \",'Dettaglio delle attività'!C1329)","v":" "},{"$f":"IF('Dettaglio delle attività'!D1329=\"\",\" \",'Dettaglio delle attività'!D1329)","v":" "},{"$f":"IF('Dettaglio delle attività'!E1329=\"\",\" \",'Dettaglio delle attività'!E1329)","v":" "}]
[null,null,null,{"$f":"IF('Dettaglio delle attività'!C1330=\"\",\" \",'Dettaglio delle attività'!C1330)","v":" "},{"$f":"IF('Dettaglio delle attività'!D1330=\"\",\" \",'Dettaglio delle attività'!D1330)","v":" "},{"$f":"IF('Dettaglio delle attività'!E1330=\"\",\" \",'Dettaglio delle attività'!E1330)","v":" "}]
[null,null,null,{"$f":"IF('Dettaglio delle attività'!C1331=\"\",\" \",'Dettaglio delle attività'!C1331)","v":" "},{"$f":"IF('Dettaglio delle attività'!D1331=\"\",\" \",'Dettaglio delle attività'!D1331)","v":" "},{"$f":"IF('Dettaglio delle attività'!E1331=\"\",\" \",'Dettaglio delle attività'!E1331)","v":" "}]
[null,null,null,{"$f":"IF('Dettaglio delle attività'!C1332=\"\",\" \",'Dettaglio delle attività'!C1332)","v":" "},{"$f":"IF('Dettaglio delle attività'!D1332=\"\",\" \",'Dettaglio delle attività'!D1332)","v":" "},{"$f":"IF('Dettaglio delle attività'!E1332=\"\",\" \",'Dettaglio delle attività'!E1332)","v":" "}]
[null,null,null,{"$f":"IF('Dettaglio delle attività'!C1333=\"\",\" \",'Dettaglio delle attività'!C1333)","v":" "},{"$f":"IF('Dettaglio delle attività'!D1333=\"\",\" \",'Dettaglio delle attività'!D1333)","v":" "},{"$f":"IF('Dettaglio delle attività'!E1333=\"\",\" \",'Dettaglio delle attività'!E1333)","v":" "}]
[null,null,null,{"$f":"IF('Dettaglio delle attività'!C1334=\"\",\" \",'Dettaglio delle attività'!C1334)","v":" "},{"$f":"IF('Dettaglio delle attività'!D1334=\"\",\" \",'Dettaglio delle attività'!D1334)","v":" "},{"$f":"IF('Dettaglio delle attività'!E1334=\"\",\" \",'Dettaglio delle attività'!E1334)","v":" "}]
[null,null,null,{"$f":"IF('Dettaglio delle attività'!C1335=\"\",\" \",'Dettaglio delle attività'!C1335)","v":" "},{"$f":"IF('Dettaglio delle attività'!D1335=\"\",\" \",'Dettaglio delle attività'!D1335)","v":" "},{"$f":"IF('Dettaglio delle attività'!E1335=\"\",\" \",'Dettaglio delle attività'!E1335)","v":" "}]
[null,null,null,{"$f":"IF('Dettaglio delle attività'!C1336=\"\",\" \",'Dettaglio delle attività'!C1336)","v":" "},{"$f":"IF('Dettaglio delle attività'!D1336=\"\",\" \",'Dettaglio delle attività'!D1336)","v":" "},{"$f":"IF('Dettaglio delle attività'!E1336=\"\",\" \",'Dettaglio delle attività'!E1336)","v":" "}]
[null,null,null,{"$f":"IF('Dettaglio delle attività'!C1337=\"\",\" \",'Dettaglio delle attività'!C1337)","v":" "},{"$f":"IF('Dettaglio delle attività'!D1337=\"\",\" \",'Dettaglio delle attività'!D1337)","v":" "},{"$f":"IF('Dettaglio delle attività'!E1337=\"\",\" \",'Dettaglio delle attività'!E1337)","v":" "}]
[null,null,null,{"$f":"IF('Dettaglio delle attività'!C1338=\"\",\" \",'Dettaglio delle attività'!C1338)","v":" "},{"$f":"IF('Dettaglio delle attività'!D1338=\"\",\" \",'Dettaglio delle attività'!D1338)","v":" "},{"$f":"IF('Dettaglio delle attività'!E1338=\"\",\" \",'Dettaglio delle attività'!E1338)","v":" "}]
[null,null,null,{"$f":"IF('Dettaglio delle attività'!C1339=\"\",\" \",'Dettaglio delle attività'!C1339)","v":" "},{"$f":"IF('Dettaglio delle attività'!D1339=\"\",\" \",'Dettaglio delle attività'!D1339)","v":" "},{"$f":"IF('Dettaglio delle attività'!E1339=\"\",\" \",'Dettaglio delle attività'!E1339)","v":" "}]
[null,null,null,{"$f":"IF('Dettaglio delle attività'!C1340=\"\",\" \",'Dettaglio delle attività'!C1340)","v":" "},{"$f":"IF('Dettaglio delle attività'!D1340=\"\",\" \",'Dettaglio delle attività'!D1340)","v":" "},{"$f":"IF('Dettaglio delle attività'!E1340=\"\",\" \",'Dettaglio delle attività'!E1340)","v":" "}]
[null,null,null,{"$f":"IF('Dettaglio delle attività'!C1341=\"\",\" \",'Dettaglio delle attività'!C1341)","v":" "},{"$f":"IF('Dettaglio delle attività'!D1341=\"\",\" \",'Dettaglio delle attività'!D1341)","v":" "},{"$f":"IF('Dettaglio delle attività'!E1341=\"\",\" \",'Dettaglio delle attività'!E1341)","v":" "}]
[null,null,null,{"$f":"IF('Dettaglio delle attività'!C1342=\"\",\" \",'Dettaglio delle attività'!C1342)","v":" "},{"$f":"IF('Dettaglio delle attività'!D1342=\"\",\" \",'Dettaglio delle attività'!D1342)","v":" "},{"$f":"IF('Dettaglio delle attività'!E1342=\"\",\" \",'Dettaglio delle attività'!E1342)","v":" "}]
[null,null,null,{"$f":"IF('Dettaglio delle attività'!C1343=\"\",\" \",'Dettaglio delle attività'!C1343)","v":" "},{"$f":"IF('Dettaglio delle attività'!D1343=\"\",\" \",'Dettaglio delle attività'!D1343)","v":" "},{"$f":"IF('Dettaglio delle attività'!E1343=\"\",\" \",'Dettaglio delle attività'!E1343)","v":" "}]
[null,null,null,{"$f":"IF('Dettaglio delle attività'!C1344=\"\",\" \",'Dettaglio delle attività'!C1344)","v":" "},{"$f":"IF('Dettaglio delle attività'!D1344=\"\",\" \",'Dettaglio delle attività'!D1344)","v":" "},{"$f":"IF('Dettaglio delle attività'!E1344=\"\",\" \",'Dettaglio delle attività'!E1344)","v":" "}]
[null,null,null,{"$f":"IF('Dettaglio delle attività'!C1345=\"\",\" \",'Dettaglio delle attività'!C1345)","v":" "},{"$f":"IF('Dettaglio delle attività'!D1345=\"\",\" \",'Dettaglio delle attività'!D1345)","v":" "},{"$f":"IF('Dettaglio delle attività'!E1345=\"\",\" \",'Dettaglio delle attività'!E1345)","v":" "}]
[null,null,null,{"$f":"IF('Dettaglio delle attività'!C1346=\"\",\" \",'Dettaglio delle attività'!C1346)","v":" "},{"$f":"IF('Dettaglio delle attività'!D1346=\"\",\" \",'Dettaglio delle attività'!D1346)","v":" "},{"$f":"IF('Dettaglio delle attività'!E1346=\"\",\" \",'Dettaglio delle attività'!E1346)","v":" "}]
[null,null,null,{"$f":"IF('Dettaglio delle attività'!C1347=\"\",\" \",'Dettaglio delle attività'!C1347)","v":" "},{"$f":"IF('Dettaglio delle attività'!D1347=\"\",\" \",'Dettaglio delle attività'!D1347)","v":" "},{"$f":"IF('Dettaglio delle attività'!E1347=\"\",\" \",'Dettaglio delle attività'!E1347)","v":" "}]
[null,null,null,{"$f":"IF('Dettaglio delle attività'!C1348=\"\",\" \",'Dettaglio delle attività'!C1348)","v":" "},{"$f":"IF('Dettaglio delle attività'!D1348=\"\",\" \",'Dettaglio delle attività'!D1348)","v":" "},{"$f":"IF('Dettaglio delle attività'!E1348=\"\",\" \",'Dettaglio delle attività'!E1348)","v":" "}]
[null,null,null,{"$f":"IF('Dettaglio delle attività'!C1349=\"\",\" \",'Dettaglio delle attività'!C1349)","v":" "},{"$f":"IF('Dettaglio delle attività'!D1349=\"\",\" \",'Dettaglio delle attività'!D1349)","v":" "},{"$f":"IF('Dettaglio delle attività'!E1349=\"\",\" \",'Dettaglio delle attività'!E1349)","v":" "}]
[null,null,null,{"$f":"IF('Dettaglio delle attività'!C1350=\"\",\" \",'Dettaglio delle attività'!C1350)","v":" "},{"$f":"IF('Dettaglio delle attività'!D1350=\"\",\" \",'Dettaglio delle attività'!D1350)","v":" "},{"$f":"IF('Dettaglio delle attività'!E1350=\"\",\" \",'Dettaglio delle attività'!E1350)","v":" "}]
[null,null,null,{"$f":"IF('Dettaglio delle attività'!C1351=\"\",\" \",'Dettaglio delle attività'!C1351)","v":" "},{"$f":"IF('Dettaglio delle attività'!D1351=\"\",\" \",'Dettaglio delle attività'!D1351)","v":" "},{"$f":"IF('Dettaglio delle attività'!E1351=\"\",\" \",'Dettaglio delle attività'!E1351)","v":" "}]
[null,null,null,{"$f":"IF('Dettaglio delle attività'!C1352=\"\",\" \",'Dettaglio delle attività'!C1352)","v":" "},{"$f":"IF('Dettaglio delle attività'!D1352=\"\",\" \",'Dettaglio delle attività'!D1352)","v":" "},{"$f":"IF('Dettaglio delle attività'!E1352=\"\",\" \",'Dettaglio delle attività'!E1352)","v":" "}]
[null,null,null,{"$f":"IF('Dettaglio delle attività'!C1353=\"\",\" \",'Dettaglio delle attività'!C1353)","v":" "},{"$f":"IF('Dettaglio delle attività'!D1353=\"\",\" \",'Dettaglio delle attività'!D1353)","v":" "},{"$f":"IF('Dettaglio delle attività'!E1353=\"\",\" \",'Dettaglio delle attività'!E1353)","v":" "}]
[null,null,null,{"$f":"IF('Dettaglio delle attività'!C1354=\"\",\" \",'Dettaglio delle attività'!C1354)","v":" "},{"$f":"IF('Dettaglio delle attività'!D1354=\"\",\" \",'Dettaglio delle attività'!D1354)","v":" "},{"$f":"IF('Dettaglio delle attività'!E1354=\"\",\" \",'Dettaglio delle attività'!E1354)","v":" "}]
[null,null,null,{"$f":"IF('Dettaglio delle attività'!C1355=\"\",\" \",'Dettaglio delle attività'!C1355)","v":" "},{"$f":"IF('Dettaglio delle attività'!D1355=\"\",\" \",'Dettaglio delle attività'!D1355)","v":" "},{"$f":"IF('Dettaglio delle attività'!E1355=\"\",\" \",'Dettaglio delle attività'!E1355)","v":" "}]
[null,null,null,{"$f":"IF('Dettaglio delle attività'!C1356=\"\",\" \",'Dettaglio delle attività'!C1356)","v":" "},{"$f":"IF('Dettaglio delle attività'!D1356=\"\",\" \",'Dettaglio delle attività'!D1356)","v":" "},{"$f":"IF('Dettaglio delle attività'!E1356=\"\",\" \",'Dettaglio delle attività'!E1356)","v":" "}]
[null,null,null,{"$f":"IF('Dettaglio delle attività'!C1357=\"\",\" \",'Dettaglio delle attività'!C1357)","v":" "},{"$f":"IF('Dettaglio delle attività'!D1357=\"\",\" \",'Dettaglio delle attività'!D1357)","v":" "},{"$f":"IF('Dettaglio delle attività'!E1357=\"\",\" \",'Dettaglio delle attività'!E1357)","v":" "}]
[null,null,null,{"$f":"IF('Dettaglio delle attività'!C1358=\"\",\" \",'Dettaglio delle attività'!C1358)","v":" "},{"$f":"IF('Dettaglio delle attività'!D1358=\"\",\" \",'Dettaglio delle attività'!D1358)","v":" "},{"$f":"IF('Dettaglio delle attività'!E1358=\"\",\" \",'Dettaglio delle attività'!E1358)","v":" "}]
[null,null,null,{"$f":"IF('Dettaglio delle attività'!C1359=\"\",\" \",'Dettaglio delle attività'!C1359)","v":" "},{"$f":"IF('Dettaglio delle attività'!D1359=\"\",\" \",'Dettaglio delle attività'!D1359)","v":" "},{"$f":"IF('Dettaglio delle attività'!E1359=\"\",\" \",'Dettaglio delle attività'!E1359)","v":" "}]
[null,null,null,{"$f":"IF('Dettaglio delle attività'!C1360=\"\",\" \",'Dettaglio delle attività'!C1360)","v":" "},{"$f":"IF('Dettaglio delle attività'!D1360=\"\",\" \",'Dettaglio delle attività'!D1360)","v":" "},{"$f":"IF('Dettaglio delle attività'!E1360=\"\",\" \",'Dettaglio delle attività'!E1360)","v":" "}]
[null,null,null,{"$f":"IF('Dettaglio delle attività'!C1361=\"\",\" \",'Dettaglio delle attività'!C1361)","v":" "},{"$f":"IF('Dettaglio delle attività'!D1361=\"\",\" \",'Dettaglio delle attività'!D1361)","v":" "},{"$f":"IF('Dettaglio delle attività'!E1361=\"\",\" \",'Dettaglio delle attività'!E1361)","v":" "}]
[null,null,null,{"$f":"IF('Dettaglio delle attività'!C1362=\"\",\" \",'Dettaglio delle attività'!C1362)","v":" "},{"$f":"IF('Dettaglio delle attività'!D1362=\"\",\" \",'Dettaglio delle attività'!D1362)","v":" "},{"$f":"IF('Dettaglio delle attività'!E1362=\"\",\" \",'Dettaglio delle attività'!E1362)","v":" "}]
[null,null,null,{"$f":"IF('Dettaglio delle attività'!C1363=\"\",\" \",'Dettaglio delle attività'!C1363)","v":" "},{"$f":"IF('Dettaglio delle attività'!D1363=\"\",\" \",'Dettaglio delle attività'!D1363)","v":" "},{"$f":"IF('Dettaglio delle attività'!E1363=\"\",\" \",'Dettaglio delle attività'!E1363)","v":" "}]
[null,null,null,{"$f":"IF('Dettaglio delle attività'!C1364=\"\",\" \",'Dettaglio delle attività'!C1364)","v":" "},{"$f":"IF('Dettaglio delle attività'!D1364=\"\",\" \",'Dettaglio delle attività'!D1364)","v":" "},{"$f":"IF('Dettaglio delle attività'!E1364=\"\",\" \",'Dettaglio delle attività'!E1364)","v":" "}]
[null,null,null,{"$f":"IF('Dettaglio delle attività'!C1365=\"\",\" \",'Dettaglio delle attività'!C1365)","v":" "},{"$f":"IF('Dettaglio delle attività'!D1365=\"\",\" \",'Dettaglio delle attività'!D1365)","v":" "},{"$f":"IF('Dettaglio delle attività'!E1365=\"\",\" \",'Dettaglio delle attività'!E1365)","v":" "}]
[null,null,null,{"$f":"IF('Dettaglio delle attività'!C1366=\"\",\" \",'Dettaglio delle attività'!C1366)","v":" "},{"$f":"IF('Dettaglio delle attività'!D1366=\"\",\" \",'Dettaglio delle attività'!D1366)","v":" "},{"$f":"IF('Dettaglio delle attività'!E1366=\"\",\" \",'Dettaglio delle attività'!E1366)","v":" "}]
[null,null,null,{"$f":"IF('Dettaglio delle attività'!C1367=\"\",\" \",'Dettaglio delle attività'!C1367)","v":" "},{"$f":"IF('Dettaglio delle attività'!D1367=\"\",\" \",'Dettaglio delle attività'!D1367)","v":" "},{"$f":"IF('Dettaglio delle attività'!E1367=\"\",\" \",'Dettaglio delle attività'!E1367)","v":" "}]
[null,null,null,{"$f":"IF('Dettaglio delle attività'!C1368=\"\",\" \",'Dettaglio delle attività'!C1368)","v":" "},{"$f":"IF('Dettaglio delle attività'!D1368=\"\",\" \",'Dettaglio delle attività'!D1368)","v":" "},{"$f":"IF('Dettaglio delle attività'!E1368=\"\",\" \",'Dettaglio delle attività'!E1368)","v":" "}]
[null,null,null,{"$f":"IF('Dettaglio delle attività'!C1369=\"\",\" \",'Dettaglio delle attività'!C1369)","v":" "},{"$f":"IF('Dettaglio delle attività'!D1369=\"\",\" \",'Dettaglio delle attività'!D1369)","v":" "},{"$f":"IF('Dettaglio delle attività'!E1369=\"\",\" \",'Dettaglio delle attività'!E1369)","v":" "}]
[null,null,null,{"$f":"IF('Dettaglio delle attività'!C1370=\"\",\" \",'Dettaglio delle attività'!C1370)","v":" "},{"$f":"IF('Dettaglio delle attività'!D1370=\"\",\" \",'Dettaglio delle attività'!D1370)","v":" "},{"$f":"IF('Dettaglio delle attività'!E1370=\"\",\" \",'Dettaglio delle attività'!E1370)","v":" "}]
[null,null,null,{"$f":"IF('Dettaglio delle attività'!C1371=\"\",\" \",'Dettaglio delle attività'!C1371)","v":" "},{"$f":"IF('Dettaglio delle attività'!D1371=\"\",\" \",'Dettaglio delle attività'!D1371)","v":" "},{"$f":"IF('Dettaglio delle attività'!E1371=\"\",\" \",'Dettaglio delle attività'!E1371)","v":" "}]
[null,null,null,{"$f":"IF('Dettaglio delle attività'!C1372=\"\",\" \",'Dettaglio delle attività'!C1372)","v":" "},{"$f":"IF('Dettaglio delle attività'!D1372=\"\",\" \",'Dettaglio delle attività'!D1372)","v":" "},{"$f":"IF('Dettaglio delle attività'!E1372=\"\",\" \",'Dettaglio delle attività'!E1372)","v":" "}]
[null,null,null,{"$f":"IF('Dettaglio delle attività'!C1373=\"\",\" \",'Dettaglio delle attività'!C1373)","v":" "},{"$f":"IF('Dettaglio delle attività'!D1373=\"\",\" \",'Dettaglio delle attività'!D1373)","v":" "},{"$f":"IF('Dettaglio delle attività'!E1373=\"\",\" \",'Dettaglio delle attività'!E1373)","v":" "}]
[null,null,null,{"$f":"IF('Dettaglio delle attività'!C1374=\"\",\" \",'Dettaglio delle attività'!C1374)","v":" "},{"$f":"IF('Dettaglio delle attività'!D1374=\"\",\" \",'Dettaglio delle attività'!D1374)","v":" "},{"$f":"IF('Dettaglio delle attività'!E1374=\"\",\" \",'Dettaglio delle attività'!E1374)","v":" "}]
[null,null,null,{"$f":"IF('Dettaglio delle attività'!C1375=\"\",\" \",'Dettaglio delle attività'!C1375)","v":" "},{"$f":"IF('Dettaglio delle attività'!D1375=\"\",\" \",'Dettaglio delle attività'!D1375)","v":" "},{"$f":"IF('Dettaglio delle attività'!E1375=\"\",\" \",'Dettaglio delle attività'!E1375)","v":" "}]
[null,null,null,{"$f":"IF('Dettaglio delle attività'!C1376=\"\",\" \",'Dettaglio delle attività'!C1376)","v":" "},{"$f":"IF('Dettaglio delle attività'!D1376=\"\",\" \",'Dettaglio delle attività'!D1376)","v":" "},{"$f":"IF('Dettaglio delle attività'!E1376=\"\",\" \",'Dettaglio delle attività'!E1376)","v":" "}]
[null,null,null,{"$f":"IF('Dettaglio delle attività'!C1377=\"\",\" \",'Dettaglio delle attività'!C1377)","v":" "},{"$f":"IF('Dettaglio delle attività'!D1377=\"\",\" \",'Dettaglio delle attività'!D1377)","v":" "},{"$f":"IF('Dettaglio delle attività'!E1377=\"\",\" \",'Dettaglio delle attività'!E1377)","v":" "}]
[null,null,null,{"$f":"IF('Dettaglio delle attività'!C1378=\"\",\" \",'Dettaglio delle attività'!C1378)","v":" "},{"$f":"IF('Dettaglio delle attività'!D1378=\"\",\" \",'Dettaglio delle attività'!D1378)","v":" "},{"$f":"IF('Dettaglio delle attività'!E1378=\"\",\" \",'Dettaglio delle attività'!E1378)","v":" "}]
[null,null,null,{"$f":"IF('Dettaglio delle attività'!C1379=\"\",\" \",'Dettaglio delle attività'!C1379)","v":" "},{"$f":"IF('Dettaglio delle attività'!D1379=\"\",\" \",'Dettaglio delle attività'!D1379)","v":" "},{"$f":"IF('Dettaglio delle attività'!E1379=\"\",\" \",'Dettaglio delle attività'!E1379)","v":" "}]
[null,null,null,{"$f":"IF('Dettaglio delle attività'!C1380=\"\",\" \",'Dettaglio delle attività'!C1380)","v":" "},{"$f":"IF('Dettaglio delle attività'!D1380=\"\",\" \",'Dettaglio delle attività'!D1380)","v":" "},{"$f":"IF('Dettaglio delle attività'!E1380=\"\",\" \",'Dettaglio delle attività'!E1380)","v":" "}]
[null,null,null,{"$f":"IF('Dettaglio delle attività'!C1381=\"\",\" \",'Dettaglio delle attività'!C1381)","v":" "},{"$f":"IF('Dettaglio delle attività'!D1381=\"\",\" \",'Dettaglio delle attività'!D1381)","v":" "},{"$f":"IF('Dettaglio delle attività'!E1381=\"\",\" \",'Dettaglio delle attività'!E1381)","v":" "}]
[null,null,null,{"$f":"IF('Dettaglio delle attività'!C1382=\"\",\" \",'Dettaglio delle attività'!C1382)","v":" "},{"$f":"IF('Dettaglio delle attività'!D1382=\"\",\" \",'Dettaglio delle attività'!D1382)","v":" "},{"$f":"IF('Dettaglio delle attività'!E1382=\"\",\" \",'Dettaglio delle attività'!E1382)","v":" "}]
[null,null,null,{"$f":"IF('Dettaglio delle attività'!C1383=\"\",\" \",'Dettaglio delle attività'!C1383)","v":" "},{"$f":"IF('Dettaglio delle attività'!D1383=\"\",\" \",'Dettaglio delle attività'!D1383)","v":" "},{"$f":"IF('Dettaglio delle attività'!E1383=\"\",\" \",'Dettaglio delle attività'!E1383)","v":" "}]
[null,null,null,{"$f":"IF('Dettaglio delle attività'!C1384=\"\",\" \",'Dettaglio delle attività'!C1384)","v":" "},{"$f":"IF('Dettaglio delle attività'!D1384=\"\",\" \",'Dettaglio delle attività'!D1384)","v":" "},{"$f":"IF('Dettaglio delle attività'!E1384=\"\",\" \",'Dettaglio delle attività'!E1384)","v":" "}]
[null,null,null,{"$f":"IF('Dettaglio delle attività'!C1385=\"\",\" \",'Dettaglio delle attività'!C1385)","v":" "},{"$f":"IF('Dettaglio delle attività'!D1385=\"\",\" \",'Dettaglio delle attività'!D1385)","v":" "},{"$f":"IF('Dettaglio delle attività'!E1385=\"\",\" \",'Dettaglio delle attività'!E1385)","v":" "}]
[null,null,null,{"$f":"IF('Dettaglio delle attività'!C1386=\"\",\" \",'Dettaglio delle attività'!C1386)","v":" "},{"$f":"IF('Dettaglio delle attività'!D1386=\"\",\" \",'Dettaglio delle attività'!D1386)","v":" "},{"$f":"IF('Dettaglio delle attività'!E1386=\"\",\" \",'Dettaglio delle attività'!E1386)","v":" "}]
[null,null,null,{"$f":"IF('Dettaglio delle attività'!C1387=\"\",\" \",'Dettaglio delle attività'!C1387)","v":" "},{"$f":"IF('Dettaglio delle attività'!D1387=\"\",\" \",'Dettaglio delle attività'!D1387)","v":" "},{"$f":"IF('Dettaglio delle attività'!E1387=\"\",\" \",'Dettaglio delle attività'!E1387)","v":" "}]
[null,null,null,{"$f":"IF('Dettaglio delle attività'!C1388=\"\",\" \",'Dettaglio delle attività'!C1388)","v":" "},{"$f":"IF('Dettaglio delle attività'!D1388=\"\",\" \",'Dettaglio delle attività'!D1388)","v":" "},{"$f":"IF('Dettaglio delle attività'!E1388=\"\",\" \",'Dettaglio delle attività'!E1388)","v":" "}]
[null,null,null,{"$f":"IF('Dettaglio delle attività'!C1389=\"\",\" \",'Dettaglio delle attività'!C1389)","v":" "},{"$f":"IF('Dettaglio delle attività'!D1389=\"\",\" \",'Dettaglio delle attività'!D1389)","v":" "},{"$f":"IF('Dettaglio delle attività'!E1389=\"\",\" \",'Dettaglio delle attività'!E1389)","v":" "}]
[null,null,null,{"$f":"IF('Dettaglio delle attività'!C1390=\"\",\" \",'Dettaglio delle attività'!C1390)","v":" "},{"$f":"IF('Dettaglio delle attività'!D1390=\"\",\" \",'Dettaglio delle attività'!D1390)","v":" "},{"$f":"IF('Dettaglio delle attività'!E1390=\"\",\" \",'Dettaglio delle attività'!E1390)","v":" "}]
[null,null,null,{"$f":"IF('Dettaglio delle attività'!C1391=\"\",\" \",'Dettaglio delle attività'!C1391)","v":" "},{"$f":"IF('Dettaglio delle attività'!D1391=\"\",\" \",'Dettaglio delle attività'!D1391)","v":" "},{"$f":"IF('Dettaglio delle attività'!E1391=\"\",\" \",'Dettaglio delle attività'!E1391)","v":" "}]
[null,null,null,{"$f":"IF('Dettaglio delle attività'!C1392=\"\",\" \",'Dettaglio delle attività'!C1392)","v":" "},{"$f":"IF('Dettaglio delle attività'!D1392=\"\",\" \",'Dettaglio delle attività'!D1392)","v":" "},{"$f":"IF('Dettaglio delle attività'!E1392=\"\",\" \",'Dettaglio delle attività'!E1392)","v":" "}]
[null,null,null,{"$f":"IF('Dettaglio delle attività'!C1393=\"\",\" \",'Dettaglio delle attività'!C1393)","v":" "},{"$f":"IF('Dettaglio delle attività'!D1393=\"\",\" \",'Dettaglio delle attività'!D1393)","v":" "},{"$f":"IF('Dettaglio delle attività'!E1393=\"\",\" \",'Dettaglio delle attività'!E1393)","v":" "}]
[null,null,null,{"$f":"IF('Dettaglio delle attività'!C1394=\"\",\" \",'Dettaglio delle attività'!C1394)","v":" "},{"$f":"IF('Dettaglio delle attività'!D1394=\"\",\" \",'Dettaglio delle attività'!D1394)","v":" "},{"$f":"IF('Dettaglio delle attività'!E1394=\"\",\" \",'Dettaglio delle attività'!E1394)","v":" "}]
[null,null,null,{"$f":"IF('Dettaglio delle attività'!C1395=\"\",\" \",'Dettaglio delle attività'!C1395)","v":" "},{"$f":"IF('Dettaglio delle attività'!D1395=\"\",\" \",'Dettaglio delle attività'!D1395)","v":" "},{"$f":"IF('Dettaglio delle attività'!E1395=\"\",\" \",'Dettaglio delle attività'!E1395)","v":" "}]
[null,null,null,{"$f":"IF('Dettaglio delle attività'!C1396=\"\",\" \",'Dettaglio delle attività'!C1396)","v":" "},{"$f":"IF('Dettaglio delle attività'!D1396=\"\",\" \",'Dettaglio delle attività'!D1396)","v":" "},{"$f":"IF('Dettaglio delle attività'!E1396=\"\",\" \",'Dettaglio delle attività'!E1396)","v":" "}]
[null,null,null,{"$f":"IF('Dettaglio delle attività'!C1397=\"\",\" \",'Dettaglio delle attività'!C1397)","v":" "},{"$f":"IF('Dettaglio delle attività'!D1397=\"\",\" \",'Dettaglio delle attività'!D1397)","v":" "},{"$f":"IF('Dettaglio delle attività'!E1397=\"\",\" \",'Dettaglio delle attività'!E1397)","v":" "}]
[null,null,null,{"$f":"IF('Dettaglio delle attività'!C1398=\"\",\" \",'Dettaglio delle attività'!C1398)","v":" "},{"$f":"IF('Dettaglio delle attività'!D1398=\"\",\" \",'Dettaglio delle attività'!D1398)","v":" "},{"$f":"IF('Dettaglio delle attività'!E1398=\"\",\" \",'Dettaglio delle attività'!E1398)","v":" "}]
[null,null,null,{"$f":"IF('Dettaglio delle attività'!C1399=\"\",\" \",'Dettaglio delle attività'!C1399)","v":" "},{"$f":"IF('Dettaglio delle attività'!D1399=\"\",\" \",'Dettaglio delle attività'!D1399)","v":" "},{"$f":"IF('Dettaglio delle attività'!E1399=\"\",\" \",'Dettaglio delle attività'!E1399)","v":" "}]
[null,null,null,{"$f":"IF('Dettaglio delle attività'!C1400=\"\",\" \",'Dettaglio delle attività'!C1400)","v":" "},{"$f":"IF('Dettaglio delle attività'!D1400=\"\",\" \",'Dettaglio delle attività'!D1400)","v":" "},{"$f":"IF('Dettaglio delle attività'!E1400=\"\",\" \",'Dettaglio delle attività'!E1400)","v":" "}]
[null,null,null,{"$f":"IF('Dettaglio delle attività'!C1401=\"\",\" \",'Dettaglio delle attività'!C1401)","v":" "},{"$f":"IF('Dettaglio delle attività'!D1401=\"\",\" \",'Dettaglio delle attività'!D1401)","v":" "},{"$f":"IF('Dettaglio delle attività'!E1401=\"\",\" \",'Dettaglio delle attività'!E1401)","v":" "}]
[null,null,null,{"$f":"IF('Dettaglio delle attività'!C1402=\"\",\" \",'Dettaglio delle attività'!C1402)","v":" "},{"$f":"IF('Dettaglio delle attività'!D1402=\"\",\" \",'Dettaglio delle attività'!D1402)","v":" "},{"$f":"IF('Dettaglio delle attività'!E1402=\"\",\" \",'Dettaglio delle attività'!E1402)","v":" "}]
[null,null,null,{"$f":"IF('Dettaglio delle attività'!C1403=\"\",\" \",'Dettaglio delle attività'!C1403)","v":" "},{"$f":"IF('Dettaglio delle attività'!D1403=\"\",\" \",'Dettaglio delle attività'!D1403)","v":" "},{"$f":"IF('Dettaglio delle attività'!E1403=\"\",\" \",'Dettaglio delle attività'!E1403)","v":" "}]
[null,null,null,{"$f":"IF('Dettaglio delle attività'!C1404=\"\",\" \",'Dettaglio delle attività'!C1404)","v":" "},{"$f":"IF('Dettaglio delle attività'!D1404=\"\",\" \",'Dettaglio delle attività'!D1404)","v":" "},{"$f":"IF('Dettaglio delle attività'!E1404=\"\",\" \",'Dettaglio delle attività'!E1404)","v":" "}]
[null,null,null,{"$f":"IF('Dettaglio delle attività'!C1405=\"\",\" \",'Dettaglio delle attività'!C1405)","v":" "},{"$f":"IF('Dettaglio delle attività'!D1405=\"\",\" \",'Dettaglio delle attività'!D1405)","v":" "},{"$f":"IF('Dettaglio delle attività'!E1405=\"\",\" \",'Dettaglio delle attività'!E1405)","v":" "}]
[null,null,null,{"$f":"IF('Dettaglio delle attività'!C1406=\"\",\" \",'Dettaglio delle attività'!C1406)","v":" "},{"$f":"IF('Dettaglio delle attività'!D1406=\"\",\" \",'Dettaglio delle attività'!D1406)","v":" "},{"$f":"IF('Dettaglio delle attività'!E1406=\"\",\" \",'Dettaglio delle attività'!E1406)","v":" "}]
[null,null,null,{"$f":"IF('Dettaglio delle attività'!C1407=\"\",\" \",'Dettaglio delle attività'!C1407)","v":" "},{"$f":"IF('Dettaglio delle attività'!D1407=\"\",\" \",'Dettaglio delle attività'!D1407)","v":" "},{"$f":"IF('Dettaglio delle attività'!E1407=\"\",\" \",'Dettaglio delle attività'!E1407)","v":" "}]
[null,null,null,{"$f":"IF('Dettaglio delle attività'!C1408=\"\",\" \",'Dettaglio delle attività'!C1408)","v":" "},{"$f":"IF('Dettaglio delle attività'!D1408=\"\",\" \",'Dettaglio delle attività'!D1408)","v":" "},{"$f":"IF('Dettaglio delle attività'!E1408=\"\",\" \",'Dettaglio delle attività'!E1408)","v":" "}]
[null,null,null,{"$f":"IF('Dettaglio delle attività'!C1409=\"\",\" \",'Dettaglio delle attività'!C1409)","v":" "},{"$f":"IF('Dettaglio delle attività'!D1409=\"\",\" \",'Dettaglio delle attività'!D1409)","v":" "},{"$f":"IF('Dettaglio delle attività'!E1409=\"\",\" \",'Dettaglio delle attività'!E1409)","v":" "}]
[null,null,null,{"$f":"IF('Dettaglio delle attività'!C1410=\"\",\" \",'Dettaglio delle attività'!C1410)","v":" "},{"$f":"IF('Dettaglio delle attività'!D1410=\"\",\" \",'Dettaglio delle attività'!D1410)","v":" "},{"$f":"IF('Dettaglio delle attività'!E1410=\"\",\" \",'Dettaglio delle attività'!E1410)","v":" "}]
[null,null,null,{"$f":"IF('Dettaglio delle attività'!C1411=\"\",\" \",'Dettaglio delle attività'!C1411)","v":" "},{"$f":"IF('Dettaglio delle attività'!D1411=\"\",\" \",'Dettaglio delle attività'!D1411)","v":" "},{"$f":"IF('Dettaglio delle attività'!E1411=\"\",\" \",'Dettaglio delle attività'!E1411)","v":" "}]
[null,null,null,{"$f":"IF('Dettaglio delle attività'!C1412=\"\",\" \",'Dettaglio delle attività'!C1412)","v":" "},{"$f":"IF('Dettaglio delle attività'!D1412=\"\",\" \",'Dettaglio delle attività'!D1412)","v":" "},{"$f":"IF('Dettaglio delle attività'!E1412=\"\",\" \",'Dettaglio delle attività'!E1412)","v":" "}]
[null,null,null,{"$f":"IF('Dettaglio delle attività'!C1413=\"\",\" \",'Dettaglio delle attività'!C1413)","v":" "},{"$f":"IF('Dettaglio delle attività'!D1413=\"\",\" \",'Dettaglio delle attività'!D1413)","v":" "},{"$f":"IF('Dettaglio delle attività'!E1413=\"\",\" \",'Dettaglio delle attività'!E1413)","v":" "}]
[null,null,null,{"$f":"IF('Dettaglio delle attività'!C1414=\"\",\" \",'Dettaglio delle attività'!C1414)","v":" "},{"$f":"IF('Dettaglio delle attività'!D1414=\"\",\" \",'Dettaglio delle attività'!D1414)","v":" "},{"$f":"IF('Dettaglio delle attività'!E1414=\"\",\" \",'Dettaglio delle attività'!E1414)","v":" "}]
[null,null,null,{"$f":"IF('Dettaglio delle attività'!C1415=\"\",\" \",'Dettaglio delle attività'!C1415)","v":" "},{"$f":"IF('Dettaglio delle attività'!D1415=\"\",\" \",'Dettaglio delle attività'!D1415)","v":" "},{"$f":"IF('Dettaglio delle attività'!E1415=\"\",\" \",'Dettaglio delle attività'!E1415)","v":" "}]
[null,null,null,{"$f":"IF('Dettaglio delle attività'!C1416=\"\",\" \",'Dettaglio delle attività'!C1416)","v":" "},{"$f":"IF('Dettaglio delle attività'!D1416=\"\",\" \",'Dettaglio delle attività'!D1416)","v":" "},{"$f":"IF('Dettaglio delle attività'!E1416=\"\",\" \",'Dettaglio delle attività'!E1416)","v":" "}]
[null,null,null,{"$f":"IF('Dettaglio delle attività'!C1417=\"\",\" \",'Dettaglio delle attività'!C1417)","v":" "},{"$f":"IF('Dettaglio delle attività'!D1417=\"\",\" \",'Dettaglio delle attività'!D1417)","v":" "},{"$f":"IF('Dettaglio delle attività'!E1417=\"\",\" \",'Dettaglio delle attività'!E1417)","v":" "}]
[null,null,null,{"$f":"IF('Dettaglio delle attività'!C1418=\"\",\" \",'Dettaglio delle attività'!C1418)","v":" "},{"$f":"IF('Dettaglio delle attività'!D1418=\"\",\" \",'Dettaglio delle attività'!D1418)","v":" "},{"$f":"IF('Dettaglio delle attività'!E1418=\"\",\" \",'Dettaglio delle attività'!E1418)","v":" "}]
[null,null,null,{"$f":"IF('Dettaglio delle attività'!C1419=\"\",\" \",'Dettaglio delle attività'!C1419)","v":" "},{"$f":"IF('Dettaglio delle attività'!D1419=\"\",\" \",'Dettaglio delle attività'!D1419)","v":" "},{"$f":"IF('Dettaglio delle attività'!E1419=\"\",\" \",'Dettaglio delle attività'!E1419)","v":" "}]
[null,null,null,{"$f":"IF('Dettaglio delle attività'!C1420=\"\",\" \",'Dettaglio delle attività'!C1420)","v":" "},{"$f":"IF('Dettaglio delle attività'!D1420=\"\",\" \",'Dettaglio delle attività'!D1420)","v":" "},{"$f":"IF('Dettaglio delle attività'!E1420=\"\",\" \",'Dettaglio delle attività'!E1420)","v":" "}]
[null,null,null,{"$f":"IF('Dettaglio delle attività'!C1421=\"\",\" \",'Dettaglio delle attività'!C1421)","v":" "},{"$f":"IF('Dettaglio delle attività'!D1421=\"\",\" \",'Dettaglio delle attività'!D1421)","v":" "},{"$f":"IF('Dettaglio delle attività'!E1421=\"\",\" \",'Dettaglio delle attività'!E1421)","v":" "}]
[null,null,null,{"$f":"IF('Dettaglio delle attività'!C1422=\"\",\" \",'Dettaglio delle attività'!C1422)","v":" "},{"$f":"IF('Dettaglio delle attività'!D1422=\"\",\" \",'Dettaglio delle attività'!D1422)","v":" "},{"$f":"IF('Dettaglio delle attività'!E1422=\"\",\" \",'Dettaglio delle attività'!E1422)","v":" "}]
[null,null,null,{"$f":"IF('Dettaglio delle attività'!C1423=\"\",\" \",'Dettaglio delle attività'!C1423)","v":" "},{"$f":"IF('Dettaglio delle attività'!D1423=\"\",\" \",'Dettaglio delle attività'!D1423)","v":" "},{"$f":"IF('Dettaglio delle attività'!E1423=\"\",\" \",'Dettaglio delle attività'!E1423)","v":" "}]
[null,null,null,{"$f":"IF('Dettaglio delle attività'!C1424=\"\",\" \",'Dettaglio delle attività'!C1424)","v":" "},{"$f":"IF('Dettaglio delle attività'!D1424=\"\",\" \",'Dettaglio delle attività'!D1424)","v":" "},{"$f":"IF('Dettaglio delle attività'!E1424=\"\",\" \",'Dettaglio delle attività'!E1424)","v":" "}]
[null,null,null,{"$f":"IF('Dettaglio delle attività'!C1425=\"\",\" \",'Dettaglio delle attività'!C1425)","v":" "},{"$f":"IF('Dettaglio delle attività'!D1425=\"\",\" \",'Dettaglio delle attività'!D1425)","v":" "},{"$f":"IF('Dettaglio delle attività'!E1425=\"\",\" \",'Dettaglio delle attività'!E1425)","v":" "}]
[null,null,null,{"$f":"IF('Dettaglio delle attività'!C1426=\"\",\" \",'Dettaglio delle attività'!C1426)","v":" "},{"$f":"IF('Dettaglio delle attività'!D1426=\"\",\" \",'Dettaglio delle attività'!D1426)","v":" "},{"$f":"IF('Dettaglio delle attività'!E1426=\"\",\" \",'Dettaglio delle attività'!E1426)","v":" "}]
[null,null,null,{"$f":"IF('Dettaglio delle attività'!C1427=\"\",\" \",'Dettaglio delle attività'!C1427)","v":" "},{"$f":"IF('Dettaglio delle attività'!D1427=\"\",\" \",'Dettaglio delle attività'!D1427)","v":" "},{"$f":"IF('Dettaglio delle attività'!E1427=\"\",\" \",'Dettaglio delle attività'!E1427)","v":" "}]
[null,null,null,{"$f":"IF('Dettaglio delle attività'!C1428=\"\",\" \",'Dettaglio delle attività'!C1428)","v":" "},{"$f":"IF('Dettaglio delle attività'!D1428=\"\",\" \",'Dettaglio delle attività'!D1428)","v":" "},{"$f":"IF('Dettaglio delle attività'!E1428=\"\",\" \",'Dettaglio delle attività'!E1428)","v":" "}]
[null,null,null,{"$f":"IF('Dettaglio delle attività'!C1429=\"\",\" \",'Dettaglio delle attività'!C1429)","v":" "},{"$f":"IF('Dettaglio delle attività'!D1429=\"\",\" \",'Dettaglio delle attività'!D1429)","v":" "},{"$f":"IF('Dettaglio delle attività'!E1429=\"\",\" \",'Dettaglio delle attività'!E1429)","v":" "}]
[null,null,null,{"$f":"IF('Dettaglio delle attività'!C1430=\"\",\" \",'Dettaglio delle attività'!C1430)","v":" "},{"$f":"IF('Dettaglio delle attività'!D1430=\"\",\" \",'Dettaglio delle attività'!D1430)","v":" "},{"$f":"IF('Dettaglio delle attività'!E1430=\"\",\" \",'Dettaglio delle attività'!E1430)","v":" "}]
[null,null,null,{"$f":"IF('Dettaglio delle attività'!C1431=\"\",\" \",'Dettaglio delle attività'!C1431)","v":" "},{"$f":"IF('Dettaglio delle attività'!D1431=\"\",\" \",'Dettaglio delle attività'!D1431)","v":" "},{"$f":"IF('Dettaglio delle attività'!E1431=\"\",\" \",'Dettaglio delle attività'!E1431)","v":" "}]
[null,null,null,{"$f":"IF('Dettaglio delle attività'!C1432=\"\",\" \",'Dettaglio delle attività'!C1432)","v":" "},{"$f":"IF('Dettaglio delle attività'!D1432=\"\",\" \",'Dettaglio delle attività'!D1432)","v":" "},{"$f":"IF('Dettaglio delle attività'!E1432=\"\",\" \",'Dettaglio delle attività'!E1432)","v":" "}]
[null,null,null,{"$f":"IF('Dettaglio delle attività'!C1433=\"\",\" \",'Dettaglio delle attività'!C1433)","v":" "},{"$f":"IF('Dettaglio delle attività'!D1433=\"\",\" \",'Dettaglio delle attività'!D1433)","v":" "},{"$f":"IF('Dettaglio delle attività'!E1433=\"\",\" \",'Dettaglio delle attività'!E1433)","v":" "}]
[null,null,null,{"$f":"IF('Dettaglio delle attività'!C1434=\"\",\" \",'Dettaglio delle attività'!C1434)","v":" "},{"$f":"IF('Dettaglio delle attività'!D1434=\"\",\" \",'Dettaglio delle attività'!D1434)","v":" "},{"$f":"IF('Dettaglio delle attività'!E1434=\"\",\" \",'Dettaglio delle attività'!E1434)","v":" "}]
[null,null,null,{"$f":"IF('Dettaglio delle attività'!C1435=\"\",\" \",'Dettaglio delle attività'!C1435)","v":" "},{"$f":"IF('Dettaglio delle attività'!D1435=\"\",\" \",'Dettaglio delle attività'!D1435)","v":" "},{"$f":"IF('Dettaglio delle attività'!E1435=\"\",\" \",'Dettaglio delle attività'!E1435)","v":" "}]
[null,null,null,{"$f":"IF('Dettaglio delle attività'!C1436=\"\",\" \",'Dettaglio delle attività'!C1436)","v":" "},{"$f":"IF('Dettaglio delle attività'!D1436=\"\",\" \",'Dettaglio delle attività'!D1436)","v":" "},{"$f":"IF('Dettaglio delle attività'!E1436=\"\",\" \",'Dettaglio delle attività'!E1436)","v":" "}]
[null,null,null,{"$f":"IF('Dettaglio delle attività'!C1437=\"\",\" \",'Dettaglio delle attività'!C1437)","v":" "},{"$f":"IF('Dettaglio delle attività'!D1437=\"\",\" \",'Dettaglio delle attività'!D1437)","v":" "},{"$f":"IF('Dettaglio delle attività'!E1437=\"\",\" \",'Dettaglio delle attività'!E1437)","v":" "}]
[null,null,null,{"$f":"IF('Dettaglio delle attività'!C1438=\"\",\" \",'Dettaglio delle attività'!C1438)","v":" "},{"$f":"IF('Dettaglio delle attività'!D1438=\"\",\" \",'Dettaglio delle attività'!D1438)","v":" "},{"$f":"IF('Dettaglio delle attività'!E1438=\"\",\" \",'Dettaglio delle attività'!E1438)","v":" "}]

{"sheet":"Indicatori Varianti","index":8,"n_rows":174,"n_cols":8,"rows_kept":174,"cut":false,"hidden":false,"merged":[[4,7,5,7]]}
[]
[]
[]
[]
[null,null,null,null,null,null,null,{"$f":"IF(Intro!AC45=\"\",\" \",Intro!AC45)","v":" "}]
[]
[]
[]
[null,"Progressivo"," Nuovo Elenco analitico delle attività da realizzare"," Nuovo Indicatore","Variante","Metodo di calcolo dellindicatore di risultato","Quantificazione dei risultati attesi","Descrizione dell'indicatore"]
[null,{"$f":"ROW(A1)","v":1},{"$f":"IF('Piano Varianti'!L14=\"\",\" \",'Piano Varianti'!L14)","v":" "},{"$f":"IF('Piano Varianti'!M14=\"\",\" \",'Piano Varianti'!M14)","v":" "},{"$f":"IF('Piano Varianti'!H14=\"\",\" \",'Piano Varianti'!H14)","v":" "}]
[null,2,{"$f":"IF('Piano Varianti'!L15=\"\",\" \",'Piano Varianti'!L15)","v":" "},{"$f":"IF('Piano Varianti'!M15=\"\",\" \",'Piano Varianti'!M15)","v":" "},{"$f":"IF('Piano Varianti'!H15=\"\",\" \",'Piano Varianti'!H15)","v":" "}]
[null,3,{"$f":"IF('Piano Varianti'!L16=\"\",\" \",'Piano Varianti'!L16)","v":" "},{"$f":"IF('Piano Varianti'!M16=\"\",\" \",'Piano Varianti'!M16)","v":" "},{"$f":"IF('Piano Varianti'!H16=\"\",\" \",'Piano Varianti'!H16)","v":" "}]
[null,4,{"$f":"IF('Piano Varianti'!L17=\"\",\" \",'Piano Varianti'!L17)","v":" "},{"$f":"IF('Piano Varianti'!M17=\"\",\" \",'Piano Varianti'!M17)","v":" "},{"$f":"IF('Piano Varianti'!H17=\"\",\" \",'Piano Varianti'!H17)","v":" "}]
[null,5,{"$f":"IF('Piano Varianti'!L18=\"\",\" \",'Piano Varianti'!L18)","v":" "},{"$f":"IF('Piano Varianti'!M18=\"\",\" \",'Piano Varianti'!M18)","v":" "},{"$f":"IF('Piano Varianti'!H18=\"\",\" \",'Piano Varianti'!H18)","v":" "}]
[null,6,{"$f":"IF('Piano Varianti'!L19=\"\",\" \",'Piano Varianti'!L19)","v":" "},{"$f":"IF('Piano Varianti'!M19=\"\",\" \",'Piano Varianti'!M19)","v":" "},{"$f":"IF('Piano Varianti'!H19=\"\",\" \",'Piano Varianti'!H19)","v":" "}]
[null,7,{"$f":"IF('Piano Varianti'!L20=\"\",\" \",'Piano Varianti'!L20)","v":" "},{"$f":"IF('Piano Varianti'!M20=\"\",\" \",'Piano Varianti'!M20)","v":" "},{"$f":"IF('Piano Varianti'!H20=\"\",\" \",'Piano Varianti'!H20)","v":" "}]
[null,8,{"$f":"IF('Piano Varianti'!L21=\"\",\" \",'Piano Varianti'!L21)","v":" "},{"$f":"IF('Piano Varianti'!M21=\"\",\" \",'Piano Varianti'!M21)","v":" "},{"$f":"IF('Piano Varianti'!H21=\"\",\" \",'Piano Varianti'!H21)","v":" "}]
[null,9,{"$f":"IF('Piano Varianti'!L22=\"\",\" \",'Piano Varianti'!L22)","v":" "},{"$f":"IF('Piano Varianti'!M22=\"\",\" \",'Piano Varianti'!M22)","v":" "},{"$f":"IF('Piano Varianti'!H22=\"\",\" \",'Piano Varianti'!H22)","v":" "}]
[null,10,{"$f":"IF('Piano Varianti'!L23=\"\",\" \",'Piano Varianti'!L23)","v":" "},{"$f":"IF('Piano Varianti'!M23=\"\",\" \",'Piano Varianti'!M23)","v":" "},{"$f":"IF('Piano Varianti'!H23=\"\",\" \",'Piano Varianti'!H23)","v":" "}]
[null,11,{"$f":"IF('Piano Varianti'!L24=\"\",\" \",'Piano Varianti'!L24)","v":" "},{"$f":"IF('Piano Varianti'!M24=\"\",\" \",'Piano Varianti'!M24)","v":" "},{"$f":"IF('Piano Varianti'!H24=\"\",\" \",'Piano Varianti'!H24)","v":" "}]
[null,12,{"$f":"IF('Piano Varianti'!L25=\"\",\" \",'Piano Varianti'!L25)","v":" "},{"$f":"IF('Piano Varianti'!M25=\"\",\" \",'Piano Varianti'!M25)","v":" "},{"$f":"IF('Piano Varianti'!H25=\"\",\" \",'Piano Varianti'!H25)","v":" "}]
[null,13,{"$f":"IF('Piano Varianti'!L26=\"\",\" \",'Piano Varianti'!L26)","v":" "},{"$f":"IF('Piano Varianti'!M26=\"\",\" \",'Piano Varianti'!M26)","v":" "},{"$f":"IF('Piano Varianti'!H26=\"\",\" \",'Piano Varianti'!H26)","v":" "}]
[null,14,{"$f":"IF('Piano Varianti'!L27=\"\",\" \",'Piano Varianti'!L27)","v":" "},{"$f":"IF('Piano Varianti'!M27=\"\",\" \",'Piano Varianti'!M27)","v":" "},{"$f":"IF('Piano Varianti'!H27=\"\",\" \",'Piano Varianti'!H27)","v":" "}]
[null,15,{"$f":"IF('Piano Varianti'!L28=\"\",\" \",'Piano Varianti'!L28)","v":" "},{"$f":"IF('Piano Varianti'!M28=\"\",\" \",'Piano Varianti'!M28)","v":" "},{"$f":"IF('Piano Varianti'!H28=\"\",\" \",'Piano Varianti'!H28)","v":" "}]
[null,16,{"$f":"IF('Piano Varianti'!L29=\"\",\" \",'Piano Varianti'!L29)","v":" "},{"$f":"IF('Piano Varianti'!M29=\"\",\" \",'Piano Varianti'!M29)","v":" "},{"$f":"IF('Piano Varianti'!H29=\"\",\" \",'Piano Varianti'!H29)","v":" "}]
[null,17,{"$f":"IF('Piano Varianti'!L30=\"\",\" \",'Piano Varianti'!L30)","v":" "},{"$f":"IF('Piano Varianti'!M30=\"\",\" \",'Piano Varianti'!M30)","v":" "},{"$f":"IF('Piano Varianti'!H30=\"\",\" \",'Piano Varianti'!H30)","v":" "}]
[null,18,{"$f":"IF('Piano Varianti'!L31=\"\",\" \",'Piano Varianti'!L31)","v":" "},{"$f":"IF('Piano Varianti'!M31=\"\",\" \",'Piano Varianti'!M31)","v":" "},{"$f":"IF('Piano Varianti'!H31=\"\",\" \",'Piano Varianti'!H31)","v":" "}]
[null,19,{"$f":"IF('Piano Varianti'!L32=\"\",\" \",'Piano Varianti'!L32)","v":" "},{"$f":"IF('Piano Varianti'!M32=\"\",\" \",'Piano Varianti'!M32)","v":" "},{"$f":"IF('Piano Varianti'!H32=\"\",\" \",'Piano Varianti'!H32)","v":" "}]
[null,20,{"$f":"IF('Piano Varianti'!L33=\"\",\" \",'Piano Varianti'!L33)","v":" "},{"$f":"IF('Piano Varianti'!M33=\"\",\" \",'Piano Varianti'!M33)","v":" "},{"$f":"IF('Piano Varianti'!H33=\"\",\" \",'Piano Varianti'!H33)","v":" "}]
[null,21,{"$f":"IF('Piano Varianti'!L34=\"\",\" \",'Piano Varianti'!L34)","v":" "},{"$f":"IF('Piano Varianti'!M34=\"\",\" \",'Piano Varianti'!M34)","v":" "},{"$f":"IF('Piano Varianti'!H34=\"\",\" \",'Piano Varianti'!H34)","v":" "}]
[null,22,{"$f":"IF('Piano Varianti'!L35=\"\",\" \",'Piano Varianti'!L35)","v":" "},{"$f":"IF('Piano Varianti'!M35=\"\",\" \",'Piano Varianti'!M35)","v":" "},{"$f":"IF('Piano Varianti'!H35=\"\",\" \",'Piano Varianti'!H35)","v":" "}]
[null,23,{"$f":"IF('Piano Varianti'!L36=\"\",\" \",'Piano Varianti'!L36)","v":" "},{"$f":"IF('Piano Varianti'!M36=\"\",\" \",'Piano Varianti'!M36)","v":" "},{"$f":"IF('Piano Varianti'!H36=\"\",\" \",'Piano Varianti'!H36)","v":" "}]
[null,24,{"$f":"IF('Piano Varianti'!L37=\"\",\" \",'Piano Varianti'!L37)","v":" "},{"$f":"IF('Piano Varianti'!M37=\"\",\" \",'Piano Varianti'!M37)","v":" "},{"$f":"IF('Piano Varianti'!H37=\"\",\" \",'Piano Varianti'!H37)","v":" "}]
[null,25,{"$f":"IF('Piano Varianti'!L38=\"\",\" \",'Piano Varianti'!L38)","v":" "},{"$f":"IF('Piano Varianti'!M38=\"\",\" \",'Piano Varianti'!M38)","v":" "},{"$f":"IF('Piano Varianti'!H38=\"\",\" \",'Piano Varianti'!H38)","v":" "}]
[null,26,{"$f":"IF('Piano Varianti'!L39=\"\",\" \",'Piano Varianti'!L39)","v":" "},{"$f":"IF('Piano Varianti'!M39=\"\",\" \",'Piano Varianti'!M39)","v":" "},{"$f":"IF('Piano Varianti'!H39=\"\",\" \",'Piano Varianti'!H39)","v":" "}]
[null,27,{"$f":"IF('Piano Varianti'!L40=\"\",\" \",'Piano Varianti'!L40)","v":" "},{"$f":"IF('Piano Varianti'!M40=\"\",\" \",'Piano Varianti'!M40)","v":" "},{"$f":"IF('Piano Varianti'!H40=\"\",\" \",'Piano Varianti'!H40)","v":" "}]
[null,28,{"$f":"IF('Piano Varianti'!L41=\"\",\" \",'Piano Varianti'!L41)","v":" "},{"$f":"IF('Piano Varianti'!M41=\"\",\" \",'Piano Varianti'!M41)","v":" "},{"$f":"IF('Piano Varianti'!H41=\"\",\" \",'Piano Varianti'!H41)","v":" "}]
[null,29,{"$f":"IF('Piano Varianti'!L42=\"\",\" \",'Piano Varianti'!L42)","v":" "},{"$f":"IF('Piano Varianti'!M42=\"\",\" \",'Piano Varianti'!M42)","v":" "},{"$f":"IF('Piano Varianti'!H42=\"\",\" \",'Piano Varianti'!H42)","v":" "}]
[null,30,{"$f":"IF('Piano Varianti'!L43=\"\",\" \",'Piano Varianti'!L43)","v":" "},{"$f":"IF('Piano Varianti'!M43=\"\",\" \",'Piano Varianti'!M43)","v":" "},{"$f":"IF('Piano Varianti'!H43=\"\",\" \",'Piano Varianti'!H43)","v":" "}]
[null,31,{"$f":"IF('Piano Varianti'!L44=\"\",\" \",'Piano Varianti'!L44)","v":" "},{"$f":"IF('Piano Varianti'!M44=\"\",\" \",'Piano Varianti'!M44)","v":" "},{"$f":"IF('Piano Varianti'!H44=\"\",\" \",'Piano Varianti'!H44)","v":" "}]
[null,32,{"$f":"IF('Piano Varianti'!L45=\"\",\" \",'Piano Varianti'!L45)","v":" "},{"$f":"IF('Piano Varianti'!M45=\"\",\" \",'Piano Varianti'!M45)","v":" "},{"$f":"IF('Piano Varianti'!H45=\"\",\" \",'Piano Varianti'!H45)","v":" "}]
[null,{"$f":"ROW(A33)","v":33},{"$f":"IF('Piano Varianti'!L46=\"\",\" \",'Piano Varianti'!L46)","v":" "},{"$f":"IF('Piano Varianti'!M46=\"\",\" \",'Piano Varianti'!M46)","v":" "},{"$f":"IF('Piano Varianti'!H46=\"\",\" \",'Piano Varianti'!H46)","v":" "}]
[null,34,{"$f":"IF('Piano Varianti'!L47=\"\",\" \",'Piano Varianti'!L47)","v":" "},{"$f":"IF('Piano Varianti'!M47=\"\",\" \",'Piano Varianti'!M47)","v":" "},{"$f":"IF('Piano Varianti'!H47=\"\",\" \",'Piano Varianti'!H47)","v":" "}]
[null,35,{"$f":"IF('Piano Varianti'!L48=\"\",\" \",'Piano Varianti'!L48)","v":" "},{"$f":"IF('Piano Varianti'!M48=\"\",\" \",'Piano Varianti'!M48)","v":" "},{"$f":"IF('Piano Varianti'!H48=\"\",\" \",'Piano Varianti'!H48)","v":" "}]
[null,36,{"$f":"IF('Piano Varianti'!L49=\"\",\" \",'Piano Varianti'!L49)","v":" "},{"$f":"IF('Piano Varianti'!M49=\"\",\" \",'Piano Varianti'!M49)","v":" "},{"$f":"IF('Piano Varianti'!H49=\"\",\" \",'Piano Varianti'!H49)","v":" "}]
[null,37,{"$f":"IF('Piano Varianti'!L50=\"\",\" \",'Piano Varianti'!L50)","v":" "},{"$f":"IF('Piano Varianti'!M50=\"\",\" \",'Piano Varianti'!M50)","v":" "},{"$f":"IF('Piano Varianti'!H50=\"\",\" \",'Piano Varianti'!H50)","v":" "}]
[null,38,{"$f":"IF('Piano Varianti'!L51=\"\",\" \",'Piano Varianti'!L51)","v":" "},{"$f":"IF('Piano Varianti'!M51=\"\",\" \",'Piano Varianti'!M51)","v":" "},{"$f":"IF('Piano Varianti'!H51=\"\",\" \",'Piano Varianti'!H51)","v":" "}]
[null,39,{"$f":"IF('Piano Varianti'!L52=\"\",\" \",'Piano Varianti'!L52)","v":" "},{"$f":"IF('Piano Varianti'!M52=\"\",\" \",'Piano Varianti'!M52)","v":" "},{"$f":"IF('Piano Varianti'!H52=\"\",\" \",'Piano Varianti'!H52)","v":" "}]
[null,40,{"$f":"IF('Piano Varianti'!L53=\"\",\" \",'Piano Varianti'!L53)","v":" "},{"$f":"IF('Piano Varianti'!M53=\"\",\" \",'Piano Varianti'!M53)","v":" "},{"$f":"IF('Piano Varianti'!H53=\"\",\" \",'Piano Varianti'!H53)","v":" "}]
[null,41,{"$f":"IF('Piano Varianti'!L54=\"\",\" \",'Piano Varianti'!L54)","v":" "},{"$f":"IF('Piano Varianti'!M54=\"\",\" \",'Piano Varianti'!M54)","v":" "},{"$f":"IF('Piano Varianti'!H54=\"\",\" \",'Piano Varianti'!H54)","v":" "}]
[null,42,{"$f":"IF('Piano Varianti'!L55=\"\",\" \",'Piano Varianti'!L55)","v":" "},{"$f":"IF('Piano Varianti'!M55=\"\",\" \",'Piano Varianti'!M55)","v":" "},{"$f":"IF('Piano Varianti'!H55=\"\",\" \",'Piano Varianti'!H55)","v":" "}]
[null,43,{"$f":"IF('Piano Varianti'!L56=\"\",\" \",'Piano Varianti'!L56)","v":" "},{"$f":"IF('Piano Varianti'!M56=\"\",\" \",'Piano Varianti'!M56)","v":" "},{"$f":"IF('Piano Varianti'!H56=\"\",\" \",'Piano Varianti'!H56)","v":" "}]
[null,44,{"$f":"IF('Piano Varianti'!L57=\"\",\" \",'Piano Varianti'!L57)","v":" "},{"$f":"IF('Piano Varianti'!M57=\"\",\" \",'Piano Varianti'!M57)","v":" "},{"$f":"IF('Piano Varianti'!H57=\"\",\" \",'Piano Varianti'!H57)","v":" "}]
[null,45,{"$f":"IF('Piano Varianti'!L58=\"\",\" \",'Piano Varianti'!L58)","v":" "},{"$f":"IF('Piano Varianti'!M58=\"\",\" \",'Piano Varianti'!M58)","v":" "},{"$f":"IF('Piano Varianti'!H58=\"\",\" \",'Piano Varianti'!H58)","v":" "}]
[null,46,{"$f":"IF('Piano Varianti'!L59=\"\",\" \",'Piano Varianti'!L59)","v":" "},{"$f":"IF('Piano Varianti'!M59=\"\",\" \",'Piano Varianti'!M59)","v":" "},{"$f":"IF('Piano Varianti'!H59=\"\",\" \",'Piano Varianti'!H59)","v":" "}]
[null,47,{"$f":"IF('Piano Varianti'!L60=\"\",\" \",'Piano Varianti'!L60)","v":" "},{"$f":"IF('Piano Varianti'!M60=\"\",\" \",'Piano Varianti'!M60)","v":" "},{"$f":"IF('Piano Varianti'!H60=\"\",\" \",'Piano Varianti'!H60)","v":" "}]
[null,48,{"$f":"IF('Piano Varianti'!L61=\"\",\" \",'Piano Varianti'!L61)","v":" "},{"$f":"IF('Piano Varianti'!M61=\"\",\" \",'Piano Varianti'!M61)","v":" "},{"$f":"IF('Piano Varianti'!H61=\"\",\" \",'Piano Varianti'!H61)","v":" "}]
[null,49,{"$f":"IF('Piano Varianti'!L62=\"\",\" \",'Piano Varianti'!L62)","v":" "},{"$f":"IF('Piano Varianti'!M62=\"\",\" \",'Piano Varianti'!M62)","v":" "},{"$f":"IF('Piano Varianti'!H62=\"\",\" \",'Piano Varianti'!H62)","v":" "}]
[null,50,{"$f":"IF('Piano Varianti'!L63=\"\",\" \",'Piano Varianti'!L63)","v":" "},{"$f":"IF('Piano Varianti'!M63=\"\",\" \",'Piano Varianti'!M63)","v":" "},{"$f":"IF('Piano Varianti'!H63=\"\",\" \",'Piano Varianti'!H63)","v":" "}]
[null,51,{"$f":"IF('Piano Varianti'!L64=\"\",\" \",'Piano Varianti'!L64)","v":" "},{"$f":"IF('Piano Varianti'!M64=\"\",\" \",'Piano Varianti'!M64)","v":" "},{"$f":"IF('Piano Varianti'!H64=\"\",\" \",'Piano Varianti'!H64)","v":" "}]
[null,52,{"$f":"IF('Piano Varianti'!L65=\"\",\" \",'Piano Varianti'!L65)","v":" "},{"$f":"IF('Piano Varianti'!M65=\"\",\" \",'Piano Varianti'!M65)","v":" "},{"$f":"IF('Piano Varianti'!H65=\"\",\" \",'Piano Varianti'!H65)","v":" "}]
[null,53,{"$f":"IF('Piano Varianti'!L66=\"\",\" \",'Piano Varianti'!L66)","v":" "},{"$f":"IF('Piano Varianti'!M66=\"\",\" \",'Piano Varianti'!M66)","v":" "},{"$f":"IF('Piano Varianti'!H66=\"\",\" \",'Piano Varianti'!H66)","v":" "}]
[null,54,{"$f":"IF('Piano Varianti'!L67=\"\",\" \",'Piano Varianti'!L67)","v":" "},{"$f":"IF('Piano Varianti'!M67=\"\",\" \",'Piano Varianti'!M67)","v":" "},{"$f":"IF('Piano Varianti'!H67=\"\",\" \",'Piano Varianti'!H67)","v":" "}]
[null,55,{"$f":"IF('Piano Varianti'!L68=\"\",\" \",'Piano Varianti'!L68)","v":" "},{"$f":"IF('Piano Varianti'!M68=\"\",\" \",'Piano Varianti'!M68)","v":" "},{"$f":"IF('Piano Varianti'!H68=\"\",\" \",'Piano Varianti'!H68)","v":" "}]
[null,56,{"$f":"IF('Piano Varianti'!L69=\"\",\" \",'Piano Varianti'!L69)","v":" "},{"$f":"IF('Piano Varianti'!M69=\"\",\" \",'Piano Varianti'!M69)","v":" "},{"$f":"IF('Piano Varianti'!H69=\"\",\" \",'Piano Varianti'!H69)","v":" "}]
[null,57,{"$f":"IF('Piano Varianti'!L70=\"\",\" \",'Piano Varianti'!L70)","v":" "},{"$f":"IF('Piano Varianti'!M70=\"\",\" \",'Piano Varianti'!M70)","v":" "},{"$f":"IF('Piano Varianti'!H70=\"\",\" \",'Piano Varianti'!H70)","v":" "}]
[null,58,{"$f":"IF('Piano Varianti'!L71=\"\",\" \",'Piano Varianti'!L71)","v":" "},{"$f":"IF('Piano Varianti'!M71=\"\",\" \",'Piano Varianti'!M71)","v":" "},{"$f":"IF('Piano Varianti'!H71=\"\",\" \",'Piano Varianti'!H71)","v":" "}]
[null,59,{"$f":"IF('Piano Varianti'!L72=\"\",\" \",'Piano Varianti'!L72)","v":" "},{"$f":"IF('Piano Varianti'!M72=\"\",\" \",'Piano Varianti'!M72)","v":" "},{"$f":"IF('Piano Varianti'!H72=\"\",\" \",'Piano Varianti'!H72)","v":" "}]
[null,60,{"$f":"IF('Piano Varianti'!L73=\"\",\" \",'Piano Varianti'!L73)","v":" "},{"$f":"IF('Piano Varianti'!M73=\"\",\" \",'Piano Varianti'!M73)","v":" "},{"$f":"IF('Piano Varianti'!H73=\"\",\" \",'Piano Varianti'!H73)","v":" "}]
[null,61,{"$f":"IF('Piano Varianti'!L74=\"\",\" \",'Piano Varianti'!L74)","v":" "},{"$f":"IF('Piano Varianti'!M74=\"\",\" \",'Piano Varianti'!M74)","v":" "},{"$f":"IF('Piano Varianti'!H74=\"\",\" \",'Piano Varianti'!H74)","v":" "}]
[null,62,{"$f":"IF('Piano Varianti'!L75=\"\",\" \",'Piano Varianti'!L75)","v":" "},{"$f":"IF('Piano Varianti'!M75=\"\",\" \",'Piano Varianti'!M75)","v":" "},{"$f":"IF('Piano Varianti'!H75=\"\",\" \",'Piano Varianti'!H75)","v":" "}]
[null,63,{"$f":"IF('Piano Varianti'!L76=\"\",\" \",'Piano Varianti'!L76)","v":" "},{"$f":"IF('Piano Varianti'!M76=\"\",\" \",'Piano Varianti'!M76)","v":" "},{"$f":"IF('Piano Varianti'!H76=\"\",\" \",'Piano Varianti'!H76)","v":" "}]
[null,64,{"$f":"IF('Piano Varianti'!L77=\"\",\" \",'Piano Varianti'!L77)","v":" "},{"$f":"IF('Piano Varianti'!M77=\"\",\" \",'Piano Varianti'!M77)","v":" "},{"$f":"IF('Piano Varianti'!H77=\"\",\" \",'Piano Varianti'!H77)","v":" "}]
[null,{"$f":"ROW(A65)","v":65},{"$f":"IF('Piano Varianti'!L78=\"\",\" \",'Piano Varianti'!L78)","v":" "},{"$f":"IF('Piano Varianti'!M78=\"\",\" \",'Piano Varianti'!M78)","v":" "},{"$f":"IF('Piano Varianti'!H78=\"\",\" \",'Piano Varianti'!H78)","v":" "}]
[null,66,{"$f":"IF('Piano Varianti'!L79=\"\",\" \",'Piano Varianti'!L79)","v":" "},{"$f":"IF('Piano Varianti'!M79=\"\",\" \",'Piano Varianti'!M79)","v":" "},{"$f":"IF('Piano Varianti'!H79=\"\",\" \",'Piano Varianti'!H79)","v":" "}]
[null,67,{"$f":"IF('Piano Varianti'!L80=\"\",\" \",'Piano Varianti'!L80)","v":" "},{"$f":"IF('Piano Varianti'!M80=\"\",\" \",'Piano Varianti'!M80)","v":" "},{"$f":"IF('Piano Varianti'!H80=\"\",\" \",'Piano Varianti'!H80)","v":" "}]
[null,68,{"$f":"IF('Piano Varianti'!L81=\"\",\" \",'Piano Varianti'!L81)","v":" "},{"$f":"IF('Piano Varianti'!M81=\"\",\" \",'Piano Varianti'!M81)","v":" "},{"$f":"IF('Piano Varianti'!H81=\"\",\" \",'Piano Varianti'!H81)","v":" "}]
[null,69,{"$f":"IF('Piano Varianti'!L82=\"\",\" \",'Piano Varianti'!L82)","v":" "},{"$f":"IF('Piano Varianti'!M82=\"\",\" \",'Piano Varianti'!M82)","v":" "},{"$f":"IF('Piano Varianti'!H82=\"\",\" \",'Piano Varianti'!H82)","v":" "}]
[null,70,{"$f":"IF('Piano Varianti'!L83=\"\",\" \",'Piano Varianti'!L83)","v":" "},{"$f":"IF('Piano Varianti'!M83=\"\",\" \",'Piano Varianti'!M83)","v":" "},{"$f":"IF('Piano Varianti'!H83=\"\",\" \",'Piano Varianti'!H83)","v":" "}]
[null,71,{"$f":"IF('Piano Varianti'!L84=\"\",\" \",'Piano Varianti'!L84)","v":" "},{"$f":"IF('Piano Varianti'!M84=\"\",\" \",'Piano Varianti'!M84)","v":" "},{"$f":"IF('Piano Varianti'!H84=\"\",\" \",'Piano Varianti'!H84)","v":" "}]
[null,72,{"$f":"IF('Piano Varianti'!L85=\"\",\" \",'Piano Varianti'!L85)","v":" "},{"$f":"IF('Piano Varianti'!M85=\"\",\" \",'Piano Varianti'!M85)","v":" "},{"$f":"IF('Piano Varianti'!H85=\"\",\" \",'Piano Varianti'!H85)","v":" "}]
[null,73,{"$f":"IF('Piano Varianti'!L86=\"\",\" \",'Piano Varianti'!L86)","v":" "},{"$f":"IF('Piano Varianti'!M86=\"\",\" \",'Piano Varianti'!M86)","v":" "},{"$f":"IF('Piano Varianti'!H86=\"\",\" \",'Piano Varianti'!H86)","v":" "}]
[null,74,{"$f":"IF('Piano Varianti'!L87=\"\",\" \",'Piano Varianti'!L87)","v":" "},{"$f":"IF('Piano Varianti'!M87=\"\",\" \",'Piano Varianti'!M87)","v":" "},{"$f":"IF('Piano Varianti'!H87=\"\",\" \",'Piano Varianti'!H87)","v":" "}]
[null,75,{"$f":"IF('Piano Varianti'!L88=\"\",\" \",'Piano Varianti'!L88)","v":" "},{"$f":"IF('Piano Varianti'!M88=\"\",\" \",'Piano Varianti'!M88)","v":" "},{"$f":"IF('Piano Varianti'!H88=\"\",\" \",'Piano Varianti'!H88)","v":" "}]
[null,76,{"$f":"IF('Piano Varianti'!L89=\"\",\" \",'Piano Varianti'!L89)","v":" "},{"$f":"IF('Piano Varianti'!M89=\"\",\" \",'Piano Varianti'!M89)","v":" "},{"$f":"IF('Piano Varianti'!H89=\"\",\" \",'Piano Varianti'!H89)","v":" "}]
[null,77,{"$f":"IF('Piano Varianti'!L90=\"\",\" \",'Piano Varianti'!L90)","v":" "},{"$f":"IF('Piano Varianti'!M90=\"\",\" \",'Piano Varianti'!M90)","v":" "},{"$f":"IF('Piano Varianti'!H90=\"\",\" \",'Piano Varianti'!H90)","v":" "}]
[null,78,{"$f":"IF('Piano Varianti'!L91=\"\",\" \",'Piano Varianti'!L91)","v":" "},{"$f":"IF('Piano Varianti'!M91=\"\",\" \",'Piano Varianti'!M91)","v":" "},{"$f":"IF('Piano Varianti'!H91=\"\",\" \",'Piano Varianti'!H91)","v":" "}]
[null,79,{"$f":"IF('Piano Varianti'!L92=\"\",\" \",'Piano Varianti'!L92)","v":" "},{"$f":"IF('Piano Varianti'!M92=\"\",\" \",'Piano Varianti'!M92)","v":" "},{"$f":"IF('Piano Varianti'!H92=\"\",\" \",'Piano Varianti'!H92)","v":" "}]
[null,80,{"$f":"IF('Piano Varianti'!L93=\"\",\" \",'Piano Varianti'!L93)","v":" "},{"$f":"IF('Piano Varianti'!M93=\"\",\" \",'Piano Varianti'!M93)","v":" "},{"$f":"IF('Piano Varianti'!H93=\"\",\" \",'Piano Varianti'!H93)","v":" "}]
[null,81,{"$f":"IF('Piano Varianti'!L94=\"\",\" \",'Piano Varianti'!L94)","v":" "},{"$f":"IF('Piano Varianti'!M94=\"\",\" \",'Piano Varianti'!M94)","v":" "},{"$f":"IF('Piano Varianti'!H94=\"\",\" \",'Piano Varianti'!H94)","v":" "}]
[null,82,{"$f":"IF('Piano Varianti'!L95=\"\",\" \",'Piano Varianti'!L95)","v":" "},{"$f":"IF('Piano Varianti'!M95=\"\",\" \",'Piano Varianti'!M95)","v":" "},{"$f":"IF('Piano Varianti'!H95=\"\",\" \",'Piano Varianti'!H95)","v":" "}]
[null,83,{"$f":"IF('Piano Varianti'!L96=\"\",\" \",'Piano Varianti'!L96)","v":" "},{"$f":"IF('Piano Varianti'!M96=\"\",\" \",'Piano Varianti'!M96)","v":" "},{"$f":"IF('Piano Varianti'!H96=\"\",\" \",'Piano Varianti'!H96)","v":" "}]
[null,84,{"$f":"IF('Piano Varianti'!L97=\"\",\" \",'Piano Varianti'!L97)","v":" "},{"$f":"IF('Piano Varianti'!M97=\"\",\" \",'Piano Varianti'!M97)","v":" "},{"$f":"IF('Piano Varianti'!H97=\"\",\" \",'Piano Varianti'!H97)","v":" "}]
[null,85,{"$f":"IF('Piano Varianti'!L98=\"\",\" \",'Piano Varianti'!L98)","v":" "},{"$f":"IF('Piano Varianti'!M98=\"\",\" \",'Piano Varianti'!M98)","v":" "},{"$f":"IF('Piano Varianti'!H98=\"\",\" \",'Piano Varianti'!H98)","v":" "}]
[null,86,{"$f":"IF('Piano Varianti'!L99=\"\",\" \",'Piano Varianti'!L99)","v":" "},{"$f":"IF('Piano Varianti'!M99=\"\",\" \",'Piano Varianti'!M99)","v":" "},{"$f":"IF('Piano Varianti'!H99=\"\",\" \",'Piano Varianti'!H99)","v":" "}]
[null,87,{"$f":"IF('Piano Varianti'!L100=\"\",\" \",'Piano Varianti'!L100)","v":" "},{"$f":"IF('Piano Varianti'!M100=\"\",\" \",'Piano Varianti'!M100)","v":" "},{"$f":"IF('Piano Varianti'!H100=\"\",\" \",'Piano Varianti'!H100)","v":" "}]
[null,88,{"$f":"IF('Piano Varianti'!L101=\"\",\" \",'Piano Varianti'!L101)","v":" "},{"$f":"IF('Piano Varianti'!M101=\"\",\" \",'Piano Varianti'!M101)","v":" "},{"$f":"IF('Piano Varianti'!H101=\"\",\" \",'Piano Varianti'!H101)","v":" "}]
[null,89,{"$f":"IF('Piano Varianti'!L102=\"\",\" \",'Piano Varianti'!L102)","v":" "},{"$f":"IF('Piano Varianti'!M102=\"\",\" \",'Piano Varianti'!M102)","v":" "},{"$f":"IF('Piano Varianti'!H102=\"\",\" \",'Piano Varianti'!H102)","v":" "}]
[null,90,{"$f":"IF('Piano Varianti'!L103=\"\",\" \",'Piano Varianti'!L103)","v":" "},{"$f":"IF('Piano Varianti'!M103=\"\",\" \",'Piano Varianti'!M103)","v":" "},{"$f":"IF('Piano Varianti'!H103=\"\",\" \",'Piano Varianti'!H103)","v":" "}]
[null,91,{"$f":"IF('Piano Varianti'!L104=\"\",\" \",'Piano Varianti'!L104)","v":" "},{"$f":"IF('Piano Varianti'!M104=\"\",\" \",'Piano Varianti'!M104)","v":" "},{"$f":"IF('Piano Varianti'!H104=\"\",\" \",'Piano Varianti'!H104)","v":" "}]
[null,92,{"$f":"IF('Piano Varianti'!L105=\"\",\" \",'Piano Varianti'!L105)","v":" "},{"$f":"IF('Piano Varianti'!M105=\"\",\" \",'Piano Varianti'!M105)","v":" "},{"$f":"IF('Piano Varianti'!H105=\"\",\" \",'Piano Varianti'!H105)","v":" "}]
[null,93,{"$f":"IF('Piano Varianti'!L106=\"\",\" \",'Piano Varianti'!L106)","v":" "},{"$f":"IF('Piano Varianti'!M106=\"\",\" \",'Piano Varianti'!M106)","v":" "},{"$f":"IF('Piano Varianti'!H106=\"\",\" \",'Piano Varianti'!H106)","v":" "}]
[null,94,{"$f":"IF('Piano Varianti'!L107=\"\",\" \",'Piano Varianti'!L107)","v":" "},{"$f":"IF('Piano Varianti'!M107=\"\",\" \",'Piano Varianti'!M107)","v":" "},{"$f":"IF('Piano Varianti'!H107=\"\",\" \",'Piano Varianti'!H107)","v":" "}]
[null,95,{"$f":"IF('Piano Varianti'!L108=\"\",\" \",'Piano Varianti'!L108)","v":" "},{"$f":"IF('Piano Varianti'!M108=\"\",\" \",'Piano Varianti'!M108)","v":" "},{"$f":"IF('Piano Varianti'!H108=\"\",\" \",'Piano Varianti'!H108)","v":" "}]
[null,96,{"$f":"IF('Piano Varianti'!L109=\"\",\" \",'Piano Varianti'!L109)","v":" "},{"$f":"IF('Piano Varianti'!M109=\"\",\" \",'Piano Varianti'!M109)","v":" "},{"$f":"IF('Piano Varianti'!H109=\"\",\" \",'Piano Varianti'!H109)","v":" "}]
[null,{"$f":"ROW(A97)","v":97},{"$f":"IF('Piano Varianti'!L110=\"\",\" \",'Piano Varianti'!L110)","v":" "},{"$f":"IF('Piano Varianti'!M110=\"\",\" \",'Piano Varianti'!M110)","v":" "},{"$f":"IF('Piano Varianti'!H110=\"\",\" \",'Piano Varianti'!H110)","v":" "}]
[null,98,{"$f":"IF('Piano Varianti'!L111=\"\",\" \",'Piano Varianti'!L111)","v":" "},{"$f":"IF('Piano Varianti'!M111=\"\",\" \",'Piano Varianti'!M111)","v":" "},{"$f":"IF('Piano Varianti'!H111=\"\",\" \",'Piano Varianti'!H111)","v":" "}]
[null,99,{"$f":"IF('Piano Varianti'!L112=\"\",\" \",'Piano Varianti'!L112)","v":" "},{"$f":"IF('Piano Varianti'!M112=\"\",\" \",'Piano Varianti'!M112)","v":" "},{"$f":"IF('Piano Varianti'!H112=\"\",\" \",'Piano Varianti'!H112)","v":" "}]
[null,100,{"$f":"IF('Piano Varianti'!L113=\"\",\" \",'Piano Varianti'!L113)","v":" "},{"$f":"IF('Piano Varianti'!M113=\"\",\" \",'Piano Varianti'!M113)","v":" "},{"$f":"IF('Piano Varianti'!H113=\"\",\" \",'Piano Varianti'!H113)","v":" "}]
[null,101,{"$f":"IF('Piano Varianti'!L114=\"\",\" \",'Piano Varianti'!L114)","v":" "},{"$f":"IF('Piano Varianti'!M114=\"\",\" \",'Piano Varianti'!M114)","v":" "},{"$f":"IF('Piano Varianti'!H114=\"\",\" \",'Piano Varianti'!H114)","v":" "}]
[null,102,{"$f":"IF('Piano Varianti'!L115=\"\",\" \",'Piano Varianti'!L115)","v":" "},{"$f":"IF('Piano Varianti'!M115=\"\",\" \",'Piano Varianti'!M115)","v":" "},{"$f":"IF('Piano Varianti'!H115=\"\",\" \",'Piano Varianti'!H115)","v":" "}]
[null,103,{"$f":"IF('Piano Varianti'!L116=\"\",\" \",'Piano Varianti'!L116)","v":" "},{"$f":"IF('Piano Varianti'!M116=\"\",\" \",'Piano Varianti'!M116)","v":" "},{"$f":"IF('Piano Varianti'!H116=\"\",\" \",'Piano Varianti'!H116)","v":" "}]
[null,104,{"$f":"IF('Piano Varianti'!L117=\"\",\" \",'Piano Varianti'!L117)","v":" "},{"$f":"IF('Piano Varianti'!M117=\"\",\" \",'Piano Varianti'!M117)","v":" "},{"$f":"IF('Piano Varianti'!H117=\"\",\" \",'Piano Varianti'!H117)","v":" "}]
[null,105,{"$f":"IF('Piano Varianti'!L118=\"\",\" \",'Piano Varianti'!L118)","v":" "},{"$f":"IF('Piano Varianti'!M118=\"\",\" \",'Piano Varianti'!M118)","v":" "},{"$f":"IF('Piano Varianti'!H118=\"\",\" \",'Piano Varianti'!H118)","v":" "}]
[null,106,{"$f":"IF('Piano Varianti'!L119=\"\",\" \",'Piano Varianti'!L119)","v":" "},{"$f":"IF('Piano Varianti'!M119=\"\",\" \",'Piano Varianti'!M119)","v":" "},{"$f":"IF('Piano Varianti'!H119=\"\",\" \",'Piano Varianti'!H119)","v":" "}]
[null,107,{"$f":"IF('Piano Varianti'!L120=\"\",\" \",'Piano Varianti'!L120)","v":" "},{"$f":"IF('Piano Varianti'!M120=\"\",\" \",'Piano Varianti'!M120)","v":" "},{"$f":"IF('Piano Varianti'!H120=\"\",\" \",'Piano Varianti'!H120)","v":" "}]
[null,108,{"$f":"IF('Piano Varianti'!L121=\"\",\" \",'Piano Varianti'!L121)","v":" "},{"$f":"IF('Piano Varianti'!M121=\"\",\" \",'Piano Varianti'!M121)","v":" "},{"$f":"IF('Piano Varianti'!H121=\"\",\" \",'Piano Varianti'!H121)","v":" "}]
[null,109,{"$f":"IF('Piano Varianti'!L122=\"\",\" \",'Piano Varianti'!L122)","v":" "},{"$f":"IF('Piano Varianti'!M122=\"\",\" \",'Piano Varianti'!M122)","v":" "},{"$f":"IF('Piano Varianti'!H122=\"\",\" \",'Piano Varianti'!H122)","v":" "}]
[null,110,{"$f":"IF('Piano Varianti'!L123=\"\",\" \",'Piano Varianti'!L123)","v":" "},{"$f":"IF('Piano Varianti'!M123=\"\",\" \",'Piano Varianti'!M123)","v":" "},{"$f":"IF('Piano Varianti'!H123=\"\",\" \",'Piano Varianti'!H123)","v":" "}]
[null,111,{"$f":"IF('Piano Varianti'!L124=\"\",\" \",'Piano Varianti'!L124)","v":" "},{"$f":"IF('Piano Varianti'!M124=\"\",\" \",'Piano Varianti'!M124)","v":" "},{"$f":"IF('Piano Varianti'!H124=\"\",\" \",'Piano Varianti'!H124)","v":" "}]
[null,112,{"$f":"IF('Piano Varianti'!L125=\"\",\" \",'Piano Varianti'!L125)","v":" "},{"$f":"IF('Piano Varianti'!M125=\"\",\" \",'Piano Varianti'!M125)","v":" "},{"$f":"IF('Piano Varianti'!H125=\"\",\" \",'Piano Varianti'!H125)","v":" "}]
[null,113,{"$f":"IF('Piano Varianti'!L126=\"\",\" \",'Piano Varianti'!L126)","v":" "},{"$f":"IF('Piano Varianti'!M126=\"\",\" \",'Piano Varianti'!M126)","v":" "},{"$f":"IF('Piano Varianti'!H126=\"\",\" \",'Piano Varianti'!H126)","v":" "}]
[null,114,{"$f":"IF('Piano Varianti'!L127=\"\",\" \",'Piano Varianti'!L127)","v":" "},{"$f":"IF('Piano Varianti'!M127=\"\",\" \",'Piano Varianti'!M127)","v":" "},{"$f":"IF('Piano Varianti'!H127=\"\",\" \",'Piano Varianti'!H127)","v":" "}]
[null,115,{"$f":"IF('Piano Varianti'!L128=\"\",\" \",'Piano Varianti'!L128)","v":" "},{"$f":"IF('Piano Varianti'!M128=\"\",\" \",'Piano Varianti'!M128)","v":" "},{"$f":"IF('Piano Varianti'!H128=\"\",\" \",'Piano Varianti'!H128)","v":" "}]
[null,116,{"$f":"IF('Piano Varianti'!L129=\"\",\" \",'Piano Varianti'!L129)","v":" "},{"$f":"IF('Piano Varianti'!M129=\"\",\" \",'Piano Varianti'!M129)","v":" "},{"$f":"IF('Piano Varianti'!H129=\"\",\" \",'Piano Varianti'!H129)","v":" "}]
[null,117,{"$f":"IF('Piano Varianti'!L130=\"\",\" \",'Piano Varianti'!L130)","v":" "},{"$f":"IF('Piano Varianti'!M130=\"\",\" \",'Piano Varianti'!M130)","v":" "},{"$f":"IF('Piano Varianti'!H130=\"\",\" \",'Piano Varianti'!H130)","v":" "}]
[null,118,{"$f":"IF('Piano Varianti'!L131=\"\",\" \",'Piano Varianti'!L131)","v":" "},{"$f":"IF('Piano Varianti'!M131=\"\",\" \",'Piano Varianti'!M131)","v":" "},{"$f":"IF('Piano Varianti'!H131=\"\",\" \",'Piano Varianti'!H131)","v":" "}]
[null,119,{"$f":"IF('Piano Varianti'!L132=\"\",\" \",'Piano Varianti'!L132)","v":" "},{"$f":"IF('Piano Varianti'!M132=\"\",\" \",'Piano Varianti'!M132)","v":" "},{"$f":"IF('Piano Varianti'!H132=\"\",\" \",'Piano Varianti'!H132)","v":" "}]
[null,120,{"$f":"IF('Piano Varianti'!L133=\"\",\" \",'Piano Varianti'!L133)","v":" "},{"$f":"IF('Piano Varianti'!M133=\"\",\" \",'Piano Varianti'!M133)","v":" "},{"$f":"IF('Piano Varianti'!H133=\"\",\" \",'Piano Varianti'!H133)","v":" "}]
[null,121,{"$f":"IF('Piano Varianti'!L134=\"\",\" \",'Piano Varianti'!L134)","v":" "},{"$f":"IF('Piano Varianti'!M134=\"\",\" \",'Piano Varianti'!M134)","v":" "},{"$f":"IF('Piano Varianti'!H134=\"\",\" \",'Piano Varianti'!H134)","v":" "}]
[null,122,{"$f":"IF('Piano Varianti'!L135=\"\",\" \",'Piano Varianti'!L135)","v":" "},{"$f":"IF('Piano Varianti'!M135=\"\",\" \",'Piano Varianti'!M135)","v":" "},{"$f":"IF('Piano Varianti'!H135=\"\",\" \",'Piano Varianti'!H135)","v":" "}]
[null,123,{"$f":"IF('Piano Varianti'!L136=\"\",\" \",'Piano Varianti'!L136)","v":" "},{"$f":"IF('Piano Varianti'!M136=\"\",\" \",'Piano Varianti'!M136)","v":" "},{"$f":"IF('Piano Varianti'!H136=\"\",\" \",'Piano Varianti'!H136)","v":" "}]
[null,124,{"$f":"IF('Piano Varianti'!L137=\"\",\" \",'Piano Varianti'!L137)","v":" "},{"$f":"IF('Piano Varianti'!M137=\"\",\" \",'Piano Varianti'!M137)","v":" "},{"$f":"IF('Piano Varianti'!H137=\"\",\" \",'Piano Varianti'!H137)","v":" "}]
[null,125,{"$f":"IF('Piano Varianti'!L138=\"\",\" \",'Piano Varianti'!L138)","v":" "},{"$f":"IF('Piano Varianti'!M138=\"\",\" \",'Piano Varianti'!M138)","v":" "},{"$f":"IF('Piano Varianti'!H138=\"\",\" \",'Piano Varianti'!H138)","v":" "}]
[null,126,{"$f":"IF('Piano Varianti'!L139=\"\",\" \",'Piano Varianti'!L139)","v":" "},{"$f":"IF('Piano Varianti'!M139=\"\",\" \",'Piano Varianti'!M139)","v":" "},{"$f":"IF('Piano Varianti'!H139=\"\",\" \",'Piano Varianti'!H139)","v":" "}]
[null,127,{"$f":"IF('Piano Varianti'!L140=\"\",\" \",'Piano Varianti'!L140)","v":" "},{"$f":"IF('Piano Varianti'!M140=\"\",\" \",'Piano Varianti'!M140)","v":" "},{"$f":"IF('Piano Varianti'!H140=\"\",\" \",'Piano Varianti'!H140)","v":" "}]
[null,128,{"$f":"IF('Piano Varianti'!L141=\"\",\" \",'Piano Varianti'!L141)","v":" "},{"$f":"IF('Piano Varianti'!M141=\"\",\" \",'Piano Varianti'!M141)","v":" "},{"$f":"IF('Piano Varianti'!H141=\"\",\" \",'Piano Varianti'!H141)","v":" "}]
[null,{"$f":"ROW(A129)","v":129},{"$f":"IF('Piano Varianti'!L142=\"\",\" \",'Piano Varianti'!L142)","v":" "},{"$f":"IF('Piano Varianti'!M142=\"\",\" \",'Piano Varianti'!M142)","v":" "},{"$f":"IF('Piano Varianti'!H142=\"\",\" \",'Piano Varianti'!H142)","v":" "}]
[null,130,{"$f":"IF('Piano Varianti'!L143=\"\",\" \",'Piano Varianti'!L143)","v":" "},{"$f":"IF('Piano Varianti'!M143=\"\",\" \",'Piano Varianti'!M143)","v":" "},{"$f":"IF('Piano Varianti'!H143=\"\",\" \",'Piano Varianti'!H143)","v":" "}]
[null,131,{"$f":"IF('Piano Varianti'!L144=\"\",\" \",'Piano Varianti'!L144)","v":" "},{"$f":"IF('Piano Varianti'!M144=\"\",\" \",'Piano Varianti'!M144)","v":" "},{"$f":"IF('Piano Varianti'!H144=\"\",\" \",'Piano Varianti'!H144)","v":" "}]
[null,132,{"$f":"IF('Piano Varianti'!L145=\"\",\" \",'Piano Varianti'!L145)","v":" "},{"$f":"IF('Piano Varianti'!M145=\"\",\" \",'Piano Varianti'!M145)","v":" "},{"$f":"IF('Piano Varianti'!H145=\"\",\" \",'Piano Varianti'!H145)","v":" "}]
[null,133,{"$f":"IF('Piano Varianti'!L146=\"\",\" \",'Piano Varianti'!L146)","v":" "},{"$f":"IF('Piano Varianti'!M146=\"\",\" \",'Piano Varianti'!M146)","v":" "},{"$f":"IF('Piano Varianti'!H146=\"\",\" \",'Piano Varianti'!H146)","v":" "}]
[null,134,{"$f":"IF('Piano Varianti'!L147=\"\",\" \",'Piano Varianti'!L147)","v":" "},{"$f":"IF('Piano Varianti'!M147=\"\",\" \",'Piano Varianti'!M147)","v":" "},{"$f":"IF('Piano Varianti'!H147=\"\",\" \",'Piano Varianti'!H147)","v":" "}]
[null,135,{"$f":"IF('Piano Varianti'!L148=\"\",\" \",'Piano Varianti'!L148)","v":" "},{"$f":"IF('Piano Varianti'!M148=\"\",\" \",'Piano Varianti'!M148)","v":" "},{"$f":"IF('Piano Varianti'!H148=\"\",\" \",'Piano Varianti'!H148)","v":" "}]
[null,136,{"$f":"IF('Piano Varianti'!L149=\"\",\" \",'Piano Varianti'!L149)","v":" "},{"$f":"IF('Piano Varianti'!M149=\"\",\" \",'Piano Varianti'!M149)","v":" "},{"$f":"IF('Piano Varianti'!H149=\"\",\" \",'Piano Varianti'!H149)","v":" "}]
[null,137,{"$f":"IF('Piano Varianti'!L150=\"\",\" \",'Piano Varianti'!L150)","v":" "},{"$f":"IF('Piano Varianti'!M150=\"\",\" \",'Piano Varianti'!M150)","v":" "},{"$f":"IF('Piano Varianti'!H150=\"\",\" \",'Piano Varianti'!H150)","v":" "}]
[null,138,{"$f":"IF('Piano Varianti'!L151=\"\",\" \",'Piano Varianti'!L151)","v":" "},{"$f":"IF('Piano Varianti'!M151=\"\",\" \",'Piano Varianti'!M151)","v":" "},{"$f":"IF('Piano Varianti'!H151=\"\",\" \",'Piano Varianti'!H151)","v":" "}]
[null,139,{"$f":"IF('Piano Varianti'!L152=\"\",\" \",'Piano Varianti'!L152)","v":" "},{"$f":"IF('Piano Varianti'!M152=\"\",\" \",'Piano Varianti'!M152)","v":" "},{"$f":"IF('Piano Varianti'!H152=\"\",\" \",'Piano Varianti'!H152)","v":" "}]
[null,140,{"$f":"IF('Piano Varianti'!L153=\"\",\" \",'Piano Varianti'!L153)","v":" "},{"$f":"IF('Piano Varianti'!M153=\"\",\" \",'Piano Varianti'!M153)","v":" "},{"$f":"IF('Piano Varianti'!H153=\"\",\" \",'Piano Varianti'!H153)","v":" "}]
[null,141,{"$f":"IF('Piano Varianti'!L154=\"\",\" \",'Piano Varianti'!L154)","v":" "},{"$f":"IF('Piano Varianti'!M154=\"\",\" \",'Piano Varianti'!M154)","v":" "},{"$f":"IF('Piano Varianti'!H154=\"\",\" \",'Piano Varianti'!H154)","v":" "}]
[null,142,{"$f":"IF('Piano Varianti'!L155=\"\",\" \",'Piano Varianti'!L155)","v":" "},{"$f":"IF('Piano Varianti'!M155=\"\",\" \",'Piano Varianti'!M155)","v":" "},{"$f":"IF('Piano Varianti'!H155=\"\",\" \",'Piano Varianti'!H155)","v":" "}]
[null,143,{"$f":"IF('Piano Varianti'!L156=\"\",\" \",'Piano Varianti'!L156)","v":" "},{"$f":"IF('Piano Varianti'!M156=\"\",\" \",'Piano Varianti'!M156)","v":" "},{"$f":"IF('Piano Varianti'!H156=\"\",\" \",'Piano Varianti'!H156)","v":" "}]
[null,144,{"$f":"IF('Piano Varianti'!L157=\"\",\" \",'Piano Varianti'!L157)","v":" "},{"$f":"IF('Piano Varianti'!M157=\"\",\" \",'Piano Varianti'!M157)","v":" "},{"$f":"IF('Piano Varianti'!H157=\"\",\" \",'Piano Varianti'!H157)","v":" "}]
[null,145,{"$f":"IF('Piano Varianti'!L158=\"\",\" \",'Piano Varianti'!L158)","v":" "},{"$f":"IF('Piano Varianti'!M158=\"\",\" \",'Piano Varianti'!M158)","v":" "},{"$f":"IF('Piano Varianti'!H158=\"\",\" \",'Piano Varianti'!H158)","v":" "}]
[null,146,{"$f":"IF('Piano Varianti'!L159=\"\",\" \",'Piano Varianti'!L159)","v":" "},{"$f":"IF('Piano Varianti'!M159=\"\",\" \",'Piano Varianti'!M159)","v":" "},{"$f":"IF('Piano Varianti'!H159=\"\",\" \",'Piano Varianti'!H159)","v":" "}]
[null,147,{"$f":"IF('Piano Varianti'!L160=\"\",\" \",'Piano Varianti'!L160)","v":" "},{"$f":"IF('Piano Varianti'!M160=\"\",\" \",'Piano Varianti'!M160)","v":" "},{"$f":"IF('Piano Varianti'!H160=\"\",\" \",'Piano Varianti'!H160)","v":" "}]
[null,148,{"$f":"IF('Piano Varianti'!L161=\"\",\" \",'Piano Varianti'!L161)","v":" "},{"$f":"IF('Piano Varianti'!M161=\"\",\" \",'Piano Varianti'!M161)","v":" "},{"$f":"IF('Piano Varianti'!H161=\"\",\" \",'Piano Varianti'!H161)","v":" "}]
[null,149,{"$f":"IF('Piano Varianti'!L162=\"\",\" \",'Piano Varianti'!L162)","v":" "},{"$f":"IF('Piano Varianti'!M162=\"\",\" \",'Piano Varianti'!M162)","v":" "},{"$f":"IF('Piano Varianti'!H162=\"\",\" \",'Piano Varianti'!H162)","v":" "}]
[null,150,{"$f":"IF('Piano Varianti'!L163=\"\",\" \",'Piano Varianti'!L163)","v":" "},{"$f":"IF('Piano Varianti'!M163=\"\",\" \",'Piano Varianti'!M163)","v":" "},{"$f":"IF('Piano Varianti'!H163=\"\",\" \",'Piano Varianti'!H163)","v":" "}]
[null,151,{"$f":"IF('Piano Varianti'!L164=\"\",\" \",'Piano Varianti'!L164)","v":" "},{"$f":"IF('Piano Varianti'!M164=\"\",\" \",'Piano Varianti'!M164)","v":" "},{"$f":"IF('Piano Varianti'!H164=\"\",\" \",'Piano Varianti'!H164)","v":" "}]
[null,152,{"$f":"IF('Piano Varianti'!L165=\"\",\" \",'Piano Varianti'!L165)","v":" "},{"$f":"IF('Piano Varianti'!M165=\"\",\" \",'Piano Varianti'!M165)","v":" "},{"$f":"IF('Piano Varianti'!H165=\"\",\" \",'Piano Varianti'!H165)","v":" "}]
[null,153,{"$f":"IF('Piano Varianti'!L166=\"\",\" \",'Piano Varianti'!L166)","v":" "},{"$f":"IF('Piano Varianti'!M166=\"\",\" \",'Piano Varianti'!M166)","v":" "},{"$f":"IF('Piano Varianti'!H166=\"\",\" \",'Piano Varianti'!H166)","v":" "}]
[null,154,{"$f":"IF('Piano Varianti'!L167=\"\",\" \",'Piano Varianti'!L167)","v":" "},{"$f":"IF('Piano Varianti'!M167=\"\",\" \",'Piano Varianti'!M167)","v":" "},{"$f":"IF('Piano Varianti'!H167=\"\",\" \",'Piano Varianti'!H167)","v":" "}]
[null,155,{"$f":"IF('Piano Varianti'!L168=\"\",\" \",'Piano Varianti'!L168)","v":" "},{"$f":"IF('Piano Varianti'!M168=\"\",\" \",'Piano Varianti'!M168)","v":" "},{"$f":"IF('Piano Varianti'!H168=\"\",\" \",'Piano Varianti'!H168)","v":" "}]
[null,156,{"$f":"IF('Piano Varianti'!L169=\"\",\" \",'Piano Varianti'!L169)","v":" "},{"$f":"IF('Piano Varianti'!M169=\"\",\" \",'Piano Varianti'!M169)","v":" "},{"$f":"IF('Piano Varianti'!H169=\"\",\" \",'Piano Varianti'!H169)","v":" "}]
[null,157,{"$f":"IF('Piano Varianti'!L170=\"\",\" \",'Piano Varianti'!L170)","v":" "},{"$f":"IF('Piano Varianti'!M170=\"\",\" \",'Piano Varianti'!M170)","v":" "},{"$f":"IF('Piano Varianti'!H170=\"\",\" \",'Piano Varianti'!H170)","v":" "}]
[null,158,{"$f":"IF('Piano Varianti'!L171=\"\",\" \",'Piano Varianti'!L171)","v":" "},{"$f":"IF('Piano Varianti'!M171=\"\",\" \",'Piano Varianti'!M171)","v":" "},{"$f":"IF('Piano Varianti'!H171=\"\",\" \",'Piano Varianti'!H171)","v":" "}]
[null,159,{"$f":"IF('Piano Varianti'!L172=\"\",\" \",'Piano Varianti'!L172)","v":" "},{"$f":"IF('Piano Varianti'!M172=\"\",\" \",'Piano Varianti'!M172)","v":" "},{"$f":"IF('Piano Varianti'!H172=\"\",\" \",'Piano Varianti'!H172)","v":" "}]
[null,160,{"$f":"IF('Piano Varianti'!L173=\"\",\" \",'Piano Varianti'!L173)","v":" "},{"$f":"IF('Piano Varianti'!M173=\"\",\" \",'Piano Varianti'!M173)","v":" "},{"$f":"IF('Piano Varianti'!H173=\"\",\" \",'Piano Varianti'!H173)","v":" "}]
[null,{"$f":"ROW(A161)","v":161},{"$f":"IF('Piano Varianti'!L174=\"\",\" \",'Piano Varianti'!L174)","v":" "},{"$f":"IF('Piano Varianti'!M174=\"\",\" \",'Piano Varianti'!M174)","v":" "},{"$f":"IF('Piano Varianti'!H174=\"\",\" \",'Piano Varianti'!H174)","v":" "}]
[null,162,{"$f":"IF('Piano Varianti'!L175=\"\",\" \",'Piano Varianti'!L175)","v":" "},{"$f":"IF('Piano Varianti'!M175=\"\",\" \",'Piano Varianti'!M175)","v":" "},{"$f":"IF('Piano Varianti'!H175=\"\",\" \",'Piano Varianti'!H175)","v":" "}]
[null,163,{"$f":"IF('Piano Varianti'!L176=\"\",\" \",'Piano Varianti'!L176)","v":" "},{"$f":"IF('Piano Varianti'!M176=\"\",\" \",'Piano Varianti'!M176)","v":" "},{"$f":"IF('Piano Varianti'!H176=\"\",\" \",'Piano Varianti'!H176)","v":" "}]
[null,164,{"$f":"IF('Piano Varianti'!L177=\"\",\" \",'Piano Varianti'!L177)","v":" "},{"$f":"IF('Piano Varianti'!M177=\"\",\" \",'Piano Varianti'!M177)","v":" "},{"$f":"IF('Piano Varianti'!H177=\"\",\" \",'Piano Varianti'!H177)","v":" "}]
[null,165,{"$f":"IF('Piano Varianti'!L178=\"\",\" \",'Piano Varianti'!L178)","v":" "},{"$f":"IF('Piano Varianti'!M178=\"\",\" \",'Piano Varianti'!M178)","v":" "},{"$f":"IF('Piano Varianti'!H178=\"\",\" \",'Piano Varianti'!H178)","v":" "}]