{"text_format":"1","workbook":"xlsx","n_sheets":13,"sheets":["1 - ANAGRAFICA","2 - QUADRO LOCALIZZAZIONE","3 - SPECIE DA IMPIANTARE","4 - RIEPILOGHI E PUNTEGGIO","5_1 INT. IMPIANTI ORDINE SPARSO","5_2 - INT. PIANTAGIONI LINEARI","5_3 - INT. IMPIANTI SESTO REG.","6 - RIEPILOGO DI SPESA","7 - DICHIARAZIONI","Foglio1","VERIFICA AZ. 1","riepilogo per operazione","controlli legno di pregio"],"not_rendered":{"charts":0,"images":4,"macros":1,"external_links":1,"defined_names":46,"comments":0,"pivot_tables":0},"unopened":[],"bounds":{"document_bytes":16777216,"sheet_cells":100000,"rows_first":2000,"rows_last":500,"rows_between":2000,"halvings":0,"cell_chars":16384,"cell_head_chars":4096},"cells_cut":0,"cells_raw":0,"read":"whole","date_system":"1900"}

{"sheet":"1 - ANAGRAFICA","index":0,"n_rows":14,"n_cols":18,"rows_kept":14,"cut":false,"hidden":false,"merged":[[11,3,11,4],[5,0,5,19],[14,0,15,0],[14,1,15,2],[13,0,13,2],[9,0,9,2],[6,0,6,19],[13,15,13,18],[7,2,7,3],[13,8,13,11],[11,0,11,1],[11,14,11,15],[11,10,11,11],[11,17,11,18]]}
[]
[]
[]
[]
[]
["FORMULARIO DEGLI INTERVENTI"]
[" Avviso Pubblico Sottomisura 8.2 - \"Sostegno per l’impianto e il mantenimento dei sistemi agroforestali”\nD.A.G. n. 101 del 16/06/2017"]
["CODICE UNIVOCO",null,"Denominazione richiedente",null,null,null,null,null,null,"CUAA"]
[]
["SEDE LEGALE",null,null,null,null,null,null,null,null,"TEL.",null,null,null,null,"PEC"]
[]
["Impianti in ordine sparso",null,null,"SUPERFICIE m2",null,null,null,"Piantagioni Lineari (siepi, alberature, fasce boschive e frangivento)",null,null,"SUPERFICIE m2",null,null,null,"Impianti a sesto regolare",null,null,"SUPERFICIE m2"]
[]
["LUOGO E DATA",null,null,null,null,null,null,null,"FIRMA DEL RICHIEDENTE",null,null,null,null,null,null,"FIRMA E TIMBRO DEL TECNICO"]

{"sheet":"2 - QUADRO LOCALIZZAZIONE","index":1,"n_rows":102,"n_cols":35,"rows_kept":102,"cut":false,"hidden":false,"merged":[[0,11,0,12],[0,19,0,20],[0,17,0,18],[0,15,0,16],[0,13,0,14]]}
[null,"N. Pr.","Provincia","Comune","Fg.","P.lla","Sezione o\nAllegato","Superficie Intervento\nm2","Superficie Intervento\nHa","Tipologia di operazione attivata","Aree Rurali Ad Agricoltura Intensiva Specializzata (Zone B)\n4 Pt","Aree A Rischio Idrogeologico E/O Soggette Ad Erosione\n16 Pt",null,"Z.V.N.\n12 Pt",null,"Aree Natura 2000\n24 Pt",null,"Aree Periurbane\n20 Pt",null,"Superfici Contigue a Interventi Selvicolturali o Di Rimboschimento Precedentemente Realizzati (Ultimi 10 Anni)\n8 Pt",null,"Punteggio Ambito Territoriale","Riepilogo Controllo Campi Editati","Particelle Doppie"]
[null,"Controllo Campi Editati",{"$f":"COUNTA(C$3:C102)","v":0},{"$f":"COUNTA(D$3:D102)","v":0},{"$f":"COUNTA(E$3:E102)","v":0},{"$f":"COUNTA(F$3:F102)","v":0},null,{"$f":"COUNTA(H$3:H102)","v":0},null,{"$f":"COUNTA(J$3:J102)","v":0},null,{"$f":"COUNTA(L$3:L102)","v":0},null,{"$f":"COUNTA(N$3:N102)","v":0},null,{"$f":"COUNTA(P$3:P102)","v":0},null,{"$f":"COUNTA(R$3:R102)","v":0},null,{"$f":"COUNTA(T$3:T102)","v":0},null,null,null,null,null,"BARI","Acquaviva delle Fonti","Andria","Brindisi","Accadia","Acquarica del Capo","Avetrana","Apricena",null,{"$f":"AVERAGE(C2,D2,E2,F2,H2,J2,L2,N2,P2,R2,T2)","v":0}]
[{"$f":"'1 - ANAGRAFICA'!$B$8","v":0},1,null,null,null,null,null,null,{"$f":"H3/10000","v":0},null,{"$f":"IF(AH3=1,4,0)","v":0},null,{"$f":"IF(L3=\"SI\",16,0)","v":0},null,{"$f":"IF(N3=\"SI\",12,0)","v":0},null,{"$f":"IF(P3=\"SI\",24,0)","v":0},null,{"$f":"IF(R3=\"SI\",20,0)","v":0},null,{"$f":"IF(T3=\"SI\",8,0)","v":0},{"$f":"SUM(K3,M3,O3,Q3,S3,U3)","v":0},{"$f":"COUNTA(C3:F3,H3,J3:J3,L3,N3,P3,R3,T3)","v":0},{"$f":"IF(C3&D3&E3&F3&G3&J3<>\"\",C3&D3&E3&F3&G3&J3,0)","v":0},{"$f":"V3*H3","v":0},"BAT","Adelfia","Barletta","Carovigno","Alberona","Alessano","Carosino","Carapelle",{"$f":"COUNTIF($AG$2:$AG$51,D3)","v":0},{"$f":"MODE(C2,D2,E2,F2,H2,J2,L2,N2,P2,R2,T2)","v":0}]
[{"$f":"'1 - ANAGRAFICA'!$B$8","v":0},2,null,null,null,null,null,null,0,null,{"$f":"IF(AH4=1,4,0)","v":0},null,{"$f":"IF(L4=\"SI\",16,0)","v":0},null,{"$f":"IF(N4=\"SI\",12,0)","v":0},null,{"$f":"IF(P4=\"SI\",24,0)","v":0},null,{"$f":"IF(R4=\"SI\",20,0)","v":0},null,{"$f":"IF(T4=\"SI\",8,0)","v":0},0,0,{"$f":"IF(C4&D4&E4&F4&G4&J4<>\"\",C4&D4&E4&F4&G4&J4,0)","v":0},0,"BRINDISI","Alberobello","Bisceglie","Ceglie Messapica","Anzano di Puglia","Alezio","Castellaneta","Cerignola",{"$f":"COUNTIF($AG$2:$AG$51,D4)","v":0}]
[{"$f":"'1 - ANAGRAFICA'!$B$8","v":0},3,null,null,null,null,null,null,0,null,0,null,0,null,0,null,0,null,0,null,0,0,0,{"$f":"IF(C5&D5&E5&F5&G5&J5<>\"\",C5&D5&E5&F5&G5&J5,0)","v":0},0,"FOGGIA","Altamura","Canosa di Puglia","Cellino San Marco","Apricena","Alliste","Crispiano","Chieuti",0]
[{"$f":"'1 - ANAGRAFICA'!$B$8","v":0},4,null,null,null,null,null,null,0,null,0,null,0,null,0,null,0,null,0,null,0,0,0,0,0,"LECCE","Bari","Margherita di Savoia","Cisternino","Ascoli Satriano","Andrano","Faggiano","Foggia",0]
[{"$f":"'1 - ANAGRAFICA'!$B$8","v":0},5,null,null,null,null,null,null,0,null,0,null,0,null,0,null,0,null,0,null,0,0,0,0,0,"TARANTO","Binetto","Minervino Murge","Erchie","Biccari","Aradeo","Fragagnano","Lesina",0]
[{"$f":"'1 - ANAGRAFICA'!$B$8","v":0},6,null,null,null,null,null,null,0,null,0,null,0,null,0,null,0,null,0,null,0,0,0,0,0,null,"Bitetto","San Ferdinando di Puglia","Fasano","Bovino","Arnesano","Ginosa","Lucera",0]
[{"$f":"'1 - ANAGRAFICA'!$B$8","v":0},7,null,null,null,null,null,null,0,null,0,null,0,null,0,null,0,null,0,null,0,0,0,0,0,null,"Bitonto","Spinazzola","Francavilla Fontana","Cagnano Varano","Bagnolo del Salento","Grottaglie","Manfredonia",0]
[{"$f":"'1 - ANAGRAFICA'!$B$8","v":0},8,null,null,null,null,null,null,0,null,0,null,0,null,0,null,0,null,0,null,0,0,0,0,0,null,"Bitritto","Trani","Latiano","Candela","Botrugno","Laterza","Orta Nova",0]
[{"$f":"'1 - ANAGRAFICA'!$B$8","v":0},9,null,null,null,null,null,null,0,null,0,null,0,null,0,null,0,null,0,null,0,0,0,0,0,null,"Capurso","Trinitapoli","Mesagne","Carapelle","Calimera","Leporano","Poggio Imperiale",0]
[{"$f":"'1 - ANAGRAFICA'!$B$8","v":0},10,null,null,null,null,null,null,0,null,0,null,0,null,0,null,0,null,0,null,0,0,0,0,0,null,"Casamassima",null,"Oria","Carlantino","Campi Salentina","Lizzano","San Nicandro Garganico",0]
[{"$f":"'1 - ANAGRAFICA'!$B$8","v":0},11,null,null,null,null,null,null,0,null,0,null,0,null,0,null,0,null,0,null,0,0,0,0,0,null,"Cassano delle Murge",null,"Ostuni","Carpino","Cannole","Manduria","San Paolo di Civitate",0]
[{"$f":"'1 - ANAGRAFICA'!$B$8","v":0},12,null,null,null,null,null,null,0,null,0,null,0,null,0,null,0,null,0,null,0,0,0,0,0,null,"Castellana Grotte",null,"San Donaci","Casalnuovo Monterotaro","Caprarica di Lecce","Martina Franca","San Severo",0]
[{"$f":"'1 - ANAGRAFICA'!$B$8","v":0},13,null,null,null,null,null,null,0,null,0,null,0,null,0,null,0,null,0,null,0,0,0,0,0,null,"Cellamare",null,"San Michele Salentino","Casalvecchio di Puglia","Carmiano","Maruggio","Serracapriola",0]
[{"$f":"'1 - ANAGRAFICA'!$B$8","v":0},14,null,null,null,null,null,null,0,null,0,null,0,null,0,null,0,null,0,null,0,0,0,0,0,null,"Conversano",null,"San Pancrazio Salentino","Castelluccio dei Sauri","Carpignano Salentino","Massafra","Stornara",0]
[{"$f":"'1 - ANAGRAFICA'!$B$8","v":0},15,null,null,null,null,null,null,0,null,0,null,0,null,0,null,0,null,0,null,0,0,0,0,0,null,"Corato",null,"San Pietro Vernotico","Castelluccio Valmaggiore","Casarano","Monteiasi","Stornarella",0]
[{"$f":"'1 - ANAGRAFICA'!$B$8","v":0},16,null,null,null,null,null,null,0,null,0,null,0,null,0,null,0,null,0,null,0,0,0,0,0,null,"Gioia del Colle",null,"San Vito dei Normanni","Castelnuovo della Daunia","Castri di Lecce","Montemesola","Torremaggiore",0]
[{"$f":"'1 - ANAGRAFICA'!$B$8","v":0},17,null,null,null,null,null,null,0,null,0,null,0,null,0,null,0,null,0,null,0,0,0,0,0,null,"Giovinazzo",null,"Torchiarolo","Celenza Valfortore","Castrignano de' Greci","Monteparano","Troia",0]
[{"$f":"'1 - ANAGRAFICA'!$B$8","v":0},18,null,null,null,null,null,null,0,null,0,null,0,null,0,null,0,null,0,null,0,0,0,0,0,null,"Gravina in Puglia",null,"Torre Santa Susanna","Celle di San Vito","Castrignano del Capo","Mottola","Ordona",0]
[{"$f":"'1 - ANAGRAFICA'!$B$8","v":0},19,null,null,null,null,null,null,0,null,0,null,0,null,0,null,0,null,0,null,0,0,0,0,0,null,"Grumo Appula",null,"Villa Castelli","Cerignola","Castro","Palagianello","Zapponeta",0]
[{"$f":"'1 - ANAGRAFICA'!$B$8","v":0},20,null,null,null,null,null,null,0,null,0,null,0,null,0,null,0,null,0,null,0,0,0,0,0,null,"Locorotondo",null,null,"Chieuti","Cavallino","Palagiano","Adelfia",0]
[{"$f":"'1 - ANAGRAFICA'!$B$8","v":0},21,null,null,null,null,null,null,0,null,0,null,0,null,0,null,0,null,0,null,0,0,0,0,0,null,"Modugno",null,null,"Deliceto","Collepasso","Pulsano","Binetto",0]
[{"$f":"'1 - ANAGRAFICA'!$B$8","v":0},22,null,null,null,null,null,null,0,null,0,null,0,null,0,null,0,null,0,null,0,0,0,0,0,null,"Mola di Bari",null,null,"Faeto","Copertino","Roccaforzata","Bitetto",0]
[{"$f":"'1 - ANAGRAFICA'!$B$8","v":0},23,null,null,null,null,null,null,0,null,0,null,0,null,0,null,0,null,0,null,0,0,0,0,0,null,"Molfetta",null,null,"Foggia","Corigliano d'Otranto","San Giorgio Ionico","Bitritto",0]
[{"$f":"'1 - ANAGRAFICA'!$B$8","v":0},24,null,null,null,null,null,null,0,null,0,null,0,null,0,null,0,null,0,null,0,0,0,0,0,null,"Monopoli",null,null,"Ischitella","Corsano","San Marzano di San Giuseppe","Capurso",0]
[{"$f":"'1 - ANAGRAFICA'!$B$8","v":0},25,null,null,null,null,null,null,0,null,0,null,0,null,0,null,0,null,0,null,0,0,0,0,0,null,"Noci",null,null,"Isole Tremiti","Cursi","Sava","Cellamare",0]
[{"$f":"'1 - ANAGRAFICA'!$B$8","v":0},26,null,null,null,null,null,null,0,null,0,null,0,null,0,null,0,null,0,null,0,0,0,0,0,null,"Noicàttaro",null,null,"Lesina","Cutrofiano","Statte","Giovinazzo",0]
[{"$f":"'1 - ANAGRAFICA'!$B$8","v":0},27,null,null,null,null,null,null,0,null,0,null,0,null,0,null,0,null,0,null,0,0,0,0,0,null,"Palo del Colle",null,null,"Lucera","Diso","Taranto","Modugno",0]
[{"$f":"'1 - ANAGRAFICA'!$B$8","v":0},28,null,null,null,null,null,null,0,null,0,null,0,null,0,null,0,null,0,null,0,0,0,0,0,null,"Poggiorsini",null,null,"Manfredonia","Gagliano del Capo","Torricella","Mola di Bari",0]
[{"$f":"'1 - ANAGRAFICA'!$B$8","v":0},29,null,null,null,null,null,null,0,null,0,null,0,null,0,null,0,null,0,null,0,0,0,0,0,null,"Polignano a Mare",null,null,"Mattinata","Galatina",null,"Molfetta",0]
[{"$f":"'1 - ANAGRAFICA'!$B$8","v":0},30,null,null,null,null,null,null,0,null,0,null,0,null,0,null,0,null,0,null,0,0,0,0,0,null,"Putignano",null,null,"Monte Sant'Angelo","Galatone",null,"Monopoli",0]
[{"$f":"'1 - ANAGRAFICA'!$B$8","v":0},31,null,null,null,null,null,null,0,null,0,null,0,null,0,null,0,null,0,null,0,0,0,0,0,null,"Rutigliano",null,null,"Monteleone di Puglia","Gallipoli",null,"Noicattaro",0]
[{"$f":"'1 - ANAGRAFICA'!$B$8","v":0},32,null,null,null,null,null,null,0,null,0,null,0,null,0,null,0,null,0,null,0,0,0,0,0,null,"Ruvo di Puglia",null,null,"Motta Montecorvino","Giuggianello",null,"Polignano a Mare",0]
[{"$f":"'1 - ANAGRAFICA'!$B$8","v":0},33,null,null,null,null,null,null,{"$f":"H35/10000","v":0},null,0,null,0,null,0,null,0,null,0,null,0,{"$f":"SUM(K35,M35,O35,Q35,S35,U35)","v":0},{"$f":"COUNTA(C35:F35,H35,J35:J35,L35,N35,P35,R35,T35)","v":0},0,{"$f":"V35*H35","v":0},null,"Sammichele di Bari",null,null,"Ordona","Giurdignano",null,"Rutigliano",0]
[{"$f":"'1 - ANAGRAFICA'!$B$8","v":0},34,null,null,null,null,null,null,0,null,0,null,0,null,0,null,0,null,0,null,0,0,0,0,0,null,"Sannicandro di Bari",null,null,"Orsara di Puglia","Guagnano",null,"Triggiano",0]
[{"$f":"'1 - ANAGRAFICA'!$B$8","v":0},35,null,null,null,null,null,null,0,null,0,null,0,null,0,null,0,null,0,null,0,0,0,0,0,null,"Santeramo in Colle",null,null,"Orta Nova","Lecce",null,"Valenzano",0]
[{"$f":"'1 - ANAGRAFICA'!$B$8","v":0},36,null,null,null,null,null,null,0,null,0,null,0,null,0,null,0,null,0,null,0,0,0,0,0,null,"Terlizzi",null,null,"Panni","Lequile",null,"Crispiano",0]
[{"$f":"'1 - ANAGRAFICA'!$B$8","v":0},37,null,null,null,null,null,null,0,null,0,null,0,null,0,null,0,null,0,null,0,0,0,0,0,null,"Toritto",null,null,"Peschici","Leverano",null,"Grottaglie",0]
[{"$f":"'1 - ANAGRAFICA'!$B$8","v":0},38,null,null,null,null,null,null,0,null,0,null,0,null,0,null,0,null,0,null,0,0,0,0,0,null,"Triggiano",null,null,"Pietramontecorvino","Lizzanello",null,"Massafra",0]
[{"$f":"'1 - ANAGRAFICA'!$B$8","v":0},39,null,null,null,null,null,null,0,null,0,null,0,null,0,null,0,null,0,null,0,0,0,0,0,null,"Turi",null,null,"Poggio Imperiale","Maglie",null,"Montemesola",0]
[{"$f":"'1 - ANAGRAFICA'!$B$8","v":0},40,null,null,null,null,null,null,0,null,0,null,0,null,0,null,0,null,0,null,0,0,0,0,0,null,"Valenzano",null,null,"Rignano Garganico","Martano",null,"Palagianello",0]
[{"$f":"'1 - ANAGRAFICA'!$B$8","v":0},41,null,null,null,null,null,null,0,null,0,null,0,null,0,null,0,null,0,null,0,0,0,0,0,null,null,null,null,"Rocchetta Sant'Antonio","Martignano",null,"Palagiano",0]
[{"$f":"'1 - ANAGRAFICA'!$B$8","v":0},42,null,null,null,null,null,null,0,null,0,null,0,null,0,null,0,null,0,null,0,0,0,0,0,null,null,null,null,"Rodi Garganico","Matino",null,"Statte",0]
[{"$f":"'1 - ANAGRAFICA'!$B$8","v":0},43,null,null,null,null,null,null,0,null,0,null,0,null,0,null,0,null,0,null,0,0,0,0,0,null,null,null,null,"Roseto Valfortore","Melendugno",null,"Brindisi",0]
[{"$f":"'1 - ANAGRAFICA'!$B$8","v":0},44,null,null,null,null,null,null,0,null,0,null,0,null,0,null,0,null,0,null,0,0,0,0,0,null,null,null,null,"San Giovanni Rotondo","Melissano",null,"Andria",0]
[{"$f":"'1 - ANAGRAFICA'!$B$8","v":0},45,null,null,null,null,null,null,0,null,0,null,0,null,0,null,0,null,0,null,0,0,0,0,0,null,null,null,null,"San Marco in Lamis","Melpignano",null,"Barletta",0]
[{"$f":"'1 - ANAGRAFICA'!$B$8","v":0},46,null,null,null,null,null,null,0,null,0,null,0,null,0,null,0,null,0,null,0,0,0,0,0,null,null,null,null,"San Marco la Catola","Miggiano",null,"Bisceglie",0]
[{"$f":"'1 - ANAGRAFICA'!$B$8","v":0},47,null,null,null,null,null,null,0,null,0,null,0,null,0,null,0,null,0,null,0,0,0,0,0,null,null,null,null,"San Nicandro Garganico","Minervino di Lecce",null,"Margherita di Savoia",0]
[{"$f":"'1 - ANAGRAFICA'!$B$8","v":0},48,null,null,null,null,null,null,0,null,0,null,0,null,0,null,0,null,0,null,0,0,0,0,0,null,null,null,null,"San Paolo di Civitate","Monteroni di Lecce",null,"San Ferdinando di Puglia",0]
[{"$f":"'1 - ANAGRAFICA'!$B$8","v":0},49,null,null,null,null,null,null,0,null,0,null,0,null,0,null,0,null,0,null,0,0,0,0,0,null,null,null,null,"San Severo","Montesano Salentino",null,"Trani",0]
[{"$f":"'1 - ANAGRAFICA'!$B$8","v":0},50,null,null,null,null,null,null,0,null,0,null,0,null,0,null,0,null,0,null,0,0,0,0,0,null,null,null,null,"Sant'Agata di Puglia","Morciano di Leuca",null,"Trinitapoli",0]
[{"$f":"'1 - ANAGRAFICA'!$B$8","v":0},51,null,null,null,null,null,null,0,null,0,null,0,null,0,null,0,null,0,null,0,0,0,0,0,null,null,null,null,"Serracapriola","Muro Leccese",null,null,0]
[{"$f":"'1 - ANAGRAFICA'!$B$8","v":0},52,null,null,null,null,null,null,0,null,0,null,0,null,0,null,0,null,0,null,0,0,0,0,0,null,null,null,null,"Stornara","Nardò",null,null,0]
[{"$f":"'1 - ANAGRAFICA'!$B$8","v":0},53,null,null,null,null,null,null,0,null,0,null,0,null,0,null,0,null,0,null,0,0,0,0,0,null,null,null,null,"Stornarella","Neviano",null,null,0]
[{"$f":"'1 - ANAGRAFICA'!$B$8","v":0},54,null,null,null,null,null,null,0,null,0,null,0,null,0,null,0,null,0,null,0,0,0,0,0,null,null,null,null,"Torremaggiore","Nociglia",null,null,0]
[{"$f":"'1 - ANAGRAFICA'!$B$8","v":0},55,null,null,null,null,null,null,0,null,0,null,0,null,0,null,0,null,0,null,0,0,0,0,0,null,null,null,null,"Troia","Novoli",null,null,0]
[{"$f":"'1 - ANAGRAFICA'!$B$8","v":0},56,null,null,null,null,null,null,0,null,0,null,0,null,0,null,0,null,0,null,0,0,0,0,0,null,null,null,null,"Vico del Gargano","Ortelle",null,null,0]
[{"$f":"'1 - ANAGRAFICA'!$B$8","v":0},57,null,null,null,null,null,null,0,null,0,null,0,null,0,null,0,null,0,null,0,0,0,0,0,null,null,null,null,"Vieste","Otranto",null,null,0]
[{"$f":"'1 - ANAGRAFICA'!$B$8","v":0},58,null,null,null,null,null,null,0,null,0,null,0,null,0,null,0,null,0,null,0,0,0,0,0,null,null,null,null,"Volturara Appula","Palmariggi",null,null,0]
[{"$f":"'1 - ANAGRAFICA'!$B$8","v":0},59,null,null,null,null,null,null,0,null,0,null,0,null,0,null,0,null,0,null,0,0,0,0,0,null,null,null,null,"Volturino","Parabita",null,null,0]
[{"$f":"'1 - ANAGRAFICA'!$B$8","v":0},60,null,null,null,null,null,null,0,null,0,null,0,null,0,null,0,null,0,null,0,0,0,0,0,null,null,null,null,"Zapponeta","Patù",null,null,0]
[{"$f":"'1 - ANAGRAFICA'!$B$8","v":0},61,null,null,null,null,null,null,0,null,0,null,0,null,0,null,0,null,0,null,0,0,0,0,0,null,null,null,null,null,"Poggiardo",null,null,0]
[{"$f":"'1 - ANAGRAFICA'!$B$8","v":0},62,null,null,null,null,null,null,0,null,0,null,0,null,0,null,0,null,0,null,0,0,0,0,0,null,null,null,null,null,"Porto Cesareo",null,null,0]
[{"$f":"'1 - ANAGRAFICA'!$B$8","v":0},63,null,null,null,null,null,null,0,null,0,null,0,null,0,null,0,null,0,null,0,0,0,0,0,null,null,null,null,null,"Presicce",null,null,0]
[{"$f":"'1 - ANAGRAFICA'!$B$8","v":0},64,null,null,null,null,null,null,0,null,0,null,0,null,0,null,0,null,0,null,0,0,0,0,0,null,null,null,null,null,"Racale",null,null,0]
[{"$f":"'1 - ANAGRAFICA'!$B$8","v":0},65,null,null,null,null,null,null,{"$f":"H67/10000","v":0},null,0,null,0,null,0,null,0,null,0,null,0,{"$f":"SUM(K67,M67,O67,Q67,S67,U67)","v":0},{"$f":"COUNTA(C67:F67,H67,J67:J67,L67,N67,P67,R67,T67)","v":0},0,{"$f":"V67*H67","v":0},null,null,null,null,null,"Ruffano",null,null,0]
[{"$f":"'1 - ANAGRAFICA'!$B$8","v":0},66,null,null,null,null,null,null,0,null,{"$f":"IF(AH68=1,4,0)","v":0},null,{"$f":"IF(L68=\"SI\",16,0)","v":0},null,{"$f":"IF(N68=\"SI\",12,0)","v":0},null,{"$f":"IF(P68=\"SI\",24,0)","v":0},null,{"$f":"IF(R68=\"SI\",20,0)","v":0},null,{"$f":"IF(T68=\"SI\",8,0)","v":0},0,0,{"$f":"IF(C68&D68&E68&F68&G68&J68<>\"\",C68&D68&E68&F68&G68&J68,0)","v":0},0,null,null,null,null,null,"Salice Salentino",null,null,{"$f":"COUNTIF($AG$2:$AG$51,D68)","v":0}]
[{"$f":"'1 - ANAGRAFICA'!$B$8","v":0},67,null,null,null,null,null,null,0,null,0,null,0,null,0,null,0,null,0,null,0,0,0,0,0,null,null,null,null,null,"Salve",null,null,0]
[{"$f":"'1 - ANAGRAFICA'!$B$8","v":0},68,null,null,null,null,null,null,0,null,0,null,0,null,0,null,0,null,0,null,0,0,0,0,0,null,null,null,null,null,"San Cassiano",null,null,0]
[{"$f":"'1 - ANAGRAFICA'!$B$8","v":0},69,null,null,null,null,null,null,0,null,0,null,0,null,0,null,0,null,0,null,0,0,0,0,0,null,null,null,null,null,"San Cesario di Lecce",null,null,0]
[{"$f":"'1 - ANAGRAFICA'!$B$8","v":0},70,null,null,null,null,null,null,0,null,0,null,0,null,0,null,0,null,0,null,0,0,0,0,0,null,null,null,null,null,"San Donato di Lecce",null,null,0]
[{"$f":"'1 - ANAGRAFICA'!$B$8","v":0},71,null,null,null,null,null,null,0,null,0,null,0,null,0,null,0,null,0,null,0,0,0,0,0,null,null,null,null,null,"San Pietro in Lama",null,null,0]
[{"$f":"'1 - ANAGRAFICA'!$B$8","v":0},72,null,null,null,null,null,null,0,null,0,null,0,null,0,null,0,null,0,null,0,0,0,0,0,null,null,null,null,null,"Sanarica",null,null,0]
[{"$f":"'1 - ANAGRAFICA'!$B$8","v":0},73,null,null,null,null,null,null,0,null,0,null,0,null,0,null,0,null,0,null,0,0,0,0,0,null,null,null,null,null,"Sannicola",null,null,0]
[{"$f":"'1 - ANAGRAFICA'!$B$8","v":0},74,null,null,null,null,null,null,0,null,0,null,0,null,0,null,0,null,0,null,0,0,0,0,0,null,null,null,null,null,"Santa Cesarea Terme",null,null,0]
[{"$f":"'1 - ANAGRAFICA'!$B$8","v":0},75,null,null,null,null,null,null,0,null,0,null,0,null,0,null,0,null,0,null,0,0,0,0,0,null,null,null,null,null,"Scorrano",null,null,0]
[{"$f":"'1 - ANAGRAFICA'!$B$8","v":0},76,null,null,null,null,null,null,0,null,0,null,0,null,0,null,0,null,0,null,0,0,0,0,0,null,null,null,null,null,"Seclì",null,null,0]
[{"$f":"'1 - ANAGRAFICA'!$B$8","v":0},77,null,null,null,null,null,null,0,null,0,null,0,null,0,null,0,null,0,null,0,0,0,0,0,null,null,null,null,null,"Sogliano Cavour",null,null,0]
[{"$f":"'1 - ANAGRAFICA'!$B$8","v":0},78,null,null,null,null,null,null,0,null,0,null,0,null,0,null,0,null,0,null,0,0,0,0,0,null,null,null,null,null,"Soleto",null,null,0]
[{"$f":"'1 - ANAGRAFICA'!$B$8","v":0},79,null,null,null,null,null,null,0,null,0,null,0,null,0,null,0,null,0,null,0,0,0,0,0,null,null,null,null,null,"Specchia",null,null,0]
[{"$f":"'1 - ANAGRAFICA'!$B$8","v":0},80,null,null,null,null,null,null,0,null,0,null,0,null,0,null,0,null,0,null,0,0,0,0,0,null,null,null,null,null,"Spongano",null,null,0]
[{"$f":"'1 - ANAGRAFICA'!$B$8","v":0},81,null,null,null,null,null,null,0,null,0,null,0,null,0,null,0,null,0,null,0,0,0,0,0,null,null,null,null,null,"Squinzano",null,null,0]
[{"$f":"'1 - ANAGRAFICA'!$B$8","v":0},82,null,null,null,null,null,null,0,null,0,null,0,null,0,null,0,null,0,null,0,0,0,0,0,null,null,null,null,null,"Sternatia",null,null,0]
[{"$f":"'1 - ANAGRAFICA'!$B$8","v":0},83,null,null,null,null,null,null,0,null,0,null,0,null,0,null,0,null,0,null,0,0,0,0,0,null,null,null,null,null,"Supersano",null,null,0]
[{"$f":"'1 - ANAGRAFICA'!$B$8","v":0},84,null,null,null,null,null,null,0,null,0,null,0,null,0,null,0,null,0,null,0,0,0,0,0,null,null,null,null,null,"Surano",null,null,0]
[{"$f":"'1 - ANAGRAFICA'!$B$8","v":0},85,null,null,null,null,null,null,0,null,0,null,0,null,0,null,0,null,0,null,0,{"$f":"SUM(K87,M87,O87,Q87,S87,U87)","v":0},0,0,0,null,null,null,null,null,"Surbo",null,null,0]
[{"$f":"'1 - ANAGRAFICA'!$B$8","v":0},86,null,null,null,null,null,null,0,null,0,null,0,null,0,null,0,null,0,null,0,0,0,0,0,null,null,null,null,null,"Taurisano",null,null,0]
[{"$f":"'1 - ANAGRAFICA'!$B$8","v":0},87,null,null,null,null,null,null,0,null,0,null,0,null,0,null,0,null,0,null,0,0,0,0,0,null,null,null,null,null,"Taviano",null,null,0]
[{"$f":"'1 - ANAGRAFICA'!$B$8","v":0},88,null,null,null,null,null,null,0,null,0,null,0,null,0,null,0,null,0,null,0,0,0,0,0,null,null,null,null,null,"Tiggiano",null,null,0]
[{"$f":"'1 - ANAGRAFICA'!$B$8","v":0},89,null,null,null,null,null,null,0,null,0,null,0,null,0,null,0,null,0,null,0,0,0,0,0,null,null,null,null,null,"Trepuzzi",null,null,0]
[{"$f":"'1 - ANAGRAFICA'!$B$8","v":0},90,null,null,null,null,null,null,0,null,0,null,0,null,0,null,0,null,0,null,0,0,0,0,0,null,null,null,null,null,"Tricase",null,null,0]
[{"$f":"'1 - ANAGRAFICA'!$B$8","v":0},91,null,null,null,null,null,null,0,null,0,null,0,null,0,null,0,null,0,null,0,0,0,0,0,null,null,null,null,null,"Tuglie",null,null,0]
[{"$f":"'1 - ANAGRAFICA'!$B$8","v":0},92,null,null,null,null,null,null,0,null,0,null,0,null,0,null,0,null,0,null,0,0,0,0,0,null,null,null,null,null,"Ugento",null,null,0]
[{"$f":"'1 - ANAGRAFICA'!$B$8","v":0},93,null,null,null,null,null,null,0,null,0,null,0,null,0,null,0,null,0,null,0,0,0,0,0,null,null,null,null,null,"Uggiano La Chiesa",null,null,0]
[{"$f":"'1 - ANAGRAFICA'!$B$8","v":0},94,null,null,null,null,null,null,0,null,0,null,0,null,0,null,0,null,0,null,0,0,0,0,0,null,null,null,null,null,"Veglie",null,null,0]
[{"$f":"'1 - ANAGRAFICA'!$B$8","v":0},95,null,null,null,null,null,null,0,null,0,null,0,null,0,null,0,null,0,null,0,0,0,0,0,null,null,null,null,null,"Vernole",null,null,0]
[{"$f":"'1 - ANAGRAFICA'!$B$8","v":0},96,null,null,null,null,null,null,0,null,0,null,0,null,0,null,0,null,0,null,0,0,0,0,0,null,null,null,null,null,"Zollino",null,null,0]
[{"$f":"'1 - ANAGRAFICA'!$B$8","v":0},97,null,null,null,null,null,null,{"$f":"H99/10000","v":0},null,0,null,0,null,0,null,0,null,0,null,0,0,0,0,0,null,null,null,null,null,null,null,null,0]
[{"$f":"'1 - ANAGRAFICA'!$B$8","v":0},98,null,null,null,null,null,null,0,null,0,null,0,null,0,null,0,null,0,null,0,0,0,0,0,null,null,null,null,null,null,null,null,0]
[{"$f":"'1 - ANAGRAFICA'!$B$8","v":0},99,null,null,null,null,null,null,0,null,0,null,0,null,0,null,0,null,0,null,0,0,0,0,0,null,null,null,null,null,null,null,null,0]
[{"$f":"'1 - ANAGRAFICA'!$B$8","v":0},100,null,null,null,null,null,null,0,null,0,null,0,null,0,null,0,null,0,null,0,0,0,0,0,null,null,null,null,null,null,null,null,0]

{"sheet":"3 - SPECIE DA IMPIANTARE","index":2,"n_rows":102,"n_cols":40,"rows_kept":102,"cut":false,"hidden":false,"merged":[[0,1,1,1],[0,6,1,6],[0,5,1,5],[0,4,1,4],[0,3,1,3],[0,2,1,2],[0,16,0,18],[0,13,0,15],[0,10,0,12],[0,7,0,9],[0,25,0,29],[0,22,0,24],[0,19,0,21]]}
[null,"N. Pr.","COMUNE","FG","P.LLA","SUPERFICIE INTERVENTO\nm2","Tipologia di operazione attivata","SPECIE_1",null,null,"SPECIE_2",null,null,"SPECIE_3",null,null,"SPECIE_4",null,null,"SPECIE_5",null,null,"ALTRE SPECIE",null,null,"CONTROLLO minimo 50 - massimo 250 piante/Ha"]
[null,null,null,null,null,null,null,"SPECIE","Num. PIANTE","%","SPECIE","Num. PIANTE","%","SPECIE","Num. PIANTE","%","SPECIE","Num. PIANTE","%","SPECIE","Num. PIANTE","%","ALTRE","Num. PIANTE","%","Num. MIN Piante\nammissibili","Num. MAX Piante\nammissibili","Num. piante aggiuntive rispetto al massimale","Num. Piante previsto","Num. TOT Specie\np.lla",null,null,null,null,null,null,null,null,null,"SPECIE8.2"]
[{"$f":"'1 - ANAGRAFICA'!$B$8","v":0},1,{"$f":"'2 - QUADRO LOCALIZZAZIONE'!D3","v":0},{"$f":"'2 - QUADRO LOCALIZZAZIONE'!E3","v":0},{"$f":"'2 - QUADRO LOCALIZZAZIONE'!F3","v":0},{"$f":"'2 - QUADRO LOCALIZZAZIONE'!H3","v":0},{"$f":"'2 - QUADRO LOCALIZZAZIONE'!J3","v":0},null,null,{"$f":"IF(I3=0,0,I3/$AC3)","v":0},null,null,{"$f":"IF(L3=0,0,L3/$AC3)","v":0},null,null,{"$f":"IF(O3=0,0,O3/$AC3)","v":0},null,null,{"$f":"IF(R3=0,0,R3/$AC3)","v":0},null,null,{"$f":"IF(U3=0,0,U3/$AC3)","v":0},null,null,{"$f":"IF(X3=0,0,X3/$AC3)","v":0},{"$f":"ROUND($F3/10000*50,0)","v":0},{"$f":"ROUND($F3/10000*250,0)","v":0},{"$f":"IF(AC3>AA3,AC3-AA3,\"-\")","v":"-"},{"$f":"IF(AND(F3<>0,SUM(I3,L3,O3,R3,U3,X3)=0),\"Inserire specie e numero piante\",SUM(I3,L3,O3,R3,U3,X3))","v":0},{"$f":"IF(AND(F3<>0,COUNTA(H3,K3,N3,Q3,T3,W3)<2),\"Indicare almeno due specie per p.lla\",COUNTA(H3,K3,N3,Q3,T3,W3))","v":0},null,null,null,null,null,null,null,null,null,"Acero campestre"]
[{"$f":"'1 - ANAGRAFICA'!$B$8","v":0},2,{"$f":"'2 - QUADRO LOCALIZZAZIONE'!D4","v":0},{"$f":"'2 - QUADRO LOCALIZZAZIONE'!E4","v":0},{"$f":"'2 - QUADRO LOCALIZZAZIONE'!F4","v":0},{"$f":"'2 - QUADRO LOCALIZZAZIONE'!H4","v":0},{"$f":"'2 - QUADRO LOCALIZZAZIONE'!J4","v":0},null,null,{"$f":"IF(I4=0,0,I4/$AC4)","v":0},null,null,{"$f":"IF(L4=0,0,L4/$AC4)","v":0},null,null,{"$f":"IF(O4=0,0,O4/$AC4)","v":0},null,null,{"$f":"IF(R4=0,0,R4/$AC4)","v":0},null,null,{"$f":"IF(U4=0,0,U4/$AC4)","v":0},null,null,{"$f":"IF(X4=0,0,X4/$AC4)","v":0},{"$f":"ROUND($F4/10000*50,0)","v":0},{"$f":"ROUND($F4/10000*250,0)","v":0},{"$f":"IF(AC4>AA4,AC4-AA4,\"-\")","v":"-"},0,{"$f":"IF(AND(F4<>0,COUNTA(H4,K4,N4,Q4,T4,W4)<2),\"Indicare almeno due specie per p.lla\",COUNTA(H4,K4,N4,Q4,T4,W4))","v":0},null,null,null,null,null,null,null,null,null,"Acero minore"]
[{"$f":"'1 - ANAGRAFICA'!$B$8","v":0},3,{"$f":"'2 - QUADRO LOCALIZZAZIONE'!D5","v":0},{"$f":"'2 - QUADRO LOCALIZZAZIONE'!E5","v":0},{"$f":"'2 - QUADRO LOCALIZZAZIONE'!F5","v":0},{"$f":"'2 - QUADRO LOCALIZZAZIONE'!H5","v":0},{"$f":"'2 - QUADRO LOCALIZZAZIONE'!J5","v":0},null,null,0,null,null,0,null,null,0,null,null,0,null,null,0,null,null,0,0,0,"-",0,0,null,null,null,null,null,null,null,null,null,"Acero montano"]
[{"$f":"'1 - ANAGRAFICA'!$B$8","v":0},4,{"$f":"'2 - QUADRO LOCALIZZAZIONE'!D6","v":0},{"$f":"'2 - QUADRO LOCALIZZAZIONE'!E6","v":0},{"$f":"'2 - QUADRO LOCALIZZAZIONE'!F6","v":0},{"$f":"'2 - QUADRO LOCALIZZAZIONE'!H6","v":0},{"$f":"'2 - QUADRO LOCALIZZAZIONE'!J6","v":0},null,null,0,null,null,0,null,null,0,null,null,{"$f":"IF(R6=0,0,R6/$AC6)","v":0},null,null,0,null,null,0,0,0,"-",0,0,null,null,null,null,null,null,null,null,null,"Acero opalo"]
[{"$f":"'1 - ANAGRAFICA'!$B$8","v":0},5,{"$f":"'2 - QUADRO LOCALIZZAZIONE'!D7","v":0},{"$f":"'2 - QUADRO LOCALIZZAZIONE'!E7","v":0},{"$f":"'2 - QUADRO LOCALIZZAZIONE'!F7","v":0},{"$f":"'2 - QUADRO LOCALIZZAZIONE'!H7","v":0},{"$f":"'2 - QUADRO LOCALIZZAZIONE'!J7","v":0},null,null,0,null,null,0,null,null,0,null,null,0,null,null,0,null,null,0,0,0,"-",0,0,null,null,null,null,null,null,null,null,null,"Agrifoglio"]
[{"$f":"'1 - ANAGRAFICA'!$B$8","v":0},6,{"$f":"'2 - QUADRO LOCALIZZAZIONE'!D8","v":0},{"$f":"'2 - QUADRO LOCALIZZAZIONE'!E8","v":0},{"$f":"'2 - QUADRO LOCALIZZAZIONE'!F8","v":0},{"$f":"'2 - QUADRO LOCALIZZAZIONE'!H8","v":0},{"$f":"'2 - QUADRO LOCALIZZAZIONE'!J8","v":0},null,null,0,null,null,0,null,null,0,null,null,0,null,null,0,null,null,0,0,0,"-",0,0,null,null,null,null,null,null,null,null,null,"Alaterno"]
[{"$f":"'1 - ANAGRAFICA'!$B$8","v":0},7,{"$f":"'2 - QUADRO LOCALIZZAZIONE'!D9","v":0},{"$f":"'2 - QUADRO LOCALIZZAZIONE'!E9","v":0},{"$f":"'2 - QUADRO LOCALIZZAZIONE'!F9","v":0},{"$f":"'2 - QUADRO LOCALIZZAZIONE'!H9","v":0},{"$f":"'2 - QUADRO LOCALIZZAZIONE'!J9","v":0},null,null,0,null,null,0,null,null,0,null,null,0,null,null,0,null,null,0,0,0,"-",0,0,null,null,null,null,null,null,null,null,null,"Albero di Giuda"]
[{"$f":"'1 - ANAGRAFICA'!$B$8","v":0},8,{"$f":"'2 - QUADRO LOCALIZZAZIONE'!D10","v":0},{"$f":"'2 - QUADRO LOCALIZZAZIONE'!E10","v":0},{"$f":"'2 - QUADRO LOCALIZZAZIONE'!F10","v":0},{"$f":"'2 - QUADRO LOCALIZZAZIONE'!H10","v":0},{"$f":"'2 - QUADRO LOCALIZZAZIONE'!J10","v":0},null,null,0,null,null,0,null,null,0,null,null,0,null,null,0,null,null,0,0,0,"-",0,0,null,null,null,null,null,null,null,null,null,"Alloro"]
[{"$f":"'1 - ANAGRAFICA'!$B$8","v":0},9,{"$f":"'2 - QUADRO LOCALIZZAZIONE'!D11","v":0},{"$f":"'2 - QUADRO LOCALIZZAZIONE'!E11","v":0},{"$f":"'2 - QUADRO LOCALIZZAZIONE'!F11","v":0},{"$f":"'2 - QUADRO LOCALIZZAZIONE'!H11","v":0},{"$f":"'2 - QUADRO LOCALIZZAZIONE'!J11","v":0},null,null,0,null,null,0,null,null,0,null,null,0,null,null,0,null,null,0,0,0,"-",0,0,null,null,null,null,null,null,null,null,null,"Biancospino "]
[{"$f":"'1 - ANAGRAFICA'!$B$8","v":0},10,{"$f":"'2 - QUADRO LOCALIZZAZIONE'!D12","v":0},{"$f":"'2 - QUADRO LOCALIZZAZIONE'!E12","v":0},{"$f":"'2 - QUADRO LOCALIZZAZIONE'!F12","v":0},{"$f":"'2 - QUADRO LOCALIZZAZIONE'!H12","v":0},{"$f":"'2 - QUADRO LOCALIZZAZIONE'!J12","v":0},null,null,0,null,null,0,null,null,0,null,null,0,null,null,0,null,null,0,0,0,"-",0,0,null,null,null,null,null,null,null,null,null,"Carpinella"]
[{"$f":"'1 - ANAGRAFICA'!$B$8","v":0},11,{"$f":"'2 - QUADRO LOCALIZZAZIONE'!D13","v":0},{"$f":"'2 - QUADRO LOCALIZZAZIONE'!E13","v":0},{"$f":"'2 - QUADRO LOCALIZZAZIONE'!F13","v":0},{"$f":"'2 - QUADRO LOCALIZZAZIONE'!H13","v":0},{"$f":"'2 - QUADRO LOCALIZZAZIONE'!J13","v":0},null,null,0,null,null,0,null,null,0,null,null,0,null,null,0,null,null,0,0,0,"-",0,0,null,null,null,null,null,null,null,null,null,"Carpino bianco"]
[{"$f":"'1 - ANAGRAFICA'!$B$8","v":0},12,{"$f":"'2 - QUADRO LOCALIZZAZIONE'!D14","v":0},{"$f":"'2 - QUADRO LOCALIZZAZIONE'!E14","v":0},{"$f":"'2 - QUADRO LOCALIZZAZIONE'!F14","v":0},{"$f":"'2 - QUADRO LOCALIZZAZIONE'!H14","v":0},{"$f":"'2 - QUADRO LOCALIZZAZIONE'!J14","v":0},null,null,0,null,null,0,null,null,0,null,null,0,null,null,0,null,null,0,0,0,"-",0,0,null,null,null,null,null,null,null,null,null,"Carpino nero"]
[{"$f":"'1 - ANAGRAFICA'!$B$8","v":0},13,{"$f":"'2 - QUADRO LOCALIZZAZIONE'!D15","v":0},{"$f":"'2 - QUADRO LOCALIZZAZIONE'!E15","v":0},{"$f":"'2 - QUADRO LOCALIZZAZIONE'!F15","v":0},{"$f":"'2 - QUADRO LOCALIZZAZIONE'!H15","v":0},{"$f":"'2 - QUADRO LOCALIZZAZIONE'!J15","v":0},null,null,0,null,null,0,null,null,0,null,null,0,null,null,0,null,null,0,0,0,"-",0,0,null,null,null,null,null,null,null,null,null,"Carrubo"]
[{"$f":"'1 - ANAGRAFICA'!$B$8","v":0},14,{"$f":"'2 - QUADRO LOCALIZZAZIONE'!D16","v":0},{"$f":"'2 - QUADRO LOCALIZZAZIONE'!E16","v":0},{"$f":"'2 - QUADRO LOCALIZZAZIONE'!F16","v":0},{"$f":"'2 - QUADRO LOCALIZZAZIONE'!H16","v":0},{"$f":"'2 - QUADRO LOCALIZZAZIONE'!J16","v":0},null,null,0,null,null,0,null,null,0,null,null,0,null,null,0,null,null,0,0,0,"-",0,0,null,null,null,null,null,null,null,null,null,"Castagno"]
[{"$f":"'1 - ANAGRAFICA'!$B$8","v":0},15,{"$f":"'2 - QUADRO LOCALIZZAZIONE'!D17","v":0},{"$f":"'2 - QUADRO LOCALIZZAZIONE'!E17","v":0},{"$f":"'2 - QUADRO LOCALIZZAZIONE'!F17","v":0},{"$f":"'2 - QUADRO LOCALIZZAZIONE'!H17","v":0},{"$f":"'2 - QUADRO LOCALIZZAZIONE'!J17","v":0},null,null,0,null,null,0,null,null,0,null,null,0,null,null,0,null,null,0,0,0,"-",0,0,null,null,null,null,null,null,null,null,null,"Cerro"]
[{"$f":"'1 - ANAGRAFICA'!$B$8","v":0},16,{"$f":"'2 - QUADRO LOCALIZZAZIONE'!D18","v":0},{"$f":"'2 - QUADRO LOCALIZZAZIONE'!E18","v":0},{"$f":"'2 - QUADRO LOCALIZZAZIONE'!F18","v":0},{"$f":"'2 - QUADRO LOCALIZZAZIONE'!H18","v":0},{"$f":"'2 - QUADRO LOCALIZZAZIONE'!J18","v":0},null,null,0,null,null,0,null,null,0,null,null,0,null,null,0,null,null,0,0,0,"-",0,0,null,null,null,null,null,null,null,null,null,"Ciavardello"]
[{"$f":"'1 - ANAGRAFICA'!$B$8","v":0},17,{"$f":"'2 - QUADRO LOCALIZZAZIONE'!D19","v":0},{"$f":"'2 - QUADRO LOCALIZZAZIONE'!E19","v":0},{"$f":"'2 - QUADRO LOCALIZZAZIONE'!F19","v":0},{"$f":"'2 - QUADRO LOCALIZZAZIONE'!H19","v":0},{"$f":"'2 - QUADRO LOCALIZZAZIONE'!J19","v":0},null,null,0,null,null,0,null,null,0,null,null,0,null,null,0,null,null,0,0,0,"-",0,0,null,null,null,null,null,null,null,null,null,"Ciliegio"]
[{"$f":"'1 - ANAGRAFICA'!$B$8","v":0},18,{"$f":"'2 - QUADRO LOCALIZZAZIONE'!D20","v":0},{"$f":"'2 - QUADRO LOCALIZZAZIONE'!E20","v":0},{"$f":"'2 - QUADRO LOCALIZZAZIONE'!F20","v":0},{"$f":"'2 - QUADRO LOCALIZZAZIONE'!H20","v":0},{"$f":"'2 - QUADRO LOCALIZZAZIONE'!J20","v":0},null,null,0,null,null,0,null,null,0,null,null,0,null,null,0,null,null,0,0,0,"-",0,0,null,null,null,null,null,null,null,null,null,"Ciliegio canino"]
[{"$f":"'1 - ANAGRAFICA'!$B$8","v":0},19,{"$f":"'2 - QUADRO LOCALIZZAZIONE'!D21","v":0},{"$f":"'2 - QUADRO LOCALIZZAZIONE'!E21","v":0},{"$f":"'2 - QUADRO LOCALIZZAZIONE'!F21","v":0},{"$f":"'2 - QUADRO LOCALIZZAZIONE'!H21","v":0},{"$f":"'2 - QUADRO LOCALIZZAZIONE'!J21","v":0},null,null,0,null,null,0,null,null,0,null,null,0,null,null,0,null,null,0,0,0,"-",0,0,null,null,null,null,null,null,null,null,null,"Cisto rosso"]
[{"$f":"'1 - ANAGRAFICA'!$B$8","v":0},20,{"$f":"'2 - QUADRO LOCALIZZAZIONE'!D22","v":0},{"$f":"'2 - QUADRO LOCALIZZAZIONE'!E22","v":0},{"$f":"'2 - QUADRO LOCALIZZAZIONE'!F22","v":0},{"$f":"'2 - QUADRO LOCALIZZAZIONE'!H22","v":0},{"$f":"'2 - QUADRO LOCALIZZAZIONE'!J22","v":0},null,null,0,null,null,0,null,null,0,null,null,0,null,null,0,null,null,0,0,0,"-",0,0,null,null,null,null,null,null,null,null,null,"Cisto salvifoglio"]
[{"$f":"'1 - ANAGRAFICA'!$B$8","v":0},21,{"$f":"'2 - QUADRO LOCALIZZAZIONE'!D23","v":0},{"$f":"'2 - QUADRO LOCALIZZAZIONE'!E23","v":0},{"$f":"'2 - QUADRO LOCALIZZAZIONE'!F23","v":0},{"$f":"'2 - QUADRO LOCALIZZAZIONE'!H23","v":0},{"$f":"'2 - QUADRO LOCALIZZAZIONE'!J23","v":0},null,null,0,null,null,0,null,null,0,null,null,0,null,null,0,null,null,0,0,0,"-",0,0,null,null,null,null,null,null,null,null,null,"Corbezzolo  "]
[{"$f":"'1 - ANAGRAFICA'!$B$8","v":0},22,{"$f":"'2 - QUADRO LOCALIZZAZIONE'!D24","v":0},{"$f":"'2 - QUADRO LOCALIZZAZIONE'!E24","v":0},{"$f":"'2 - QUADRO LOCALIZZAZIONE'!F24","v":0},{"$f":"'2 - QUADRO LOCALIZZAZIONE'!H24","v":0},{"$f":"'2 - QUADRO LOCALIZZAZIONE'!J24","v":0},null,null,0,null,null,0,null,null,0,null,null,0,null,null,0,null,null,0,0,0,"-",0,0,null,null,null,null,null,null,null,null,null,"Corniolo"]
[{"$f":"'1 - ANAGRAFICA'!$B$8","v":0},23,{"$f":"'2 - QUADRO LOCALIZZAZIONE'!D25","v":0},{"$f":"'2 - QUADRO LOCALIZZAZIONE'!E25","v":0},{"$f":"'2 - QUADRO LOCALIZZAZIONE'!F25","v":0},{"$f":"'2 - QUADRO LOCALIZZAZIONE'!H25","v":0},{"$f":"'2 - QUADRO LOCALIZZAZIONE'!J25","v":0},null,null,0,null,null,0,null,null,0,null,null,0,null,null,0,null,null,0,0,0,"-",0,0,null,null,null,null,null,null,null,null,null,"Coronilla"]
[{"$f":"'1 - ANAGRAFICA'!$B$8","v":0},24,{"$f":"'2 - QUADRO LOCALIZZAZIONE'!D26","v":0},{"$f":"'2 - QUADRO LOCALIZZAZIONE'!E26","v":0},{"$f":"'2 - QUADRO LOCALIZZAZIONE'!F26","v":0},{"$f":"'2 - QUADRO LOCALIZZAZIONE'!H26","v":0},{"$f":"'2 - QUADRO LOCALIZZAZIONE'!J26","v":0},null,null,0,null,null,0,null,null,0,null,null,0,null,null,0,null,null,0,0,0,"-",0,0,null,null,null,null,null,null,null,null,null,"Erica"]
[{"$f":"'1 - ANAGRAFICA'!$B$8","v":0},25,{"$f":"'2 - QUADRO LOCALIZZAZIONE'!D27","v":0},{"$f":"'2 - QUADRO LOCALIZZAZIONE'!E27","v":0},{"$f":"'2 - QUADRO LOCALIZZAZIONE'!F27","v":0},{"$f":"'2 - QUADRO LOCALIZZAZIONE'!H27","v":0},{"$f":"'2 - QUADRO LOCALIZZAZIONE'!J27","v":0},null,null,0,null,null,0,null,null,0,null,null,0,null,null,0,null,null,0,0,0,"-",0,0,null,null,null,null,null,null,null,null,null,"Faggio"]
[{"$f":"'1 - ANAGRAFICA'!$B$8","v":0},26,{"$f":"'2 - QUADRO LOCALIZZAZIONE'!D28","v":0},{"$f":"'2 - QUADRO LOCALIZZAZIONE'!E28","v":0},{"$f":"'2 - QUADRO LOCALIZZAZIONE'!F28","v":0},{"$f":"'2 - QUADRO LOCALIZZAZIONE'!H28","v":0},{"$f":"'2 - QUADRO LOCALIZZAZIONE'!J28","v":0},null,null,0,null,null,0,null,null,0,null,null,0,null,null,0,null,null,0,0,0,"-",0,0,null,null,null,null,null,null,null,null,null,"Farnetto"]
[{"$f":"'1 - ANAGRAFICA'!$B$8","v":0},27,{"$f":"'2 - QUADRO LOCALIZZAZIONE'!D29","v":0},{"$f":"'2 - QUADRO LOCALIZZAZIONE'!E29","v":0},{"$f":"'2 - QUADRO LOCALIZZAZIONE'!F29","v":0},{"$f":"'2 - QUADRO LOCALIZZAZIONE'!H29","v":0},{"$f":"'2 - QUADRO LOCALIZZAZIONE'!J29","v":0},null,null,0,null,null,0,null,null,0,null,null,0,null,null,0,null,null,0,0,0,"-",0,0,null,null,null,null,null,null,null,null,null,"Farnia"]
[{"$f":"'1 - ANAGRAFICA'!$B$8","v":0},28,{"$f":"'2 - QUADRO LOCALIZZAZIONE'!D30","v":0},{"$f":"'2 - QUADRO LOCALIZZAZIONE'!E30","v":0},{"$f":"'2 - QUADRO LOCALIZZAZIONE'!F30","v":0},{"$f":"'2 - QUADRO LOCALIZZAZIONE'!H30","v":0},{"$f":"'2 - QUADRO LOCALIZZAZIONE'!J30","v":0},null,null,0,null,null,0,null,null,0,null,null,0,null,null,0,null,null,0,0,0,"-",0,0,null,null,null,null,null,null,null,null,null,"Fillirea"]
[{"$f":"'1 - ANAGRAFICA'!$B$8","v":0},29,{"$f":"'2 - QUADRO LOCALIZZAZIONE'!D31","v":0},{"$f":"'2 - QUADRO LOCALIZZAZIONE'!E31","v":0},{"$f":"'2 - QUADRO LOCALIZZAZIONE'!F31","v":0},{"$f":"'2 - QUADRO LOCALIZZAZIONE'!H31","v":0},{"$f":"'2 - QUADRO LOCALIZZAZIONE'!J31","v":0},null,null,0,null,null,0,null,null,0,null,null,0,null,null,0,null,null,0,0,0,"-",0,0,null,null,null,null,null,null,null,null,null,"Fragno"]
[{"$f":"'1 - ANAGRAFICA'!$B$8","v":0},30,{"$f":"'2 - QUADRO LOCALIZZAZIONE'!D32","v":0},{"$f":"'2 - QUADRO LOCALIZZAZIONE'!E32","v":0},{"$f":"'2 - QUADRO LOCALIZZAZIONE'!F32","v":0},{"$f":"'2 - QUADRO LOCALIZZAZIONE'!H32","v":0},{"$f":"'2 - QUADRO LOCALIZZAZIONE'!J32","v":0},null,null,0,null,null,0,null,null,0,null,null,0,null,null,0,null,null,0,0,0,"-",0,0,null,null,null,null,null,null,null,null,null,"Frassino maggiore"]
[{"$f":"'1 - ANAGRAFICA'!$B$8","v":0},31,{"$f":"'2 - QUADRO LOCALIZZAZIONE'!D33","v":0},{"$f":"'2 - QUADRO LOCALIZZAZIONE'!E33","v":0},{"$f":"'2 - QUADRO LOCALIZZAZIONE'!F33","v":0},{"$f":"'2 - QUADRO LOCALIZZAZIONE'!H33","v":0},{"$f":"'2 - QUADRO LOCALIZZAZIONE'!J33","v":0},null,null,0,null,null,0,null,null,0,null,null,0,null,null,0,null,null,0,0,0,"-",0,0,null,null,null,null,null,null,null,null,null,"Frassino meridionale/oxycarpa"]
[{"$f":"'1 - ANAGRAFICA'!$B$8","v":0},32,{"$f":"'2 - QUADRO LOCALIZZAZIONE'!D34","v":0},{"$f":"'2 - QUADRO LOCALIZZAZIONE'!E34","v":0},{"$f":"'2 - QUADRO LOCALIZZAZIONE'!F34","v":0},{"$f":"'2 - QUADRO LOCALIZZAZIONE'!H34","v":0},{"$f":"'2 - QUADRO LOCALIZZAZIONE'!J34","v":0},null,null,0,null,null,0,null,null,0,null,null,0,null,null,0,null,null,0,0,0,"-",0,0,null,null,null,null,null,null,null,null,null,"Frassino meridionale/oxyphilla"]
[{"$f":"'1 - ANAGRAFICA'!$B$8","v":0},33,{"$f":"'2 - QUADRO LOCALIZZAZIONE'!D35","v":0},{"$f":"'2 - QUADRO LOCALIZZAZIONE'!E35","v":0},{"$f":"'2 - QUADRO LOCALIZZAZIONE'!F35","v":0},{"$f":"'2 - QUADRO LOCALIZZAZIONE'!H35","v":0},{"$f":"'2 - QUADRO LOCALIZZAZIONE'!J35","v":0},null,null,0,null,null,0,null,null,0,null,null,0,null,null,0,null,null,0,0,0,"-",0,0,null,null,null,null,null,null,null,null,null,"Fusaggine o Berretta da prete"]
[{"$f":"'1 - ANAGRAFICA'!$B$8","v":0},34,{"$f":"'2 - QUADRO LOCALIZZAZIONE'!D36","v":0},{"$f":"'2 - QUADRO LOCALIZZAZIONE'!E36","v":0},{"$f":"'2 - QUADRO LOCALIZZAZIONE'!F36","v":0},{"$f":"'2 - QUADRO LOCALIZZAZIONE'!H36","v":0},{"$f":"'2 - QUADRO LOCALIZZAZIONE'!J36","v":0},null,null,0,null,null,0,null,null,0,null,null,0,null,null,0,null,null,0,0,0,"-",0,0,null,null,null,null,null,null,null,null,null,"Ginepro coccolone"]
[{"$f":"'1 - ANAGRAFICA'!$B$8","v":0},35,{"$f":"'2 - QUADRO LOCALIZZAZIONE'!D37","v":0},{"$f":"'2 - QUADRO LOCALIZZAZIONE'!E37","v":0},{"$f":"'2 - QUADRO LOCALIZZAZIONE'!F37","v":0},{"$f":"'2 - QUADRO LOCALIZZAZIONE'!H37","v":0},{"$f":"'2 - QUADRO LOCALIZZAZIONE'!J37","v":0},null,null,0,null,null,0,null,null,0,null,null,0,null,null,0,null,null,0,0,0,"-",0,0,null,null,null,null,null,null,null,null,null,"Ginepro comune"]
[{"$f":"'1 - ANAGRAFICA'!$B$8","v":0},36,{"$f":"'2 - QUADRO LOCALIZZAZIONE'!D38","v":0},{"$f":"'2 - QUADRO LOCALIZZAZIONE'!E38","v":0},{"$f":"'2 - QUADRO LOCALIZZAZIONE'!F38","v":0},{"$f":"'2 - QUADRO LOCALIZZAZIONE'!H38","v":0},{"$f":"'2 - QUADRO LOCALIZZAZIONE'!J38","v":0},null,null,0,null,null,0,null,null,0,null,null,{"$f":"IF(R38=0,0,R38/$AC38)","v":0},null,null,0,null,null,0,0,0,"-",0,0,null,null,null,null,null,null,null,null,null,"Ginepro fenicio"]
[{"$f":"'1 - ANAGRAFICA'!$B$8","v":0},37,{"$f":"'2 - QUADRO LOCALIZZAZIONE'!D39","v":0},{"$f":"'2 - QUADRO LOCALIZZAZIONE'!E39","v":0},{"$f":"'2 - QUADRO LOCALIZZAZIONE'!F39","v":0},{"$f":"'2 - QUADRO LOCALIZZAZIONE'!H39","v":0},{"$f":"'2 - QUADRO LOCALIZZAZIONE'!J39","v":0},null,null,0,null,null,0,null,null,0,null,null,0,null,null,0,null,null,0,0,0,"-",0,0,null,null,null,null,null,null,null,null,null,"Leccio"]
[{"$f":"'1 - ANAGRAFICA'!$B$8","v":0},38,{"$f":"'2 - QUADRO LOCALIZZAZIONE'!D40","v":0},{"$f":"'2 - QUADRO LOCALIZZAZIONE'!E40","v":0},{"$f":"'2 - QUADRO LOCALIZZAZIONE'!F40","v":0},{"$f":"'2 - QUADRO LOCALIZZAZIONE'!H40","v":0},{"$f":"'2 - QUADRO LOCALIZZAZIONE'!J40","v":0},null,null,0,null,null,0,null,null,0,null,null,0,null,null,0,null,null,0,0,0,"-",0,0,null,null,null,null,null,null,null,null,null,"Lentisco"]
[{"$f":"'1 - ANAGRAFICA'!$B$8","v":0},39,{"$f":"'2 - QUADRO LOCALIZZAZIONE'!D41","v":0},{"$f":"'2 - QUADRO LOCALIZZAZIONE'!E41","v":0},{"$f":"'2 - QUADRO LOCALIZZAZIONE'!F41","v":0},{"$f":"'2 - QUADRO LOCALIZZAZIONE'!H41","v":0},{"$f":"'2 - QUADRO LOCALIZZAZIONE'!J41","v":0},null,null,0,null,null,0,null,null,0,null,null,0,null,null,0,null,null,0,0,0,"-",0,0,null,null,null,null,null,null,null,null,null,"Ligustro"]
[{"$f":"'1 - ANAGRAFICA'!$B$8","v":0},40,{"$f":"'2 - QUADRO LOCALIZZAZIONE'!D42","v":0},{"$f":"'2 - QUADRO LOCALIZZAZIONE'!E42","v":0},{"$f":"'2 - QUADRO LOCALIZZAZIONE'!F42","v":0},{"$f":"'2 - QUADRO LOCALIZZAZIONE'!H42","v":0},{"$f":"'2 - QUADRO LOCALIZZAZIONE'!J42","v":0},null,null,0,null,null,0,null,null,0,null,null,0,null,null,0,null,null,0,0,0,"-",0,0,null,null,null,null,null,null,null,null,null,"Mirto"]
[{"$f":"'1 - ANAGRAFICA'!$B$8","v":0},41,{"$f":"'2 - QUADRO LOCALIZZAZIONE'!D43","v":0},{"$f":"'2 - QUADRO LOCALIZZAZIONE'!E43","v":0},{"$f":"'2 - QUADRO LOCALIZZAZIONE'!F43","v":0},{"$f":"'2 - QUADRO LOCALIZZAZIONE'!H43","v":0},{"$f":"'2 - QUADRO LOCALIZZAZIONE'!J43","v":0},null,null,0,null,null,0,null,null,0,null,null,0,null,null,0,null,null,0,0,0,"-",0,0,null,null,null,null,null,null,null,null,null,"Nocciolo"]
[{"$f":"'1 - ANAGRAFICA'!$B$8","v":0},42,{"$f":"'2 - QUADRO LOCALIZZAZIONE'!D44","v":0},{"$f":"'2 - QUADRO LOCALIZZAZIONE'!E44","v":0},{"$f":"'2 - QUADRO LOCALIZZAZIONE'!F44","v":0},{"$f":"'2 - QUADRO LOCALIZZAZIONE'!H44","v":0},{"$f":"'2 - QUADRO LOCALIZZAZIONE'!J44","v":0},null,null,0,null,null,0,null,null,0,null,null,0,null,null,0,null,null,0,0,0,"-",0,0,null,null,null,null,null,null,null,null,null,"Noce comune"]
[{"$f":"'1 - ANAGRAFICA'!$B$8","v":0},43,{"$f":"'2 - QUADRO LOCALIZZAZIONE'!D45","v":0},{"$f":"'2 - QUADRO LOCALIZZAZIONE'!E45","v":0},{"$f":"'2 - QUADRO LOCALIZZAZIONE'!F45","v":0},{"$f":"'2 - QUADRO LOCALIZZAZIONE'!H45","v":0},{"$f":"'2 - QUADRO LOCALIZZAZIONE'!J45","v":0},null,null,0,null,null,0,null,null,0,null,null,0,null,null,0,null,null,0,0,0,"-",0,0,null,null,null,null,null,null,null,null,null,"Olmo minore"]
[{"$f":"'1 - ANAGRAFICA'!$B$8","v":0},44,{"$f":"'2 - QUADRO LOCALIZZAZIONE'!D46","v":0},{"$f":"'2 - QUADRO LOCALIZZAZIONE'!E46","v":0},{"$f":"'2 - QUADRO LOCALIZZAZIONE'!F46","v":0},{"$f":"'2 - QUADRO LOCALIZZAZIONE'!H46","v":0},{"$f":"'2 - QUADRO LOCALIZZAZIONE'!J46","v":0},null,null,0,null,null,0,null,null,0,null,null,0,null,null,0,null,null,0,0,0,"-",0,0,null,null,null,null,null,null,null,null,null,"Ontano napoletano"]
[{"$f":"'1 - ANAGRAFICA'!$B$8","v":0},45,{"$f":"'2 - QUADRO LOCALIZZAZIONE'!D47","v":0},{"$f":"'2 - QUADRO LOCALIZZAZIONE'!E47","v":0},{"$f":"'2 - QUADRO LOCALIZZAZIONE'!F47","v":0},{"$f":"'2 - QUADRO LOCALIZZAZIONE'!H47","v":0},{"$f":"'2 - QUADRO LOCALIZZAZIONE'!J47","v":0},null,null,0,null,null,0,null,null,0,null,null,0,null,null,0,null,null,0,0,0,"-",0,0,null,null,null,null,null,null,null,null,null,"Ontano nero"]
[{"$f":"'1 - ANAGRAFICA'!$B$8","v":0},46,{"$f":"'2 - QUADRO LOCALIZZAZIONE'!D48","v":0},{"$f":"'2 - QUADRO LOCALIZZAZIONE'!E48","v":0},{"$f":"'2 - QUADRO LOCALIZZAZIONE'!F48","v":0},{"$f":"'2 - QUADRO LOCALIZZAZIONE'!H48","v":0},{"$f":"'2 - QUADRO LOCALIZZAZIONE'!J48","v":0},null,null,0,null,null,0,null,null,0,null,null,0,null,null,0,null,null,0,0,0,"-",0,0,null,null,null,null,null,null,null,null,null,"Orniello"]
[{"$f":"'1 - ANAGRAFICA'!$B$8","v":0},47,{"$f":"'2 - QUADRO LOCALIZZAZIONE'!D49","v":0},{"$f":"'2 - QUADRO LOCALIZZAZIONE'!E49","v":0},{"$f":"'2 - QUADRO LOCALIZZAZIONE'!F49","v":0},{"$f":"'2 - QUADRO LOCALIZZAZIONE'!H49","v":0},{"$f":"'2 - QUADRO LOCALIZZAZIONE'!J49","v":0},null,null,0,null,null,0,null,null,0,null,null,0,null,null,0,null,null,0,0,0,"-",0,0,null,null,null,null,null,null,null,null,null,"Pino d’Aleppo"]
[{"$f":"'1 - ANAGRAFICA'!$B$8","v":0},48,{"$f":"'2 - QUADRO LOCALIZZAZIONE'!D50","v":0},{"$f":"'2 - QUADRO LOCALIZZAZIONE'!E50","v":0},{"$f":"'2 - QUADRO LOCALIZZAZIONE'!F50","v":0},{"$f":"'2 - QUADRO LOCALIZZAZIONE'!H50","v":0},{"$f":"'2 - QUADRO LOCALIZZAZIONE'!J50","v":0},null,null,0,null,null,0,null,null,0,null,null,0,null,null,0,null,null,0,0,0,"-",0,0,null,null,null,null,null,null,null,null,null,"Pino domestico"]
[{"$f":"'1 - ANAGRAFICA'!$B$8","v":0},49,{"$f":"'2 - QUADRO LOCALIZZAZIONE'!D51","v":0},{"$f":"'2 - QUADRO LOCALIZZAZIONE'!E51","v":0},{"$f":"'2 - QUADRO LOCALIZZAZIONE'!F51","v":0},{"$f":"'2 - QUADRO LOCALIZZAZIONE'!H51","v":0},{"$f":"'2 - QUADRO LOCALIZZAZIONE'!J51","v":0},null,null,0,null,null,0,null,null,0,null,null,0,null,null,0,null,null,0,0,0,"-",0,0,null,null,null,null,null,null,null,null,null,"Pino marittimo"]
[{"$f":"'1 - ANAGRAFICA'!$B$8","v":0},50,{"$f":"'2 - QUADRO LOCALIZZAZIONE'!D52","v":0},{"$f":"'2 - QUADRO LOCALIZZAZIONE'!E52","v":0},{"$f":"'2 - QUADRO LOCALIZZAZIONE'!F52","v":0},{"$f":"'2 - QUADRO LOCALIZZAZIONE'!H52","v":0},{"$f":"'2 - QUADRO LOCALIZZAZIONE'!J52","v":0},null,null,0,null,null,0,null,null,0,null,null,0,null,null,0,null,null,0,0,0,"-",0,0,null,null,null,null,null,null,null,null,null,"Pioppo nero"]
[{"$f":"'1 - ANAGRAFICA'!$B$8","v":0},51,{"$f":"'2 - QUADRO LOCALIZZAZIONE'!D53","v":0},{"$f":"'2 - QUADRO LOCALIZZAZIONE'!E53","v":0},{"$f":"'2 - QUADRO LOCALIZZAZIONE'!F53","v":0},{"$f":"'2 - QUADRO LOCALIZZAZIONE'!H53","v":0},{"$f":"'2 - QUADRO LOCALIZZAZIONE'!J53","v":0},null,null,0,null,null,0,null,null,0,null,null,0,null,null,0,null,null,0,0,0,"-",0,0,null,null,null,null,null,null,null,null,null,"Prugnolo o Strozzapreti"]
[{"$f":"'1 - ANAGRAFICA'!$B$8","v":0},52,{"$f":"'2 - QUADRO LOCALIZZAZIONE'!D54","v":0},{"$f":"'2 - QUADRO LOCALIZZAZIONE'!E54","v":0},{"$f":"'2 - QUADRO LOCALIZZAZIONE'!F54","v":0},{"$f":"'2 - QUADRO LOCALIZZAZIONE'!H54","v":0},{"$f":"'2 - QUADRO LOCALIZZAZIONE'!J54","v":0},null,null,0,null,null,0,null,null,0,null,null,0,null,null,0,null,null,0,0,0,"-",0,0,null,null,null,null,null,null,null,null,null,"Pungitopo"]
[{"$f":"'1 - ANAGRAFICA'!$B$8","v":0},53,{"$f":"'2 - QUADRO LOCALIZZAZIONE'!D55","v":0},{"$f":"'2 - QUADRO LOCALIZZAZIONE'!E55","v":0},{"$f":"'2 - QUADRO LOCALIZZAZIONE'!F55","v":0},{"$f":"'2 - QUADRO LOCALIZZAZIONE'!H55","v":0},{"$f":"'2 - QUADRO LOCALIZZAZIONE'!J55","v":0},null,null,0,null,null,0,null,null,0,null,null,0,null,null,0,null,null,0,0,0,"-",0,0,null,null,null,null,null,null,null,null,null,"Quercia spinosa"]
[{"$f":"'1 - ANAGRAFICA'!$B$8","v":0},54,{"$f":"'2 - QUADRO LOCALIZZAZIONE'!D56","v":0},{"$f":"'2 - QUADRO LOCALIZZAZIONE'!E56","v":0},{"$f":"'2 - QUADRO LOCALIZZAZIONE'!F56","v":0},{"$f":"'2 - QUADRO LOCALIZZAZIONE'!H56","v":0},{"$f":"'2 - QUADRO LOCALIZZAZIONE'!J56","v":0},null,null,0,null,null,0,null,null,0,null,null,0,null,null,0,null,null,0,0,0,"-",0,0,null,null,null,null,null,null,null,null,null,"Rosa selvatica"]
[{"$f":"'1 - ANAGRAFICA'!$B$8","v":0},55,{"$f":"'2 - QUADRO LOCALIZZAZIONE'!D57","v":0},{"$f":"'2 - QUADRO LOCALIZZAZIONE'!E57","v":0},{"$f":"'2 - QUADRO LOCALIZZAZIONE'!F57","v":0},{"$f":"'2 - QUADRO LOCALIZZAZIONE'!H57","v":0},{"$f":"'2 - QUADRO LOCALIZZAZIONE'!J57","v":0},null,null,0,null,null,0,null,null,0,null,null,0,null,null,0,null,null,0,0,0,"-",0,0,null,null,null,null,null,null,null,null,null,"Roverella"]
[{"$f":"'1 - ANAGRAFICA'!$B$8","v":0},56,{"$f":"'2 - QUADRO LOCALIZZAZIONE'!D58","v":0},{"$f":"'2 - QUADRO LOCALIZZAZIONE'!E58","v":0},{"$f":"'2 - QUADRO LOCALIZZAZIONE'!F58","v":0},{"$f":"'2 - QUADRO LOCALIZZAZIONE'!H58","v":0},{"$f":"'2 - QUADRO LOCALIZZAZIONE'!J58","v":0},null,null,0,null,null,0,null,null,0,null,null,0,null,null,0,null,null,0,0,0,"-",0,0,null,null,null,null,null,null,null,null,null,"Salice bianco"]
[{"$f":"'1 - ANAGRAFICA'!$B$8","v":0},57,{"$f":"'2 - QUADRO LOCALIZZAZIONE'!D59","v":0},{"$f":"'2 - QUADRO LOCALIZZAZIONE'!E59","v":0},{"$f":"'2 - QUADRO LOCALIZZAZIONE'!F59","v":0},{"$f":"'2 - QUADRO LOCALIZZAZIONE'!H59","v":0},{"$f":"'2 - QUADRO LOCALIZZAZIONE'!J59","v":0},null,null,0,null,null,0,null,null,0,null,null,0,null,null,0,null,null,0,0,0,"-",0,0,null,null,null,null,null,null,null,null,null,"Sambuco nero"]
[{"$f":"'1 - ANAGRAFICA'!$B$8","v":0},58,{"$f":"'2 - QUADRO LOCALIZZAZIONE'!D60","v":0},{"$f":"'2 - QUADRO LOCALIZZAZIONE'!E60","v":0},{"$f":"'2 - QUADRO LOCALIZZAZIONE'!F60","v":0},{"$f":"'2 - QUADRO LOCALIZZAZIONE'!H60","v":0},{"$f":"'2 - QUADRO LOCALIZZAZIONE'!J60","v":0},null,null,0,null,null,0,null,null,0,null,null,0,null,null,0,null,null,0,0,0,"-",0,0,null,null,null,null,null,null,null,null,null,"Sanguinello "]
[{"$f":"'1 - ANAGRAFICA'!$B$8","v":0},59,{"$f":"'2 - QUADRO LOCALIZZAZIONE'!D61","v":0},{"$f":"'2 - QUADRO LOCALIZZAZIONE'!E61","v":0},{"$f":"'2 - QUADRO LOCALIZZAZIONE'!F61","v":0},{"$f":"'2 - QUADRO LOCALIZZAZIONE'!H61","v":0},{"$f":"'2 - QUADRO LOCALIZZAZIONE'!J61","v":0},null,null,0,null,null,0,null,null,0,null,null,0,null,null,0,null,null,0,0,0,"-",0,0,null,null,null,null,null,null,null,null,null,"Sorbo domestico"]
[{"$f":"'1 - ANAGRAFICA'!$B$8","v":0},60,{"$f":"'2 - QUADRO LOCALIZZAZIONE'!D62","v":0},{"$f":"'2 - QUADRO LOCALIZZAZIONE'!E62","v":0},{"$f":"'2 - QUADRO LOCALIZZAZIONE'!F62","v":0},{"$f":"'2 - QUADRO LOCALIZZAZIONE'!H62","v":0},{"$f":"'2 - QUADRO LOCALIZZAZIONE'!J62","v":0},null,null,0,null,null,0,null,null,0,null,null,0,null,null,0,null,null,0,0,0,"-",0,0,null,null,null,null,null,null,null,null,null,"Sughera"]
[{"$f":"'1 - ANAGRAFICA'!$B$8","v":0},61,{"$f":"'2 - QUADRO LOCALIZZAZIONE'!D63","v":0},{"$f":"'2 - QUADRO LOCALIZZAZIONE'!E63","v":0},{"$f":"'2 - QUADRO LOCALIZZAZIONE'!F63","v":0},{"$f":"'2 - QUADRO LOCALIZZAZIONE'!H63","v":0},{"$f":"'2 - QUADRO LOCALIZZAZIONE'!J63","v":0},null,null,0,null,null,0,null,null,0,null,null,0,null,null,0,null,null,0,0,0,"-",0,0,null,null,null,null,null,null,null,null,null,"Terebinto"]
[{"$f":"'1 - ANAGRAFICA'!$B$8","v":0},62,{"$f":"'2 - QUADRO LOCALIZZAZIONE'!D64","v":0},{"$f":"'2 - QUADRO LOCALIZZAZIONE'!E64","v":0},{"$f":"'2 - QUADRO LOCALIZZAZIONE'!F64","v":0},{"$f":"'2 - QUADRO LOCALIZZAZIONE'!H64","v":0},{"$f":"'2 - QUADRO LOCALIZZAZIONE'!J64","v":0},null,null,0,null,null,0,null,null,0,null,null,0,null,null,0,null,null,0,0,0,"-",0,0,null,null,null,null,null,null,null,null,null,"Tiglio nostrale"]
[{"$f":"'1 - ANAGRAFICA'!$B$8","v":0},63,{"$f":"'2 - QUADRO LOCALIZZAZIONE'!D65","v":0},{"$f":"'2 - QUADRO LOCALIZZAZIONE'!E65","v":0},{"$f":"'2 - QUADRO LOCALIZZAZIONE'!F65","v":0},{"$f":"'2 - QUADRO LOCALIZZAZIONE'!H65","v":0},{"$f":"'2 - QUADRO LOCALIZZAZIONE'!J65","v":0},null,null,0,null,null,0,null,null,0,null,null,0,null,null,0,null,null,0,0,0,"-",0,0,null,null,null,null,null,null,null,null,null,"Tiglio nostrano"]
[{"$f":"'1 - ANAGRAFICA'!$B$8","v":0},64,{"$f":"'2 - QUADRO LOCALIZZAZIONE'!D66","v":0},{"$f":"'2 - QUADRO LOCALIZZAZIONE'!E66","v":0},{"$f":"'2 - QUADRO LOCALIZZAZIONE'!F66","v":0},{"$f":"'2 - QUADRO LOCALIZZAZIONE'!H66","v":0},{"$f":"'2 - QUADRO LOCALIZZAZIONE'!J66","v":0},null,null,0,null,null,0,null,null,0,null,null,0,null,null,0,null,null,0,0,0,"-",0,0,null,null,null,null,null,null,null,null,null,"Tiglio selvatico"]
[{"$f":"'1 - ANAGRAFICA'!$B$8","v":0},65,{"$f":"'2 - QUADRO LOCALIZZAZIONE'!D67","v":0},{"$f":"'2 - QUADRO LOCALIZZAZIONE'!E67","v":0},{"$f":"'2 - QUADRO LOCALIZZAZIONE'!F67","v":0},{"$f":"'2 - QUADRO LOCALIZZAZIONE'!H67","v":0},{"$f":"'2 - QUADRO LOCALIZZAZIONE'!J67","v":0},null,null,0,null,null,0,null,null,0,null,null,0,null,null,0,null,null,0,0,0,"-",0,0,null,null,null,null,null,null,null,null,null,"Vallonea"]
[{"$f":"'1 - ANAGRAFICA'!$B$8","v":0},66,{"$f":"'2 - QUADRO LOCALIZZAZIONE'!D68","v":0},{"$f":"'2 - QUADRO LOCALIZZAZIONE'!E68","v":0},{"$f":"'2 - QUADRO LOCALIZZAZIONE'!F68","v":0},{"$f":"'2 - QUADRO LOCALIZZAZIONE'!H68","v":0},{"$f":"'2 - QUADRO LOCALIZZAZIONE'!J68","v":0},null,null,{"$f":"IF(I68=0,0,I68/$AC68)","v":0},null,null,{"$f":"IF(L68=0,0,L68/$AC68)","v":0},null,null,{"$f":"IF(O68=0,0,O68/$AC68)","v":0},null,null,0,null,null,{"$f":"IF(U68=0,0,U68/$AC68)","v":0},null,null,{"$f":"IF(X68=0,0,X68/$AC68)","v":0},{"$f":"ROUND($F68/10000*50,0)","v":0},{"$f":"ROUND($F68/10000*250,0)","v":0},{"$f":"IF(AC68>AA68,AC68-AA68,\"-\")","v":"-"},0,{"$f":"IF(AND(F68<>0,COUNTA(H68,K68,N68,Q68,T68,W68)<2),\"Indicare almeno due specie per p.lla\",COUNTA(H68,K68,N68,Q68,T68,W68))","v":0},null,null,null,null,null,null,null,null,null,"Viburno"]
[{"$f":"'1 - ANAGRAFICA'!$B$8","v":0},67,{"$f":"'2 - QUADRO LOCALIZZAZIONE'!D69","v":0},{"$f":"'2 - QUADRO LOCALIZZAZIONE'!E69","v":0},{"$f":"'2 - QUADRO LOCALIZZAZIONE'!F69","v":0},{"$f":"'2 - QUADRO LOCALIZZAZIONE'!H69","v":0},{"$f":"'2 - QUADRO LOCALIZZAZIONE'!J69","v":0},null,null,0,null,null,0,null,null,0,null,null,0,null,null,0,null,null,0,0,0,"-",0,0]
[{"$f":"'1 - ANAGRAFICA'!$B$8","v":0},68,{"$f":"'2 - QUADRO LOCALIZZAZIONE'!D70","v":0},{"$f":"'2 - QUADRO LOCALIZZAZIONE'!E70","v":0},{"$f":"'2 - QUADRO LOCALIZZAZIONE'!F70","v":0},{"$f":"'2 - QUADRO LOCALIZZAZIONE'!H70","v":0},{"$f":"'2 - QUADRO LOCALIZZAZIONE'!J70","v":0},null,null,0,null,null,0,null,null,0,null,null,{"$f":"IF(R70=0,0,R70/$AC70)","v":0},null,null,0,null,null,0,0,0,"-",0,0]
[{"$f":"'1 - ANAGRAFICA'!$B$8","v":0},69,{"$f":"'2 - QUADRO LOCALIZZAZIONE'!D71","v":0},{"$f":"'2 - QUADRO LOCALIZZAZIONE'!E71","v":0},{"$f":"'2 - QUADRO LOCALIZZAZIONE'!F71","v":0},{"$f":"'2 - QUADRO LOCALIZZAZIONE'!H71","v":0},{"$f":"'2 - QUADRO LOCALIZZAZIONE'!J71","v":0},null,null,0,null,null,0,null,null,0,null,null,0,null,null,0,null,null,0,0,0,"-",0,0]
[{"$f":"'1 - ANAGRAFICA'!$B$8","v":0},70,{"$f":"'2 - QUADRO LOCALIZZAZIONE'!D72","v":0},{"$f":"'2 - QUADRO LOCALIZZAZIONE'!E72","v":0},{"$f":"'2 - QUADRO LOCALIZZAZIONE'!F72","v":0},{"$f":"'2 - QUADRO LOCALIZZAZIONE'!H72","v":0},{"$f":"'2 - QUADRO LOCALIZZAZIONE'!J72","v":0},null,null,0,null,null,0,null,null,0,null,null,0,null,null,0,null,null,0,0,0,"-",0,0]
[{"$f":"'1 - ANAGRAFICA'!$B$8","v":0},71,{"$f":"'2 - QUADRO LOCALIZZAZIONE'!D73","v":0},{"$f":"'2 - QUADRO LOCALIZZAZIONE'!E73","v":0},{"$f":"'2 - QUADRO LOCALIZZAZIONE'!F73","v":0},{"$f":"'2 - QUADRO LOCALIZZAZIONE'!H73","v":0},{"$f":"'2 - QUADRO LOCALIZZAZIONE'!J73","v":0},null,null,0,null,null,0,null,null,0,null,null,0,null,null,0,null,null,0,0,0,"-",0,0]
[{"$f":"'1 - ANAGRAFICA'!$B$8","v":0},72,{"$f":"'2 - QUADRO LOCALIZZAZIONE'!D74","v":0},{"$f":"'2 - QUADRO LOCALIZZAZIONE'!E74","v":0},{"$f":"'2 - QUADRO LOCALIZZAZIONE'!F74","v":0},{"$f":"'2 - QUADRO LOCALIZZAZIONE'!H74","v":0},{"$f":"'2 - QUADRO LOCALIZZAZIONE'!J74","v":0},null,null,0,null,null,0,null,null,0,null,null,0,null,null,0,null,null,0,0,0,"-",0,0]
[{"$f":"'1 - ANAGRAFICA'!$B$8","v":0},73,{"$f":"'2 - QUADRO LOCALIZZAZIONE'!D75","v":0},{"$f":"'2 - QUADRO LOCALIZZAZIONE'!E75","v":0},{"$f":"'2 - QUADRO LOCALIZZAZIONE'!F75","v":0},{"$f":"'2 - QUADRO LOCALIZZAZIONE'!H75","v":0},{"$f":"'2 - QUADRO LOCALIZZAZIONE'!J75","v":0},null,null,0,null,null,0,null,null,0,null,null,0,null,null,0,null,null,0,0,0,"-",0,0]
[{"$f":"'1 - ANAGRAFICA'!$B$8","v":0},74,{"$f":"'2 - QUADRO LOCALIZZAZIONE'!D76","v":0},{"$f":"'2 - QUADRO LOCALIZZAZIONE'!E76","v":0},{"$f":"'2 - QUADRO LOCALIZZAZIONE'!F76","v":0},{"$f":"'2 - QUADRO LOCALIZZAZIONE'!H76","v":0},{"$f":"'2 - QUADRO LOCALIZZAZIONE'!J76","v":0},null,null,0,null,null,0,null,null,0,null,null,0,null,null,0,null,null,0,0,0,"-",0,0]
[{"$f":"'1 - ANAGRAFICA'!$B$8","v":0},75,{"$f":"'2 - QUADRO LOCALIZZAZIONE'!D77","v":0},{"$f":"'2 - QUADRO LOCALIZZAZIONE'!E77","v":0},{"$f":"'2 - QUADRO LOCALIZZAZIONE'!F77","v":0},{"$f":"'2 - QUADRO LOCALIZZAZIONE'!H77","v":0},{"$f":"'2 - QUADRO LOCALIZZAZIONE'!J77","v":0},null,null,0,null,null,0,null,null,0,null,null,0,null,null,0,null,null,0,0,0,"-",0,0]
[{"$f":"'1 - ANAGRAFICA'!$B$8","v":0},76,{"$f":"'2 - QUADRO LOCALIZZAZIONE'!D78","v":0},{"$f":"'2 - QUADRO LOCALIZZAZIONE'!E78","v":0},{"$f":"'2 - QUADRO LOCALIZZAZIONE'!F78","v":0},{"$f":"'2 - QUADRO LOCALIZZAZIONE'!H78","v":0},{"$f":"'2 - QUADRO LOCALIZZAZIONE'!J78","v":0},null,null,0,null,null,0,null,null,0,null,null,0,null,null,0,null,null,0,0,0,"-",0,0]
[{"$f":"'1 - ANAGRAFICA'!$B$8","v":0},77,{"$f":"'2 - QUADRO LOCALIZZAZIONE'!D79","v":0},{"$f":"'2 - QUADRO LOCALIZZAZIONE'!E79","v":0},{"$f":"'2 - QUADRO LOCALIZZAZIONE'!F79","v":0},{"$f":"'2 - QUADRO LOCALIZZAZIONE'!H79","v":0},{"$f":"'2 - QUADRO LOCALIZZAZIONE'!J79","v":0},null,null,0,null,null,0,null,null,0,null,null,0,null,null,0,null,null,0,0,0,"-",0,0]
[{"$f":"'1 - ANAGRAFICA'!$B$8","v":0},78,{"$f":"'2 - QUADRO LOCALIZZAZIONE'!D80","v":0},{"$f":"'2 - QUADRO LOCALIZZAZIONE'!E80","v":0},{"$f":"'2 - QUADRO LOCALIZZAZIONE'!F80","v":0},{"$f":"'2 - QUADRO LOCALIZZAZIONE'!H80","v":0},{"$f":"'2 - QUADRO LOCALIZZAZIONE'!J80","v":0},null,null,0,null,null,0,null,null,0,null,null,0,null,null,0,null,null,0,0,0,"-",0,0]
[{"$f":"'1 - ANAGRAFICA'!$B$8","v":0},79,{"$f":"'2 - QUADRO LOCALIZZAZIONE'!D81","v":0},{"$f":"'2 - QUADRO LOCALIZZAZIONE'!E81","v":0},{"$f":"'2 - QUADRO LOCALIZZAZIONE'!F81","v":0},{"$f":"'2 - QUADRO LOCALIZZAZIONE'!H81","v":0},{"$f":"'2 - QUADRO LOCALIZZAZIONE'!J81","v":0},null,null,0,null,null,0,null,null,0,null,null,0,null,null,0,null,null,0,0,0,"-",0,0]
[{"$f":"'1 - ANAGRAFICA'!$B$8","v":0},80,{"$f":"'2 - QUADRO LOCALIZZAZIONE'!D82","v":0},{"$f":"'2 - QUADRO LOCALIZZAZIONE'!E82","v":0},{"$f":"'2 - QUADRO LOCALIZZAZIONE'!F82","v":0},{"$f":"'2 - QUADRO LOCALIZZAZIONE'!H82","v":0},{"$f":"'2 - QUADRO LOCALIZZAZIONE'!J82","v":0},null,null,0,null,null,0,null,null,0,null,null,0,null,null,0,null,null,0,0,0,"-",0,0]
[{"$f":"'1 - ANAGRAFICA'!$B$8","v":0},81,{"$f":"'2 - QUADRO LOCALIZZAZIONE'!D83","v":0},{"$f":"'2 - QUADRO LOCALIZZAZIONE'!E83","v":0},{"$f":"'2 - QUADRO LOCALIZZAZIONE'!F83","v":0},{"$f":"'2 - QUADRO LOCALIZZAZIONE'!H83","v":0},{"$f":"'2 - QUADRO LOCALIZZAZIONE'!J83","v":0},null,null,0,null,null,0,null,null,0,null,null,0,null,null,0,null,null,0,0,0,"-",0,0]
[{"$f":"'1 - ANAGRAFICA'!$B$8","v":0},82,{"$f":"'2 - QUADRO LOCALIZZAZIONE'!D84","v":0},{"$f":"'2 - QUADRO LOCALIZZAZIONE'!E84","v":0},{"$f":"'2 - QUADRO LOCALIZZAZIONE'!F84","v":0},{"$f":"'2 - QUADRO LOCALIZZAZIONE'!H84","v":0},{"$f":"'2 - QUADRO LOCALIZZAZIONE'!J84","v":0},null,null,0,null,null,0,null,null,0,null,null,0,null,null,0,null,null,0,0,0,"-",0,0]
[{"$f":"'1 - ANAGRAFICA'!$B$8","v":0},83,{"$f":"'2 - QUADRO LOCALIZZAZIONE'!D85","v":0},{"$f":"'2 - QUADRO LOCALIZZAZIONE'!E85","v":0},{"$f":"'2 - QUADRO LOCALIZZAZIONE'!F85","v":0},{"$f":"'2 - QUADRO LOCALIZZAZIONE'!H85","v":0},{"$f":"'2 - QUADRO LOCALIZZAZIONE'!J85","v":0},null,null,0,null,null,0,null,null,0,null,null,0,null,null,0,null,null,0,0,0,"-",0,0]
[{"$f":"'1 - ANAGRAFICA'!$B$8","v":0},84,{"$f":"'2 - QUADRO LOCALIZZAZIONE'!D86","v":0},{"$f":"'2 - QUADRO LOCALIZZAZIONE'!E86","v":0},{"$f":"'2 - QUADRO LOCALIZZAZIONE'!F86","v":0},{"$f":"'2 - QUADRO LOCALIZZAZIONE'!H86","v":0},{"$f":"'2 - QUADRO LOCALIZZAZIONE'!J86","v":0},null,null,0,null,null,0,null,null,0,null,null,0,null,null,0,null,null,0,0,0,"-",0,0]
[{"$f":"'1 - ANAGRAFICA'!$B$8","v":0},85,{"$f":"'2 - QUADRO LOCALIZZAZIONE'!D87","v":0},{"$f":"'2 - QUADRO LOCALIZZAZIONE'!E87","v":0},{"$f":"'2 - QUADRO LOCALIZZAZIONE'!F87","v":0},{"$f":"'2 - QUADRO LOCALIZZAZIONE'!H87","v":0},{"$f":"'2 - QUADRO LOCALIZZAZIONE'!J87","v":0},null,null,0,null,null,0,null,null,0,null,null,0,null,null,0,null,null,0,0,0,"-",0,0]
[{"$f":"'1 - ANAGRAFICA'!$B$8","v":0},86,{"$f":"'2 - QUADRO LOCALIZZAZIONE'!D88","v":0},{"$f":"'2 - QUADRO LOCALIZZAZIONE'!E88","v":0},{"$f":"'2 - QUADRO LOCALIZZAZIONE'!F88","v":0},{"$f":"'2 - QUADRO LOCALIZZAZIONE'!H88","v":0},{"$f":"'2 - QUADRO LOCALIZZAZIONE'!J88","v":0},null,null,0,null,null,0,null,null,0,null,null,0,null,null,0,null,null,0,0,0,"-",0,0]
[{"$f":"'1 - ANAGRAFICA'!$B$8","v":0},87,{"$f":"'2 - QUADRO LOCALIZZAZIONE'!D89","v":0},{"$f":"'2 - QUADRO LOCALIZZAZIONE'!E89","v":0},{"$f":"'2 - QUADRO LOCALIZZAZIONE'!F89","v":0},{"$f":"'2 - QUADRO LOCALIZZAZIONE'!H89","v":0},{"$f":"'2 - QUADRO LOCALIZZAZIONE'!J89","v":0},null,null,0,null,null,0,null,null,0,null,null,0,null,null,0,null,null,0,0,0,"-",0,0]
[{"$f":"'1 - ANAGRAFICA'!$B$8","v":0},88,{"$f":"'2 - QUADRO LOCALIZZAZIONE'!D90","v":0},{"$f":"'2 - QUADRO LOCALIZZAZIONE'!E90","v":0},{"$f":"'2 - QUADRO LOCALIZZAZIONE'!F90","v":0},{"$f":"'2 - QUADRO LOCALIZZAZIONE'!H90","v":0},{"$f":"'2 - QUADRO LOCALIZZAZIONE'!J90","v":0},null,null,0,null,null,0,null,null,0,null,null,0,null,null,0,null,null,0,0,0,"-",0,0]
[{"$f":"'1 - ANAGRAFICA'!$B$8","v":0},89,{"$f":"'2 - QUADRO LOCALIZZAZIONE'!D91","v":0},{"$f":"'2 - QUADRO LOCALIZZAZIONE'!E91","v":0},{"$f":"'2 - QUADRO LOCALIZZAZIONE'!F91","v":0},{"$f":"'2 - QUADRO LOCALIZZAZIONE'!H91","v":0},{"$f":"'2 - QUADRO LOCALIZZAZIONE'!J91","v":0},null,null,0,null,null,0,null,null,0,null,null,0,null,null,0,null,null,0,0,0,"-",0,0]
[{"$f":"'1 - ANAGRAFICA'!$B$8","v":0},90,{"$f":"'2 - QUADRO LOCALIZZAZIONE'!D92","v":0},{"$f":"'2 - QUADRO LOCALIZZAZIONE'!E92","v":0},{"$f":"'2 - QUADRO LOCALIZZAZIONE'!F92","v":0},{"$f":"'2 - QUADRO LOCALIZZAZIONE'!H92","v":0},{"$f":"'2 - QUADRO LOCALIZZAZIONE'!J92","v":0},null,null,0,null,null,0,null,null,0,null,null,0,null,null,0,null,null,0,0,0,"-",0,0]
[{"$f":"'1 - ANAGRAFICA'!$B$8","v":0},91,{"$f":"'2 - QUADRO LOCALIZZAZIONE'!D93","v":0},{"$f":"'2 - QUADRO LOCALIZZAZIONE'!E93","v":0},{"$f":"'2 - QUADRO LOCALIZZAZIONE'!F93","v":0},{"$f":"'2 - QUADRO LOCALIZZAZIONE'!H93","v":0},{"$f":"'2 - QUADRO LOCALIZZAZIONE'!J93","v":0},null,null,0,null,null,0,null,null,0,null,null,0,null,null,0,null,null,0,0,0,"-",0,0]
[{"$f":"'1 - ANAGRAFICA'!$B$8","v":0},92,{"$f":"'2 - QUADRO LOCALIZZAZIONE'!D94","v":0},{"$f":"'2 - QUADRO LOCALIZZAZIONE'!E94","v":0},{"$f":"'2 - QUADRO LOCALIZZAZIONE'!F94","v":0},{"$f":"'2 - QUADRO LOCALIZZAZIONE'!H94","v":0},{"$f":"'2 - QUADRO LOCALIZZAZIONE'!J94","v":0},null,null,0,null,null,0,null,null,0,null,null,0,null,null,0,null,null,0,0,0,"-",0,0]
[{"$f":"'1 - ANAGRAFICA'!$B$8","v":0},93,{"$f":"'2 - QUADRO LOCALIZZAZIONE'!D95","v":0},{"$f":"'2 - QUADRO LOCALIZZAZIONE'!E95","v":0},{"$f":"'2 - QUADRO LOCALIZZAZIONE'!F95","v":0},{"$f":"'2 - QUADRO LOCALIZZAZIONE'!H95","v":0},{"$f":"'2 - QUADRO LOCALIZZAZIONE'!J95","v":0},null,null,0,null,null,0,null,null,0,null,null,0,null,null,0,null,null,0,0,0,"-",0,0]
[{"$f":"'1 - ANAGRAFICA'!$B$8","v":0},94,{"$f":"'2 - QUADRO LOCALIZZAZIONE'!D96","v":0},{"$f":"'2 - QUADRO LOCALIZZAZIONE'!E96","v":0},{"$f":"'2 - QUADRO LOCALIZZAZIONE'!F96","v":0},{"$f":"'2 - QUADRO LOCALIZZAZIONE'!H96","v":0},{"$f":"'2 - QUADRO LOCALIZZAZIONE'!J96","v":0},null,null,0,null,null,0,null,null,0,null,null,0,null,null,0,null,null,0,0,0,"-",0,0]
[{"$f":"'1 - ANAGRAFICA'!$B$8","v":0},95,{"$f":"'2 - QUADRO LOCALIZZAZIONE'!D97","v":0},{"$f":"'2 - QUADRO LOCALIZZAZIONE'!E97","v":0},{"$f":"'2 - QUADRO LOCALIZZAZIONE'!F97","v":0},{"$f":"'2 - QUADRO LOCALIZZAZIONE'!H97","v":0},{"$f":"'2 - QUADRO LOCALIZZAZIONE'!J97","v":0},null,null,0,null,null,0,null,null,0,null,null,0,null,null,0,null,null,0,0,0,"-",0,0]
[{"$f":"'1 - ANAGRAFICA'!$B$8","v":0},96,{"$f":"'2 - QUADRO LOCALIZZAZIONE'!D98","v":0},{"$f":"'2 - QUADRO LOCALIZZAZIONE'!E98","v":0},{"$f":"'2 - QUADRO LOCALIZZAZIONE'!F98","v":0},{"$f":"'2 - QUADRO LOCALIZZAZIONE'!H98","v":0},{"$f":"'2 - QUADRO LOCALIZZAZIONE'!J98","v":0},null,null,0,null,null,0,null,null,0,null,null,0,null,null,0,null,null,0,0,0,"-",0,0]
[{"$f":"'1 - ANAGRAFICA'!$B$8","v":0},97,{"$f":"'2 - QUADRO LOCALIZZAZIONE'!D99","v":0},{"$f":"'2 - QUADRO LOCALIZZAZIONE'!E99","v":0},{"$f":"'2 - QUADRO LOCALIZZAZIONE'!F99","v":0},{"$f":"'2 - QUADRO LOCALIZZAZIONE'!H99","v":0},{"$f":"'2 - QUADRO LOCALIZZAZIONE'!J99","v":0},null,null,0,null,null,0,null,null,0,null,null,0,null,null,0,null,null,0,0,0,"-",0,0]
[{"$f":"'1 - ANAGRAFICA'!$B$8","v":0},98,{"$f":"'2 - QUADRO LOCALIZZAZIONE'!D100","v":0},{"$f":"'2 - QUADRO LOCALIZZAZIONE'!E100","v":0},{"$f":"'2 - QUADRO LOCALIZZAZIONE'!F100","v":0},{"$f":"'2 - QUADRO LOCALIZZAZIONE'!H100","v":0},{"$f":"'2 - QUADRO LOCALIZZAZIONE'!J100","v":0},null,null,0,null,null,0,null,null,0,null,null,0,null,null,0,null,null,0,0,0,"-",0,0]
[{"$f":"'1 - ANAGRAFICA'!$B$8","v":0},99,{"$f":"'2 - QUADRO LOCALIZZAZIONE'!D101","v":0},{"$f":"'2 - QUADRO LOCALIZZAZIONE'!E101","v":0},{"$f":"'2 - QUADRO LOCALIZZAZIONE'!F101","v":0},{"$f":"'2 - QUADRO LOCALIZZAZIONE'!H101","v":0},{"$f":"'2 - QUADRO LOCALIZZAZIONE'!J101","v":0},null,null,0,null,null,0,null,null,0,null,null,0,null,null,0,null,null,0,0,0,"-",0,0]
[{"$f":"'1 - ANAGRAFICA'!$B$8","v":0},100,{"$f":"'2 - QUADRO LOCALIZZAZIONE'!D102","v":0},{"$f":"'2 - QUADRO LOCALIZZAZIONE'!E102","v":0},{"$f":"'2 - QUADRO LOCALIZZAZIONE'!F102","v":0},{"$f":"'2 - QUADRO LOCALIZZAZIONE'!H102","v":0},{"$f":"'2 - QUADRO LOCALIZZAZIONE'!J102","v":0},null,null,0,null,null,0,null,null,0,null,null,{"$f":"IF(R102=0,0,R102/$AC102)","v":0},null,null,0,null,null,0,0,0,"-",0,0]

{"sheet":"4 - RIEPILOGHI E PUNTEGGIO","index":3,"n_rows":8,"n_cols":10,"rows_kept":8,"cut":false,"hidden":false,"merged":[[7,1,9,2],[1,8,5,8],[1,9,5,9],[1,6,5,6],[0,3,0,5],[2,1,4,1],[2,2,4,2],[2,3,4,3],[2,7,4,7]]}
[null,"Tipologia di operazione attivata","Somma superfici\nm2","N. Piante previste",null,null,"Punteggio ponderato\nper ambito territoriale","Importi di progetto","Punteggio ponderato per tipologia di operazione\n","Punteggio ponderato complessivo"]
[{"$f":"'1 - ANAGRAFICA'!$B$8","v":0},"Impianti in ordine sparso\n(16 punti)",{"$f":"SUMIF('2 - QUADRO LOCALIZZAZIONE'!$J$3:$J$102,\"Impianti in ordine sparso\",'2 - QUADRO LOCALIZZAZIONE'!$H$3:$H$102)","v":0},{"$f":"IF(FLOOR(SUMIF('3 - SPECIE DA IMPIANTARE'!G$3:G$102,\"Impianti in ordine sparso\",'3 - SPECIE DA IMPIANTARE'!AC$3:TY$102),1)>(C2/10000*250),\"Superato limite massimo piante/ha ammissibili\",IF(FLOOR(SUMIF('3 - SPECIE DA IMPIANTARE'!G$3:G$102,\"Impianti in ordine sparso\",'3 - SPECIE DA IMPIANTARE'!AC$3:TY$102),1)<(C2/10000*50),\"Non raggiunto numero minimo di piante/ha ammissibili\",FLOOR(SUMIF('3 - SPECIE DA IMPIANTARE'!G$3:G$102,\"Impianti in ordine sparso\",'3 - SPECIE DA IMPIANTARE'!AC$3:TY$102),1)))","v":0},null,null,{"$f":"SUM('2 - QUADRO LOCALIZZAZIONE'!Y3:Y102)/C7","v":{"$error":"#DIV/0!"}},{"$f":"C2*0.34375","v":0},{"$f":"IF(H2/SUM(H2:H6)>=0.8,16,IF(H3/SUM(H2:H6)>=0.8,12,IF(H6/SUM(H2:H6)>=0.8,4,(C2*16+C3*12+C6*4)/SUM(C2:C6))))","v":{"$error":"#DIV/0!"}},{"$f":"G2+I2","v":{"$error":"#DIV/0!"}}]
[{"$f":"'1 - ANAGRAFICA'!$B$8","v":0},"Piantagioni Lineari (siepi, alberature, fasce boschive e frangivento)\n(12 punti)",{"$f":"SUMIF('2 - QUADRO LOCALIZZAZIONE'!$J$3:$J$102,\"Piantagioni lineari\",'2 - QUADRO LOCALIZZAZIONE'!$H$3:$H$102)","v":0},{"$f":"IF(FLOOR(SUMIF('3 - SPECIE DA IMPIANTARE'!G$3:G$102,\"Piantagioni lineari\",'3 - SPECIE DA IMPIANTARE'!AC$3:TY$102),1)>(C3/10000*250),\"Superato limite massimo piante/ha ammissibili\",IF(FLOOR(SUMIF('3 - SPECIE DA IMPIANTARE'!G$3:G$102,\"Piantagioni lineari\",'3 - SPECIE DA IMPIANTARE'!AC$3:TY$102),1)<(C3/10000*50),\"Non raggiunto numero minimo di piante/ha ammissibili\",FLOOR(SUMIF('3 - SPECIE DA IMPIANTARE'!G$3:G$102,\"Piantagioni lineari\",'3 - SPECIE DA IMPIANTARE'!AC$3:TY$102),1)))","v":0},"di cui per siepi",null,null,{"$f":"C3*0.34375","v":0}]
[{"$f":"'1 - ANAGRAFICA'!$B$8","v":0},null,null,null,"di cui per alberature"]
[{"$f":"'1 - ANAGRAFICA'!$B$8","v":0},null,null,null,"di cui per fasce"]
[{"$f":"'1 - ANAGRAFICA'!$B$8","v":0},"Impianti a sesto regolare\n(4 punti)",{"$f":"SUMIF('2 - QUADRO LOCALIZZAZIONE'!$J$3:$J$102,\"Impianti a sesto regolare\",'2 - QUADRO LOCALIZZAZIONE'!$H$3:$H$102)","v":0},{"$f":"IF(FLOOR(SUMIF('3 - SPECIE DA IMPIANTARE'!G$3:G$102,\"Impianti a sesto regolare\",'3 - SPECIE DA IMPIANTARE'!AC$3:TY$102),1)>(C6/10000*250),\"Superato limite massimo piante/ha ammissibili\",IF(FLOOR(SUMIF('3 - SPECIE DA IMPIANTARE'!G$3:G$102,\"Impianti a sesto regolare\",'3 - SPECIE DA IMPIANTARE'!AC$3:TY$102),1)<(C6/10000*50),\"Non raggiunto numero minimo di piante/ha ammissibili\",FLOOR(SUMIF('3 - SPECIE DA IMPIANTARE'!G$3:G$102,\"Impianti a sesto regolare\",'3 - SPECIE DA IMPIANTARE'!AC$3:TY$102),1)))","v":0},null,null,null,{"$f":"C6*0.34375","v":0}]
[{"$f":"'1 - ANAGRAFICA'!$B$8","v":0},"TOTALE",{"$f":"SUM(C2:C6)","v":0},{"$f":"SUM(D2:D6)","v":0},null,{"$f":"IF(SUM(F3:F5)<>D3,\"Dettagliare numero di piante per piantagioni lineari\",\"\")","v":""},null,{"$f":"SUM(H2:H6)","v":0}]
[null,{"$f":"IF(C7<>SUM('1 - ANAGRAFICA'!F12,'1 - ANAGRAFICA'!M12,'1 - ANAGRAFICA'!T12),\"SUPERFICIE DICHIARATA IN QUADRO LOCALIZZAZIONE DIVERSA DA QUELLA DICHIARATA IN ANAGRAFICA\",\"\")","v":""}]

{"sheet":"5_1 INT. IMPIANTI ORDINE SPARSO","index":4,"n_rows":32,"n_cols":11,"rows_kept":32,"cut":false,"hidden":false,"merged":[[5,5,5,6],[0,1,0,8],[28,5,28,7],[10,5,10,6],[13,5,13,6],[27,5,27,7],[26,5,26,7],[25,5,25,7],[5,1,5,4],[13,1,13,4],[23,1,23,4],[10,1,10,4],[23,5,23,6],[24,5,24,7]]}
[null,"INVESTIMENTO RICHIESTO"]
[null,"N. prog","Codice","TIPOLOGIA PRINCIPALE (P) O SECONDARIA (S)","Descrizione della voce di costo","Costo unitario","Unità di misura","Quantità ","Costo",null,"Fornitore scelto (denominazione)"]
[{"$f":"'1 - ANAGRAFICA'!$B$8","v":0},1,"A preventivo","S","Analisi chimico-fisiche del suolo",0,"cad.",null,{"$f":"F3*H3","v":0}]
[{"$f":"'1 - ANAGRAFICA'!$B$8","v":0},2,"OF 01.07","S","Interramento di materiale organico locale o trasportato (eseguito con fresa o altro attrezzo equivalente)",252.45,"ha",null,{"$f":"F4*H4","v":0}]
[{"$f":"'1 - ANAGRAFICA'!$B$8","v":0},3,"OF 01.08","S","Fornitura e spandimento di ammendante organico (3kg/mq) da eseguirsi tra l'aratura e la finitura superficiale",905.52,"ha",null,0]
[{"$f":"'1 - ANAGRAFICA'!$B$8","v":0},"CONCIMAZIONE ORGANICA",null,null,null,{"$f":"IF(H6>'4 - RIEPILOGHI E PUNTEGGIO'!$C2/10000,\"SUPERATA SUPERFICIE DICHIARATA IN QUADRO LOCALIZZAZIONE\",\"SUBTOTALE\")","v":"SUBTOTALE"},null,{"$f":"SUM(H4:H5)","v":0},{"$f":"SUM(I4:I5)","v":0}]
[{"$f":"'1 - ANAGRAFICA'!$B$8","v":0},4,"A preventivo","S","Squadratura, tracciamento filari",null,null,null,0]
[{"$f":"'1 - ANAGRAFICA'!$B$8","v":0},5,"OF 01.20","P","Apertura manuale di buche in terreno precedentemente lavorato, cm 40x40x40",1.19,"cad.",{"$f":"'4 - RIEPILOGHI E PUNTEGGIO'!D2","v":0},0]
[{"$f":"'1 - ANAGRAFICA'!$B$8","v":0},6,"OF 01.25","P","Collocamento a dimora di piantina resinosa e latifoglia a radice nuda, comprese la ricolmatura con compressione del terreno adiacente le radici delle piante, la razionale posa in tagliola, l'imbozzimatura, la spuntatura delle radici ed ogni altra operazione necessaria a dare l'opera eseguita a regola d'arte (escluso la fornitura della pianta)",1.29,"cad.",null,0]
[{"$f":"'1 - ANAGRAFICA'!$B$8","v":0},7,"OF 01.26","P","Collocamento a dimora di latifoglia in contenitore, compresa la ricolmatura con compressione del terreno (escluso la fornitura della pianta)",1.62,"cad.",null,0]
[{"$f":"'1 - ANAGRAFICA'!$B$8","v":0},"MESSA A DIMORA",null,null,null,{"$f":"IF(H11>'4 - RIEPILOGHI E PUNTEGGIO'!$D$2,\"QUANTITA' PIANTE MAGGIORE PIANTE PREVISTE\",IF(H11<'4 - RIEPILOGHI E PUNTEGGIO'!D$2,\"QUANTITA' PIANTE MINORE DELLE PIANTE PREVISTE\",\"SUBTOTALE\"))","v":"SUBTOTALE"},null,{"$f":"SUM(H9:H10)","v":0},{"$f":"SUM(I9:I10)","v":0}]
[{"$f":"'1 - ANAGRAFICA'!$B$8","v":0},8,"OF 01.27","P","Fornitura di piantina di latifoglia o conifera a radice nuda",0.88,"cad.",null,0]
[{"$f":"'1 - ANAGRAFICA'!$B$8","v":0},9,"OF 01.28","P","Fornitura di piantina di latifoglia o conifera in fitocella",1.98,"cad.",null,0]
[{"$f":"'1 - ANAGRAFICA'!$B$8","v":0},"FORNITURA PIANTE",null,null,null,{"$f":"IF(H14>'4 - RIEPILOGHI E PUNTEGGIO'!$D$2,\"QUANTITA' PIANTE MAGGIORE DELLE PIANTE PREVISTE\",IF(H14<'4 - RIEPILOGHI E PUNTEGGIO'!D$2,\"QUANTITA' PIANTE MINORE DELLE PIANTE PREVISTE\",\"SUBTOTALE\"))","v":"SUBTOTALE"},null,{"$f":"SUM(H12:H13)","v":0},{"$f":"SUM(I12:I13)","v":0}]
[{"$f":"'1 - ANAGRAFICA'!$B$8","v":0},10,"A preventivo","S","Maggiorazione per piante micorrizate",null,null,null,0]
[{"$f":"'1 - ANAGRAFICA'!$B$8","v":0},11,"OF 01.30","P","Fornitura in opera di paletti tutori in legno (h non minore di 1,80 m e D in punta non minore di 3 cm), comprese operazioni di carico/scarico e trasporto ed ogni altro onere (solo per impianti da arboricoltura da legno e latifoglie di pregio)",4.5199999999999996,"cad.",null,{"$f":"F16*H16","v":0}]
[{"$f":"'1 - ANAGRAFICA'!$B$8","v":0},12,"OF 01.32","P","Fornitura e messa in opera di un cilindro protettivo in rete per piantine (tree shelter) per la protezione della piantina dagli ungulati",2.16,"cad.",null,{"$f":"F17*H17","v":0}]
[{"$f":"'1 - ANAGRAFICA'!$B$8","v":0},13,"OF 01.19","S","Pacciamatura localizzata con dischi o quadretti in materiale ligno-cellulosico biodegradabile, di dimensioni  minime cm 40x40, compreso acquisto, fornitura posa ed ancoraggio con picchetti. (analisi per 100 ml)",2.33,"cad.",null,{"$f":"H18*F18","v":0}]
[{"$f":"'1 - ANAGRAFICA'!$B$8","v":0},14,"OF 03.07","S","Irrigazione di soccorso, compreso l'approvigionamento idrico a qualsiasi distanza e qualunque quantità, distrubuzione dell'acqua con qualsiasi mezzo o modo per ciascun intervento e piantina (quantità 20 l). Analisi riferita a 400 piante",0.59,"cad.",null,0]
[{"$f":"'1 - ANAGRAFICA'!$B$8","v":0},15,"A preventivo","S","Trattamenti fitosanitari"]
[{"$f":"'1 - ANAGRAFICA'!$B$8","v":0},16,"OF 06.01","S","Realizzazione di pozza o abbeveratoio con geotessuto impermeabilizzato con betonite compreso scavo, impermeabilizzazione e ricoprimento tessuto, stesura materiale terroso e rimodellazione aree (analisi per un invaso di 100 mc)",31.63,"mc",null,{"$f":"F21*H21","v":0}]
[{"$f":"'1 - ANAGRAFICA'!$B$8","v":0},17,"OF 06.02","S","Realizzazione di pozza o abbeveratoio con telo in PVC tipo HDPE compreso scavo, impermeabilizzazione e ricopriomento tessuto, stesura materiale terroso e rimodellazione aree  (analisi per un invaso di 100 mc)",33.31,"mc",null,{"$f":"F22*H22","v":0}]
[{"$f":"'1 - ANAGRAFICA'!$B$8","v":0},18,"OF 06.03","S","Realizzazione di pozza o abbeveratoio con soletta in cemento armato impermeabilizzato compreso scavo, impermeabilizzazione e ricopriomento tessuto, stesura materiale terroso e rimodellazione aree  (analisi per un invaso di 100 mc)",86.35,"mc",null,{"$f":"F23*H23","v":0}]
[{"$f":"'1 - ANAGRAFICA'!$B$8","v":0},"REALIZZAZIONE E/O MANTENIMENTO DI ABBEVERATOI PER ANIMALI",null,null,null,"SUBTOTALE",null,{"$f":"SUM(H21:H23)","v":0},{"$f":"SUM(I21:I23)","v":0}]
[{"$f":"'1 - ANAGRAFICA'!$B$8","v":0},19,"A preventivo","P","SPESE GENERALI"]
[{"$f":"'1 - ANAGRAFICA'!$B$8","v":0},null,null,null,"A = (∑ 1: 18)","TOTALE SPESE MATERIALI",null,null,{"$f":"SUM(I3,I6,I7,I8,I11,I14,I15,I16,I17,I18,I19,I20,I24)","v":0}]
[{"$f":"'1 - ANAGRAFICA'!$B$8","v":0},null,null,null,"B = MAX (A x 0,12)","SPESE GENERALI: AMMISSIBILI SU DICHIARATO",null,null,{"$f":"IF(I25<=I26*0.12,I25,I26*0.12)","v":0}]
[{"$f":"'1 - ANAGRAFICA'!$B$8","v":0},null,null,null,"C = (A+B)","TOTALE SPESA RICHIESTA AMMISSIBILE",null,null,{"$f":"I26+I27","v":0}]
[{"$f":"'1 - ANAGRAFICA'!$B$8","v":0},null,null,null,"D = (ha x € 3.850)","SPESA MASSIMA AMMISSIBILE",null,null,{"$f":"3850*'4 - RIEPILOGHI E PUNTEGGIO'!C2/10000","v":0}]
[null,"Note: ","I costi si intendono IVA esclusa"]
[null,null,"Il valore D spesa massima ammissibile rappresenta il limite in base ai dati imputati"]
[null,null,"Le voci di costo OF 06.01, 06.02, 06.03 si riferiscono al listino prezzi delle OO.PP. Puglia alla categoria Interventi di miglioramento ai prati pascoli"]

{"sheet":"5_2 - INT. PIANTAGIONI LINEARI","index":5,"n_rows":39,"n_cols":13,"rows_kept":39,"cut":false,"hidden":false,"merged":[[34,7,34,9],[35,7,35,9],[0,1,0,10],[6,7,6,8],[14,7,14,8],[17,7,17,8],[1,10,2,10],[1,2,2,2],[1,9,2,9],[1,8,2,8],[1,7,2,7],[1,6,2,6],[20,7,20,8],[1,1,2,1],[20,1,20,6],[10,1,10,6],[31,7,31,9],[32,7,32,9],[33,7,33,9],[1,3,1,5],[10,7,10,8],[6,1,6,6],[17,1,17,6],[27,1,27,6],[27,7,27,8],[14,1,14,6]]}
[null,"INVESTIMENTO RICHIESTO"]
[null,"N. prog","Codice","Tipologia Principale (P), Secondaria (S) o\nNon Applicabile (NA)",null,null,"Descrizione della voce di costo","Costo unitario","Unità di misura","Quantità ","Costo",null,"Fornitore scelto (denominazione)"]
[null,null,null,"Siepi","Alberature","Fasce"]
[{"$f":"'1 - ANAGRAFICA'!$B$8","v":0},1,"A preventivo","S","S","S","Analisi chimico-fisiche del suolo",null,"cad.",null,{"$f":"H4*J4","v":0}]
[{"$f":"'1 - ANAGRAFICA'!$B$8","v":0},2,"OF 01.07","S","S","S","Interramento di materiale organico locale o trasportato (eseguito con fresa o altro attrezzo equivalente)",252.45,"ha",null,{"$f":"H5*J5","v":0}]
[{"$f":"'1 - ANAGRAFICA'!$B$8","v":0},3,"OF 01.08","S","S","S","Fornitura e spandimento di ammendante organico (3kg/mq) da eseguirsi tra l'aratura e la finitura superficiale",905.52,"ha",null,0]
[{"$f":"'1 - ANAGRAFICA'!$B$8","v":0},"CONCIMAZIONE ORGANICA",null,null,null,null,null,{"$f":"IF(J7>'4 - RIEPILOGHI E PUNTEGGIO'!$C3/10000,\"SUPERATA SUPERFICIE DICHIARATA IN QUADRO LOCALIZZAZIONE\",\"SUBTOTALE\")","v":"SUBTOTALE"},null,{"$f":"SUM(J5:J6)","v":0},{"$f":"SUM(K5:K6)","v":0}]
[{"$f":"'1 - ANAGRAFICA'!$B$8","v":0},4,"OF 01.09","P","P","P","Lavorazione andante del terreno in prima classe di pendenza (0-20%), eseguita con mezzo meccanico di adeguata potenza attrezzato con aratro da scasso di tipo forestale o con ripper a tre ancore (a seconda della natura del terreno), alla profondità non inferiore a 60 cm, compreso eventuale amminutamento del terreno ed ogni altro onere. Su terreno agricolo o ex agricolo",807.84,"ha",null,{"$f":"H8*J8","v":0}]
[{"$f":"'1 - ANAGRAFICA'!$B$8","v":0},5,"OF 01.10","P","P","P","Lavorazione come sopra su terreno tenace ed in presenza di matrice rocciosa suscettibile di rottura",1262.25,"ha",null,{"$f":"H9*J9","v":0}]
[{"$f":"'1 - ANAGRAFICA'!$B$8","v":0},6,"OF 01.13","P","P","P","Lavorazione andante del terreno alla profondità non inferiore a 60 cm in prima e seconda classe di pendenza, eseguita a macchina mediante scarificatura ripetuta in croce su terreno con matrice rocciosa suscettibile di rottura. Superficie effettivamente lavorata (superficie ragguagliata)",1767.15,"ha",null,0]
[{"$f":"'1 - ANAGRAFICA'!$B$8","v":0},"PREPARAZIONE E LAVORAZIONE DEL TERRENO",null,null,null,null,null,{"$f":"IF(J11>'4 - RIEPILOGHI E PUNTEGGIO'!$C3/10000,\"SUPERATA SUPERFICIE DICHIARATA IN QUADRO LOCALIZZAZIONE\",IF(J11<'4 - RIEPILOGHI E PUNTEGGIO'!$C3/10000,\"NON RAGGIUNTA SUPERFICIE DICHIARATA IN QUADRO LOCALIZZAZIONE\",\"SUBTOTALE\"))","v":"SUBTOTALE"},null,{"$f":"SUM(J8:J10)","v":0},{"$f":"SUM(K8:K10)","v":0}]
[{"$f":"'1 - ANAGRAFICA'!$B$8","v":0},7,"A preventivo","S","S","S","Squadratura, tracciamento filari",null,null,null,0]
[{"$f":"'1 - ANAGRAFICA'!$B$8","v":0},8,"OF 01.20","NA","P","P","Apertura manuale di buche in terreno precedentemente lavorato, cm 40x40x40",1.19,"cad.",{"$f":"'4 - RIEPILOGHI E PUNTEGGIO'!F4+'4 - RIEPILOGHI E PUNTEGGIO'!F5","v":0},0]
[{"$f":"'1 - ANAGRAFICA'!$B$8","v":0},9,"OF 01.31","P","NA","NA","Formazione di siepe mediante la posa in opera di arbusti di specie varie di altezza variabile (cm 20-50) consistente nell'apertura di trincea di cm 40x40 in terreno precedentemente lavorato e posa in opera delle piante alla distanza di cm 25, compreso ogni onere (escluso la fornitura delle piante)",5.26,"ml",{"$f":"'4 - RIEPILOGHI E PUNTEGGIO'!F3/4","v":0},{"$f":"H14*J14","v":0}]
[{"$f":"'1 - ANAGRAFICA'!$B$8","v":0},"APERTURA BUCHE",null,null,null,null,null,"SUBTOTALE",null,{"$f":"SUM(J13:J14)","v":0},{"$f":"SUM(K13:K14)","v":0}]
[{"$f":"'1 - ANAGRAFICA'!$B$8","v":0},10,"OF 01.25","NA","P","P","Collocamento a dimora di piantina resinosa e latifoglia a radice nuda, comprese la ricolmatura con compressione del terreno adiacente le radici delle piante, la razionale posa in tagliola, l'imbozzimatura, la spuntatura delle radici ed ogni altra operazione necessaria a dare l'opera eseguita a regola d'arte (escluso la fornitura della pianta)",1.29,"cad.",null,0]
[{"$f":"'1 - ANAGRAFICA'!$B$8","v":0},11,"OF 01.26","NA","P","P","Collocamento a dimora di latifoglia in contenitore, compresa la ricolmatura con compressione del terreno (escluso la fornitura della pianta)",1.62,"cad.",null,0]
[{"$f":"'1 - ANAGRAFICA'!$B$8","v":0},"MESSA A DIMORA",null,null,null,null,null,{"$f":"IF(J18>('4 - RIEPILOGHI E PUNTEGGIO'!$F$4+'4 - RIEPILOGHI E PUNTEGGIO'!F5),\"QUANTITA' PIANTE MAGGIORE DELLE PIANTE PREVISTE\",IF(J18<('4 - RIEPILOGHI E PUNTEGGIO'!F$4+'4 - RIEPILOGHI E PUNTEGGIO'!F5),\"QUANTITA' PIANTE MINORE DELLE PIANTE PREVISTE\",\"SUBTOTALE\"))","v":"SUBTOTALE"},null,{"$f":"SUM(J16:J17)","v":0},{"$f":"SUM(K16:K17)","v":0}]
[{"$f":"'1 - ANAGRAFICA'!$B$8","v":0},12,"OF 01.27","P","P","P","Fornitura di piantina di latifoglia o conifera a radice nuda",0.88,"cad.",null,0]
[{"$f":"'1 - ANAGRAFICA'!$B$8","v":0},13,"OF 01.28","P","P","P","Fornitura di piantina di latifoglia o conifera in fitocella",1.98,"cad.",null,0]
[{"$f":"'1 - ANAGRAFICA'!$B$8","v":0},"FORNITURA PIANTE",null,null,null,null,null,{"$f":"IF(J21>'4 - RIEPILOGHI E PUNTEGGIO'!$D$3,\"QUANTITA' PIANTE MAGGIORE DELLE PIANTE PREVISTE\",IF(J21<'4 - RIEPILOGHI E PUNTEGGIO'!D$3,\"QUANTITA' PIANTE MINORE DELLE PIANTE PREVISTE\",\"SUBTOTALE\"))","v":"SUBTOTALE"},null,{"$f":"SUM(J19:J20)","v":0},{"$f":"SUM(K19:K20)","v":0}]
[{"$f":"'1 - ANAGRAFICA'!$B$8","v":0},14,"A preventivo","S","S","S","Maggiorazione per piante micorrizate",null,null,null,0]
[{"$f":"'1 - ANAGRAFICA'!$B$8","v":0},15,"OF 01.30","NA","P","NA","Fornitura in opera di paletti tutori in legno (h non minore di 1,80 m e D in punta non minore di 3 cm), comprese operazioni di carico/scarico e trasporto ed ogni altro onere (solo per impianti da arboricoltura da legno e latifoglie di pregio)",4.5199999999999996,"cad.",null,{"$f":"H23*J23","v":0}]
[{"$f":"'1 - ANAGRAFICA'!$B$8","v":0},16,"OF 01.32","NA","P","NA","Fornitura e messa in opera di un cilindro protettivo in rete per piantine (tree shelter) per la protezione della piantina dagli ungulati",2.16,"cad.",null,{"$f":"H24*J24","v":0}]
[{"$f":"'1 - ANAGRAFICA'!$B$8","v":0},17,"OF 06.01","S","S","S","Realizzazione di pozza o abbeveratoio con geotessuto impermeabilizzato con betonite compreso scavo, impermeabilizzazione e ricoprimento tessuto, stesura materiale terroso e rimodellazione aree (analisi per un invaso di 100 mc)",31.63,"mc",null,{"$f":"H25*J25","v":0}]
[{"$f":"'1 - ANAGRAFICA'!$B$8","v":0},18,"OF 06.02","S","S","S","Realizzazione di pozza o abbeveratoio con telo in PVC tipo HDPE compreso scavo, impermeabilizzazione e ricopriomento tessuto, stesura materiale terroso e rimodellazione aree  (analisi per un invaso di 100 mc)",33.31,"mc",null,{"$f":"H26*J26","v":0}]
[{"$f":"'1 - ANAGRAFICA'!$B$8","v":0},19,"OF 06.03","S","S","S","Realizzazione di pozza o abbeveratoio con soletta in cemento armato impermeabilizzato compreso scavo, impermeabilizzazione e ricopriomento tessuto, stesura materiale terroso e rimodellazione aree  (analisi per un invaso di 100 mc)",86.35,"mc",null,{"$f":"H27*J27","v":0}]
[{"$f":"'1 - ANAGRAFICA'!$B$8","v":0},"REALIZZAZIONE E/O MANTENIMENTO DI ABBEVERATOI PER ANIMALI",null,null,null,null,null,"SUBTOTALE",null,{"$f":"SUM(J25:J27)","v":0},{"$f":"SUM(K25:K27)","v":0}]
[{"$f":"'1 - ANAGRAFICA'!$B$8","v":0},20,"OF 01.19","NA","S","S","Pacciamatura localizzata con dischi o quadretti in materiale ligno-cellulosico biodegradabile, di dimensioni  minime cm 40x40, compreso acquisto, fornitura posa ed ancoraggio con picchetti. (analisi per 100 ml)",2.33,"cad.",null,{"$f":"J29*H29","v":0}]
[{"$f":"'1 - ANAGRAFICA'!$B$8","v":0},21,"OF 03.07","S","S","S","Irrigazione di soccorso, compreso l'approvigionamento idrico a qualsiasi distanza e qualunque quantità, distrubuzione dell'acqua con qualsiasi mezzo o modo per ciascun intervento e piantina (quantità 20 l). Analisi riferita a 400 piante",0.59,"cad.",null,0]
[{"$f":"'1 - ANAGRAFICA'!$B$8","v":0},22,"A preventivo","S","S","S","Trattamenti fitosanitari",null,null,null,0]
[{"$f":"'1 - ANAGRAFICA'!$B$8","v":0},23,"A preventivo","P","P","P","SPESE GENERALI"]
[{"$f":"'1 - ANAGRAFICA'!$B$8","v":0},null,null,null,null,null,"A = (∑ 1: 22)","TOTALE SPESE MATERIALI",null,null,{"$f":"SUM(K4,K7,K11,K12,K15,K18,K21,K22,K23,K24,K28,K29,K30,K31)","v":0}]
[{"$f":"'1 - ANAGRAFICA'!$B$8","v":0},null,null,null,null,null,"B = MAX (A x 0,12)","SPESE GENERALI: AMMISSIBILI SU DICHIARATO",null,null,{"$f":"IF(K32<=K33*0.12,K32,K33*0.12)","v":0}]
[{"$f":"'1 - ANAGRAFICA'!$B$8","v":0},null,null,null,null,null,"C = (A+B)","TOTALE SPESA RICHIESTA AMMISSIBILE",null,null,{"$f":"K33+K34","v":0}]
[{"$f":"'1 - ANAGRAFICA'!$B$8","v":0},null,null,null,null,null,"D = (ha x € 3.850)","SPESA MASSIMA AMMISSIBILE",null,null,{"$f":"3850*'4 - RIEPILOGHI E PUNTEGGIO'!C3/10000","v":0}]
[null,"Note: ","I costi si intendono IVA esclusa"]
[null,null,"Il valore D spesa massima ammissibile rappresenta il limite in base ai dati imputati"]
[null,null,"Le voci di costo OF 06.01, 06.02, 06.03 si riferiscono al listino prezzi delle OO.PP. Puglia alla categoria Interventi di miglioramento ai prati pascoli"]

{"sheet":"5_3 - INT. IMPIANTI SESTO REG.","index":6,"n_rows":32,"n_cols":11,"rows_kept":32,"cut":false,"hidden":false,"merged":[[0,1,0,8],[5,5,5,6],[5,1,5,4],[27,5,27,7],[28,5,28,7],[13,5,13,6],[10,5,10,6],[13,1,13,4],[10,1,10,4],[18,1,18,4],[18,5,18,6],[24,5,24,7],[25,5,25,7],[26,5,26,7]]}
[null,"INVESTIMENTO RICHIESTO"]
[null,"N. prog","Codice","TIPOLOGIA PRINCIPALE (P) O SECONDARIA (S)","Descrizione della voce di costo","Costo unitario","Unità di misura","Quantità ","Costo",null,"Fornitore scelto (denominazione)"]
[{"$f":"'1 - ANAGRAFICA'!$B$8","v":0},1,"A preventivo","S","Analisi chimico-fisiche del suolo",null,"cad.",null,{"$f":"F3*H3","v":0}]
[{"$f":"'1 - ANAGRAFICA'!$B$8","v":0},2,"OF 01.07","S","Interramento di materiale organico locale o trasportato (eseguito con fresa o altro attrezzo equivalente)",252.45,"ha",null,{"$f":"F4*H4","v":0}]
[{"$f":"'1 - ANAGRAFICA'!$B$8","v":0},3,"OF 01.08","S","Fornitura e spandimento di ammendante organico (3kg/mq) da eseguirsi tra l'aratura e la finitura superficiale",905.52,"ha",null,0]
[{"$f":"'1 - ANAGRAFICA'!$B$8","v":0},"CONCIMAZIONE ORGANICA",null,null,null,{"$f":"IF(H6>'4 - RIEPILOGHI E PUNTEGGIO'!$C6/10000,\"SUPERATA SUPERFICIE DICHIARATA IN QUADRO LOCALIZZAZIONE\",\"SUBTOTALE\")","v":"SUBTOTALE"},null,{"$f":"SUM(H4:H5)","v":0},{"$f":"SUM(I4:I5)","v":0}]
[{"$f":"'1 - ANAGRAFICA'!$B$8","v":0},4,"A preventivo","S","Squadratura, tracciamento filari"]
[{"$f":"'1 - ANAGRAFICA'!$B$8","v":0},5,"OF 01.20","P","Apertura manuale di buche in terreno precedentemente lavorato, cm 40x40x40",1.19,"cad.",{"$f":"'4 - RIEPILOGHI E PUNTEGGIO'!D6","v":0},0]
[{"$f":"'1 - ANAGRAFICA'!$B$8","v":0},6,"OF 01.25","P","Collocamento a dimora di piantina resinosa e latifoglia a radice nuda, comprese la ricolmatura con compressione del terreno adiacente le radici delle piante, la razionale posa in tagliola, l'imbozzimatura, la spuntatura delle radici ed ogni altra operazione necessaria a dare l'opera eseguita a regola d'arte (escluso la fornitura della pianta)",1.29,"cad.",null,0]
[{"$f":"'1 - ANAGRAFICA'!$B$8","v":0},7,"OF 01.26","P","Collocamento a dimora di latifoglia in contenitore, compresa la ricolmatura con compressione del terreno (escluso la fornitura della pianta)",1.62,"cad.",null,0]
[{"$f":"'1 - ANAGRAFICA'!$B$8","v":0},"MESSA A DIMORA",null,null,null,{"$f":"IF(H11>'4 - RIEPILOGHI E PUNTEGGIO'!$D$6,\"QUANTITA' PIANTE MAGGIORE PIANTE PREVISTE\",IF(H11<'4 - RIEPILOGHI E PUNTEGGIO'!D$6,\"QUANTITA' PIANTE MINORE DELLE PIANTE PREVISTE\",\"SUBTOTALE\"))","v":"SUBTOTALE"},null,{"$f":"SUM(H9:H10)","v":0},{"$f":"SUM(I9:I10)","v":0}]
[{"$f":"'1 - ANAGRAFICA'!$B$8","v":0},8,"OF 01.27","P","Fornitura di piantina di latifoglia o conifera a radice nuda",0.88,"cad.",null,0]
[{"$f":"'1 - ANAGRAFICA'!$B$8","v":0},9,"OF 01.28","P","Fornitura di piantina di latifoglia o conifera in fitocella",1.98,"cad.",null,0]
[{"$f":"'1 - ANAGRAFICA'!$B$8","v":0},"FORNITURA PIANTE",null,null,null,{"$f":"IF(H14>'4 - RIEPILOGHI E PUNTEGGIO'!$D$6,\"QUANTITA' PIANTE MAGGIORE DELLE PIANTE PREVISTE\",IF(H14<'4 - RIEPILOGHI E PUNTEGGIO'!D$6,\"QUANTITA' PIANTE MINORE DELLE PIANTE PREVISTE\",\"SUBTOTALE\"))","v":"SUBTOTALE"},null,{"$f":"SUM(H12:H13)","v":0},{"$f":"SUM(I12:I13)","v":0}]
[{"$f":"'1 - ANAGRAFICA'!$B$8","v":0},10,"A preventivo","S","Maggiorazione per piante micorrizate"]
[{"$f":"'1 - ANAGRAFICA'!$B$8","v":0},11,"OF 06.01","S","Realizzazione di pozza o abbeveratoio con geotessuto impermeabilizzato con betonite compreso scavo, impermeabilizzazione e ricoprimento tessuto, stesura materiale terroso e rimodellazione aree (analisi per un invaso di 100 mc)",31.63,"mc",null,{"$f":"F16*H16","v":0}]
[{"$f":"'1 - ANAGRAFICA'!$B$8","v":0},12,"OF 06.02","S","Realizzazione di pozza o abbeveratoio con telo in PVC tipo HDPE compreso scavo, impermeabilizzazione e ricopriomento tessuto, stesura materiale terroso e rimodellazione aree  (analisi per un invaso di 100 mc)",33.31,"mc",null,{"$f":"F17*H17","v":0}]
[{"$f":"'1 - ANAGRAFICA'!$B$8","v":0},13,"OF 06.03","S","Realizzazione di pozza o abbeveratoio con soletta in cemento armato impermeabilizzato compreso scavo, impermeabilizzazione e ricopriomento tessuto, stesura materiale terroso e rimodellazione aree  (analisi per un invaso di 100 mc)",86.35,"mc",null,{"$f":"F18*H18","v":0}]
[{"$f":"'1 - ANAGRAFICA'!$B$8","v":0},"REALIZZAZIONE E/O MANTENIMENTO DI ABBEVERATOI PER ANIMALI",null,null,null,"SUBTOTALE",null,{"$f":"SUM(H16:H18)","v":0},{"$f":"SUM(I16:I18)","v":0}]
[null,14,"OF 01.30","P","Fornitura in opera di paletti tutori in legno (h non minore di 1,80 m e D in punta non minore di 3 cm), comprese operazioni di carico/scarico e trasporto ed ogni altro onere (solo per impianti da arboricoltura da legno e latifoglie di pregio)",4.5199999999999996,"cad.",null,{"$f":"F20*H20","v":0}]
[{"$f":"'1 - ANAGRAFICA'!$B$8","v":0},15,"OF 01.32","P","Fornitura e messa in opera di un cilindro protettivo in rete per piantine (tree shelter) per la protezione della piantina dagli ungulati",2.16,"cad.",null,{"$f":"F21*H21","v":0}]
[{"$f":"'1 - ANAGRAFICA'!$B$8","v":0},16,"OF 01.19","S","Pacciamatura localizzata con dischi o quadretti in materiale ligno-cellulosico biodegradabile, di dimensioni  minime cm 40x40, compreso acquisto, fornitura posa ed ancoraggio con picchetti. (analisi per 100 ml)",2.33,"cad.",null,{"$f":"H22*F22","v":0}]
[{"$f":"'1 - ANAGRAFICA'!$B$8","v":0},17,"OF 03.07","S","Irrigazione di soccorso, compreso l'approvigionamento idrico a qualsiasi distanza e qualunque quantità, distrubuzione dell'acqua con qualsiasi mezzo o modo per ciascun intervento e piantina (quantità 20 l). Analisi riferita a 400 piante",0.59,"cad.",null,0]
[{"$f":"'1 - ANAGRAFICA'!$B$8","v":0},18,"A preventivo","S","Trattamenti fitosanitari"]
[{"$f":"'1 - ANAGRAFICA'!$B$8","v":0},19,"A preventivo","P","SPESE GENERALI"]
[{"$f":"'1 - ANAGRAFICA'!$B$8","v":0},null,null,null,"A = (∑ 1: 18)","TOTALE SPESE MATERIALI",null,null,{"$f":"SUM(I3,I6,I7,I11,I14,I15,I19,I21,I22,I23,I24,I8,I20)","v":0}]
[{"$f":"'1 - ANAGRAFICA'!$B$8","v":0},null,null,null,"B = MAX (A x 0,12)","SPESE GENERALI: AMMISSIBILI SU DICHIARATO",null,null,{"$f":"IF(I25<=I26*0.12,I25,I26*0.12)","v":0}]
[{"$f":"'1 - ANAGRAFICA'!$B$8","v":0},null,null,null,"C = (A+B)","TOTALE SPESA RICHIESTA AMMISSIBILE",null,null,{"$f":"I26+I27","v":0}]
[{"$f":"'1 - ANAGRAFICA'!$B$8","v":0},null,null,null,"D = (ha x € 3.850)","SPESA MASSIMA AMMISSIBILE",null,null,{"$f":"3850*'4 - RIEPILOGHI E PUNTEGGIO'!C6/10000","v":0}]
[null,"Note: ","I costi si intendono IVA esclusa"]
[null,null,"Il valore D spesa massima ammissibile rappresenta il limite in base ai dati imputati"]
[null,null,"Le voci di costo OF 06.01, 06.02, 06.03 si riferiscono al listino prezzi delle OO.PP. Puglia alla categoria Interventi di miglioramento ai prati pascoli"]

{"sheet":"6 - RIEPILOGO DI SPESA","index":7,"n_rows":9,"n_cols":9,"rows_kept":9,"cut":false,"hidden":false,"merged":[[9,7,10,7],[0,1,1,1],[9,5,10,5],[8,1,8,3],[9,1,10,3]]}
[null,"Tipologia di operazione attivata","SUPERFICIE INTERVENTO \n(ha)","TOTALE SPESA RICHIESTA AMMISSIBILE","SPESE MATERIALI MASSIME AMMISSIBILI","SPESE GENERALI MASSIME AMMISSIBILI","SPESA MASSIMA AMMISSIBILE","MASSIMALI DI SOSTEGNO"]
[null,null,"(a)","(b)","(c)=(a)* € 3.437,5","(d)= valore < tra (c)*0,12 e spese materiali dichiarate*0,12\ncfr. foglio 5 let. A","(e)= (c)+(d)","(f)= valore < tra (b)*0,8 ed (e)*0,8"]
[{"$f":"'1 - ANAGRAFICA'!$B$8","v":0},"Impianti in ordine sparso",{"$f":"'4 - RIEPILOGHI E PUNTEGGIO'!C2/10000","v":0},{"$f":"IF(C3>0,'5_1 INT. IMPIANTI ORDINE SPARSO'!I28,0)","v":0},{"$f":"C3*3437.5","v":0},{"$f":"IF((E3*0.12)<'5_1 INT. IMPIANTI ORDINE SPARSO'!I27,(E3*0.12),'5_1 INT. IMPIANTI ORDINE SPARSO'!I27)","v":0},{"$f":"E3+F3","v":0},{"$f":"IF((G3)>D3,(D3*0.8),IF((G3)>100000,100000,(G3)*0.8))","v":0}]
[{"$f":"'1 - ANAGRAFICA'!$B$8","v":0},"Piantagioni Lineari (siepi, alberature, fasce boschive e frangivento)",{"$f":"'4 - RIEPILOGHI E PUNTEGGIO'!C3/10000","v":0},{"$f":"IF(C4>0,'5_2 - INT. PIANTAGIONI LINEARI'!K35,0)","v":0},{"$f":"C4*3437.5","v":0},{"$f":"IF((E4*0.12)<'5_2 - INT. PIANTAGIONI LINEARI'!K34,(E4*0.12),'5_2 - INT. PIANTAGIONI LINEARI'!K34)","v":0},{"$f":"E4+F4","v":0},{"$f":"IF((G4)>D4,(D4*0.8),IF((G4)>100000,100000,(G4)*0.8))","v":0}]
[{"$f":"'1 - ANAGRAFICA'!$B$8","v":0},"Impianti a sesto regolare",{"$f":"'4 - RIEPILOGHI E PUNTEGGIO'!C6/10000","v":0},{"$f":"IF(C5>0,'5_3 - INT. IMPIANTI SESTO REG.'!I28,0)","v":0},{"$f":"C5*3437.5","v":0},{"$f":"IF((E5*0.12)<'5_3 - INT. IMPIANTI SESTO REG.'!I27,(E5*0.12),'5_3 - INT. IMPIANTI SESTO REG.'!I27)","v":0},0,0]
[{"$f":"'1 - ANAGRAFICA'!$B$8","v":0},"TOTALE",{"$f":"SUM(C3:C5)","v":0},{"$f":"SUM(D3:D5)","v":0},{"$f":"SUM(E3:E5)","v":0},{"$f":"SUM(F3:F5)","v":0},0,{"$f":"IF(SUM(H3:H5)<100000,SUM(H3:H5),100000)","v":0},{"$f":"IF(SUM(H3:H5)>100000,\"ATTENZIONE: SUPERATO LIMITE MASSIMO DEL SOSTEGNO DI 100.000 €. L'IMPORTO ECCEDENTE E' A CARICO DEL BENEFICIARIO\",\"\")","v":""}]
[null,"Nota: Il massimale di sostegno (f) è determinato nella misura dell'80% della spesa massima ammissibile (e)",null,null,null,null,null,{"$f":"IF(AND(C3>0,D3=0),\"QUADRO 5_1 NON COMPILATO\",IF(AND(C4>0,D4=0),\"QUADRO 5_2 NON COMPILATO\",IF(AND(C5>0,D5=0),\"QUADRO 5_3 NON COMPILATO\",\"-\")))","v":"-"}]
[]
[null,"LUOGO E DATA",null,null,null,"FIRMA DEL RICHIEDENTE",null,"FIRMA E TIMBRO DEL TECNICO"]

{"sheet":"7 - DICHIARAZIONI","index":8,"n_rows":46,"n_cols":3,"rows_kept":46,"cut":false,"hidden":false,"merged":[[6,2,7,2]]}
[]
[null,"Il sottoscritto:"]
[null,"(Denominazione Richiedente)"]
[null,"in qualità di titolare/legale rappresentante della DdS n.________________________a valere sul PSR Puglia 2014 - 2020 Sottomisura 8.2"]
[null,"E"]
[null,"Il tecnico incaricato:"]
[null,"(Cognome e Nome)","SI/Non Pertinente"]
[null,"DICHIARANO"]
[null,"Ai sensi degli artt. 46 e 47, D.P.R. 28 Dicembre 2000 n.445, consapevole delle sanzioni penali nel caso di dichiarazioni non veritiere, di formazione o uso di atti falsi, richiamate dall’art. 76 del D.P.R. medesimo."]
[]
["1)","Che le superfici oggetto di intervento possiedono i requisiti di ammissibilità previsti al paragrafo 9.1 dell’Allegato A alla DAG n. 101/2017 relativa all'Avviso Pubblico per la presentazione delle DdS relative alla Sottomisura 8.2;"]
["2)","Che il Progetto degli interventi proposto ai sensi della Sottomisura 8.2 possiede i requisiti di ammissibilità previsti dal paragrafo 9.2 dell'Avviso Pubblico per la presentazione delle DdS ;"]
["3)","Che le superfici oggetto di DdS sono in possesso dei requisiti per l'attribuzione dei punteggi previsti per le Aree Periurbane, in caso di richiesta di tale punteggio;"]
["4)","Che le superfici oggetto di DdS sono in possesso dei requisiti per l'attribuzione dei punteggi previsti per le superfici contigue ad interventi selvicolturali o di rimboschimento precedentemente realizzati, in caso di richiesta di tale punteggio;"]
["5)","Di essere in possesso di un Piano di Gestione Forestale o Strumento Equivalente per le fattispecie di cui di cui alla lettera d) paragrafo 9.1 dell'Avviso Pubblico per la presentazione delle DdS;"]
["6)","La veridicità delle informazioni e dei dati riportati nel Formulario degli Interventi e la loro corrispondenza alla effettiva situazione aziendale rilevata con sopralluogo preliminare alla redazione del Formulario, nonché mediante consultazione degli atti relativi;"]
["7)","La piena corrispondenza fra quanto riportato nel foglio di lavoro 2 quadro di localizzazione degli interventi con quanto presente nel Fascicolo aziendale del soggetto richiedente;"]
["8)","Di essere a conoscenza di quanto previsto dall'Avviso Pubblico per la presentazione delle DdS della sottomisura 8.2 del PSR Puglia 2014-2020."]
[]
[null,"Inoltre, nei casi di Enti Pubblici e Privati o Consorzi:"]
["9)","Che il Soggetto richiedente non è in stato di dissesto finanziario o di amministrazione controllata o in liquidazione, né sono in corso procedimenti per la dichiarazione di una di tali condizioni;"]
["10)","Che sono stati preventivamente emessi gli atti amministrativi previsti dal paragrafo 13 dell'Avviso Pubblico per la presentazione delle DdS sottomisura 8.2 del PSR Puglia 2014-2020."]
[null,"DICHIARANO, INOLTRE DI IMPEGNARSI A:"]
["a)","Acquisire, per le particelle non in proprietà, qualora non possedute, contratto di conduzione delle stesse, conforme al bando, per l'intero periodo di durata dell'impegno (10 anni dalla data di pubblicazione del bando), nonché consenso del proprietario/comproprietario ad eseguire le opere e riscuotere il relativo contributo pubblico ed assumere i conseguenti impegni, qualora non già riportato nello stesso contratto;"]
["b)","Mantenere i Requisiti di Ammissibilità di cui al paragrafo 9 dell'Avviso Pubblico per tutta la durata della concessione;"]
["c)","Rispettare i termini e le modalità di esecuzione degli interventi stabiliti nell'Avviso Pubblico, nonché nel provvedimento di concessione e da eventuali atti correlati, e nel rispetto della normativa urbanistica, ambientale, paesaggistica vigente e dei vincoli di altra natura eventualmente esistenti;"]
["d)","Osservare le modalità di rendicontazione delle spese relative agli investimenti ammissibili dalla Sottomisura 8.2 secondo quanto previsto dal provvedimento di concessione e da eventuali atti correlati;"]
["e)","Rispettare i “requisiti minimi ambientali” di cui all'articolo 6 del Regolamento delegato sullo sviluppo rurale - C(2014) 1460, la selezione delle zone e dei metodi da utilizzare eviterà la forestazione inadeguata degli habitat vulnerabili quali sono le zone umide nonché ripercussioni negative su zone dall'elevato valore ecologico."]
["f)","Attivare, prima dell'avvio degli interventi ammessi ai benefici o della presentazione della prima DdP, un conto corrente dedicato intestato al soggetto beneficiario. Su tale conto dovranno transitare tutte le risorse finanziarie necessarie per la completa realizzazione dell'investimento, sia di natura pubblica (contributo in conto capitale/conto interesse) che privata (mezzi propri o derivanti da linee di finanziamento bancario). Il conto corrente dedicato dovrà restare attivo per l'intera durata dell'investimento e di erogazione dei relativi aiuti. Sullo stesso conto non potranno risultare operazioni non riferibili agli interventi ammessi all'aiuto pubblico. Le entrate del conto saranno costituite esclusivamente dal contributo pubblico erogato dall'OP AGEA, dai mezzi propri immessi dal beneficiario e dall'eventuale finanziamento bancario; le uscite saranno costituite solo dal pagamento delle spese sostenute per l'esecuzione degli interventi ammessi ai benefici dalla Sottomisura 8.2;"]
["g)","Non richiedere, per gli interventi ammessi a finanziamento, altri contributi pubblici;"]
["h)","Nel caso in cui, successivamente alla presentazione della DdS, si ottenga la concessione/assegnazione di un altro contributo pubblico per lo stesso intervento previsto dalla DdS sottomisura 8.2, comunicare di aver rinunciato all’altro contributo concesso oppure di rinunciare totalmente o in parte alle richieste di contributo contenute nella DdS della sottomisura 8.2;"]
["i)","Impiegare materiale di propagazione di specie autoctone, compatibili con le condizioni pedoclimatiche dell'area interessata, secondo le prescrizioni previste dalla normativa europea in materia di commercializzazione di semi o piante forestali e ai sensi e per gli effetti del D. lvo 386/2003. Per la normativa regionale si fa riferimento alle Determine Dirigenziali del Settore Foreste della Regione Puglia del 07.07.2006 n. 889, del 21.12.2009 n.757, del 16.12.2009 n. 2461, e del 26.03.2010 n. 65;"]
["j)","Proseguire gli impegni previsti dalla sottomisura 8.2, per la presentazione delle DdS e DdP per la manutenzione, secondo quanto stabilito nel provvedimento di concessione e da eventuali atti correlati."]
["k)","Presentare documentazione di cantierabilità, che attesti la conformità degli interventi proposti in progetto alle norme in materia paesaggistica, ambientale e di difesa del suolo ed ai vincoli presenti nell'ambito di intervento entro 180 gg dal provvedimento di ammissibilità agli aiuti di cui al paragrafo 16 dell'Avviso Pubblico per la presentazione delle DdS;"]
["l)","Attivare le procedure di gara, ove pertinente, entro 30 gg dall'ottenimento di tutti i titoli abilitativi, e concludere la stessa, fino all'assegnazione definitiva dei lavori all'impresa aggiudicataria, entro i successivi 150 gg;"]
["m)","Presentare il progetto definitivo con la documentazione richiesta in allegato conformemente a quanto previsto dal paragrafo 16 dell'Avviso Pubblico per la presentazione delle DdS;"]
["n)","Rispettare le Disposizioni Generali di cui al paragrafo 23 dell'Avviso Pubblico per la presentazione delle DdS;"]
["o)","Rispettare ulteriori disposizioni connesse all'attivazione del bando per la sottomisura 8.2, alla concessione degli aiuti e dagli atti conseguenti."]
["p)","Acconsentire all'utilizzo dei dati riportati nel Formulario ai fini dei procedimenti previsti dall'Avviso Pubblico."]
[]
[null,"Fatto a_______________________, il_________"]
[]
[null,"Firma titolare/Legale Rappresentante"]
[]
[]
[null,"Timbro e Firma del tecnico"]

{"sheet":"Foglio1","index":9,"n_rows":0,"n_cols":0,"rows_kept":0,"cut":false,"hidden":true,"merged":[]}

{"sheet":"VERIFICA AZ. 1","index":10,"n_rows":1100,"n_cols":11,"rows_kept":1100,"cut":false,"hidden":true,"merged":[]}
["AZIONE","UNITA' 1","SPECIE ","CONTROLLO_1","UNITA' 2","SPECIE","CONTROLLO_2"]
[{"$f":"IF('3 - SPECIE DA IMPIANTARE'!$G3=\"AZIONE_1\",'3 - SPECIE DA IMPIANTARE'!$G3,\"\")","v":""},{"$f":"IF('3 - SPECIE DA IMPIANTARE'!#REF!=1,'3 - SPECIE DA IMPIANTARE'!#REF!,\"\")","v":{"$error":"#REF!"}},{"$f":"IF(AND($A2=\"AZIONE_1\",$B2=1),'3 - SPECIE DA IMPIANTARE'!$H3,\"\")","v":{"$error":"#REF!"}},{"$f":"SUM(IF(FREQUENCY(IF(LEN(C2:C1000)>1,MATCH(C2:C1000,C2:C1000,0),\"\"), IF(LEN(C2:C1000)>1,MATCH(C2:C1000,C2:C1000,0),\"\"))>0,1))","v":{"$error":"#REF!"}},{"$f":"IF('3 - SPECIE DA IMPIANTARE'!#REF!=2,'3 - SPECIE DA IMPIANTARE'!#REF!,\"\")","v":{"$error":"#REF!"}},{"$f":"IF(AND($A2=\"AZIONE_1\",$E2=2),'3 - SPECIE DA IMPIANTARE'!$H3,\"\")","v":{"$error":"#REF!"}},{"$f":"SUM(IF(FREQUENCY(IF(LEN(F2:F1000)>1,MATCH(F2:F1000,F2:F1000,0),\"\"), IF(LEN(F2:F1000)>1,MATCH(F2:F1000,F2:F1000,0),\"\"))>0,1))","v":{"$error":"#REF!"}}]
[{"$f":"IF('3 - SPECIE DA IMPIANTARE'!$G4=\"AZIONE_1\",'3 - SPECIE DA IMPIANTARE'!$G4,\"\")","v":""},{"$f":"IF('3 - SPECIE DA IMPIANTARE'!#REF!=1,'3 - SPECIE DA IMPIANTARE'!#REF!,\"\")","v":{"$error":"#REF!"}},{"$f":"IF(AND($A3=\"AZIONE_1\",$B3=1),'3 - SPECIE DA IMPIANTARE'!$H4,\"\")","v":{"$error":"#REF!"}},null,{"$f":"IF('3 - SPECIE DA IMPIANTARE'!#REF!=2,'3 - SPECIE DA IMPIANTARE'!#REF!,\"\")","v":{"$error":"#REF!"}},{"$f":"IF(AND($A3=\"AZIONE_1\",$E3=2),'3 - SPECIE DA IMPIANTARE'!$H4,\"\")","v":{"$error":"#REF!"}},null,null,null,{"$f":"IF('3 - SPECIE DA IMPIANTARE'!#REF!=2,'3 - SPECIE DA IMPIANTARE'!#REF!,\"\")","v":{"$error":"#REF!"}},{"$f":"IF(AND($A3=\"AZIONE_1\",$J3=2),'3 - SPECIE DA IMPIANTARE'!$H4,\"\")","v":{"$error":"#REF!"}}]
[{"$f":"IF('3 - SPECIE DA IMPIANTARE'!$G5=\"AZIONE_1\",'3 - SPECIE DA IMPIANTARE'!$G5,\"\")","v":""},{"$f":"IF('3 - SPECIE DA IMPIANTARE'!#REF!=1,'3 - SPECIE DA IMPIANTARE'!#REF!,\"\")","v":{"$error":"#REF!"}},{"$f":"IF(AND($A4=\"AZIONE_1\",$B4=1),'3 - SPECIE DA IMPIANTARE'!$H5,\"\")","v":{"$error":"#REF!"}},{"$f":"IF(AND($A4=\"AZIONE_1\",$B4=1),'3 - SPECIE DA IMPIANTARE'!$K5,\"\")","v":{"$error":"#REF!"}},{"$f":"IF('3 - SPECIE DA IMPIANTARE'!#REF!=2,'3 - SPECIE DA IMPIANTARE'!#REF!,\"\")","v":{"$error":"#REF!"}},{"$f":"IF(AND($A4=\"AZIONE_1\",$E4=2),'3 - SPECIE DA IMPIANTARE'!$H5,\"\")","v":{"$error":"#REF!"}},{"$f":"IF(AND($A4=\"AZIONE_1\",$B4=1),'3 - SPECIE DA IMPIANTARE'!$T5,\"\")","v":{"$error":"#REF!"}},{"$f":"IF(AND($A4=\"AZIONE_1\",$B4=1),'3 - SPECIE DA IMPIANTARE'!$W5,\"\")","v":{"$error":"#REF!"}},null,{"$f":"IF('3 - SPECIE DA IMPIANTARE'!#REF!=2,'3 - SPECIE DA IMPIANTARE'!#REF!,\"\")","v":{"$error":"#REF!"}},{"$f":"IF(AND($A4=\"AZIONE_1\",$J4=2),'3 - SPECIE DA IMPIANTARE'!$H5,\"\")","v":{"$error":"#REF!"}}]
[{"$f":"IF('3 - SPECIE DA IMPIANTARE'!$G6=\"AZIONE_1\",'3 - SPECIE DA IMPIANTARE'!$G6,\"\")","v":""},{"$f":"IF('3 - SPECIE DA IMPIANTARE'!#REF!=1,'3 - SPECIE DA IMPIANTARE'!#REF!,\"\")","v":{"$error":"#REF!"}},{"$f":"IF(AND($A5=\"AZIONE_1\",$B5=1),'3 - SPECIE DA IMPIANTARE'!$H6,\"\")","v":{"$error":"#REF!"}},{"$f":"IF(AND($A5=\"AZIONE_1\",$B5=1),'3 - SPECIE DA IMPIANTARE'!$K6,\"\")","v":{"$error":"#REF!"}},{"$f":"IF('3 - SPECIE DA IMPIANTARE'!#REF!=2,'3 - SPECIE DA IMPIANTARE'!#REF!,\"\")","v":{"$error":"#REF!"}},{"$f":"IF(AND($A5=\"AZIONE_1\",$E5=2),'3 - SPECIE DA IMPIANTARE'!$H6,\"\")","v":{"$error":"#REF!"}},{"$f":"IF(AND($A5=\"AZIONE_1\",$B5=1),'3 - SPECIE DA IMPIANTARE'!$T6,\"\")","v":{"$error":"#REF!"}},{"$f":"IF(AND($A5=\"AZIONE_1\",$B5=1),'3 - SPECIE DA IMPIANTARE'!$W6,\"\")","v":{"$error":"#REF!"}},null,{"$f":"IF('3 - SPECIE DA IMPIANTARE'!#REF!=2,'3 - SPECIE DA IMPIANTARE'!#REF!,\"\")","v":{"$error":"#REF!"}},{"$f":"IF(AND($A5=\"AZIONE_1\",$J5=2),'3 - SPECIE DA IMPIANTARE'!$H6,\"\")","v":{"$error":"#REF!"}}]
[{"$f":"IF('3 - SPECIE DA IMPIANTARE'!$G7=\"AZIONE_1\",'3 - SPECIE DA IMPIANTARE'!$G7,\"\")","v":""},{"$f":"IF('3 - SPECIE DA IMPIANTARE'!#REF!=1,'3 - SPECIE DA IMPIANTARE'!#REF!,\"\")","v":{"$error":"#REF!"}},{"$f":"IF(AND($A6=\"AZIONE_1\",$B6=1),'3 - SPECIE DA IMPIANTARE'!$H7,\"\")","v":{"$error":"#REF!"}},{"$f":"IF(AND($A6=\"AZIONE_1\",$B6=1),'3 - SPECIE DA IMPIANTARE'!$K7,\"\")","v":{"$error":"#REF!"}},{"$f":"IF('3 - SPECIE DA IMPIANTARE'!#REF!=2,'3 - SPECIE DA IMPIANTARE'!#REF!,\"\")","v":{"$error":"#REF!"}},{"$f":"IF(AND($A6=\"AZIONE_1\",$E6=2),'3 - SPECIE DA IMPIANTARE'!$H7,\"\")","v":{"$error":"#REF!"}},{"$f":"IF(AND($A6=\"AZIONE_1\",$B6=1),'3 - SPECIE DA IMPIANTARE'!$T7,\"\")","v":{"$error":"#REF!"}},{"$f":"IF(AND($A6=\"AZIONE_1\",$B6=1),'3 - SPECIE DA IMPIANTARE'!$W7,\"\")","v":{"$error":"#REF!"}},null,{"$f":"IF('3 - SPECIE DA IMPIANTARE'!#REF!=2,'3 - SPECIE DA IMPIANTARE'!#REF!,\"\")","v":{"$error":"#REF!"}},{"$f":"IF(AND($A6=\"AZIONE_1\",$J6=2),'3 - SPECIE DA IMPIANTARE'!$H7,\"\")","v":{"$error":"#REF!"}}]
[{"$f":"IF('3 - SPECIE DA IMPIANTARE'!$G8=\"AZIONE_1\",'3 - SPECIE DA IMPIANTARE'!$G8,\"\")","v":""},{"$f":"IF('3 - SPECIE DA IMPIANTARE'!#REF!=1,'3 - SPECIE DA IMPIANTARE'!#REF!,\"\")","v":{"$error":"#REF!"}},{"$f":"IF(AND($A7=\"AZIONE_1\",$B7=1),'3 - SPECIE DA IMPIANTARE'!$H8,\"\")","v":{"$error":"#REF!"}},{"$f":"IF(AND($A7=\"AZIONE_1\",$B7=1),'3 - SPECIE DA IMPIANTARE'!$K8,\"\")","v":{"$error":"#REF!"}},{"$f":"IF('3 - SPECIE DA IMPIANTARE'!#REF!=2,'3 - SPECIE DA IMPIANTARE'!#REF!,\"\")","v":{"$error":"#REF!"}},{"$f":"IF(AND($A7=\"AZIONE_1\",$E7=2),'3 - SPECIE DA IMPIANTARE'!$H8,\"\")","v":{"$error":"#REF!"}},{"$f":"IF(AND($A7=\"AZIONE_1\",$B7=1),'3 - SPECIE DA IMPIANTARE'!$T8,\"\")","v":{"$error":"#REF!"}},{"$f":"IF(AND($A7=\"AZIONE_1\",$B7=1),'3 - SPECIE DA IMPIANTARE'!$W8,\"\")","v":{"$error":"#REF!"}},null,{"$f":"IF('3 - SPECIE DA IMPIANTARE'!#REF!=2,'3 - SPECIE DA IMPIANTARE'!#REF!,\"\")","v":{"$error":"#REF!"}},{"$f":"IF(AND($A7=\"AZIONE_1\",$J7=2),'3 - SPECIE DA IMPIANTARE'!$H8,\"\")","v":{"$error":"#REF!"}}]
[{"$f":"IF('3 - SPECIE DA IMPIANTARE'!$G9=\"AZIONE_1\",'3 - SPECIE DA IMPIANTARE'!$G9,\"\")","v":""},{"$f":"IF('3 - SPECIE DA IMPIANTARE'!#REF!=1,'3 - SPECIE DA IMPIANTARE'!#REF!,\"\")","v":{"$error":"#REF!"}},{"$f":"IF(AND($A8=\"AZIONE_1\",$B8=1),'3 - SPECIE DA IMPIANTARE'!$H9,\"\")","v":{"$error":"#REF!"}},{"$f":"IF(AND($A8=\"AZIONE_1\",$B8=1),'3 - SPECIE DA IMPIANTARE'!$K9,\"\")","v":{"$error":"#REF!"}},{"$f":"IF('3 - SPECIE DA IMPIANTARE'!#REF!=2,'3 - SPECIE DA IMPIANTARE'!#REF!,\"\")","v":{"$error":"#REF!"}},{"$f":"IF(AND($A8=\"AZIONE_1\",$E8=2),'3 - SPECIE DA IMPIANTARE'!$H9,\"\")","v":{"$error":"#REF!"}},{"$f":"IF(AND($A8=\"AZIONE_1\",$B8=1),'3 - SPECIE DA IMPIANTARE'!$T9,\"\")","v":{"$error":"#REF!"}},{"$f":"IF(AND($A8=\"AZIONE_1\",$B8=1),'3 - SPECIE DA IMPIANTARE'!$W9,\"\")","v":{"$error":"#REF!"}},null,{"$f":"IF('3 - SPECIE DA IMPIANTARE'!#REF!=2,'3 - SPECIE DA IMPIANTARE'!#REF!,\"\")","v":{"$error":"#REF!"}},{"$f":"IF(AND($A8=\"AZIONE_1\",$J8=2),'3 - SPECIE DA IMPIANTARE'!$H9,\"\")","v":{"$error":"#REF!"}}]
[{"$f":"IF('3 - SPECIE DA IMPIANTARE'!$G10=\"AZIONE_1\",'3 - SPECIE DA IMPIANTARE'!$G10,\"\")","v":""},{"$f":"IF('3 - SPECIE DA IMPIANTARE'!#REF!=1,'3 - SPECIE DA IMPIANTARE'!#REF!,\"\")","v":{"$error":"#REF!"}},{"$f":"IF(AND($A9=\"AZIONE_1\",$B9=1),'3 - SPECIE DA IMPIANTARE'!$H10,\"\")","v":{"$error":"#REF!"}},{"$f":"IF(AND($A9=\"AZIONE_1\",$B9=1),'3 - SPECIE DA IMPIANTARE'!$K10,\"\")","v":{"$error":"#REF!"}},{"$f":"IF('3 - SPECIE DA IMPIANTARE'!#REF!=2,'3 - SPECIE DA IMPIANTARE'!#REF!,\"\")","v":{"$error":"#REF!"}},{"$f":"IF(AND($A9=\"AZIONE_1\",$E9=2),'3 - SPECIE DA IMPIANTARE'!$H10,\"\")","v":{"$error":"#REF!"}},{"$f":"IF(AND($A9=\"AZIONE_1\",$B9=1),'3 - SPECIE DA IMPIANTARE'!$T10,\"\")","v":{"$error":"#REF!"}},{"$f":"IF(AND($A9=\"AZIONE_1\",$B9=1),'3 - SPECIE DA IMPIANTARE'!$W10,\"\")","v":{"$error":"#REF!"}},null,{"$f":"IF('3 - SPECIE DA IMPIANTARE'!#REF!=2,'3 - SPECIE DA IMPIANTARE'!#REF!,\"\")","v":{"$error":"#REF!"}},{"$f":"IF(AND($A9=\"AZIONE_1\",$J9=2),'3 - SPECIE DA IMPIANTARE'!$H10,\"\")","v":{"$error":"#REF!"}}]
[{"$f":"IF('3 - SPECIE DA IMPIANTARE'!$G11=\"AZIONE_1\",'3 - SPECIE DA IMPIANTARE'!$G11,\"\")","v":""},{"$f":"IF('3 - SPECIE DA IMPIANTARE'!#REF!=1,'3 - SPECIE DA IMPIANTARE'!#REF!,\"\")","v":{"$error":"#REF!"}},{"$f":"IF(AND($A10=\"AZIONE_1\",$B10=1),'3 - SPECIE DA IMPIANTARE'!$H11,\"\")","v":{"$error":"#REF!"}},{"$f":"IF(AND($A10=\"AZIONE_1\",$B10=1),'3 - SPECIE DA IMPIANTARE'!$K11,\"\")","v":{"$error":"#REF!"}},{"$f":"IF('3 - SPECIE DA IMPIANTARE'!#REF!=2,'3 - SPECIE DA IMPIANTARE'!#REF!,\"\")","v":{"$error":"#REF!"}},{"$f":"IF(AND($A10=\"AZIONE_1\",$E10=2),'3 - SPECIE DA IMPIANTARE'!$H11,\"\")","v":{"$error":"#REF!"}},{"$f":"IF(AND($A10=\"AZIONE_1\",$B10=1),'3 - SPECIE DA IMPIANTARE'!$T11,\"\")","v":{"$error":"#REF!"}},{"$f":"IF(AND($A10=\"AZIONE_1\",$B10=1),'3 - SPECIE DA IMPIANTARE'!$W11,\"\")","v":{"$error":"#REF!"}},null,{"$f":"IF('3 - SPECIE DA IMPIANTARE'!#REF!=2,'3 - SPECIE DA IMPIANTARE'!#REF!,\"\")","v":{"$error":"#REF!"}},{"$f":"IF(AND($A10=\"AZIONE_1\",$J10=2),'3 - SPECIE DA IMPIANTARE'!$H11,\"\")","v":{"$error":"#REF!"}}]
[{"$f":"IF('3 - SPECIE DA IMPIANTARE'!$G12=\"AZIONE_1\",'3 - SPECIE DA IMPIANTARE'!$G12,\"\")","v":""},{"$f":"IF('3 - SPECIE DA IMPIANTARE'!#REF!=1,'3 - SPECIE DA IMPIANTARE'!#REF!,\"\")","v":{"$error":"#REF!"}},{"$f":"IF(AND($A11=\"AZIONE_1\",$B11=1),'3 - SPECIE DA IMPIANTARE'!$H12,\"\")","v":{"$error":"#REF!"}},{"$f":"IF(AND($A11=\"AZIONE_1\",$B11=1),'3 - SPECIE DA IMPIANTARE'!$K12,\"\")","v":{"$error":"#REF!"}},{"$f":"IF('3 - SPECIE DA IMPIANTARE'!#REF!=2,'3 - SPECIE DA IMPIANTARE'!#REF!,\"\")","v":{"$error":"#REF!"}},{"$f":"IF(AND($A11=\"AZIONE_1\",$E11=2),'3 - SPECIE DA IMPIANTARE'!$H12,\"\")","v":{"$error":"#REF!"}},{"$f":"IF(AND($A11=\"AZIONE_1\",$B11=1),'3 - SPECIE DA IMPIANTARE'!$T12,\"\")","v":{"$error":"#REF!"}},{"$f":"IF(AND($A11=\"AZIONE_1\",$B11=1),'3 - SPECIE DA IMPIANTARE'!$W12,\"\")","v":{"$error":"#REF!"}},null,{"$f":"IF('3 - SPECIE DA IMPIANTARE'!#REF!=2,'3 - SPECIE DA IMPIANTARE'!#REF!,\"\")","v":{"$error":"#REF!"}},{"$f":"IF(AND($A11=\"AZIONE_1\",$J11=2),'3 - SPECIE DA IMPIANTARE'!$H12,\"\")","v":{"$error":"#REF!"}}]
[{"$f":"IF('3 - SPECIE DA IMPIANTARE'!$G13=\"AZIONE_1\",'3 - SPECIE DA IMPIANTARE'!$G13,\"\")","v":""},{"$f":"IF('3 - SPECIE DA IMPIANTARE'!#REF!=1,'3 - SPECIE DA IMPIANTARE'!#REF!,\"\")","v":{"$error":"#REF!"}},{"$f":"IF(AND($A12=\"AZIONE_1\",$B12=1),'3 - SPECIE DA IMPIANTARE'!$H13,\"\")","v":{"$error":"#REF!"}},{"$f":"IF(AND($A12=\"AZIONE_1\",$B12=1),'3 - SPECIE DA IMPIANTARE'!$K13,\"\")","v":{"$error":"#REF!"}},{"$f":"IF('3 - SPECIE DA IMPIANTARE'!#REF!=2,'3 - SPECIE DA IMPIANTARE'!#REF!,\"\")","v":{"$error":"#REF!"}},{"$f":"IF(AND($A12=\"AZIONE_1\",$E12=2),'3 - SPECIE DA IMPIANTARE'!$H13,\"\")","v":{"$error":"#REF!"}},{"$f":"IF(AND($A12=\"AZIONE_1\",$B12=1),'3 - SPECIE DA IMPIANTARE'!$T13,\"\")","v":{"$error":"#REF!"}},{"$f":"IF(AND($A12=\"AZIONE_1\",$B12=1),'3 - SPECIE DA IMPIANTARE'!$W13,\"\")","v":{"$error":"#REF!"}},null,{"$f":"IF('3 - SPECIE DA IMPIANTARE'!#REF!=2,'3 - SPECIE DA IMPIANTARE'!#REF!,\"\")","v":{"$error":"#REF!"}},{"$f":"IF(AND($A12=\"AZIONE_1\",$J12=2),'3 - SPECIE DA IMPIANTARE'!$H13,\"\")","v":{"$error":"#REF!"}}]
[{"$f":"IF('3 - SPECIE DA IMPIANTARE'!$G14=\"AZIONE_1\",'3 - SPECIE DA IMPIANTARE'!$G14,\"\")","v":""},{"$f":"IF('3 - SPECIE DA IMPIANTARE'!#REF!=1,'3 - SPECIE DA IMPIANTARE'!#REF!,\"\")","v":{"$error":"#REF!"}},{"$f":"IF(AND($A13=\"AZIONE_1\",$B13=1),'3 - SPECIE DA IMPIANTARE'!$H14,\"\")","v":{"$error":"#REF!"}},{"$f":"IF(AND($A13=\"AZIONE_1\",$B13=1),'3 - SPECIE DA IMPIANTARE'!$K14,\"\")","v":{"$error":"#REF!"}},{"$f":"IF('3 - SPECIE DA IMPIANTARE'!#REF!=2,'3 - SPECIE DA IMPIANTARE'!#REF!,\"\")","v":{"$error":"#REF!"}},{"$f":"IF(AND($A13=\"AZIONE_1\",$E13=2),'3 - SPECIE DA IMPIANTARE'!$H14,\"\")","v":{"$error":"#REF!"}},{"$f":"IF(AND($A13=\"AZIONE_1\",$B13=1),'3 - SPECIE DA IMPIANTARE'!$T14,\"\")","v":{"$error":"#REF!"}},{"$f":"IF(AND($A13=\"AZIONE_1\",$B13=1),'3 - SPECIE DA IMPIANTARE'!$W14,\"\")","v":{"$error":"#REF!"}},null,{"$f":"IF('3 - SPECIE DA IMPIANTARE'!#REF!=2,'3 - SPECIE DA IMPIANTARE'!#REF!,\"\")","v":{"$error":"#REF!"}},{"$f":"IF(AND($A13=\"AZIONE_1\",$J13=2),'3 - SPECIE DA IMPIANTARE'!$H14,\"\")","v":{"$error":"#REF!"}}]
[{"$f":"IF('3 - SPECIE DA IMPIANTARE'!$G15=\"AZIONE_1\",'3 - SPECIE DA IMPIANTARE'!$G15,\"\")","v":""},{"$f":"IF('3 - SPECIE DA IMPIANTARE'!#REF!=1,'3 - SPECIE DA IMPIANTARE'!#REF!,\"\")","v":{"$error":"#REF!"}},{"$f":"IF(AND($A14=\"AZIONE_1\",$B14=1),'3 - SPECIE DA IMPIANTARE'!$H15,\"\")","v":{"$error":"#REF!"}},{"$f":"IF(AND($A14=\"AZIONE_1\",$B14=1),'3 - SPECIE DA IMPIANTARE'!$K15,\"\")","v":{"$error":"#REF!"}},{"$f":"IF('3 - SPECIE DA IMPIANTARE'!#REF!=2,'3 - SPECIE DA IMPIANTARE'!#REF!,\"\")","v":{"$error":"#REF!"}},{"$f":"IF(AND($A14=\"AZIONE_1\",$E14=2),'3 - SPECIE DA IMPIANTARE'!$H15,\"\")","v":{"$error":"#REF!"}},{"$f":"IF(AND($A14=\"AZIONE_1\",$B14=1),'3 - SPECIE DA IMPIANTARE'!$T15,\"\")","v":{"$error":"#REF!"}},{"$f":"IF(AND($A14=\"AZIONE_1\",$B14=1),'3 - SPECIE DA IMPIANTARE'!$W15,\"\")","v":{"$error":"#REF!"}},null,{"$f":"IF('3 - SPECIE DA IMPIANTARE'!#REF!=2,'3 - SPECIE DA IMPIANTARE'!#REF!,\"\")","v":{"$error":"#REF!"}},{"$f":"IF(AND($A14=\"AZIONE_1\",$J14=2),'3 - SPECIE DA IMPIANTARE'!$H15,\"\")","v":{"$error":"#REF!"}}]
[{"$f":"IF('3 - SPECIE DA IMPIANTARE'!$G16=\"AZIONE_1\",'3 - SPECIE DA IMPIANTARE'!$G16,\"\")","v":""},{"$f":"IF('3 - SPECIE DA IMPIANTARE'!#REF!=1,'3 - SPECIE DA IMPIANTARE'!#REF!,\"\")","v":{"$error":"#REF!"}},{"$f":"IF(AND($A15=\"AZIONE_1\",$B15=1),'3 - SPECIE DA IMPIANTARE'!$H16,\"\")","v":{"$error":"#REF!"}},{"$f":"IF(AND($A15=\"AZIONE_1\",$B15=1),'3 - SPECIE DA IMPIANTARE'!$K16,\"\")","v":{"$error":"#REF!"}},{"$f":"IF('3 - SPECIE DA IMPIANTARE'!#REF!=2,'3 - SPECIE DA IMPIANTARE'!#REF!,\"\")","v":{"$error":"#REF!"}},{"$f":"IF(AND($A15=\"AZIONE_1\",$E15=2),'3 - SPECIE DA IMPIANTARE'!$H16,\"\")","v":{"$error":"#REF!"}},{"$f":"IF(AND($A15=\"AZIONE_1\",$B15=1),'3 - SPECIE DA IMPIANTARE'!$T16,\"\")","v":{"$error":"#REF!"}},{"$f":"IF(AND($A15=\"AZIONE_1\",$B15=1),'3 - SPECIE DA IMPIANTARE'!$W16,\"\")","v":{"$error":"#REF!"}},null,{"$f":"IF('3 - SPECIE DA IMPIANTARE'!#REF!=2,'3 - SPECIE DA IMPIANTARE'!#REF!,\"\")","v":{"$error":"#REF!"}},{"$f":"IF(AND($A15=\"AZIONE_1\",$J15=2),'3 - SPECIE DA IMPIANTARE'!$H16,\"\")","v":{"$error":"#REF!"}}]
[{"$f":"IF('3 - SPECIE DA IMPIANTARE'!$G17=\"AZIONE_1\",'3 - SPECIE DA IMPIANTARE'!$G17,\"\")","v":""},{"$f":"IF('3 - SPECIE DA IMPIANTARE'!#REF!=1,'3 - SPECIE DA IMPIANTARE'!#REF!,\"\")","v":{"$error":"#REF!"}},{"$f":"IF(AND($A16=\"AZIONE_1\",$B16=1),'3 - SPECIE DA IMPIANTARE'!$H17,\"\")","v":{"$error":"#REF!"}},{"$f":"IF(AND($A16=\"AZIONE_1\",$B16=1),'3 - SPECIE DA IMPIANTARE'!$K17,\"\")","v":{"$error":"#REF!"}},{"$f":"IF('3 - SPECIE DA IMPIANTARE'!#REF!=2,'3 - SPECIE DA IMPIANTARE'!#REF!,\"\")","v":{"$error":"#REF!"}},{"$f":"IF(AND($A16=\"AZIONE_1\",$E16=2),'3 - SPECIE DA IMPIANTARE'!$H17,\"\")","v":{"$error":"#REF!"}},{"$f":"IF(AND($A16=\"AZIONE_1\",$B16=1),'3 - SPECIE DA IMPIANTARE'!$T17,\"\")","v":{"$error":"#REF!"}},{"$f":"IF(AND($A16=\"AZIONE_1\",$B16=1),'3 - SPECIE DA IMPIANTARE'!$W17,\"\")","v":{"$error":"#REF!"}},null,{"$f":"IF('3 - SPECIE DA IMPIANTARE'!#REF!=2,'3 - SPECIE DA IMPIANTARE'!#REF!,\"\")","v":{"$error":"#REF!"}},{"$f":"IF(AND($A16=\"AZIONE_1\",$J16=2),'3 - SPECIE DA IMPIANTARE'!$H17,\"\")","v":{"$error":"#REF!"}}]
[{"$f":"IF('3 - SPECIE DA IMPIANTARE'!$G18=\"AZIONE_1\",'3 - SPECIE DA IMPIANTARE'!$G18,\"\")","v":""},{"$f":"IF('3 - SPECIE DA IMPIANTARE'!#REF!=1,'3 - SPECIE DA IMPIANTARE'!#REF!,\"\")","v":{"$error":"#REF!"}},{"$f":"IF(AND($A17=\"AZIONE_1\",$B17=1),'3 - SPECIE DA IMPIANTARE'!$H18,\"\")","v":{"$error":"#REF!"}},{"$f":"IF(AND($A17=\"AZIONE_1\",$B17=1),'3 - SPECIE DA IMPIANTARE'!$K18,\"\")","v":{"$error":"#REF!"}},{"$f":"IF('3 - SPECIE DA IMPIANTARE'!#REF!=2,'3 - SPECIE DA IMPIANTARE'!#REF!,\"\")","v":{"$error":"#REF!"}},{"$f":"IF(AND($A17=\"AZIONE_1\",$E17=2),'3 - SPECIE DA IMPIANTARE'!$H18,\"\")","v":{"$error":"#REF!"}},{"$f":"IF(AND($A17=\"AZIONE_1\",$B17=1),'3 - SPECIE DA IMPIANTARE'!$T18,\"\")","v":{"$error":"#REF!"}},{"$f":"IF(AND($A17=\"AZIONE_1\",$B17=1),'3 - SPECIE DA IMPIANTARE'!$W18,\"\")","v":{"$error":"#REF!"}},null,{"$f":"IF('3 - SPECIE DA IMPIANTARE'!#REF!=2,'3 - SPECIE DA IMPIANTARE'!#REF!,\"\")","v":{"$error":"#REF!"}},{"$f":"IF(AND($A17=\"AZIONE_1\",$J17=2),'3 - SPECIE DA IMPIANTARE'!$H18,\"\")","v":{"$error":"#REF!"}}]
[{"$f":"IF('3 - SPECIE DA IMPIANTARE'!$G19=\"AZIONE_1\",'3 - SPECIE DA IMPIANTARE'!$G19,\"\")","v":""},{"$f":"IF('3 - SPECIE DA IMPIANTARE'!#REF!=1,'3 - SPECIE DA IMPIANTARE'!#REF!,\"\")","v":{"$error":"#REF!"}},{"$f":"IF(AND($A18=\"AZIONE_1\",$B18=1),'3 - SPECIE DA IMPIANTARE'!$H19,\"\")","v":{"$error":"#REF!"}},{"$f":"IF(AND($A18=\"AZIONE_1\",$B18=1),'3 - SPECIE DA IMPIANTARE'!$K19,\"\")","v":{"$error":"#REF!"}},{"$f":"IF('3 - SPECIE DA IMPIANTARE'!#REF!=2,'3 - SPECIE DA IMPIANTARE'!#REF!,\"\")","v":{"$error":"#REF!"}},{"$f":"IF(AND($A18=\"AZIONE_1\",$E18=2),'3 - SPECIE DA IMPIANTARE'!$H19,\"\")","v":{"$error":"#REF!"}},{"$f":"IF(AND($A18=\"AZIONE_1\",$B18=1),'3 - SPECIE DA IMPIANTARE'!$T19,\"\")","v":{"$error":"#REF!"}},{"$f":"IF(AND($A18=\"AZIONE_1\",$B18=1),'3 - SPECIE DA IMPIANTARE'!$W19,\"\")","v":{"$error":"#REF!"}},null,{"$f":"IF('3 - SPECIE DA IMPIANTARE'!#REF!=2,'3 - SPECIE DA IMPIANTARE'!#REF!,\"\")","v":{"$error":"#REF!"}},{"$f":"IF(AND($A18=\"AZIONE_1\",$J18=2),'3 - SPECIE DA IMPIANTARE'!$H19,\"\")","v":{"$error":"#REF!"}}]
[{"$f":"IF('3 - SPECIE DA IMPIANTARE'!$G20=\"AZIONE_1\",'3 - SPECIE DA IMPIANTARE'!$G20,\"\")","v":""},{"$f":"IF('3 - SPECIE DA IMPIANTARE'!#REF!=1,'3 - SPECIE DA IMPIANTARE'!#REF!,\"\")","v":{"$error":"#REF!"}},{"$f":"IF(AND($A19=\"AZIONE_1\",$B19=1),'3 - SPECIE DA IMPIANTARE'!$H20,\"\")","v":{"$error":"#REF!"}},{"$f":"IF(AND($A19=\"AZIONE_1\",$B19=1),'3 - SPECIE DA IMPIANTARE'!$K20,\"\")","v":{"$error":"#REF!"}},{"$f":"IF('3 - SPECIE DA IMPIANTARE'!#REF!=2,'3 - SPECIE DA IMPIANTARE'!#REF!,\"\")","v":{"$error":"#REF!"}},{"$f":"IF(AND($A19=\"AZIONE_1\",$E19=2),'3 - SPECIE DA IMPIANTARE'!$H20,\"\")","v":{"$error":"#REF!"}},{"$f":"IF(AND($A19=\"AZIONE_1\",$B19=1),'3 - SPECIE DA IMPIANTARE'!$T20,\"\")","v":{"$error":"#REF!"}},{"$f":"IF(AND($A19=\"AZIONE_1\",$B19=1),'3 - SPECIE DA IMPIANTARE'!$W20,\"\")","v":{"$error":"#REF!"}},null,{"$f":"IF('3 - SPECIE DA IMPIANTARE'!#REF!=2,'3 - SPECIE DA IMPIANTARE'!#REF!,\"\")","v":{"$error":"#REF!"}},{"$f":"IF(AND($A19=\"AZIONE_1\",$J19=2),'3 - SPECIE DA IMPIANTARE'!$H20,\"\")","v":{"$error":"#REF!"}}]
[{"$f":"IF('3 - SPECIE DA IMPIANTARE'!$G21=\"AZIONE_1\",'3 - SPECIE DA IMPIANTARE'!$G21,\"\")","v":""},{"$f":"IF('3 - SPECIE DA IMPIANTARE'!#REF!=1,'3 - SPECIE DA IMPIANTARE'!#REF!,\"\")","v":{"$error":"#REF!"}},{"$f":"IF(AND($A20=\"AZIONE_1\",$B20=1),'3 - SPECIE DA IMPIANTARE'!$H21,\"\")","v":{"$error":"#REF!"}},{"$f":"IF(AND($A20=\"AZIONE_1\",$B20=1),'3 - SPECIE DA IMPIANTARE'!$K21,\"\")","v":{"$error":"#REF!"}},{"$f":"IF('3 - SPECIE DA IMPIANTARE'!#REF!=2,'3 - SPECIE DA IMPIANTARE'!#REF!,\"\")","v":{"$error":"#REF!"}},{"$f":"IF(AND($A20=\"AZIONE_1\",$E20=2),'3 - SPECIE DA IMPIANTARE'!$H21,\"\")","v":{"$error":"#REF!"}},{"$f":"IF(AND($A20=\"AZIONE_1\",$B20=1),'3 - SPECIE DA IMPIANTARE'!$T21,\"\")","v":{"$error":"#REF!"}},{"$f":"IF(AND($A20=\"AZIONE_1\",$B20=1),'3 - SPECIE DA IMPIANTARE'!$W21,\"\")","v":{"$error":"#REF!"}},null,{"$f":"IF('3 - SPECIE DA IMPIANTARE'!#REF!=2,'3 - SPECIE DA IMPIANTARE'!#REF!,\"\")","v":{"$error":"#REF!"}},{"$f":"IF(AND($A20=\"AZIONE_1\",$J20=2),'3 - SPECIE DA IMPIANTARE'!$H21,\"\")","v":{"$error":"#REF!"}}]
[{"$f":"IF('3 - SPECIE DA IMPIANTARE'!$G22=\"AZIONE_1\",'3 - SPECIE DA IMPIANTARE'!$G22,\"\")","v":""},{"$f":"IF('3 - SPECIE DA IMPIANTARE'!#REF!=1,'3 - SPECIE DA IMPIANTARE'!#REF!,\"\")","v":{"$error":"#REF!"}},{"$f":"IF(AND($A21=\"AZIONE_1\",$B21=1),'3 - SPECIE DA IMPIANTARE'!$H22,\"\")","v":{"$error":"#REF!"}},{"$f":"IF(AND($A21=\"AZIONE_1\",$B21=1),'3 - SPECIE DA IMPIANTARE'!$K22,\"\")","v":{"$error":"#REF!"}},{"$f":"IF('3 - SPECIE DA IMPIANTARE'!#REF!=2,'3 - SPECIE DA IMPIANTARE'!#REF!,\"\")","v":{"$error":"#REF!"}},{"$f":"IF(AND($A21=\"AZIONE_1\",$E21=2),'3 - SPECIE DA IMPIANTARE'!$H22,\"\")","v":{"$error":"#REF!"}},{"$f":"IF(AND($A21=\"AZIONE_1\",$B21=1),'3 - SPECIE DA IMPIANTARE'!$T22,\"\")","v":{"$error":"#REF!"}},{"$f":"IF(AND($A21=\"AZIONE_1\",$B21=1),'3 - SPECIE DA IMPIANTARE'!$W22,\"\")","v":{"$error":"#REF!"}},null,{"$f":"IF('3 - SPECIE DA IMPIANTARE'!#REF!=2,'3 - SPECIE DA IMPIANTARE'!#REF!,\"\")","v":{"$error":"#REF!"}},{"$f":"IF(AND($A21=\"AZIONE_1\",$J21=2),'3 - SPECIE DA IMPIANTARE'!$H22,\"\")","v":{"$error":"#REF!"}}]
[{"$f":"IF('3 - SPECIE DA IMPIANTARE'!$G23=\"AZIONE_1\",'3 - SPECIE DA IMPIANTARE'!$G23,\"\")","v":""},{"$f":"IF('3 - SPECIE DA IMPIANTARE'!#REF!=1,'3 - SPECIE DA IMPIANTARE'!#REF!,\"\")","v":{"$error":"#REF!"}},{"$f":"IF(AND($A22=\"AZIONE_1\",$B22=1),'3 - SPECIE DA IMPIANTARE'!$H23,\"\")","v":{"$error":"#REF!"}},{"$f":"IF(AND($A22=\"AZIONE_1\",$B22=1),'3 - SPECIE DA IMPIANTARE'!$K23,\"\")","v":{"$error":"#REF!"}},{"$f":"IF('3 - SPECIE DA IMPIANTARE'!#REF!=2,'3 - SPECIE DA IMPIANTARE'!#REF!,\"\")","v":{"$error":"#REF!"}},{"$f":"IF(AND($A22=\"AZIONE_1\",$E22=2),'3 - SPECIE DA IMPIANTARE'!$H23,\"\")","v":{"$error":"#REF!"}},{"$f":"IF(AND($A22=\"AZIONE_1\",$B22=1),'3 - SPECIE DA IMPIANTARE'!$T23,\"\")","v":{"$error":"#REF!"}},{"$f":"IF(AND($A22=\"AZIONE_1\",$B22=1),'3 - SPECIE DA IMPIANTARE'!$W23,\"\")","v":{"$error":"#REF!"}},null,{"$f":"IF('3 - SPECIE DA IMPIANTARE'!#REF!=2,'3 - SPECIE DA IMPIANTARE'!#REF!,\"\")","v":{"$error":"#REF!"}},{"$f":"IF(AND($A22=\"AZIONE_1\",$J22=2),'3 - SPECIE DA IMPIANTARE'!$H23,\"\")","v":{"$error":"#REF!"}}]
[{"$f":"IF('3 - SPECIE DA IMPIANTARE'!$G24=\"AZIONE_1\",'3 - SPECIE DA IMPIANTARE'!$G24,\"\")","v":""},{"$f":"IF('3 - SPECIE DA IMPIANTARE'!#REF!=1,'3 - SPECIE DA IMPIANTARE'!#REF!,\"\")","v":{"$error":"#REF!"}},{"$f":"IF(AND($A23=\"AZIONE_1\",$B23=1),'3 - SPECIE DA IMPIANTARE'!$H24,\"\")","v":{"$error":"#REF!"}},{"$f":"IF(AND($A23=\"AZIONE_1\",$B23=1),'3 - SPECIE DA IMPIANTARE'!$K24,\"\")","v":{"$error":"#REF!"}},{"$f":"IF('3 - SPECIE DA IMPIANTARE'!#REF!=2,'3 - SPECIE DA IMPIANTARE'!#REF!,\"\")","v":{"$error":"#REF!"}},{"$f":"IF(AND($A23=\"AZIONE_1\",$E23=2),'3 - SPECIE DA IMPIANTARE'!$H24,\"\")","v":{"$error":"#REF!"}},{"$f":"IF(AND($A23=\"AZIONE_1\",$B23=1),'3 - SPECIE DA IMPIANTARE'!$T24,\"\")","v":{"$error":"#REF!"}},{"$f":"IF(AND($A23=\"AZIONE_1\",$B23=1),'3 - SPECIE DA IMPIANTARE'!$W24,\"\")","v":{"$error":"#REF!"}},null,{"$f":"IF('3 - SPECIE DA IMPIANTARE'!#REF!=2,'3 - SPECIE DA IMPIANTARE'!#REF!,\"\")","v":{"$error":"#REF!"}},{"$f":"IF(AND($A23=\"AZIONE_1\",$J23=2),'3 - SPECIE DA IMPIANTARE'!$H24,\"\")","v":{"$error":"#REF!"}}]
[{"$f":"IF('3 - SPECIE DA IMPIANTARE'!$G25=\"AZIONE_1\",'3 - SPECIE DA IMPIANTARE'!$G25,\"\")","v":""},{"$f":"IF('3 - SPECIE DA IMPIANTARE'!#REF!=1,'3 - SPECIE DA IMPIANTARE'!#REF!,\"\")","v":{"$error":"#REF!"}},{"$f":"IF(AND($A24=\"AZIONE_1\",$B24=1),'3 - SPECIE DA IMPIANTARE'!$H25,\"\")","v":{"$error":"#REF!"}},{"$f":"IF(AND($A24=\"AZIONE_1\",$B24=1),'3 - SPECIE DA IMPIANTARE'!$K25,\"\")","v":{"$error":"#REF!"}},{"$f":"IF('3 - SPECIE DA IMPIANTARE'!#REF!=2,'3 - SPECIE DA IMPIANTARE'!#REF!,\"\")","v":{"$error":"#REF!"}},{"$f":"IF(AND($A24=\"AZIONE_1\",$E24=2),'3 - SPECIE DA IMPIANTARE'!$H25,\"\")","v":{"$error":"#REF!"}},{"$f":"IF(AND($A24=\"AZIONE_1\",$B24=1),'3 - SPECIE DA IMPIANTARE'!$T25,\"\")","v":{"$error":"#REF!"}},{"$f":"IF(AND($A24=\"AZIONE_1\",$B24=1),'3 - SPECIE DA IMPIANTARE'!$W25,\"\")","v":{"$error":"#REF!"}},null,{"$f":"IF('3 - SPECIE DA IMPIANTARE'!#REF!=2,'3 - SPECIE DA IMPIANTARE'!#REF!,\"\")","v":{"$error":"#REF!"}},{"$f":"IF(AND($A24=\"AZIONE_1\",$J24=2),'3 - SPECIE DA IMPIANTARE'!$H25,\"\")","v":{"$error":"#REF!"}}]
[{"$f":"IF('3 - SPECIE DA IMPIANTARE'!$G26=\"AZIONE_1\",'3 - SPECIE DA IMPIANTARE'!$G26,\"\")","v":""},{"$f":"IF('3 - SPECIE DA IMPIANTARE'!#REF!=1,'3 - SPECIE DA IMPIANTARE'!#REF!,\"\")","v":{"$error":"#REF!"}},{"$f":"IF(AND($A25=\"AZIONE_1\",$B25=1),'3 - SPECIE DA IMPIANTARE'!$H26,\"\")","v":{"$error":"#REF!"}},{"$f":"IF(AND($A25=\"AZIONE_1\",$B25=1),'3 - SPECIE DA IMPIANTARE'!$K26,\"\")","v":{"$error":"#REF!"}},{"$f":"IF('3 - SPECIE DA IMPIANTARE'!#REF!=2,'3 - SPECIE DA IMPIANTARE'!#REF!,\"\")","v":{"$error":"#REF!"}},{"$f":"IF(AND($A25=\"AZIONE_1\",$E25=2),'3 - SPECIE DA IMPIANTARE'!$H26,\"\")","v":{"$error":"#REF!"}},{"$f":"IF(AND($A25=\"AZIONE_1\",$B25=1),'3 - SPECIE DA IMPIANTARE'!$T26,\"\")","v":{"$error":"#REF!"}},{"$f":"IF(AND($A25=\"AZIONE_1\",$B25=1),'3 - SPECIE DA IMPIANTARE'!$W26,\"\")","v":{"$error":"#REF!"}},null,{"$f":"IF('3 - SPECIE DA IMPIANTARE'!#REF!=2,'3 - SPECIE DA IMPIANTARE'!#REF!,\"\")","v":{"$error":"#REF!"}},{"$f":"IF(AND($A25=\"AZIONE_1\",$J25=2),'3 - SPECIE DA IMPIANTARE'!$H26,\"\")","v":{"$error":"#REF!"}}]
[{"$f":"IF('3 - SPECIE DA IMPIANTARE'!$G27=\"AZIONE_1\",'3 - SPECIE DA IMPIANTARE'!$G27,\"\")","v":""},{"$f":"IF('3 - SPECIE DA IMPIANTARE'!#REF!=1,'3 - SPECIE DA IMPIANTARE'!#REF!,\"\")","v":{"$error":"#REF!"}},{"$f":"IF(AND($A26=\"AZIONE_1\",$B26=1),'3 - SPECIE DA IMPIANTARE'!$H27,\"\")","v":{"$error":"#REF!"}},{"$f":"IF(AND($A26=\"AZIONE_1\",$B26=1),'3 - SPECIE DA IMPIANTARE'!$K27,\"\")","v":{"$error":"#REF!"}},{"$f":"IF('3 - SPECIE DA IMPIANTARE'!#REF!=2,'3 - SPECIE DA IMPIANTARE'!#REF!,\"\")","v":{"$error":"#REF!"}},{"$f":"IF(AND($A26=\"AZIONE_1\",$E26=2),'3 - SPECIE DA IMPIANTARE'!$H27,\"\")","v":{"$error":"#REF!"}},{"$f":"IF(AND($A26=\"AZIONE_1\",$B26=1),'3 - SPECIE DA IMPIANTARE'!$T27,\"\")","v":{"$error":"#REF!"}},{"$f":"IF(AND($A26=\"AZIONE_1\",$B26=1),'3 - SPECIE DA IMPIANTARE'!$W27,\"\")","v":{"$error":"#REF!"}},null,{"$f":"IF('3 - SPECIE DA IMPIANTARE'!#REF!=2,'3 - SPECIE DA IMPIANTARE'!#REF!,\"\")","v":{"$error":"#REF!"}},{"$f":"IF(AND($A26=\"AZIONE_1\",$J26=2),'3 - SPECIE DA IMPIANTARE'!$H27,\"\")","v":{"$error":"#REF!"}}]
[{"$f":"IF('3 - SPECIE DA IMPIANTARE'!$G28=\"AZIONE_1\",'3 - SPECIE DA IMPIANTARE'!$G28,\"\")","v":""},{"$f":"IF('3 - SPECIE DA IMPIANTARE'!#REF!=1,'3 - SPECIE DA IMPIANTARE'!#REF!,\"\")","v":{"$error":"#REF!"}},{"$f":"IF(AND($A27=\"AZIONE_1\",$B27=1),'3 - SPECIE DA IMPIANTARE'!$H28,\"\")","v":{"$error":"#REF!"}},{"$f":"IF(AND($A27=\"AZIONE_1\",$B27=1),'3 - SPECIE DA IMPIANTARE'!$K28,\"\")","v":{"$error":"#REF!"}},{"$f":"IF('3 - SPECIE DA IMPIANTARE'!#REF!=2,'3 - SPECIE DA IMPIANTARE'!#REF!,\"\")","v":{"$error":"#REF!"}},{"$f":"IF(AND($A27=\"AZIONE_1\",$E27=2),'3 - SPECIE DA IMPIANTARE'!$H28,\"\")","v":{"$error":"#REF!"}},{"$f":"IF(AND($A27=\"AZIONE_1\",$B27=1),'3 - SPECIE DA IMPIANTARE'!$T28,\"\")","v":{"$error":"#REF!"}},{"$f":"IF(AND($A27=\"AZIONE_1\",$B27=1),'3 - SPECIE DA IMPIANTARE'!$W28,\"\")","v":{"$error":"#REF!"}},null,{"$f":"IF('3 - SPECIE DA IMPIANTARE'!#REF!=2,'3 - SPECIE DA IMPIANTARE'!#REF!,\"\")","v":{"$error":"#REF!"}},{"$f":"IF(AND($A27=\"AZIONE_1\",$J27=2),'3 - SPECIE DA IMPIANTARE'!$H28,\"\")","v":{"$error":"#REF!"}}]
[{"$f":"IF('3 - SPECIE DA IMPIANTARE'!$G29=\"AZIONE_1\",'3 - SPECIE DA IMPIANTARE'!$G29,\"\")","v":""},{"$f":"IF('3 - SPECIE DA IMPIANTARE'!#REF!=1,'3 - SPECIE DA IMPIANTARE'!#REF!,\"\")","v":{"$error":"#REF!"}},{"$f":"IF(AND($A28=\"AZIONE_1\",$B28=1),'3 - SPECIE DA IMPIANTARE'!$H29,\"\")","v":{"$error":"#REF!"}},{"$f":"IF(AND($A28=\"AZIONE_1\",$B28=1),'3 - SPECIE DA IMPIANTARE'!$K29,\"\")","v":{"$error":"#REF!"}},{"$f":"IF('3 - SPECIE DA IMPIANTARE'!#REF!=2,'3 - SPECIE DA IMPIANTARE'!#REF!,\"\")","v":{"$error":"#REF!"}},{"$f":"IF(AND($A28=\"AZIONE_1\",$E28=2),'3 - SPECIE DA IMPIANTARE'!$H29,\"\")","v":{"$error":"#REF!"}},{"$f":"IF(AND($A28=\"AZIONE_1\",$B28=1),'3 - SPECIE DA IMPIANTARE'!$T29,\"\")","v":{"$error":"#REF!"}},{"$f":"IF(AND($A28=\"AZIONE_1\",$B28=1),'3 - SPECIE DA IMPIANTARE'!$W29,\"\")","v":{"$error":"#REF!"}},null,{"$f":"IF('3 - SPECIE DA IMPIANTARE'!#REF!=2,'3 - SPECIE DA IMPIANTARE'!#REF!,\"\")","v":{"$error":"#REF!"}},{"$f":"IF(AND($A28=\"AZIONE_1\",$J28=2),'3 - SPECIE DA IMPIANTARE'!$H29,\"\")","v":{"$error":"#REF!"}}]
[{"$f":"IF('3 - SPECIE DA IMPIANTARE'!$G30=\"AZIONE_1\",'3 - SPECIE DA IMPIANTARE'!$G30,\"\")","v":""},{"$f":"IF('3 - SPECIE DA IMPIANTARE'!#REF!=1,'3 - SPECIE DA IMPIANTARE'!#REF!,\"\")","v":{"$error":"#REF!"}},{"$f":"IF(AND($A29=\"AZIONE_1\",$B29=1),'3 - SPECIE DA IMPIANTARE'!$H30,\"\")","v":{"$error":"#REF!"}},{"$f":"IF(AND($A29=\"AZIONE_1\",$B29=1),'3 - SPECIE DA IMPIANTARE'!$K30,\"\")","v":{"$error":"#REF!"}},{"$f":"IF('3 - SPECIE DA IMPIANTARE'!#REF!=2,'3 - SPECIE DA IMPIANTARE'!#REF!,\"\")","v":{"$error":"#REF!"}},{"$f":"IF(AND($A29=\"AZIONE_1\",$E29=2),'3 - SPECIE DA IMPIANTARE'!$H30,\"\")","v":{"$error":"#REF!"}},{"$f":"IF(AND($A29=\"AZIONE_1\",$B29=1),'3 - SPECIE DA IMPIANTARE'!$T30,\"\")","v":{"$error":"#REF!"}},{"$f":"IF(AND($A29=\"AZIONE_1\",$B29=1),'3 - SPECIE DA IMPIANTARE'!$W30,\"\")","v":{"$error":"#REF!"}},null,{"$f":"IF('3 - SPECIE DA IMPIANTARE'!#REF!=2,'3 - SPECIE DA IMPIANTARE'!#REF!,\"\")","v":{"$error":"#REF!"}},{"$f":"IF(AND($A29=\"AZIONE_1\",$J29=2),'3 - SPECIE DA IMPIANTARE'!$H30,\"\")","v":{"$error":"#REF!"}}]
[{"$f":"IF('3 - SPECIE DA IMPIANTARE'!$G31=\"AZIONE_1\",'3 - SPECIE DA IMPIANTARE'!$G31,\"\")","v":""},{"$f":"IF('3 - SPECIE DA IMPIANTARE'!#REF!=1,'3 - SPECIE DA IMPIANTARE'!#REF!,\"\")","v":{"$error":"#REF!"}},{"$f":"IF(AND($A30=\"AZIONE_1\",$B30=1),'3 - SPECIE DA IMPIANTARE'!$H31,\"\")","v":{"$error":"#REF!"}},{"$f":"IF(AND($A30=\"AZIONE_1\",$B30=1),'3 - SPECIE DA IMPIANTARE'!$K31,\"\")","v":{"$error":"#REF!"}},{"$f":"IF('3 - SPECIE DA IMPIANTARE'!#REF!=2,'3 - SPECIE DA IMPIANTARE'!#REF!,\"\")","v":{"$error":"#REF!"}},{"$f":"IF(AND($A30=\"AZIONE_1\",$E30=2),'3 - SPECIE DA IMPIANTARE'!$H31,\"\")","v":{"$error":"#REF!"}},{"$f":"IF(AND($A30=\"AZIONE_1\",$B30=1),'3 - SPECIE DA IMPIANTARE'!$T31,\"\")","v":{"$error":"#REF!"}},{"$f":"IF(AND($A30=\"AZIONE_1\",$B30=1),'3 - SPECIE DA IMPIANTARE'!$W31,\"\")","v":{"$error":"#REF!"}},null,{"$f":"IF('3 - SPECIE DA IMPIANTARE'!#REF!=2,'3 - SPECIE DA IMPIANTARE'!#REF!,\"\")","v":{"$error":"#REF!"}},{"$f":"IF(AND($A30=\"AZIONE_1\",$J30=2),'3 - SPECIE DA IMPIANTARE'!$H31,\"\")","v":{"$error":"#REF!"}}]
[{"$f":"IF('3 - SPECIE DA IMPIANTARE'!$G32=\"AZIONE_1\",'3 - SPECIE DA IMPIANTARE'!$G32,\"\")","v":""},{"$f":"IF('3 - SPECIE DA IMPIANTARE'!#REF!=1,'3 - SPECIE DA IMPIANTARE'!#REF!,\"\")","v":{"$error":"#REF!"}},{"$f":"IF(AND($A31=\"AZIONE_1\",$B31=1),'3 - SPECIE DA IMPIANTARE'!$H32,\"\")","v":{"$error":"#REF!"}},{"$f":"IF(AND($A31=\"AZIONE_1\",$B31=1),'3 - SPECIE DA IMPIANTARE'!$K32,\"\")","v":{"$error":"#REF!"}},{"$f":"IF('3 - SPECIE DA IMPIANTARE'!#REF!=2,'3 - SPECIE DA IMPIANTARE'!#REF!,\"\")","v":{"$error":"#REF!"}},{"$f":"IF(AND($A31=\"AZIONE_1\",$E31=2),'3 - SPECIE DA IMPIANTARE'!$H32,\"\")","v":{"$error":"#REF!"}},{"$f":"IF(AND($A31=\"AZIONE_1\",$B31=1),'3 - SPECIE DA IMPIANTARE'!$T32,\"\")","v":{"$error":"#REF!"}},{"$f":"IF(AND($A31=\"AZIONE_1\",$B31=1),'3 - SPECIE DA IMPIANTARE'!$W32,\"\")","v":{"$error":"#REF!"}},null,{"$f":"IF('3 - SPECIE DA IMPIANTARE'!#REF!=2,'3 - SPECIE DA IMPIANTARE'!#REF!,\"\")","v":{"$error":"#REF!"}},{"$f":"IF(AND($A31=\"AZIONE_1\",$J31=2),'3 - SPECIE DA IMPIANTARE'!$H32,\"\")","v":{"$error":"#REF!"}}]
[{"$f":"IF('3 - SPECIE DA IMPIANTARE'!$G33=\"AZIONE_1\",'3 - SPECIE DA IMPIANTARE'!$G33,\"\")","v":""},{"$f":"IF('3 - SPECIE DA IMPIANTARE'!#REF!=1,'3 - SPECIE DA IMPIANTARE'!#REF!,\"\")","v":{"$error":"#REF!"}},{"$f":"IF(AND($A32=\"AZIONE_1\",$B32=1),'3 - SPECIE DA IMPIANTARE'!$H33,\"\")","v":{"$error":"#REF!"}},{"$f":"IF(AND($A32=\"AZIONE_1\",$B32=1),'3 - SPECIE DA IMPIANTARE'!$K33,\"\")","v":{"$error":"#REF!"}},{"$f":"IF('3 - SPECIE DA IMPIANTARE'!#REF!=2,'3 - SPECIE DA IMPIANTARE'!#REF!,\"\")","v":{"$error":"#REF!"}},{"$f":"IF(AND($A32=\"AZIONE_1\",$E32=2),'3 - SPECIE DA IMPIANTARE'!$H33,\"\")","v":{"$error":"#REF!"}},{"$f":"IF(AND($A32=\"AZIONE_1\",$B32=1),'3 - SPECIE DA IMPIANTARE'!$T33,\"\")","v":{"$error":"#REF!"}},{"$f":"IF(AND($A32=\"AZIONE_1\",$B32=1),'3 - SPECIE DA IMPIANTARE'!$W33,\"\")","v":{"$error":"#REF!"}},null,{"$f":"IF('3 - SPECIE DA IMPIANTARE'!#REF!=2,'3 - SPECIE DA IMPIANTARE'!#REF!,\"\")","v":{"$error":"#REF!"}},{"$f":"IF(AND($A32=\"AZIONE_1\",$J32=2),'3 - SPECIE DA IMPIANTARE'!$H33,\"\")","v":{"$error":"#REF!"}}]
[{"$f":"IF('3 - SPECIE DA IMPIANTARE'!$G34=\"AZIONE_1\",'3 - SPECIE DA IMPIANTARE'!$G34,\"\")","v":""},{"$f":"IF('3 - SPECIE DA IMPIANTARE'!#REF!=1,'3 - SPECIE DA IMPIANTARE'!#REF!,\"\")","v":{"$error":"#REF!"}},{"$f":"IF(AND($A33=\"AZIONE_1\",$B33=1),'3 - SPECIE DA IMPIANTARE'!$H34,\"\")","v":{"$error":"#REF!"}},{"$f":"IF(AND($A33=\"AZIONE_1\",$B33=1),'3 - SPECIE DA IMPIANTARE'!$K34,\"\")","v":{"$error":"#REF!"}},{"$f":"IF('3 - SPECIE DA IMPIANTARE'!#REF!=2,'3 - SPECIE DA IMPIANTARE'!#REF!,\"\")","v":{"$error":"#REF!"}},{"$f":"IF(AND($A33=\"AZIONE_1\",$E33=2),'3 - SPECIE DA IMPIANTARE'!$H34,\"\")","v":{"$error":"#REF!"}},{"$f":"IF(AND($A33=\"AZIONE_1\",$B33=1),'3 - SPECIE DA IMPIANTARE'!$T34,\"\")","v":{"$error":"#REF!"}},{"$f":"IF(AND($A33=\"AZIONE_1\",$B33=1),'3 - SPECIE DA IMPIANTARE'!$W34,\"\")","v":{"$error":"#REF!"}},null,{"$f":"IF('3 - SPECIE DA IMPIANTARE'!#REF!=2,'3 - SPECIE DA IMPIANTARE'!#REF!,\"\")","v":{"$error":"#REF!"}},{"$f":"IF(AND($A33=\"AZIONE_1\",$J33=2),'3 - SPECIE DA IMPIANTARE'!$H34,\"\")","v":{"$error":"#REF!"}}]
[{"$f":"IF('3 - SPECIE DA IMPIANTARE'!$G35=\"AZIONE_1\",'3 - SPECIE DA IMPIANTARE'!$G35,\"\")","v":""},{"$f":"IF('3 - SPECIE DA IMPIANTARE'!#REF!=1,'3 - SPECIE DA IMPIANTARE'!#REF!,\"\")","v":{"$error":"#REF!"}},{"$f":"IF(AND($A34=\"AZIONE_1\",$B34=1),'3 - SPECIE DA IMPIANTARE'!$H35,\"\")","v":{"$error":"#REF!"}},{"$f":"IF(AND($A34=\"AZIONE_1\",$B34=1),'3 - SPECIE DA IMPIANTARE'!$K35,\"\")","v":{"$error":"#REF!"}},{"$f":"IF('3 - SPECIE DA IMPIANTARE'!#REF!=2,'3 - SPECIE DA IMPIANTARE'!#REF!,\"\")","v":{"$error":"#REF!"}},{"$f":"IF(AND($A34=\"AZIONE_1\",$E34=2),'3 - SPECIE DA IMPIANTARE'!$H35,\"\")","v":{"$error":"#REF!"}},{"$f":"IF(AND($A34=\"AZIONE_1\",$B34=1),'3 - SPECIE DA IMPIANTARE'!$T35,\"\")","v":{"$error":"#REF!"}},{"$f":"IF(AND($A34=\"AZIONE_1\",$B34=1),'3 - SPECIE DA IMPIANTARE'!$W35,\"\")","v":{"$error":"#REF!"}},null,{"$f":"IF('3 - SPECIE DA IMPIANTARE'!#REF!=2,'3 - SPECIE DA IMPIANTARE'!#REF!,\"\")","v":{"$error":"#REF!"}},{"$f":"IF(AND($A34=\"AZIONE_1\",$J34=2),'3 - SPECIE DA IMPIANTARE'!$H35,\"\")","v":{"$error":"#REF!"}}]
[{"$f":"IF('3 - SPECIE DA IMPIANTARE'!$G36=\"AZIONE_1\",'3 - SPECIE DA IMPIANTARE'!$G36,\"\")","v":""},{"$f":"IF('3 - SPECIE DA IMPIANTARE'!#REF!=1,'3 - SPECIE DA IMPIANTARE'!#REF!,\"\")","v":{"$error":"#REF!"}},{"$f":"IF(AND($A35=\"AZIONE_1\",$B35=1),'3 - SPECIE DA IMPIANTARE'!$H36,\"\")","v":{"$error":"#REF!"}},{"$f":"IF(AND($A35=\"AZIONE_1\",$B35=1),'3 - SPECIE DA IMPIANTARE'!$K36,\"\")","v":{"$error":"#REF!"}},{"$f":"IF('3 - SPECIE DA IMPIANTARE'!#REF!=2,'3 - SPECIE DA IMPIANTARE'!#REF!,\"\")","v":{"$error":"#REF!"}},{"$f":"IF(AND($A35=\"AZIONE_1\",$E35=2),'3 - SPECIE DA IMPIANTARE'!$H36,\"\")","v":{"$error":"#REF!"}},{"$f":"IF(AND($A35=\"AZIONE_1\",$B35=1),'3 - SPECIE DA IMPIANTARE'!$T36,\"\")","v":{"$error":"#REF!"}},{"$f":"IF(AND($A35=\"AZIONE_1\",$B35=1),'3 - SPECIE DA IMPIANTARE'!$W36,\"\")","v":{"$error":"#REF!"}},null,{"$f":"IF('3 - SPECIE DA IMPIANTARE'!#REF!=2,'3 - SPECIE DA IMPIANTARE'!#REF!,\"\")","v":{"$error":"#REF!"}},{"$f":"IF(AND($A35=\"AZIONE_1\",$J35=2),'3 - SPECIE DA IMPIANTARE'!$H36,\"\")","v":{"$error":"#REF!"}}]
[{"$f":"IF('3 - SPECIE DA IMPIANTARE'!$G37=\"AZIONE_1\",'3 - SPECIE DA IMPIANTARE'!$G37,\"\")","v":""},{"$f":"IF('3 - SPECIE DA IMPIANTARE'!#REF!=1,'3 - SPECIE DA IMPIANTARE'!#REF!,\"\")","v":{"$error":"#REF!"}},{"$f":"IF(AND($A36=\"AZIONE_1\",$B36=1),'3 - SPECIE DA IMPIANTARE'!$H37,\"\")","v":{"$error":"#REF!"}},{"$f":"IF(AND($A36=\"AZIONE_1\",$B36=1),'3 - SPECIE DA IMPIANTARE'!$K37,\"\")","v":{"$error":"#REF!"}},{"$f":"IF('3 - SPECIE DA IMPIANTARE'!#REF!=2,'3 - SPECIE DA IMPIANTARE'!#REF!,\"\")","v":{"$error":"#REF!"}},{"$f":"IF(AND($A36=\"AZIONE_1\",$E36=2),'3 - SPECIE DA IMPIANTARE'!$H37,\"\")","v":{"$error":"#REF!"}},{"$f":"IF(AND($A36=\"AZIONE_1\",$B36=1),'3 - SPECIE DA IMPIANTARE'!$T37,\"\")","v":{"$error":"#REF!"}},{"$f":"IF(AND($A36=\"AZIONE_1\",$B36=1),'3 - SPECIE DA IMPIANTARE'!$W37,\"\")","v":{"$error":"#REF!"}},null,{"$f":"IF('3 - SPECIE DA IMPIANTARE'!#REF!=2,'3 - SPECIE DA IMPIANTARE'!#REF!,\"\")","v":{"$error":"#REF!"}},{"$f":"IF(AND($A36=\"AZIONE_1\",$J36=2),'3 - SPECIE DA IMPIANTARE'!$H37,\"\")","v":{"$error":"#REF!"}}]
[{"$f":"IF('3 - SPECIE DA IMPIANTARE'!$G38=\"AZIONE_1\",'3 - SPECIE DA IMPIANTARE'!$G38,\"\")","v":""},{"$f":"IF('3 - SPECIE DA IMPIANTARE'!#REF!=1,'3 - SPECIE DA IMPIANTARE'!#REF!,\"\")","v":{"$error":"#REF!"}},{"$f":"IF(AND($A37=\"AZIONE_1\",$B37=1),'3 - SPECIE DA IMPIANTARE'!$H38,\"\")","v":{"$error":"#REF!"}},{"$f":"IF(AND($A37=\"AZIONE_1\",$B37=1),'3 - SPECIE DA IMPIANTARE'!$K38,\"\")","v":{"$error":"#REF!"}},{"$f":"IF('3 - SPECIE DA IMPIANTARE'!#REF!=2,'3 - SPECIE DA IMPIANTARE'!#REF!,\"\")","v":{"$error":"#REF!"}},{"$f":"IF(AND($A37=\"AZIONE_1\",$E37=2),'3 - SPECIE DA IMPIANTARE'!$H38,\"\")","v":{"$error":"#REF!"}},{"$f":"IF(AND($A37=\"AZIONE_1\",$B37=1),'3 - SPECIE DA IMPIANTARE'!$T38,\"\")","v":{"$error":"#REF!"}},{"$f":"IF(AND($A37=\"AZIONE_1\",$B37=1),'3 - SPECIE DA IMPIANTARE'!$W38,\"\")","v":{"$error":"#REF!"}},null,{"$f":"IF('3 - SPECIE DA IMPIANTARE'!#REF!=2,'3 - SPECIE DA IMPIANTARE'!#REF!,\"\")","v":{"$error":"#REF!"}},{"$f":"IF(AND($A37=\"AZIONE_1\",$J37=2),'3 - SPECIE DA IMPIANTARE'!$H38,\"\")","v":{"$error":"#REF!"}}]
[{"$f":"IF('3 - SPECIE DA IMPIANTARE'!$G39=\"AZIONE_1\",'3 - SPECIE DA IMPIANTARE'!$G39,\"\")","v":""},{"$f":"IF('3 - SPECIE DA IMPIANTARE'!#REF!=1,'3 - SPECIE DA IMPIANTARE'!#REF!,\"\")","v":{"$error":"#REF!"}},{"$f":"IF(AND($A38=\"AZIONE_1\",$B38=1),'3 - SPECIE DA IMPIANTARE'!$H39,\"\")","v":{"$error":"#REF!"}},{"$f":"IF(AND($A38=\"AZIONE_1\",$B38=1),'3 - SPECIE DA IMPIANTARE'!$K39,\"\")","v":{"$error":"#REF!"}},{"$f":"IF('3 - SPECIE DA IMPIANTARE'!#REF!=2,'3 - SPECIE DA IMPIANTARE'!#REF!,\"\")","v":{"$error":"#REF!"}},{"$f":"IF(AND($A38=\"AZIONE_1\",$E38=2),'3 - SPECIE DA IMPIANTARE'!$H39,\"\")","v":{"$error":"#REF!"}},{"$f":"IF(AND($A38=\"AZIONE_1\",$B38=1),'3 - SPECIE DA IMPIANTARE'!$T39,\"\")","v":{"$error":"#REF!"}},{"$f":"IF(AND($A38=\"AZIONE_1\",$B38=1),'3 - SPECIE DA IMPIANTARE'!$W39,\"\")","v":{"$error":"#REF!"}},null,{"$f":"IF('3 - SPECIE DA IMPIANTARE'!#REF!=2,'3 - SPECIE DA IMPIANTARE'!#REF!,\"\")","v":{"$error":"#REF!"}},{"$f":"IF(AND($A38=\"AZIONE_1\",$J38=2),'3 - SPECIE DA IMPIANTARE'!$H39,\"\")","v":{"$error":"#REF!"}}]
[{"$f":"IF('3 - SPECIE DA IMPIANTARE'!$G40=\"AZIONE_1\",'3 - SPECIE DA IMPIANTARE'!$G40,\"\")","v":""},{"$f":"IF('3 - SPECIE DA IMPIANTARE'!#REF!=1,'3 - SPECIE DA IMPIANTARE'!#REF!,\"\")","v":{"$error":"#REF!"}},{"$f":"IF(AND($A39=\"AZIONE_1\",$B39=1),'3 - SPECIE DA IMPIANTARE'!$H40,\"\")","v":{"$error":"#REF!"}},{"$f":"IF(AND($A39=\"AZIONE_1\",$B39=1),'3 - SPECIE DA IMPIANTARE'!$K40,\"\")","v":{"$error":"#REF!"}},{"$f":"IF('3 - SPECIE DA IMPIANTARE'!#REF!=2,'3 - SPECIE DA IMPIANTARE'!#REF!,\"\")","v":{"$error":"#REF!"}},{"$f":"IF(AND($A39=\"AZIONE_1\",$E39=2),'3 - SPECIE DA IMPIANTARE'!$H40,\"\")","v":{"$error":"#REF!"}},{"$f":"IF(AND($A39=\"AZIONE_1\",$B39=1),'3 - SPECIE DA IMPIANTARE'!$T40,\"\")","v":{"$error":"#REF!"}},{"$f":"IF(AND($A39=\"AZIONE_1\",$B39=1),'3 - SPECIE DA IMPIANTARE'!$W40,\"\")","v":{"$error":"#REF!"}},null,{"$f":"IF('3 - SPECIE DA IMPIANTARE'!#REF!=2,'3 - SPECIE DA IMPIANTARE'!#REF!,\"\")","v":{"$error":"#REF!"}},{"$f":"IF(AND($A39=\"AZIONE_1\",$J39=2),'3 - SPECIE DA IMPIANTARE'!$H40,\"\")","v":{"$error":"#REF!"}}]
[{"$f":"IF('3 - SPECIE DA IMPIANTARE'!$G41=\"AZIONE_1\",'3 - SPECIE DA IMPIANTARE'!$G41,\"\")","v":""},{"$f":"IF('3 - SPECIE DA IMPIANTARE'!#REF!=1,'3 - SPECIE DA IMPIANTARE'!#REF!,\"\")","v":{"$error":"#REF!"}},{"$f":"IF(AND($A40=\"AZIONE_1\",$B40=1),'3 - SPECIE DA IMPIANTARE'!$H41,\"\")","v":{"$error":"#REF!"}},{"$f":"IF(AND($A40=\"AZIONE_1\",$B40=1),'3 - SPECIE DA IMPIANTARE'!$K41,\"\")","v":{"$error":"#REF!"}},{"$f":"IF('3 - SPECIE DA IMPIANTARE'!#REF!=2,'3 - SPECIE DA IMPIANTARE'!#REF!,\"\")","v":{"$error":"#REF!"}},{"$f":"IF(AND($A40=\"AZIONE_1\",$E40=2),'3 - SPECIE DA IMPIANTARE'!$H41,\"\")","v":{"$error":"#REF!"}},{"$f":"IF(AND($A40=\"AZIONE_1\",$B40=1),'3 - SPECIE DA IMPIANTARE'!$T41,\"\")","v":{"$error":"#REF!"}},{"$f":"IF(AND($A40=\"AZIONE_1\",$B40=1),'3 - SPECIE DA IMPIANTARE'!$W41,\"\")","v":{"$error":"#REF!"}},null,{"$f":"IF('3 - SPECIE DA IMPIANTARE'!#REF!=2,'3 - SPECIE DA IMPIANTARE'!#REF!,\"\")","v":{"$error":"#REF!"}},{"$f":"IF(AND($A40=\"AZIONE_1\",$J40=2),'3 - SPECIE DA IMPIANTARE'!$H41,\"\")","v":{"$error":"#REF!"}}]
[{"$f":"IF('3 - SPECIE DA IMPIANTARE'!$G42=\"AZIONE_1\",'3 - SPECIE DA IMPIANTARE'!$G42,\"\")","v":""},{"$f":"IF('3 - SPECIE DA IMPIANTARE'!#REF!=1,'3 - SPECIE DA IMPIANTARE'!#REF!,\"\")","v":{"$error":"#REF!"}},{"$f":"IF(AND($A41=\"AZIONE_1\",$B41=1),'3 - SPECIE DA IMPIANTARE'!$H42,\"\")","v":{"$error":"#REF!"}},{"$f":"IF(AND($A41=\"AZIONE_1\",$B41=1),'3 - SPECIE DA IMPIANTARE'!$K42,\"\")","v":{"$error":"#REF!"}},{"$f":"IF('3 - SPECIE DA IMPIANTARE'!#REF!=2,'3 - SPECIE DA IMPIANTARE'!#REF!,\"\")","v":{"$error":"#REF!"}},{"$f":"IF(AND($A41=\"AZIONE_1\",$E41=2),'3 - SPECIE DA IMPIANTARE'!$H42,\"\")","v":{"$error":"#REF!"}},{"$f":"IF(AND($A41=\"AZIONE_1\",$B41=1),'3 - SPECIE DA IMPIANTARE'!$T42,\"\")","v":{"$error":"#REF!"}},{"$f":"IF(AND($A41=\"AZIONE_1\",$B41=1),'3 - SPECIE DA IMPIANTARE'!$W42,\"\")","v":{"$error":"#REF!"}},null,{"$f":"IF('3 - SPECIE DA IMPIANTARE'!#REF!=2,'3 - SPECIE DA IMPIANTARE'!#REF!,\"\")","v":{"$error":"#REF!"}},{"$f":"IF(AND($A41=\"AZIONE_1\",$J41=2),'3 - SPECIE DA IMPIANTARE'!$H42,\"\")","v":{"$error":"#REF!"}}]
[{"$f":"IF('3 - SPECIE DA IMPIANTARE'!$G43=\"AZIONE_1\",'3 - SPECIE DA IMPIANTARE'!$G43,\"\")","v":""},{"$f":"IF('3 - SPECIE DA IMPIANTARE'!#REF!=1,'3 - SPECIE DA IMPIANTARE'!#REF!,\"\")","v":{"$error":"#REF!"}},{"$f":"IF(AND($A42=\"AZIONE_1\",$B42=1),'3 - SPECIE DA IMPIANTARE'!$H43,\"\")","v":{"$error":"#REF!"}},{"$f":"IF(AND($A42=\"AZIONE_1\",$B42=1),'3 - SPECIE DA IMPIANTARE'!$K43,\"\")","v":{"$error":"#REF!"}},{"$f":"IF('3 - SPECIE DA IMPIANTARE'!#REF!=2,'3 - SPECIE DA IMPIANTARE'!#REF!,\"\")","v":{"$error":"#REF!"}},{"$f":"IF(AND($A42=\"AZIONE_1\",$E42=2),'3 - SPECIE DA IMPIANTARE'!$H43,\"\")","v":{"$error":"#REF!"}},{"$f":"IF(AND($A42=\"AZIONE_1\",$B42=1),'3 - SPECIE DA IMPIANTARE'!$T43,\"\")","v":{"$error":"#REF!"}},{"$f":"IF(AND($A42=\"AZIONE_1\",$B42=1),'3 - SPECIE DA IMPIANTARE'!$W43,\"\")","v":{"$error":"#REF!"}},null,{"$f":"IF('3 - SPECIE DA IMPIANTARE'!#REF!=2,'3 - SPECIE DA IMPIANTARE'!#REF!,\"\")","v":{"$error":"#REF!"}},{"$f":"IF(AND($A42=\"AZIONE_1\",$J42=2),'3 - SPECIE DA IMPIANTARE'!$H43,\"\")","v":{"$error":"#REF!"}}]
[{"$f":"IF('3 - SPECIE DA IMPIANTARE'!$G44=\"AZIONE_1\",'3 - SPECIE DA IMPIANTARE'!$G44,\"\")","v":""},{"$f":"IF('3 - SPECIE DA IMPIANTARE'!#REF!=1,'3 - SPECIE DA IMPIANTARE'!#REF!,\"\")","v":{"$error":"#REF!"}},{"$f":"IF(AND($A43=\"AZIONE_1\",$B43=1),'3 - SPECIE DA IMPIANTARE'!$H44,\"\")","v":{"$error":"#REF!"}},{"$f":"IF(AND($A43=\"AZIONE_1\",$B43=1),'3 - SPECIE DA IMPIANTARE'!$K44,\"\")","v":{"$error":"#REF!"}},{"$f":"IF('3 - SPECIE DA IMPIANTARE'!#REF!=2,'3 - SPECIE DA IMPIANTARE'!#REF!,\"\")","v":{"$error":"#REF!"}},{"$f":"IF(AND($A43=\"AZIONE_1\",$E43=2),'3 - SPECIE DA IMPIANTARE'!$H44,\"\")","v":{"$error":"#REF!"}},{"$f":"IF(AND($A43=\"AZIONE_1\",$B43=1),'3 - SPECIE DA IMPIANTARE'!$T44,\"\")","v":{"$error":"#REF!"}},{"$f":"IF(AND($A43=\"AZIONE_1\",$B43=1),'3 - SPECIE DA IMPIANTARE'!$W44,\"\")","v":{"$error":"#REF!"}},null,{"$f":"IF('3 - SPECIE DA IMPIANTARE'!#REF!=2,'3 - SPECIE DA IMPIANTARE'!#REF!,\"\")","v":{"$error":"#REF!"}},{"$f":"IF(AND($A43=\"AZIONE_1\",$J43=2),'3 - SPECIE DA IMPIANTARE'!$H44,\"\")","v":{"$error":"#REF!"}}]
[{"$f":"IF('3 - SPECIE DA IMPIANTARE'!$G45=\"AZIONE_1\",'3 - SPECIE DA IMPIANTARE'!$G45,\"\")","v":""},{"$f":"IF('3 - SPECIE DA IMPIANTARE'!#REF!=1,'3 - SPECIE DA IMPIANTARE'!#REF!,\"\")","v":{"$error":"#REF!"}},{"$f":"IF(AND($A44=\"AZIONE_1\",$B44=1),'3 - SPECIE DA IMPIANTARE'!$H45,\"\")","v":{"$error":"#REF!"}},{"$f":"IF(AND($A44=\"AZIONE_1\",$B44=1),'3 - SPECIE DA IMPIANTARE'!$K45,\"\")","v":{"$error":"#REF!"}},{"$f":"IF('3 - SPECIE DA IMPIANTARE'!#REF!=2,'3 - SPECIE DA IMPIANTARE'!#REF!,\"\")","v":{"$error":"#REF!"}},{"$f":"IF(AND($A44=\"AZIONE_1\",$E44=2),'3 - SPECIE DA IMPIANTARE'!$H45,\"\")","v":{"$error":"#REF!"}},{"$f":"IF(AND($A44=\"AZIONE_1\",$B44=1),'3 - SPECIE DA IMPIANTARE'!$T45,\"\")","v":{"$error":"#REF!"}},{"$f":"IF(AND($A44=\"AZIONE_1\",$B44=1),'3 - SPECIE DA IMPIANTARE'!$W45,\"\")","v":{"$error":"#REF!"}},null,{"$f":"IF('3 - SPECIE DA IMPIANTARE'!#REF!=2,'3 - SPECIE DA IMPIANTARE'!#REF!,\"\")","v":{"$error":"#REF!"}},{"$f":"IF(AND($A44=\"AZIONE_1\",$J44=2),'3 - SPECIE DA IMPIANTARE'!$H45,\"\")","v":{"$error":"#REF!"}}]
[{"$f":"IF('3 - SPECIE DA IMPIANTARE'!$G46=\"AZIONE_1\",'3 - SPECIE DA IMPIANTARE'!$G46,\"\")","v":""},{"$f":"IF('3 - SPECIE DA IMPIANTARE'!#REF!=1,'3 - SPECIE DA IMPIANTARE'!#REF!,\"\")","v":{"$error":"#REF!"}},{"$f":"IF(AND($A45=\"AZIONE_1\",$B45=1),'3 - SPECIE DA IMPIANTARE'!$H46,\"\")","v":{"$error":"#REF!"}},{"$f":"IF(AND($A45=\"AZIONE_1\",$B45=1),'3 - SPECIE DA IMPIANTARE'!$K46,\"\")","v":{"$error":"#REF!"}},{"$f":"IF('3 - SPECIE DA IMPIANTARE'!#REF!=2,'3 - SPECIE DA IMPIANTARE'!#REF!,\"\")","v":{"$error":"#REF!"}},{"$f":"IF(AND($A45=\"AZIONE_1\",$E45=2),'3 - SPECIE DA IMPIANTARE'!$H46,\"\")","v":{"$error":"#REF!"}},{"$f":"IF(AND($A45=\"AZIONE_1\",$B45=1),'3 - SPECIE DA IMPIANTARE'!$T46,\"\")","v":{"$error":"#REF!"}},{"$f":"IF(AND($A45=\"AZIONE_1\",$B45=1),'3 - SPECIE DA IMPIANTARE'!$W46,\"\")","v":{"$error":"#REF!"}},null,{"$f":"IF('3 - SPECIE DA IMPIANTARE'!#REF!=2,'3 - SPECIE DA IMPIANTARE'!#REF!,\"\")","v":{"$error":"#REF!"}},{"$f":"IF(AND($A45=\"AZIONE_1\",$J45=2),'3 - SPECIE DA IMPIANTARE'!$H46,\"\")","v":{"$error":"#REF!"}}]
[{"$f":"IF('3 - SPECIE DA IMPIANTARE'!$G47=\"AZIONE_1\",'3 - SPECIE DA IMPIANTARE'!$G47,\"\")","v":""},{"$f":"IF('3 - SPECIE DA IMPIANTARE'!#REF!=1,'3 - SPECIE DA IMPIANTARE'!#REF!,\"\")","v":{"$error":"#REF!"}},{"$f":"IF(AND($A46=\"AZIONE_1\",$B46=1),'3 - SPECIE DA IMPIANTARE'!$H47,\"\")","v":{"$error":"#REF!"}},{"$f":"IF(AND($A46=\"AZIONE_1\",$B46=1),'3 - SPECIE DA IMPIANTARE'!$K47,\"\")","v":{"$error":"#REF!"}},{"$f":"IF('3 - SPECIE DA IMPIANTARE'!#REF!=2,'3 - SPECIE DA IMPIANTARE'!#REF!,\"\")","v":{"$error":"#REF!"}},{"$f":"IF(AND($A46=\"AZIONE_1\",$E46=2),'3 - SPECIE DA IMPIANTARE'!$H47,\"\")","v":{"$error":"#REF!"}},{"$f":"IF(AND($A46=\"AZIONE_1\",$B46=1),'3 - SPECIE DA IMPIANTARE'!$T47,\"\")","v":{"$error":"#REF!"}},{"$f":"IF(AND($A46=\"AZIONE_1\",$B46=1),'3 - SPECIE DA IMPIANTARE'!$W47,\"\")","v":{"$error":"#REF!"}},null,{"$f":"IF('3 - SPECIE DA IMPIANTARE'!#REF!=2,'3 - SPECIE DA IMPIANTARE'!#REF!,\"\")","v":{"$error":"#REF!"}},{"$f":"IF(AND($A46=\"AZIONE_1\",$J46=2),'3 - SPECIE DA IMPIANTARE'!$H47,\"\")","v":{"$error":"#REF!"}}]
[{"$f":"IF('3 - SPECIE DA IMPIANTARE'!$G48=\"AZIONE_1\",'3 - SPECIE DA IMPIANTARE'!$G48,\"\")","v":""},{"$f":"IF('3 - SPECIE DA IMPIANTARE'!#REF!=1,'3 - SPECIE DA IMPIANTARE'!#REF!,\"\")","v":{"$error":"#REF!"}},{"$f":"IF(AND($A47=\"AZIONE_1\",$B47=1),'3 - SPECIE DA IMPIANTARE'!$H48,\"\")","v":{"$error":"#REF!"}},{"$f":"IF(AND($A47=\"AZIONE_1\",$B47=1),'3 - SPECIE DA IMPIANTARE'!$K48,\"\")","v":{"$error":"#REF!"}},{"$f":"IF('3 - SPECIE DA IMPIANTARE'!#REF!=2,'3 - SPECIE DA IMPIANTARE'!#REF!,\"\")","v":{"$error":"#REF!"}},{"$f":"IF(AND($A47=\"AZIONE_1\",$E47=2),'3 - SPECIE DA IMPIANTARE'!$H48,\"\")","v":{"$error":"#REF!"}},{"$f":"IF(AND($A47=\"AZIONE_1\",$B47=1),'3 - SPECIE DA IMPIANTARE'!$T48,\"\")","v":{"$error":"#REF!"}},{"$f":"IF(AND($A47=\"AZIONE_1\",$B47=1),'3 - SPECIE DA IMPIANTARE'!$W48,\"\")","v":{"$error":"#REF!"}},null,{"$f":"IF('3 - SPECIE DA IMPIANTARE'!#REF!=2,'3 - SPECIE DA IMPIANTARE'!#REF!,\"\")","v":{"$error":"#REF!"}},{"$f":"IF(AND($A47=\"AZIONE_1\",$J47=2),'3 - SPECIE DA IMPIANTARE'!$H48,\"\")","v":{"$error":"#REF!"}}]
[{"$f":"IF('3 - SPECIE DA IMPIANTARE'!$G49=\"AZIONE_1\",'3 - SPECIE DA IMPIANTARE'!$G49,\"\")","v":""},{"$f":"IF('3 - SPECIE DA IMPIANTARE'!#REF!=1,'3 - SPECIE DA IMPIANTARE'!#REF!,\"\")","v":{"$error":"#REF!"}},{"$f":"IF(AND($A48=\"AZIONE_1\",$B48=1),'3 - SPECIE DA IMPIANTARE'!$H49,\"\")","v":{"$error":"#REF!"}},{"$f":"IF(AND($A48=\"AZIONE_1\",$B48=1),'3 - SPECIE DA IMPIANTARE'!$K49,\"\")","v":{"$error":"#REF!"}},{"$f":"IF('3 - SPECIE DA IMPIANTARE'!#REF!=2,'3 - SPECIE DA IMPIANTARE'!#REF!,\"\")","v":{"$error":"#REF!"}},{"$f":"IF(AND($A48=\"AZIONE_1\",$E48=2),'3 - SPECIE DA IMPIANTARE'!$H49,\"\")","v":{"$error":"#REF!"}},{"$f":"IF(AND($A48=\"AZIONE_1\",$B48=1),'3 - SPECIE DA IMPIANTARE'!$T49,\"\")","v":{"$error":"#REF!"}},{"$f":"IF(AND($A48=\"AZIONE_1\",$B48=1),'3 - SPECIE DA IMPIANTARE'!$W49,\"\")","v":{"$error":"#REF!"}},null,{"$f":"IF('3 - SPECIE DA IMPIANTARE'!#REF!=2,'3 - SPECIE DA IMPIANTARE'!#REF!,\"\")","v":{"$error":"#REF!"}},{"$f":"IF(AND($A48=\"AZIONE_1\",$J48=2),'3 - SPECIE DA IMPIANTARE'!$H49,\"\")","v":{"$error":"#REF!"}}]
[{"$f":"IF('3 - SPECIE DA IMPIANTARE'!$G50=\"AZIONE_1\",'3 - SPECIE DA IMPIANTARE'!$G50,\"\")","v":""},{"$f":"IF('3 - SPECIE DA IMPIANTARE'!#REF!=1,'3 - SPECIE DA IMPIANTARE'!#REF!,\"\")","v":{"$error":"#REF!"}},{"$f":"IF(AND($A49=\"AZIONE_1\",$B49=1),'3 - SPECIE DA IMPIANTARE'!$H50,\"\")","v":{"$error":"#REF!"}},{"$f":"IF(AND($A49=\"AZIONE_1\",$B49=1),'3 - SPECIE DA IMPIANTARE'!$K50,\"\")","v":{"$error":"#REF!"}},{"$f":"IF('3 - SPECIE DA IMPIANTARE'!#REF!=2,'3 - SPECIE DA IMPIANTARE'!#REF!,\"\")","v":{"$error":"#REF!"}},{"$f":"IF(AND($A49=\"AZIONE_1\",$E49=2),'3 - SPECIE DA IMPIANTARE'!$H50,\"\")","v":{"$error":"#REF!"}},{"$f":"IF(AND($A49=\"AZIONE_1\",$B49=1),'3 - SPECIE DA IMPIANTARE'!$T50,\"\")","v":{"$error":"#REF!"}},{"$f":"IF(AND($A49=\"AZIONE_1\",$B49=1),'3 - SPECIE DA IMPIANTARE'!$W50,\"\")","v":{"$error":"#REF!"}},null,{"$f":"IF('3 - SPECIE DA IMPIANTARE'!#REF!=2,'3 - SPECIE DA IMPIANTARE'!#REF!,\"\")","v":{"$error":"#REF!"}},{"$f":"IF(AND($A49=\"AZIONE_1\",$J49=2),'3 - SPECIE DA IMPIANTARE'!$H50,\"\")","v":{"$error":"#REF!"}}]
[{"$f":"IF('3 - SPECIE DA IMPIANTARE'!$G51=\"AZIONE_1\",'3 - SPECIE DA IMPIANTARE'!$G51,\"\")","v":""},{"$f":"IF('3 - SPECIE DA IMPIANTARE'!#REF!=1,'3 - SPECIE DA IMPIANTARE'!#REF!,\"\")","v":{"$error":"#REF!"}},{"$f":"IF(AND($A50=\"AZIONE_1\",$B50=1),'3 - SPECIE DA IMPIANTARE'!$H51,\"\")","v":{"$error":"#REF!"}},{"$f":"IF(AND($A50=\"AZIONE_1\",$B50=1),'3 - SPECIE DA IMPIANTARE'!$K51,\"\")","v":{"$error":"#REF!"}},{"$f":"IF('3 - SPECIE DA IMPIANTARE'!#REF!=2,'3 - SPECIE DA IMPIANTARE'!#REF!,\"\")","v":{"$error":"#REF!"}},{"$f":"IF(AND($A50=\"AZIONE_1\",$E50=2),'3 - SPECIE DA IMPIANTARE'!$H51,\"\")","v":{"$error":"#REF!"}},{"$f":"IF(AND($A50=\"AZIONE_1\",$B50=1),'3 - SPECIE DA IMPIANTARE'!$T51,\"\")","v":{"$error":"#REF!"}},{"$f":"IF(AND($A50=\"AZIONE_1\",$B50=1),'3 - SPECIE DA IMPIANTARE'!$W51,\"\")","v":{"$error":"#REF!"}},null,{"$f":"IF('3 - SPECIE DA IMPIANTARE'!#REF!=2,'3 - SPECIE DA IMPIANTARE'!#REF!,\"\")","v":{"$error":"#REF!"}},{"$f":"IF(AND($A50=\"AZIONE_1\",$J50=2),'3 - SPECIE DA IMPIANTARE'!$H51,\"\")","v":{"$error":"#REF!"}}]
[{"$f":"IF('3 - SPECIE DA IMPIANTARE'!$G52=\"AZIONE_1\",'3 - SPECIE DA IMPIANTARE'!$G52,\"\")","v":""},{"$f":"IF('3 - SPECIE DA IMPIANTARE'!#REF!=1,'3 - SPECIE DA IMPIANTARE'!#REF!,\"\")","v":{"$error":"#REF!"}},{"$f":"IF(AND($A51=\"AZIONE_1\",$B51=1),'3 - SPECIE DA IMPIANTARE'!$H52,\"\")","v":{"$error":"#REF!"}},{"$f":"IF(AND($A51=\"AZIONE_1\",$B51=1),'3 - SPECIE DA IMPIANTARE'!$K52,\"\")","v":{"$error":"#REF!"}},{"$f":"IF('3 - SPECIE DA IMPIANTARE'!#REF!=2,'3 - SPECIE DA IMPIANTARE'!#REF!,\"\")","v":{"$error":"#REF!"}},{"$f":"IF(AND($A51=\"AZIONE_1\",$E51=2),'3 - SPECIE DA IMPIANTARE'!$H52,\"\")","v":{"$error":"#REF!"}},{"$f":"IF(AND($A51=\"AZIONE_1\",$B51=1),'3 - SPECIE DA IMPIANTARE'!$T52,\"\")","v":{"$error":"#REF!"}},{"$f":"IF(AND($A51=\"AZIONE_1\",$B51=1),'3 - SPECIE DA IMPIANTARE'!$W52,\"\")","v":{"$error":"#REF!"}},null,{"$f":"IF('3 - SPECIE DA IMPIANTARE'!#REF!=2,'3 - SPECIE DA IMPIANTARE'!#REF!,\"\")","v":{"$error":"#REF!"}},{"$f":"IF(AND($A51=\"AZIONE_1\",$J51=2),'3 - SPECIE DA IMPIANTARE'!$H52,\"\")","v":{"$error":"#REF!"}}]
[{"$f":"IF('3 - SPECIE DA IMPIANTARE'!$G53=\"AZIONE_1\",'3 - SPECIE DA IMPIANTARE'!$G53,\"\")","v":""},{"$f":"IF('3 - SPECIE DA IMPIANTARE'!#REF!=1,'3 - SPECIE DA IMPIANTARE'!#REF!,\"\")","v":{"$error":"#REF!"}},{"$f":"IF(AND($A52=\"AZIONE_1\",$B52=1),'3 - SPECIE DA IMPIANTARE'!$H53,\"\")","v":{"$error":"#REF!"}},{"$f":"IF(AND($A52=\"AZIONE_1\",$B52=1),'3 - SPECIE DA IMPIANTARE'!$K53,\"\")","v":{"$error":"#REF!"}},{"$f":"IF('3 - SPECIE DA IMPIANTARE'!#REF!=2,'3 - SPECIE DA IMPIANTARE'!#REF!,\"\")","v":{"$error":"#REF!"}},{"$f":"IF(AND($A52=\"AZIONE_1\",$E52=2),'3 - SPECIE DA IMPIANTARE'!$H53,\"\")","v":{"$error":"#REF!"}},{"$f":"IF(AND($A52=\"AZIONE_1\",$B52=1),'3 - SPECIE DA IMPIANTARE'!$T53,\"\")","v":{"$error":"#REF!"}},{"$f":"IF(AND($A52=\"AZIONE_1\",$B52=1),'3 - SPECIE DA IMPIANTARE'!$W53,\"\")","v":{"$error":"#REF!"}},null,{"$f":"IF('3 - SPECIE DA IMPIANTARE'!#REF!=2,'3 - SPECIE DA IMPIANTARE'!#REF!,\"\")","v":{"$error":"#REF!"}},{"$f":"IF(AND($A52=\"AZIONE_1\",$J52=2),'3 - SPECIE DA IMPIANTARE'!$H53,\"\")","v":{"$error":"#REF!"}}]
[{"$f":"IF('3 - SPECIE DA IMPIANTARE'!$G54=\"AZIONE_1\",'3 - SPECIE DA IMPIANTARE'!$G54,\"\")","v":""},{"$f":"IF('3 - SPECIE DA IMPIANTARE'!#REF!=1,'3 - SPECIE DA IMPIANTARE'!#REF!,\"\")","v":{"$error":"#REF!"}},{"$f":"IF(AND($A53=\"AZIONE_1\",$B53=1),'3 - SPECIE DA IMPIANTARE'!$H54,\"\")","v":{"$error":"#REF!"}},{"$f":"IF(AND($A53=\"AZIONE_1\",$B53=1),'3 - SPECIE DA IMPIANTARE'!$K54,\"\")","v":{"$error":"#REF!"}},{"$f":"IF('3 - SPECIE DA IMPIANTARE'!#REF!=2,'3 - SPECIE DA IMPIANTARE'!#REF!,\"\")","v":{"$error":"#REF!"}},{"$f":"IF(AND($A53=\"AZIONE_1\",$E53=2),'3 - SPECIE DA IMPIANTARE'!$H54,\"\")","v":{"$error":"#REF!"}},{"$f":"IF(AND($A53=\"AZIONE_1\",$B53=1),'3 - SPECIE DA IMPIANTARE'!$T54,\"\")","v":{"$error":"#REF!"}},{"$f":"IF(AND($A53=\"AZIONE_1\",$B53=1),'3 - SPECIE DA IMPIANTARE'!$W54,\"\")","v":{"$error":"#REF!"}},null,{"$f":"IF('3 - SPECIE DA IMPIANTARE'!#REF!=2,'3 - SPECIE DA IMPIANTARE'!#REF!,\"\")","v":{"$error":"#REF!"}},{"$f":"IF(AND($A53=\"AZIONE_1\",$J53=2),'3 - SPECIE DA IMPIANTARE'!$H54,\"\")","v":{"$error":"#REF!"}}]
[{"$f":"IF('3 - SPECIE DA IMPIANTARE'!$G55=\"AZIONE_1\",'3 - SPECIE DA IMPIANTARE'!$G55,\"\")","v":""},{"$f":"IF('3 - SPECIE DA IMPIANTARE'!#REF!=1,'3 - SPECIE DA IMPIANTARE'!#REF!,\"\")","v":{"$error":"#REF!"}},{"$f":"IF(AND($A54=\"AZIONE_1\",$B54=1),'3 - SPECIE DA IMPIANTARE'!$H55,\"\")","v":{"$error":"#REF!"}},{"$f":"IF(AND($A54=\"AZIONE_1\",$B54=1),'3 - SPECIE DA IMPIANTARE'!$K55,\"\")","v":{"$error":"#REF!"}},{"$f":"IF('3 - SPECIE DA IMPIANTARE'!#REF!=2,'3 - SPECIE DA IMPIANTARE'!#REF!,\"\")","v":{"$error":"#REF!"}},{"$f":"IF(AND($A54=\"AZIONE_1\",$E54=2),'3 - SPECIE DA IMPIANTARE'!$H55,\"\")","v":{"$error":"#REF!"}},{"$f":"IF(AND($A54=\"AZIONE_1\",$B54=1),'3 - SPECIE DA IMPIANTARE'!$T55,\"\")","v":{"$error":"#REF!"}},{"$f":"IF(AND($A54=\"AZIONE_1\",$B54=1),'3 - SPECIE DA IMPIANTARE'!$W55,\"\")","v":{"$error":"#REF!"}},null,{"$f":"IF('3 - SPECIE DA IMPIANTARE'!#REF!=2,'3 - SPECIE DA IMPIANTARE'!#REF!,\"\")","v":{"$error":"#REF!"}},{"$f":"IF(AND($A54=\"AZIONE_1\",$J54=2),'3 - SPECIE DA IMPIANTARE'!$H55,\"\")","v":{"$error":"#REF!"}}]
[{"$f":"IF('3 - SPECIE DA IMPIANTARE'!$G56=\"AZIONE_1\",'3 - SPECIE DA IMPIANTARE'!$G56,\"\")","v":""},{"$f":"IF('3 - SPECIE DA IMPIANTARE'!#REF!=1,'3 - SPECIE DA IMPIANTARE'!#REF!,\"\")","v":{"$error":"#REF!"}},{"$f":"IF(AND($A55=\"AZIONE_1\",$B55=1),'3 - SPECIE DA IMPIANTARE'!$H56,\"\")","v":{"$error":"#REF!"}},{"$f":"IF(AND($A55=\"AZIONE_1\",$B55=1),'3 - SPECIE DA IMPIANTARE'!$K56,\"\")","v":{"$error":"#REF!"}},{"$f":"IF('3 - SPECIE DA IMPIANTARE'!#REF!=2,'3 - SPECIE DA IMPIANTARE'!#REF!,\"\")","v":{"$error":"#REF!"}},{"$f":"IF(AND($A55=\"AZIONE_1\",$E55=2),'3 - SPECIE DA IMPIANTARE'!$H56,\"\")","v":{"$error":"#REF!"}},{"$f":"IF(AND($A55=\"AZIONE_1\",$B55=1),'3 - SPECIE DA IMPIANTARE'!$T56,\"\")","v":{"$error":"#REF!"}},{"$f":"IF(AND($A55=\"AZIONE_1\",$B55=1),'3 - SPECIE DA IMPIANTARE'!$W56,\"\")","v":{"$error":"#REF!"}},null,{"$f":"IF('3 - SPECIE DA IMPIANTARE'!#REF!=2,'3 - SPECIE DA IMPIANTARE'!#REF!,\"\")","v":{"$error":"#REF!"}},{"$f":"IF(AND($A55=\"AZIONE_1\",$J55=2),'3 - SPECIE DA IMPIANTARE'!$H56,\"\")","v":{"$error":"#REF!"}}]
[{"$f":"IF('3 - SPECIE DA IMPIANTARE'!$G57=\"AZIONE_1\",'3 - SPECIE DA IMPIANTARE'!$G57,\"\")","v":""},{"$f":"IF('3 - SPECIE DA IMPIANTARE'!#REF!=1,'3 - SPECIE DA IMPIANTARE'!#REF!,\"\")","v":{"$error":"#REF!"}},{"$f":"IF(AND($A56=\"AZIONE_1\",$B56=1),'3 - SPECIE DA IMPIANTARE'!$H57,\"\")","v":{"$error":"#REF!"}},{"$f":"IF(AND($A56=\"AZIONE_1\",$B56=1),'3 - SPECIE DA IMPIANTARE'!$K57,\"\")","v":{"$error":"#REF!"}},{"$f":"IF('3 - SPECIE DA IMPIANTARE'!#REF!=2,'3 - SPECIE DA IMPIANTARE'!#REF!,\"\")","v":{"$error":"#REF!"}},{"$f":"IF(AND($A56=\"AZIONE_1\",$E56=2),'3 - SPECIE DA IMPIANTARE'!$H57,\"\")","v":{"$error":"#REF!"}},{"$f":"IF(AND($A56=\"AZIONE_1\",$B56=1),'3 - SPECIE DA IMPIANTARE'!$T57,\"\")","v":{"$error":"#REF!"}},{"$f":"IF(AND($A56=\"AZIONE_1\",$B56=1),'3 - SPECIE DA IMPIANTARE'!$W57,\"\")","v":{"$error":"#REF!"}},null,{"$f":"IF('3 - SPECIE DA IMPIANTARE'!#REF!=2,'3 - SPECIE DA IMPIANTARE'!#REF!,\"\")","v":{"$error":"#REF!"}},{"$f":"IF(AND($A56=\"AZIONE_1\",$J56=2),'3 - SPECIE DA IMPIANTARE'!$H57,\"\")","v":{"$error":"#REF!"}}]
[{"$f":"IF('3 - SPECIE DA IMPIANTARE'!$G58=\"AZIONE_1\",'3 - SPECIE DA IMPIANTARE'!$G58,\"\")","v":""},{"$f":"IF('3 - SPECIE DA IMPIANTARE'!#REF!=1,'3 - SPECIE DA IMPIANTARE'!#REF!,\"\")","v":{"$error":"#REF!"}},{"$f":"IF(AND($A57=\"AZIONE_1\",$B57=1),'3 - SPECIE DA IMPIANTARE'!$H58,\"\")","v":{"$error":"#REF!"}},{"$f":"IF(AND($A57=\"AZIONE_1\",$B57=1),'3 - SPECIE DA IMPIANTARE'!$K58,\"\")","v":{"$error":"#REF!"}},{"$f":"IF('3 - SPECIE DA IMPIANTARE'!#REF!=2,'3 - SPECIE DA IMPIANTARE'!#REF!,\"\")","v":{"$error":"#REF!"}},{"$f":"IF(AND($A57=\"AZIONE_1\",$E57=2),'3 - SPECIE DA IMPIANTARE'!$H58,\"\")","v":{"$error":"#REF!"}},{"$f":"IF(AND($A57=\"AZIONE_1\",$B57=1),'3 - SPECIE DA IMPIANTARE'!$T58,\"\")","v":{"$error":"#REF!"}},{"$f":"IF(AND($A57=\"AZIONE_1\",$B57=1),'3 - SPECIE DA IMPIANTARE'!$W58,\"\")","v":{"$error":"#REF!"}},null,{"$f":"IF('3 - SPECIE DA IMPIANTARE'!#REF!=2,'3 - SPECIE DA IMPIANTARE'!#REF!,\"\")","v":{"$error":"#REF!"}},{"$f":"IF(AND($A57=\"AZIONE_1\",$J57=2),'3 - SPECIE DA IMPIANTARE'!$H58,\"\")","v":{"$error":"#REF!"}}]
[{"$f":"IF('3 - SPECIE DA IMPIANTARE'!$G59=\"AZIONE_1\",'3 - SPECIE DA IMPIANTARE'!$G59,\"\")","v":""},{"$f":"IF('3 - SPECIE DA IMPIANTARE'!#REF!=1,'3 - SPECIE DA IMPIANTARE'!#REF!,\"\")","v":{"$error":"#REF!"}},{"$f":"IF(AND($A58=\"AZIONE_1\",$B58=1),'3 - SPECIE DA IMPIANTARE'!$H59,\"\")","v":{"$error":"#REF!"}},{"$f":"IF(AND($A58=\"AZIONE_1\",$B58=1),'3 - SPECIE DA IMPIANTARE'!$K59,\"\")","v":{"$error":"#REF!"}},{"$f":"IF('3 - SPECIE DA IMPIANTARE'!#REF!=2,'3 - SPECIE DA IMPIANTARE'!#REF!,\"\")","v":{"$error":"#REF!"}},{"$f":"IF(AND($A58=\"AZIONE_1\",$E58=2),'3 - SPECIE DA IMPIANTARE'!$H59,\"\")","v":{"$error":"#REF!"}},{"$f":"IF(AND($A58=\"AZIONE_1\",$B58=1),'3 - SPECIE DA IMPIANTARE'!$T59,\"\")","v":{"$error":"#REF!"}},{"$f":"IF(AND($A58=\"AZIONE_1\",$B58=1),'3 - SPECIE DA IMPIANTARE'!$W59,\"\")","v":{"$error":"#REF!"}},null,{"$f":"IF('3 - SPECIE DA IMPIANTARE'!#REF!=2,'3 - SPECIE DA IMPIANTARE'!#REF!,\"\")","v":{"$error":"#REF!"}},{"$f":"IF(AND($A58=\"AZIONE_1\",$J58=2),'3 - SPECIE DA IMPIANTARE'!$H59,\"\")","v":{"$error":"#REF!"}}]
[{"$f":"IF('3 - SPECIE DA IMPIANTARE'!$G60=\"AZIONE_1\",'3 - SPECIE DA IMPIANTARE'!$G60,\"\")","v":""},{"$f":"IF('3 - SPECIE DA IMPIANTARE'!#REF!=1,'3 - SPECIE DA IMPIANTARE'!#REF!,\"\")","v":{"$error":"#REF!"}},{"$f":"IF(AND($A59=\"AZIONE_1\",$B59=1),'3 - SPECIE DA IMPIANTARE'!$H60,\"\")","v":{"$error":"#REF!"}},{"$f":"IF(AND($A59=\"AZIONE_1\",$B59=1),'3 - SPECIE DA IMPIANTARE'!$K60,\"\")","v":{"$error":"#REF!"}},{"$f":"IF('3 - SPECIE DA IMPIANTARE'!#REF!=2,'3 - SPECIE DA IMPIANTARE'!#REF!,\"\")","v":{"$error":"#REF!"}},{"$f":"IF(AND($A59=\"AZIONE_1\",$E59=2),'3 - SPECIE DA IMPIANTARE'!$H60,\"\")","v":{"$error":"#REF!"}},{"$f":"IF(AND($A59=\"AZIONE_1\",$B59=1),'3 - SPECIE DA IMPIANTARE'!$T60,\"\")","v":{"$error":"#REF!"}},{"$f":"IF(AND($A59=\"AZIONE_1\",$B59=1),'3 - SPECIE DA IMPIANTARE'!$W60,\"\")","v":{"$error":"#REF!"}},null,{"$f":"IF('3 - SPECIE DA IMPIANTARE'!#REF!=2,'3 - SPECIE DA IMPIANTARE'!#REF!,\"\")","v":{"$error":"#REF!"}},{"$f":"IF(AND($A59=\"AZIONE_1\",$J59=2),'3 - SPECIE DA IMPIANTARE'!$H60,\"\")","v":{"$error":"#REF!"}}]
[{"$f":"IF('3 - SPECIE DA IMPIANTARE'!$G61=\"AZIONE_1\",'3 - SPECIE DA IMPIANTARE'!$G61,\"\")","v":""},{"$f":"IF('3 - SPECIE DA IMPIANTARE'!#REF!=1,'3 - SPECIE DA IMPIANTARE'!#REF!,\"\")","v":{"$error":"#REF!"}},{"$f":"IF(AND($A60=\"AZIONE_1\",$B60=1),'3 - SPECIE DA IMPIANTARE'!$H61,\"\")","v":{"$error":"#REF!"}},{"$f":"IF(AND($A60=\"AZIONE_1\",$B60=1),'3 - SPECIE DA IMPIANTARE'!$K61,\"\")","v":{"$error":"#REF!"}},{"$f":"IF('3 - SPECIE DA IMPIANTARE'!#REF!=2,'3 - SPECIE DA IMPIANTARE'!#REF!,\"\")","v":{"$error":"#REF!"}},{"$f":"IF(AND($A60=\"AZIONE_1\",$E60=2),'3 - SPECIE DA IMPIANTARE'!$H61,\"\")","v":{"$error":"#REF!"}},{"$f":"IF(AND($A60=\"AZIONE_1\",$B60=1),'3 - SPECIE DA IMPIANTARE'!$T61,\"\")","v":{"$error":"#REF!"}},{"$f":"IF(AND($A60=\"AZIONE_1\",$B60=1),'3 - SPECIE DA IMPIANTARE'!$W61,\"\")","v":{"$error":"#REF!"}},null,{"$f":"IF('3 - SPECIE DA IMPIANTARE'!#REF!=2,'3 - SPECIE DA IMPIANTARE'!#REF!,\"\")","v":{"$error":"#REF!"}},{"$f":"IF(AND($A60=\"AZIONE_1\",$J60=2),'3 - SPECIE DA IMPIANTARE'!$H61,\"\")","v":{"$error":"#REF!"}}]
[{"$f":"IF('3 - SPECIE DA IMPIANTARE'!$G62=\"AZIONE_1\",'3 - SPECIE DA IMPIANTARE'!$G62,\"\")","v":""},{"$f":"IF('3 - SPECIE DA IMPIANTARE'!#REF!=1,'3 - SPECIE DA IMPIANTARE'!#REF!,\"\")","v":{"$error":"#REF!"}},{"$f":"IF(AND($A61=\"AZIONE_1\",$B61=1),'3 - SPECIE DA IMPIANTARE'!$H62,\"\")","v":{"$error":"#REF!"}},{"$f":"IF(AND($A61=\"AZIONE_1\",$B61=1),'3 - SPECIE DA IMPIANTARE'!$K62,\"\")","v":{"$error":"#REF!"}},{"$f":"IF('3 - SPECIE DA IMPIANTARE'!#REF!=2,'3 - SPECIE DA IMPIANTARE'!#REF!,\"\")","v":{"$error":"#REF!"}},{"$f":"IF(AND($A61=\"AZIONE_1\",$E61=2),'3 - SPECIE DA IMPIANTARE'!$H62,\"\")","v":{"$error":"#REF!"}},{"$f":"IF(AND($A61=\"AZIONE_1\",$B61=1),'3 - SPECIE DA IMPIANTARE'!$T62,\"\")","v":{"$error":"#REF!"}},{"$f":"IF(AND($A61=\"AZIONE_1\",$B61=1),'3 - SPECIE DA IMPIANTARE'!$W62,\"\")","v":{"$error":"#REF!"}},null,{"$f":"IF('3 - SPECIE DA IMPIANTARE'!#REF!=2,'3 - SPECIE DA IMPIANTARE'!#REF!,\"\")","v":{"$error":"#REF!"}},{"$f":"IF(AND($A61=\"AZIONE_1\",$J61=2),'3 - SPECIE DA IMPIANTARE'!$H62,\"\")","v":{"$error":"#REF!"}}]
[{"$f":"IF('3 - SPECIE DA IMPIANTARE'!$G63=\"AZIONE_1\",'3 - SPECIE DA IMPIANTARE'!$G63,\"\")","v":""},{"$f":"IF('3 - SPECIE DA IMPIANTARE'!#REF!=1,'3 - SPECIE DA IMPIANTARE'!#REF!,\"\")","v":{"$error":"#REF!"}},{"$f":"IF(AND($A62=\"AZIONE_1\",$B62=1),'3 - SPECIE DA IMPIANTARE'!$H63,\"\")","v":{"$error":"#REF!"}},{"$f":"IF(AND($A62=\"AZIONE_1\",$B62=1),'3 - SPECIE DA IMPIANTARE'!$K63,\"\")","v":{"$error":"#REF!"}},{"$f":"IF('3 - SPECIE DA IMPIANTARE'!#REF!=2,'3 - SPECIE DA IMPIANTARE'!#REF!,\"\")","v":{"$error":"#REF!"}},{"$f":"IF(AND($A62=\"AZIONE_1\",$E62=2),'3 - SPECIE DA IMPIANTARE'!$H63,\"\")","v":{"$error":"#REF!"}},{"$f":"IF(AND($A62=\"AZIONE_1\",$B62=1),'3 - SPECIE DA IMPIANTARE'!$T63,\"\")","v":{"$error":"#REF!"}},{"$f":"IF(AND($A62=\"AZIONE_1\",$B62=1),'3 - SPECIE DA IMPIANTARE'!$W63,\"\")","v":{"$error":"#REF!"}},null,{"$f":"IF('3 - SPECIE DA IMPIANTARE'!#REF!=2,'3 - SPECIE DA IMPIANTARE'!#REF!,\"\")","v":{"$error":"#REF!"}},{"$f":"IF(AND($A62=\"AZIONE_1\",$J62=2),'3 - SPECIE DA IMPIANTARE'!$H63,\"\")","v":{"$error":"#REF!"}}]
[{"$f":"IF('3 - SPECIE DA IMPIANTARE'!$G64=\"AZIONE_1\",'3 - SPECIE DA IMPIANTARE'!$G64,\"\")","v":""},{"$f":"IF('3 - SPECIE DA IMPIANTARE'!#REF!=1,'3 - SPECIE DA IMPIANTARE'!#REF!,\"\")","v":{"$error":"#REF!"}},{"$f":"IF(AND($A63=\"AZIONE_1\",$B63=1),'3 - SPECIE DA IMPIANTARE'!$H64,\"\")","v":{"$error":"#REF!"}},{"$f":"IF(AND($A63=\"AZIONE_1\",$B63=1),'3 - SPECIE DA IMPIANTARE'!$K64,\"\")","v":{"$error":"#REF!"}},{"$f":"IF('3 - SPECIE DA IMPIANTARE'!#REF!=2,'3 - SPECIE DA IMPIANTARE'!#REF!,\"\")","v":{"$error":"#REF!"}},{"$f":"IF(AND($A63=\"AZIONE_1\",$E63=2),'3 - SPECIE DA IMPIANTARE'!$H64,\"\")","v":{"$error":"#REF!"}},{"$f":"IF(AND($A63=\"AZIONE_1\",$B63=1),'3 - SPECIE DA IMPIANTARE'!$T64,\"\")","v":{"$error":"#REF!"}},{"$f":"IF(AND($A63=\"AZIONE_1\",$B63=1),'3 - SPECIE DA IMPIANTARE'!$W64,\"\")","v":{"$error":"#REF!"}},null,{"$f":"IF('3 - SPECIE DA IMPIANTARE'!#REF!=2,'3 - SPECIE DA IMPIANTARE'!#REF!,\"\")","v":{"$error":"#REF!"}},{"$f":"IF(AND($A63=\"AZIONE_1\",$J63=2),'3 - SPECIE DA IMPIANTARE'!$H64,\"\")","v":{"$error":"#REF!"}}]
[{"$f":"IF('3 - SPECIE DA IMPIANTARE'!$G65=\"AZIONE_1\",'3 - SPECIE DA IMPIANTARE'!$G65,\"\")","v":""},{"$f":"IF('3 - SPECIE DA IMPIANTARE'!#REF!=1,'3 - SPECIE DA IMPIANTARE'!#REF!,\"\")","v":{"$error":"#REF!"}},{"$f":"IF(AND($A64=\"AZIONE_1\",$B64=1),'3 - SPECIE DA IMPIANTARE'!$H65,\"\")","v":{"$error":"#REF!"}},{"$f":"IF(AND($A64=\"AZIONE_1\",$B64=1),'3 - SPECIE DA IMPIANTARE'!$K65,\"\")","v":{"$error":"#REF!"}},{"$f":"IF('3 - SPECIE DA IMPIANTARE'!#REF!=2,'3 - SPECIE DA IMPIANTARE'!#REF!,\"\")","v":{"$error":"#REF!"}},{"$f":"IF(AND($A64=\"AZIONE_1\",$E64=2),'3 - SPECIE DA IMPIANTARE'!$H65,\"\")","v":{"$error":"#REF!"}},{"$f":"IF(AND($A64=\"AZIONE_1\",$B64=1),'3 - SPECIE DA IMPIANTARE'!$T65,\"\")","v":{"$error":"#REF!"}},{"$f":"IF(AND($A64=\"AZIONE_1\",$B64=1),'3 - SPECIE DA IMPIANTARE'!$W65,\"\")","v":{"$error":"#REF!"}},null,{"$f":"IF('3 - SPECIE DA IMPIANTARE'!#REF!=2,'3 - SPECIE DA IMPIANTARE'!#REF!,\"\")","v":{"$error":"#REF!"}},{"$f":"IF(AND($A64=\"AZIONE_1\",$J64=2),'3 - SPECIE DA IMPIANTARE'!$H65,\"\")","v":{"$error":"#REF!"}}]
[{"$f":"IF('3 - SPECIE DA IMPIANTARE'!$G66=\"AZIONE_1\",'3 - SPECIE DA IMPIANTARE'!$G66,\"\")","v":""},{"$f":"IF('3 - SPECIE DA IMPIANTARE'!#REF!=1,'3 - SPECIE DA IMPIANTARE'!#REF!,\"\")","v":{"$error":"#REF!"}},{"$f":"IF(AND($A65=\"AZIONE_1\",$B65=1),'3 - SPECIE DA IMPIANTARE'!$H66,\"\")","v":{"$error":"#REF!"}},{"$f":"IF(AND($A65=\"AZIONE_1\",$B65=1),'3 - SPECIE DA IMPIANTARE'!$K66,\"\")","v":{"$error":"#REF!"}},{"$f":"IF('3 - SPECIE DA IMPIANTARE'!#REF!=2,'3 - SPECIE DA IMPIANTARE'!#REF!,\"\")","v":{"$error":"#REF!"}},{"$f":"IF(AND($A65=\"AZIONE_1\",$E65=2),'3 - SPECIE DA IMPIANTARE'!$H66,\"\")","v":{"$error":"#REF!"}},{"$f":"IF(AND($A65=\"AZIONE_1\",$B65=1),'3 - SPECIE DA IMPIANTARE'!$T66,\"\")","v":{"$error":"#REF!"}},{"$f":"IF(AND($A65=\"AZIONE_1\",$B65=1),'3 - SPECIE DA IMPIANTARE'!$W66,\"\")","v":{"$error":"#REF!"}},null,{"$f":"IF('3 - SPECIE DA IMPIANTARE'!#REF!=2,'3 - SPECIE DA IMPIANTARE'!#REF!,\"\")","v":{"$error":"#REF!"}},{"$f":"IF(AND($A65=\"AZIONE_1\",$J65=2),'3 - SPECIE DA IMPIANTARE'!$H66,\"\")","v":{"$error":"#REF!"}}]
[{"$f":"IF('3 - SPECIE DA IMPIANTARE'!$G67=\"AZIONE_1\",'3 - SPECIE DA IMPIANTARE'!$G67,\"\")","v":""},{"$f":"IF('3 - SPECIE DA IMPIANTARE'!#REF!=1,'3 - SPECIE DA IMPIANTARE'!#REF!,\"\")","v":{"$error":"#REF!"}},{"$f":"IF(AND($A66=\"AZIONE_1\",$B66=1),'3 - SPECIE DA IMPIANTARE'!$H67,\"\")","v":{"$error":"#REF!"}},{"$f":"IF(AND($A66=\"AZIONE_1\",$B66=1),'3 - SPECIE DA IMPIANTARE'!$K67,\"\")","v":{"$error":"#REF!"}},{"$f":"IF('3 - SPECIE DA IMPIANTARE'!#REF!=2,'3 - SPECIE DA IMPIANTARE'!#REF!,\"\")","v":{"$error":"#REF!"}},{"$f":"IF(AND($A66=\"AZIONE_1\",$E66=2),'3 - SPECIE DA IMPIANTARE'!$H67,\"\")","v":{"$error":"#REF!"}},{"$f":"IF(AND($A66=\"AZIONE_1\",$B66=1),'3 - SPECIE DA IMPIANTARE'!$T67,\"\")","v":{"$error":"#REF!"}},{"$f":"IF(AND($A66=\"AZIONE_1\",$B66=1),'3 - SPECIE DA IMPIANTARE'!$W67,\"\")","v":{"$error":"#REF!"}},null,{"$f":"IF('3 - SPECIE DA IMPIANTARE'!#REF!=2,'3 - SPECIE DA IMPIANTARE'!#REF!,\"\")","v":{"$error":"#REF!"}},{"$f":"IF(AND($A66=\"AZIONE_1\",$J66=2),'3 - SPECIE DA IMPIANTARE'!$H67,\"\")","v":{"$error":"#REF!"}}]
[{"$f":"IF('3 - SPECIE DA IMPIANTARE'!$G68=\"AZIONE_1\",'3 - SPECIE DA IMPIANTARE'!$G68,\"\")","v":""},{"$f":"IF('3 - SPECIE DA IMPIANTARE'!#REF!=1,'3 - SPECIE DA IMPIANTARE'!#REF!,\"\")","v":{"$error":"#REF!"}},{"$f":"IF(AND($A67=\"AZIONE_1\",$B67=1),'3 - SPECIE DA IMPIANTARE'!$H68,\"\")","v":{"$error":"#REF!"}},{"$f":"IF(AND($A67=\"AZIONE_1\",$B67=1),'3 - SPECIE DA IMPIANTARE'!$K68,\"\")","v":{"$error":"#REF!"}},{"$f":"IF('3 - SPECIE DA IMPIANTARE'!#REF!=2,'3 - SPECIE DA IMPIANTARE'!#REF!,\"\")","v":{"$error":"#REF!"}},{"$f":"IF(AND($A67=\"AZIONE_1\",$E67=2),'3 - SPECIE DA IMPIANTARE'!$H68,\"\")","v":{"$error":"#REF!"}},{"$f":"IF(AND($A67=\"AZIONE_1\",$B67=1),'3 - SPECIE DA IMPIANTARE'!$T68,\"\")","v":{"$error":"#REF!"}},{"$f":"IF(AND($A67=\"AZIONE_1\",$B67=1),'3 - SPECIE DA IMPIANTARE'!$W68,\"\")","v":{"$error":"#REF!"}},null,{"$f":"IF('3 - SPECIE DA IMPIANTARE'!#REF!=2,'3 - SPECIE DA IMPIANTARE'!#REF!,\"\")","v":{"$error":"#REF!"}},{"$f":"IF(AND($A67=\"AZIONE_1\",$J67=2),'3 - SPECIE DA IMPIANTARE'!$H68,\"\")","v":{"$error":"#REF!"}}]
[{"$f":"IF('3 - SPECIE DA IMPIANTARE'!$G69=\"AZIONE_1\",'3 - SPECIE DA IMPIANTARE'!$G69,\"\")","v":""},{"$f":"IF('3 - SPECIE DA IMPIANTARE'!#REF!=1,'3 - SPECIE DA IMPIANTARE'!#REF!,\"\")","v":{"$error":"#REF!"}},{"$f":"IF(AND($A68=\"AZIONE_1\",$B68=1),'3 - SPECIE DA IMPIANTARE'!$H69,\"\")","v":{"$error":"#REF!"}},{"$f":"IF(AND($A68=\"AZIONE_1\",$B68=1),'3 - SPECIE DA IMPIANTARE'!$K69,\"\")","v":{"$error":"#REF!"}},{"$f":"IF('3 - SPECIE DA IMPIANTARE'!#REF!=2,'3 - SPECIE DA IMPIANTARE'!#REF!,\"\")","v":{"$error":"#REF!"}},{"$f":"IF(AND($A68=\"AZIONE_1\",$E68=2),'3 - SPECIE DA IMPIANTARE'!$H69,\"\")","v":{"$error":"#REF!"}},{"$f":"IF(AND($A68=\"AZIONE_1\",$B68=1),'3 - SPECIE DA IMPIANTARE'!$T69,\"\")","v":{"$error":"#REF!"}},{"$f":"IF(AND($A68=\"AZIONE_1\",$B68=1),'3 - SPECIE DA IMPIANTARE'!$W69,\"\")","v":{"$error":"#REF!"}},null,{"$f":"IF('3 - SPECIE DA IMPIANTARE'!#REF!=2,'3 - SPECIE DA IMPIANTARE'!#REF!,\"\")","v":{"$error":"#REF!"}},{"$f":"IF(AND($A68=\"AZIONE_1\",$J68=2),'3 - SPECIE DA IMPIANTARE'!$H69,\"\")","v":{"$error":"#REF!"}}]
[{"$f":"IF('3 - SPECIE DA IMPIANTARE'!$G70=\"AZIONE_1\",'3 - SPECIE DA IMPIANTARE'!$G70,\"\")","v":""},{"$f":"IF('3 - SPECIE DA IMPIANTARE'!#REF!=1,'3 - SPECIE DA IMPIANTARE'!#REF!,\"\")","v":{"$error":"#REF!"}},{"$f":"IF(AND($A69=\"AZIONE_1\",$B69=1),'3 - SPECIE DA IMPIANTARE'!$H70,\"\")","v":{"$error":"#REF!"}},{"$f":"IF(AND($A69=\"AZIONE_1\",$B69=1),'3 - SPECIE DA IMPIANTARE'!$K70,\"\")","v":{"$error":"#REF!"}},{"$f":"IF('3 - SPECIE DA IMPIANTARE'!#REF!=2,'3 - SPECIE DA IMPIANTARE'!#REF!,\"\")","v":{"$error":"#REF!"}},{"$f":"IF(AND($A69=\"AZIONE_1\",$E69=2),'3 - SPECIE DA IMPIANTARE'!$H70,\"\")","v":{"$error":"#REF!"}},{"$f":"IF(AND($A69=\"AZIONE_1\",$B69=1),'3 - SPECIE DA IMPIANTARE'!$T70,\"\")","v":{"$error":"#REF!"}},{"$f":"IF(AND($A69=\"AZIONE_1\",$B69=1),'3 - SPECIE DA IMPIANTARE'!$W70,\"\")","v":{"$error":"#REF!"}},null,{"$f":"IF('3 - SPECIE DA IMPIANTARE'!#REF!=2,'3 - SPECIE DA IMPIANTARE'!#REF!,\"\")","v":{"$error":"#REF!"}},{"$f":"IF(AND($A69=\"AZIONE_1\",$J69=2),'3 - SPECIE DA IMPIANTARE'!$H70,\"\")","v":{"$error":"#REF!"}}]
[{"$f":"IF('3 - SPECIE DA IMPIANTARE'!$G71=\"AZIONE_1\",'3 - SPECIE DA IMPIANTARE'!$G71,\"\")","v":""},{"$f":"IF('3 - SPECIE DA IMPIANTARE'!#REF!=1,'3 - SPECIE DA IMPIANTARE'!#REF!,\"\")","v":{"$error":"#REF!"}},{"$f":"IF(AND($A70=\"AZIONE_1\",$B70=1),'3 - SPECIE DA IMPIANTARE'!$H71,\"\")","v":{"$error":"#REF!"}},{"$f":"IF(AND($A70=\"AZIONE_1\",$B70=1),'3 - SPECIE DA IMPIANTARE'!$K71,\"\")","v":{"$error":"#REF!"}},{"$f":"IF('3 - SPECIE DA IMPIANTARE'!#REF!=2,'3 - SPECIE DA IMPIANTARE'!#REF!,\"\")","v":{"$error":"#REF!"}},{"$f":"IF(AND($A70=\"AZIONE_1\",$E70=2),'3 - SPECIE DA IMPIANTARE'!$H71,\"\")","v":{"$error":"#REF!"}},{"$f":"IF(AND($A70=\"AZIONE_1\",$B70=1),'3 - SPECIE DA IMPIANTARE'!$T71,\"\")","v":{"$error":"#REF!"}},{"$f":"IF(AND($A70=\"AZIONE_1\",$B70=1),'3 - SPECIE DA IMPIANTARE'!$W71,\"\")","v":{"$error":"#REF!"}},null,{"$f":"IF('3 - SPECIE DA IMPIANTARE'!#REF!=2,'3 - SPECIE DA IMPIANTARE'!#REF!,\"\")","v":{"$error":"#REF!"}},{"$f":"IF(AND($A70=\"AZIONE_1\",$J70=2),'3 - SPECIE DA IMPIANTARE'!$H71,\"\")","v":{"$error":"#REF!"}}]
[{"$f":"IF('3 - SPECIE DA IMPIANTARE'!$G72=\"AZIONE_1\",'3 - SPECIE DA IMPIANTARE'!$G72,\"\")","v":""},{"$f":"IF('3 - SPECIE DA IMPIANTARE'!#REF!=1,'3 - SPECIE DA IMPIANTARE'!#REF!,\"\")","v":{"$error":"#REF!"}},{"$f":"IF(AND($A71=\"AZIONE_1\",$B71=1),'3 - SPECIE DA IMPIANTARE'!$H72,\"\")","v":{"$error":"#REF!"}},{"$f":"IF(AND($A71=\"AZIONE_1\",$B71=1),'3 - SPECIE DA IMPIANTARE'!$K72,\"\")","v":{"$error":"#REF!"}},{"$f":"IF('3 - SPECIE DA IMPIANTARE'!#REF!=2,'3 - SPECIE DA IMPIANTARE'!#REF!,\"\")","v":{"$error":"#REF!"}},{"$f":"IF(AND($A71=\"AZIONE_1\",$E71=2),'3 - SPECIE DA IMPIANTARE'!$H72,\"\")","v":{"$error":"#REF!"}},{"$f":"IF(AND($A71=\"AZIONE_1\",$B71=1),'3 - SPECIE DA IMPIANTARE'!$T72,\"\")","v":{"$error":"#REF!"}},{"$f":"IF(AND($A71=\"AZIONE_1\",$B71=1),'3 - SPECIE DA IMPIANTARE'!$W72,\"\")","v":{"$error":"#REF!"}},null,{"$f":"IF('3 - SPECIE DA IMPIANTARE'!#REF!=2,'3 - SPECIE DA IMPIANTARE'!#REF!,\"\")","v":{"$error":"#REF!"}},{"$f":"IF(AND($A71=\"AZIONE_1\",$J71=2),'3 - SPECIE DA IMPIANTARE'!$H72,\"\")","v":{"$error":"#REF!"}}]
[{"$f":"IF('3 - SPECIE DA IMPIANTARE'!$G73=\"AZIONE_1\",'3 - SPECIE DA IMPIANTARE'!$G73,\"\")","v":""},{"$f":"IF('3 - SPECIE DA IMPIANTARE'!#REF!=1,'3 - SPECIE DA IMPIANTARE'!#REF!,\"\")","v":{"$error":"#REF!"}},{"$f":"IF(AND($A72=\"AZIONE_1\",$B72=1),'3 - SPECIE DA IMPIANTARE'!$H73,\"\")","v":{"$error":"#REF!"}},{"$f":"IF(AND($A72=\"AZIONE_1\",$B72=1),'3 - SPECIE DA IMPIANTARE'!$K73,\"\")","v":{"$error":"#REF!"}},{"$f":"IF('3 - SPECIE DA IMPIANTARE'!#REF!=2,'3 - SPECIE DA IMPIANTARE'!#REF!,\"\")","v":{"$error":"#REF!"}},{"$f":"IF(AND($A72=\"AZIONE_1\",$E72=2),'3 - SPECIE DA IMPIANTARE'!$H73,\"\")","v":{"$error":"#REF!"}},{"$f":"IF(AND($A72=\"AZIONE_1\",$B72=1),'3 - SPECIE DA IMPIANTARE'!$T73,\"\")","v":{"$error":"#REF!"}},{"$f":"IF(AND($A72=\"AZIONE_1\",$B72=1),'3 - SPECIE DA IMPIANTARE'!$W73,\"\")","v":{"$error":"#REF!"}},null,{"$f":"IF('3 - SPECIE DA IMPIANTARE'!#REF!=2,'3 - SPECIE DA IMPIANTARE'!#REF!,\"\")","v":{"$error":"#REF!"}},{"$f":"IF(AND($A72=\"AZIONE_1\",$J72=2),'3 - SPECIE DA IMPIANTARE'!$H73,\"\")","v":{"$error":"#REF!"}}]
[{"$f":"IF('3 - SPECIE DA IMPIANTARE'!$G74=\"AZIONE_1\",'3 - SPECIE DA IMPIANTARE'!$G74,\"\")","v":""},{"$f":"IF('3 - SPECIE DA IMPIANTARE'!#REF!=1,'3 - SPECIE DA IMPIANTARE'!#REF!,\"\")","v":{"$error":"#REF!"}},{"$f":"IF(AND($A73=\"AZIONE_1\",$B73=1),'3 - SPECIE DA IMPIANTARE'!$H74,\"\")","v":{"$error":"#REF!"}},{"$f":"IF(AND($A73=\"AZIONE_1\",$B73=1),'3 - SPECIE DA IMPIANTARE'!$K74,\"\")","v":{"$error":"#REF!"}},{"$f":"IF('3 - SPECIE DA IMPIANTARE'!#REF!=2,'3 - SPECIE DA IMPIANTARE'!#REF!,\"\")","v":{"$error":"#REF!"}},{"$f":"IF(AND($A73=\"AZIONE_1\",$E73=2),'3 - SPECIE DA IMPIANTARE'!$H74,\"\")","v":{"$error":"#REF!"}},{"$f":"IF(AND($A73=\"AZIONE_1\",$B73=1),'3 - SPECIE DA IMPIANTARE'!$T74,\"\")","v":{"$error":"#REF!"}},{"$f":"IF(AND($A73=\"AZIONE_1\",$B73=1),'3 - SPECIE DA IMPIANTARE'!$W74,\"\")","v":{"$error":"#REF!"}},null,{"$f":"IF('3 - SPECIE DA IMPIANTARE'!#REF!=2,'3 - SPECIE DA IMPIANTARE'!#REF!,\"\")","v":{"$error":"#REF!"}},{"$f":"IF(AND($A73=\"AZIONE_1\",$J73=2),'3 - SPECIE DA IMPIANTARE'!$H74,\"\")","v":{"$error":"#REF!"}}]
[{"$f":"IF('3 - SPECIE DA IMPIANTARE'!$G75=\"AZIONE_1\",'3 - SPECIE DA IMPIANTARE'!$G75,\"\")","v":""},{"$f":"IF('3 - SPECIE DA IMPIANTARE'!#REF!=1,'3 - SPECIE DA IMPIANTARE'!#REF!,\"\")","v":{"$error":"#REF!"}},{"$f":"IF(AND($A74=\"AZIONE_1\",$B74=1),'3 - SPECIE DA IMPIANTARE'!$H75,\"\")","v":{"$error":"#REF!"}},{"$f":"IF(AND($A74=\"AZIONE_1\",$B74=1),'3 - SPECIE DA IMPIANTARE'!$K75,\"\")","v":{"$error":"#REF!"}},{"$f":"IF('3 - SPECIE DA IMPIANTARE'!#REF!=2,'3 - SPECIE DA IMPIANTARE'!#REF!,\"\")","v":{"$error":"#REF!"}},{"$f":"IF(AND($A74=\"AZIONE_1\",$E74=2),'3 - SPECIE DA IMPIANTARE'!$H75,\"\")","v":{"$error":"#REF!"}},{"$f":"IF(AND($A74=\"AZIONE_1\",$B74=1),'3 - SPECIE DA IMPIANTARE'!$T75,\"\")","v":{"$error":"#REF!"}},{"$f":"IF(AND($A74=\"AZIONE_1\",$B74=1),'3 - SPECIE DA IMPIANTARE'!$W75,\"\")","v":{"$error":"#REF!"}},null,{"$f":"IF('3 - SPECIE DA IMPIANTARE'!#REF!=2,'3 - SPECIE DA IMPIANTARE'!#REF!,\"\")","v":{"$error":"#REF!"}},{"$f":"IF(AND($A74=\"AZIONE_1\",$J74=2),'3 - SPECIE DA IMPIANTARE'!$H75,\"\")","v":{"$error":"#REF!"}}]
[{"$f":"IF('3 - SPECIE DA IMPIANTARE'!$G76=\"AZIONE_1\",'3 - SPECIE DA IMPIANTARE'!$G76,\"\")","v":""},{"$f":"IF('3 - SPECIE DA IMPIANTARE'!#REF!=1,'3 - SPECIE DA IMPIANTARE'!#REF!,\"\")","v":{"$error":"#REF!"}},{"$f":"IF(AND($A75=\"AZIONE_1\",$B75=1),'3 - SPECIE DA IMPIANTARE'!$H76,\"\")","v":{"$error":"#REF!"}},{"$f":"IF(AND($A75=\"AZIONE_1\",$B75=1),'3 - SPECIE DA IMPIANTARE'!$K76,\"\")","v":{"$error":"#REF!"}},{"$f":"IF('3 - SPECIE DA IMPIANTARE'!#REF!=2,'3 - SPECIE DA IMPIANTARE'!#REF!,\"\")","v":{"$error":"#REF!"}},{"$f":"IF(AND($A75=\"AZIONE_1\",$E75=2),'3 - SPECIE DA IMPIANTARE'!$H76,\"\")","v":{"$error":"#REF!"}},{"$f":"IF(AND($A75=\"AZIONE_1\",$B75=1),'3 - SPECIE DA IMPIANTARE'!$T76,\"\")","v":{"$error":"#REF!"}},{"$f":"IF(AND($A75=\"AZIONE_1\",$B75=1),'3 - SPECIE DA IMPIANTARE'!$W76,\"\")","v":{"$error":"#REF!"}},null,{"$f":"IF('3 - SPECIE DA IMPIANTARE'!#REF!=2,'3 - SPECIE DA IMPIANTARE'!#REF!,\"\")","v":{"$error":"#REF!"}},{"$f":"IF(AND($A75=\"AZIONE_1\",$J75=2),'3 - SPECIE DA IMPIANTARE'!$H76,\"\")","v":{"$error":"#REF!"}}]
[{"$f":"IF('3 - SPECIE DA IMPIANTARE'!$G77=\"AZIONE_1\",'3 - SPECIE DA IMPIANTARE'!$G77,\"\")","v":""},{"$f":"IF('3 - SPECIE DA IMPIANTARE'!#REF!=1,'3 - SPECIE DA IMPIANTARE'!#REF!,\"\")","v":{"$error":"#REF!"}},{"$f":"IF(AND($A76=\"AZIONE_1\",$B76=1),'3 - SPECIE DA IMPIANTARE'!$H77,\"\")","v":{"$error":"#REF!"}},{"$f":"IF(AND($A76=\"AZIONE_1\",$B76=1),'3 - SPECIE DA IMPIANTARE'!$K77,\"\")","v":{"$error":"#REF!"}},{"$f":"IF('3 - SPECIE DA IMPIANTARE'!#REF!=2,'3 - SPECIE DA IMPIANTARE'!#REF!,\"\")","v":{"$error":"#REF!"}},{"$f":"IF(AND($A76=\"AZIONE_1\",$E76=2),'3 - SPECIE DA IMPIANTARE'!$H77,\"\")","v":{"$error":"#REF!"}},{"$f":"IF(AND($A76=\"AZIONE_1\",$B76=1),'3 - SPECIE DA IMPIANTARE'!$T77,\"\")","v":{"$error":"#REF!"}},{"$f":"IF(AND($A76=\"AZIONE_1\",$B76=1),'3 - SPECIE DA IMPIANTARE'!$W77,\"\")","v":{"$error":"#REF!"}},null,{"$f":"IF('3 - SPECIE DA IMPIANTARE'!#REF!=2,'3 - SPECIE DA IMPIANTARE'!#REF!,\"\")","v":{"$error":"#REF!"}},{"$f":"IF(AND($A76=\"AZIONE_1\",$J76=2),'3 - SPECIE DA IMPIANTARE'!$H77,\"\")","v":{"$error":"#REF!"}}]
[{"$f":"IF('3 - SPECIE DA IMPIANTARE'!$G78=\"AZIONE_1\",'3 - SPECIE DA IMPIANTARE'!$G78,\"\")","v":""},{"$f":"IF('3 - SPECIE DA IMPIANTARE'!#REF!=1,'3 - SPECIE DA IMPIANTARE'!#REF!,\"\")","v":{"$error":"#REF!"}},{"$f":"IF(AND($A77=\"AZIONE_1\",$B77=1),'3 - SPECIE DA IMPIANTARE'!$H78,\"\")","v":{"$error":"#REF!"}},{"$f":"IF(AND($A77=\"AZIONE_1\",$B77=1),'3 - SPECIE DA IMPIANTARE'!$K78,\"\")","v":{"$error":"#REF!"}},{"$f":"IF('3 - SPECIE DA IMPIANTARE'!#REF!=2,'3 - SPECIE DA IMPIANTARE'!#REF!,\"\")","v":{"$error":"#REF!"}},{"$f":"IF(AND($A77=\"AZIONE_1\",$E77=2),'3 - SPECIE DA IMPIANTARE'!$H78,\"\")","v":{"$error":"#REF!"}},{"$f":"IF(AND($A77=\"AZIONE_1\",$B77=1),'3 - SPECIE DA IMPIANTARE'!$T78,\"\")","v":{"$error":"#REF!"}},{"$f":"IF(AND($A77=\"AZIONE_1\",$B77=1),'3 - SPECIE DA IMPIANTARE'!$W78,\"\")","v":{"$error":"#REF!"}},null,{"$f":"IF('3 - SPECIE DA IMPIANTARE'!#REF!=2,'3 - SPECIE DA IMPIANTARE'!#REF!,\"\")","v":{"$error":"#REF!"}},{"$f":"IF(AND($A77=\"AZIONE_1\",$J77=2),'3 - SPECIE DA IMPIANTARE'!$H78,\"\")","v":{"$error":"#REF!"}}]
[{"$f":"IF('3 - SPECIE DA IMPIANTARE'!$G79=\"AZIONE_1\",'3 - SPECIE DA IMPIANTARE'!$G79,\"\")","v":""},{"$f":"IF('3 - SPECIE DA IMPIANTARE'!#REF!=1,'3 - SPECIE DA IMPIANTARE'!#REF!,\"\")","v":{"$error":"#REF!"}},{"$f":"IF(AND($A78=\"AZIONE_1\",$B78=1),'3 - SPECIE DA IMPIANTARE'!$H79,\"\")","v":{"$error":"#REF!"}},{"$f":"IF(AND($A78=\"AZIONE_1\",$B78=1),'3 - SPECIE DA IMPIANTARE'!$K79,\"\")","v":{"$error":"#REF!"}},{"$f":"IF('3 - SPECIE DA IMPIANTARE'!#REF!=2,'3 - SPECIE DA IMPIANTARE'!#REF!,\"\")","v":{"$error":"#REF!"}},{"$f":"IF(AND($A78=\"AZIONE_1\",$E78=2),'3 - SPECIE DA IMPIANTARE'!$H79,\"\")","v":{"$error":"#REF!"}},{"$f":"IF(AND($A78=\"AZIONE_1\",$B78=1),'3 - SPECIE DA IMPIANTARE'!$T79,\"\")","v":{"$error":"#REF!"}},{"$f":"IF(AND($A78=\"AZIONE_1\",$B78=1),'3 - SPECIE DA IMPIANTARE'!$W79,\"\")","v":{"$error":"#REF!"}},null,{"$f":"IF('3 - SPECIE DA IMPIANTARE'!#REF!=2,'3 - SPECIE DA IMPIANTARE'!#REF!,\"\")","v":{"$error":"#REF!"}},{"$f":"IF(AND($A78=\"AZIONE_1\",$J78=2),'3 - SPECIE DA IMPIANTARE'!$H79,\"\")","v":{"$error":"#REF!"}}]
[{"$f":"IF('3 - SPECIE DA IMPIANTARE'!$G80=\"AZIONE_1\",'3 - SPECIE DA IMPIANTARE'!$G80,\"\")","v":""},{"$f":"IF('3 - SPECIE DA IMPIANTARE'!#REF!=1,'3 - SPECIE DA IMPIANTARE'!#REF!,\"\")","v":{"$error":"#REF!"}},{"$f":"IF(AND($A79=\"AZIONE_1\",$B79=1),'3 - SPECIE DA IMPIANTARE'!$H80,\"\")","v":{"$error":"#REF!"}},{"$f":"IF(AND($A79=\"AZIONE_1\",$B79=1),'3 - SPECIE DA IMPIANTARE'!$K80,\"\")","v":{"$error":"#REF!"}},{"$f":"IF('3 - SPECIE DA IMPIANTARE'!#REF!=2,'3 - SPECIE DA IMPIANTARE'!#REF!,\"\")","v":{"$error":"#REF!"}},{"$f":"IF(AND($A79=\"AZIONE_1\",$E79=2),'3 - SPECIE DA IMPIANTARE'!$H80,\"\")","v":{"$error":"#REF!"}},{"$f":"IF(AND($A79=\"AZIONE_1\",$B79=1),'3 - SPECIE DA IMPIANTARE'!$T80,\"\")","v":{"$error":"#REF!"}},{"$f":"IF(AND($A79=\"AZIONE_1\",$B79=1),'3 - SPECIE DA IMPIANTARE'!$W80,\"\")","v":{"$error":"#REF!"}},null,{"$f":"IF('3 - SPECIE DA IMPIANTARE'!#REF!=2,'3 - SPECIE DA IMPIANTARE'!#REF!,\"\")","v":{"$error":"#REF!"}},{"$f":"IF(AND($A79=\"AZIONE_1\",$J79=2),'3 - SPECIE DA IMPIANTARE'!$H80,\"\")","v":{"$error":"#REF!"}}]
[{"$f":"IF('3 - SPECIE DA IMPIANTARE'!$G81=\"AZIONE_1\",'3 - SPECIE DA IMPIANTARE'!$G81,\"\")","v":""},{"$f":"IF('3 - SPECIE DA IMPIANTARE'!#REF!=1,'3 - SPECIE DA IMPIANTARE'!#REF!,\"\")","v":{"$error":"#REF!"}},{"$f":"IF(AND($A80=\"AZIONE_1\",$B80=1),'3 - SPECIE DA IMPIANTARE'!$H81,\"\")","v":{"$error":"#REF!"}},{"$f":"IF(AND($A80=\"AZIONE_1\",$B80=1),'3 - SPECIE DA IMPIANTARE'!$K81,\"\")","v":{"$error":"#REF!"}},{"$f":"IF('3 - SPECIE DA IMPIANTARE'!#REF!=2,'3 - SPECIE DA IMPIANTARE'!#REF!,\"\")","v":{"$error":"#REF!"}},{"$f":"IF(AND($A80=\"AZIONE_1\",$E80=2),'3 - SPECIE DA IMPIANTARE'!$H81,\"\")","v":{"$error":"#REF!"}},{"$f":"IF(AND($A80=\"AZIONE_1\",$B80=1),'3 - SPECIE DA IMPIANTARE'!$T81,\"\")","v":{"$error":"#REF!"}},{"$f":"IF(AND($A80=\"AZIONE_1\",$B80=1),'3 - SPECIE DA IMPIANTARE'!$W81,\"\")","v":{"$error":"#REF!"}},null,{"$f":"IF('3 - SPECIE DA IMPIANTARE'!#REF!=2,'3 - SPECIE DA IMPIANTARE'!#REF!,\"\")","v":{"$error":"#REF!"}},{"$f":"IF(AND($A80=\"AZIONE_1\",$J80=2),'3 - SPECIE DA IMPIANTARE'!$H81,\"\")","v":{"$error":"#REF!"}}]
[{"$f":"IF('3 - SPECIE DA IMPIANTARE'!$G82=\"AZIONE_1\",'3 - SPECIE DA IMPIANTARE'!$G82,\"\")","v":""},{"$f":"IF('3 - SPECIE DA IMPIANTARE'!#REF!=1,'3 - SPECIE DA IMPIANTARE'!#REF!,\"\")","v":{"$error":"#REF!"}},{"$f":"IF(AND($A81=\"AZIONE_1\",$B81=1),'3 - SPECIE DA IMPIANTARE'!$H82,\"\")","v":{"$error":"#REF!"}},{"$f":"IF(AND($A81=\"AZIONE_1\",$B81=1),'3 - SPECIE DA IMPIANTARE'!$K82,\"\")","v":{"$error":"#REF!"}},{"$f":"IF('3 - SPECIE DA IMPIANTARE'!#REF!=2,'3 - SPECIE DA IMPIANTARE'!#REF!,\"\")","v":{"$error":"#REF!"}},{"$f":"IF(AND($A81=\"AZIONE_1\",$E81=2),'3 - SPECIE DA IMPIANTARE'!$H82,\"\")","v":{"$error":"#REF!"}},{"$f":"IF(AND($A81=\"AZIONE_1\",$B81=1),'3 - SPECIE DA IMPIANTARE'!$T82,\"\")","v":{"$error":"#REF!"}},{"$f":"IF(AND($A81=\"AZIONE_1\",$B81=1),'3 - SPECIE DA IMPIANTARE'!$W82,\"\")","v":{"$error":"#REF!"}},null,{"$f":"IF('3 - SPECIE DA IMPIANTARE'!#REF!=2,'3 - SPECIE DA IMPIANTARE'!#REF!,\"\")","v":{"$error":"#REF!"}},{"$f":"IF(AND($A81=\"AZIONE_1\",$J81=2),'3 - SPECIE DA IMPIANTARE'!$H82,\"\")","v":{"$error":"#REF!"}}]
[{"$f":"IF('3 - SPECIE DA IMPIANTARE'!$G83=\"AZIONE_1\",'3 - SPECIE DA IMPIANTARE'!$G83,\"\")","v":""},{"$f":"IF('3 - SPECIE DA IMPIANTARE'!#REF!=1,'3 - SPECIE DA IMPIANTARE'!#REF!,\"\")","v":{"$error":"#REF!"}},{"$f":"IF(AND($A82=\"AZIONE_1\",$B82=1),'3 - SPECIE DA IMPIANTARE'!$H83,\"\")","v":{"$error":"#REF!"}},{"$f":"IF(AND($A82=\"AZIONE_1\",$B82=1),'3 - SPECIE DA IMPIANTARE'!$K83,\"\")","v":{"$error":"#REF!"}},{"$f":"IF('3 - SPECIE DA IMPIANTARE'!#REF!=2,'3 - SPECIE DA IMPIANTARE'!#REF!,\"\")","v":{"$error":"#REF!"}},{"$f":"IF(AND($A82=\"AZIONE_1\",$E82=2),'3 - SPECIE DA IMPIANTARE'!$H83,\"\")","v":{"$error":"#REF!"}},{"$f":"IF(AND($A82=\"AZIONE_1\",$B82=1),'3 - SPECIE DA IMPIANTARE'!$T83,\"\")","v":{"$error":"#REF!"}},{"$f":"IF(AND($A82=\"AZIONE_1\",$B82=1),'3 - SPECIE DA IMPIANTARE'!$W83,\"\")","v":{"$error":"#REF!"}},null,{"$f":"IF('3 - SPECIE DA IMPIANTARE'!#REF!=2,'3 - SPECIE DA IMPIANTARE'!#REF!,\"\")","v":{"$error":"#REF!"}},{"$f":"IF(AND($A82=\"AZIONE_1\",$J82=2),'3 - SPECIE DA IMPIANTARE'!$H83,\"\")","v":{"$error":"#REF!"}}]
[{"$f":"IF('3 - SPECIE DA IMPIANTARE'!$G84=\"AZIONE_1\",'3 - SPECIE DA IMPIANTARE'!$G84,\"\")","v":""},{"$f":"IF('3 - SPECIE DA IMPIANTARE'!#REF!=1,'3 - SPECIE DA IMPIANTARE'!#REF!,\"\")","v":{"$error":"#REF!"}},{"$f":"IF(AND($A83=\"AZIONE_1\",$B83=1),'3 - SPECIE DA IMPIANTARE'!$H84,\"\")","v":{"$error":"#REF!"}},{"$f":"IF(AND($A83=\"AZIONE_1\",$B83=1),'3 - SPECIE DA IMPIANTARE'!$K84,\"\")","v":{"$error":"#REF!"}},{"$f":"IF('3 - SPECIE DA IMPIANTARE'!#REF!=2,'3 - SPECIE DA IMPIANTARE'!#REF!,\"\")","v":{"$error":"#REF!"}},{"$f":"IF(AND($A83=\"AZIONE_1\",$E83=2),'3 - SPECIE DA IMPIANTARE'!$H84,\"\")","v":{"$error":"#REF!"}},{"$f":"IF(AND($A83=\"AZIONE_1\",$B83=1),'3 - SPECIE DA IMPIANTARE'!$T84,\"\")","v":{"$error":"#REF!"}},{"$f":"IF(AND($A83=\"AZIONE_1\",$B83=1),'3 - SPECIE DA IMPIANTARE'!$W84,\"\")","v":{"$error":"#REF!"}},null,{"$f":"IF('3 - SPECIE DA IMPIANTARE'!#REF!=2,'3 - SPECIE DA IMPIANTARE'!#REF!,\"\")","v":{"$error":"#REF!"}},{"$f":"IF(AND($A83=\"AZIONE_1\",$J83=2),'3 - SPECIE DA IMPIANTARE'!$H84,\"\")","v":{"$error":"#REF!"}}]
[{"$f":"IF('3 - SPECIE DA IMPIANTARE'!$G85=\"AZIONE_1\",'3 - SPECIE DA IMPIANTARE'!$G85,\"\")","v":""},{"$f":"IF('3 - SPECIE DA IMPIANTARE'!#REF!=1,'3 - SPECIE DA IMPIANTARE'!#REF!,\"\")","v":{"$error":"#REF!"}},{"$f":"IF(AND($A84=\"AZIONE_1\",$B84=1),'3 - SPECIE DA IMPIANTARE'!$H85,\"\")","v":{"$error":"#REF!"}},{"$f":"IF(AND($A84=\"AZIONE_1\",$B84=1),'3 - SPECIE DA IMPIANTARE'!$K85,\"\")","v":{"$error":"#REF!"}},{"$f":"IF('3 - SPECIE DA IMPIANTARE'!#REF!=2,'3 - SPECIE DA IMPIANTARE'!#REF!,\"\")","v":{"$error":"#REF!"}},{"$f":"IF(AND($A84=\"AZIONE_1\",$E84=2),'3 - SPECIE DA IMPIANTARE'!$H85,\"\")","v":{"$error":"#REF!"}},{"$f":"IF(AND($A84=\"AZIONE_1\",$B84=1),'3 - SPECIE DA IMPIANTARE'!$T85,\"\")","v":{"$error":"#REF!"}},{"$f":"IF(AND($A84=\"AZIONE_1\",$B84=1),'3 - SPECIE DA IMPIANTARE'!$W85,\"\")","v":{"$error":"#REF!"}},null,{"$f":"IF('3 - SPECIE DA IMPIANTARE'!#REF!=2,'3 - SPECIE DA IMPIANTARE'!#REF!,\"\")","v":{"$error":"#REF!"}},{"$f":"IF(AND($A84=\"AZIONE_1\",$J84=2),'3 - SPECIE DA IMPIANTARE'!$H85,\"\")","v":{"$error":"#REF!"}}]
[{"$f":"IF('3 - SPECIE DA IMPIANTARE'!$G86=\"AZIONE_1\",'3 - SPECIE DA IMPIANTARE'!$G86,\"\")","v":""},{"$f":"IF('3 - SPECIE DA IMPIANTARE'!#REF!=1,'3 - SPECIE DA IMPIANTARE'!#REF!,\"\")","v":{"$error":"#REF!"}},{"$f":"IF(AND($A85=\"AZIONE_1\",$B85=1),'3 - SPECIE DA IMPIANTARE'!$H86,\"\")","v":{"$error":"#REF!"}},{"$f":"IF(AND($A85=\"AZIONE_1\",$B85=1),'3 - SPECIE DA IMPIANTARE'!$K86,\"\")","v":{"$error":"#REF!"}},{"$f":"IF('3 - SPECIE DA IMPIANTARE'!#REF!=2,'3 - SPECIE DA IMPIANTARE'!#REF!,\"\")","v":{"$error":"#REF!"}},{"$f":"IF(AND($A85=\"AZIONE_1\",$E85=2),'3 - SPECIE DA IMPIANTARE'!$H86,\"\")","v":{"$error":"#REF!"}},{"$f":"IF(AND($A85=\"AZIONE_1\",$B85=1),'3 - SPECIE DA IMPIANTARE'!$T86,\"\")","v":{"$error":"#REF!"}},{"$f":"IF(AND($A85=\"AZIONE_1\",$B85=1),'3 - SPECIE DA IMPIANTARE'!$W86,\"\")","v":{"$error":"#REF!"}},null,{"$f":"IF('3 - SPECIE DA IMPIANTARE'!#REF!=2,'3 - SPECIE DA IMPIANTARE'!#REF!,\"\")","v":{"$error":"#REF!"}},{"$f":"IF(AND($A85=\"AZIONE_1\",$J85=2),'3 - SPECIE DA IMPIANTARE'!$H86,\"\")","v":{"$error":"#REF!"}}]
[{"$f":"IF('3 - SPECIE DA IMPIANTARE'!$G87=\"AZIONE_1\",'3 - SPECIE DA IMPIANTARE'!$G87,\"\")","v":""},{"$f":"IF('3 - SPECIE DA IMPIANTARE'!#REF!=1,'3 - SPECIE DA IMPIANTARE'!#REF!,\"\")","v":{"$error":"#REF!"}},{"$f":"IF(AND($A86=\"AZIONE_1\",$B86=1),'3 - SPECIE DA IMPIANTARE'!$H87,\"\")","v":{"$error":"#REF!"}},{"$f":"IF(AND($A86=\"AZIONE_1\",$B86=1),'3 - SPECIE DA IMPIANTARE'!$K87,\"\")","v":{"$error":"#REF!"}},{"$f":"IF('3 - SPECIE DA IMPIANTARE'!#REF!=2,'3 - SPECIE DA IMPIANTARE'!#REF!,\"\")","v":{"$error":"#REF!"}},{"$f":"IF(AND($A86=\"AZIONE_1\",$E86=2),'3 - SPECIE DA IMPIANTARE'!$H87,\"\")","v":{"$error":"#REF!"}},{"$f":"IF(AND($A86=\"AZIONE_1\",$B86=1),'3 - SPECIE DA IMPIANTARE'!$T87,\"\")","v":{"$error":"#REF!"}},{"$f":"IF(AND($A86=\"AZIONE_1\",$B86=1),'3 - SPECIE DA IMPIANTARE'!$W87,\"\")","v":{"$error":"#REF!"}},null,{"$f":"IF('3 - SPECIE DA IMPIANTARE'!#REF!=2,'3 - SPECIE DA IMPIANTARE'!#REF!,\"\")","v":{"$error":"#REF!"}},{"$f":"IF(AND($A86=\"AZIONE_1\",$J86=2),'3 - SPECIE DA IMPIANTARE'!$H87,\"\")","v":{"$error":"#REF!"}}]
[{"$f":"IF('3 - SPECIE DA IMPIANTARE'!$G88=\"AZIONE_1\",'3 - SPECIE DA IMPIANTARE'!$G88,\"\")","v":""},{"$f":"IF('3 - SPECIE DA IMPIANTARE'!#REF!=1,'3 - SPECIE DA IMPIANTARE'!#REF!,\"\")","v":{"$error":"#REF!"}},{"$f":"IF(AND($A87=\"AZIONE_1\",$B87=1),'3 - SPECIE DA IMPIANTARE'!$H88,\"\")","v":{"$error":"#REF!"}},{"$f":"IF(AND($A87=\"AZIONE_1\",$B87=1),'3 - SPECIE DA IMPIANTARE'!$K88,\"\")","v":{"$error":"#REF!"}},{"$f":"IF('3 - SPECIE DA IMPIANTARE'!#REF!=2,'3 - SPECIE DA IMPIANTARE'!#REF!,\"\")","v":{"$error":"#REF!"}},{"$f":"IF(AND($A87=\"AZIONE_1\",$E87=2),'3 - SPECIE DA IMPIANTARE'!$H88,\"\")","v":{"$error":"#REF!"}},{"$f":"IF(AND($A87=\"AZIONE_1\",$B87=1),'3 - SPECIE DA IMPIANTARE'!$T88,\"\")","v":{"$error":"#REF!"}},{"$f":"IF(AND($A87=\"AZIONE_1\",$B87=1),'3 - SPECIE DA IMPIANTARE'!$W88,\"\")","v":{"$error":"#REF!"}},null,{"$f":"IF('3 - SPECIE DA IMPIANTARE'!#REF!=2,'3 - SPECIE DA IMPIANTARE'!#REF!,\"\")","v":{"$error":"#REF!"}},{"$f":"IF(AND($A87=\"AZIONE_1\",$J87=2),'3 - SPECIE DA IMPIANTARE'!$H88,\"\")","v":{"$error":"#REF!"}}]
[{"$f":"IF('3 - SPECIE DA IMPIANTARE'!$G89=\"AZIONE_1\",'3 - SPECIE DA IMPIANTARE'!$G89,\"\")","v":""},{"$f":"IF('3 - SPECIE DA IMPIANTARE'!#REF!=1,'3 - SPECIE DA IMPIANTARE'!#REF!,\"\")","v":{"$error":"#REF!"}},{"$f":"IF(AND($A88=\"AZIONE_1\",$B88=1),'3 - SPECIE DA IMPIANTARE'!$H89,\"\")","v":{"$error":"#REF!"}},{"$f":"IF(AND($A88=\"AZIONE_1\",$B88=1),'3 - SPECIE DA IMPIANTARE'!$K89,\"\")","v":{"$error":"#REF!"}},{"$f":"IF('3 - SPECIE DA IMPIANTARE'!#REF!=2,'3 - SPECIE DA IMPIANTARE'!#REF!,\"\")","v":{"$error":"#REF!"}},{"$f":"IF(AND($A88=\"AZIONE_1\",$E88=2),'3 - SPECIE DA IMPIANTARE'!$H89,\"\")","v":{"$error":"#REF!"}},{"$f":"IF(AND($A88=\"AZIONE_1\",$B88=1),'3 - SPECIE DA IMPIANTARE'!$T89,\"\")","v":{"$error":"#REF!"}},{"$f":"IF(AND($A88=\"AZIONE_1\",$B88=1),'3 - SPECIE DA IMPIANTARE'!$W89,\"\")","v":{"$error":"#REF!"}},null,{"$f":"IF('3 - SPECIE DA IMPIANTARE'!#REF!=2,'3 - SPECIE DA IMPIANTARE'!#REF!,\"\")","v":{"$error":"#REF!"}},{"$f":"IF(AND($A88=\"AZIONE_1\",$J88=2),'3 - SPECIE DA IMPIANTARE'!$H89,\"\")","v":{"$error":"#REF!"}}]
[{"$f":"IF('3 - SPECIE DA IMPIANTARE'!$G90=\"AZIONE_1\",'3 - SPECIE DA IMPIANTARE'!$G90,\"\")","v":""},{"$f":"IF('3 - SPECIE DA IMPIANTARE'!#REF!=1,'3 - SPECIE DA IMPIANTARE'!#REF!,\"\")","v":{"$error":"#REF!"}},{"$f":"IF(AND($A89=\"AZIONE_1\",$B89=1),'3 - SPECIE DA IMPIANTARE'!$H90,\"\")","v":{"$error":"#REF!"}},{"$f":"IF(AND($A89=\"AZIONE_1\",$B89=1),'3 - SPECIE DA IMPIANTARE'!$K90,\"\")","v":{"$error":"#REF!"}},{"$f":"IF('3 - SPECIE DA IMPIANTARE'!#REF!=2,'3 - SPECIE DA IMPIANTARE'!#REF!,\"\")","v":{"$error":"#REF!"}},{"$f":"IF(AND($A89=\"AZIONE_1\",$E89=2),'3 - SPECIE DA IMPIANTARE'!$H90,\"\")","v":{"$error":"#REF!"}},{"$f":"IF(AND($A89=\"AZIONE_1\",$B89=1),'3 - SPECIE DA IMPIANTARE'!$T90,\"\")","v":{"$error":"#REF!"}},{"$f":"IF(AND($A89=\"AZIONE_1\",$B89=1),'3 - SPECIE DA IMPIANTARE'!$W90,\"\")","v":{"$error":"#REF!"}},null,{"$f":"IF('3 - SPECIE DA IMPIANTARE'!#REF!=2,'3 - SPECIE DA IMPIANTARE'!#REF!,\"\")","v":{"$error":"#REF!"}},{"$f":"IF(AND($A89=\"AZIONE_1\",$J89=2),'3 - SPECIE DA IMPIANTARE'!$H90,\"\")","v":{"$error":"#REF!"}}]
[{"$f":"IF('3 - SPECIE DA IMPIANTARE'!$G91=\"AZIONE_1\",'3 - SPECIE DA IMPIANTARE'!$G91,\"\")","v":""},{"$f":"IF('3 - SPECIE DA IMPIANTARE'!#REF!=1,'3 - SPECIE DA IMPIANTARE'!#REF!,\"\")","v":{"$error":"#REF!"}},{"$f":"IF(AND($A90=\"AZIONE_1\",$B90=1),'3 - SPECIE DA IMPIANTARE'!$H91,\"\")","v":{"$error":"#REF!"}},{"$f":"IF(AND($A90=\"AZIONE_1\",$B90=1),'3 - SPECIE DA IMPIANTARE'!$K91,\"\")","v":{"$error":"#REF!"}},{"$f":"IF('3 - SPECIE DA IMPIANTARE'!#REF!=2,'3 - SPECIE DA IMPIANTARE'!#REF!,\"\")","v":{"$error":"#REF!"}},{"$f":"IF(AND($A90=\"AZIONE_1\",$E90=2),'3 - SPECIE DA IMPIANTARE'!$H91,\"\")","v":{"$error":"#REF!"}},{"$f":"IF(AND($A90=\"AZIONE_1\",$B90=1),'3 - SPECIE DA IMPIANTARE'!$T91,\"\")","v":{"$error":"#REF!"}},{"$f":"IF(AND($A90=\"AZIONE_1\",$B90=1),'3 - SPECIE DA IMPIANTARE'!$W91,\"\")","v":{"$error":"#REF!"}},null,{"$f":"IF('3 - SPECIE DA IMPIANTARE'!#REF!=2,'3 - SPECIE DA IMPIANTARE'!#REF!,\"\")","v":{"$error":"#REF!"}},{"$f":"IF(AND($A90=\"AZIONE_1\",$J90=2),'3 - SPECIE DA IMPIANTARE'!$H91,\"\")","v":{"$error":"#REF!"}}]
[{"$f":"IF('3 - SPECIE DA IMPIANTARE'!$G92=\"AZIONE_1\",'3 - SPECIE DA IMPIANTARE'!$G92,\"\")","v":""},{"$f":"IF('3 - SPECIE DA IMPIANTARE'!#REF!=1,'3 - SPECIE DA IMPIANTARE'!#REF!,\"\")","v":{"$error":"#REF!"}},{"$f":"IF(AND($A91=\"AZIONE_1\",$B91=1),'3 - SPECIE DA IMPIANTARE'!$H92,\"\")","v":{"$error":"#REF!"}},{"$f":"IF(AND($A91=\"AZIONE_1\",$B91=1),'3 - SPECIE DA IMPIANTARE'!$K92,\"\")","v":{"$error":"#REF!"}},{"$f":"IF('3 - SPECIE DA IMPIANTARE'!#REF!=2,'3 - SPECIE DA IMPIANTARE'!#REF!,\"\")","v":{"$error":"#REF!"}},{"$f":"IF(AND($A91=\"AZIONE_1\",$E91=2),'3 - SPECIE DA IMPIANTARE'!$H92,\"\")","v":{"$error":"#REF!"}},{"$f":"IF(AND($A91=\"AZIONE_1\",$B91=1),'3 - SPECIE DA IMPIANTARE'!$T92,\"\")","v":{"$error":"#REF!"}},{"$f":"IF(AND($A91=\"AZIONE_1\",$B91=1),'3 - SPECIE DA IMPIANTARE'!$W92,\"\")","v":{"$error":"#REF!"}},null,{"$f":"IF('3 - SPECIE DA IMPIANTARE'!#REF!=2,'3 - SPECIE DA IMPIANTARE'!#REF!,\"\")","v":{"$error":"#REF!"}},{"$f":"IF(AND($A91=\"AZIONE_1\",$J91=2),'3 - SPECIE DA IMPIANTARE'!$H92,\"\")","v":{"$error":"#REF!"}}]
[{"$f":"IF('3 - SPECIE DA IMPIANTARE'!$G93=\"AZIONE_1\",'3 - SPECIE DA IMPIANTARE'!$G93,\"\")","v":""},{"$f":"IF('3 - SPECIE DA IMPIANTARE'!#REF!=1,'3 - SPECIE DA IMPIANTARE'!#REF!,\"\")","v":{"$error":"#REF!"}},{"$f":"IF(AND($A92=\"AZIONE_1\",$B92=1),'3 - SPECIE DA IMPIANTARE'!$H93,\"\")","v":{"$error":"#REF!"}},{"$f":"IF(AND($A92=\"AZIONE_1\",$B92=1),'3 - SPECIE DA IMPIANTARE'!$K93,\"\")","v":{"$error":"#REF!"}},{"$f":"IF('3 - SPECIE DA IMPIANTARE'!#REF!=2,'3 - SPECIE DA IMPIANTARE'!#REF!,\"\")","v":{"$error":"#REF!"}},{"$f":"IF(AND($A92=\"AZIONE_1\",$E92=2),'3 - SPECIE DA IMPIANTARE'!$H93,\"\")","v":{"$error":"#REF!"}},{"$f":"IF(AND($A92=\"AZIONE_1\",$B92=1),'3 - SPECIE DA IMPIANTARE'!$T93,\"\")","v":{"$error":"#REF!"}},{"$f":"IF(AND($A92=\"AZIONE_1\",$B92=1),'3 - SPECIE DA IMPIANTARE'!$W93,\"\")","v":{"$error":"#REF!"}},null,{"$f":"IF('3 - SPECIE DA IMPIANTARE'!#REF!=2,'3 - SPECIE DA IMPIANTARE'!#REF!,\"\")","v":{"$error":"#REF!"}},{"$f":"IF(AND($A92=\"AZIONE_1\",$J92=2),'3 - SPECIE DA IMPIANTARE'!$H93,\"\")","v":{"$error":"#REF!"}}]
[{"$f":"IF('3 - SPECIE DA IMPIANTARE'!$G94=\"AZIONE_1\",'3 - SPECIE DA IMPIANTARE'!$G94,\"\")","v":""},{"$f":"IF('3 - SPECIE DA IMPIANTARE'!#REF!=1,'3 - SPECIE DA IMPIANTARE'!#REF!,\"\")","v":{"$error":"#REF!"}},{"$f":"IF(AND($A93=\"AZIONE_1\",$B93=1),'3 - SPECIE DA IMPIANTARE'!$H94,\"\")","v":{"$error":"#REF!"}},{"$f":"IF(AND($A93=\"AZIONE_1\",$B93=1),'3 - SPECIE DA IMPIANTARE'!$K94,\"\")","v":{"$error":"#REF!"}},{"$f":"IF('3 - SPECIE DA IMPIANTARE'!#REF!=2,'3 - SPECIE DA IMPIANTARE'!#REF!,\"\")","v":{"$error":"#REF!"}},{"$f":"IF(AND($A93=\"AZIONE_1\",$E93=2),'3 - SPECIE DA IMPIANTARE'!$H94,\"\")","v":{"$error":"#REF!"}},{"$f":"IF(AND($A93=\"AZIONE_1\",$B93=1),'3 - SPECIE DA IMPIANTARE'!$T94,\"\")","v":{"$error":"#REF!"}},{"$f":"IF(AND($A93=\"AZIONE_1\",$B93=1),'3 - SPECIE DA IMPIANTARE'!$W94,\"\")","v":{"$error":"#REF!"}},null,{"$f":"IF('3 - SPECIE DA IMPIANTARE'!#REF!=2,'3 - SPECIE DA IMPIANTARE'!#REF!,\"\")","v":{"$error":"#REF!"}},{"$f":"IF(AND($A93=\"AZIONE_1\",$J93=2),'3 - SPECIE DA IMPIANTARE'!$H94,\"\")","v":{"$error":"#REF!"}}]
[{"$f":"IF('3 - SPECIE DA IMPIANTARE'!$G95=\"AZIONE_1\",'3 - SPECIE DA IMPIANTARE'!$G95,\"\")","v":""},{"$f":"IF('3 - SPECIE DA IMPIANTARE'!#REF!=1,'3 - SPECIE DA IMPIANTARE'!#REF!,\"\")","v":{"$error":"#REF!"}},{"$f":"IF(AND($A94=\"AZIONE_1\",$B94=1),'3 - SPECIE DA IMPIANTARE'!$H95,\"\")","v":{"$error":"#REF!"}},{"$f":"IF(AND($A94=\"AZIONE_1\",$B94=1),'3 - SPECIE DA IMPIANTARE'!$K95,\"\")","v":{"$error":"#REF!"}},{"$f":"IF('3 - SPECIE DA IMPIANTARE'!#REF!=2,'3 - SPECIE DA IMPIANTARE'!#REF!,\"\")","v":{"$error":"#REF!"}},{"$f":"IF(AND($A94=\"AZIONE_1\",$E94=2),'3 - SPECIE DA IMPIANTARE'!$H95,\"\")","v":{"$error":"#REF!"}},{"$f":"IF(AND($A94=\"AZIONE_1\",$B94=1),'3 - SPECIE DA IMPIANTARE'!$T95,\"\")","v":{"$error":"#REF!"}},{"$f":"IF(AND($A94=\"AZIONE_1\",$B94=1),'3 - SPECIE DA IMPIANTARE'!$W95,\"\")","v":{"$error":"#REF!"}},null,{"$f":"IF('3 - SPECIE DA IMPIANTARE'!#REF!=2,'3 - SPECIE DA IMPIANTARE'!#REF!,\"\")","v":{"$error":"#REF!"}},{"$f":"IF(AND($A94=\"AZIONE_1\",$J94=2),'3 - SPECIE DA IMPIANTARE'!$H95,\"\")","v":{"$error":"#REF!"}}]
[{"$f":"IF('3 - SPECIE DA IMPIANTARE'!$G96=\"AZIONE_1\",'3 - SPECIE DA IMPIANTARE'!$G96,\"\")","v":""},{"$f":"IF('3 - SPECIE DA IMPIANTARE'!#REF!=1,'3 - SPECIE DA IMPIANTARE'!#REF!,\"\")","v":{"$error":"#REF!"}},{"$f":"IF(AND($A95=\"AZIONE_1\",$B95=1),'3 - SPECIE DA IMPIANTARE'!$H96,\"\")","v":{"$error":"#REF!"}},{"$f":"IF(AND($A95=\"AZIONE_1\",$B95=1),'3 - SPECIE DA IMPIANTARE'!$K96,\"\")","v":{"$error":"#REF!"}},{"$f":"IF('3 - SPECIE DA IMPIANTARE'!#REF!=2,'3 - SPECIE DA IMPIANTARE'!#REF!,\"\")","v":{"$error":"#REF!"}},{"$f":"IF(AND($A95=\"AZIONE_1\",$E95=2),'3 - SPECIE DA IMPIANTARE'!$H96,\"\")","v":{"$error":"#REF!"}},{"$f":"IF(AND($A95=\"AZIONE_1\",$B95=1),'3 - SPECIE DA IMPIANTARE'!$T96,\"\")","v":{"$error":"#REF!"}},{"$f":"IF(AND($A95=\"AZIONE_1\",$B95=1),'3 - SPECIE DA IMPIANTARE'!$W96,\"\")","v":{"$error":"#REF!"}},null,{"$f":"IF('3 - SPECIE DA IMPIANTARE'!#REF!=2,'3 - SPECIE DA IMPIANTARE'!#REF!,\"\")","v":{"$error":"#REF!"}},{"$f":"IF(AND($A95=\"AZIONE_1\",$J95=2),'3 - SPECIE DA IMPIANTARE'!$H96,\"\")","v":{"$error":"#REF!"}}]
[{"$f":"IF('3 - SPECIE DA IMPIANTARE'!$G97=\"AZIONE_1\",'3 - SPECIE DA IMPIANTARE'!$G97,\"\")","v":""},{"$f":"IF('3 - SPECIE DA IMPIANTARE'!#REF!=1,'3 - SPECIE DA IMPIANTARE'!#REF!,\"\")","v":{"$error":"#REF!"}},{"$f":"IF(AND($A96=\"AZIONE_1\",$B96=1),'3 - SPECIE DA IMPIANTARE'!$H97,\"\")","v":{"$error":"#REF!"}},{"$f":"IF(AND($A96=\"AZIONE_1\",$B96=1),'3 - SPECIE DA IMPIANTARE'!$K97,\"\")","v":{"$error":"#REF!"}},{"$f":"IF('3 - SPECIE DA IMPIANTARE'!#REF!=2,'3 - SPECIE DA IMPIANTARE'!#REF!,\"\")","v":{"$error":"#REF!"}},{"$f":"IF(AND($A96=\"AZIONE_1\",$E96=2),'3 - SPECIE DA IMPIANTARE'!$H97,\"\")","v":{"$error":"#REF!"}},{"$f":"IF(AND($A96=\"AZIONE_1\",$B96=1),'3 - SPECIE DA IMPIANTARE'!$T97,\"\")","v":{"$error":"#REF!"}},{"$f":"IF(AND($A96=\"AZIONE_1\",$B96=1),'3 - SPECIE DA IMPIANTARE'!$W97,\"\")","v":{"$error":"#REF!"}},null,{"$f":"IF('3 - SPECIE DA IMPIANTARE'!#REF!=2,'3 - SPECIE DA IMPIANTARE'!#REF!,\"\")","v":{"$error":"#REF!"}},{"$f":"IF(AND($A96=\"AZIONE_1\",$J96=2),'3 - SPECIE DA IMPIANTARE'!$H97,\"\")","v":{"$error":"#REF!"}}]
[{"$f":"IF('3 - SPECIE DA IMPIANTARE'!$G98=\"AZIONE_1\",'3 - SPECIE DA IMPIANTARE'!$G98,\"\")","v":""},{"$f":"IF('3 - SPECIE DA IMPIANTARE'!#REF!=1,'3 - SPECIE DA IMPIANTARE'!#REF!,\"\")","v":{"$error":"#REF!"}},{"$f":"IF(AND($A97=\"AZIONE_1\",$B97=1),'3 - SPECIE DA IMPIANTARE'!$H98,\"\")","v":{"$error":"#REF!"}},{"$f":"IF(AND($A97=\"AZIONE_1\",$B97=1),'3 - SPECIE DA IMPIANTARE'!$K98,\"\")","v":{"$error":"#REF!"}},{"$f":"IF('3 - SPECIE DA IMPIANTARE'!#REF!=2,'3 - SPECIE DA IMPIANTARE'!#REF!,\"\")","v":{"$error":"#REF!"}},{"$f":"IF(AND($A97=\"AZIONE_1\",$E97=2),'3 - SPECIE DA IMPIANTARE'!$H98,\"\")","v":{"$error":"#REF!"}},{"$f":"IF(AND($A97=\"AZIONE_1\",$B97=1),'3 - SPECIE DA IMPIANTARE'!$T98,\"\")","v":{"$error":"#REF!"}},{"$f":"IF(AND($A97=\"AZIONE_1\",$B97=1),'3 - SPECIE DA IMPIANTARE'!$W98,\"\")","v":{"$error":"#REF!"}},null,{"$f":"IF('3 - SPECIE DA IMPIANTARE'!#REF!=2,'3 - SPECIE DA IMPIANTARE'!#REF!,\"\")","v":{"$error":"#REF!"}},{"$f":"IF(AND($A97=\"AZIONE_1\",$J97=2),'3 - SPECIE DA IMPIANTARE'!$H98,\"\")","v":{"$error":"#REF!"}}]
[{"$f":"IF('3 - SPECIE DA IMPIANTARE'!$G99=\"AZIONE_1\",'3 - SPECIE DA IMPIANTARE'!$G99,\"\")","v":""},{"$f":"IF('3 - SPECIE DA IMPIANTARE'!#REF!=1,'3 - SPECIE DA IMPIANTARE'!#REF!,\"\")","v":{"$error":"#REF!"}},{"$f":"IF(AND($A98=\"AZIONE_1\",$B98=1),'3 - SPECIE DA IMPIANTARE'!$H99,\"\")","v":{"$error":"#REF!"}},{"$f":"IF(AND($A98=\"AZIONE_1\",$B98=1),'3 - SPECIE DA IMPIANTARE'!$K99,\"\")","v":{"$error":"#REF!"}},{"$f":"IF('3 - SPECIE DA IMPIANTARE'!#REF!=2,'3 - SPECIE DA IMPIANTARE'!#REF!,\"\")","v":{"$error":"#REF!"}},{"$f":"IF(AND($A98=\"AZIONE_1\",$E98=2),'3 - SPECIE DA IMPIANTARE'!$H99,\"\")","v":{"$error":"#REF!"}},{"$f":"IF(AND($A98=\"AZIONE_1\",$B98=1),'3 - SPECIE DA IMPIANTARE'!$T99,\"\")","v":{"$error":"#REF!"}},{"$f":"IF(AND($A98=\"AZIONE_1\",$B98=1),'3 - SPECIE DA IMPIANTARE'!$W99,\"\")","v":{"$error":"#REF!"}},null,{"$f":"IF('3 - SPECIE DA IMPIANTARE'!#REF!=2,'3 - SPECIE DA IMPIANTARE'!#REF!,\"\")","v":{"$error":"#REF!"}},{"$f":"IF(AND($A98=\"AZIONE_1\",$J98=2),'3 - SPECIE DA IMPIANTARE'!$H99,\"\")","v":{"$error":"#REF!"}}]
[{"$f":"IF('3 - SPECIE DA IMPIANTARE'!$G100=\"AZIONE_1\",'3 - SPECIE DA IMPIANTARE'!$G100,\"\")","v":""},{"$f":"IF('3 - SPECIE DA IMPIANTARE'!#REF!=1,'3 - SPECIE DA IMPIANTARE'!#REF!,\"\")","v":{"$error":"#REF!"}},{"$f":"IF(AND($A99=\"AZIONE_1\",$B99=1),'3 - SPECIE DA IMPIANTARE'!$H100,\"\")","v":{"$error":"#REF!"}},{"$f":"IF(AND($A99=\"AZIONE_1\",$B99=1),'3 - SPECIE DA IMPIANTARE'!$K100,\"\")","v":{"$error":"#REF!"}},{"$f":"IF('3 - SPECIE DA IMPIANTARE'!#REF!=2,'3 - SPECIE DA IMPIANTARE'!#REF!,\"\")","v":{"$error":"#REF!"}},{"$f":"IF(AND($A99=\"AZIONE_1\",$E99=2),'3 - SPECIE DA IMPIANTARE'!$H100,\"\")","v":{"$error":"#REF!"}},{"$f":"IF(AND($A99=\"AZIONE_1\",$B99=1),'3 - SPECIE DA IMPIANTARE'!$T100,\"\")","v":{"$error":"#REF!"}},{"$f":"IF(AND($A99=\"AZIONE_1\",$B99=1),'3 - SPECIE DA IMPIANTARE'!$W100,\"\")","v":{"$error":"#REF!"}},null,{"$f":"IF('3 - SPECIE DA IMPIANTARE'!#REF!=2,'3 - SPECIE DA IMPIANTARE'!#REF!,\"\")","v":{"$error":"#REF!"}},{"$f":"IF(AND($A99=\"AZIONE_1\",$J99=2),'3 - SPECIE DA IMPIANTARE'!$H100,\"\")","v":{"$error":"#REF!"}}]
[{"$f":"IF('3 - SPECIE DA IMPIANTARE'!$G101=\"AZIONE_1\",'3 - SPECIE DA IMPIANTARE'!$G101,\"\")","v":""},{"$f":"IF('3 - SPECIE DA IMPIANTARE'!#REF!=1,'3 - SPECIE DA IMPIANTARE'!#REF!,\"\")","v":{"$error":"#REF!"}},{"$f":"IF(AND($A100=\"AZIONE_1\",$B100=1),'3 - SPECIE DA IMPIANTARE'!$H101,\"\")","v":{"$error":"#REF!"}},{"$f":"IF(AND($A100=\"AZIONE_1\",$B100=1),'3 - SPECIE DA IMPIANTARE'!$K101,\"\")","v":{"$error":"#REF!"}},{"$f":"IF('3 - SPECIE DA IMPIANTARE'!#REF!=2,'3 - SPECIE DA IMPIANTARE'!#REF!,\"\")","v":{"$error":"#REF!"}},{"$f":"IF(AND($A100=\"AZIONE_1\",$E100=2),'3 - SPECIE DA IMPIANTARE'!$H101,\"\")","v":{"$error":"#REF!"}},{"$f":"IF(AND($A100=\"AZIONE_1\",$B100=1),'3 - SPECIE DA IMPIANTARE'!$T101,\"\")","v":{"$error":"#REF!"}},{"$f":"IF(AND($A100=\"AZIONE_1\",$B100=1),'3 - SPECIE DA IMPIANTARE'!$W101,\"\")","v":{"$error":"#REF!"}},null,{"$f":"IF('3 - SPECIE DA IMPIANTARE'!#REF!=2,'3 - SPECIE DA IMPIANTARE'!#REF!,\"\")","v":{"$error":"#REF!"}},{"$f":"IF(AND($A100=\"AZIONE_1\",$J100=2),'3 - SPECIE DA IMPIANTARE'!$H101,\"\")","v":{"$error":"#REF!"}}]
[{"$f":"IF('3 - SPECIE DA IMPIANTARE'!$G102=\"AZIONE_1\",'3 - SPECIE DA IMPIANTARE'!$G102,\"\")","v":""},{"$f":"IF('3 - SPECIE DA IMPIANTARE'!#REF!=1,'3 - SPECIE DA IMPIANTARE'!#REF!,\"\")","v":{"$error":"#REF!"}},{"$f":"IF(AND($A101=\"AZIONE_1\",$B101=1),'3 - SPECIE DA IMPIANTARE'!$H102,\"\")","v":{"$error":"#REF!"}},{"$f":"IF(AND($A101=\"AZIONE_1\",$B101=1),'3 - SPECIE DA IMPIANTARE'!$K102,\"\")","v":{"$error":"#REF!"}},{"$f":"IF('3 - SPECIE DA IMPIANTARE'!#REF!=2,'3 - SPECIE DA IMPIANTARE'!#REF!,\"\")","v":{"$error":"#REF!"}},{"$f":"IF(AND($A101=\"AZIONE_1\",$E101=2),'3 - SPECIE DA IMPIANTARE'!$H102,\"\")","v":{"$error":"#REF!"}},{"$f":"IF(AND($A101=\"AZIONE_1\",$B101=1),'3 - SPECIE DA IMPIANTARE'!$T102,\"\")","v":{"$error":"#REF!"}},{"$f":"IF(AND($A101=\"AZIONE_1\",$B101=1),'3 - SPECIE DA IMPIANTARE'!$W102,\"\")","v":{"$error":"#REF!"}},null,{"$f":"IF('3 - SPECIE DA IMPIANTARE'!#REF!=2,'3 - SPECIE DA IMPIANTARE'!#REF!,\"\")","v":{"$error":"#REF!"}},{"$f":"IF(AND($A101=\"AZIONE_1\",$J101=2),'3 - SPECIE DA IMPIANTARE'!$H102,\"\")","v":{"$error":"#REF!"}}]
[{"$f":"A2","v":""},{"$f":"B2","v":{"$error":"#REF!"}},{"$f":"IF(AND($A102=\"AZIONE_1\",$B102=1),'3 - SPECIE DA IMPIANTARE'!$K3,\"\")","v":{"$error":"#REF!"}},null,{"$f":"E2","v":{"$error":"#REF!"}},{"$f":"IF(AND($A102=\"AZIONE_1\",$E102=2),'3 - SPECIE DA IMPIANTARE'!$K103,\"\")","v":{"$error":"#REF!"}},null,null,null,null,{"$f":"IF(AND($A102=\"AZIONE_1\",$J102=2),'3 - SPECIE DA IMPIANTARE'!$H103,\"\")","v":""}]
[{"$f":"A3","v":""},{"$error":"#REF!"},{"$f":"IF(AND($A103=\"AZIONE_1\",$B103=1),'3 - SPECIE DA IMPIANTARE'!$K4,\"\")","v":{"$error":"#REF!"}},null,{"$f":"E3","v":{"$error":"#REF!"}},{"$f":"IF(AND($A103=\"AZIONE_1\",$E103=2),'3 - SPECIE DA IMPIANTARE'!$K104,\"\")","v":{"$error":"#REF!"}},null,null,null,null,{"$f":"IF(AND($A103=\"AZIONE_1\",$J103=2),'3 - SPECIE DA IMPIANTARE'!$H104,\"\")","v":""}]
[{"$f":"A4","v":""},{"$error":"#REF!"},{"$f":"IF(AND($A104=\"AZIONE_1\",$B104=1),'3 - SPECIE DA IMPIANTARE'!$K5,\"\")","v":{"$error":"#REF!"}},null,{"$f":"E4","v":{"$error":"#REF!"}},{"$f":"IF(AND($A104=\"AZIONE_1\",$E104=2),'3 - SPECIE DA IMPIANTARE'!$K105,\"\")","v":{"$error":"#REF!"}}]
[{"$f":"A5","v":""},{"$error":"#REF!"},{"$f":"IF(AND($A105=\"AZIONE_1\",$B105=1),'3 - SPECIE DA IMPIANTARE'!$K6,\"\")","v":{"$error":"#REF!"}},null,{"$error":"#REF!"},{"$f":"IF(AND($A105=\"AZIONE_1\",$E105=2),'3 - SPECIE DA IMPIANTARE'!$K106,\"\")","v":{"$error":"#REF!"}}]
[{"$f":"A6","v":""},{"$error":"#REF!"},{"$f":"IF(AND($A106=\"AZIONE_1\",$B106=1),'3 - SPECIE DA IMPIANTARE'!$K7,\"\")","v":{"$error":"#REF!"}},null,{"$error":"#REF!"},{"$f":"IF(AND($A106=\"AZIONE_1\",$E106=2),'3 - SPECIE DA IMPIANTARE'!$K107,\"\")","v":{"$error":"#REF!"}}]
[{"$f":"A7","v":""},{"$error":"#REF!"},{"$f":"IF(AND($A107=\"AZIONE_1\",$B107=1),'3 - SPECIE DA IMPIANTARE'!$K8,\"\")","v":{"$error":"#REF!"}},null,{"$error":"#REF!"},{"$f":"IF(AND($A107=\"AZIONE_1\",$E107=2),'3 - SPECIE DA IMPIANTARE'!$K108,\"\")","v":{"$error":"#REF!"}}]
[{"$f":"A8","v":""},{"$error":"#REF!"},{"$f":"IF(AND($A108=\"AZIONE_1\",$B108=1),'3 - SPECIE DA IMPIANTARE'!$K9,\"\")","v":{"$error":"#REF!"}},null,{"$error":"#REF!"},{"$f":"IF(AND($A108=\"AZIONE_1\",$E108=2),'3 - SPECIE DA IMPIANTARE'!$K109,\"\")","v":{"$error":"#REF!"}}]
[{"$f":"A9","v":""},{"$error":"#REF!"},{"$f":"IF(AND($A109=\"AZIONE_1\",$B109=1),'3 - SPECIE DA IMPIANTARE'!$K10,\"\")","v":{"$error":"#REF!"}},null,{"$error":"#REF!"},{"$f":"IF(AND($A109=\"AZIONE_1\",$E109=2),'3 - SPECIE DA IMPIANTARE'!$K110,\"\")","v":{"$error":"#REF!"}}]
[{"$f":"A10","v":""},{"$error":"#REF!"},{"$f":"IF(AND($A110=\"AZIONE_1\",$B110=1),'3 - SPECIE DA IMPIANTARE'!$K11,\"\")","v":{"$error":"#REF!"}},null,{"$error":"#REF!"},{"$f":"IF(AND($A110=\"AZIONE_1\",$E110=2),'3 - SPECIE DA IMPIANTARE'!$K111,\"\")","v":{"$error":"#REF!"}}]
[{"$f":"A11","v":""},{"$error":"#REF!"},{"$f":"IF(AND($A111=\"AZIONE_1\",$B111=1),'3 - SPECIE DA IMPIANTARE'!$K12,\"\")","v":{"$error":"#REF!"}},null,{"$error":"#REF!"},{"$f":"IF(AND($A111=\"AZIONE_1\",$E111=2),'3 - SPECIE DA IMPIANTARE'!$K112,\"\")","v":{"$error":"#REF!"}}]
[{"$f":"A12","v":""},{"$error":"#REF!"},{"$f":"IF(AND($A112=\"AZIONE_1\",$B112=1),'3 - SPECIE DA IMPIANTARE'!$K13,\"\")","v":{"$error":"#REF!"}},null,{"$error":"#REF!"},{"$f":"IF(AND($A112=\"AZIONE_1\",$E112=2),'3 - SPECIE DA IMPIANTARE'!$K113,\"\")","v":{"$error":"#REF!"}}]
[{"$f":"A13","v":""},{"$error":"#REF!"},{"$f":"IF(AND($A113=\"AZIONE_1\",$B113=1),'3 - SPECIE DA IMPIANTARE'!$K14,\"\")","v":{"$error":"#REF!"}},null,{"$error":"#REF!"},{"$f":"IF(AND($A113=\"AZIONE_1\",$E113=2),'3 - SPECIE DA IMPIANTARE'!$K114,\"\")","v":{"$error":"#REF!"}}]
[{"$f":"A14","v":""},{"$error":"#REF!"},{"$f":"IF(AND($A114=\"AZIONE_1\",$B114=1),'3 - SPECIE DA IMPIANTARE'!$K15,\"\")","v":{"$error":"#REF!"}},null,{"$error":"#REF!"},{"$f":"IF(AND($A114=\"AZIONE_1\",$E114=2),'3 - SPECIE DA IMPIANTARE'!$K115,\"\")","v":{"$error":"#REF!"}}]
[{"$f":"A15","v":""},{"$error":"#REF!"},{"$f":"IF(AND($A115=\"AZIONE_1\",$B115=1),'3 - SPECIE DA IMPIANTARE'!$K16,\"\")","v":{"$error":"#REF!"}},null,{"$error":"#REF!"},{"$f":"IF(AND($A115=\"AZIONE_1\",$E115=2),'3 - SPECIE DA IMPIANTARE'!$K116,\"\")","v":{"$error":"#REF!"}}]
[{"$f":"A16","v":""},{"$error":"#REF!"},{"$f":"IF(AND($A116=\"AZIONE_1\",$B116=1),'3 - SPECIE DA IMPIANTARE'!$K17,\"\")","v":{"$error":"#REF!"}},null,{"$error":"#REF!"},{"$f":"IF(AND($A116=\"AZIONE_1\",$E116=2),'3 - SPECIE DA IMPIANTARE'!$K117,\"\")","v":{"$error":"#REF!"}}]
[{"$f":"A17","v":""},{"$error":"#REF!"},{"$f":"IF(AND($A117=\"AZIONE_1\",$B117=1),'3 - SPECIE DA IMPIANTARE'!$K18,\"\")","v":{"$error":"#REF!"}},null,{"$error":"#REF!"},{"$f":"IF(AND($A117=\"AZIONE_1\",$E117=2),'3 - SPECIE DA IMPIANTARE'!$K118,\"\")","v":{"$error":"#REF!"}}]
[{"$f":"A18","v":""},{"$error":"#REF!"},{"$f":"IF(AND($A118=\"AZIONE_1\",$B118=1),'3 - SPECIE DA IMPIANTARE'!$K19,\"\")","v":{"$error":"#REF!"}},null,{"$error":"#REF!"},{"$f":"IF(AND($A118=\"AZIONE_1\",$E118=2),'3 - SPECIE DA IMPIANTARE'!$K119,\"\")","v":{"$error":"#REF!"}}]
[{"$f":"A19","v":""},{"$error":"#REF!"},{"$f":"IF(AND($A119=\"AZIONE_1\",$B119=1),'3 - SPECIE DA IMPIANTARE'!$K20,\"\")","v":{"$error":"#REF!"}},null,{"$error":"#REF!"},{"$f":"IF(AND($A119=\"AZIONE_1\",$E119=2),'3 - SPECIE DA IMPIANTARE'!$K120,\"\")","v":{"$error":"#REF!"}}]
[{"$f":"A20","v":""},{"$error":"#REF!"},{"$f":"IF(AND($A120=\"AZIONE_1\",$B120=1),'3 - SPECIE DA IMPIANTARE'!$K21,\"\")","v":{"$error":"#REF!"}},null,{"$error":"#REF!"},{"$f":"IF(AND($A120=\"AZIONE_1\",$E120=2),'3 - SPECIE DA IMPIANTARE'!$K121,\"\")","v":{"$error":"#REF!"}}]
[{"$f":"A21","v":""},{"$error":"#REF!"},{"$f":"IF(AND($A121=\"AZIONE_1\",$B121=1),'3 - SPECIE DA IMPIANTARE'!$K22,\"\")","v":{"$error":"#REF!"}},null,{"$error":"#REF!"},{"$f":"IF(AND($A121=\"AZIONE_1\",$E121=2),'3 - SPECIE DA IMPIANTARE'!$K122,\"\")","v":{"$error":"#REF!"}}]
[{"$f":"A22","v":""},{"$error":"#REF!"},{"$f":"IF(AND($A122=\"AZIONE_1\",$B122=1),'3 - SPECIE DA IMPIANTARE'!$K23,\"\")","v":{"$error":"#REF!"}},null,{"$error":"#REF!"},{"$f":"IF(AND($A122=\"AZIONE_1\",$E122=2),'3 - SPECIE DA IMPIANTARE'!$K123,\"\")","v":{"$error":"#REF!"}}]
[{"$f":"A23","v":""},{"$error":"#REF!"},{"$f":"IF(AND($A123=\"AZIONE_1\",$B123=1),'3 - SPECIE DA IMPIANTARE'!$K24,\"\")","v":{"$error":"#REF!"}},null,{"$error":"#REF!"},{"$f":"IF(AND($A123=\"AZIONE_1\",$E123=2),'3 - SPECIE DA IMPIANTARE'!$K124,\"\")","v":{"$error":"#REF!"}}]
[{"$f":"A24","v":""},{"$error":"#REF!"},{"$f":"IF(AND($A124=\"AZIONE_1\",$B124=1),'3 - SPECIE DA IMPIANTARE'!$K25,\"\")","v":{"$error":"#REF!"}},null,{"$error":"#REF!"},{"$f":"IF(AND($A124=\"AZIONE_1\",$E124=2),'3 - SPECIE DA IMPIANTARE'!$K125,\"\")","v":{"$error":"#REF!"}}]
[{"$f":"A25","v":""},{"$error":"#REF!"},{"$f":"IF(AND($A125=\"AZIONE_1\",$B125=1),'3 - SPECIE DA IMPIANTARE'!$K26,\"\")","v":{"$error":"#REF!"}},null,{"$error":"#REF!"},{"$f":"IF(AND($A125=\"AZIONE_1\",$E125=2),'3 - SPECIE DA IMPIANTARE'!$K126,\"\")","v":{"$error":"#REF!"}}]
[{"$f":"A26","v":""},{"$error":"#REF!"},{"$f":"IF(AND($A126=\"AZIONE_1\",$B126=1),'3 - SPECIE DA IMPIANTARE'!$K27,\"\")","v":{"$error":"#REF!"}},null,{"$error":"#REF!"},{"$f":"IF(AND($A126=\"AZIONE_1\",$E126=2),'3 - SPECIE DA IMPIANTARE'!$K127,\"\")","v":{"$error":"#REF!"}}]
[{"$f":"A27","v":""},{"$error":"#REF!"},{"$f":"IF(AND($A127=\"AZIONE_1\",$B127=1),'3 - SPECIE DA IMPIANTARE'!$K28,\"\")","v":{"$error":"#REF!"}},null,{"$error":"#REF!"},{"$f":"IF(AND($A127=\"AZIONE_1\",$E127=2),'3 - SPECIE DA IMPIANTARE'!$K128,\"\")","v":{"$error":"#REF!"}}]
[{"$f":"A28","v":""},{"$error":"#REF!"},{"$f":"IF(AND($A128=\"AZIONE_1\",$B128=1),'3 - SPECIE DA IMPIANTARE'!$K29,\"\")","v":{"$error":"#REF!"}},null,{"$error":"#REF!"},{"$f":"IF(AND($A128=\"AZIONE_1\",$E128=2),'3 - SPECIE DA IMPIANTARE'!$K129,\"\")","v":{"$error":"#REF!"}}]
[{"$f":"A29","v":""},{"$error":"#REF!"},{"$f":"IF(AND($A129=\"AZIONE_1\",$B129=1),'3 - SPECIE DA IMPIANTARE'!$K30,\"\")","v":{"$error":"#REF!"}},null,{"$error":"#REF!"},{"$f":"IF(AND($A129=\"AZIONE_1\",$E129=2),'3 - SPECIE DA IMPIANTARE'!$K130,\"\")","v":{"$error":"#REF!"}}]
[{"$f":"A30","v":""},{"$error":"#REF!"},{"$f":"IF(AND($A130=\"AZIONE_1\",$B130=1),'3 - SPECIE DA IMPIANTARE'!$K31,\"\")","v":{"$error":"#REF!"}},null,{"$error":"#REF!"},{"$f":"IF(AND($A130=\"AZIONE_1\",$E130=2),'3 - SPECIE DA IMPIANTARE'!$K131,\"\")","v":{"$error":"#REF!"}}]
[{"$f":"A31","v":""},{"$error":"#REF!"},{"$f":"IF(AND($A131=\"AZIONE_1\",$B131=1),'3 - SPECIE DA IMPIANTARE'!$K32,\"\")","v":{"$error":"#REF!"}},null,{"$error":"#REF!"},{"$f":"IF(AND($A131=\"AZIONE_1\",$E131=2),'3 - SPECIE DA IMPIANTARE'!$K132,\"\")","v":{"$error":"#REF!"}}]
[{"$f":"A32","v":""},{"$error":"#REF!"},{"$f":"IF(AND($A132=\"AZIONE_1\",$B132=1),'3 - SPECIE DA IMPIANTARE'!$K33,\"\")","v":{"$error":"#REF!"}},null,{"$error":"#REF!"},{"$f":"IF(AND($A132=\"AZIONE_1\",$E132=2),'3 - SPECIE DA IMPIANTARE'!$K133,\"\")","v":{"$error":"#REF!"}}]
[{"$f":"A33","v":""},{"$error":"#REF!"},{"$f":"IF(AND($A133=\"AZIONE_1\",$B133=1),'3 - SPECIE DA IMPIANTARE'!$K34,\"\")","v":{"$error":"#REF!"}},null,{"$error":"#REF!"},{"$f":"IF(AND($A133=\"AZIONE_1\",$E133=2),'3 - SPECIE DA IMPIANTARE'!$K134,\"\")","v":{"$error":"#REF!"}}]
[{"$f":"A34","v":""},{"$error":"#REF!"},{"$f":"IF(AND($A134=\"AZIONE_1\",$B134=1),'3 - SPECIE DA IMPIANTARE'!$K35,\"\")","v":{"$error":"#REF!"}},null,{"$error":"#REF!"},{"$f":"IF(AND($A134=\"AZIONE_1\",$E134=2),'3 - SPECIE DA IMPIANTARE'!$K135,\"\")","v":{"$error":"#REF!"}}]
[{"$f":"A35","v":""},{"$error":"#REF!"},{"$f":"IF(AND($A135=\"AZIONE_1\",$B135=1),'3 - SPECIE DA IMPIANTARE'!$K36,\"\")","v":{"$error":"#REF!"}},null,{"$error":"#REF!"},{"$f":"IF(AND($A135=\"AZIONE_1\",$E135=2),'3 - SPECIE DA IMPIANTARE'!$K136,\"\")","v":{"$error":"#REF!"}}]
[{"$f":"A36","v":""},{"$error":"#REF!"},{"$f":"IF(AND($A136=\"AZIONE_1\",$B136=1),'3 - SPECIE DA IMPIANTARE'!$K37,\"\")","v":{"$error":"#REF!"}},null,{"$error":"#REF!"},{"$f":"IF(AND($A136=\"AZIONE_1\",$E136=2),'3 - SPECIE DA IMPIANTARE'!$K137,\"\")","v":{"$error":"#REF!"}}]
[{"$f":"A37","v":""},{"$error":"#REF!"},{"$f":"IF(AND($A137=\"AZIONE_1\",$B137=1),'3 - SPECIE DA IMPIANTARE'!$K38,\"\")","v":{"$error":"#REF!"}},null,{"$error":"#REF!"},{"$f":"IF(AND($A137=\"AZIONE_1\",$E137=2),'3 - SPECIE DA IMPIANTARE'!$K138,\"\")","v":{"$error":"#REF!"}}]
[{"$f":"A38","v":""},{"$error":"#REF!"},{"$f":"IF(AND($A138=\"AZIONE_1\",$B138=1),'3 - SPECIE DA IMPIANTARE'!$K39,\"\")","v":{"$error":"#REF!"}},null,{"$error":"#REF!"},{"$f":"IF(AND($A138=\"AZIONE_1\",$E138=2),'3 - SPECIE DA IMPIANTARE'!$K139,\"\")","v":{"$error":"#REF!"}}]
[{"$f":"A39","v":""},{"$error":"#REF!"},{"$f":"IF(AND($A139=\"AZIONE_1\",$B139=1),'3 - SPECIE DA IMPIANTARE'!$K40,\"\")","v":{"$error":"#REF!"}},null,{"$error":"#REF!"},{"$f":"IF(AND($A139=\"AZIONE_1\",$E139=2),'3 - SPECIE DA IMPIANTARE'!$K140,\"\")","v":{"$error":"#REF!"}}]
[{"$f":"A40","v":""},{"$error":"#REF!"},{"$f":"IF(AND($A140=\"AZIONE_1\",$B140=1),'3 - SPECIE DA IMPIANTARE'!$K41,\"\")","v":{"$error":"#REF!"}},null,{"$error":"#REF!"},{"$f":"IF(AND($A140=\"AZIONE_1\",$E140=2),'3 - SPECIE DA IMPIANTARE'!$K141,\"\")","v":{"$error":"#REF!"}}]
[{"$f":"A41","v":""},{"$error":"#REF!"},{"$f":"IF(AND($A141=\"AZIONE_1\",$B141=1),'3 - SPECIE DA IMPIANTARE'!$K42,\"\")","v":{"$error":"#REF!"}},null,{"$error":"#REF!"},{"$f":"IF(AND($A141=\"AZIONE_1\",$E141=2),'3 - SPECIE DA IMPIANTARE'!$K142,\"\")","v":{"$error":"#REF!"}}]
[{"$f":"A42","v":""},{"$error":"#REF!"},{"$f":"IF(AND($A142=\"AZIONE_1\",$B142=1),'3 - SPECIE DA IMPIANTARE'!$K43,\"\")","v":{"$error":"#REF!"}},null,{"$error":"#REF!"},{"$f":"IF(AND($A142=\"AZIONE_1\",$E142=2),'3 - SPECIE DA IMPIANTARE'!$K143,\"\")","v":{"$error":"#REF!"}}]
[{"$f":"A43","v":""},{"$error":"#REF!"},{"$f":"IF(AND($A143=\"AZIONE_1\",$B143=1),'3 - SPECIE DA IMPIANTARE'!$K44,\"\")","v":{"$error":"#REF!"}},null,{"$error":"#REF!"},{"$f":"IF(AND($A143=\"AZIONE_1\",$E143=2),'3 - SPECIE DA IMPIANTARE'!$K144,\"\")","v":{"$error":"#REF!"}}]
[{"$f":"A44","v":""},{"$error":"#REF!"},{"$f":"IF(AND($A144=\"AZIONE_1\",$B144=1),'3 - SPECIE DA IMPIANTARE'!$K45,\"\")","v":{"$error":"#REF!"}},null,{"$error":"#REF!"},{"$f":"IF(AND($A144=\"AZIONE_1\",$E144=2),'3 - SPECIE DA IMPIANTARE'!$K145,\"\")","v":{"$error":"#REF!"}}]
[{"$f":"A45","v":""},{"$error":"#REF!"},{"$f":"IF(AND($A145=\"AZIONE_1\",$B145=1),'3 - SPECIE DA IMPIANTARE'!$K46,\"\")","v":{"$error":"#REF!"}},null,{"$error":"#REF!"},{"$f":"IF(AND($A145=\"AZIONE_1\",$E145=2),'3 - SPECIE DA IMPIANTARE'!$K146,\"\")","v":{"$error":"#REF!"}}]
[{"$f":"A46","v":""},{"$error":"#REF!"},{"$f":"IF(AND($A146=\"AZIONE_1\",$B146=1),'3 - SPECIE DA IMPIANTARE'!$K47,\"\")","v":{"$error":"#REF!"}},null,{"$error":"#REF!"},{"$f":"IF(AND($A146=\"AZIONE_1\",$E146=2),'3 - SPECIE DA IMPIANTARE'!$K147,\"\")","v":{"$error":"#REF!"}}]
[{"$f":"A47","v":""},{"$error":"#REF!"},{"$f":"IF(AND($A147=\"AZIONE_1\",$B147=1),'3 - SPECIE DA IMPIANTARE'!$K48,\"\")","v":{"$error":"#REF!"}},null,{"$error":"#REF!"},{"$f":"IF(AND($A147=\"AZIONE_1\",$E147=2),'3 - SPECIE DA IMPIANTARE'!$K148,\"\")","v":{"$error":"#REF!"}}]
[{"$f":"A48","v":""},{"$error":"#REF!"},{"$f":"IF(AND($A148=\"AZIONE_1\",$B148=1),'3 - SPECIE DA IMPIANTARE'!$K49,\"\")","v":{"$error":"#REF!"}},null,{"$error":"#REF!"},{"$f":"IF(AND($A148=\"AZIONE_1\",$E148=2),'3 - SPECIE DA IMPIANTARE'!$K149,\"\")","v":{"$error":"#REF!"}}]
[{"$f":"A49","v":""},{"$error":"#REF!"},{"$f":"IF(AND($A149=\"AZIONE_1\",$B149=1),'3 - SPECIE DA IMPIANTARE'!$K50,\"\")","v":{"$error":"#REF!"}},null,{"$error":"#REF!"},{"$f":"IF(AND($A149=\"AZIONE_1\",$E149=2),'3 - SPECIE DA IMPIANTARE'!$K150,\"\")","v":{"$error":"#REF!"}}]
[{"$f":"A50","v":""},{"$error":"#REF!"},{"$f":"IF(AND($A150=\"AZIONE_1\",$B150=1),'3 - SPECIE DA IMPIANTARE'!$K51,\"\")","v":{"$error":"#REF!"}},null,{"$error":"#REF!"},{"$f":"IF(AND($A150=\"AZIONE_1\",$E150=2),'3 - SPECIE DA IMPIANTARE'!$K151,\"\")","v":{"$error":"#REF!"}}]
[{"$f":"A51","v":""},{"$error":"#REF!"},{"$f":"IF(AND($A151=\"AZIONE_1\",$B151=1),'3 - SPECIE DA IMPIANTARE'!$K52,\"\")","v":{"$error":"#REF!"}},null,{"$error":"#REF!"},{"$f":"IF(AND($A151=\"AZIONE_1\",$E151=2),'3 - SPECIE DA IMPIANTARE'!$K152,\"\")","v":{"$error":"#REF!"}}]
[{"$f":"A52","v":""},{"$error":"#REF!"},{"$f":"IF(AND($A152=\"AZIONE_1\",$B152=1),'3 - SPECIE DA IMPIANTARE'!$K53,\"\")","v":{"$error":"#REF!"}},null,{"$error":"#REF!"},{"$f":"IF(AND($A152=\"AZIONE_1\",$E152=2),'3 - SPECIE DA IMPIANTARE'!$K153,\"\")","v":{"$error":"#REF!"}}]
[{"$f":"A53","v":""},{"$error":"#REF!"},{"$f":"IF(AND($A153=\"AZIONE_1\",$B153=1),'3 - SPECIE DA IMPIANTARE'!$K54,\"\")","v":{"$error":"#REF!"}},null,{"$error":"#REF!"},{"$f":"IF(AND($A153=\"AZIONE_1\",$E153=2),'3 - SPECIE DA IMPIANTARE'!$K154,\"\")","v":{"$error":"#REF!"}}]
[{"$f":"A54","v":""},{"$error":"#REF!"},{"$f":"IF(AND($A154=\"AZIONE_1\",$B154=1),'3 - SPECIE DA IMPIANTARE'!$K55,\"\")","v":{"$error":"#REF!"}},null,{"$error":"#REF!"},{"$f":"IF(AND($A154=\"AZIONE_1\",$E154=2),'3 - SPECIE DA IMPIANTARE'!$K155,\"\")","v":{"$error":"#REF!"}}]
[{"$f":"A55","v":""},{"$error":"#REF!"},{"$f":"IF(AND($A155=\"AZIONE_1\",$B155=1),'3 - SPECIE DA IMPIANTARE'!$K56,\"\")","v":{"$error":"#REF!"}},null,{"$error":"#REF!"},{"$f":"IF(AND($A155=\"AZIONE_1\",$E155=2),'3 - SPECIE DA IMPIANTARE'!$K156,\"\")","v":{"$error":"#REF!"}}]
[{"$f":"A56","v":""},{"$error":"#REF!"},{"$f":"IF(AND($A156=\"AZIONE_1\",$B156=1),'3 - SPECIE DA IMPIANTARE'!$K57,\"\")","v":{"$error":"#REF!"}},null,{"$error":"#REF!"},{"$f":"IF(AND($A156=\"AZIONE_1\",$E156=2),'3 - SPECIE DA IMPIANTARE'!$K157,\"\")","v":{"$error":"#REF!"}}]
[{"$f":"A57","v":""},{"$error":"#REF!"},{"$f":"IF(AND($A157=\"AZIONE_1\",$B157=1),'3 - SPECIE DA IMPIANTARE'!$K58,\"\")","v":{"$error":"#REF!"}},null,{"$error":"#REF!"},{"$f":"IF(AND($A157=\"AZIONE_1\",$E157=2),'3 - SPECIE DA IMPIANTARE'!$K158,\"\")","v":{"$error":"#REF!"}}]
[{"$f":"A58","v":""},{"$error":"#REF!"},{"$f":"IF(AND($A158=\"AZIONE_1\",$B158=1),'3 - SPECIE DA IMPIANTARE'!$K59,\"\")","v":{"$error":"#REF!"}},null,{"$error":"#REF!"},{"$f":"IF(AND($A158=\"AZIONE_1\",$E158=2),'3 - SPECIE DA IMPIANTARE'!$K159,\"\")","v":{"$error":"#REF!"}}]
[{"$f":"A59","v":""},{"$error":"#REF!"},{"$f":"IF(AND($A159=\"AZIONE_1\",$B159=1),'3 - SPECIE DA IMPIANTARE'!$K60,\"\")","v":{"$error":"#REF!"}},null,{"$error":"#REF!"},{"$f":"IF(AND($A159=\"AZIONE_1\",$E159=2),'3 - SPECIE DA IMPIANTARE'!$K160,\"\")","v":{"$error":"#REF!"}}]
[{"$f":"A60","v":""},{"$error":"#REF!"},{"$f":"IF(AND($A160=\"AZIONE_1\",$B160=1),'3 - SPECIE DA IMPIANTARE'!$K61,\"\")","v":{"$error":"#REF!"}},null,{"$error":"#REF!"},{"$f":"IF(AND($A160=\"AZIONE_1\",$E160=2),'3 - SPECIE DA IMPIANTARE'!$K161,\"\")","v":{"$error":"#REF!"}}]
[{"$f":"A61","v":""},{"$error":"#REF!"},{"$f":"IF(AND($A161=\"AZIONE_1\",$B161=1),'3 - SPECIE DA IMPIANTARE'!$K62,\"\")","v":{"$error":"#REF!"}},null,{"$error":"#REF!"},{"$f":"IF(AND($A161=\"AZIONE_1\",$E161=2),'3 - SPECIE DA IMPIANTARE'!$K162,\"\")","v":{"$error":"#REF!"}}]
[{"$f":"A62","v":""},{"$error":"#REF!"},{"$f":"IF(AND($A162=\"AZIONE_1\",$B162=1),'3 - SPECIE DA IMPIANTARE'!$K63,\"\")","v":{"$error":"#REF!"}},null,{"$error":"#REF!"},{"$f":"IF(AND($A162=\"AZIONE_1\",$E162=2),'3 - SPECIE DA IMPIANTARE'!$K163,\"\")","v":{"$error":"#REF!"}}]
[{"$f":"A63","v":""},{"$error":"#REF!"},{"$f":"IF(AND($A163=\"AZIONE_1\",$B163=1),'3 - SPECIE DA IMPIANTARE'!$K64,\"\")","v":{"$error":"#REF!"}},null,{"$error":"#REF!"},{"$f":"IF(AND($A163=\"AZIONE_1\",$E163=2),'3 - SPECIE DA IMPIANTARE'!$K164,\"\")","v":{"$error":"#REF!"}}]
[{"$f":"A64","v":""},{"$error":"#REF!"},{"$f":"IF(AND($A164=\"AZIONE_1\",$B164=1),'3 - SPECIE DA IMPIANTARE'!$K65,\"\")","v":{"$error":"#REF!"}},null,{"$error":"#REF!"},{"$f":"IF(AND($A164=\"AZIONE_1\",$E164=2),'3 - SPECIE DA IMPIANTARE'!$K165,\"\")","v":{"$error":"#REF!"}}]
[{"$f":"A65","v":""},{"$error":"#REF!"},{"$f":"IF(AND($A165=\"AZIONE_1\",$B165=1),'3 - SPECIE DA IMPIANTARE'!$K66,\"\")","v":{"$error":"#REF!"}},null,{"$error":"#REF!"},{"$f":"IF(AND($A165=\"AZIONE_1\",$E165=2),'3 - SPECIE DA IMPIANTARE'!$K166,\"\")","v":{"$error":"#REF!"}}]
[{"$f":"A66","v":""},{"$error":"#REF!"},{"$f":"IF(AND($A166=\"AZIONE_1\",$B166=1),'3 - SPECIE DA IMPIANTARE'!$K67,\"\")","v":{"$error":"#REF!"}},null,{"$error":"#REF!"},{"$f":"IF(AND($A166=\"AZIONE_1\",$E166=2),'3 - SPECIE DA IMPIANTARE'!$K167,\"\")","v":{"$error":"#REF!"}}]
[{"$f":"A67","v":""},{"$error":"#REF!"},{"$f":"IF(AND($A167=\"AZIONE_1\",$B167=1),'3 - SPECIE DA IMPIANTARE'!$K68,\"\")","v":{"$error":"#REF!"}},null,{"$error":"#REF!"},{"$f":"IF(AND($A167=\"AZIONE_1\",$E167=2),'3 - SPECIE DA IMPIANTARE'!$K168,\"\")","v":{"$error":"#REF!"}}]
[{"$f":"A68","v":""},{"$error":"#REF!"},{"$f":"IF(AND($A168=\"AZIONE_1\",$B168=1),'3 - SPECIE DA IMPIANTARE'!$K69,\"\")","v":{"$error":"#REF!"}},null,{"$f":"E68","v":{"$error":"#REF!"}},{"$f":"IF(AND($A168=\"AZIONE_1\",$E168=2),'3 - SPECIE DA IMPIANTARE'!$K169,\"\")","v":{"$error":"#REF!"}}]
[{"$f":"A69","v":""},{"$error":"#REF!"},{"$f":"IF(AND($A169=\"AZIONE_1\",$B169=1),'3 - SPECIE DA IMPIANTARE'!$K70,\"\")","v":{"$error":"#REF!"}},null,{"$error":"#REF!"},{"$f":"IF(AND($A169=\"AZIONE_1\",$E169=2),'3 - SPECIE DA IMPIANTARE'!$K170,\"\")","v":{"$error":"#REF!"}}]
[{"$f":"A70","v":""},{"$error":"#REF!"},{"$f":"IF(AND($A170=\"AZIONE_1\",$B170=1),'3 - SPECIE DA IMPIANTARE'!$K71,\"\")","v":{"$error":"#REF!"}},null,{"$error":"#REF!"},{"$f":"IF(AND($A170=\"AZIONE_1\",$E170=2),'3 - SPECIE DA IMPIANTARE'!$K171,\"\")","v":{"$error":"#REF!"}}]
[{"$f":"A71","v":""},{"$error":"#REF!"},{"$f":"IF(AND($A171=\"AZIONE_1\",$B171=1),'3 - SPECIE DA IMPIANTARE'!$K72,\"\")","v":{"$error":"#REF!"}},null,{"$error":"#REF!"},{"$f":"IF(AND($A171=\"AZIONE_1\",$E171=2),'3 - SPECIE DA IMPIANTARE'!$K172,\"\")","v":{"$error":"#REF!"}}]
[{"$f":"A72","v":""},{"$error":"#REF!"},{"$f":"IF(AND($A172=\"AZIONE_1\",$B172=1),'3 - SPECIE DA IMPIANTARE'!$K73,\"\")","v":{"$error":"#REF!"}},null,{"$error":"#REF!"},{"$f":"IF(AND($A172=\"AZIONE_1\",$E172=2),'3 - SPECIE DA IMPIANTARE'!$K173,\"\")","v":{"$error":"#REF!"}}]
[{"$f":"A73","v":""},{"$error":"#REF!"},{"$f":"IF(AND($A173=\"AZIONE_1\",$B173=1),'3 - SPECIE DA IMPIANTARE'!$K74,\"\")","v":{"$error":"#REF!"}},null,{"$error":"#REF!"},{"$f":"IF(AND($A173=\"AZIONE_1\",$E173=2),'3 - SPECIE DA IMPIANTARE'!$K174,\"\")","v":{"$error":"#REF!"}}]
[{"$f":"A74","v":""},{"$error":"#REF!"},{"$f":"IF(AND($A174=\"AZIONE_1\",$B174=1),'3 - SPECIE DA IMPIANTARE'!$K75,\"\")","v":{"$error":"#REF!"}},null,{"$error":"#REF!"},{"$f":"IF(AND($A174=\"AZIONE_1\",$E174=2),'3 - SPECIE DA IMPIANTARE'!$K175,\"\")","v":{"$error":"#REF!"}}]
[{"$f":"A75","v":""},{"$error":"#REF!"},{"$f":"IF(AND($A175=\"AZIONE_1\",$B175=1),'3 - SPECIE DA IMPIANTARE'!$K76,\"\")","v":{"$error":"#REF!"}},null,{"$error":"#REF!"},{"$f":"IF(AND($A175=\"AZIONE_1\",$E175=2),'3 - SPECIE DA IMPIANTARE'!$K176,\"\")","v":{"$error":"#REF!"}}]
[{"$f":"A76","v":""},{"$error":"#REF!"},{"$f":"IF(AND($A176=\"AZIONE_1\",$B176=1),'3 - SPECIE DA IMPIANTARE'!$K77,\"\")","v":{"$error":"#REF!"}},null,{"$error":"#REF!"},{"$f":"IF(AND($A176=\"AZIONE_1\",$E176=2),'3 - SPECIE DA IMPIANTARE'!$K177,\"\")","v":{"$error":"#REF!"}}]
[{"$f":"A77","v":""},{"$error":"#REF!"},{"$f":"IF(AND($A177=\"AZIONE_1\",$B177=1),'3 - SPECIE DA IMPIANTARE'!$K78,\"\")","v":{"$error":"#REF!"}},null,{"$error":"#REF!"},{"$f":"IF(AND($A177=\"AZIONE_1\",$E177=2),'3 - SPECIE DA IMPIANTARE'!$K178,\"\")","v":{"$error":"#REF!"}}]
[{"$f":"A78","v":""},{"$error":"#REF!"},{"$f":"IF(AND($A178=\"AZIONE_1\",$B178=1),'3 - SPECIE DA IMPIANTARE'!$K79,\"\")","v":{"$error":"#REF!"}},null,{"$error":"#REF!"},{"$f":"IF(AND($A178=\"AZIONE_1\",$E178=2),'3 - SPECIE DA IMPIANTARE'!$K179,\"\")","v":{"$error":"#REF!"}}]
[{"$f":"A79","v":""},{"$error":"#REF!"},{"$f":"IF(AND($A179=\"AZIONE_1\",$B179=1),'3 - SPECIE DA IMPIANTARE'!$K80,\"\")","v":{"$error":"#REF!"}},null,{"$error":"#REF!"},{"$f":"IF(AND($A179=\"AZIONE_1\",$E179=2),'3 - SPECIE DA IMPIANTARE'!$K180,\"\")","v":{"$error":"#REF!"}}]
[{"$f":"A80","v":""},{"$error":"#REF!"},{"$f":"IF(AND($A180=\"AZIONE_1\",$B180=1),'3 - SPECIE DA IMPIANTARE'!$K81,\"\")","v":{"$error":"#REF!"}},null,{"$error":"#REF!"},{"$f":"IF(AND($A180=\"AZIONE_1\",$E180=2),'3 - SPECIE DA IMPIANTARE'!$K181,\"\")","v":{"$error":"#REF!"}}]
[{"$f":"A81","v":""},{"$error":"#REF!"},{"$f":"IF(AND($A181=\"AZIONE_1\",$B181=1),'3 - SPECIE DA IMPIANTARE'!$K82,\"\")","v":{"$error":"#REF!"}},null,{"$error":"#REF!"},{"$f":"IF(AND($A181=\"AZIONE_1\",$E181=2),'3 - SPECIE DA IMPIANTARE'!$K182,\"\")","v":{"$error":"#REF!"}}]
[{"$f":"A82","v":""},{"$error":"#REF!"},{"$f":"IF(AND($A182=\"AZIONE_1\",$B182=1),'3 - SPECIE DA IMPIANTARE'!$K83,\"\")","v":{"$error":"#REF!"}},null,{"$error":"#REF!"},{"$f":"IF(AND($A182=\"AZIONE_1\",$E182=2),'3 - SPECIE DA IMPIANTARE'!$K183,\"\")","v":{"$error":"#REF!"}}]
[{"$f":"A83","v":""},{"$error":"#REF!"},{"$f":"IF(AND($A183=\"AZIONE_1\",$B183=1),'3 - SPECIE DA IMPIANTARE'!$K84,\"\")","v":{"$error":"#REF!"}},null,{"$error":"#REF!"},{"$f":"IF(AND($A183=\"AZIONE_1\",$E183=2),'3 - SPECIE DA IMPIANTARE'!$K184,\"\")","v":{"$error":"#REF!"}}]
[{"$f":"A84","v":""},{"$error":"#REF!"},{"$f":"IF(AND($A184=\"AZIONE_1\",$B184=1),'3 - SPECIE DA IMPIANTARE'!$K85,\"\")","v":{"$error":"#REF!"}},null,{"$error":"#REF!"},{"$f":"IF(AND($A184=\"AZIONE_1\",$E184=2),'3 - SPECIE DA IMPIANTARE'!$K185,\"\")","v":{"$error":"#REF!"}}]
[{"$f":"A85","v":""},{"$error":"#REF!"},{"$f":"IF(AND($A185=\"AZIONE_1\",$B185=1),'3 - SPECIE DA IMPIANTARE'!$K86,\"\")","v":{"$error":"#REF!"}},null,{"$error":"#REF!"},{"$f":"IF(AND($A185=\"AZIONE_1\",$E185=2),'3 - SPECIE DA IMPIANTARE'!$K186,\"\")","v":{"$error":"#REF!"}}]
[{"$f":"A86","v":""},{"$error":"#REF!"},{"$f":"IF(AND($A186=\"AZIONE_1\",$B186=1),'3 - SPECIE DA IMPIANTARE'!$K87,\"\")","v":{"$error":"#REF!"}},null,{"$error":"#REF!"},{"$f":"IF(AND($A186=\"AZIONE_1\",$E186=2),'3 - SPECIE DA IMPIANTARE'!$K187,\"\")","v":{"$error":"#REF!"}}]
[{"$f":"A87","v":""},{"$error":"#REF!"},{"$f":"IF(AND($A187=\"AZIONE_1\",$B187=1),'3 - SPECIE DA IMPIANTARE'!$K88,\"\")","v":{"$error":"#REF!"}},null,{"$error":"#REF!"},{"$f":"IF(AND($A187=\"AZIONE_1\",$E187=2),'3 - SPECIE DA IMPIANTARE'!$K188,\"\")","v":{"$error":"#REF!"}}]
[{"$f":"A88","v":""},{"$error":"#REF!"},{"$f":"IF(AND($A188=\"AZIONE_1\",$B188=1),'3 - SPECIE DA IMPIANTARE'!$K89,\"\")","v":{"$error":"#REF!"}},null,{"$error":"#REF!"},{"$f":"IF(AND($A188=\"AZIONE_1\",$E188=2),'3 - SPECIE DA IMPIANTARE'!$K189,\"\")","v":{"$error":"#REF!"}}]
[{"$f":"A89","v":""},{"$error":"#REF!"},{"$f":"IF(AND($A189=\"AZIONE_1\",$B189=1),'3 - SPECIE DA IMPIANTARE'!$K90,\"\")","v":{"$error":"#REF!"}},null,{"$error":"#REF!"},{"$f":"IF(AND($A189=\"AZIONE_1\",$E189=2),'3 - SPECIE DA IMPIANTARE'!$K190,\"\")","v":{"$error":"#REF!"}}]
[{"$f":"A90","v":""},{"$error":"#REF!"},{"$f":"IF(AND($A190=\"AZIONE_1\",$B190=1),'3 - SPECIE DA IMPIANTARE'!$K91,\"\")","v":{"$error":"#REF!"}},null,{"$error":"#REF!"},{"$f":"IF(AND($A190=\"AZIONE_1\",$E190=2),'3 - SPECIE DA IMPIANTARE'!$K191,\"\")","v":{"$error":"#REF!"}}]
[{"$f":"A91","v":""},{"$error":"#REF!"},{"$f":"IF(AND($A191=\"AZIONE_1\",$B191=1),'3 - SPECIE DA IMPIANTARE'!$K92,\"\")","v":{"$error":"#REF!"}},null,{"$error":"#REF!"},{"$f":"IF(AND($A191=\"AZIONE_1\",$E191=2),'3 - SPECIE DA IMPIANTARE'!$K192,\"\")","v":{"$error":"#REF!"}}]
[{"$f":"A92","v":""},{"$error":"#REF!"},{"$f":"IF(AND($A192=\"AZIONE_1\",$B192=1),'3 - SPECIE DA IMPIANTARE'!$K93,\"\")","v":{"$error":"#REF!"}},null,{"$error":"#REF!"},{"$f":"IF(AND($A192=\"AZIONE_1\",$E192=2),'3 - SPECIE DA IMPIANTARE'!$K193,\"\")","v":{"$error":"#REF!"}}]
[{"$f":"A93","v":""},{"$error":"#REF!"},{"$f":"IF(AND($A193=\"AZIONE_1\",$B193=1),'3 - SPECIE DA IMPIANTARE'!$K94,\"\")","v":{"$error":"#REF!"}},null,{"$error":"#REF!"},{"$f":"IF(AND($A193=\"AZIONE_1\",$E193=2),'3 - SPECIE DA IMPIANTARE'!$K194,\"\")","v":{"$error":"#REF!"}}]
[{"$f":"A94","v":""},{"$error":"#REF!"},{"$f":"IF(AND($A194=\"AZIONE_1\",$B194=1),'3 - SPECIE DA IMPIANTARE'!$K95,\"\")","v":{"$error":"#REF!"}},null,{"$error":"#REF!"},{"$f":"IF(AND($A194=\"AZIONE_1\",$E194=2),'3 - SPECIE DA IMPIANTARE'!$K195,\"\")","v":{"$error":"#REF!"}}]
[{"$f":"A95","v":""},{"$error":"#REF!"},{"$f":"IF(AND($A195=\"AZIONE_1\",$B195=1),'3 - SPECIE DA IMPIANTARE'!$K96,\"\")","v":{"$error":"#REF!"}},null,{"$error":"#REF!"},{"$f":"IF(AND($A195=\"AZIONE_1\",$E195=2),'3 - SPECIE DA IMPIANTARE'!$K196,\"\")","v":{"$error":"#REF!"}}]
[{"$f":"A96","v":""},{"$error":"#REF!"},{"$f":"IF(AND($A196=\"AZIONE_1\",$B196=1),'3 - SPECIE DA IMPIANTARE'!$K97,\"\")","v":{"$error":"#REF!"}},null,{"$error":"#REF!"},{"$f":"IF(AND($A196=\"AZIONE_1\",$E196=2),'3 - SPECIE DA IMPIANTARE'!$K197,\"\")","v":{"$error":"#REF!"}}]
[{"$f":"A97","v":""},{"$error":"#REF!"},{"$f":"IF(AND($A197=\"AZIONE_1\",$B197=1),'3 - SPECIE DA IMPIANTARE'!$K98,\"\")","v":{"$error":"#REF!"}},null,{"$error":"#REF!"},{"$f":"IF(AND($A197=\"AZIONE_1\",$E197=2),'3 - SPECIE DA IMPIANTARE'!$K198,\"\")","v":{"$error":"#REF!"}}]
[{"$f":"A98","v":""},{"$error":"#REF!"},{"$f":"IF(AND($A198=\"AZIONE_1\",$B198=1),'3 - SPECIE DA IMPIANTARE'!$K99,\"\")","v":{"$error":"#REF!"}},null,{"$error":"#REF!"},{"$f":"IF(AND($A198=\"AZIONE_1\",$E198=2),'3 - SPECIE DA IMPIANTARE'!$K199,\"\")","v":{"$error":"#REF!"}}]
[{"$f":"A99","v":""},{"$error":"#REF!"},{"$f":"IF(AND($A199=\"AZIONE_1\",$B199=1),'3 - SPECIE DA IMPIANTARE'!$K100,\"\")","v":{"$error":"#REF!"}},null,{"$error":"#REF!"},{"$f":"IF(AND($A199=\"AZIONE_1\",$E199=2),'3 - SPECIE DA IMPIANTARE'!$K200,\"\")","v":{"$error":"#REF!"}}]
[{"$f":"A100","v":""},{"$error":"#REF!"},{"$f":"IF(AND($A200=\"AZIONE_1\",$B200=1),'3 - SPECIE DA IMPIANTARE'!$K101,\"\")","v":{"$error":"#REF!"}},null,{"$error":"#REF!"},{"$f":"IF(AND($A200=\"AZIONE_1\",$E200=2),'3 - SPECIE DA IMPIANTARE'!$K201,\"\")","v":{"$error":"#REF!"}}]
[{"$f":"A101","v":""},{"$error":"#REF!"},{"$f":"IF(AND($A201=\"AZIONE_1\",$B201=1),'3 - SPECIE DA IMPIANTARE'!$K102,\"\")","v":{"$error":"#REF!"}},null,{"$error":"#REF!"},{"$f":"IF(AND($A201=\"AZIONE_1\",$E201=2),'3 - SPECIE DA IMPIANTARE'!$K202,\"\")","v":{"$error":"#REF!"}}]
[{"$f":"A102","v":""},{"$error":"#REF!"},{"$f":"IF(AND($A202=\"AZIONE_1\",$B202=1),'3 - SPECIE DA IMPIANTARE'!$N3,\"\")","v":{"$error":"#REF!"}},null,{"$error":"#REF!"},{"$f":"IF(AND($A202=\"AZIONE_1\",$E202=2),'3 - SPECIE DA IMPIANTARE'!$N203,\"\")","v":{"$error":"#REF!"}}]
[{"$f":"A103","v":""},{"$error":"#REF!"},{"$f":"IF(AND($A203=\"AZIONE_1\",$B203=1),'3 - SPECIE DA IMPIANTARE'!$N4,\"\")","v":{"$error":"#REF!"}},null,{"$error":"#REF!"},{"$f":"IF(AND($A203=\"AZIONE_1\",$E203=2),'3 - SPECIE DA IMPIANTARE'!$N204,\"\")","v":{"$error":"#REF!"}}]
[{"$f":"A104","v":""},{"$error":"#REF!"},{"$f":"IF(AND($A204=\"AZIONE_1\",$B204=1),'3 - SPECIE DA IMPIANTARE'!$N5,\"\")","v":{"$error":"#REF!"}},null,{"$error":"#REF!"},{"$f":"IF(AND($A204=\"AZIONE_1\",$E204=2),'3 - SPECIE DA IMPIANTARE'!$N205,\"\")","v":{"$error":"#REF!"}}]
[{"$f":"A105","v":""},{"$error":"#REF!"},{"$f":"IF(AND($A205=\"AZIONE_1\",$B205=1),'3 - SPECIE DA IMPIANTARE'!$N6,\"\")","v":{"$error":"#REF!"}},null,{"$error":"#REF!"},{"$f":"IF(AND($A205=\"AZIONE_1\",$E205=2),'3 - SPECIE DA IMPIANTARE'!$N206,\"\")","v":{"$error":"#REF!"}}]
[{"$f":"A106","v":""},{"$error":"#REF!"},{"$f":"IF(AND($A206=\"AZIONE_1\",$B206=1),'3 - SPECIE DA IMPIANTARE'!$N7,\"\")","v":{"$error":"#REF!"}},null,{"$error":"#REF!"},{"$f":"IF(AND($A206=\"AZIONE_1\",$E206=2),'3 - SPECIE DA IMPIANTARE'!$N207,\"\")","v":{"$error":"#REF!"}}]
[{"$f":"A107","v":""},{"$error":"#REF!"},{"$f":"IF(AND($A207=\"AZIONE_1\",$B207=1),'3 - SPECIE DA IMPIANTARE'!$N8,\"\")","v":{"$error":"#REF!"}},null,{"$error":"#REF!"},{"$f":"IF(AND($A207=\"AZIONE_1\",$E207=2),'3 - SPECIE DA IMPIANTARE'!$N208,\"\")","v":{"$error":"#REF!"}}]
[{"$f":"A108","v":""},{"$error":"#REF!"},{"$f":"IF(AND($A208=\"AZIONE_1\",$B208=1),'3 - SPECIE DA IMPIANTARE'!$N9,\"\")","v":{"$error":"#REF!"}},null,{"$error":"#REF!"},{"$f":"IF(AND($A208=\"AZIONE_1\",$E208=2),'3 - SPECIE DA IMPIANTARE'!$N209,\"\")","v":{"$error":"#REF!"}}]
[{"$f":"A109","v":""},{"$error":"#REF!"},{"$f":"IF(AND($A209=\"AZIONE_1\",$B209=1),'3 - SPECIE DA IMPIANTARE'!$N10,\"\")","v":{"$error":"#REF!"}},null,{"$error":"#REF!"},{"$f":"IF(AND($A209=\"AZIONE_1\",$E209=2),'3 - SPECIE DA IMPIANTARE'!$N210,\"\")","v":{"$error":"#REF!"}}]
[{"$f":"A110","v":""},{"$error":"#REF!"},{"$f":"IF(AND($A210=\"AZIONE_1\",$B210=1),'3 - SPECIE DA IMPIANTARE'!$N11,\"\")","v":{"$error":"#REF!"}},null,{"$error":"#REF!"},{"$f":"IF(AND($A210=\"AZIONE_1\",$E210=2),'3 - SPECIE DA IMPIANTARE'!$N211,\"\")","v":{"$error":"#REF!"}}]
[{"$f":"A111","v":""},{"$error":"#REF!"},{"$f":"IF(AND($A211=\"AZIONE_1\",$B211=1),'3 - SPECIE DA IMPIANTARE'!$N12,\"\")","v":{"$error":"#REF!"}},null,{"$error":"#REF!"},{"$f":"IF(AND($A211=\"AZIONE_1\",$E211=2),'3 - SPECIE DA IMPIANTARE'!$N212,\"\")","v":{"$error":"#REF!"}}]
[{"$f":"A112","v":""},{"$error":"#REF!"},{"$f":"IF(AND($A212=\"AZIONE_1\",$B212=1),'3 - SPECIE DA IMPIANTARE'!$N13,\"\")","v":{"$error":"#REF!"}},null,{"$error":"#REF!"},{"$f":"IF(AND($A212=\"AZIONE_1\",$E212=2),'3 - SPECIE DA IMPIANTARE'!$N213,\"\")","v":{"$error":"#REF!"}}]
[{"$f":"A113","v":""},{"$error":"#REF!"},{"$f":"IF(AND($A213=\"AZIONE_1\",$B213=1),'3 - SPECIE DA IMPIANTARE'!$N14,\"\")","v":{"$error":"#REF!"}},null,{"$error":"#REF!"},{"$f":"IF(AND($A213=\"AZIONE_1\",$E213=2),'3 - SPECIE DA IMPIANTARE'!$N214,\"\")","v":{"$error":"#REF!"}}]
[{"$f":"A114","v":""},{"$error":"#REF!"},{"$f":"IF(AND($A214=\"AZIONE_1\",$B214=1),'3 - SPECIE DA IMPIANTARE'!$N15,\"\")","v":{"$error":"#REF!"}},null,{"$error":"#REF!"},{"$f":"IF(AND($A214=\"AZIONE_1\",$E214=2),'3 - SPECIE DA IMPIANTARE'!$N215,\"\")","v":{"$error":"#REF!"}}]
[{"$f":"A115","v":""},{"$error":"#REF!"},{"$f":"IF(AND($A215=\"AZIONE_1\",$B215=1),'3 - SPECIE DA IMPIANTARE'!$N16,\"\")","v":{"$error":"#REF!"}},null,{"$error":"#REF!"},{"$f":"IF(AND($A215=\"AZIONE_1\",$E215=2),'3 - SPECIE DA IMPIANTARE'!$N216,\"\")","v":{"$error":"#REF!"}}]
[{"$f":"A116","v":""},{"$error":"#REF!"},{"$f":"IF(AND($A216=\"AZIONE_1\",$B216=1),'3 - SPECIE DA IMPIANTARE'!$N17,\"\")","v":{"$error":"#REF!"}},null,{"$error":"#REF!"},{"$f":"IF(AND($A216=\"AZIONE_1\",$E216=2),'3 - SPECIE DA IMPIANTARE'!$N217,\"\")","v":{"$error":"#REF!"}}]
[{"$f":"A117","v":""},{"$error":"#REF!"},{"$f":"IF(AND($A217=\"AZIONE_1\",$B217=1),'3 - SPECIE DA IMPIANTARE'!$N18,\"\")","v":{"$error":"#REF!"}},null,{"$error":"#REF!"},{"$f":"IF(AND($A217=\"AZIONE_1\",$E217=2),'3 - SPECIE DA IMPIANTARE'!$N218,\"\")","v":{"$error":"#REF!"}}]
[{"$f":"A118","v":""},{"$error":"#REF!"},{"$f":"IF(AND($A218=\"AZIONE_1\",$B218=1),'3 - SPECIE DA IMPIANTARE'!$N19,\"\")","v":{"$error":"#REF!"}},null,{"$error":"#REF!"},{"$f":"IF(AND($A218=\"AZIONE_1\",$E218=2),'3 - SPECIE DA IMPIANTARE'!$N219,\"\")","v":{"$error":"#REF!"}}]
[{"$f":"A119","v":""},{"$error":"#REF!"},{"$f":"IF(AND($A219=\"AZIONE_1\",$B219=1),'3 - SPECIE DA IMPIANTARE'!$N20,\"\")","v":{"$error":"#REF!"}},null,{"$error":"#REF!"},{"$f":"IF(AND($A219=\"AZIONE_1\",$E219=2),'3 - SPECIE DA IMPIANTARE'!$N220,\"\")","v":{"$error":"#REF!"}}]
[{"$f":"A120","v":""},{"$error":"#REF!"},{"$f":"IF(AND($A220=\"AZIONE_1\",$B220=1),'3 - SPECIE DA IMPIANTARE'!$N21,\"\")","v":{"$error":"#REF!"}},null,{"$error":"#REF!"},{"$f":"IF(AND($A220=\"AZIONE_1\",$E220=2),'3 - SPECIE DA IMPIANTARE'!$N221,\"\")","v":{"$error":"#REF!"}}]
[{"$f":"A121","v":""},{"$error":"#REF!"},{"$f":"IF(AND($A221=\"AZIONE_1\",$B221=1),'3 - SPECIE DA IMPIANTARE'!$N22,\"\")","v":{"$error":"#REF!"}},null,{"$error":"#REF!"},{"$f":"IF(AND($A221=\"AZIONE_1\",$E221=2),'3 - SPECIE DA IMPIANTARE'!$N222,\"\")","v":{"$error":"#REF!"}}]
[{"$f":"A122","v":""},{"$error":"#REF!"},{"$f":"IF(AND($A222=\"AZIONE_1\",$B222=1),'3 - SPECIE DA IMPIANTARE'!$N23,\"\")","v":{"$error":"#REF!"}},null,{"$error":"#REF!"},{"$f":"IF(AND($A222=\"AZIONE_1\",$E222=2),'3 - SPECIE DA IMPIANTARE'!$N223,\"\")","v":{"$error":"#REF!"}}]
[{"$f":"A123","v":""},{"$error":"#REF!"},{"$f":"IF(AND($A223=\"AZIONE_1\",$B223=1),'3 - SPECIE DA IMPIANTARE'!$N24,\"\")","v":{"$error":"#REF!"}},null,{"$error":"#REF!"},{"$f":"IF(AND($A223=\"AZIONE_1\",$E223=2),'3 - SPECIE DA IMPIANTARE'!$N224,\"\")","v":{"$error":"#REF!"}}]
[{"$f":"A124","v":""},{"$error":"#REF!"},{"$f":"IF(AND($A224=\"AZIONE_1\",$B224=1),'3 - SPECIE DA IMPIANTARE'!$N25,\"\")","v":{"$error":"#REF!"}},null,{"$error":"#REF!"},{"$f":"IF(AND($A224=\"AZIONE_1\",$E224=2),'3 - SPECIE DA IMPIANTARE'!$N225,\"\")","v":{"$error":"#REF!"}}]
[{"$f":"A125","v":""},{"$error":"#REF!"},{"$f":"IF(AND($A225=\"AZIONE_1\",$B225=1),'3 - SPECIE DA IMPIANTARE'!$N26,\"\")","v":{"$error":"#REF!"}},null,{"$error":"#REF!"},{"$f":"IF(AND($A225=\"AZIONE_1\",$E225=2),'3 - SPECIE DA IMPIANTARE'!$N226,\"\")","v":{"$error":"#REF!"}}]
[{"$f":"A126","v":""},{"$error":"#REF!"},{"$f":"IF(AND($A226=\"AZIONE_1\",$B226=1),'3 - SPECIE DA IMPIANTARE'!$N27,\"\")","v":{"$error":"#REF!"}},null,{"$error":"#REF!"},{"$f":"IF(AND($A226=\"AZIONE_1\",$E226=2),'3 - SPECIE DA IMPIANTARE'!$N227,\"\")","v":{"$error":"#REF!"}}]
[{"$f":"A127","v":""},{"$error":"#REF!"},{"$f":"IF(AND($A227=\"AZIONE_1\",$B227=1),'3 - SPECIE DA IMPIANTARE'!$N28,\"\")","v":{"$error":"#REF!"}},null,{"$error":"#REF!"},{"$f":"IF(AND($A227=\"AZIONE_1\",$E227=2),'3 - SPECIE DA IMPIANTARE'!$N228,\"\")","v":{"$error":"#REF!"}}]
[{"$f":"A128","v":""},{"$error":"#REF!"},{"$f":"IF(AND($A228=\"AZIONE_1\",$B228=1),'3 - SPECIE DA IMPIANTARE'!$N29,\"\")","v":{"$error":"#REF!"}},null,{"$error":"#REF!"},{"$f":"IF(AND($A228=\"AZIONE_1\",$E228=2),'3 - SPECIE DA IMPIANTARE'!$N229,\"\")","v":{"$error":"#REF!"}}]
[{"$f":"A129","v":""},{"$error":"#REF!"},{"$f":"IF(AND($A229=\"AZIONE_1\",$B229=1),'3 - SPECIE DA IMPIANTARE'!$N30,\"\")","v":{"$error":"#REF!"}},null,{"$error":"#REF!"},{"$f":"IF(AND($A229=\"AZIONE_1\",$E229=2),'3 - SPECIE DA IMPIANTARE'!$N230,\"\")","v":{"$error":"#REF!"}}]
[{"$f":"A130","v":""},{"$error":"#REF!"},{"$f":"IF(AND($A230=\"AZIONE_1\",$B230=1),'3 - SPECIE DA IMPIANTARE'!$N31,\"\")","v":{"$error":"#REF!"}},null,{"$error":"#REF!"},{"$f":"IF(AND($A230=\"AZIONE_1\",$E230=2),'3 - SPECIE DA IMPIANTARE'!$N231,\"\")","v":{"$error":"#REF!"}}]
[{"$f":"A131","v":""},{"$error":"#REF!"},{"$f":"IF(AND($A231=\"AZIONE_1\",$B231=1),'3 - SPECIE DA IMPIANTARE'!$N32,\"\")","v":{"$error":"#REF!"}},null,{"$error":"#REF!"},{"$f":"IF(AND($A231=\"AZIONE_1\",$E231=2),'3 - SPECIE DA IMPIANTARE'!$N232,\"\")","v":{"$error":"#REF!"}}]
[{"$f":"A132","v":""},{"$error":"#REF!"},{"$f":"IF(AND($A232=\"AZIONE_1\",$B232=1),'3 - SPECIE DA IMPIANTARE'!$N33,\"\")","v":{"$error":"#REF!"}},null,{"$f":"E132","v":{"$error":"#REF!"}},{"$f":"IF(AND($A232=\"AZIONE_1\",$E232=2),'3 - SPECIE DA IMPIANTARE'!$N233,\"\")","v":{"$error":"#REF!"}}]
[{"$f":"A133","v":""},{"$error":"#REF!"},{"$f":"IF(AND($A233=\"AZIONE_1\",$B233=1),'3 - SPECIE DA IMPIANTARE'!$N34,\"\")","v":{"$error":"#REF!"}},null,{"$error":"#REF!"},{"$f":"IF(AND($A233=\"AZIONE_1\",$E233=2),'3 - SPECIE DA IMPIANTARE'!$N234,\"\")","v":{"$error":"#REF!"}}]
[{"$f":"A134","v":""},{"$error":"#REF!"},{"$f":"IF(AND($A234=\"AZIONE_1\",$B234=1),'3 - SPECIE DA IMPIANTARE'!$N35,\"\")","v":{"$error":"#REF!"}},null,{"$error":"#REF!"},{"$f":"IF(AND($A234=\"AZIONE_1\",$E234=2),'3 - SPECIE DA IMPIANTARE'!$N235,\"\")","v":{"$error":"#REF!"}}]
[{"$f":"A135","v":""},{"$error":"#REF!"},{"$f":"IF(AND($A235=\"AZIONE_1\",$B235=1),'3 - SPECIE DA IMPIANTARE'!$N36,\"\")","v":{"$error":"#REF!"}},null,{"$error":"#REF!"},{"$f":"IF(AND($A235=\"AZIONE_1\",$E235=2),'3 - SPECIE DA IMPIANTARE'!$N236,\"\")","v":{"$error":"#REF!"}}]
[{"$f":"A136","v":""},{"$error":"#REF!"},{"$f":"IF(AND($A236=\"AZIONE_1\",$B236=1),'3 - SPECIE DA IMPIANTARE'!$N37,\"\")","v":{"$error":"#REF!"}},null,{"$error":"#REF!"},{"$f":"IF(AND($A236=\"AZIONE_1\",$E236=2),'3 - SPECIE DA IMPIANTARE'!$N237,\"\")","v":{"$error":"#REF!"}}]
[{"$f":"A137","v":""},{"$error":"#REF!"},{"$f":"IF(AND($A237=\"AZIONE_1\",$B237=1),'3 - SPECIE DA IMPIANTARE'!$N38,\"\")","v":{"$error":"#REF!"}},null,{"$error":"#REF!"},{"$f":"IF(AND($A237=\"AZIONE_1\",$E237=2),'3 - SPECIE DA IMPIANTARE'!$N238,\"\")","v":{"$error":"#REF!"}}]
[{"$f":"A138","v":""},{"$error":"#REF!"},{"$f":"IF(AND($A238=\"AZIONE_1\",$B238=1),'3 - SPECIE DA IMPIANTARE'!$N39,\"\")","v":{"$error":"#REF!"}},null,{"$error":"#REF!"},{"$f":"IF(AND($A238=\"AZIONE_1\",$E238=2),'3 - SPECIE DA IMPIANTARE'!$N239,\"\")","v":{"$error":"#REF!"}}]
[{"$f":"A139","v":""},{"$error":"#REF!"},{"$f":"IF(AND($A239=\"AZIONE_1\",$B239=1),'3 - SPECIE DA IMPIANTARE'!$N40,\"\")","v":{"$error":"#REF!"}},null,{"$error":"#REF!"},{"$f":"IF(AND($A239=\"AZIONE_1\",$E239=2),'3 - SPECIE DA IMPIANTARE'!$N240,\"\")","v":{"$error":"#REF!"}}]
[{"$f":"A140","v":""},{"$error":"#REF!"},{"$f":"IF(AND($A240=\"AZIONE_1\",$B240=1),'3 - SPECIE DA IMPIANTARE'!$N41,\"\")","v":{"$error":"#REF!"}},null,{"$error":"#REF!"},{"$f":"IF(AND($A240=\"AZIONE_1\",$E240=2),'3 - SPECIE DA IMPIANTARE'!$N241,\"\")","v":{"$error":"#REF!"}}]
[{"$f":"A141","v":""},{"$error":"#REF!"},{"$f":"IF(AND($A241=\"AZIONE_1\",$B241=1),'3 - SPECIE DA IMPIANTARE'!$N42,\"\")","v":{"$error":"#REF!"}},null,{"$error":"#REF!"},{"$f":"IF(AND($A241=\"AZIONE_1\",$E241=2),'3 - SPECIE DA IMPIANTARE'!$N242,\"\")","v":{"$error":"#REF!"}}]
[{"$f":"A142","v":""},{"$error":"#REF!"},{"$f":"IF(AND($A242=\"AZIONE_1\",$B242=1),'3 - SPECIE DA IMPIANTARE'!$N43,\"\")","v":{"$error":"#REF!"}},null,{"$error":"#REF!"},{"$f":"IF(AND($A242=\"AZIONE_1\",$E242=2),'3 - SPECIE DA IMPIANTARE'!$N243,\"\")","v":{"$error":"#REF!"}}]
[{"$f":"A143","v":""},{"$error":"#REF!"},{"$f":"IF(AND($A243=\"AZIONE_1\",$B243=1),'3 - SPECIE DA IMPIANTARE'!$N44,\"\")","v":{"$error":"#REF!"}},null,{"$error":"#REF!"},{"$f":"IF(AND($A243=\"AZIONE_1\",$E243=2),'3 - SPECIE DA IMPIANTARE'!$N244,\"\")","v":{"$error":"#REF!"}}]
[{"$f":"A144","v":""},{"$error":"#REF!"},{"$f":"IF(AND($A244=\"AZIONE_1\",$B244=1),'3 - SPECIE DA IMPIANTARE'!$N45,\"\")","v":{"$error":"#REF!"}},null,{"$error":"#REF!"},{"$f":"IF(AND($A244=\"AZIONE_1\",$E244=2),'3 - SPECIE DA IMPIANTARE'!$N245,\"\")","v":{"$error":"#REF!"}}]
[{"$f":"A145","v":""},{"$error":"#REF!"},{"$f":"IF(AND($A245=\"AZIONE_1\",$B245=1),'3 - SPECIE DA IMPIANTARE'!$N46,\"\")","v":{"$error":"#REF!"}},null,{"$error":"#REF!"},{"$f":"IF(AND($A245=\"AZIONE_1\",$E245=2),'3 - SPECIE DA IMPIANTARE'!$N246,\"\")","v":{"$error":"#REF!"}}]
[{"$f":"A146","v":""},{"$error":"#REF!"},{"$f":"IF(AND($A246=\"AZIONE_1\",$B246=1),'3 - SPECIE DA IMPIANTARE'!$N47,\"\")","v":{"$error":"#REF!"}},null,{"$error":"#REF!"},{"$f":"IF(AND($A246=\"AZIONE_1\",$E246=2),'3 - SPECIE DA IMPIANTARE'!$N247,\"\")","v":{"$error":"#REF!"}}]
[{"$f":"A147","v":""},{"$error":"#REF!"},{"$f":"IF(AND($A247=\"AZIONE_1\",$B247=1),'3 - SPECIE DA IMPIANTARE'!$N48,\"\")","v":{"$error":"#REF!"}},null,{"$error":"#REF!"},{"$f":"IF(AND($A247=\"AZIONE_1\",$E247=2),'3 - SPECIE DA IMPIANTARE'!$N248,\"\")","v":{"$error":"#REF!"}}]
[{"$f":"A148","v":""},{"$error":"#REF!"},{"$f":"IF(AND($A248=\"AZIONE_1\",$B248=1),'3 - SPECIE DA IMPIANTARE'!$N49,\"\")","v":{"$error":"#REF!"}},null,{"$error":"#REF!"},{"$f":"IF(AND($A248=\"AZIONE_1\",$E248=2),'3 - SPECIE DA IMPIANTARE'!$N249,\"\")","v":{"$error":"#REF!"}}]
[{"$f":"A149","v":""},{"$error":"#REF!"},{"$f":"IF(AND($A249=\"AZIONE_1\",$B249=1),'3 - SPECIE DA IMPIANTARE'!$N50,\"\")","v":{"$error":"#REF!"}},null,{"$error":"#REF!"},{"$f":"IF(AND($A249=\"AZIONE_1\",$E249=2),'3 - SPECIE DA IMPIANTARE'!$N250,\"\")","v":{"$error":"#REF!"}}]
[{"$f":"A150","v":""},{"$error":"#REF!"},{"$f":"IF(AND($A250=\"AZIONE_1\",$B250=1),'3 - SPECIE DA IMPIANTARE'!$N51,\"\")","v":{"$error":"#REF!"}},null,{"$error":"#REF!"},{"$f":"IF(AND($A250=\"AZIONE_1\",$E250=2),'3 - SPECIE DA IMPIANTARE'!$N251,\"\")","v":{"$error":"#REF!"}}]
[{"$f":"A151","v":""},{"$error":"#REF!"},{"$f":"IF(AND($A251=\"AZIONE_1\",$B251=1),'3 - SPECIE DA IMPIANTARE'!$N52,\"\")","v":{"$error":"#REF!"}},null,{"$error":"#REF!"},{"$f":"IF(AND($A251=\"AZIONE_1\",$E251=2),'3 - SPECIE DA IMPIANTARE'!$N252,\"\")","v":{"$error":"#REF!"}}]
[{"$f":"A152","v":""},{"$error":"#REF!"},{"$f":"IF(AND($A252=\"AZIONE_1\",$B252=1),'3 - SPECIE DA IMPIANTARE'!$N53,\"\")","v":{"$error":"#REF!"}},null,{"$error":"#REF!"},{"$f":"IF(AND($A252=\"AZIONE_1\",$E252=2),'3 - SPECIE DA IMPIANTARE'!$N253,\"\")","v":{"$error":"#REF!"}}]
[{"$f":"A153","v":""},{"$error":"#REF!"},{"$f":"IF(AND($A253=\"AZIONE_1\",$B253=1),'3 - SPECIE DA IMPIANTARE'!$N54,\"\")","v":{"$error":"#REF!"}},null,{"$error":"#REF!"},{"$f":"IF(AND($A253=\"AZIONE_1\",$E253=2),'3 - SPECIE DA IMPIANTARE'!$N254,\"\")","v":{"$error":"#REF!"}}]
[{"$f":"A154","v":""},{"$error":"#REF!"},{"$f":"IF(AND($A254=\"AZIONE_1\",$B254=1),'3 - SPECIE DA IMPIANTARE'!$N55,\"\")","v":{"$error":"#REF!"}},null,{"$error":"#REF!"},{"$f":"IF(AND($A254=\"AZIONE_1\",$E254=2),'3 - SPECIE DA IMPIANTARE'!$N255,\"\")","v":{"$error":"#REF!"}}]
[{"$f":"A155","v":""},{"$error":"#REF!"},{"$f":"IF(AND($A255=\"AZIONE_1\",$B255=1),'3 - SPECIE DA IMPIANTARE'!$N56,\"\")","v":{"$error":"#REF!"}},null,{"$error":"#REF!"},{"$f":"IF(AND($A255=\"AZIONE_1\",$E255=2),'3 - SPECIE DA IMPIANTARE'!$N256,\"\")","v":{"$error":"#REF!"}}]
[{"$f":"A156","v":""},{"$error":"#REF!"},{"$f":"IF(AND($A256=\"AZIONE_1\",$B256=1),'3 - SPECIE DA IMPIANTARE'!$N57,\"\")","v":{"$error":"#REF!"}},null,{"$error":"#REF!"},{"$f":"IF(AND($A256=\"AZIONE_1\",$E256=2),'3 - SPECIE DA IMPIANTARE'!$N257,\"\")","v":{"$error":"#REF!"}}]
[{"$f":"A157","v":""},{"$error":"#REF!"},{"$f":"IF(AND($A257=\"AZIONE_1\",$B257=1),'3 - SPECIE DA IMPIANTARE'!$N58,\"\")","v":{"$error":"#REF!"}},null,{"$error":"#REF!"},{"$f":"IF(AND($A257=\"AZIONE_1\",$E257=2),'3 - SPECIE DA IMPIANTARE'!$N258,\"\")","v":{"$error":"#REF!"}}]
[{"$f":"A158","v":""},{"$error":"#REF!"},{"$f":"IF(AND($A258=\"AZIONE_1\",$B258=1),'3 - SPECIE DA IMPIANTARE'!$N59,\"\")","v":{"$error":"#REF!"}},null,{"$error":"#REF!"},{"$f":"IF(AND($A258=\"AZIONE_1\",$E258=2),'3 - SPECIE DA IMPIANTARE'!$N259,\"\")","v":{"$error":"#REF!"}}]
[{"$f":"A159","v":""},{"$error":"#REF!"},{"$f":"IF(AND($A259=\"AZIONE_1\",$B259=1),'3 - SPECIE DA IMPIANTARE'!$N60,\"\")","v":{"$error":"#REF!"}},null,{"$error":"#REF!"},{"$f":"IF(AND($A259=\"AZIONE_1\",$E259=2),'3 - SPECIE DA IMPIANTARE'!$N260,\"\")","v":{"$error":"#REF!"}}]
[{"$f":"A160","v":""},{"$error":"#REF!"},{"$f":"IF(AND($A260=\"AZIONE_1\",$B260=1),'3 - SPECIE DA IMPIANTARE'!$N61,\"\")","v":{"$error":"#REF!"}},null,{"$error":"#REF!"},{"$f":"IF(AND($A260=\"AZIONE_1\",$E260=2),'3 - SPECIE DA IMPIANTARE'!$N261,\"\")","v":{"$error":"#REF!"}}]
[{"$f":"A161","v":""},{"$error":"#REF!"},{"$f":"IF(AND($A261=\"AZIONE_1\",$B261=1),'3 - SPECIE DA IMPIANTARE'!$N62,\"\")","v":{"$error":"#REF!"}},null,{"$error":"#REF!"},{"$f":"IF(AND($A261=\"AZIONE_1\",$E261=2),'3 - SPECIE DA IMPIANTARE'!$N262,\"\")","v":{"$error":"#REF!"}}]
[{"$f":"A162","v":""},{"$error":"#REF!"},{"$f":"IF(AND($A262=\"AZIONE_1\",$B262=1),'3 - SPECIE DA IMPIANTARE'!$N63,\"\")","v":{"$error":"#REF!"}},null,{"$error":"#REF!"},{"$f":"IF(AND($A262=\"AZIONE_1\",$E262=2),'3 - SPECIE DA IMPIANTARE'!$N263,\"\")","v":{"$error":"#REF!"}}]
[{"$f":"A163","v":""},{"$error":"#REF!"},{"$f":"IF(AND($A263=\"AZIONE_1\",$B263=1),'3 - SPECIE DA IMPIANTARE'!$N64,\"\")","v":{"$error":"#REF!"}},null,{"$error":"#REF!"},{"$f":"IF(AND($A263=\"AZIONE_1\",$E263=2),'3 - SPECIE DA IMPIANTARE'!$N264,\"\")","v":{"$error":"#REF!"}}]
[{"$f":"A164","v":""},{"$error":"#REF!"},{"$f":"IF(AND($A264=\"AZIONE_1\",$B264=1),'3 - SPECIE DA IMPIANTARE'!$N65,\"\")","v":{"$error":"#REF!"}},null,{"$error":"#REF!"},{"$f":"IF(AND($A264=\"AZIONE_1\",$E264=2),'3 - SPECIE DA IMPIANTARE'!$N265,\"\")","v":{"$error":"#REF!"}}]
[{"$f":"A165","v":""},{"$error":"#REF!"},{"$f":"IF(AND($A265=\"AZIONE_1\",$B265=1),'3 - SPECIE DA IMPIANTARE'!$N66,\"\")","v":{"$error":"#REF!"}},null,{"$error":"#REF!"},{"$f":"IF(AND($A265=\"AZIONE_1\",$E265=2),'3 - SPECIE DA IMPIANTARE'!$N266,\"\")","v":{"$error":"#REF!"}}]
[{"$f":"A166","v":""},{"$error":"#REF!"},{"$f":"IF(AND($A266=\"AZIONE_1\",$B266=1),'3 - SPECIE DA IMPIANTARE'!$N67,\"\")","v":{"$error":"#REF!"}},null,{"$error":"#REF!"},{"$f":"IF(AND($A266=\"AZIONE_1\",$E266=2),'3 - SPECIE DA IMPIANTARE'!$N267,\"\")","v":{"$error":"#REF!"}}]
[{"$f":"A167","v":""},{"$error":"#REF!"},{"$f":"IF(AND($A267=\"AZIONE_1\",$B267=1),'3 - SPECIE DA IMPIANTARE'!$N68,\"\")","v":{"$error":"#REF!"}},null,{"$error":"#REF!"},{"$f":"IF(AND($A267=\"AZIONE_1\",$E267=2),'3 - SPECIE DA IMPIANTARE'!$N268,\"\")","v":{"$error":"#REF!"}}]
[{"$f":"A168","v":""},{"$error":"#REF!"},{"$f":"IF(AND($A268=\"AZIONE_1\",$B268=1),'3 - SPECIE DA IMPIANTARE'!$N69,\"\")","v":{"$error":"#REF!"}},null,{"$error":"#REF!"},{"$f":"IF(AND($A268=\"AZIONE_1\",$E268=2),'3 - SPECIE DA IMPIANTARE'!$N269,\"\")","v":{"$error":"#REF!"}}]
[{"$f":"A169","v":""},{"$error":"#REF!"},{"$f":"IF(AND($A269=\"AZIONE_1\",$B269=1),'3 - SPECIE DA IMPIANTARE'!$N70,\"\")","v":{"$error":"#REF!"}},null,{"$error":"#REF!"},{"$f":"IF(AND($A269=\"AZIONE_1\",$E269=2),'3 - SPECIE DA IMPIANTARE'!$N270,\"\")","v":{"$error":"#REF!"}}]
[{"$f":"A170","v":""},{"$error":"#REF!"},{"$f":"IF(AND($A270=\"AZIONE_1\",$B270=1),'3 - SPECIE DA IMPIANTARE'!$N71,\"\")","v":{"$error":"#REF!"}},null,{"$error":"#REF!"},{"$f":"IF(AND($A270=\"AZIONE_1\",$E270=2),'3 - SPECIE DA IMPIANTARE'!$N271,\"\")","v":{"$error":"#REF!"}}]
[{"$f":"A171","v":""},{"$error":"#REF!"},{"$f":"IF(AND($A271=\"AZIONE_1\",$B271=1),'3 - SPECIE DA IMPIANTARE'!$N72,\"\")","v":{"$error":"#REF!"}},null,{"$error":"#REF!"},{"$f":"IF(AND($A271=\"AZIONE_1\",$E271=2),'3 - SPECIE DA IMPIANTARE'!$N272,\"\")","v":{"$error":"#REF!"}}]
[{"$f":"A172","v":""},{"$error":"#REF!"},{"$f":"IF(AND($A272=\"AZIONE_1\",$B272=1),'3 - SPECIE DA IMPIANTARE'!$N73,\"\")","v":{"$error":"#REF!"}},null,{"$error":"#REF!"},{"$f":"IF(AND($A272=\"AZIONE_1\",$E272=2),'3 - SPECIE DA IMPIANTARE'!$N273,\"\")","v":{"$error":"#REF!"}}]
[{"$f":"A173","v":""},{"$error":"#REF!"},{"$f":"IF(AND($A273=\"AZIONE_1\",$B273=1),'3 - SPECIE DA IMPIANTARE'!$N74,\"\")","v":{"$error":"#REF!"}},null,{"$error":"#REF!"},{"$f":"IF(AND($A273=\"AZIONE_1\",$E273=2),'3 - SPECIE DA IMPIANTARE'!$N274,\"\")","v":{"$error":"#REF!"}}]
[{"$f":"A174","v":""},{"$error":"#REF!"},{"$f":"IF(AND($A274=\"AZIONE_1\",$B274=1),'3 - SPECIE DA IMPIANTARE'!$N75,\"\")","v":{"$error":"#REF!"}},null,{"$error":"#REF!"},{"$f":"IF(AND($A274=\"AZIONE_1\",$E274=2),'3 - SPECIE DA IMPIANTARE'!$N275,\"\")","v":{"$error":"#REF!"}}]
[{"$f":"A175","v":""},{"$error":"#REF!"},{"$f":"IF(AND($A275=\"AZIONE_1\",$B275=1),'3 - SPECIE DA IMPIANTARE'!$N76,\"\")","v":{"$error":"#REF!"}},null,{"$error":"#REF!"},{"$f":"IF(AND($A275=\"AZIONE_1\",$E275=2),'3 - SPECIE DA IMPIANTARE'!$N276,\"\")","v":{"$error":"#REF!"}}]
[{"$f":"A176","v":""},{"$error":"#REF!"},{"$f":"IF(AND($A276=\"AZIONE_1\",$B276=1),'3 - SPECIE DA IMPIANTARE'!$N77,\"\")","v":{"$error":"#REF!"}},null,{"$error":"#REF!"},{"$f":"IF(AND($A276=\"AZIONE_1\",$E276=2),'3 - SPECIE DA IMPIANTARE'!$N277,\"\")","v":{"$error":"#REF!"}}]
[{"$f":"A177","v":""},{"$error":"#REF!"},{"$f":"IF(AND($A277=\"AZIONE_1\",$B277=1),'3 - SPECIE DA IMPIANTARE'!$N78,\"\")","v":{"$error":"#REF!"}},null,{"$error":"#REF!"},{"$f":"IF(AND($A277=\"AZIONE_1\",$E277=2),'3 - SPECIE DA IMPIANTARE'!$N278,\"\")","v":{"$error":"#REF!"}}]
[{"$f":"A178","v":""},{"$error":"#REF!"},{"$f":"IF(AND($A278=\"AZIONE_1\",$B278=1),'3 - SPECIE DA IMPIANTARE'!$N79,\"\")","v":{"$error":"#REF!"}},null,{"$error":"#REF!"},{"$f":"IF(AND($A278=\"AZIONE_1\",$E278=2),'3 - SPECIE DA IMPIANTARE'!$N279,\"\")","v":{"$error":"#REF!"}}]
[{"$f":"A179","v":""},{"$error":"#REF!"},{"$f":"IF(AND($A279=\"AZIONE_1\",$B279=1),'3 - SPECIE DA IMPIANTARE'!$N80,\"\")","v":{"$error":"#REF!"}},null,{"$error":"#REF!"},{"$f":"IF(AND($A279=\"AZIONE_1\",$E279=2),'3 - SPECIE DA IMPIANTARE'!$N280,\"\")","v":{"$error":"#REF!"}}]
[{"$f":"A180","v":""},{"$error":"#REF!"},{"$f":"IF(AND($A280=\"AZIONE_1\",$B280=1),'3 - SPECIE DA IMPIANTARE'!$N81,\"\")","v":{"$error":"#REF!"}},null,{"$error":"#REF!"},{"$f":"IF(AND($A280=\"AZIONE_1\",$E280=2),'3 - SPECIE DA IMPIANTARE'!$N281,\"\")","v":{"$error":"#REF!"}}]
[{"$f":"A181","v":""},{"$error":"#REF!"},{"$f":"IF(AND($A281=\"AZIONE_1\",$B281=1),'3 - SPECIE DA IMPIANTARE'!$N82,\"\")","v":{"$error":"#REF!"}},null,{"$error":"#REF!"},{"$f":"IF(AND($A281=\"AZIONE_1\",$E281=2),'3 - SPECIE DA IMPIANTARE'!$N282,\"\")","v":{"$error":"#REF!"}}]
[{"$f":"A182","v":""},{"$error":"#REF!"},{"$f":"IF(AND($A282=\"AZIONE_1\",$B282=1),'3 - SPECIE DA IMPIANTARE'!$N83,\"\")","v":{"$error":"#REF!"}},null,{"$error":"#REF!"},{"$f":"IF(AND($A282=\"AZIONE_1\",$E282=2),'3 - SPECIE DA IMPIANTARE'!$N283,\"\")","v":{"$error":"#REF!"}}]
[{"$f":"A183","v":""},{"$error":"#REF!"},{"$f":"IF(AND($A283=\"AZIONE_1\",$B283=1),'3 - SPECIE DA IMPIANTARE'!$N84,\"\")","v":{"$error":"#REF!"}},null,{"$error":"#REF!"},{"$f":"IF(AND($A283=\"AZIONE_1\",$E283=2),'3 - SPECIE DA IMPIANTARE'!$N284,\"\")","v":{"$error":"#REF!"}}]
[{"$f":"A184","v":""},{"$error":"#REF!"},{"$f":"IF(AND($A284=\"AZIONE_1\",$B284=1),'3 - SPECIE DA IMPIANTARE'!$N85,\"\")","v":{"$error":"#REF!"}},null,{"$error":"#REF!"},{"$f":"IF(AND($A284=\"AZIONE_1\",$E284=2),'3 - SPECIE DA IMPIANTARE'!$N285,\"\")","v":{"$error":"#REF!"}}]
[{"$f":"A185","v":""},{"$error":"#REF!"},{"$f":"IF(AND($A285=\"AZIONE_1\",$B285=1),'3 - SPECIE DA IMPIANTARE'!$N86,\"\")","v":{"$error":"#REF!"}},null,{"$error":"#REF!"},{"$f":"IF(AND($A285=\"AZIONE_1\",$E285=2),'3 - SPECIE DA IMPIANTARE'!$N286,\"\")","v":{"$error":"#REF!"}}]
[{"$f":"A186","v":""},{"$error":"#REF!"},{"$f":"IF(AND($A286=\"AZIONE_1\",$B286=1),'3 - SPECIE DA IMPIANTARE'!$N87,\"\")","v":{"$error":"#REF!"}},null,{"$error":"#REF!"},{"$f":"IF(AND($A286=\"AZIONE_1\",$E286=2),'3 - SPECIE DA IMPIANTARE'!$N287,\"\")","v":{"$error":"#REF!"}}]
[{"$f":"A187","v":""},{"$error":"#REF!"},{"$f":"IF(AND($A287=\"AZIONE_1\",$B287=1),'3 - SPECIE DA IMPIANTARE'!$N88,\"\")","v":{"$error":"#REF!"}},null,{"$error":"#REF!"},{"$f":"IF(AND($A287=\"AZIONE_1\",$E287=2),'3 - SPECIE DA IMPIANTARE'!$N288,\"\")","v":{"$error":"#REF!"}}]
[{"$f":"A188","v":""},{"$error":"#REF!"},{"$f":"IF(AND($A288=\"AZIONE_1\",$B288=1),'3 - SPECIE DA IMPIANTARE'!$N89,\"\")","v":{"$error":"#REF!"}},null,{"$error":"#REF!"},{"$f":"IF(AND($A288=\"AZIONE_1\",$E288=2),'3 - SPECIE DA IMPIANTARE'!$N289,\"\")","v":{"$error":"#REF!"}}]
[{"$f":"A189","v":""},{"$error":"#REF!"},{"$f":"IF(AND($A289=\"AZIONE_1\",$B289=1),'3 - SPECIE DA IMPIANTARE'!$N90,\"\")","v":{"$error":"#REF!"}},null,{"$error":"#REF!"},{"$f":"IF(AND($A289=\"AZIONE_1\",$E289=2),'3 - SPECIE DA IMPIANTARE'!$N290,\"\")","v":{"$error":"#REF!"}}]
[{"$f":"A190","v":""},{"$error":"#REF!"},{"$f":"IF(AND($A290=\"AZIONE_1\",$B290=1),'3 - SPECIE DA IMPIANTARE'!$N91,\"\")","v":{"$error":"#REF!"}},null,{"$error":"#REF!"},{"$f":"IF(AND($A290=\"AZIONE_1\",$E290=2),'3 - SPECIE DA IMPIANTARE'!$N291,\"\")","v":{"$error":"#REF!"}}]
[{"$f":"A191","v":""},{"$error":"#REF!"},{"$f":"IF(AND($A291=\"AZIONE_1\",$B291=1),'3 - SPECIE DA IMPIANTARE'!$N92,\"\")","v":{"$error":"#REF!"}},null,{"$error":"#REF!"},{"$f":"IF(AND($A291=\"AZIONE_1\",$E291=2),'3 - SPECIE DA IMPIANTARE'!$N292,\"\")","v":{"$error":"#REF!"}}]
[{"$f":"A192","v":""},{"$error":"#REF!"},{"$f":"IF(AND($A292=\"AZIONE_1\",$B292=1),'3 - SPECIE DA IMPIANTARE'!$N93,\"\")","v":{"$error":"#REF!"}},null,{"$error":"#REF!"},{"$f":"IF(AND($A292=\"AZIONE_1\",$E292=2),'3 - SPECIE DA IMPIANTARE'!$N293,\"\")","v":{"$error":"#REF!"}}]
[{"$f":"A193","v":""},{"$error":"#REF!"},{"$f":"IF(AND($A293=\"AZIONE_1\",$B293=1),'3 - SPECIE DA IMPIANTARE'!$N94,\"\")","v":{"$error":"#REF!"}},null,{"$error":"#REF!"},{"$f":"IF(AND($A293=\"AZIONE_1\",$E293=2),'3 - SPECIE DA IMPIANTARE'!$N294,\"\")","v":{"$error":"#REF!"}}]
[{"$f":"A194","v":""},{"$error":"#REF!"},{"$f":"IF(AND($A294=\"AZIONE_1\",$B294=1),'3 - SPECIE DA IMPIANTARE'!$N95,\"\")","v":{"$error":"#REF!"}},null,{"$error":"#REF!"},{"$f":"IF(AND($A294=\"AZIONE_1\",$E294=2),'3 - SPECIE DA IMPIANTARE'!$N295,\"\")","v":{"$error":"#REF!"}}]
[{"$f":"A195","v":""},{"$error":"#REF!"},{"$f":"IF(AND($A295=\"AZIONE_1\",$B295=1),'3 - SPECIE DA IMPIANTARE'!$N96,\"\")","v":{"$error":"#REF!"}},null,{"$error":"#REF!"},{"$f":"IF(AND($A295=\"AZIONE_1\",$E295=2),'3 - SPECIE DA IMPIANTARE'!$N296,\"\")","v":{"$error":"#REF!"}}]
[{"$f":"A196","v":""},{"$error":"#REF!"},{"$f":"IF(AND($A296=\"AZIONE_1\",$B296=1),'3 - SPECIE DA IMPIANTARE'!$N97,\"\")","v":{"$error":"#REF!"}},null,{"$f":"E196","v":{"$error":"#REF!"}},{"$f":"IF(AND($A296=\"AZIONE_1\",$E296=2),'3 - SPECIE DA IMPIANTARE'!$N297,\"\")","v":{"$error":"#REF!"}}]
[{"$f":"A197","v":""},{"$error":"#REF!"},{"$f":"IF(AND($A297=\"AZIONE_1\",$B297=1),'3 - SPECIE DA IMPIANTARE'!$N98,\"\")","v":{"$error":"#REF!"}},null,{"$error":"#REF!"},{"$f":"IF(AND($A297=\"AZIONE_1\",$E297=2),'3 - SPECIE DA IMPIANTARE'!$N298,\"\")","v":{"$error":"#REF!"}}]
[{"$f":"A198","v":""},{"$error":"#REF!"},{"$f":"IF(AND($A298=\"AZIONE_1\",$B298=1),'3 - SPECIE DA IMPIANTARE'!$N99,\"\")","v":{"$error":"#REF!"}},null,{"$error":"#REF!"},{"$f":"IF(AND($A298=\"AZIONE_1\",$E298=2),'3 - SPECIE DA IMPIANTARE'!$N299,\"\")","v":{"$error":"#REF!"}}]
[{"$f":"A199","v":""},{"$error":"#REF!"},{"$f":"IF(AND($A299=\"AZIONE_1\",$B299=1),'3 - SPECIE DA IMPIANTARE'!$N100,\"\")","v":{"$error":"#REF!"}},null,{"$error":"#REF!"},{"$f":"IF(AND($A299=\"AZIONE_1\",$E299=2),'3 - SPECIE DA IMPIANTARE'!$N300,\"\")","v":{"$error":"#REF!"}}]
[{"$f":"A200","v":""},{"$error":"#REF!"},{"$f":"IF(AND($A300=\"AZIONE_1\",$B300=1),'3 - SPECIE DA IMPIANTARE'!$N101,\"\")","v":{"$error":"#REF!"}},null,{"$error":"#REF!"},{"$f":"IF(AND($A300=\"AZIONE_1\",$E300=2),'3 - SPECIE DA IMPIANTARE'!$N301,\"\")","v":{"$error":"#REF!"}}]
[{"$f":"A201","v":""},{"$error":"#REF!"},{"$f":"IF(AND($A301=\"AZIONE_1\",$B301=1),'3 - SPECIE DA IMPIANTARE'!$N102,\"\")","v":{"$error":"#REF!"}},null,{"$error":"#REF!"},{"$f":"IF(AND($A301=\"AZIONE_1\",$E301=2),'3 - SPECIE DA IMPIANTARE'!$N302,\"\")","v":{"$error":"#REF!"}}]
[{"$f":"A202","v":""},{"$error":"#REF!"},{"$f":"IF(AND($A302=\"AZIONE_1\",$B302=1),'3 - SPECIE DA IMPIANTARE'!$Q103,\"\")","v":{"$error":"#REF!"}},null,{"$error":"#REF!"},{"$f":"IF(AND($A302=\"AZIONE_1\",$E302=2),'3 - SPECIE DA IMPIANTARE'!$Q303,\"\")","v":{"$error":"#REF!"}}]
[{"$f":"A203","v":""},{"$error":"#REF!"},{"$f":"IF(AND($A303=\"AZIONE_1\",$B303=1),'3 - SPECIE DA IMPIANTARE'!$Q104,\"\")","v":{"$error":"#REF!"}},null,{"$error":"#REF!"},{"$f":"IF(AND($A303=\"AZIONE_1\",$E303=2),'3 - SPECIE DA IMPIANTARE'!$Q304,\"\")","v":{"$error":"#REF!"}}]
[{"$f":"A204","v":""},{"$error":"#REF!"},{"$f":"IF(AND($A304=\"AZIONE_1\",$B304=1),'3 - SPECIE DA IMPIANTARE'!$Q105,\"\")","v":{"$error":"#REF!"}},null,{"$error":"#REF!"},{"$f":"IF(AND($A304=\"AZIONE_1\",$E304=2),'3 - SPECIE DA IMPIANTARE'!$Q305,\"\")","v":{"$error":"#REF!"}}]
[{"$f":"A205","v":""},{"$error":"#REF!"},{"$f":"IF(AND($A305=\"AZIONE_1\",$B305=1),'3 - SPECIE DA IMPIANTARE'!$Q106,\"\")","v":{"$error":"#REF!"}},null,{"$error":"#REF!"},{"$f":"IF(AND($A305=\"AZIONE_1\",$E305=2),'3 - SPECIE DA IMPIANTARE'!$Q306,\"\")","v":{"$error":"#REF!"}}]
[{"$f":"A206","v":""},{"$error":"#REF!"},{"$f":"IF(AND($A306=\"AZIONE_1\",$B306=1),'3 - SPECIE DA IMPIANTARE'!$Q107,\"\")","v":{"$error":"#REF!"}},null,{"$error":"#REF!"},{"$f":"IF(AND($A306=\"AZIONE_1\",$E306=2),'3 - SPECIE DA IMPIANTARE'!$Q307,\"\")","v":{"$error":"#REF!"}}]
[{"$f":"A207","v":""},{"$error":"#REF!"},{"$f":"IF(AND($A307=\"AZIONE_1\",$B307=1),'3 - SPECIE DA IMPIANTARE'!$Q108,\"\")","v":{"$error":"#REF!"}},null,{"$error":"#REF!"},{"$f":"IF(AND($A307=\"AZIONE_1\",$E307=2),'3 - SPECIE DA IMPIANTARE'!$Q308,\"\")","v":{"$error":"#REF!"}}]
[{"$f":"A208","v":""},{"$error":"#REF!"},{"$f":"IF(AND($A308=\"AZIONE_1\",$B308=1),'3 - SPECIE DA IMPIANTARE'!$Q109,\"\")","v":{"$error":"#REF!"}},null,{"$error":"#REF!"},{"$f":"IF(AND($A308=\"AZIONE_1\",$E308=2),'3 - SPECIE DA IMPIANTARE'!$Q309,\"\")","v":{"$error":"#REF!"}}]
[{"$f":"A209","v":""},{"$error":"#REF!"},{"$f":"IF(AND($A309=\"AZIONE_1\",$B309=1),'3 - SPECIE DA IMPIANTARE'!$Q110,\"\")","v":{"$error":"#REF!"}},null,{"$error":"#REF!"},{"$f":"IF(AND($A309=\"AZIONE_1\",$E309=2),'3 - SPECIE DA IMPIANTARE'!$Q310,\"\")","v":{"$error":"#REF!"}}]
[{"$f":"A210","v":""},{"$error":"#REF!"},{"$f":"IF(AND($A310=\"AZIONE_1\",$B310=1),'3 - SPECIE DA IMPIANTARE'!$Q111,\"\")","v":{"$error":"#REF!"}},null,{"$error":"#REF!"},{"$f":"IF(AND($A310=\"AZIONE_1\",$E310=2),'3 - SPECIE DA IMPIANTARE'!$Q311,\"\")","v":{"$error":"#REF!"}}]
[{"$f":"A211","v":""},{"$error":"#REF!"},{"$f":"IF(AND($A311=\"AZIONE_1\",$B311=1),'3 - SPECIE DA IMPIANTARE'!$Q112,\"\")","v":{"$error":"#REF!"}},null,{"$error":"#REF!"},{"$f":"IF(AND($A311=\"AZIONE_1\",$E311=2),'3 - SPECIE DA IMPIANTARE'!$Q312,\"\")","v":{"$error":"#REF!"}}]
[{"$f":"A212","v":""},{"$error":"#REF!"},{"$f":"IF(AND($A312=\"AZIONE_1\",$B312=1),'3 - SPECIE DA IMPIANTARE'!$Q113,\"\")","v":{"$error":"#REF!"}},null,{"$error":"#REF!"},{"$f":"IF(AND($A312=\"AZIONE_1\",$E312=2),'3 - SPECIE DA IMPIANTARE'!$Q313,\"\")","v":{"$error":"#REF!"}}]
[{"$f":"A213","v":""},{"$error":"#REF!"},{"$f":"IF(AND($A313=\"AZIONE_1\",$B313=1),'3 - SPECIE DA IMPIANTARE'!$Q114,\"\")","v":{"$error":"#REF!"}},null,{"$error":"#REF!"},{"$f":"IF(AND($A313=\"AZIONE_1\",$E313=2),'3 - SPECIE DA IMPIANTARE'!$Q314,\"\")","v":{"$error":"#REF!"}}]
[{"$f":"A214","v":""},{"$error":"#REF!"},{"$f":"IF(AND($A314=\"AZIONE_1\",$B314=1),'3 - SPECIE DA IMPIANTARE'!$Q115,\"\")","v":{"$error":"#REF!"}},null,{"$error":"#REF!"},{"$f":"IF(AND($A314=\"AZIONE_1\",$E314=2),'3 - SPECIE DA IMPIANTARE'!$Q315,\"\")","v":{"$error":"#REF!"}}]
[{"$f":"A215","v":""},{"$error":"#REF!"},{"$f":"IF(AND($A315=\"AZIONE_1\",$B315=1),'3 - SPECIE DA IMPIANTARE'!$Q116,\"\")","v":{"$error":"#REF!"}},null,{"$error":"#REF!"},{"$f":"IF(AND($A315=\"AZIONE_1\",$E315=2),'3 - SPECIE DA IMPIANTARE'!$Q316,\"\")","v":{"$error":"#REF!"}}]
[{"$f":"A216","v":""},{"$error":"#REF!"},{"$f":"IF(AND($A316=\"AZIONE_1\",$B316=1),'3 - SPECIE DA IMPIANTARE'!$Q117,\"\")","v":{"$error":"#REF!"}},null,{"$error":"#REF!"},{"$f":"IF(AND($A316=\"AZIONE_1\",$E316=2),'3 - SPECIE DA IMPIANTARE'!$Q317,\"\")","v":{"$error":"#REF!"}}]
[{"$f":"A217","v":""},{"$error":"#REF!"},{"$f":"IF(AND($A317=\"AZIONE_1\",$B317=1),'3 - SPECIE DA IMPIANTARE'!$Q118,\"\")","v":{"$error":"#REF!"}},null,{"$error":"#REF!"},{"$f":"IF(AND($A317=\"AZIONE_1\",$E317=2),'3 - SPECIE DA IMPIANTARE'!$Q318,\"\")","v":{"$error":"#REF!"}}]
[{"$f":"A218","v":""},{"$error":"#REF!"},{"$f":"IF(AND($A318=\"AZIONE_1\",$B318=1),'3 - SPECIE DA IMPIANTARE'!$Q119,\"\")","v":{"$error":"#REF!"}},null,{"$error":"#REF!"},{"$f":"IF(AND($A318=\"AZIONE_1\",$E318=2),'3 - SPECIE DA IMPIANTARE'!$Q319,\"\")","v":{"$error":"#REF!"}}]
[{"$f":"A219","v":""},{"$error":"#REF!"},{"$f":"IF(AND($A319=\"AZIONE_1\",$B319=1),'3 - SPECIE DA IMPIANTARE'!$Q120,\"\")","v":{"$error":"#REF!"}},null,{"$error":"#REF!"},{"$f":"IF(AND($A319=\"AZIONE_1\",$E319=2),'3 - SPECIE DA IMPIANTARE'!$Q320,\"\")","v":{"$error":"#REF!"}}]
[{"$f":"A220","v":""},{"$error":"#REF!"},{"$f":"IF(AND($A320=\"AZIONE_1\",$B320=1),'3 - SPECIE DA IMPIANTARE'!$Q121,\"\")","v":{"$error":"#REF!"}},null,{"$error":"#REF!"},{"$f":"IF(AND($A320=\"AZIONE_1\",$E320=2),'3 - SPECIE DA IMPIANTARE'!$Q321,\"\")","v":{"$error":"#REF!"}}]
[{"$f":"A221","v":""},{"$error":"#REF!"},{"$f":"IF(AND($A321=\"AZIONE_1\",$B321=1),'3 - SPECIE DA IMPIANTARE'!$Q122,\"\")","v":{"$error":"#REF!"}},null,{"$error":"#REF!"},{"$f":"IF(AND($A321=\"AZIONE_1\",$E321=2),'3 - SPECIE DA IMPIANTARE'!$Q322,\"\")","v":{"$error":"#REF!"}}]
[{"$f":"A222","v":""},{"$error":"#REF!"},{"$f":"IF(AND($A322=\"AZIONE_1\",$B322=1),'3 - SPECIE DA IMPIANTARE'!$Q123,\"\")","v":{"$error":"#REF!"}},null,{"$error":"#REF!"},{"$f":"IF(AND($A322=\"AZIONE_1\",$E322=2),'3 - SPECIE DA IMPIANTARE'!$Q323,\"\")","v":{"$error":"#REF!"}}]
[{"$f":"A223","v":""},{"$error":"#REF!"},{"$f":"IF(AND($A323=\"AZIONE_1\",$B323=1),'3 - SPECIE DA IMPIANTARE'!$Q124,\"\")","v":{"$error":"#REF!"}},null,{"$error":"#REF!"},{"$f":"IF(AND($A323=\"AZIONE_1\",$E323=2),'3 - SPECIE DA IMPIANTARE'!$Q324,\"\")","v":{"$error":"#REF!"}}]
[{"$f":"A224","v":""},{"$error":"#REF!"},{"$f":"IF(AND($A324=\"AZIONE_1\",$B324=1),'3 - SPECIE DA IMPIANTARE'!$Q125,\"\")","v":{"$error":"#REF!"}},null,{"$error":"#REF!"},{"$f":"IF(AND($A324=\"AZIONE_1\",$E324=2),'3 - SPECIE DA IMPIANTARE'!$Q325,\"\")","v":{"$error":"#REF!"}}]
[{"$f":"A225","v":""},{"$error":"#REF!"},{"$f":"IF(AND($A325=\"AZIONE_1\",$B325=1),'3 - SPECIE DA IMPIANTARE'!$Q126,\"\")","v":{"$error":"#REF!"}},null,{"$error":"#REF!"},{"$f":"IF(AND($A325=\"AZIONE_1\",$E325=2),'3 - SPECIE DA IMPIANTARE'!$Q326,\"\")","v":{"$error":"#REF!"}}]
[{"$f":"A226","v":""},{"$error":"#REF!"},{"$f":"IF(AND($A326=\"AZIONE_1\",$B326=1),'3 - SPECIE DA IMPIANTARE'!$Q127,\"\")","v":{"$error":"#REF!"}},null,{"$error":"#REF!"},{"$f":"IF(AND($A326=\"AZIONE_1\",$E326=2),'3 - SPECIE DA IMPIANTARE'!$Q327,\"\")","v":{"$error":"#REF!"}}]
[{"$f":"A227","v":""},{"$error":"#REF!"},{"$f":"IF(AND($A327=\"AZIONE_1\",$B327=1),'3 - SPECIE DA IMPIANTARE'!$Q128,\"\")","v":{"$error":"#REF!"}},null,{"$error":"#REF!"},{"$f":"IF(AND($A327=\"AZIONE_1\",$E327=2),'3 - SPECIE DA IMPIANTARE'!$Q328,\"\")","v":{"$error":"#REF!"}}]
[{"$f":"A228","v":""},{"$error":"#REF!"},{"$f":"IF(AND($A328=\"AZIONE_1\",$B328=1),'3 - SPECIE DA IMPIANTARE'!$Q129,\"\")","v":{"$error":"#REF!"}},null,{"$error":"#REF!"},{"$f":"IF(AND($A328=\"AZIONE_1\",$E328=2),'3 - SPECIE DA IMPIANTARE'!$Q329,\"\")","v":{"$error":"#REF!"}}]
[{"$f":"A229","v":""},{"$error":"#REF!"},{"$f":"IF(AND($A329=\"AZIONE_1\",$B329=1),'3 - SPECIE DA IMPIANTARE'!$Q130,\"\")","v":{"$error":"#REF!"}},null,{"$error":"#REF!"},{"$f":"IF(AND($A329=\"AZIONE_1\",$E329=2),'3 - SPECIE DA IMPIANTARE'!$Q330,\"\")","v":{"$error":"#REF!"}}]
[{"$f":"A230","v":""},{"$error":"#REF!"},{"$f":"IF(AND($A330=\"AZIONE_1\",$B330=1),'3 - SPECIE DA IMPIANTARE'!$Q131,\"\")","v":{"$error":"#REF!"}},null,{"$error":"#REF!"},{"$f":"IF(AND($A330=\"AZIONE_1\",$E330=2),'3 - SPECIE DA IMPIANTARE'!$Q331,\"\")","v":{"$error":"#REF!"}}]
[{"$f":"A231","v":""},{"$error":"#REF!"},{"$f":"IF(AND($A331=\"AZIONE_1\",$B331=1),'3 - SPECIE DA IMPIANTARE'!$Q132,\"\")","v":{"$error":"#REF!"}},null,{"$error":"#REF!"},{"$f":"IF(AND($A331=\"AZIONE_1\",$E331=2),'3 - SPECIE DA IMPIANTARE'!$Q332,\"\")","v":{"$error":"#REF!"}}]
[{"$f":"A232","v":""},{"$error":"#REF!"},{"$f":"IF(AND($A332=\"AZIONE_1\",$B332=1),'3 - SPECIE DA IMPIANTARE'!$Q133,\"\")","v":{"$error":"#REF!"}},null,{"$error":"#REF!"},{"$f":"IF(AND($A332=\"AZIONE_1\",$E332=2),'3 - SPECIE DA IMPIANTARE'!$Q333,\"\")","v":{"$error":"#REF!"}}]
[{"$f":"A233","v":""},{"$error":"#REF!"},{"$f":"IF(AND($A333=\"AZIONE_1\",$B333=1),'3 - SPECIE DA IMPIANTARE'!$Q134,\"\")","v":{"$error":"#REF!"}},null,{"$error":"#REF!"},{"$f":"IF(AND($A333=\"AZIONE_1\",$E333=2),'3 - SPECIE DA IMPIANTARE'!$Q334,\"\")","v":{"$error":"#REF!"}}]
[{"$f":"A234","v":""},{"$error":"#REF!"},{"$f":"IF(AND($A334=\"AZIONE_1\",$B334=1),'3 - SPECIE DA IMPIANTARE'!$Q135,\"\")","v":{"$error":"#REF!"}},null,{"$error":"#REF!"},{"$f":"IF(AND($A334=\"AZIONE_1\",$E334=2),'3 - SPECIE DA IMPIANTARE'!$Q335,\"\")","v":{"$error":"#REF!"}}]
[{"$f":"A235","v":""},{"$error":"#REF!"},{"$f":"IF(AND($A335=\"AZIONE_1\",$B335=1),'3 - SPECIE DA IMPIANTARE'!$Q136,\"\")","v":{"$error":"#REF!"}},null,{"$error":"#REF!"},{"$f":"IF(AND($A335=\"AZIONE_1\",$E335=2),'3 - SPECIE DA IMPIANTARE'!$Q336,\"\")","v":{"$error":"#REF!"}}]
[{"$f":"A236","v":""},{"$error":"#REF!"},{"$f":"IF(AND($A336=\"AZIONE_1\",$B336=1),'3 - SPECIE DA IMPIANTARE'!$Q137,\"\")","v":{"$error":"#REF!"}},null,{"$error":"#REF!"},{"$f":"IF(AND($A336=\"AZIONE_1\",$E336=2),'3 - SPECIE DA IMPIANTARE'!$Q337,\"\")","v":{"$error":"#REF!"}}]
[{"$f":"A237","v":""},{"$error":"#REF!"},{"$f":"IF(AND($A337=\"AZIONE_1\",$B337=1),'3 - SPECIE DA IMPIANTARE'!$Q138,\"\")","v":{"$error":"#REF!"}},null,{"$error":"#REF!"},{"$f":"IF(AND($A337=\"AZIONE_1\",$E337=2),'3 - SPECIE DA IMPIANTARE'!$Q338,\"\")","v":{"$error":"#REF!"}}]
[{"$f":"A238","v":""},{"$error":"#REF!"},{"$f":"IF(AND($A338=\"AZIONE_1\",$B338=1),'3 - SPECIE DA IMPIANTARE'!$Q139,\"\")","v":{"$error":"#REF!"}},null,{"$error":"#REF!"},{"$f":"IF(AND($A338=\"AZIONE_1\",$E338=2),'3 - SPECIE DA IMPIANTARE'!$Q339,\"\")","v":{"$error":"#REF!"}}]
[{"$f":"A239","v":""},{"$error":"#REF!"},{"$f":"IF(AND($A339=\"AZIONE_1\",$B339=1),'3 - SPECIE DA IMPIANTARE'!$Q140,\"\")","v":{"$error":"#REF!"}},null,{"$error":"#REF!"},{"$f":"IF(AND($A339=\"AZIONE_1\",$E339=2),'3 - SPECIE DA IMPIANTARE'!$Q340,\"\")","v":{"$error":"#REF!"}}]
[{"$f":"A240","v":""},{"$error":"#REF!"},{"$f":"IF(AND($A340=\"AZIONE_1\",$B340=1),'3 - SPECIE DA IMPIANTARE'!$Q141,\"\")","v":{"$error":"#REF!"}},null,{"$error":"#REF!"},{"$f":"IF(AND($A340=\"AZIONE_1\",$E340=2),'3 - SPECIE DA IMPIANTARE'!$Q341,\"\")","v":{"$error":"#REF!"}}]
[{"$f":"A241","v":""},{"$error":"#REF!"},{"$f":"IF(AND($A341=\"AZIONE_1\",$B341=1),'3 - SPECIE DA IMPIANTARE'!$Q142,\"\")","v":{"$error":"#REF!"}},null,{"$error":"#REF!"},{"$f":"IF(AND($A341=\"AZIONE_1\",$E341=2),'3 - SPECIE DA IMPIANTARE'!$Q342,\"\")","v":{"$error":"#REF!"}}]
[{"$f":"A242","v":""},{"$error":"#REF!"},{"$f":"IF(AND($A342=\"AZIONE_1\",$B342=1),'3 - SPECIE DA IMPIANTARE'!$Q143,\"\")","v":{"$error":"#REF!"}},null,{"$error":"#REF!"},{"$f":"IF(AND($A342=\"AZIONE_1\",$E342=2),'3 - SPECIE DA IMPIANTARE'!$Q343,\"\")","v":{"$error":"#REF!"}}]
[{"$f":"A243","v":""},{"$error":"#REF!"},{"$f":"IF(AND($A343=\"AZIONE_1\",$B343=1),'3 - SPECIE DA IMPIANTARE'!$Q144,\"\")","v":{"$error":"#REF!"}},null,{"$error":"#REF!"},{"$f":"IF(AND($A343=\"AZIONE_1\",$E343=2),'3 - SPECIE DA IMPIANTARE'!$Q344,\"\")","v":{"$error":"#REF!"}}]
[{"$f":"A244","v":""},{"$error":"#REF!"},{"$f":"IF(AND($A344=\"AZIONE_1\",$B344=1),'3 - SPECIE DA IMPIANTARE'!$Q145,\"\")","v":{"$error":"#REF!"}},null,{"$error":"#REF!"},{"$f":"IF(AND($A344=\"AZIONE_1\",$E344=2),'3 - SPECIE DA IMPIANTARE'!$Q345,\"\")","v":{"$error":"#REF!"}}]
[{"$f":"A245","v":""},{"$error":"#REF!"},{"$f":"IF(AND($A345=\"AZIONE_1\",$B345=1),'3 - SPECIE DA IMPIANTARE'!$Q146,\"\")","v":{"$error":"#REF!"}},null,{"$error":"#REF!"},{"$f":"IF(AND($A345=\"AZIONE_1\",$E345=2),'3 - SPECIE DA IMPIANTARE'!$Q346,\"\")","v":{"$error":"#REF!"}}]
[{"$f":"A246","v":""},{"$error":"#REF!"},{"$f":"IF(AND($A346=\"AZIONE_1\",$B346=1),'3 - SPECIE DA IMPIANTARE'!$Q147,\"\")","v":{"$error":"#REF!"}},null,{"$error":"#REF!"},{"$f":"IF(AND($A346=\"AZIONE_1\",$E346=2),'3 - SPECIE DA IMPIANTARE'!$Q347,\"\")","v":{"$error":"#REF!"}}]
[{"$f":"A247","v":""},{"$error":"#REF!"},{"$f":"IF(AND($A347=\"AZIONE_1\",$B347=1),'3 - SPECIE DA IMPIANTARE'!$Q148,\"\")","v":{"$error":"#REF!"}},null,{"$error":"#REF!"},{"$f":"IF(AND($A347=\"AZIONE_1\",$E347=2),'3 - SPECIE DA IMPIANTARE'!$Q348,\"\")","v":{"$error":"#REF!"}}]
[{"$f":"A248","v":""},{"$error":"#REF!"},{"$f":"IF(AND($A348=\"AZIONE_1\",$B348=1),'3 - SPECIE DA IMPIANTARE'!$Q149,\"\")","v":{"$error":"#REF!"}},null,{"$error":"#REF!"},{"$f":"IF(AND($A348=\"AZIONE_1\",$E348=2),'3 - SPECIE DA IMPIANTARE'!$Q349,\"\")","v":{"$error":"#REF!"}}]
[{"$f":"A249","v":""},{"$error":"#REF!"},{"$f":"IF(AND($A349=\"AZIONE_1\",$B349=1),'3 - SPECIE DA IMPIANTARE'!$Q150,\"\")","v":{"$error":"#REF!"}},null,{"$error":"#REF!"},{"$f":"IF(AND($A349=\"AZIONE_1\",$E349=2),'3 - SPECIE DA IMPIANTARE'!$Q350,\"\")","v":{"$error":"#REF!"}}]
[{"$f":"A250","v":""},{"$error":"#REF!"},{"$f":"IF(AND($A350=\"AZIONE_1\",$B350=1),'3 - SPECIE DA IMPIANTARE'!$Q151,\"\")","v":{"$error":"#REF!"}},null,{"$error":"#REF!"},{"$f":"IF(AND($A350=\"AZIONE_1\",$E350=2),'3 - SPECIE DA IMPIANTARE'!$Q351,\"\")","v":{"$error":"#REF!"}}]
[{"$f":"A251","v":""},{"$error":"#REF!"},{"$f":"IF(AND($A351=\"AZIONE_1\",$B351=1),'3 - SPECIE DA IMPIANTARE'!$Q152,\"\")","v":{"$error":"#REF!"}},null,{"$error":"#REF!"},{"$f":"IF(AND($A351=\"AZIONE_1\",$E351=2),'3 - SPECIE DA IMPIANTARE'!$Q352,\"\")","v":{"$error":"#REF!"}}]
[{"$f":"A252","v":""},{"$error":"#REF!"},{"$f":"IF(AND($A352=\"AZIONE_1\",$B352=1),'3 - SPECIE DA IMPIANTARE'!$Q153,\"\")","v":{"$error":"#REF!"}},null,{"$error":"#REF!"},{"$f":"IF(AND($A352=\"AZIONE_1\",$E352=2),'3 - SPECIE DA IMPIANTARE'!$Q353,\"\")","v":{"$error":"#REF!"}}]
[{"$f":"A253","v":""},{"$error":"#REF!"},{"$f":"IF(AND($A353=\"AZIONE_1\",$B353=1),'3 - SPECIE DA IMPIANTARE'!$Q154,\"\")","v":{"$error":"#REF!"}},null,{"$error":"#REF!"},{"$f":"IF(AND($A353=\"AZIONE_1\",$E353=2),'3 - SPECIE DA IMPIANTARE'!$Q354,\"\")","v":{"$error":"#REF!"}}]
[{"$f":"A254","v":""},{"$error":"#REF!"},{"$f":"IF(AND($A354=\"AZIONE_1\",$B354=1),'3 - SPECIE DA IMPIANTARE'!$Q155,\"\")","v":{"$error":"#REF!"}},null,{"$error":"#REF!"},{"$f":"IF(AND($A354=\"AZIONE_1\",$E354=2),'3 - SPECIE DA IMPIANTARE'!$Q355,\"\")","v":{"$error":"#REF!"}}]
[{"$f":"A255","v":""},{"$error":"#REF!"},{"$f":"IF(AND($A355=\"AZIONE_1\",$B355=1),'3 - SPECIE DA IMPIANTARE'!$Q156,\"\")","v":{"$error":"#REF!"}},null,{"$error":"#REF!"},{"$f":"IF(AND($A355=\"AZIONE_1\",$E355=2),'3 - SPECIE DA IMPIANTARE'!$Q356,\"\")","v":{"$error":"#REF!"}}]
[{"$f":"A256","v":""},{"$error":"#REF!"},{"$f":"IF(AND($A356=\"AZIONE_1\",$B356=1),'3 - SPECIE DA IMPIANTARE'!$Q157,\"\")","v":{"$error":"#REF!"}},null,{"$error":"#REF!"},{"$f":"IF(AND($A356=\"AZIONE_1\",$E356=2),'3 - SPECIE DA IMPIANTARE'!$Q357,\"\")","v":{"$error":"#REF!"}}]
[{"$f":"A257","v":""},{"$error":"#REF!"},{"$f":"IF(AND($A357=\"AZIONE_1\",$B357=1),'3 - SPECIE DA IMPIANTARE'!$Q158,\"\")","v":{"$error":"#REF!"}},null,{"$error":"#REF!"},{"$f":"IF(AND($A357=\"AZIONE_1\",$E357=2),'3 - SPECIE DA IMPIANTARE'!$Q358,\"\")","v":{"$error":"#REF!"}}]
[{"$f":"A258","v":""},{"$error":"#REF!"},{"$f":"IF(AND($A358=\"AZIONE_1\",$B358=1),'3 - SPECIE DA IMPIANTARE'!$Q159,\"\")","v":{"$error":"#REF!"}},null,{"$error":"#REF!"},{"$f":"IF(AND($A358=\"AZIONE_1\",$E358=2),'3 - SPECIE DA IMPIANTARE'!$Q359,\"\")","v":{"$error":"#REF!"}}]
[{"$f":"A259","v":""},{"$error":"#REF!"},{"$f":"IF(AND($A359=\"AZIONE_1\",$B359=1),'3 - SPECIE DA IMPIANTARE'!$Q160,\"\")","v":{"$error":"#REF!"}},null,{"$error":"#REF!"},{"$f":"IF(AND($A359=\"AZIONE_1\",$E359=2),'3 - SPECIE DA IMPIANTARE'!$Q360,\"\")","v":{"$error":"#REF!"}}]
[{"$f":"A260","v":""},{"$error":"#REF!"},{"$f":"IF(AND($A360=\"AZIONE_1\",$B360=1),'3 - SPECIE DA IMPIANTARE'!$Q161,\"\")","v":{"$error":"#REF!"}},null,{"$f":"E260","v":{"$error":"#REF!"}},{"$f":"IF(AND($A360=\"AZIONE_1\",$E360=2),'3 - SPECIE DA IMPIANTARE'!$Q361,\"\")","v":{"$error":"#REF!"}}]
[{"$f":"A261","v":""},{"$error":"#REF!"},{"$f":"IF(AND($A361=\"AZIONE_1\",$B361=1),'3 - SPECIE DA IMPIANTARE'!$Q162,\"\")","v":{"$error":"#REF!"}},null,{"$error":"#REF!"},{"$f":"IF(AND($A361=\"AZIONE_1\",$E361=2),'3 - SPECIE DA IMPIANTARE'!$Q362,\"\")","v":{"$error":"#REF!"}}]
[{"$f":"A262","v":""},{"$error":"#REF!"},{"$f":"IF(AND($A362=\"AZIONE_1\",$B362=1),'3 - SPECIE DA IMPIANTARE'!$Q163,\"\")","v":{"$error":"#REF!"}},null,{"$error":"#REF!"},{"$f":"IF(AND($A362=\"AZIONE_1\",$E362=2),'3 - SPECIE DA IMPIANTARE'!$Q363,\"\")","v":{"$error":"#REF!"}}]
[{"$f":"A263","v":""},{"$error":"#REF!"},{"$f":"IF(AND($A363=\"AZIONE_1\",$B363=1),'3 - SPECIE DA IMPIANTARE'!$Q164,\"\")","v":{"$error":"#REF!"}},null,{"$error":"#REF!"},{"$f":"IF(AND($A363=\"AZIONE_1\",$E363=2),'3 - SPECIE DA IMPIANTARE'!$Q364,\"\")","v":{"$error":"#REF!"}}]
[{"$f":"A264","v":""},{"$error":"#REF!"},{"$f":"IF(AND($A364=\"AZIONE_1\",$B364=1),'3 - SPECIE DA IMPIANTARE'!$Q165,\"\")","v":{"$error":"#REF!"}},null,{"$error":"#REF!"},{"$f":"IF(AND($A364=\"AZIONE_1\",$E364=2),'3 - SPECIE DA IMPIANTARE'!$Q365,\"\")","v":{"$error":"#REF!"}}]
[{"$f":"A265","v":""},{"$error":"#REF!"},{"$f":"IF(AND($A365=\"AZIONE_1\",$B365=1),'3 - SPECIE DA IMPIANTARE'!$Q166,\"\")","v":{"$error":"#REF!"}},null,{"$error":"#REF!"},{"$f":"IF(AND($A365=\"AZIONE_1\",$E365=2),'3 - SPECIE DA IMPIANTARE'!$Q366,\"\")","v":{"$error":"#REF!"}}]
[{"$f":"A266","v":""},{"$error":"#REF!"},{"$f":"IF(AND($A366=\"AZIONE_1\",$B366=1),'3 - SPECIE DA IMPIANTARE'!$Q167,\"\")","v":{"$error":"#REF!"}},null,{"$error":"#REF!"},{"$f":"IF(AND($A366=\"AZIONE_1\",$E366=2),'3 - SPECIE DA IMPIANTARE'!$Q367,\"\")","v":{"$error":"#REF!"}}]
[{"$f":"A267","v":""},{"$error":"#REF!"},{"$f":"IF(AND($A367=\"AZIONE_1\",$B367=1),'3 - SPECIE DA IMPIANTARE'!$Q168,\"\")","v":{"$error":"#REF!"}},null,{"$error":"#REF!"},{"$f":"IF(AND($A367=\"AZIONE_1\",$E367=2),'3 - SPECIE DA IMPIANTARE'!$Q368,\"\")","v":{"$error":"#REF!"}}]
[{"$f":"A268","v":""},{"$error":"#REF!"},{"$f":"IF(AND($A368=\"AZIONE_1\",$B368=1),'3 - SPECIE DA IMPIANTARE'!$Q169,\"\")","v":{"$error":"#REF!"}},null,{"$error":"#REF!"},{"$f":"IF(AND($A368=\"AZIONE_1\",$E368=2),'3 - SPECIE DA IMPIANTARE'!$Q369,\"\")","v":{"$error":"#REF!"}}]
[{"$f":"A269","v":""},{"$error":"#REF!"},{"$f":"IF(AND($A369=\"AZIONE_1\",$B369=1),'3 - SPECIE DA IMPIANTARE'!$Q170,\"\")","v":{"$error":"#REF!"}},null,{"$error":"#REF!"},{"$f":"IF(AND($A369=\"AZIONE_1\",$E369=2),'3 - SPECIE DA IMPIANTARE'!$Q370,\"\")","v":{"$error":"#REF!"}}]
[{"$f":"A270","v":""},{"$error":"#REF!"},{"$f":"IF(AND($A370=\"AZIONE_1\",$B370=1),'3 - SPECIE DA IMPIANTARE'!$Q171,\"\")","v":{"$error":"#REF!"}},null,{"$error":"#REF!"},{"$f":"IF(AND($A370=\"AZIONE_1\",$E370=2),'3 - SPECIE DA IMPIANTARE'!$Q371,\"\")","v":{"$error":"#REF!"}}]
[{"$f":"A271","v":""},{"$error":"#REF!"},{"$f":"IF(AND($A371=\"AZIONE_1\",$B371=1),'3 - SPECIE DA IMPIANTARE'!$Q172,\"\")","v":{"$error":"#REF!"}},null,{"$error":"#REF!"},{"$f":"IF(AND($A371=\"AZIONE_1\",$E371=2),'3 - SPECIE DA IMPIANTARE'!$Q372,\"\")","v":{"$error":"#REF!"}}]
[{"$f":"A272","v":""},{"$error":"#REF!"},{"$f":"IF(AND($A372=\"AZIONE_1\",$B372=1),'3 - SPECIE DA IMPIANTARE'!$Q173,\"\")","v":{"$error":"#REF!"}},null,{"$error":"#REF!"},{"$f":"IF(AND($A372=\"AZIONE_1\",$E372=2),'3 - SPECIE DA IMPIANTARE'!$Q373,\"\")","v":{"$error":"#REF!"}}]
[{"$f":"A273","v":""},{"$error":"#REF!"},{"$f":"IF(AND($A373=\"AZIONE_1\",$B373=1),'3 - SPECIE DA IMPIANTARE'!$Q174,\"\")","v":{"$error":"#REF!"}},null,{"$error":"#REF!"},{"$f":"IF(AND($A373=\"AZIONE_1\",$E373=2),'3 - SPECIE DA IMPIANTARE'!$Q374,\"\")","v":{"$error":"#REF!"}}]
[{"$f":"A274","v":""},{"$error":"#REF!"},{"$f":"IF(AND($A374=\"AZIONE_1\",$B374=1),'3 - SPECIE DA IMPIANTARE'!$Q175,\"\")","v":{"$error":"#REF!"}},null,{"$error":"#REF!"},{"$f":"IF(AND($A374=\"AZIONE_1\",$E374=2),'3 - SPECIE DA IMPIANTARE'!$Q375,\"\")","v":{"$error":"#REF!"}}]
[{"$f":"A275","v":""},{"$error":"#REF!"},{"$f":"IF(AND($A375=\"AZIONE_1\",$B375=1),'3 - SPECIE DA IMPIANTARE'!$Q176,\"\")","v":{"$error":"#REF!"}},null,{"$error":"#REF!"},{"$f":"IF(AND($A375=\"AZIONE_1\",$E375=2),'3 - SPECIE DA IMPIANTARE'!$Q376,\"\")","v":{"$error":"#REF!"}}]
[{"$f":"A276","v":""},{"$error":"#REF!"},{"$f":"IF(AND($A376=\"AZIONE_1\",$B376=1),'3 - SPECIE DA IMPIANTARE'!$Q177,\"\")","v":{"$error":"#REF!"}},null,{"$error":"#REF!"},{"$f":"IF(AND($A376=\"AZIONE_1\",$E376=2),'3 - SPECIE DA IMPIANTARE'!$Q377,\"\")","v":{"$error":"#REF!"}}]
[{"$f":"A277","v":""},{"$error":"#REF!"},{"$f":"IF(AND($A377=\"AZIONE_1\",$B377=1),'3 - SPECIE DA IMPIANTARE'!$Q178,\"\")","v":{"$error":"#REF!"}},null,{"$error":"#REF!"},{"$f":"IF(AND($A377=\"AZIONE_1\",$E377=2),'3 - SPECIE DA IMPIANTARE'!$Q378,\"\")","v":{"$error":"#REF!"}}]
[{"$f":"A278","v":""},{"$error":"#REF!"},{"$f":"IF(AND($A378=\"AZIONE_1\",$B378=1),'3 - SPECIE DA IMPIANTARE'!$Q179,\"\")","v":{"$error":"#REF!"}},null,{"$error":"#REF!"},{"$f":"IF(AND($A378=\"AZIONE_1\",$E378=2),'3 - SPECIE DA IMPIANTARE'!$Q379,\"\")","v":{"$error":"#REF!"}}]
[{"$f":"A279","v":""},{"$error":"#REF!"},{"$f":"IF(AND($A379=\"AZIONE_1\",$B379=1),'3 - SPECIE DA IMPIANTARE'!$Q180,\"\")","v":{"$error":"#REF!"}},null,{"$error":"#REF!"},{"$f":"IF(AND($A379=\"AZIONE_1\",$E379=2),'3 - SPECIE DA IMPIANTARE'!$Q380,\"\")","v":{"$error":"#REF!"}}]
[{"$f":"A280","v":""},{"$error":"#REF!"},{"$f":"IF(AND($A380=\"AZIONE_1\",$B380=1),'3 - SPECIE DA IMPIANTARE'!$Q181,\"\")","v":{"$error":"#REF!"}},null,{"$error":"#REF!"},{"$f":"IF(AND($A380=\"AZIONE_1\",$E380=2),'3 - SPECIE DA IMPIANTARE'!$Q381,\"\")","v":{"$error":"#REF!"}}]
[{"$f":"A281","v":""},{"$error":"#REF!"},{"$f":"IF(AND($A381=\"AZIONE_1\",$B381=1),'3 - SPECIE DA IMPIANTARE'!$Q182,\"\")","v":{"$error":"#REF!"}},null,{"$error":"#REF!"},{"$f":"IF(AND($A381=\"AZIONE_1\",$E381=2),'3 - SPECIE DA IMPIANTARE'!$Q382,\"\")","v":{"$error":"#REF!"}}]
[{"$f":"A282","v":""},{"$error":"#REF!"},{"$f":"IF(AND($A382=\"AZIONE_1\",$B382=1),'3 - SPECIE DA IMPIANTARE'!$Q183,\"\")","v":{"$error":"#REF!"}},null,{"$error":"#REF!"},{"$f":"IF(AND($A382=\"AZIONE_1\",$E382=2),'3 - SPECIE DA IMPIANTARE'!$Q383,\"\")","v":{"$error":"#REF!"}}]
[{"$f":"A283","v":""},{"$error":"#REF!"},{"$f":"IF(AND($A383=\"AZIONE_1\",$B383=1),'3 - SPECIE DA IMPIANTARE'!$Q184,\"\")","v":{"$error":"#REF!"}},null,{"$error":"#REF!"},{"$f":"IF(AND($A383=\"AZIONE_1\",$E383=2),'3 - SPECIE DA IMPIANTARE'!$Q384,\"\")","v":{"$error":"#REF!"}}]
[{"$f":"A284","v":""},{"$error":"#REF!"},{"$f":"IF(AND($A384=\"AZIONE_1\",$B384=1),'3 - SPECIE DA IMPIANTARE'!$Q185,\"\")","v":{"$error":"#REF!"}},null,{"$error":"#REF!"},{"$f":"IF(AND($A384=\"AZIONE_1\",$E384=2),'3 - SPECIE DA IMPIANTARE'!$Q385,\"\")","v":{"$error":"#REF!"}}]
[{"$f":"A285","v":""},{"$error":"#REF!"},{"$f":"IF(AND($A385=\"AZIONE_1\",$B385=1),'3 - SPECIE DA IMPIANTARE'!$Q186,\"\")","v":{"$error":"#REF!"}},null,{"$error":"#REF!"},{"$f":"IF(AND($A385=\"AZIONE_1\",$E385=2),'3 - SPECIE DA IMPIANTARE'!$Q386,\"\")","v":{"$error":"#REF!"}}]
[{"$f":"A286","v":""},{"$error":"#REF!"},{"$f":"IF(AND($A386=\"AZIONE_1\",$B386=1),'3 - SPECIE DA IMPIANTARE'!$Q187,\"\")","v":{"$error":"#REF!"}},null,{"$error":"#REF!"},{"$f":"IF(AND($A386=\"AZIONE_1\",$E386=2),'3 - SPECIE DA IMPIANTARE'!$Q387,\"\")","v":{"$error":"#REF!"}}]
[{"$f":"A287","v":""},{"$error":"#REF!"},{"$f":"IF(AND($A387=\"AZIONE_1\",$B387=1),'3 - SPECIE DA IMPIANTARE'!$Q188,\"\")","v":{"$error":"#REF!"}},null,{"$error":"#REF!"},{"$f":"IF(AND($A387=\"AZIONE_1\",$E387=2),'3 - SPECIE DA IMPIANTARE'!$Q388,\"\")","v":{"$error":"#REF!"}}]
[{"$f":"A288","v":""},{"$error":"#REF!"},{"$f":"IF(AND($A388=\"AZIONE_1\",$B388=1),'3 - SPECIE DA IMPIANTARE'!$Q189,\"\")","v":{"$error":"#REF!"}},null,{"$error":"#REF!"},{"$f":"IF(AND($A388=\"AZIONE_1\",$E388=2),'3 - SPECIE DA IMPIANTARE'!$Q389,\"\")","v":{"$error":"#REF!"}}]
[{"$f":"A289","v":""},{"$error":"#REF!"},{"$f":"IF(AND($A389=\"AZIONE_1\",$B389=1),'3 - SPECIE DA IMPIANTARE'!$Q190,\"\")","v":{"$error":"#REF!"}},null,{"$error":"#REF!"},{"$f":"IF(AND($A389=\"AZIONE_1\",$E389=2),'3 - SPECIE DA IMPIANTARE'!$Q390,\"\")","v":{"$error":"#REF!"}}]
[{"$f":"A290","v":""},{"$error":"#REF!"},{"$f":"IF(AND($A390=\"AZIONE_1\",$B390=1),'3 - SPECIE DA IMPIANTARE'!$Q191,\"\")","v":{"$error":"#REF!"}},null,{"$error":"#REF!"},{"$f":"IF(AND($A390=\"AZIONE_1\",$E390=2),'3 - SPECIE DA IMPIANTARE'!$Q391,\"\")","v":{"$error":"#REF!"}}]
[{"$f":"A291","v":""},{"$error":"#REF!"},{"$f":"IF(AND($A391=\"AZIONE_1\",$B391=1),'3 - SPECIE DA IMPIANTARE'!$Q192,\"\")","v":{"$error":"#REF!"}},null,{"$error":"#REF!"},{"$f":"IF(AND($A391=\"AZIONE_1\",$E391=2),'3 - SPECIE DA IMPIANTARE'!$Q392,\"\")","v":{"$error":"#REF!"}}]
[{"$f":"A292","v":""},{"$error":"#REF!"},{"$f":"IF(AND($A392=\"AZIONE_1\",$B392=1),'3 - SPECIE DA IMPIANTARE'!$Q193,\"\")","v":{"$error":"#REF!"}},null,{"$error":"#REF!"},{"$f":"IF(AND($A392=\"AZIONE_1\",$E392=2),'3 - SPECIE DA IMPIANTARE'!$Q393,\"\")","v":{"$error":"#REF!"}}]
[{"$f":"A293","v":""},{"$error":"#REF!"},{"$f":"IF(AND($A393=\"AZIONE_1\",$B393=1),'3 - SPECIE DA IMPIANTARE'!$Q194,\"\")","v":{"$error":"#REF!"}},null,{"$error":"#REF!"},{"$f":"IF(AND($A393=\"AZIONE_1\",$E393=2),'3 - SPECIE DA IMPIANTARE'!$Q394,\"\")","v":{"$error":"#REF!"}}]
[{"$f":"A294","v":""},{"$error":"#REF!"},{"$f":"IF(AND($A394=\"AZIONE_1\",$B394=1),'3 - SPECIE DA IMPIANTARE'!$Q195,\"\")","v":{"$error":"#REF!"}},null,{"$error":"#REF!"},{"$f":"IF(AND($A394=\"AZIONE_1\",$E394=2),'3 - SPECIE DA IMPIANTARE'!$Q395,\"\")","v":{"$error":"#REF!"}}]
[{"$f":"A295","v":""},{"$error":"#REF!"},{"$f":"IF(AND($A395=\"AZIONE_1\",$B395=1),'3 - SPECIE DA IMPIANTARE'!$Q196,\"\")","v":{"$error":"#REF!"}},null,{"$error":"#REF!"},{"$f":"IF(AND($A395=\"AZIONE_1\",$E395=2),'3 - SPECIE DA IMPIANTARE'!$Q396,\"\")","v":{"$error":"#REF!"}}]
[{"$f":"A296","v":""},{"$error":"#REF!"},{"$f":"IF(AND($A396=\"AZIONE_1\",$B396=1),'3 - SPECIE DA IMPIANTARE'!$Q197,\"\")","v":{"$error":"#REF!"}},null,{"$error":"#REF!"},{"$f":"IF(AND($A396=\"AZIONE_1\",$E396=2),'3 - SPECIE DA IMPIANTARE'!$Q397,\"\")","v":{"$error":"#REF!"}}]
[{"$f":"A297","v":""},{"$error":"#REF!"},{"$f":"IF(AND($A397=\"AZIONE_1\",$B397=1),'3 - SPECIE DA IMPIANTARE'!$Q198,\"\")","v":{"$error":"#REF!"}},null,{"$error":"#REF!"},{"$f":"IF(AND($A397=\"AZIONE_1\",$E397=2),'3 - SPECIE DA IMPIANTARE'!$Q398,\"\")","v":{"$error":"#REF!"}}]
[{"$f":"A298","v":""},{"$error":"#REF!"},{"$f":"IF(AND($A398=\"AZIONE_1\",$B398=1),'3 - SPECIE DA IMPIANTARE'!$Q199,\"\")","v":{"$error":"#REF!"}},null,{"$error":"#REF!"},{"$f":"IF(AND($A398=\"AZIONE_1\",$E398=2),'3 - SPECIE DA IMPIANTARE'!$Q399,\"\")","v":{"$error":"#REF!"}}]
[{"$f":"A299","v":""},{"$error":"#REF!"},{"$f":"IF(AND($A399=\"AZIONE_1\",$B399=1),'3 - SPECIE DA IMPIANTARE'!$Q200,\"\")","v":{"$error":"#REF!"}},null,{"$error":"#REF!"},{"$f":"IF(AND($A399=\"AZIONE_1\",$E399=2),'3 - SPECIE DA IMPIANTARE'!$Q400,\"\")","v":{"$error":"#REF!"}}]
[{"$f":"A300","v":""},{"$error":"#REF!"},{"$f":"IF(AND($A400=\"AZIONE_1\",$B400=1),'3 - SPECIE DA IMPIANTARE'!$Q201,\"\")","v":{"$error":"#REF!"}},null,{"$error":"#REF!"},{"$f":"IF(AND($A400=\"AZIONE_1\",$E400=2),'3 - SPECIE DA IMPIANTARE'!$Q401,\"\")","v":{"$error":"#REF!"}}]
[{"$f":"A301","v":""},{"$error":"#REF!"},{"$f":"IF(AND($A401=\"AZIONE_1\",$B401=1),'3 - SPECIE DA IMPIANTARE'!$Q202,\"\")","v":{"$error":"#REF!"}},null,{"$error":"#REF!"},{"$f":"IF(AND($A401=\"AZIONE_1\",$E401=2),'3 - SPECIE DA IMPIANTARE'!$Q402,\"\")","v":{"$error":"#REF!"}}]
[{"$f":"A302","v":""},{"$error":"#REF!"},{"$f":"IF(AND($A402=\"AZIONE_1\",$B402=1),'3 - SPECIE DA IMPIANTARE'!$T203,\"\")","v":{"$error":"#REF!"}},null,{"$error":"#REF!"},{"$f":"IF(AND($A402=\"AZIONE_1\",$E402=2),'3 - SPECIE DA IMPIANTARE'!$T403,\"\")","v":{"$error":"#REF!"}}]
[{"$f":"A303","v":""},{"$error":"#REF!"},{"$f":"IF(AND($A403=\"AZIONE_1\",$B403=1),'3 - SPECIE DA IMPIANTARE'!$T204,\"\")","v":{"$error":"#REF!"}},null,{"$error":"#REF!"},{"$f":"IF(AND($A403=\"AZIONE_1\",$E403=2),'3 - SPECIE DA IMPIANTARE'!$T404,\"\")","v":{"$error":"#REF!"}}]
[{"$f":"A304","v":""},{"$error":"#REF!"},{"$f":"IF(AND($A404=\"AZIONE_1\",$B404=1),'3 - SPECIE DA IMPIANTARE'!$T205,\"\")","v":{"$error":"#REF!"}},null,{"$error":"#REF!"},{"$f":"IF(AND($A404=\"AZIONE_1\",$E404=2),'3 - SPECIE DA IMPIANTARE'!$T405,\"\")","v":{"$error":"#REF!"}}]
[{"$f":"A305","v":""},{"$error":"#REF!"},{"$f":"IF(AND($A405=\"AZIONE_1\",$B405=1),'3 - SPECIE DA IMPIANTARE'!$T206,\"\")","v":{"$error":"#REF!"}},null,{"$error":"#REF!"},{"$f":"IF(AND($A405=\"AZIONE_1\",$E405=2),'3 - SPECIE DA IMPIANTARE'!$T406,\"\")","v":{"$error":"#REF!"}}]
[{"$f":"A306","v":""},{"$error":"#REF!"},{"$f":"IF(AND($A406=\"AZIONE_1\",$B406=1),'3 - SPECIE DA IMPIANTARE'!$T207,\"\")","v":{"$error":"#REF!"}},null,{"$error":"#REF!"},{"$f":"IF(AND($A406=\"AZIONE_1\",$E406=2),'3 - SPECIE DA IMPIANTARE'!$T407,\"\")","v":{"$error":"#REF!"}}]
[{"$f":"A307","v":""},{"$error":"#REF!"},{"$f":"IF(AND($A407=\"AZIONE_1\",$B407=1),'3 - SPECIE DA IMPIANTARE'!$T208,\"\")","v":{"$error":"#REF!"}},null,{"$error":"#REF!"},{"$f":"IF(AND($A407=\"AZIONE_1\",$E407=2),'3 - SPECIE DA IMPIANTARE'!$T408,\"\")","v":{"$error":"#REF!"}}]
[{"$f":"A308","v":""},{"$error":"#REF!"},{"$f":"IF(AND($A408=\"AZIONE_1\",$B408=1),'3 - SPECIE DA IMPIANTARE'!$T209,\"\")","v":{"$error":"#REF!"}},null,{"$error":"#REF!"},{"$f":"IF(AND($A408=\"AZIONE_1\",$E408=2),'3 - SPECIE DA IMPIANTARE'!$T409,\"\")","v":{"$error":"#REF!"}}]
[{"$f":"A309","v":""},{"$error":"#REF!"},{"$f":"IF(AND($A409=\"AZIONE_1\",$B409=1),'3 - SPECIE DA IMPIANTARE'!$T210,\"\")","v":{"$error":"#REF!"}},null,{"$error":"#REF!"},{"$f":"IF(AND($A409=\"AZIONE_1\",$E409=2),'3 - SPECIE DA IMPIANTARE'!$T410,\"\")","v":{"$error":"#REF!"}}]
[{"$f":"A310","v":""},{"$error":"#REF!"},{"$f":"IF(AND($A410=\"AZIONE_1\",$B410=1),'3 - SPECIE DA IMPIANTARE'!$T211,\"\")","v":{"$error":"#REF!"}},null,{"$error":"#REF!"},{"$f":"IF(AND($A410=\"AZIONE_1\",$E410=2),'3 - SPECIE DA IMPIANTARE'!$T411,\"\")","v":{"$error":"#REF!"}}]
[{"$f":"A311","v":""},{"$error":"#REF!"},{"$f":"IF(AND($A411=\"AZIONE_1\",$B411=1),'3 - SPECIE DA IMPIANTARE'!$T212,\"\")","v":{"$error":"#REF!"}},null,{"$error":"#REF!"},{"$f":"IF(AND($A411=\"AZIONE_1\",$E411=2),'3 - SPECIE DA IMPIANTARE'!$T412,\"\")","v":{"$error":"#REF!"}}]
[{"$f":"A312","v":""},{"$error":"#REF!"},{"$f":"IF(AND($A412=\"AZIONE_1\",$B412=1),'3 - SPECIE DA IMPIANTARE'!$T213,\"\")","v":{"$error":"#REF!"}},null,{"$error":"#REF!"},{"$f":"IF(AND($A412=\"AZIONE_1\",$E412=2),'3 - SPECIE DA IMPIANTARE'!$T413,\"\")","v":{"$error":"#REF!"}}]
[{"$f":"A313","v":""},{"$error":"#REF!"},{"$f":"IF(AND($A413=\"AZIONE_1\",$B413=1),'3 - SPECIE DA IMPIANTARE'!$T214,\"\")","v":{"$error":"#REF!"}},null,{"$error":"#REF!"},{"$f":"IF(AND($A413=\"AZIONE_1\",$E413=2),'3 - SPECIE DA IMPIANTARE'!$T414,\"\")","v":{"$error":"#REF!"}}]
[{"$f":"A314","v":""},{"$error":"#REF!"},{"$f":"IF(AND($A414=\"AZIONE_1\",$B414=1),'3 - SPECIE DA IMPIANTARE'!$T215,\"\")","v":{"$error":"#REF!"}},null,{"$error":"#REF!"},{"$f":"IF(AND($A414=\"AZIONE_1\",$E414=2),'3 - SPECIE DA IMPIANTARE'!$T415,\"\")","v":{"$error":"#REF!"}}]
[{"$f":"A315","v":""},{"$error":"#REF!"},{"$f":"IF(AND($A415=\"AZIONE_1\",$B415=1),'3 - SPECIE DA IMPIANTARE'!$T216,\"\")","v":{"$error":"#REF!"}},null,{"$error":"#REF!"},{"$f":"IF(AND($A415=\"AZIONE_1\",$E415=2),'3 - SPECIE DA IMPIANTARE'!$T416,\"\")","v":{"$error":"#REF!"}}]
[{"$f":"A316","v":""},{"$error":"#REF!"},{"$f":"IF(AND($A416=\"AZIONE_1\",$B416=1),'3 - SPECIE DA IMPIANTARE'!$T217,\"\")","v":{"$error":"#REF!"}},null,{"$error":"#REF!"},{"$f":"IF(AND($A416=\"AZIONE_1\",$E416=2),'3 - SPECIE DA IMPIANTARE'!$T417,\"\")","v":{"$error":"#REF!"}}]
[{"$f":"A317","v":""},{"$error":"#REF!"},{"$f":"IF(AND($A417=\"AZIONE_1\",$B417=1),'3 - SPECIE DA IMPIANTARE'!$T218,\"\")","v":{"$error":"#REF!"}},null,{"$error":"#REF!"},{"$f":"IF(AND($A417=\"AZIONE_1\",$E417=2),'3 - SPECIE DA IMPIANTARE'!$T418,\"\")","v":{"$error":"#REF!"}}]
[{"$f":"A318","v":""},{"$error":"#REF!"},{"$f":"IF(AND($A418=\"AZIONE_1\",$B418=1),'3 - SPECIE DA IMPIANTARE'!$T219,\"\")","v":{"$error":"#REF!"}},null,{"$error":"#REF!"},{"$f":"IF(AND($A418=\"AZIONE_1\",$E418=2),'3 - SPECIE DA IMPIANTARE'!$T419,\"\")","v":{"$error":"#REF!"}}]
[{"$f":"A319","v":""},{"$error":"#REF!"},{"$f":"IF(AND($A419=\"AZIONE_1\",$B419=1),'3 - SPECIE DA IMPIANTARE'!$T220,\"\")","v":{"$error":"#REF!"}},null,{"$error":"#REF!"},{"$f":"IF(AND($A419=\"AZIONE_1\",$E419=2),'3 - SPECIE DA IMPIANTARE'!$T420,\"\")","v":{"$error":"#REF!"}}]
[{"$f":"A320","v":""},{"$error":"#REF!"},{"$f":"IF(AND($A420=\"AZIONE_1\",$B420=1),'3 - SPECIE DA IMPIANTARE'!$T221,\"\")","v":{"$error":"#REF!"}},null,{"$error":"#REF!"},{"$f":"IF(AND($A420=\"AZIONE_1\",$E420=2),'3 - SPECIE DA IMPIANTARE'!$T421,\"\")","v":{"$error":"#REF!"}}]
[{"$f":"A321","v":""},{"$error":"#REF!"},{"$f":"IF(AND($A421=\"AZIONE_1\",$B421=1),'3 - SPECIE DA IMPIANTARE'!$T222,\"\")","v":{"$error":"#REF!"}},null,{"$error":"#REF!"},{"$f":"IF(AND($A421=\"AZIONE_1\",$E421=2),'3 - SPECIE DA IMPIANTARE'!$T422,\"\")","v":{"$error":"#REF!"}}]
[{"$f":"A322","v":""},{"$error":"#REF!"},{"$f":"IF(AND($A422=\"AZIONE_1\",$B422=1),'3 - SPECIE DA IMPIANTARE'!$T223,\"\")","v":{"$error":"#REF!"}},null,{"$error":"#REF!"},{"$f":"IF(AND($A422=\"AZIONE_1\",$E422=2),'3 - SPECIE DA IMPIANTARE'!$T423,\"\")","v":{"$error":"#REF!"}}]
[{"$f":"A323","v":""},{"$error":"#REF!"},{"$f":"IF(AND($A423=\"AZIONE_1\",$B423=1),'3 - SPECIE DA IMPIANTARE'!$T224,\"\")","v":{"$error":"#REF!"}},null,{"$error":"#REF!"},{"$f":"IF(AND($A423=\"AZIONE_1\",$E423=2),'3 - SPECIE DA IMPIANTARE'!$T424,\"\")","v":{"$error":"#REF!"}}]
[{"$f":"A324","v":""},{"$error":"#REF!"},{"$f":"IF(AND($A424=\"AZIONE_1\",$B424=1),'3 - SPECIE DA IMPIANTARE'!$T225,\"\")","v":{"$error":"#REF!"}},null,{"$f":"E324","v":{"$error":"#REF!"}},{"$f":"IF(AND($A424=\"AZIONE_1\",$E424=2),'3 - SPECIE DA IMPIANTARE'!$T425,\"\")","v":{"$error":"#REF!"}}]
[{"$f":"A325","v":""},{"$error":"#REF!"},{"$f":"IF(AND($A425=\"AZIONE_1\",$B425=1),'3 - SPECIE DA IMPIANTARE'!$T226,\"\")","v":{"$error":"#REF!"}},null,{"$error":"#REF!"},{"$f":"IF(AND($A425=\"AZIONE_1\",$E425=2),'3 - SPECIE DA IMPIANTARE'!$T426,\"\")","v":{"$error":"#REF!"}}]
[{"$f":"A326","v":""},{"$error":"#REF!"},{"$f":"IF(AND($A426=\"AZIONE_1\",$B426=1),'3 - SPECIE DA IMPIANTARE'!$T227,\"\")","v":{"$error":"#REF!"}},null,{"$error":"#REF!"},{"$f":"IF(AND($A426=\"AZIONE_1\",$E426=2),'3 - SPECIE DA IMPIANTARE'!$T427,\"\")","v":{"$error":"#REF!"}}]
[{"$f":"A327","v":""},{"$error":"#REF!"},{"$f":"IF(AND($A427=\"AZIONE_1\",$B427=1),'3 - SPECIE DA IMPIANTARE'!$T228,\"\")","v":{"$error":"#REF!"}},null,{"$error":"#REF!"},{"$f":"IF(AND($A427=\"AZIONE_1\",$E427=2),'3 - SPECIE DA IMPIANTARE'!$T428,\"\")","v":{"$error":"#REF!"}}]
[{"$f":"A328","v":""},{"$error":"#REF!"},{"$f":"IF(AND($A428=\"AZIONE_1\",$B428=1),'3 - SPECIE DA IMPIANTARE'!$T229,\"\")","v":{"$error":"#REF!"}},null,{"$error":"#REF!"},{"$f":"IF(AND($A428=\"AZIONE_1\",$E428=2),'3 - SPECIE DA IMPIANTARE'!$T429,\"\")","v":{"$error":"#REF!"}}]
[{"$f":"A329","v":""},{"$error":"#REF!"},{"$f":"IF(AND($A429=\"AZIONE_1\",$B429=1),'3 - SPECIE DA IMPIANTARE'!$T230,\"\")","v":{"$error":"#REF!"}},null,{"$error":"#REF!"},{"$f":"IF(AND($A429=\"AZIONE_1\",$E429=2),'3 - SPECIE DA IMPIANTARE'!$T430,\"\")","v":{"$error":"#REF!"}}]
[{"$f":"A330","v":""},{"$error":"#REF!"},{"$f":"IF(AND($A430=\"AZIONE_1\",$B430=1),'3 - SPECIE DA IMPIANTARE'!$T231,\"\")","v":{"$error":"#REF!"}},null,{"$error":"#REF!"},{"$f":"IF(AND($A430=\"AZIONE_1\",$E430=2),'3 - SPECIE DA IMPIANTARE'!$T431,\"\")","v":{"$error":"#REF!"}}]
[{"$f":"A331","v":""},{"$error":"#REF!"},{"$f":"IF(AND($A431=\"AZIONE_1\",$B431=1),'3 - SPECIE DA IMPIANTARE'!$T232,\"\")","v":{"$error":"#REF!"}},null,{"$error":"#REF!"},{"$f":"IF(AND($A431=\"AZIONE_1\",$E431=2),'3 - SPECIE DA IMPIANTARE'!$T432,\"\")","v":{"$error":"#REF!"}}]
[{"$f":"A332","v":""},{"$error":"#REF!"},{"$f":"IF(AND($A432=\"AZIONE_1\",$B432=1),'3 - SPECIE DA IMPIANTARE'!$T233,\"\")","v":{"$error":"#REF!"}},null,{"$error":"#REF!"},{"$f":"IF(AND($A432=\"AZIONE_1\",$E432=2),'3 - SPECIE DA IMPIANTARE'!$T433,\"\")","v":{"$error":"#REF!"}}]
[{"$f":"A333","v":""},{"$error":"#REF!"},{"$f":"IF(AND($A433=\"AZIONE_1\",$B433=1),'3 - SPECIE DA IMPIANTARE'!$T234,\"\")","v":{"$error":"#REF!"}},null,{"$error":"#REF!"},{"$f":"IF(AND($A433=\"AZIONE_1\",$E433=2),'3 - SPECIE DA IMPIANTARE'!$T434,\"\")","v":{"$error":"#REF!"}}]
[{"$f":"A334","v":""},{"$error":"#REF!"},{"$f":"IF(AND($A434=\"AZIONE_1\",$B434=1),'3 - SPECIE DA IMPIANTARE'!$T235,\"\")","v":{"$error":"#REF!"}},null,{"$error":"#REF!"},{"$f":"IF(AND($A434=\"AZIONE_1\",$E434=2),'3 - SPECIE DA IMPIANTARE'!$T435,\"\")","v":{"$error":"#REF!"}}]
[{"$f":"A335","v":""},{"$error":"#REF!"},{"$f":"IF(AND($A435=\"AZIONE_1\",$B435=1),'3 - SPECIE DA IMPIANTARE'!$T236,\"\")","v":{"$error":"#REF!"}},null,{"$error":"#REF!"},{"$f":"IF(AND($A435=\"AZIONE_1\",$E435=2),'3 - SPECIE DA IMPIANTARE'!$T436,\"\")","v":{"$error":"#REF!"}}]
[{"$f":"A336","v":""},{"$error":"#REF!"},{"$f":"IF(AND($A436=\"AZIONE_1\",$B436=1),'3 - SPECIE DA IMPIANTARE'!$T237,\"\")","v":{"$error":"#REF!"}},null,{"$error":"#REF!"},{"$f":"IF(AND($A436=\"AZIONE_1\",$E436=2),'3 - SPECIE DA IMPIANTARE'!$T437,\"\")","v":{"$error":"#REF!"}}]
[{"$f":"A337","v":""},{"$error":"#REF!"},{"$f":"IF(AND($A437=\"AZIONE_1\",$B437=1),'3 - SPECIE DA IMPIANTARE'!$T238,\"\")","v":{"$error":"#REF!"}},null,{"$error":"#REF!"},{"$f":"IF(AND($A437=\"AZIONE_1\",$E437=2),'3 - SPECIE DA IMPIANTARE'!$T438,\"\")","v":{"$error":"#REF!"}}]
[{"$f":"A338","v":""},{"$error":"#REF!"},{"$f":"IF(AND($A438=\"AZIONE_1\",$B438=1),'3 - SPECIE DA IMPIANTARE'!$T239,\"\")","v":{"$error":"#REF!"}},null,{"$error":"#REF!"},{"$f":"IF(AND($A438=\"AZIONE_1\",$E438=2),'3 - SPECIE DA IMPIANTARE'!$T439,\"\")","v":{"$error":"#REF!"}}]
[{"$f":"A339","v":""},{"$error":"#REF!"},{"$f":"IF(AND($A439=\"AZIONE_1\",$B439=1),'3 - SPECIE DA IMPIANTARE'!$T240,\"\")","v":{"$error":"#REF!"}},null,{"$error":"#REF!"},{"$f":"IF(AND($A439=\"AZIONE_1\",$E439=2),'3 - SPECIE DA IMPIANTARE'!$T440,\"\")","v":{"$error":"#REF!"}}]
[{"$f":"A340","v":""},{"$error":"#REF!"},{"$f":"IF(AND($A440=\"AZIONE_1\",$B440=1),'3 - SPECIE DA IMPIANTARE'!$T241,\"\")","v":{"$error":"#REF!"}},null,{"$error":"#REF!"},{"$f":"IF(AND($A440=\"AZIONE_1\",$E440=2),'3 - SPECIE DA IMPIANTARE'!$T441,\"\")","v":{"$error":"#REF!"}}]
[{"$f":"A341","v":""},{"$error":"#REF!"},{"$f":"IF(AND($A441=\"AZIONE_1\",$B441=1),'3 - SPECIE DA IMPIANTARE'!$T242,\"\")","v":{"$error":"#REF!"}},null,{"$error":"#REF!"},{"$f":"IF(AND($A441=\"AZIONE_1\",$E441=2),'3 - SPECIE DA IMPIANTARE'!$T442,\"\")","v":{"$error":"#REF!"}}]
[{"$f":"A342","v":""},{"$error":"#REF!"},{"$f":"IF(AND($A442=\"AZIONE_1\",$B442=1),'3 - SPECIE DA IMPIANTARE'!$T243,\"\")","v":{"$error":"#REF!"}},null,{"$error":"#REF!"},{"$f":"IF(AND($A442=\"AZIONE_1\",$E442=2),'3 - SPECIE DA IMPIANTARE'!$T443,\"\")","v":{"$error":"#REF!"}}]
[{"$f":"A343","v":""},{"$error":"#REF!"},{"$f":"IF(AND($A443=\"AZIONE_1\",$B443=1),'3 - SPECIE DA IMPIANTARE'!$T244,\"\")","v":{"$error":"#REF!"}},null,{"$error":"#REF!"},{"$f":"IF(AND($A443=\"AZIONE_1\",$E443=2),'3 - SPECIE DA IMPIANTARE'!$T444,\"\")","v":{"$error":"#REF!"}}]
[{"$f":"A344","v":""},{"$error":"#REF!"},{"$f":"IF(AND($A444=\"AZIONE_1\",$B444=1),'3 - SPECIE DA IMPIANTARE'!$T245,\"\")","v":{"$error":"#REF!"}},null,{"$error":"#REF!"},{"$f":"IF(AND($A444=\"AZIONE_1\",$E444=2),'3 - SPECIE DA IMPIANTARE'!$T445,\"\")","v":{"$error":"#REF!"}}]
[{"$f":"A345","v":""},{"$error":"#REF!"},{"$f":"IF(AND($A445=\"AZIONE_1\",$B445=1),'3 - SPECIE DA IMPIANTARE'!$T246,\"\")","v":{"$error":"#REF!"}},null,{"$error":"#REF!"},{"$f":"IF(AND($A445=\"AZIONE_1\",$E445=2),'3 - SPECIE DA IMPIANTARE'!$T446,\"\")","v":{"$error":"#REF!"}}]
[{"$f":"A346","v":""},{"$error":"#REF!"},{"$f":"IF(AND($A446=\"AZIONE_1\",$B446=1),'3 - SPECIE DA IMPIANTARE'!$T247,\"\")","v":{"$error":"#REF!"}},null,{"$error":"#REF!"},{"$f":"IF(AND($A446=\"AZIONE_1\",$E446=2),'3 - SPECIE DA IMPIANTARE'!$T447,\"\")","v":{"$error":"#REF!"}}]
[{"$f":"A347","v":""},{"$error":"#REF!"},{"$f":"IF(AND($A447=\"AZIONE_1\",$B447=1),'3 - SPECIE DA IMPIANTARE'!$T248,\"\")","v":{"$error":"#REF!"}},null,{"$error":"#REF!"},{"$f":"IF(AND($A447=\"AZIONE_1\",$E447=2),'3 - SPECIE DA IMPIANTARE'!$T448,\"\")","v":{"$error":"#REF!"}}]
[{"$f":"A348","v":""},{"$error":"#REF!"},{"$f":"IF(AND($A448=\"AZIONE_1\",$B448=1),'3 - SPECIE DA IMPIANTARE'!$T249,\"\")","v":{"$error":"#REF!"}},null,{"$error":"#REF!"},{"$f":"IF(AND($A448=\"AZIONE_1\",$E448=2),'3 - SPECIE DA IMPIANTARE'!$T449,\"\")","v":{"$error":"#REF!"}}]
[{"$f":"A349","v":""},{"$error":"#REF!"},{"$f":"IF(AND($A449=\"AZIONE_1\",$B449=1),'3 - SPECIE DA IMPIANTARE'!$T250,\"\")","v":{"$error":"#REF!"}},null,{"$error":"#REF!"},{"$f":"IF(AND($A449=\"AZIONE_1\",$E449=2),'3 - SPECIE DA IMPIANTARE'!$T450,\"\")","v":{"$error":"#REF!"}}]
[{"$f":"A350","v":""},{"$error":"#REF!"},{"$f":"IF(AND($A450=\"AZIONE_1\",$B450=1),'3 - SPECIE DA IMPIANTARE'!$T251,\"\")","v":{"$error":"#REF!"}},null,{"$error":"#REF!"},{"$f":"IF(AND($A450=\"AZIONE_1\",$E450=2),'3 - SPECIE DA IMPIANTARE'!$T451,\"\")","v":{"$error":"#REF!"}}]
[{"$f":"A351","v":""},{"$error":"#REF!"},{"$f":"IF(AND($A451=\"AZIONE_1\",$B451=1),'3 - SPECIE DA IMPIANTARE'!$T252,\"\")","v":{"$error":"#REF!"}},null,{"$error":"#REF!"},{"$f":"IF(AND($A451=\"AZIONE_1\",$E451=2),'3 - SPECIE DA IMPIANTARE'!$T452,\"\")","v":{"$error":"#REF!"}}]
[{"$f":"A352","v":""},{"$error":"#REF!"},{"$f":"IF(AND($A452=\"AZIONE_1\",$B452=1),'3 - SPECIE DA IMPIANTARE'!$T253,\"\")","v":{"$error":"#REF!"}},null,{"$error":"#REF!"},{"$f":"IF(AND($A452=\"AZIONE_1\",$E452=2),'3 - SPECIE DA IMPIANTARE'!$T453,\"\")","v":{"$error":"#REF!"}}]
[{"$f":"A353","v":""},{"$error":"#REF!"},{"$f":"IF(AND($A453=\"AZIONE_1\",$B453=1),'3 - SPECIE DA IMPIANTARE'!$T254,\"\")","v":{"$error":"#REF!"}},null,{"$error":"#REF!"},{"$f":"IF(AND($A453=\"AZIONE_1\",$E453=2),'3 - SPECIE DA IMPIANTARE'!$T454,\"\")","v":{"$error":"#REF!"}}]
[{"$f":"A354","v":""},{"$error":"#REF!"},{"$f":"IF(AND($A454=\"AZIONE_1\",$B454=1),'3 - SPECIE DA IMPIANTARE'!$T255,\"\")","v":{"$error":"#REF!"}},null,{"$error":"#REF!"},{"$f":"IF(AND($A454=\"AZIONE_1\",$E454=2),'3 - SPECIE DA IMPIANTARE'!$T455,\"\")","v":{"$error":"#REF!"}}]
[{"$f":"A355","v":""},{"$error":"#REF!"},{"$f":"IF(AND($A455=\"AZIONE_1\",$B455=1),'3 - SPECIE DA IMPIANTARE'!$T256,\"\")","v":{"$error":"#REF!"}},null,{"$error":"#REF!"},{"$f":"IF(AND($A455=\"AZIONE_1\",$E455=2),'3 - SPECIE DA IMPIANTARE'!$T456,\"\")","v":{"$error":"#REF!"}}]
[{"$f":"A356","v":""},{"$error":"#REF!"},{"$f":"IF(AND($A456=\"AZIONE_1\",$B456=1),'3 - SPECIE DA IMPIANTARE'!$T257,\"\")","v":{"$error":"#REF!"}},null,{"$error":"#REF!"},{"$f":"IF(AND($A456=\"AZIONE_1\",$E456=2),'3 - SPECIE DA IMPIANTARE'!$T457,\"\")","v":{"$error":"#REF!"}}]
[{"$f":"A357","v":""},{"$error":"#REF!"},{"$f":"IF(AND($A457=\"AZIONE_1\",$B457=1),'3 - SPECIE DA IMPIANTARE'!$T258,\"\")","v":{"$error":"#REF!"}},null,{"$error":"#REF!"},{"$f":"IF(AND($A457=\"AZIONE_1\",$E457=2),'3 - SPECIE DA IMPIANTARE'!$T458,\"\")","v":{"$error":"#REF!"}}]
[{"$f":"A358","v":""},{"$error":"#REF!"},{"$f":"IF(AND($A458=\"AZIONE_1\",$B458=1),'3 - SPECIE DA IMPIANTARE'!$T259,\"\")","v":{"$error":"#REF!"}},null,{"$error":"#REF!"},{"$f":"IF(AND($A458=\"AZIONE_1\",$E458=2),'3 - SPECIE DA IMPIANTARE'!$T459,\"\")","v":{"$error":"#REF!"}}]
[{"$f":"A359","v":""},{"$error":"#REF!"},{"$f":"IF(AND($A459=\"AZIONE_1\",$B459=1),'3 - SPECIE DA IMPIANTARE'!$T260,\"\")","v":{"$error":"#REF!"}},null,{"$error":"#REF!"},{"$f":"IF(AND($A459=\"AZIONE_1\",$E459=2),'3 - SPECIE DA IMPIANTARE'!$T460,\"\")","v":{"$error":"#REF!"}}]
[{"$f":"A360","v":""},{"$error":"#REF!"},{"$f":"IF(AND($A460=\"AZIONE_1\",$B460=1),'3 - SPECIE DA IMPIANTARE'!$T261,\"\")","v":{"$error":"#REF!"}},null,{"$error":"#REF!"},{"$f":"IF(AND($A460=\"AZIONE_1\",$E460=2),'3 - SPECIE DA IMPIANTARE'!$T461,\"\")","v":{"$error":"#REF!"}}]
[{"$f":"A361","v":""},{"$error":"#REF!"},{"$f":"IF(AND($A461=\"AZIONE_1\",$B461=1),'3 - SPECIE DA IMPIANTARE'!$T262,\"\")","v":{"$error":"#REF!"}},null,{"$error":"#REF!"},{"$f":"IF(AND($A461=\"AZIONE_1\",$E461=2),'3 - SPECIE DA IMPIANTARE'!$T462,\"\")","v":{"$error":"#REF!"}}]
[{"$f":"A362","v":""},{"$error":"#REF!"},{"$f":"IF(AND($A462=\"AZIONE_1\",$B462=1),'3 - SPECIE DA IMPIANTARE'!$T263,\"\")","v":{"$error":"#REF!"}},null,{"$error":"#REF!"},{"$f":"IF(AND($A462=\"AZIONE_1\",$E462=2),'3 - SPECIE DA IMPIANTARE'!$T463,\"\")","v":{"$error":"#REF!"}}]
[{"$f":"A363","v":""},{"$error":"#REF!"},{"$f":"IF(AND($A463=\"AZIONE_1\",$B463=1),'3 - SPECIE DA IMPIANTARE'!$T264,\"\")","v":{"$error":"#REF!"}},null,{"$error":"#REF!"},{"$f":"IF(AND($A463=\"AZIONE_1\",$E463=2),'3 - SPECIE DA IMPIANTARE'!$T464,\"\")","v":{"$error":"#REF!"}}]
[{"$f":"A364","v":""},{"$error":"#REF!"},{"$f":"IF(AND($A464=\"AZIONE_1\",$B464=1),'3 - SPECIE DA IMPIANTARE'!$T265,\"\")","v":{"$error":"#REF!"}},null,{"$error":"#REF!"},{"$f":"IF(AND($A464=\"AZIONE_1\",$E464=2),'3 - SPECIE DA IMPIANTARE'!$T465,\"\")","v":{"$error":"#REF!"}}]
[{"$f":"A365","v":""},{"$error":"#REF!"},{"$f":"IF(AND($A465=\"AZIONE_1\",$B465=1),'3 - SPECIE DA IMPIANTARE'!$T266,\"\")","v":{"$error":"#REF!"}},null,{"$error":"#REF!"},{"$f":"IF(AND($A465=\"AZIONE_1\",$E465=2),'3 - SPECIE DA IMPIANTARE'!$T466,\"\")","v":{"$error":"#REF!"}}]
[{"$f":"A366","v":""},{"$error":"#REF!"},{"$f":"IF(AND($A466=\"AZIONE_1\",$B466=1),'3 - SPECIE DA IMPIANTARE'!$T267,\"\")","v":{"$error":"#REF!"}},null,{"$error":"#REF!"},{"$f":"IF(AND($A466=\"AZIONE_1\",$E466=2),'3 - SPECIE DA IMPIANTARE'!$T467,\"\")","v":{"$error":"#REF!"}}]
[{"$f":"A367","v":""},{"$error":"#REF!"},{"$f":"IF(AND($A467=\"AZIONE_1\",$B467=1),'3 - SPECIE DA IMPIANTARE'!$T268,\"\")","v":{"$error":"#REF!"}},null,{"$error":"#REF!"},{"$f":"IF(AND($A467=\"AZIONE_1\",$E467=2),'3 - SPECIE DA IMPIANTARE'!$T468,\"\")","v":{"$error":"#REF!"}}]
[{"$f":"A368","v":""},{"$error":"#REF!"},{"$f":"IF(AND($A468=\"AZIONE_1\",$B468=1),'3 - SPECIE DA IMPIANTARE'!$T269,\"\")","v":{"$error":"#REF!"}},null,{"$error":"#REF!"},{"$f":"IF(AND($A468=\"AZIONE_1\",$E468=2),'3 - SPECIE DA IMPIANTARE'!$T469,\"\")","v":{"$error":"#REF!"}}]
[{"$f":"A369","v":""},{"$error":"#REF!"},{"$f":"IF(AND($A469=\"AZIONE_1\",$B469=1),'3 - SPECIE DA IMPIANTARE'!$T270,\"\")","v":{"$error":"#REF!"}},null,{"$error":"#REF!"},{"$f":"IF(AND($A469=\"AZIONE_1\",$E469=2),'3 - SPECIE DA IMPIANTARE'!$T470,\"\")","v":{"$error":"#REF!"}}]
[{"$f":"A370","v":""},{"$error":"#REF!"},{"$f":"IF(AND($A470=\"AZIONE_1\",$B470=1),'3 - SPECIE DA IMPIANTARE'!$T271,\"\")","v":{"$error":"#REF!"}},null,{"$error":"#REF!"},{"$f":"IF(AND($A470=\"AZIONE_1\",$E470=2),'3 - SPECIE DA IMPIANTARE'!$T471,\"\")","v":{"$error":"#REF!"}}]
[{"$f":"A371","v":""},{"$error":"#REF!"},{"$f":"IF(AND($A471=\"AZIONE_1\",$B471=1),'3 - SPECIE DA IMPIANTARE'!$T272,\"\")","v":{"$error":"#REF!"}},null,{"$error":"#REF!"},{"$f":"IF(AND($A471=\"AZIONE_1\",$E471=2),'3 - SPECIE DA IMPIANTARE'!$T472,\"\")","v":{"$error":"#REF!"}}]
[{"$f":"A372","v":""},{"$error":"#REF!"},{"$f":"IF(AND($A472=\"AZIONE_1\",$B472=1),'3 - SPECIE DA IMPIANTARE'!$T273,\"\")","v":{"$error":"#REF!"}},null,{"$error":"#REF!"},{"$f":"IF(AND($A472=\"AZIONE_1\",$E472=2),'3 - SPECIE DA IMPIANTARE'!$T473,\"\")","v":{"$error":"#REF!"}}]
[{"$f":"A373","v":""},{"$error":"#REF!"},{"$f":"IF(AND($A473=\"AZIONE_1\",$B473=1),'3 - SPECIE DA IMPIANTARE'!$T274,\"\")","v":{"$error":"#REF!"}},null,{"$error":"#REF!"},{"$f":"IF(AND($A473=\"AZIONE_1\",$E473=2),'3 - SPECIE DA IMPIANTARE'!$T474,\"\")","v":{"$error":"#REF!"}}]
[{"$f":"A374","v":""},{"$error":"#REF!"},{"$f":"IF(AND($A474=\"AZIONE_1\",$B474=1),'3 - SPECIE DA IMPIANTARE'!$T275,\"\")","v":{"$error":"#REF!"}},null,{"$error":"#REF!"},{"$f":"IF(AND($A474=\"AZIONE_1\",$E474=2),'3 - SPECIE DA IMPIANTARE'!$T475,\"\")","v":{"$error":"#REF!"}}]
[{"$f":"A375","v":""},{"$error":"#REF!"},{"$f":"IF(AND($A475=\"AZIONE_1\",$B475=1),'3 - SPECIE DA IMPIANTARE'!$T276,\"\")","v":{"$error":"#REF!"}},null,{"$error":"#REF!"},{"$f":"IF(AND($A475=\"AZIONE_1\",$E475=2),'3 - SPECIE DA IMPIANTARE'!$T476,\"\")","v":{"$error":"#REF!"}}]
[{"$f":"A376","v":""},{"$error":"#REF!"},{"$f":"IF(AND($A476=\"AZIONE_1\",$B476=1),'3 - SPECIE DA IMPIANTARE'!$T277,\"\")","v":{"$error":"#REF!"}},null,{"$error":"#REF!"},{"$f":"IF(AND($A476=\"AZIONE_1\",$E476=2),'3 - SPECIE DA IMPIANTARE'!$T477,\"\")","v":{"$error":"#REF!"}}]
[{"$f":"A377","v":""},{"$error":"#REF!"},{"$f":"IF(AND($A477=\"AZIONE_1\",$B477=1),'3 - SPECIE DA IMPIANTARE'!$T278,\"\")","v":{"$error":"#REF!"}},null,{"$error":"#REF!"},{"$f":"IF(AND($A477=\"AZIONE_1\",$E477=2),'3 - SPECIE DA IMPIANTARE'!$T478,\"\")","v":{"$error":"#REF!"}}]
[{"$f":"A378","v":""},{"$error":"#REF!"},{"$f":"IF(AND($A478=\"AZIONE_1\",$B478=1),'3 - SPECIE DA IMPIANTARE'!$T279,\"\")","v":{"$error":"#REF!"}},null,{"$error":"#REF!"},{"$f":"IF(AND($A478=\"AZIONE_1\",$E478=2),'3 - SPECIE DA IMPIANTARE'!$T479,\"\")","v":{"$error":"#REF!"}}]
[{"$f":"A379","v":""},{"$error":"#REF!"},{"$f":"IF(AND($A479=\"AZIONE_1\",$B479=1),'3 - SPECIE DA IMPIANTARE'!$T280,\"\")","v":{"$error":"#REF!"}},null,{"$error":"#REF!"},{"$f":"IF(AND($A479=\"AZIONE_1\",$E479=2),'3 - SPECIE DA IMPIANTARE'!$T480,\"\")","v":{"$error":"#REF!"}}]
[{"$f":"A380","v":""},{"$error":"#REF!"},{"$f":"IF(AND($A480=\"AZIONE_1\",$B480=1),'3 - SPECIE DA IMPIANTARE'!$T281,\"\")","v":{"$error":"#REF!"}},null,{"$error":"#REF!"},{"$f":"IF(AND($A480=\"AZIONE_1\",$E480=2),'3 - SPECIE DA IMPIANTARE'!$T481,\"\")","v":{"$error":"#REF!"}}]
[{"$f":"A381","v":""},{"$error":"#REF!"},{"$f":"IF(AND($A481=\"AZIONE_1\",$B481=1),'3 - SPECIE DA IMPIANTARE'!$T282,\"\")","v":{"$error":"#REF!"}},null,{"$error":"#REF!"},{"$f":"IF(AND($A481=\"AZIONE_1\",$E481=2),'3 - SPECIE DA IMPIANTARE'!$T482,\"\")","v":{"$error":"#REF!"}}]
[{"$f":"A382","v":""},{"$error":"#REF!"},{"$f":"IF(AND($A482=\"AZIONE_1\",$B482=1),'3 - SPECIE DA IMPIANTARE'!$T283,\"\")","v":{"$error":"#REF!"}},null,{"$error":"#REF!"},{"$f":"IF(AND($A482=\"AZIONE_1\",$E482=2),'3 - SPECIE DA IMPIANTARE'!$T483,\"\")","v":{"$error":"#REF!"}}]
[{"$f":"A383","v":""},{"$error":"#REF!"},{"$f":"IF(AND($A483=\"AZIONE_1\",$B483=1),'3 - SPECIE DA IMPIANTARE'!$T284,\"\")","v":{"$error":"#REF!"}},null,{"$error":"#REF!"},{"$f":"IF(AND($A483=\"AZIONE_1\",$E483=2),'3 - SPECIE DA IMPIANTARE'!$T484,\"\")","v":{"$error":"#REF!"}}]
[{"$f":"A384","v":""},{"$error":"#REF!"},{"$f":"IF(AND($A484=\"AZIONE_1\",$B484=1),'3 - SPECIE DA IMPIANTARE'!$T285,\"\")","v":{"$error":"#REF!"}},null,{"$error":"#REF!"},{"$f":"IF(AND($A484=\"AZIONE_1\",$E484=2),'3 - SPECIE DA IMPIANTARE'!$T485,\"\")","v":{"$error":"#REF!"}}]
[{"$f":"A385","v":""},{"$error":"#REF!"},{"$f":"IF(AND($A485=\"AZIONE_1\",$B485=1),'3 - SPECIE DA IMPIANTARE'!$T286,\"\")","v":{"$error":"#REF!"}},null,{"$error":"#REF!"},{"$f":"IF(AND($A485=\"AZIONE_1\",$E485=2),'3 - SPECIE DA IMPIANTARE'!$T486,\"\")","v":{"$error":"#REF!"}}]
[{"$f":"A386","v":""},{"$error":"#REF!"},{"$f":"IF(AND($A486=\"AZIONE_1\",$B486=1),'3 - SPECIE DA IMPIANTARE'!$T287,\"\")","v":{"$error":"#REF!"}},null,{"$error":"#REF!"},{"$f":"IF(AND($A486=\"AZIONE_1\",$E486=2),'3 - SPECIE DA IMPIANTARE'!$T487,\"\")","v":{"$error":"#REF!"}}]
[{"$f":"A387","v":""},{"$error":"#REF!"},{"$f":"IF(AND($A487=\"AZIONE_1\",$B487=1),'3 - SPECIE DA IMPIANTARE'!$T288,\"\")","v":{"$error":"#REF!"}},null,{"$error":"#REF!"},{"$f":"IF(AND($A487=\"AZIONE_1\",$E487=2),'3 - SPECIE DA IMPIANTARE'!$T488,\"\")","v":{"$error":"#REF!"}}]
[{"$f":"A388","v":""},{"$error":"#REF!"},{"$f":"IF(AND($A488=\"AZIONE_1\",$B488=1),'3 - SPECIE DA IMPIANTARE'!$T289,\"\")","v":{"$error":"#REF!"}},null,{"$f":"E388","v":{"$error":"#REF!"}},{"$f":"IF(AND($A488=\"AZIONE_1\",$E488=2),'3 - SPECIE DA IMPIANTARE'!$T489,\"\")","v":{"$error":"#REF!"}}]
[{"$f":"A389","v":""},{"$error":"#REF!"},{"$f":"IF(AND($A489=\"AZIONE_1\",$B489=1),'3 - SPECIE DA IMPIANTARE'!$T290,\"\")","v":{"$error":"#REF!"}},null,{"$error":"#REF!"},{"$f":"IF(AND($A489=\"AZIONE_1\",$E489=2),'3 - SPECIE DA IMPIANTARE'!$T490,\"\")","v":{"$error":"#REF!"}}]
[{"$f":"A390","v":""},{"$error":"#REF!"},{"$f":"IF(AND($A490=\"AZIONE_1\",$B490=1),'3 - SPECIE DA IMPIANTARE'!$T291,\"\")","v":{"$error":"#REF!"}},null,{"$error":"#REF!"},{"$f":"IF(AND($A490=\"AZIONE_1\",$E490=2),'3 - SPECIE DA IMPIANTARE'!$T491,\"\")","v":{"$error":"#REF!"}}]
[{"$f":"A391","v":""},{"$error":"#REF!"},{"$f":"IF(AND($A491=\"AZIONE_1\",$B491=1),'3 - SPECIE DA IMPIANTARE'!$T292,\"\")","v":{"$error":"#REF!"}},null,{"$error":"#REF!"},{"$f":"IF(AND($A491=\"AZIONE_1\",$E491=2),'3 - SPECIE DA IMPIANTARE'!$T492,\"\")","v":{"$error":"#REF!"}}]
[{"$f":"A392","v":""},{"$error":"#REF!"},{"$f":"IF(AND($A492=\"AZIONE_1\",$B492=1),'3 - SPECIE DA IMPIANTARE'!$T293,\"\")","v":{"$error":"#REF!"}},null,{"$error":"#REF!"},{"$f":"IF(AND($A492=\"AZIONE_1\",$E492=2),'3 - SPECIE DA IMPIANTARE'!$T493,\"\")","v":{"$error":"#REF!"}}]
[{"$f":"A393","v":""},{"$error":"#REF!"},{"$f":"IF(AND($A493=\"AZIONE_1\",$B493=1),'3 - SPECIE DA IMPIANTARE'!$T294,\"\")","v":{"$error":"#REF!"}},null,{"$error":"#REF!"},{"$f":"IF(AND($A493=\"AZIONE_1\",$E493=2),'3 - SPECIE DA IMPIANTARE'!$T494,\"\")","v":{"$error":"#REF!"}}]
[{"$f":"A394","v":""},{"$error":"#REF!"},{"$f":"IF(AND($A494=\"AZIONE_1\",$B494=1),'3 - SPECIE DA IMPIANTARE'!$T295,\"\")","v":{"$error":"#REF!"}},null,{"$error":"#REF!"},{"$f":"IF(AND($A494=\"AZIONE_1\",$E494=2),'3 - SPECIE DA IMPIANTARE'!$T495,\"\")","v":{"$error":"#REF!"}}]
[{"$f":"A395","v":""},{"$error":"#REF!"},{"$f":"IF(AND($A495=\"AZIONE_1\",$B495=1),'3 - SPECIE DA IMPIANTARE'!$T296,\"\")","v":{"$error":"#REF!"}},null,{"$error":"#REF!"},{"$f":"IF(AND($A495=\"AZIONE_1\",$E495=2),'3 - SPECIE DA IMPIANTARE'!$T496,\"\")","v":{"$error":"#REF!"}}]
[{"$f":"A396","v":""},{"$error":"#REF!"},{"$f":"IF(AND($A496=\"AZIONE_1\",$B496=1),'3 - SPECIE DA IMPIANTARE'!$T297,\"\")","v":{"$error":"#REF!"}},null,{"$error":"#REF!"},{"$f":"IF(AND($A496=\"AZIONE_1\",$E496=2),'3 - SPECIE DA IMPIANTARE'!$T497,\"\")","v":{"$error":"#REF!"}}]
[{"$f":"A397","v":""},{"$error":"#REF!"},{"$f":"IF(AND($A497=\"AZIONE_1\",$B497=1),'3 - SPECIE DA IMPIANTARE'!$T298,\"\")","v":{"$error":"#REF!"}},null,{"$error":"#REF!"},{"$f":"IF(AND($A497=\"AZIONE_1\",$E497=2),'3 - SPECIE DA IMPIANTARE'!$T498,\"\")","v":{"$error":"#REF!"}}]
[{"$f":"A398","v":""},{"$error":"#REF!"},{"$f":"IF(AND($A498=\"AZIONE_1\",$B498=1),'3 - SPECIE DA IMPIANTARE'!$T299,\"\")","v":{"$error":"#REF!"}},null,{"$error":"#REF!"},{"$f":"IF(AND($A498=\"AZIONE_1\",$E498=2),'3 - SPECIE DA IMPIANTARE'!$T499,\"\")","v":{"$error":"#REF!"}}]
[{"$f":"A399","v":""},{"$error":"#REF!"},{"$f":"IF(AND($A499=\"AZIONE_1\",$B499=1),'3 - SPECIE DA IMPIANTARE'!$T300,\"\")","v":{"$error":"#REF!"}},null,{"$error":"#REF!"},{"$f":"IF(AND($A499=\"AZIONE_1\",$E499=2),'3 - SPECIE DA IMPIANTARE'!$T500,\"\")","v":{"$error":"#REF!"}}]
[{"$f":"A400","v":""},{"$error":"#REF!"},{"$f":"IF(AND($A500=\"AZIONE_1\",$B500=1),'3 - SPECIE DA IMPIANTARE'!$T301,\"\")","v":{"$error":"#REF!"}},null,{"$error":"#REF!"},{"$f":"IF(AND($A500=\"AZIONE_1\",$E500=2),'3 - SPECIE DA IMPIANTARE'!$T501,\"\")","v":{"$error":"#REF!"}}]
[{"$f":"A401","v":""},{"$error":"#REF!"},{"$f":"IF(AND($A501=\"AZIONE_1\",$B501=1),'3 - SPECIE DA IMPIANTARE'!$T302,\"\")","v":{"$error":"#REF!"}},null,{"$error":"#REF!"},{"$f":"IF(AND($A501=\"AZIONE_1\",$E501=2),'3 - SPECIE DA IMPIANTARE'!$T502,\"\")","v":{"$error":"#REF!"}}]
[{"$f":"A402","v":""},{"$error":"#REF!"},{"$f":"IF(AND($A502=\"AZIONE_1\",$B502=1),'3 - SPECIE DA IMPIANTARE'!$W303,\"\")","v":{"$error":"#REF!"}},null,{"$error":"#REF!"},{"$f":"IF(AND($A502=\"AZIONE_1\",$E502=2),'3 - SPECIE DA IMPIANTARE'!$W503,\"\")","v":{"$error":"#REF!"}}]
[{"$f":"A403","v":""},{"$error":"#REF!"},{"$f":"IF(AND($A503=\"AZIONE_1\",$B503=1),'3 - SPECIE DA IMPIANTARE'!$W304,\"\")","v":{"$error":"#REF!"}},null,{"$error":"#REF!"},{"$f":"IF(AND($A503=\"AZIONE_1\",$E503=2),'3 - SPECIE DA IMPIANTARE'!$W504,\"\")","v":{"$error":"#REF!"}}]
[{"$f":"A404","v":""},{"$error":"#REF!"},{"$f":"IF(AND($A504=\"AZIONE_1\",$B504=1),'3 - SPECIE DA IMPIANTARE'!$T305,\"\")","v":{"$error":"#REF!"}}]
[{"$f":"IF('3 - SPECIE DA IMPIANTARE'!$G506=\"AZIONE_1\",'3 - SPECIE DA IMPIANTARE'!$G506,\"\")","v":""},{"$f":"IF('3 - SPECIE DA IMPIANTARE'!#REF!=1,'3 - SPECIE DA IMPIANTARE'!#REF!,\"\")","v":{"$error":"#REF!"}}]
[{"$f":"IF('3 - SPECIE DA IMPIANTARE'!$G507=\"AZIONE_1\",'3 - SPECIE DA IMPIANTARE'!$G507,\"\")","v":""},{"$f":"IF('3 - SPECIE DA IMPIANTARE'!#REF!=1,'3 - SPECIE DA IMPIANTARE'!#REF!,\"\")","v":{"$error":"#REF!"}}]
[{"$f":"IF('3 - SPECIE DA IMPIANTARE'!$G508=\"AZIONE_1\",'3 - SPECIE DA IMPIANTARE'!$G508,\"\")","v":""},{"$f":"IF('3 - SPECIE DA IMPIANTARE'!#REF!=1,'3 - SPECIE DA IMPIANTARE'!#REF!,\"\")","v":{"$error":"#REF!"}}]
[{"$f":"IF('3 - SPECIE DA IMPIANTARE'!$G509=\"AZIONE_1\",'3 - SPECIE DA IMPIANTARE'!$G509,\"\")","v":""},{"$f":"IF('3 - SPECIE DA IMPIANTARE'!#REF!=1,'3 - SPECIE DA IMPIANTARE'!#REF!,\"\")","v":{"$error":"#REF!"}}]
[{"$f":"IF('3 - SPECIE DA IMPIANTARE'!$G510=\"AZIONE_1\",'3 - SPECIE DA IMPIANTARE'!$G510,\"\")","v":""},{"$f":"IF('3 - SPECIE DA IMPIANTARE'!#REF!=1,'3 - SPECIE DA IMPIANTARE'!#REF!,\"\")","v":{"$error":"#REF!"}}]
[{"$f":"IF('3 - SPECIE DA IMPIANTARE'!$G511=\"AZIONE_1\",'3 - SPECIE DA IMPIANTARE'!$G511,\"\")","v":""},{"$f":"IF('3 - SPECIE DA IMPIANTARE'!#REF!=1,'3 - SPECIE DA IMPIANTARE'!#REF!,\"\")","v":{"$error":"#REF!"}}]
[{"$f":"IF('3 - SPECIE DA IMPIANTARE'!$G512=\"AZIONE_1\",'3 - SPECIE DA IMPIANTARE'!$G512,\"\")","v":""},{"$f":"IF('3 - SPECIE DA IMPIANTARE'!#REF!=1,'3 - SPECIE DA IMPIANTARE'!#REF!,\"\")","v":{"$error":"#REF!"}}]
[{"$f":"IF('3 - SPECIE DA IMPIANTARE'!$G513=\"AZIONE_1\",'3 - SPECIE DA IMPIANTARE'!$G513,\"\")","v":""},{"$f":"IF('3 - SPECIE DA IMPIANTARE'!#REF!=1,'3 - SPECIE DA IMPIANTARE'!#REF!,\"\")","v":{"$error":"#REF!"}}]
[{"$f":"IF('3 - SPECIE DA IMPIANTARE'!$G514=\"AZIONE_1\",'3 - SPECIE DA IMPIANTARE'!$G514,\"\")","v":""},{"$f":"IF('3 - SPECIE DA IMPIANTARE'!#REF!=1,'3 - SPECIE DA IMPIANTARE'!#REF!,\"\")","v":{"$error":"#REF!"}}]
[{"$f":"IF('3 - SPECIE DA IMPIANTARE'!$G515=\"AZIONE_1\",'3 - SPECIE DA IMPIANTARE'!$G515,\"\")","v":""},{"$f":"IF('3 - SPECIE DA IMPIANTARE'!#REF!=1,'3 - SPECIE DA IMPIANTARE'!#REF!,\"\")","v":{"$error":"#REF!"}}]
[{"$f":"IF('3 - SPECIE DA IMPIANTARE'!$G516=\"AZIONE_1\",'3 - SPECIE DA IMPIANTARE'!$G516,\"\")","v":""},{"$f":"IF('3 - SPECIE DA IMPIANTARE'!#REF!=1,'3 - SPECIE DA IMPIANTARE'!#REF!,\"\")","v":{"$error":"#REF!"}}]
[{"$f":"IF('3 - SPECIE DA IMPIANTARE'!$G517=\"AZIONE_1\",'3 - SPECIE DA IMPIANTARE'!$G517,\"\")","v":""},{"$f":"IF('3 - SPECIE DA IMPIANTARE'!#REF!=1,'3 - SPECIE DA IMPIANTARE'!#REF!,\"\")","v":{"$error":"#REF!"}}]
[{"$f":"IF('3 - SPECIE DA IMPIANTARE'!$G518=\"AZIONE_1\",'3 - SPECIE DA IMPIANTARE'!$G518,\"\")","v":""},{"$f":"IF('3 - SPECIE DA IMPIANTARE'!#REF!=1,'3 - SPECIE DA IMPIANTARE'!#REF!,\"\")","v":{"$error":"#REF!"}}]
[{"$f":"IF('3 - SPECIE DA IMPIANTARE'!$G519=\"AZIONE_1\",'3 - SPECIE DA IMPIANTARE'!$G519,\"\")","v":""},{"$f":"IF('3 - SPECIE DA IMPIANTARE'!#REF!=1,'3 - SPECIE DA IMPIANTARE'!#REF!,\"\")","v":{"$error":"#REF!"}}]
[{"$f":"IF('3 - SPECIE DA IMPIANTARE'!$G520=\"AZIONE_1\",'3 - SPECIE DA IMPIANTARE'!$G520,\"\")","v":""},{"$f":"IF('3 - SPECIE DA IMPIANTARE'!#REF!=1,'3 - SPECIE DA IMPIANTARE'!#REF!,\"\")","v":{"$error":"#REF!"}}]
[{"$f":"IF('3 - SPECIE DA IMPIANTARE'!$G521=\"AZIONE_1\",'3 - SPECIE DA IMPIANTARE'!$G521,\"\")","v":""},{"$f":"IF('3 - SPECIE DA IMPIANTARE'!#REF!=1,'3 - SPECIE DA IMPIANTARE'!#REF!,\"\")","v":{"$error":"#REF!"}}]
[{"$f":"IF('3 - SPECIE DA IMPIANTARE'!$G522=\"AZIONE_1\",'3 - SPECIE DA IMPIANTARE'!$G522,\"\")","v":""},{"$f":"IF('3 - SPECIE DA IMPIANTARE'!#REF!=1,'3 - SPECIE DA IMPIANTARE'!#REF!,\"\")","v":{"$error":"#REF!"}}]
[{"$f":"IF('3 - SPECIE DA IMPIANTARE'!$G523=\"AZIONE_1\",'3 - SPECIE DA IMPIANTARE'!$G523,\"\")","v":""},{"$f":"IF('3 - SPECIE DA IMPIANTARE'!#REF!=1,'3 - SPECIE DA IMPIANTARE'!#REF!,\"\")","v":{"$error":"#REF!"}}]
[{"$f":"IF('3 - SPECIE DA IMPIANTARE'!$G524=\"AZIONE_1\",'3 - SPECIE DA IMPIANTARE'!$G524,\"\")","v":""},{"$f":"IF('3 - SPECIE DA IMPIANTARE'!#REF!=1,'3 - SPECIE DA IMPIANTARE'!#REF!,\"\")","v":{"$error":"#REF!"}}]
[{"$f":"IF('3 - SPECIE DA IMPIANTARE'!$G525=\"AZIONE_1\",'3 - SPECIE DA IMPIANTARE'!$G525,\"\")","v":""},{"$f":"IF('3 - SPECIE DA IMPIANTARE'!#REF!=1,'3 - SPECIE DA IMPIANTARE'!#REF!,\"\")","v":{"$error":"#REF!"}}]
[{"$f":"IF('3 - SPECIE DA IMPIANTARE'!$G526=\"AZIONE_1\",'3 - SPECIE DA IMPIANTARE'!$G526,\"\")","v":""},{"$f":"IF('3 - SPECIE DA IMPIANTARE'!#REF!=1,'3 - SPECIE DA IMPIANTARE'!#REF!,\"\")","v":{"$error":"#REF!"}}]
[{"$f":"IF('3 - SPECIE DA IMPIANTARE'!$G527=\"AZIONE_1\",'3 - SPECIE DA IMPIANTARE'!$G527,\"\")","v":""},{"$f":"IF('3 - SPECIE DA IMPIANTARE'!#REF!=1,'3 - SPECIE DA IMPIANTARE'!#REF!,\"\")","v":{"$error":"#REF!"}}]
[{"$f":"IF('3 - SPECIE DA IMPIANTARE'!$G528=\"AZIONE_1\",'3 - SPECIE DA IMPIANTARE'!$G528,\"\")","v":""},{"$f":"IF('3 - SPECIE DA IMPIANTARE'!#REF!=1,'3 - SPECIE DA IMPIANTARE'!#REF!,\"\")","v":{"$error":"#REF!"}}]
[{"$f":"IF('3 - SPECIE DA IMPIANTARE'!$G529=\"AZIONE_1\",'3 - SPECIE DA IMPIANTARE'!$G529,\"\")","v":""},{"$f":"IF('3 - SPECIE DA IMPIANTARE'!#REF!=1,'3 - SPECIE DA IMPIANTARE'!#REF!,\"\")","v":{"$error":"#REF!"}}]
[{"$f":"IF('3 - SPECIE DA IMPIANTARE'!$G530=\"AZIONE_1\",'3 - SPECIE DA IMPIANTARE'!$G530,\"\")","v":""},{"$f":"IF('3 - SPECIE DA IMPIANTARE'!#REF!=1,'3 - SPECIE DA IMPIANTARE'!#REF!,\"\")","v":{"$error":"#REF!"}}]
[{"$f":"IF('3 - SPECIE DA IMPIANTARE'!$G531=\"AZIONE_1\",'3 - SPECIE DA IMPIANTARE'!$G531,\"\")","v":""},{"$f":"IF('3 - SPECIE DA IMPIANTARE'!#REF!=1,'3 - SPECIE DA IMPIANTARE'!#REF!,\"\")","v":{"$error":"#REF!"}}]
[{"$f":"IF('3 - SPECIE DA IMPIANTARE'!$G532=\"AZIONE_1\",'3 - SPECIE DA IMPIANTARE'!$G532,\"\")","v":""},{"$f":"IF('3 - SPECIE DA IMPIANTARE'!#REF!=1,'3 - SPECIE DA IMPIANTARE'!#REF!,\"\")","v":{"$error":"#REF!"}}]
[{"$f":"IF('3 - SPECIE DA IMPIANTARE'!$G533=\"AZIONE_1\",'3 - SPECIE DA IMPIANTARE'!$G533,\"\")","v":""},{"$f":"IF('3 - SPECIE DA IMPIANTARE'!#REF!=1,'3 - SPECIE DA IMPIANTARE'!#REF!,\"\")","v":{"$error":"#REF!"}}]
[{"$f":"IF('3 - SPECIE DA IMPIANTARE'!$G534=\"AZIONE_1\",'3 - SPECIE DA IMPIANTARE'!$G534,\"\")","v":""},{"$f":"IF('3 - SPECIE DA IMPIANTARE'!#REF!=1,'3 - SPECIE DA IMPIANTARE'!#REF!,\"\")","v":{"$error":"#REF!"}}]
[{"$f":"IF('3 - SPECIE DA IMPIANTARE'!$G535=\"AZIONE_1\",'3 - SPECIE DA IMPIANTARE'!$G535,\"\")","v":""},{"$f":"IF('3 - SPECIE DA IMPIANTARE'!#REF!=1,'3 - SPECIE DA IMPIANTARE'!#REF!,\"\")","v":{"$error":"#REF!"}}]
[{"$f":"IF('3 - SPECIE DA IMPIANTARE'!$G536=\"AZIONE_1\",'3 - SPECIE DA IMPIANTARE'!$G536,\"\")","v":""},{"$f":"IF('3 - SPECIE DA IMPIANTARE'!#REF!=1,'3 - SPECIE DA IMPIANTARE'!#REF!,\"\")","v":{"$error":"#REF!"}}]
[{"$f":"IF('3 - SPECIE DA IMPIANTARE'!$G537=\"AZIONE_1\",'3 - SPECIE DA IMPIANTARE'!$G537,\"\")","v":""},{"$f":"IF('3 - SPECIE DA IMPIANTARE'!#REF!=1,'3 - SPECIE DA IMPIANTARE'!#REF!,\"\")","v":{"$error":"#REF!"}}]
[{"$f":"IF('3 - SPECIE DA IMPIANTARE'!$G538=\"AZIONE_1\",'3 - SPECIE DA IMPIANTARE'!$G538,\"\")","v":""},{"$f":"IF('3 - SPECIE DA IMPIANTARE'!#REF!=1,'3 - SPECIE DA IMPIANTARE'!#REF!,\"\")","v":{"$error":"#REF!"}}]
[{"$f":"IF('3 - SPECIE DA IMPIANTARE'!$G539=\"AZIONE_1\",'3 - SPECIE DA IMPIANTARE'!$G539,\"\")","v":""},{"$f":"IF('3 - SPECIE DA IMPIANTARE'!#REF!=1,'3 - SPECIE DA IMPIANTARE'!#REF!,\"\")","v":{"$error":"#REF!"}}]
[{"$f":"IF('3 - SPECIE DA IMPIANTARE'!$G540=\"AZIONE_1\",'3 - SPECIE DA IMPIANTARE'!$G540,\"\")","v":""},{"$f":"IF('3 - SPECIE DA IMPIANTARE'!#REF!=1,'3 - SPECIE DA IMPIANTARE'!#REF!,\"\")","v":{"$error":"#REF!"}}]
[{"$f":"IF('3 - SPECIE DA IMPIANTARE'!$G541=\"AZIONE_1\",'3 - SPECIE DA IMPIANTARE'!$G541,\"\")","v":""},{"$f":"IF('3 - SPECIE DA IMPIANTARE'!#REF!=1,'3 - SPECIE DA IMPIANTARE'!#REF!,\"\")","v":{"$error":"#REF!"}}]
[{"$f":"IF('3 - SPECIE DA IMPIANTARE'!$G542=\"AZIONE_1\",'3 - SPECIE DA IMPIANTARE'!$G542,\"\")","v":""},{"$f":"IF('3 - SPECIE DA IMPIANTARE'!#REF!=1,'3 - SPECIE DA IMPIANTARE'!#REF!,\"\")","v":{"$error":"#REF!"}}]
[{"$f":"IF('3 - SPECIE DA IMPIANTARE'!$G543=\"AZIONE_1\",'3 - SPECIE DA IMPIANTARE'!$G543,\"\")","v":""},{"$f":"IF('3 - SPECIE DA IMPIANTARE'!#REF!=1,'3 - SPECIE DA IMPIANTARE'!#REF!,\"\")","v":{"$error":"#REF!"}}]
[{"$f":"IF('3 - SPECIE DA IMPIANTARE'!$G544=\"AZIONE_1\",'3 - SPECIE DA IMPIANTARE'!$G544,\"\")","v":""},{"$f":"IF('3 - SPECIE DA IMPIANTARE'!#REF!=1,'3 - SPECIE DA IMPIANTARE'!#REF!,\"\")","v":{"$error":"#REF!"}}]
[{"$f":"IF('3 - SPECIE DA IMPIANTARE'!$G545=\"AZIONE_1\",'3 - SPECIE DA IMPIANTARE'!$G545,\"\")","v":""},{"$f":"IF('3 - SPECIE DA IMPIANTARE'!#REF!=1,'3 - SPECIE DA IMPIANTARE'!#REF!,\"\")","v":{"$error":"#REF!"}}]
[{"$f":"IF('3 - SPECIE DA IMPIANTARE'!$G546=\"AZIONE_1\",'3 - SPECIE DA IMPIANTARE'!$G546,\"\")","v":""},{"$f":"IF('3 - SPECIE DA IMPIANTARE'!#REF!=1,'3 - SPECIE DA IMPIANTARE'!#REF!,\"\")","v":{"$error":"#REF!"}}]
[{"$f":"IF('3 - SPECIE DA IMPIANTARE'!$G547=\"AZIONE_1\",'3 - SPECIE DA IMPIANTARE'!$G547,\"\")","v":""},{"$f":"IF('3 - SPECIE DA IMPIANTARE'!#REF!=1,'3 - SPECIE DA IMPIANTARE'!#REF!,\"\")","v":{"$error":"#REF!"}}]
[{"$f":"IF('3 - SPECIE DA IMPIANTARE'!$G548=\"AZIONE_1\",'3 - SPECIE DA IMPIANTARE'!$G548,\"\")","v":""},{"$f":"IF('3 - SPECIE DA IMPIANTARE'!#REF!=1,'3 - SPECIE DA IMPIANTARE'!#REF!,\"\")","v":{"$error":"#REF!"}}]
[{"$f":"IF('3 - SPECIE DA IMPIANTARE'!$G549=\"AZIONE_1\",'3 - SPECIE DA IMPIANTARE'!$G549,\"\")","v":""},{"$f":"IF('3 - SPECIE DA IMPIANTARE'!#REF!=1,'3 - SPECIE DA IMPIANTARE'!#REF!,\"\")","v":{"$error":"#REF!"}}]
[{"$f":"IF('3 - SPECIE DA IMPIANTARE'!$G550=\"AZIONE_1\",'3 - SPECIE DA IMPIANTARE'!$G550,\"\")","v":""},{"$f":"IF('3 - SPECIE DA IMPIANTARE'!#REF!=1,'3 - SPECIE DA IMPIANTARE'!#REF!,\"\")","v":{"$error":"#REF!"}}]
[{"$f":"IF('3 - SPECIE DA IMPIANTARE'!$G551=\"AZIONE_1\",'3 - SPECIE DA IMPIANTARE'!$G551,\"\")","v":""},{"$f":"IF('3 - SPECIE DA IMPIANTARE'!#REF!=1,'3 - SPECIE DA IMPIANTARE'!#REF!,\"\")","v":{"$error":"#REF!"}}]
[{"$f":"IF('3 - SPECIE DA IMPIANTARE'!$G552=\"AZIONE_1\",'3 - SPECIE DA IMPIANTARE'!$G552,\"\")","v":""},{"$f":"IF('3 - SPECIE DA IMPIANTARE'!#REF!=1,'3 - SPECIE DA IMPIANTARE'!#REF!,\"\")","v":{"$error":"#REF!"}}]
[{"$f":"IF('3 - SPECIE DA IMPIANTARE'!$G553=\"AZIONE_1\",'3 - SPECIE DA IMPIANTARE'!$G553,\"\")","v":""},{"$f":"IF('3 - SPECIE DA IMPIANTARE'!#REF!=1,'3 - SPECIE DA IMPIANTARE'!#REF!,\"\")","v":{"$error":"#REF!"}}]
[{"$f":"IF('3 - SPECIE DA IMPIANTARE'!$G554=\"AZIONE_1\",'3 - SPECIE DA IMPIANTARE'!$G554,\"\")","v":""},{"$f":"IF('3 - SPECIE DA IMPIANTARE'!#REF!=1,'3 - SPECIE DA IMPIANTARE'!#REF!,\"\")","v":{"$error":"#REF!"}}]
[{"$f":"IF('3 - SPECIE DA IMPIANTARE'!$G555=\"AZIONE_1\",'3 - SPECIE DA IMPIANTARE'!$G555,\"\")","v":""},{"$f":"IF('3 - SPECIE DA IMPIANTARE'!#REF!=1,'3 - SPECIE DA IMPIANTARE'!#REF!,\"\")","v":{"$error":"#REF!"}}]
[{"$f":"IF('3 - SPECIE DA IMPIANTARE'!$G556=\"AZIONE_1\",'3 - SPECIE DA IMPIANTARE'!$G556,\"\")","v":""},{"$f":"IF('3 - SPECIE DA IMPIANTARE'!#REF!=1,'3 - SPECIE DA IMPIANTARE'!#REF!,\"\")","v":{"$error":"#REF!"}}]
[{"$f":"IF('3 - SPECIE DA IMPIANTARE'!$G557=\"AZIONE_1\",'3 - SPECIE DA IMPIANTARE'!$G557,\"\")","v":""},{"$f":"IF('3 - SPECIE DA IMPIANTARE'!#REF!=1,'3 - SPECIE DA IMPIANTARE'!#REF!,\"\")","v":{"$error":"#REF!"}}]
[{"$f":"IF('3 - SPECIE DA IMPIANTARE'!$G558=\"AZIONE_1\",'3 - SPECIE DA IMPIANTARE'!$G558,\"\")","v":""},{"$f":"IF('3 - SPECIE DA IMPIANTARE'!#REF!=1,'3 - SPECIE DA IMPIANTARE'!#REF!,\"\")","v":{"$error":"#REF!"}}]
[{"$f":"IF('3 - SPECIE DA IMPIANTARE'!$G559=\"AZIONE_1\",'3 - SPECIE DA IMPIANTARE'!$G559,\"\")","v":""},{"$f":"IF('3 - SPECIE DA IMPIANTARE'!#REF!=1,'3 - SPECIE DA IMPIANTARE'!#REF!,\"\")","v":{"$error":"#REF!"}}]
[{"$f":"IF('3 - SPECIE DA IMPIANTARE'!$G560=\"AZIONE_1\",'3 - SPECIE DA IMPIANTARE'!$G560,\"\")","v":""},{"$f":"IF('3 - SPECIE DA IMPIANTARE'!#REF!=1,'3 - SPECIE DA IMPIANTARE'!#REF!,\"\")","v":{"$error":"#REF!"}}]
[{"$f":"IF('3 - SPECIE DA IMPIANTARE'!$G561=\"AZIONE_1\",'3 - SPECIE DA IMPIANTARE'!$G561,\"\")","v":""},{"$f":"IF('3 - SPECIE DA IMPIANTARE'!#REF!=1,'3 - SPECIE DA IMPIANTARE'!#REF!,\"\")","v":{"$error":"#REF!"}}]
[{"$f":"IF('3 - SPECIE DA IMPIANTARE'!$G562=\"AZIONE_1\",'3 - SPECIE DA IMPIANTARE'!$G562,\"\")","v":""},{"$f":"IF('3 - SPECIE DA IMPIANTARE'!#REF!=1,'3 - SPECIE DA IMPIANTARE'!#REF!,\"\")","v":{"$error":"#REF!"}}]
[{"$f":"IF('3 - SPECIE DA IMPIANTARE'!$G563=\"AZIONE_1\",'3 - SPECIE DA IMPIANTARE'!$G563,\"\")","v":""},{"$f":"IF('3 - SPECIE DA IMPIANTARE'!#REF!=1,'3 - SPECIE DA IMPIANTARE'!#REF!,\"\")","v":{"$error":"#REF!"}}]
[{"$f":"IF('3 - SPECIE DA IMPIANTARE'!$G564=\"AZIONE_1\",'3 - SPECIE DA IMPIANTARE'!$G564,\"\")","v":""},{"$f":"IF('3 - SPECIE DA IMPIANTARE'!#REF!=1,'3 - SPECIE DA IMPIANTARE'!#REF!,\"\")","v":{"$error":"#REF!"}}]
[{"$f":"IF('3 - SPECIE DA IMPIANTARE'!$G565=\"AZIONE_1\",'3 - SPECIE DA IMPIANTARE'!$G565,\"\")","v":""},{"$f":"IF('3 - SPECIE DA IMPIANTARE'!#REF!=1,'3 - SPECIE DA IMPIANTARE'!#REF!,\"\")","v":{"$error":"#REF!"}}]
[{"$f":"IF('3 - SPECIE DA IMPIANTARE'!$G566=\"AZIONE_1\",'3 - SPECIE DA IMPIANTARE'!$G566,\"\")","v":""},{"$f":"IF('3 - SPECIE DA IMPIANTARE'!#REF!=1,'3 - SPECIE DA IMPIANTARE'!#REF!,\"\")","v":{"$error":"#REF!"}}]
[{"$f":"IF('3 - SPECIE DA IMPIANTARE'!$G567=\"AZIONE_1\",'3 - SPECIE DA IMPIANTARE'!$G567,\"\")","v":""},{"$f":"IF('3 - SPECIE DA IMPIANTARE'!#REF!=1,'3 - SPECIE DA IMPIANTARE'!#REF!,\"\")","v":{"$error":"#REF!"}}]
[{"$f":"IF('3 - SPECIE DA IMPIANTARE'!$G568=\"AZIONE_1\",'3 - SPECIE DA IMPIANTARE'!$G568,\"\")","v":""},{"$f":"IF('3 - SPECIE DA IMPIANTARE'!#REF!=1,'3 - SPECIE DA IMPIANTARE'!#REF!,\"\")","v":{"$error":"#REF!"}}]
[{"$f":"IF('3 - SPECIE DA IMPIANTARE'!$G569=\"AZIONE_1\",'3 - SPECIE DA IMPIANTARE'!$G569,\"\")","v":""},{"$f":"IF('3 - SPECIE DA IMPIANTARE'!#REF!=1,'3 - SPECIE DA IMPIANTARE'!#REF!,\"\")","v":{"$error":"#REF!"}}]
[{"$f":"IF('3 - SPECIE DA IMPIANTARE'!$G570=\"AZIONE_1\",'3 - SPECIE DA IMPIANTARE'!$G570,\"\")","v":""},{"$f":"IF('3 - SPECIE DA IMPIANTARE'!#REF!=1,'3 - SPECIE DA IMPIANTARE'!#REF!,\"\")","v":{"$error":"#REF!"}}]
[{"$f":"IF('3 - SPECIE DA IMPIANTARE'!$G571=\"AZIONE_1\",'3 - SPECIE DA IMPIANTARE'!$G571,\"\")","v":""},{"$f":"IF('3 - SPECIE DA IMPIANTARE'!#REF!=1,'3 - SPECIE DA IMPIANTARE'!#REF!,\"\")","v":{"$error":"#REF!"}}]
[{"$f":"IF('3 - SPECIE DA IMPIANTARE'!$G572=\"AZIONE_1\",'3 - SPECIE DA IMPIANTARE'!$G572,\"\")","v":""},{"$f":"IF('3 - SPECIE DA IMPIANTARE'!#REF!=1,'3 - SPECIE DA IMPIANTARE'!#REF!,\"\")","v":{"$error":"#REF!"}}]
[{"$f":"IF('3 - SPECIE DA IMPIANTARE'!$G573=\"AZIONE_1\",'3 - SPECIE DA IMPIANTARE'!$G573,\"\")","v":""},{"$f":"IF('3 - SPECIE DA IMPIANTARE'!#REF!=1,'3 - SPECIE DA IMPIANTARE'!#REF!,\"\")","v":{"$error":"#REF!"}}]
[{"$f":"IF('3 - SPECIE DA IMPIANTARE'!$G574=\"AZIONE_1\",'3 - SPECIE DA IMPIANTARE'!$G574,\"\")","v":""},{"$f":"IF('3 - SPECIE DA IMPIANTARE'!#REF!=1,'3 - SPECIE DA IMPIANTARE'!#REF!,\"\")","v":{"$error":"#REF!"}}]
[{"$f":"IF('3 - SPECIE DA IMPIANTARE'!$G575=\"AZIONE_1\",'3 - SPECIE DA IMPIANTARE'!$G575,\"\")","v":""},{"$f":"IF('3 - SPECIE DA IMPIANTARE'!#REF!=1,'3 - SPECIE DA IMPIANTARE'!#REF!,\"\")","v":{"$error":"#REF!"}}]
[{"$f":"IF('3 - SPECIE DA IMPIANTARE'!$G576=\"AZIONE_1\",'3 - SPECIE DA IMPIANTARE'!$G576,\"\")","v":""},{"$f":"IF('3 - SPECIE DA IMPIANTARE'!#REF!=1,'3 - SPECIE DA IMPIANTARE'!#REF!,\"\")","v":{"$error":"#REF!"}}]
[{"$f":"IF('3 - SPECIE DA IMPIANTARE'!$G577=\"AZIONE_1\",'3 - SPECIE DA IMPIANTARE'!$G577,\"\")","v":""},{"$f":"IF('3 - SPECIE DA IMPIANTARE'!#REF!=1,'3 - SPECIE DA IMPIANTARE'!#REF!,\"\")","v":{"$error":"#REF!"}}]
[{"$f":"IF('3 - SPECIE DA IMPIANTARE'!$G578=\"AZIONE_1\",'3 - SPECIE DA IMPIANTARE'!$G578,\"\")","v":""},{"$f":"IF('3 - SPECIE DA IMPIANTARE'!#REF!=1,'3 - SPECIE DA IMPIANTARE'!#REF!,\"\")","v":{"$error":"#REF!"}}]
[{"$f":"IF('3 - SPECIE DA IMPIANTARE'!$G579=\"AZIONE_1\",'3 - SPECIE DA IMPIANTARE'!$G579,\"\")","v":""},{"$f":"IF('3 - SPECIE DA IMPIANTARE'!#REF!=1,'3 - SPECIE DA IMPIANTARE'!#REF!,\"\")","v":{"$error":"#REF!"}}]
[{"$f":"IF('3 - SPECIE DA IMPIANTARE'!$G580=\"AZIONE_1\",'3 - SPECIE DA IMPIANTARE'!$G580,\"\")","v":""},{"$f":"IF('3 - SPECIE DA IMPIANTARE'!#REF!=1,'3 - SPECIE DA IMPIANTARE'!#REF!,\"\")","v":{"$error":"#REF!"}}]
[{"$f":"IF('3 - SPECIE DA IMPIANTARE'!$G581=\"AZIONE_1\",'3 - SPECIE DA IMPIANTARE'!$G581,\"\")","v":""},{"$f":"IF('3 - SPECIE DA IMPIANTARE'!#REF!=1,'3 - SPECIE DA IMPIANTARE'!#REF!,\"\")","v":{"$error":"#REF!"}}]
[{"$f":"IF('3 - SPECIE DA IMPIANTARE'!$G582=\"AZIONE_1\",'3 - SPECIE DA IMPIANTARE'!$G582,\"\")","v":""},{"$f":"IF('3 - SPECIE DA IMPIANTARE'!#REF!=1,'3 - SPECIE DA IMPIANTARE'!#REF!,\"\")","v":{"$error":"#REF!"}}]
[{"$f":"IF('3 - SPECIE DA IMPIANTARE'!$G583=\"AZIONE_1\",'3 - SPECIE DA IMPIANTARE'!$G583,\"\")","v":""},{"$f":"IF('3 - SPECIE DA IMPIANTARE'!#REF!=1,'3 - SPECIE DA IMPIANTARE'!#REF!,\"\")","v":{"$error":"#REF!"}}]
[{"$f":"IF('3 - SPECIE DA IMPIANTARE'!$G584=\"AZIONE_1\",'3 - SPECIE DA IMPIANTARE'!$G584,\"\")","v":""},{"$f":"IF('3 - SPECIE DA IMPIANTARE'!#REF!=1,'3 - SPECIE DA IMPIANTARE'!#REF!,\"\")","v":{"$error":"#REF!"}}]
[{"$f":"IF('3 - SPECIE DA IMPIANTARE'!$G585=\"AZIONE_1\",'3 - SPECIE DA IMPIANTARE'!$G585,\"\")","v":""},{"$f":"IF('3 - SPECIE DA IMPIANTARE'!#REF!=1,'3 - SPECIE DA IMPIANTARE'!#REF!,\"\")","v":{"$error":"#REF!"}}]
[{"$f":"IF('3 - SPECIE DA IMPIANTARE'!$G586=\"AZIONE_1\",'3 - SPECIE DA IMPIANTARE'!$G586,\"\")","v":""},{"$f":"IF('3 - SPECIE DA IMPIANTARE'!#REF!=1,'3 - SPECIE DA IMPIANTARE'!#REF!,\"\")","v":{"$error":"#REF!"}}]
[{"$f":"IF('3 - SPECIE DA IMPIANTARE'!$G587=\"AZIONE_1\",'3 - SPECIE DA IMPIANTARE'!$G587,\"\")","v":""},{"$f":"IF('3 - SPECIE DA IMPIANTARE'!#REF!=1,'3 - SPECIE DA IMPIANTARE'!#REF!,\"\")","v":{"$error":"#REF!"}}]
[{"$f":"IF('3 - SPECIE DA IMPIANTARE'!$G588=\"AZIONE_1\",'3 - SPECIE DA IMPIANTARE'!$G588,\"\")","v":""},{"$f":"IF('3 - SPECIE DA IMPIANTARE'!#REF!=1,'3 - SPECIE DA IMPIANTARE'!#REF!,\"\")","v":{"$error":"#REF!"}}]
[{"$f":"IF('3 - SPECIE DA IMPIANTARE'!$G589=\"AZIONE_1\",'3 - SPECIE DA IMPIANTARE'!$G589,\"\")","v":""},{"$f":"IF('3 - SPECIE DA IMPIANTARE'!#REF!=1,'3 - SPECIE DA IMPIANTARE'!#REF!,\"\")","v":{"$error":"#REF!"}}]
[{"$f":"IF('3 - SPECIE DA IMPIANTARE'!$G590=\"AZIONE_1\",'3 - SPECIE DA IMPIANTARE'!$G590,\"\")","v":""},{"$f":"IF('3 - SPECIE DA IMPIANTARE'!#REF!=1,'3 - SPECIE DA IMPIANTARE'!#REF!,\"\")","v":{"$error":"#REF!"}}]
[{"$f":"IF('3 - SPECIE DA IMPIANTARE'!$G591=\"AZIONE_1\",'3 - SPECIE DA IMPIANTARE'!$G591,\"\")","v":""},{"$f":"IF('3 - SPECIE DA IMPIANTARE'!#REF!=1,'3 - SPECIE DA IMPIANTARE'!#REF!,\"\")","v":{"$error":"#REF!"}}]
[{"$f":"IF('3 - SPECIE DA IMPIANTARE'!$G592=\"AZIONE_1\",'3 - SPECIE DA IMPIANTARE'!$G592,\"\")","v":""},{"$f":"IF('3 - SPECIE DA IMPIANTARE'!#REF!=1,'3 - SPECIE DA IMPIANTARE'!#REF!,\"\")","v":{"$error":"#REF!"}}]
[{"$f":"IF('3 - SPECIE DA IMPIANTARE'!$G593=\"AZIONE_1\",'3 - SPECIE DA IMPIANTARE'!$G593,\"\")","v":""},{"$f":"IF('3 - SPECIE DA IMPIANTARE'!#REF!=1,'3 - SPECIE DA IMPIANTARE'!#REF!,\"\")","v":{"$error":"#REF!"}}]
[{"$f":"IF('3 - SPECIE DA IMPIANTARE'!$G594=\"AZIONE_1\",'3 - SPECIE DA IMPIANTARE'!$G594,\"\")","v":""},{"$f":"IF('3 - SPECIE DA IMPIANTARE'!#REF!=1,'3 - SPECIE DA IMPIANTARE'!#REF!,\"\")","v":{"$error":"#REF!"}}]
[{"$f":"IF('3 - SPECIE DA IMPIANTARE'!$G595=\"AZIONE_1\",'3 - SPECIE DA IMPIANTARE'!$G595,\"\")","v":""},{"$f":"IF('3 - SPECIE DA IMPIANTARE'!#REF!=1,'3 - SPECIE DA IMPIANTARE'!#REF!,\"\")","v":{"$error":"#REF!"}}]
[{"$f":"IF('3 - SPECIE DA IMPIANTARE'!$G596=\"AZIONE_1\",'3 - SPECIE DA IMPIANTARE'!$G596,\"\")","v":""},{"$f":"IF('3 - SPECIE DA IMPIANTARE'!#REF!=1,'3 - SPECIE DA IMPIANTARE'!#REF!,\"\")","v":{"$error":"#REF!"}}]
[{"$f":"IF('3 - SPECIE DA IMPIANTARE'!$G597=\"AZIONE_1\",'3 - SPECIE DA IMPIANTARE'!$G597,\"\")","v":""},{"$f":"IF('3 - SPECIE DA IMPIANTARE'!#REF!=1,'3 - SPECIE DA IMPIANTARE'!#REF!,\"\")","v":{"$error":"#REF!"}}]
[{"$f":"IF('3 - SPECIE DA IMPIANTARE'!$G598=\"AZIONE_1\",'3 - SPECIE DA IMPIANTARE'!$G598,\"\")","v":""},{"$f":"IF('3 - SPECIE DA IMPIANTARE'!#REF!=1,'3 - SPECIE DA IMPIANTARE'!#REF!,\"\")","v":{"$error":"#REF!"}}]
[{"$f":"IF('3 - SPECIE DA IMPIANTARE'!$G599=\"AZIONE_1\",'3 - SPECIE DA IMPIANTARE'!$G599,\"\")","v":""},{"$f":"IF('3 - SPECIE DA IMPIANTARE'!#REF!=1,'3 - SPECIE DA IMPIANTARE'!#REF!,\"\")","v":{"$error":"#REF!"}}]
[{"$f":"IF('3 - SPECIE DA IMPIANTARE'!$G600=\"AZIONE_1\",'3 - SPECIE DA IMPIANTARE'!$G600,\"\")","v":""},{"$f":"IF('3 - SPECIE DA IMPIANTARE'!#REF!=1,'3 - SPECIE DA IMPIANTARE'!#REF!,\"\")","v":{"$error":"#REF!"}}]
[{"$f":"IF('3 - SPECIE DA IMPIANTARE'!$G601=\"AZIONE_1\",'3 - SPECIE DA IMPIANTARE'!$G601,\"\")","v":""},{"$f":"IF('3 - SPECIE DA IMPIANTARE'!#REF!=1,'3 - SPECIE DA IMPIANTARE'!#REF!,\"\")","v":{"$error":"#REF!"}}]
[{"$f":"IF('3 - SPECIE DA IMPIANTARE'!$G602=\"AZIONE_1\",'3 - SPECIE DA IMPIANTARE'!$G602,\"\")","v":""},{"$f":"IF('3 - SPECIE DA IMPIANTARE'!#REF!=1,'3 - SPECIE DA IMPIANTARE'!#REF!,\"\")","v":{"$error":"#REF!"}}]
[{"$f":"IF('3 - SPECIE DA IMPIANTARE'!$G603=\"AZIONE_1\",'3 - SPECIE DA IMPIANTARE'!$G603,\"\")","v":""},{"$f":"IF('3 - SPECIE DA IMPIANTARE'!#REF!=1,'3 - SPECIE DA IMPIANTARE'!#REF!,\"\")","v":{"$error":"#REF!"}}]
[{"$f":"IF('3 - SPECIE DA IMPIANTARE'!$G604=\"AZIONE_1\",'3 - SPECIE DA IMPIANTARE'!$G604,\"\")","v":""},{"$f":"IF('3 - SPECIE DA IMPIANTARE'!#REF!=1,'3 - SPECIE DA IMPIANTARE'!#REF!,\"\")","v":{"$error":"#REF!"}}]
[{"$f":"IF('3 - SPECIE DA IMPIANTARE'!$G605=\"AZIONE_1\",'3 - SPECIE DA IMPIANTARE'!$G605,\"\")","v":""},{"$f":"IF('3 - SPECIE DA IMPIANTARE'!#REF!=1,'3 - SPECIE DA IMPIANTARE'!#REF!,\"\")","v":{"$error":"#REF!"}}]
[{"$f":"IF('3 - SPECIE DA IMPIANTARE'!$G606=\"AZIONE_1\",'3 - SPECIE DA IMPIANTARE'!$G606,\"\")","v":""},{"$f":"IF('3 - SPECIE DA IMPIANTARE'!#REF!=1,'3 - SPECIE DA IMPIANTARE'!#REF!,\"\")","v":{"$error":"#REF!"}}]
[{"$f":"IF('3 - SPECIE DA IMPIANTARE'!$G607=\"AZIONE_1\",'3 - SPECIE DA IMPIANTARE'!$G607,\"\")","v":""},{"$f":"IF('3 - SPECIE DA IMPIANTARE'!#REF!=1,'3 - SPECIE DA IMPIANTARE'!#REF!,\"\")","v":{"$error":"#REF!"}}]
[{"$f":"IF('3 - SPECIE DA IMPIANTARE'!$G608=\"AZIONE_1\",'3 - SPECIE DA IMPIANTARE'!$G608,\"\")","v":""},{"$f":"IF('3 - SPECIE DA IMPIANTARE'!#REF!=1,'3 - SPECIE DA IMPIANTARE'!#REF!,\"\")","v":{"$error":"#REF!"}}]
[{"$f":"IF('3 - SPECIE DA IMPIANTARE'!$G609=\"AZIONE_1\",'3 - SPECIE DA IMPIANTARE'!$G609,\"\")","v":""},{"$f":"IF('3 - SPECIE DA IMPIANTARE'!#REF!=1,'3 - SPECIE DA IMPIANTARE'!#REF!,\"\")","v":{"$error":"#REF!"}}]
[{"$f":"IF('3 - SPECIE DA IMPIANTARE'!$G610=\"AZIONE_1\",'3 - SPECIE DA IMPIANTARE'!$G610,\"\")","v":""},{"$f":"IF('3 - SPECIE DA IMPIANTARE'!#REF!=1,'3 - SPECIE DA IMPIANTARE'!#REF!,\"\")","v":{"$error":"#REF!"}}]
[{"$f":"IF('3 - SPECIE DA IMPIANTARE'!$G611=\"AZIONE_1\",'3 - SPECIE DA IMPIANTARE'!$G611,\"\")","v":""},{"$f":"IF('3 - SPECIE DA IMPIANTARE'!#REF!=1,'3 - SPECIE DA IMPIANTARE'!#REF!,\"\")","v":{"$error":"#REF!"}}]
[{"$f":"IF('3 - SPECIE DA IMPIANTARE'!$G612=\"AZIONE_1\",'3 - SPECIE DA IMPIANTARE'!$G612,\"\")","v":""},{"$f":"IF('3 - SPECIE DA IMPIANTARE'!#REF!=1,'3 - SPECIE DA IMPIANTARE'!#REF!,\"\")","v":{"$error":"#REF!"}}]
[{"$f":"IF('3 - SPECIE DA IMPIANTARE'!$G613=\"AZIONE_1\",'3 - SPECIE DA IMPIANTARE'!$G613,\"\")","v":""},{"$f":"IF('3 - SPECIE DA IMPIANTARE'!#REF!=1,'3 - SPECIE DA IMPIANTARE'!#REF!,\"\")","v":{"$error":"#REF!"}}]
[{"$f":"IF('3 - SPECIE DA IMPIANTARE'!$G614=\"AZIONE_1\",'3 - SPECIE DA IMPIANTARE'!$G614,\"\")","v":""},{"$f":"IF('3 - SPECIE DA IMPIANTARE'!#REF!=1,'3 - SPECIE DA IMPIANTARE'!#REF!,\"\")","v":{"$error":"#REF!"}}]
[{"$f":"IF('3 - SPECIE DA IMPIANTARE'!$G615=\"AZIONE_1\",'3 - SPECIE DA IMPIANTARE'!$G615,\"\")","v":""},{"$f":"IF('3 - SPECIE DA IMPIANTARE'!#REF!=1,'3 - SPECIE DA IMPIANTARE'!#REF!,\"\")","v":{"$error":"#REF!"}}]
[{"$f":"IF('3 - SPECIE DA IMPIANTARE'!$G616=\"AZIONE_1\",'3 - SPECIE DA IMPIANTARE'!$G616,\"\")","v":""},{"$f":"IF('3 - SPECIE DA IMPIANTARE'!#REF!=1,'3 - SPECIE DA IMPIANTARE'!#REF!,\"\")","v":{"$error":"#REF!"}}]
[{"$f":"IF('3 - SPECIE DA IMPIANTARE'!$G617=\"AZIONE_1\",'3 - SPECIE DA IMPIANTARE'!$G617,\"\")","v":""},{"$f":"IF('3 - SPECIE DA IMPIANTARE'!#REF!=1,'3 - SPECIE DA IMPIANTARE'!#REF!,\"\")","v":{"$error":"#REF!"}}]
[{"$f":"IF('3 - SPECIE DA IMPIANTARE'!$G618=\"AZIONE_1\",'3 - SPECIE DA IMPIANTARE'!$G618,\"\")","v":""},{"$f":"IF('3 - SPECIE DA IMPIANTARE'!#REF!=1,'3 - SPECIE DA IMPIANTARE'!#REF!,\"\")","v":{"$error":"#REF!"}}]
[{"$f":"IF('3 - SPECIE DA IMPIANTARE'!$G619=\"AZIONE_1\",'3 - SPECIE DA IMPIANTARE'!$G619,\"\")","v":""},{"$f":"IF('3 - SPECIE DA IMPIANTARE'!#REF!=1,'3 - SPECIE DA IMPIANTARE'!#REF!,\"\")","v":{"$error":"#REF!"}}]
[{"$f":"IF('3 - SPECIE DA IMPIANTARE'!$G620=\"AZIONE_1\",'3 - SPECIE DA IMPIANTARE'!$G620,\"\")","v":""},{"$f":"IF('3 - SPECIE DA IMPIANTARE'!#REF!=1,'3 - SPECIE DA IMPIANTARE'!#REF!,\"\")","v":{"$error":"#REF!"}}]
[{"$f":"IF('3 - SPECIE DA IMPIANTARE'!$G621=\"AZIONE_1\",'3 - SPECIE DA IMPIANTARE'!$G621,\"\")","v":""},{"$f":"IF('3 - SPECIE DA IMPIANTARE'!#REF!=1,'3 - SPECIE DA IMPIANTARE'!#REF!,\"\")","v":{"$error":"#REF!"}}]
[{"$f":"IF('3 - SPECIE DA IMPIANTARE'!$G622=\"AZIONE_1\",'3 - SPECIE DA IMPIANTARE'!$G622,\"\")","v":""},{"$f":"IF('3 - SPECIE DA IMPIANTARE'!#REF!=1,'3 - SPECIE DA IMPIANTARE'!#REF!,\"\")","v":{"$error":"#REF!"}}]
[{"$f":"IF('3 - SPECIE DA IMPIANTARE'!$G623=\"AZIONE_1\",'3 - SPECIE DA IMPIANTARE'!$G623,\"\")","v":""},{"$f":"IF('3 - SPECIE DA IMPIANTARE'!#REF!=1,'3 - SPECIE DA IMPIANTARE'!#REF!,\"\")","v":{"$error":"#REF!"}}]
[{"$f":"IF('3 - SPECIE DA IMPIANTARE'!$G624=\"AZIONE_1\",'3 - SPECIE DA IMPIANTARE'!$G624,\"\")","v":""},{"$f":"IF('3 - SPECIE DA IMPIANTARE'!#REF!=1,'3 - SPECIE DA IMPIANTARE'!#REF!,\"\")","v":{"$error":"#REF!"}}]
[{"$f":"IF('3 - SPECIE DA IMPIANTARE'!$G625=\"AZIONE_1\",'3 - SPECIE DA IMPIANTARE'!$G625,\"\")","v":""},{"$f":"IF('3 - SPECIE DA IMPIANTARE'!#REF!=1,'3 - SPECIE DA IMPIANTARE'!#REF!,\"\")","v":{"$error":"#REF!"}}]
[{"$f":"IF('3 - SPECIE DA IMPIANTARE'!$G626=\"AZIONE_1\",'3 - SPECIE DA IMPIANTARE'!$G626,\"\")","v":""},{"$f":"IF('3 - SPECIE DA IMPIANTARE'!#REF!=1,'3 - SPECIE DA IMPIANTARE'!#REF!,\"\")","v":{"$error":"#REF!"}}]
[{"$f":"IF('3 - SPECIE DA IMPIANTARE'!$G627=\"AZIONE_1\",'3 - SPECIE DA IMPIANTARE'!$G627,\"\")","v":""},{"$f":"IF('3 - SPECIE DA IMPIANTARE'!#REF!=1,'3 - SPECIE DA IMPIANTARE'!#REF!,\"\")","v":{"$error":"#REF!"}}]
[{"$f":"IF('3 - SPECIE DA IMPIANTARE'!$G628=\"AZIONE_1\",'3 - SPECIE DA IMPIANTARE'!$G628,\"\")","v":""},{"$f":"IF('3 - SPECIE DA IMPIANTARE'!#REF!=1,'3 - SPECIE DA IMPIANTARE'!#REF!,\"\")","v":{"$error":"#REF!"}}]
[{"$f":"IF('3 - SPECIE DA IMPIANTARE'!$G629=\"AZIONE_1\",'3 - SPECIE DA IMPIANTARE'!$G629,\"\")","v":""},{"$f":"IF('3 - SPECIE DA IMPIANTARE'!#REF!=1,'3 - SPECIE DA IMPIANTARE'!#REF!,\"\")","v":{"$error":"#REF!"}}]
[{"$f":"IF('3 - SPECIE DA IMPIANTARE'!$G630=\"AZIONE_1\",'3 - SPECIE DA IMPIANTARE'!$G630,\"\")","v":""},{"$f":"IF('3 - SPECIE DA IMPIANTARE'!#REF!=1,'3 - SPECIE DA IMPIANTARE'!#REF!,\"\")","v":{"$error":"#REF!"}}]
[{"$f":"IF('3 - SPECIE DA IMPIANTARE'!$G631=\"AZIONE_1\",'3 - SPECIE DA IMPIANTARE'!$G631,\"\")","v":""},{"$f":"IF('3 - SPECIE DA IMPIANTARE'!#REF!=1,'3 - SPECIE DA IMPIANTARE'!#REF!,\"\")","v":{"$error":"#REF!"}}]
[{"$f":"IF('3 - SPECIE DA IMPIANTARE'!$G632=\"AZIONE_1\",'3 - SPECIE DA IMPIANTARE'!$G632,\"\")","v":""},{"$f":"IF('3 - SPECIE DA IMPIANTARE'!#REF!=1,'3 - SPECIE DA IMPIANTARE'!#REF!,\"\")","v":{"$error":"#REF!"}}]
[{"$f":"IF('3 - SPECIE DA IMPIANTARE'!$G633=\"AZIONE_1\",'3 - SPECIE DA IMPIANTARE'!$G633,\"\")","v":""},{"$f":"IF('3 - SPECIE DA IMPIANTARE'!#REF!=1,'3 - SPECIE DA IMPIANTARE'!#REF!,\"\")","v":{"$error":"#REF!"}}]
[{"$f":"IF('3 - SPECIE DA IMPIANTARE'!$G634=\"AZIONE_1\",'3 - SPECIE DA IMPIANTARE'!$G634,\"\")","v":""},{"$f":"IF('3 - SPECIE DA IMPIANTARE'!#REF!=1,'3 - SPECIE DA IMPIANTARE'!#REF!,\"\")","v":{"$error":"#REF!"}}]
[{"$f":"IF('3 - SPECIE DA IMPIANTARE'!$G635=\"AZIONE_1\",'3 - SPECIE DA IMPIANTARE'!$G635,\"\")","v":""},{"$f":"IF('3 - SPECIE DA IMPIANTARE'!#REF!=1,'3 - SPECIE DA IMPIANTARE'!#REF!,\"\")","v":{"$error":"#REF!"}}]
[{"$f":"IF('3 - SPECIE DA IMPIANTARE'!$G636=\"AZIONE_1\",'3 - SPECIE DA IMPIANTARE'!$G636,\"\")","v":""},{"$f":"IF('3 - SPECIE DA IMPIANTARE'!#REF!=1,'3 - SPECIE DA IMPIANTARE'!#REF!,\"\")","v":{"$error":"#REF!"}}]
[{"$f":"IF('3 - SPECIE DA IMPIANTARE'!$G637=\"AZIONE_1\",'3 - SPECIE DA IMPIANTARE'!$G637,\"\")","v":""},{"$f":"IF('3 - SPECIE DA IMPIANTARE'!#REF!=1,'3 - SPECIE DA IMPIANTARE'!#REF!,\"\")","v":{"$error":"#REF!"}}]
[{"$f":"IF('3 - SPECIE DA IMPIANTARE'!$G638=\"AZIONE_1\",'3 - SPECIE DA IMPIANTARE'!$G638,\"\")","v":""},{"$f":"IF('3 - SPECIE DA IMPIANTARE'!#REF!=1,'3 - SPECIE DA IMPIANTARE'!#REF!,\"\")","v":{"$error":"#REF!"}}]
[{"$f":"IF('3 - SPECIE DA IMPIANTARE'!$G639=\"AZIONE_1\",'3 - SPECIE DA IMPIANTARE'!$G639,\"\")","v":""},{"$f":"IF('3 - SPECIE DA IMPIANTARE'!#REF!=1,'3 - SPECIE DA IMPIANTARE'!#REF!,\"\")","v":{"$error":"#REF!"}}]
[{"$f":"IF('3 - SPECIE DA IMPIANTARE'!$G640=\"AZIONE_1\",'3 - SPECIE DA IMPIANTARE'!$G640,\"\")","v":""},{"$f":"IF('3 - SPECIE DA IMPIANTARE'!#REF!=1,'3 - SPECIE DA IMPIANTARE'!#REF!,\"\")","v":{"$error":"#REF!"}}]
[{"$f":"IF('3 - SPECIE DA IMPIANTARE'!$G641=\"AZIONE_1\",'3 - SPECIE DA IMPIANTARE'!$G641,\"\")","v":""},{"$f":"IF('3 - SPECIE DA IMPIANTARE'!#REF!=1,'3 - SPECIE DA IMPIANTARE'!#REF!,\"\")","v":{"$error":"#REF!"}}]
[{"$f":"IF('3 - SPECIE DA IMPIANTARE'!$G642=\"AZIONE_1\",'3 - SPECIE DA IMPIANTARE'!$G642,\"\")","v":""},{"$f":"IF('3 - SPECIE DA IMPIANTARE'!#REF!=1,'3 - SPECIE DA IMPIANTARE'!#REF!,\"\")","v":{"$error":"#REF!"}}]
[{"$f":"IF('3 - SPECIE DA IMPIANTARE'!$G643=\"AZIONE_1\",'3 - SPECIE DA IMPIANTARE'!$G643,\"\")","v":""},{"$f":"IF('3 - SPECIE DA IMPIANTARE'!#REF!=1,'3 - SPECIE DA IMPIANTARE'!#REF!,\"\")","v":{"$error":"#REF!"}}]
[{"$f":"IF('3 - SPECIE DA IMPIANTARE'!$G644=\"AZIONE_1\",'3 - SPECIE DA IMPIANTARE'!$G644,\"\")","v":""},{"$f":"IF('3 - SPECIE DA IMPIANTARE'!#REF!=1,'3 - SPECIE DA IMPIANTARE'!#REF!,\"\")","v":{"$error":"#REF!"}}]
[{"$f":"IF('3 - SPECIE DA IMPIANTARE'!$G645=\"AZIONE_1\",'3 - SPECIE DA IMPIANTARE'!$G645,\"\")","v":""},{"$f":"IF('3 - SPECIE DA IMPIANTARE'!#REF!=1,'3 - SPECIE DA IMPIANTARE'!#REF!,\"\")","v":{"$error":"#REF!"}}]
[{"$f":"IF('3 - SPECIE DA IMPIANTARE'!$G646=\"AZIONE_1\",'3 - SPECIE DA IMPIANTARE'!$G646,\"\")","v":""},{"$f":"IF('3 - SPECIE DA IMPIANTARE'!#REF!=1,'3 - SPECIE DA IMPIANTARE'!#REF!,\"\")","v":{"$error":"#REF!"}}]
[{"$f":"IF('3 - SPECIE DA IMPIANTARE'!$G647=\"AZIONE_1\",'3 - SPECIE DA IMPIANTARE'!$G647,\"\")","v":""},{"$f":"IF('3 - SPECIE DA IMPIANTARE'!#REF!=1,'3 - SPECIE DA IMPIANTARE'!#REF!,\"\")","v":{"$error":"#REF!"}}]
[{"$f":"IF('3 - SPECIE DA IMPIANTARE'!$G648=\"AZIONE_1\",'3 - SPECIE DA IMPIANTARE'!$G648,\"\")","v":""},{"$f":"IF('3 - SPECIE DA IMPIANTARE'!#REF!=1,'3 - SPECIE DA IMPIANTARE'!#REF!,\"\")","v":{"$error":"#REF!"}}]
[{"$f":"IF('3 - SPECIE DA IMPIANTARE'!$G649=\"AZIONE_1\",'3 - SPECIE DA IMPIANTARE'!$G649,\"\")","v":""},{"$f":"IF('3 - SPECIE DA IMPIANTARE'!#REF!=1,'3 - SPECIE DA IMPIANTARE'!#REF!,\"\")","v":{"$error":"#REF!"}}]
[{"$f":"IF('3 - SPECIE DA IMPIANTARE'!$G650=\"AZIONE_1\",'3 - SPECIE DA IMPIANTARE'!$G650,\"\")","v":""},{"$f":"IF('3 - SPECIE DA IMPIANTARE'!#REF!=1,'3 - SPECIE DA IMPIANTARE'!#REF!,\"\")","v":{"$error":"#REF!"}}]
[{"$f":"IF('3 - SPECIE DA IMPIANTARE'!$G651=\"AZIONE_1\",'3 - SPECIE DA IMPIANTARE'!$G651,\"\")","v":""},{"$f":"IF('3 - SPECIE DA IMPIANTARE'!#REF!=1,'3 - SPECIE DA IMPIANTARE'!#REF!,\"\")","v":{"$error":"#REF!"}}]
[{"$f":"IF('3 - SPECIE DA IMPIANTARE'!$G652=\"AZIONE_1\",'3 - SPECIE DA IMPIANTARE'!$G652,\"\")","v":""},{"$f":"IF('3 - SPECIE DA IMPIANTARE'!#REF!=1,'3 - SPECIE DA IMPIANTARE'!#REF!,\"\")","v":{"$error":"#REF!"}}]
[{"$f":"IF('3 - SPECIE DA IMPIANTARE'!$G653=\"AZIONE_1\",'3 - SPECIE DA IMPIANTARE'!$G653,\"\")","v":""},{"$f":"IF('3 - SPECIE DA IMPIANTARE'!#REF!=1,'3 - SPECIE DA IMPIANTARE'!#REF!,\"\")","v":{"$error":"#REF!"}}]
[{"$f":"IF('3 - SPECIE DA IMPIANTARE'!$G654=\"AZIONE_1\",'3 - SPECIE DA IMPIANTARE'!$G654,\"\")","v":""},{"$f":"IF('3 - SPECIE DA IMPIANTARE'!#REF!=1,'3 - SPECIE DA IMPIANTARE'!#REF!,\"\")","v":{"$error":"#REF!"}}]
[{"$f":"IF('3 - SPECIE DA IMPIANTARE'!$G655=\"AZIONE_1\",'3 - SPECIE DA IMPIANTARE'!$G655,\"\")","v":""},{"$f":"IF('3 - SPECIE DA IMPIANTARE'!#REF!=1,'3 - SPECIE DA IMPIANTARE'!#REF!,\"\")","v":{"$error":"#REF!"}}]
[{"$f":"IF('3 - SPECIE DA IMPIANTARE'!$G656=\"AZIONE_1\",'3 - SPECIE DA IMPIANTARE'!$G656,\"\")","v":""},{"$f":"IF('3 - SPECIE DA IMPIANTARE'!#REF!=1,'3 - SPECIE DA IMPIANTARE'!#REF!,\"\")","v":{"$error":"#REF!"}}]
[{"$f":"IF('3 - SPECIE DA IMPIANTARE'!$G657=\"AZIONE_1\",'3 - SPECIE DA IMPIANTARE'!$G657,\"\")","v":""},{"$f":"IF('3 - SPECIE DA IMPIANTARE'!#REF!=1,'3 - SPECIE DA IMPIANTARE'!#REF!,\"\")","v":{"$error":"#REF!"}}]
[{"$f":"IF('3 - SPECIE DA IMPIANTARE'!$G658=\"AZIONE_1\",'3 - SPECIE DA IMPIANTARE'!$G658,\"\")","v":""},{"$f":"IF('3 - SPECIE DA IMPIANTARE'!#REF!=1,'3 - SPECIE DA IMPIANTARE'!#REF!,\"\")","v":{"$error":"#REF!"}}]
[{"$f":"IF('3 - SPECIE DA IMPIANTARE'!$G659=\"AZIONE_1\",'3 - SPECIE DA IMPIANTARE'!$G659,\"\")","v":""},{"$f":"IF('3 - SPECIE DA IMPIANTARE'!#REF!=1,'3 - SPECIE DA IMPIANTARE'!#REF!,\"\")","v":{"$error":"#REF!"}}]
[{"$f":"IF('3 - SPECIE DA IMPIANTARE'!$G660=\"AZIONE_1\",'3 - SPECIE DA IMPIANTARE'!$G660,\"\")","v":""},{"$f":"IF('3 - SPECIE DA IMPIANTARE'!#REF!=1,'3 - SPECIE DA IMPIANTARE'!#REF!,\"\")","v":{"$error":"#REF!"}}]
[{"$f":"IF('3 - SPECIE DA IMPIANTARE'!$G661=\"AZIONE_1\",'3 - SPECIE DA IMPIANTARE'!$G661,\"\")","v":""},{"$f":"IF('3 - SPECIE DA IMPIANTARE'!#REF!=1,'3 - SPECIE DA IMPIANTARE'!#REF!,\"\")","v":{"$error":"#REF!"}}]
[{"$f":"IF('3 - SPECIE DA IMPIANTARE'!$G662=\"AZIONE_1\",'3 - SPECIE DA IMPIANTARE'!$G662,\"\")","v":""},{"$f":"IF('3 - SPECIE DA IMPIANTARE'!#REF!=1,'3 - SPECIE DA IMPIANTARE'!#REF!,\"\")","v":{"$error":"#REF!"}}]
[{"$f":"IF('3 - SPECIE DA IMPIANTARE'!$G663=\"AZIONE_1\",'3 - SPECIE DA IMPIANTARE'!$G663,\"\")","v":""},{"$f":"IF('3 - SPECIE DA IMPIANTARE'!#REF!=1,'3 - SPECIE DA IMPIANTARE'!#REF!,\"\")","v":{"$error":"#REF!"}}]
[{"$f":"IF('3 - SPECIE DA IMPIANTARE'!$G664=\"AZIONE_1\",'3 - SPECIE DA IMPIANTARE'!$G664,\"\")","v":""},{"$f":"IF('3 - SPECIE DA IMPIANTARE'!#REF!=1,'3 - SPECIE DA IMPIANTARE'!#REF!,\"\")","v":{"$error":"#REF!"}}]
[{"$f":"IF('3 - SPECIE DA IMPIANTARE'!$G665=\"AZIONE_1\",'3 - SPECIE DA IMPIANTARE'!$G665,\"\")","v":""},{"$f":"IF('3 - SPECIE DA IMPIANTARE'!#REF!=1,'3 - SPECIE DA IMPIANTARE'!#REF!,\"\")","v":{"$error":"#REF!"}}]
[{"$f":"IF('3 - SPECIE DA IMPIANTARE'!$G666=\"AZIONE_1\",'3 - SPECIE DA IMPIANTARE'!$G666,\"\")","v":""},{"$f":"IF('3 - SPECIE DA IMPIANTARE'!#REF!=1,'3 - SPECIE DA IMPIANTARE'!#REF!,\"\")","v":{"$error":"#REF!"}}]
[{"$f":"IF('3 - SPECIE DA IMPIANTARE'!$G667=\"AZIONE_1\",'3 - SPECIE DA IMPIANTARE'!$G667,\"\")","v":""},{"$f":"IF('3 - SPECIE DA IMPIANTARE'!#REF!=1,'3 - SPECIE DA IMPIANTARE'!#REF!,\"\")","v":{"$error":"#REF!"}}]
[{"$f":"IF('3 - SPECIE DA IMPIANTARE'!$G668=\"AZIONE_1\",'3 - SPECIE DA IMPIANTARE'!$G668,\"\")","v":""},{"$f":"IF('3 - SPECIE DA IMPIANTARE'!#REF!=1,'3 - SPECIE DA IMPIANTARE'!#REF!,\"\")","v":{"$error":"#REF!"}}]
[{"$f":"IF('3 - SPECIE DA IMPIANTARE'!$G669=\"AZIONE_1\",'3 - SPECIE DA IMPIANTARE'!$G669,\"\")","v":""},{"$f":"IF('3 - SPECIE DA IMPIANTARE'!#REF!=1,'3 - SPECIE DA IMPIANTARE'!#REF!,\"\")","v":{"$error":"#REF!"}}]
[{"$f":"IF('3 - SPECIE DA IMPIANTARE'!$G670=\"AZIONE_1\",'3 - SPECIE DA IMPIANTARE'!$G670,\"\")","v":""},{"$f":"IF('3 - SPECIE DA IMPIANTARE'!#REF!=1,'3 - SPECIE DA IMPIANTARE'!#REF!,\"\")","v":{"$error":"#REF!"}}]
[{"$f":"IF('3 - SPECIE DA IMPIANTARE'!$G671=\"AZIONE_1\",'3 - SPECIE DA IMPIANTARE'!$G671,\"\")","v":""},{"$f":"IF('3 - SPECIE DA IMPIANTARE'!#REF!=1,'3 - SPECIE DA IMPIANTARE'!#REF!,\"\")","v":{"$error":"#REF!"}}]
[{"$f":"IF('3 - SPECIE DA IMPIANTARE'!$G672=\"AZIONE_1\",'3 - SPECIE DA IMPIANTARE'!$G672,\"\")","v":""},{"$f":"IF('3 - SPECIE DA IMPIANTARE'!#REF!=1,'3 - SPECIE DA IMPIANTARE'!#REF!,\"\")","v":{"$error":"#REF!"}}]
[{"$f":"IF('3 - SPECIE DA IMPIANTARE'!$G673=\"AZIONE_1\",'3 - SPECIE DA IMPIANTARE'!$G673,\"\")","v":""},{"$f":"IF('3 - SPECIE DA IMPIANTARE'!#REF!=1,'3 - SPECIE DA IMPIANTARE'!#REF!,\"\")","v":{"$error":"#REF!"}}]
[{"$f":"IF('3 - SPECIE DA IMPIANTARE'!$G674=\"AZIONE_1\",'3 - SPECIE DA IMPIANTARE'!$G674,\"\")","v":""},{"$f":"IF('3 - SPECIE DA IMPIANTARE'!#REF!=1,'3 - SPECIE DA IMPIANTARE'!#REF!,\"\")","v":{"$error":"#REF!"}}]
[{"$f":"IF('3 - SPECIE DA IMPIANTARE'!$G675=\"AZIONE_1\",'3 - SPECIE DA IMPIANTARE'!$G675,\"\")","v":""},{"$f":"IF('3 - SPECIE DA IMPIANTARE'!#REF!=1,'3 - SPECIE DA IMPIANTARE'!#REF!,\"\")","v":{"$error":"#REF!"}}]
[{"$f":"IF('3 - SPECIE DA IMPIANTARE'!$G676=\"AZIONE_1\",'3 - SPECIE DA IMPIANTARE'!$G676,\"\")","v":""},{"$f":"IF('3 - SPECIE DA IMPIANTARE'!#REF!=1,'3 - SPECIE DA IMPIANTARE'!#REF!,\"\")","v":{"$error":"#REF!"}}]
[{"$f":"IF('3 - SPECIE DA IMPIANTARE'!$G677=\"AZIONE_1\",'3 - SPECIE DA IMPIANTARE'!$G677,\"\")","v":""},{"$f":"IF('3 - SPECIE DA IMPIANTARE'!#REF!=1,'3 - SPECIE DA IMPIANTARE'!#REF!,\"\")","v":{"$error":"#REF!"}}]
[{"$f":"IF('3 - SPECIE DA IMPIANTARE'!$G678=\"AZIONE_1\",'3 - SPECIE DA IMPIANTARE'!$G678,\"\")","v":""},{"$f":"IF('3 - SPECIE DA IMPIANTARE'!#REF!=1,'3 - SPECIE DA IMPIANTARE'!#REF!,\"\")","v":{"$error":"#REF!"}}]
[{"$f":"IF('3 - SPECIE DA IMPIANTARE'!$G679=\"AZIONE_1\",'3 - SPECIE DA IMPIANTARE'!$G679,\"\")","v":""},{"$f":"IF('3 - SPECIE DA IMPIANTARE'!#REF!=1,'3 - SPECIE DA IMPIANTARE'!#REF!,\"\")","v":{"$error":"#REF!"}}]
[{"$f":"IF('3 - SPECIE DA IMPIANTARE'!$G680=\"AZIONE_1\",'3 - SPECIE DA IMPIANTARE'!$G680,\"\")","v":""},{"$f":"IF('3 - SPECIE DA IMPIANTARE'!#REF!=1,'3 - SPECIE DA IMPIANTARE'!#REF!,\"\")","v":{"$error":"#REF!"}}]
[{"$f":"IF('3 - SPECIE DA IMPIANTARE'!$G681=\"AZIONE_1\",'3 - SPECIE DA IMPIANTARE'!$G681,\"\")","v":""},{"$f":"IF('3 - SPECIE DA IMPIANTARE'!#REF!=1,'3 - SPECIE DA IMPIANTARE'!#REF!,\"\")","v":{"$error":"#REF!"}}]
[{"$f":"IF('3 - SPECIE DA IMPIANTARE'!$G682=\"AZIONE_1\",'3 - SPECIE DA IMPIANTARE'!$G682,\"\")","v":""},{"$f":"IF('3 - SPECIE DA IMPIANTARE'!#REF!=1,'3 - SPECIE DA IMPIANTARE'!#REF!,\"\")","v":{"$error":"#REF!"}}]
[{"$f":"IF('3 - SPECIE DA IMPIANTARE'!$G683=\"AZIONE_1\",'3 - SPECIE DA IMPIANTARE'!$G683,\"\")","v":""},{"$f":"IF('3 - SPECIE DA IMPIANTARE'!#REF!=1,'3 - SPECIE DA IMPIANTARE'!#REF!,\"\")","v":{"$error":"#REF!"}}]
[{"$f":"IF('3 - SPECIE DA IMPIANTARE'!$G684=\"AZIONE_1\",'3 - SPECIE DA IMPIANTARE'!$G684,\"\")","v":""},{"$f":"IF('3 - SPECIE DA IMPIANTARE'!#REF!=1,'3 - SPECIE DA IMPIANTARE'!#REF!,\"\")","v":{"$error":"#REF!"}}]
[{"$f":"IF('3 - SPECIE DA IMPIANTARE'!$G685=\"AZIONE_1\",'3 - SPECIE DA IMPIANTARE'!$G685,\"\")","v":""},{"$f":"IF('3 - SPECIE DA IMPIANTARE'!#REF!=1,'3 - SPECIE DA IMPIANTARE'!#REF!,\"\")","v":{"$error":"#REF!"}}]
[{"$f":"IF('3 - SPECIE DA IMPIANTARE'!$G686=\"AZIONE_1\",'3 - SPECIE DA IMPIANTARE'!$G686,\"\")","v":""},{"$f":"IF('3 - SPECIE DA IMPIANTARE'!#REF!=1,'3 - SPECIE DA IMPIANTARE'!#REF!,\"\")","v":{"$error":"#REF!"}}]
[{"$f":"IF('3 - SPECIE DA IMPIANTARE'!$G687=\"AZIONE_1\",'3 - SPECIE DA IMPIANTARE'!$G687,\"\")","v":""},{"$f":"IF('3 - SPECIE DA IMPIANTARE'!#REF!=1,'3 - SPECIE DA IMPIANTARE'!#REF!,\"\")","v":{"$error":"#REF!"}}]
[{"$f":"IF('3 - SPECIE DA IMPIANTARE'!$G688=\"AZIONE_1\",'3 - SPECIE DA IMPIANTARE'!$G688,\"\")","v":""},{"$f":"IF('3 - SPECIE DA IMPIANTARE'!#REF!=1,'3 - SPECIE DA IMPIANTARE'!#REF!,\"\")","v":{"$error":"#REF!"}}]
[{"$f":"IF('3 - SPECIE DA IMPIANTARE'!$G689=\"AZIONE_1\",'3 - SPECIE DA IMPIANTARE'!$G689,\"\")","v":""},{"$f":"IF('3 - SPECIE DA IMPIANTARE'!#REF!=1,'3 - SPECIE DA IMPIANTARE'!#REF!,\"\")","v":{"$error":"#REF!"}}]
[{"$f":"IF('3 - SPECIE DA IMPIANTARE'!$G690=\"AZIONE_1\",'3 - SPECIE DA IMPIANTARE'!$G690,\"\")","v":""},{"$f":"IF('3 - SPECIE DA IMPIANTARE'!#REF!=1,'3 - SPECIE DA IMPIANTARE'!#REF!,\"\")","v":{"$error":"#REF!"}}]
[{"$f":"IF('3 - SPECIE DA IMPIANTARE'!$G691=\"AZIONE_1\",'3 - SPECIE DA IMPIANTARE'!$G691,\"\")","v":""},{"$f":"IF('3 - SPECIE DA IMPIANTARE'!#REF!=1,'3 - SPECIE DA IMPIANTARE'!#REF!,\"\")","v":{"$error":"#REF!"}}]
[{"$f":"IF('3 - SPECIE DA IMPIANTARE'!$G692=\"AZIONE_1\",'3 - SPECIE DA IMPIANTARE'!$G692,\"\")","v":""},{"$f":"IF('3 - SPECIE DA IMPIANTARE'!#REF!=1,'3 - SPECIE DA IMPIANTARE'!#REF!,\"\")","v":{"$error":"#REF!"}}]
[{"$f":"IF('3 - SPECIE DA IMPIANTARE'!$G693=\"AZIONE_1\",'3 - SPECIE DA IMPIANTARE'!$G693,\"\")","v":""},{"$f":"IF('3 - SPECIE DA IMPIANTARE'!#REF!=1,'3 - SPECIE DA IMPIANTARE'!#REF!,\"\")","v":{"$error":"#REF!"}}]
[{"$f":"IF('3 - SPECIE DA IMPIANTARE'!$G694=\"AZIONE_1\",'3 - SPECIE DA IMPIANTARE'!$G694,\"\")","v":""},{"$f":"IF('3 - SPECIE DA IMPIANTARE'!#REF!=1,'3 - SPECIE DA IMPIANTARE'!#REF!,\"\")","v":{"$error":"#REF!"}}]
[{"$f":"IF('3 - SPECIE DA IMPIANTARE'!$G695=\"AZIONE_1\",'3 - SPECIE DA IMPIANTARE'!$G695,\"\")","v":""},{"$f":"IF('3 - SPECIE DA IMPIANTARE'!#REF!=1,'3 - SPECIE DA IMPIANTARE'!#REF!,\"\")","v":{"$error":"#REF!"}}]
[{"$f":"IF('3 - SPECIE DA IMPIANTARE'!$G696=\"AZIONE_1\",'3 - SPECIE DA IMPIANTARE'!$G696,\"\")","v":""},{"$f":"IF('3 - SPECIE DA IMPIANTARE'!#REF!=1,'3 - SPECIE DA IMPIANTARE'!#REF!,\"\")","v":{"$error":"#REF!"}}]
[{"$f":"IF('3 - SPECIE DA IMPIANTARE'!$G697=\"AZIONE_1\",'3 - SPECIE DA IMPIANTARE'!$G697,\"\")","v":""},{"$f":"IF('3 - SPECIE DA IMPIANTARE'!#REF!=1,'3 - SPECIE DA IMPIANTARE'!#REF!,\"\")","v":{"$error":"#REF!"}}]
[{"$f":"IF('3 - SPECIE DA IMPIANTARE'!$G698=\"AZIONE_1\",'3 - SPECIE DA IMPIANTARE'!$G698,\"\")","v":""},{"$f":"IF('3 - SPECIE DA IMPIANTARE'!#REF!=1,'3 - SPECIE DA IMPIANTARE'!#REF!,\"\")","v":{"$error":"#REF!"}}]
[{"$f":"IF('3 - SPECIE DA IMPIANTARE'!$G699=\"AZIONE_1\",'3 - SPECIE DA IMPIANTARE'!$G699,\"\")","v":""},{"$f":"IF('3 - SPECIE DA IMPIANTARE'!#REF!=1,'3 - SPECIE DA IMPIANTARE'!#REF!,\"\")","v":{"$error":"#REF!"}}]
[{"$f":"IF('3 - SPECIE DA IMPIANTARE'!$G700=\"AZIONE_1\",'3 - SPECIE DA IMPIANTARE'!$G700,\"\")","v":""},{"$f":"IF('3 - SPECIE DA IMPIANTARE'!#REF!=1,'3 - SPECIE DA IMPIANTARE'!#REF!,\"\")","v":{"$error":"#REF!"}}]
[{"$f":"IF('3 - SPECIE DA IMPIANTARE'!$G701=\"AZIONE_1\",'3 - SPECIE DA IMPIANTARE'!$G701,\"\")","v":""},{"$f":"IF('3 - SPECIE DA IMPIANTARE'!#REF!=1,'3 - SPECIE DA IMPIANTARE'!#REF!,\"\")","v":{"$error":"#REF!"}}]
[{"$f":"IF('3 - SPECIE DA IMPIANTARE'!$G702=\"AZIONE_1\",'3 - SPECIE DA IMPIANTARE'!$G702,\"\")","v":""},{"$f":"IF('3 - SPECIE DA IMPIANTARE'!#REF!=1,'3 - SPECIE DA IMPIANTARE'!#REF!,\"\")","v":{"$error":"#REF!"}}]
[{"$f":"IF('3 - SPECIE DA IMPIANTARE'!$G703=\"AZIONE_1\",'3 - SPECIE DA IMPIANTARE'!$G703,\"\")","v":""},{"$f":"IF('3 - SPECIE DA IMPIANTARE'!#REF!=1,'3 - SPECIE DA IMPIANTARE'!#REF!,\"\")","v":{"$error":"#REF!"}}]
[{"$f":"IF('3 - SPECIE DA IMPIANTARE'!$G704=\"AZIONE_1\",'3 - SPECIE DA IMPIANTARE'!$G704,\"\")","v":""},{"$f":"IF('3 - SPECIE DA IMPIANTARE'!#REF!=1,'3 - SPECIE DA IMPIANTARE'!#REF!,\"\")","v":{"$error":"#REF!"}}]
[{"$f":"IF('3 - SPECIE DA IMPIANTARE'!$G705=\"AZIONE_1\",'3 - SPECIE DA IMPIANTARE'!$G705,\"\")","v":""},{"$f":"IF('3 - SPECIE DA IMPIANTARE'!#REF!=1,'3 - SPECIE DA IMPIANTARE'!#REF!,\"\")","v":{"$error":"#REF!"}}]
[{"$f":"IF('3 - SPECIE DA IMPIANTARE'!$G706=\"AZIONE_1\",'3 - SPECIE DA IMPIANTARE'!$G706,\"\")","v":""},{"$f":"IF('3 - SPECIE DA IMPIANTARE'!#REF!=1,'3 - SPECIE DA IMPIANTARE'!#REF!,\"\")","v":{"$error":"#REF!"}}]
[{"$f":"IF('3 - SPECIE DA IMPIANTARE'!$G707=\"AZIONE_1\",'3 - SPECIE DA IMPIANTARE'!$G707,\"\")","v":""},{"$f":"IF('3 - SPECIE DA IMPIANTARE'!#REF!=1,'3 - SPECIE DA IMPIANTARE'!#REF!,\"\")","v":{"$error":"#REF!"}}]
[{"$f":"IF('3 - SPECIE DA IMPIANTARE'!$G708=\"AZIONE_1\",'3 - SPECIE DA IMPIANTARE'!$G708,\"\")","v":""},{"$f":"IF('3 - SPECIE DA IMPIANTARE'!#REF!=1,'3 - SPECIE DA IMPIANTARE'!#REF!,\"\")","v":{"$error":"#REF!"}}]
[{"$f":"IF('3 - SPECIE DA IMPIANTARE'!$G709=\"AZIONE_1\",'3 - SPECIE DA IMPIANTARE'!$G709,\"\")","v":""},{"$f":"IF('3 - SPECIE DA IMPIANTARE'!#REF!=1,'3 - SPECIE DA IMPIANTARE'!#REF!,\"\")","v":{"$error":"#REF!"}}]
[{"$f":"IF('3 - SPECIE DA IMPIANTARE'!$G710=\"AZIONE_1\",'3 - SPECIE DA IMPIANTARE'!$G710,\"\")","v":""},{"$f":"IF('3 - SPECIE DA IMPIANTARE'!#REF!=1,'3 - SPECIE DA IMPIANTARE'!#REF!,\"\")","v":{"$error":"#REF!"}}]
[{"$f":"IF('3 - SPECIE DA IMPIANTARE'!$G711=\"AZIONE_1\",'3 - SPECIE DA IMPIANTARE'!$G711,\"\")","v":""},{"$f":"IF('3 - SPECIE DA IMPIANTARE'!#REF!=1,'3 - SPECIE DA IMPIANTARE'!#REF!,\"\")","v":{"$error":"#REF!"}}]
[{"$f":"IF('3 - SPECIE DA IMPIANTARE'!$G712=\"AZIONE_1\",'3 - SPECIE DA IMPIANTARE'!$G712,\"\")","v":""},{"$f":"IF('3 - SPECIE DA IMPIANTARE'!#REF!=1,'3 - SPECIE DA IMPIANTARE'!#REF!,\"\")","v":{"$error":"#REF!"}}]
[{"$f":"IF('3 - SPECIE DA IMPIANTARE'!$G713=\"AZIONE_1\",'3 - SPECIE DA IMPIANTARE'!$G713,\"\")","v":""},{"$f":"IF('3 - SPECIE DA IMPIANTARE'!#REF!=1,'3 - SPECIE DA IMPIANTARE'!#REF!,\"\")","v":{"$error":"#REF!"}}]
[{"$f":"IF('3 - SPECIE DA IMPIANTARE'!$G714=\"AZIONE_1\",'3 - SPECIE DA IMPIANTARE'!$G714,\"\")","v":""},{"$f":"IF('3 - SPECIE DA IMPIANTARE'!#REF!=1,'3 - SPECIE DA IMPIANTARE'!#REF!,\"\")","v":{"$error":"#REF!"}}]
[{"$f":"IF('3 - SPECIE DA IMPIANTARE'!$G715=\"AZIONE_1\",'3 - SPECIE DA IMPIANTARE'!$G715,\"\")","v":""},{"$f":"IF('3 - SPECIE DA IMPIANTARE'!#REF!=1,'3 - SPECIE DA IMPIANTARE'!#REF!,\"\")","v":{"$error":"#REF!"}}]
[{"$f":"IF('3 - SPECIE DA IMPIANTARE'!$G716=\"AZIONE_1\",'3 - SPECIE DA IMPIANTARE'!$G716,\"\")","v":""},{"$f":"IF('3 - SPECIE DA IMPIANTARE'!#REF!=1,'3 - SPECIE DA IMPIANTARE'!#REF!,\"\")","v":{"$error":"#REF!"}}]
[{"$f":"IF('3 - SPECIE DA IMPIANTARE'!$G717=\"AZIONE_1\",'3 - SPECIE DA IMPIANTARE'!$G717,\"\")","v":""},{"$f":"IF('3 - SPECIE DA IMPIANTARE'!#REF!=1,'3 - SPECIE DA IMPIANTARE'!#REF!,\"\")","v":{"$error":"#REF!"}}]
[{"$f":"IF('3 - SPECIE DA IMPIANTARE'!$G718=\"AZIONE_1\",'3 - SPECIE DA IMPIANTARE'!$G718,\"\")","v":""},{"$f":"IF('3 - SPECIE DA IMPIANTARE'!#REF!=1,'3 - SPECIE DA IMPIANTARE'!#REF!,\"\")","v":{"$error":"#REF!"}}]
[{"$f":"IF('3 - SPECIE DA IMPIANTARE'!$G719=\"AZIONE_1\",'3 - SPECIE DA IMPIANTARE'!$G719,\"\")","v":""},{"$f":"IF('3 - SPECIE DA IMPIANTARE'!#REF!=1,'3 - SPECIE DA IMPIANTARE'!#REF!,\"\")","v":{"$error":"#REF!"}}]
[{"$f":"IF('3 - SPECIE DA IMPIANTARE'!$G720=\"AZIONE_1\",'3 - SPECIE DA IMPIANTARE'!$G720,\"\")","v":""},{"$f":"IF('3 - SPECIE DA IMPIANTARE'!#REF!=1,'3 - SPECIE DA IMPIANTARE'!#REF!,\"\")","v":{"$error":"#REF!"}}]
[{"$f":"IF('3 - SPECIE DA IMPIANTARE'!$G721=\"AZIONE_1\",'3 - SPECIE DA IMPIANTARE'!$G721,\"\")","v":""},{"$f":"IF('3 - SPECIE DA IMPIANTARE'!#REF!=1,'3 - SPECIE DA IMPIANTARE'!#REF!,\"\")","v":{"$error":"#REF!"}}]
[{"$f":"IF('3 - SPECIE DA IMPIANTARE'!$G722=\"AZIONE_1\",'3 - SPECIE DA IMPIANTARE'!$G722,\"\")","v":""},{"$f":"IF('3 - SPECIE DA IMPIANTARE'!#REF!=1,'3 - SPECIE DA IMPIANTARE'!#REF!,\"\")","v":{"$error":"#REF!"}}]
[{"$f":"IF('3 - SPECIE DA IMPIANTARE'!$G723=\"AZIONE_1\",'3 - SPECIE DA IMPIANTARE'!$G723,\"\")","v":""},{"$f":"IF('3 - SPECIE DA IMPIANTARE'!#REF!=1,'3 - SPECIE DA IMPIANTARE'!#REF!,\"\")","v":{"$error":"#REF!"}}]
[{"$f":"IF('3 - SPECIE DA IMPIANTARE'!$G724=\"AZIONE_1\",'3 - SPECIE DA IMPIANTARE'!$G724,\"\")","v":""},{"$f":"IF('3 - SPECIE DA IMPIANTARE'!#REF!=1,'3 - SPECIE DA IMPIANTARE'!#REF!,\"\")","v":{"$error":"#REF!"}}]
[{"$f":"IF('3 - SPECIE DA IMPIANTARE'!$G725=\"AZIONE_1\",'3 - SPECIE DA IMPIANTARE'!$G725,\"\")","v":""},{"$f":"IF('3 - SPECIE DA IMPIANTARE'!#REF!=1,'3 - SPECIE DA IMPIANTARE'!#REF!,\"\")","v":{"$error":"#REF!"}}]
[{"$f":"IF('3 - SPECIE DA IMPIANTARE'!$G726=\"AZIONE_1\",'3 - SPECIE DA IMPIANTARE'!$G726,\"\")","v":""},{"$f":"IF('3 - SPECIE DA IMPIANTARE'!#REF!=1,'3 - SPECIE DA IMPIANTARE'!#REF!,\"\")","v":{"$error":"#REF!"}}]
[{"$f":"IF('3 - SPECIE DA IMPIANTARE'!$G727=\"AZIONE_1\",'3 - SPECIE DA IMPIANTARE'!$G727,\"\")","v":""},{"$f":"IF('3 - SPECIE DA IMPIANTARE'!#REF!=1,'3 - SPECIE DA IMPIANTARE'!#REF!,\"\")","v":{"$error":"#REF!"}}]
[{"$f":"IF('3 - SPECIE DA IMPIANTARE'!$G728=\"AZIONE_1\",'3 - SPECIE DA IMPIANTARE'!$G728,\"\")","v":""},{"$f":"IF('3 - SPECIE DA IMPIANTARE'!#REF!=1,'3 - SPECIE DA IMPIANTARE'!#REF!,\"\")","v":{"$error":"#REF!"}}]
[{"$f":"IF('3 - SPECIE DA IMPIANTARE'!$G729=\"AZIONE_1\",'3 - SPECIE DA IMPIANTARE'!$G729,\"\")","v":""},{"$f":"IF('3 - SPECIE DA IMPIANTARE'!#REF!=1,'3 - SPECIE DA IMPIANTARE'!#REF!,\"\")","v":{"$error":"#REF!"}}]
[{"$f":"IF('3 - SPECIE DA IMPIANTARE'!$G730=\"AZIONE_1\",'3 - SPECIE DA IMPIANTARE'!$G730,\"\")","v":""},{"$f":"IF('3 - SPECIE DA IMPIANTARE'!#REF!=1,'3 - SPECIE DA IMPIANTARE'!#REF!,\"\")","v":{"$error":"#REF!"}}]
[{"$f":"IF('3 - SPECIE DA IMPIANTARE'!$G731=\"AZIONE_1\",'3 - SPECIE DA IMPIANTARE'!$G731,\"\")","v":""},{"$f":"IF('3 - SPECIE DA IMPIANTARE'!#REF!=1,'3 - SPECIE DA IMPIANTARE'!#REF!,\"\")","v":{"$error":"#REF!"}}]
[{"$f":"IF('3 - SPECIE DA IMPIANTARE'!$G732=\"AZIONE_1\",'3 - SPECIE DA IMPIANTARE'!$G732,\"\")","v":""},{"$f":"IF('3 - SPECIE DA IMPIANTARE'!#REF!=1,'3 - SPECIE DA IMPIANTARE'!#REF!,\"\")","v":{"$error":"#REF!"}}]
[{"$f":"IF('3 - SPECIE DA IMPIANTARE'!$G733=\"AZIONE_1\",'3 - SPECIE DA IMPIANTARE'!$G733,\"\")","v":""},{"$f":"IF('3 - SPECIE DA IMPIANTARE'!#REF!=1,'3 - SPECIE DA IMPIANTARE'!#REF!,\"\")","v":{"$error":"#REF!"}}]
[{"$f":"IF('3 - SPECIE DA IMPIANTARE'!$G734=\"AZIONE_1\",'3 - SPECIE DA IMPIANTARE'!$G734,\"\")","v":""},{"$f":"IF('3 - SPECIE DA IMPIANTARE'!#REF!=1,'3 - SPECIE DA IMPIANTARE'!#REF!,\"\")","v":{"$error":"#REF!"}}]
[{"$f":"IF('3 - SPECIE DA IMPIANTARE'!$G735=\"AZIONE_1\",'3 - SPECIE DA IMPIANTARE'!$G735,\"\")","v":""},{"$f":"IF('3 - SPECIE DA IMPIANTARE'!#REF!=1,'3 - SPECIE DA IMPIANTARE'!#REF!,\"\")","v":{"$error":"#REF!"}}]
[{"$f":"IF('3 - SPECIE DA IMPIANTARE'!$G736=\"AZIONE_1\",'3 - SPECIE DA IMPIANTARE'!$G736,\"\")","v":""},{"$f":"IF('3 - SPECIE DA IMPIANTARE'!#REF!=1,'3 - SPECIE DA IMPIANTARE'!#REF!,\"\")","v":{"$error":"#REF!"}}]
[{"$f":"IF('3 - SPECIE DA IMPIANTARE'!$G737=\"AZIONE_1\",'3 - SPECIE DA IMPIANTARE'!$G737,\"\")","v":""},{"$f":"IF('3 - SPECIE DA IMPIANTARE'!#REF!=1,'3 - SPECIE DA IMPIANTARE'!#REF!,\"\")","v":{"$error":"#REF!"}}]
[{"$f":"IF('3 - SPECIE DA IMPIANTARE'!$G738=\"AZIONE_1\",'3 - SPECIE DA IMPIANTARE'!$G738,\"\")","v":""},{"$f":"IF('3 - SPECIE DA IMPIANTARE'!#REF!=1,'3 - SPECIE DA IMPIANTARE'!#REF!,\"\")","v":{"$error":"#REF!"}}]
[{"$f":"IF('3 - SPECIE DA IMPIANTARE'!$G739=\"AZIONE_1\",'3 - SPECIE DA IMPIANTARE'!$G739,\"\")","v":""},{"$f":"IF('3 - SPECIE DA IMPIANTARE'!#REF!=1,'3 - SPECIE DA IMPIANTARE'!#REF!,\"\")","v":{"$error":"#REF!"}}]
[{"$f":"IF('3 - SPECIE DA IMPIANTARE'!$G740=\"AZIONE_1\",'3 - SPECIE DA IMPIANTARE'!$G740,\"\")","v":""},{"$f":"IF('3 - SPECIE DA IMPIANTARE'!#REF!=1,'3 - SPECIE DA IMPIANTARE'!#REF!,\"\")","v":{"$error":"#REF!"}}]
[{"$f":"IF('3 - SPECIE DA IMPIANTARE'!$G741=\"AZIONE_1\",'3 - SPECIE DA IMPIANTARE'!$G741,\"\")","v":""},{"$f":"IF('3 - SPECIE DA IMPIANTARE'!#REF!=1,'3 - SPECIE DA IMPIANTARE'!#REF!,\"\")","v":{"$error":"#REF!"}}]
[{"$f":"IF('3 - SPECIE DA IMPIANTARE'!$G742=\"AZIONE_1\",'3 - SPECIE DA IMPIANTARE'!$G742,\"\")","v":""},{"$f":"IF('3 - SPECIE DA IMPIANTARE'!#REF!=1,'3 - SPECIE DA IMPIANTARE'!#REF!,\"\")","v":{"$error":"#REF!"}}]
[{"$f":"IF('3 - SPECIE DA IMPIANTARE'!$G743=\"AZIONE_1\",'3 - SPECIE DA IMPIANTARE'!$G743,\"\")","v":""},{"$f":"IF('3 - SPECIE DA IMPIANTARE'!#REF!=1,'3 - SPECIE DA IMPIANTARE'!#REF!,\"\")","v":{"$error":"#REF!"}}]
[{"$f":"IF('3 - SPECIE DA IMPIANTARE'!$G744=\"AZIONE_1\",'3 - SPECIE DA IMPIANTARE'!$G744,\"\")","v":""},{"$f":"IF('3 - SPECIE DA IMPIANTARE'!#REF!=1,'3 - SPECIE DA IMPIANTARE'!#REF!,\"\")","v":{"$error":"#REF!"}}]
[{"$f":"IF('3 - SPECIE DA IMPIANTARE'!$G745=\"AZIONE_1\",'3 - SPECIE DA IMPIANTARE'!$G745,\"\")","v":""},{"$f":"IF('3 - SPECIE DA IMPIANTARE'!#REF!=1,'3 - SPECIE DA IMPIANTARE'!#REF!,\"\")","v":{"$error":"#REF!"}}]
[{"$f":"IF('3 - SPECIE DA IMPIANTARE'!$G746=\"AZIONE_1\",'3 - SPECIE DA IMPIANTARE'!$G746,\"\")","v":""},{"$f":"IF('3 - SPECIE DA IMPIANTARE'!#REF!=1,'3 - SPECIE DA IMPIANTARE'!#REF!,\"\")","v":{"$error":"#REF!"}}]
[{"$f":"IF('3 - SPECIE DA IMPIANTARE'!$G747=\"AZIONE_1\",'3 - SPECIE DA IMPIANTARE'!$G747,\"\")","v":""},{"$f":"IF('3 - SPECIE DA IMPIANTARE'!#REF!=1,'3 - SPECIE DA IMPIANTARE'!#REF!,\"\")","v":{"$error":"#REF!"}}]
[{"$f":"IF('3 - SPECIE DA IMPIANTARE'!$G748=\"AZIONE_1\",'3 - SPECIE DA IMPIANTARE'!$G748,\"\")","v":""},{"$f":"IF('3 - SPECIE DA IMPIANTARE'!#REF!=1,'3 - SPECIE DA IMPIANTARE'!#REF!,\"\")","v":{"$error":"#REF!"}}]
[{"$f":"IF('3 - SPECIE DA IMPIANTARE'!$G749=\"AZIONE_1\",'3 - SPECIE DA IMPIANTARE'!$G749,\"\")","v":""},{"$f":"IF('3 - SPECIE DA IMPIANTARE'!#REF!=1,'3 - SPECIE DA IMPIANTARE'!#REF!,\"\")","v":{"$error":"#REF!"}}]
[{"$f":"IF('3 - SPECIE DA IMPIANTARE'!$G750=\"AZIONE_1\",'3 - SPECIE DA IMPIANTARE'!$G750,\"\")","v":""},{"$f":"IF('3 - SPECIE DA IMPIANTARE'!#REF!=1,'3 - SPECIE DA IMPIANTARE'!#REF!,\"\")","v":{"$error":"#REF!"}}]
[{"$f":"IF('3 - SPECIE DA IMPIANTARE'!$G751=\"AZIONE_1\",'3 - SPECIE DA IMPIANTARE'!$G751,\"\")","v":""},{"$f":"IF('3 - SPECIE DA IMPIANTARE'!#REF!=1,'3 - SPECIE DA IMPIANTARE'!#REF!,\"\")","v":{"$error":"#REF!"}}]
[{"$f":"IF('3 - SPECIE DA IMPIANTARE'!$G752=\"AZIONE_1\",'3 - SPECIE DA IMPIANTARE'!$G752,\"\")","v":""},{"$f":"IF('3 - SPECIE DA IMPIANTARE'!#REF!=1,'3 - SPECIE DA IMPIANTARE'!#REF!,\"\")","v":{"$error":"#REF!"}}]
[{"$f":"IF('3 - SPECIE DA IMPIANTARE'!$G753=\"AZIONE_1\",'3 - SPECIE DA IMPIANTARE'!$G753,\"\")","v":""},{"$f":"IF('3 - SPECIE DA IMPIANTARE'!#REF!=1,'3 - SPECIE DA IMPIANTARE'!#REF!,\"\")","v":{"$error":"#REF!"}}]
[{"$f":"IF('3 - SPECIE DA IMPIANTARE'!$G754=\"AZIONE_1\",'3 - SPECIE DA IMPIANTARE'!$G754,\"\")","v":""},{"$f":"IF('3 - SPECIE DA IMPIANTARE'!#REF!=1,'3 - SPECIE DA IMPIANTARE'!#REF!,\"\")","v":{"$error":"#REF!"}}]
[{"$f":"IF('3 - SPECIE DA IMPIANTARE'!$G755=\"AZIONE_1\",'3 - SPECIE DA IMPIANTARE'!$G755,\"\")","v":""},{"$f":"IF('3 - SPECIE DA IMPIANTARE'!#REF!=1,'3 - SPECIE DA IMPIANTARE'!#REF!,\"\")","v":{"$error":"#REF!"}}]
[{"$f":"IF('3 - SPECIE DA IMPIANTARE'!$G756=\"AZIONE_1\",'3 - SPECIE DA IMPIANTARE'!$G756,\"\")","v":""},{"$f":"IF('3 - SPECIE DA IMPIANTARE'!#REF!=1,'3 - SPECIE DA IMPIANTARE'!#REF!,\"\")","v":{"$error":"#REF!"}}]
[{"$f":"IF('3 - SPECIE DA IMPIANTARE'!$G757=\"AZIONE_1\",'3 - SPECIE DA IMPIANTARE'!$G757,\"\")","v":""},{"$f":"IF('3 - SPECIE DA IMPIANTARE'!#REF!=1,'3 - SPECIE DA IMPIANTARE'!#REF!,\"\")","v":{"$error":"#REF!"}}]
[{"$f":"IF('3 - SPECIE DA IMPIANTARE'!$G758=\"AZIONE_1\",'3 - SPECIE DA IMPIANTARE'!$G758,\"\")","v":""},{"$f":"IF('3 - SPECIE DA IMPIANTARE'!#REF!=1,'3 - SPECIE DA IMPIANTARE'!#REF!,\"\")","v":{"$error":"#REF!"}}]
[{"$f":"IF('3 - SPECIE DA IMPIANTARE'!$G759=\"AZIONE_1\",'3 - SPECIE DA IMPIANTARE'!$G759,\"\")","v":""},{"$f":"IF('3 - SPECIE DA IMPIANTARE'!#REF!=1,'3 - SPECIE DA IMPIANTARE'!#REF!,\"\")","v":{"$error":"#REF!"}}]
[{"$f":"IF('3 - SPECIE DA IMPIANTARE'!$G760=\"AZIONE_1\",'3 - SPECIE DA IMPIANTARE'!$G760,\"\")","v":""},{"$f":"IF('3 - SPECIE DA IMPIANTARE'!#REF!=1,'3 - SPECIE DA IMPIANTARE'!#REF!,\"\")","v":{"$error":"#REF!"}}]
[{"$f":"IF('3 - SPECIE DA IMPIANTARE'!$G761=\"AZIONE_1\",'3 - SPECIE DA IMPIANTARE'!$G761,\"\")","v":""},{"$f":"IF('3 - SPECIE DA IMPIANTARE'!#REF!=1,'3 - SPECIE DA IMPIANTARE'!#REF!,\"\")","v":{"$error":"#REF!"}}]
[{"$f":"IF('3 - SPECIE DA IMPIANTARE'!$G762=\"AZIONE_1\",'3 - SPECIE DA IMPIANTARE'!$G762,\"\")","v":""},{"$f":"IF('3 - SPECIE DA IMPIANTARE'!#REF!=1,'3 - SPECIE DA IMPIANTARE'!#REF!,\"\")","v":{"$error":"#REF!"}}]
[{"$f":"IF('3 - SPECIE DA IMPIANTARE'!$G763=\"AZIONE_1\",'3 - SPECIE DA IMPIANTARE'!$G763,\"\")","v":""},{"$f":"IF('3 - SPECIE DA IMPIANTARE'!#REF!=1,'3 - SPECIE DA IMPIANTARE'!#REF!,\"\")","v":{"$error":"#REF!"}}]
[{"$f":"IF('3 - SPECIE DA IMPIANTARE'!$G764=\"AZIONE_1\",'3 - SPECIE DA IMPIANTARE'!$G764,\"\")","v":""},{"$f":"IF('3 - SPECIE DA IMPIANTARE'!#REF!=1,'3 - SPECIE DA IMPIANTARE'!#REF!,\"\")","v":{"$error":"#REF!"}}]
[{"$f":"IF('3 - SPECIE DA IMPIANTARE'!$G765=\"AZIONE_1\",'3 - SPECIE DA IMPIANTARE'!$G765,\"\")","v":""},{"$f":"IF('3 - SPECIE DA IMPIANTARE'!#REF!=1,'3 - SPECIE DA IMPIANTARE'!#REF!,\"\")","v":{"$error":"#REF!"}}]
[{"$f":"IF('3 - SPECIE DA IMPIANTARE'!$G766=\"AZIONE_1\",'3 - SPECIE DA IMPIANTARE'!$G766,\"\")","v":""},{"$f":"IF('3 - SPECIE DA IMPIANTARE'!#REF!=1,'3 - SPECIE DA IMPIANTARE'!#REF!,\"\")","v":{"$error":"#REF!"}}]
[{"$f":"IF('3 - SPECIE DA IMPIANTARE'!$G767=\"AZIONE_1\",'3 - SPECIE DA IMPIANTARE'!$G767,\"\")","v":""},{"$f":"IF('3 - SPECIE DA IMPIANTARE'!#REF!=1,'3 - SPECIE DA IMPIANTARE'!#REF!,\"\")","v":{"$error":"#REF!"}}]
[{"$f":"IF('3 - SPECIE DA IMPIANTARE'!$G768=\"AZIONE_1\",'3 - SPECIE DA IMPIANTARE'!$G768,\"\")","v":""},{"$f":"IF('3 - SPECIE DA IMPIANTARE'!#REF!=1,'3 - SPECIE DA IMPIANTARE'!#REF!,\"\")","v":{"$error":"#REF!"}}]
[{"$f":"IF('3 - SPECIE DA IMPIANTARE'!$G769=\"AZIONE_1\",'3 - SPECIE DA IMPIANTARE'!$G769,\"\")","v":""},{"$f":"IF('3 - SPECIE DA IMPIANTARE'!#REF!=1,'3 - SPECIE DA IMPIANTARE'!#REF!,\"\")","v":{"$error":"#REF!"}}]
[{"$f":"IF('3 - SPECIE DA IMPIANTARE'!$G770=\"AZIONE_1\",'3 - SPECIE DA IMPIANTARE'!$G770,\"\")","v":""},{"$f":"IF('3 - SPECIE DA IMPIANTARE'!#REF!=1,'3 - SPECIE DA IMPIANTARE'!#REF!,\"\")","v":{"$error":"#REF!"}}]
[{"$f":"IF('3 - SPECIE DA IMPIANTARE'!$G771=\"AZIONE_1\",'3 - SPECIE DA IMPIANTARE'!$G771,\"\")","v":""},{"$f":"IF('3 - SPECIE DA IMPIANTARE'!#REF!=1,'3 - SPECIE DA IMPIANTARE'!#REF!,\"\")","v":{"$error":"#REF!"}}]
[{"$f":"IF('3 - SPECIE DA IMPIANTARE'!$G772=\"AZIONE_1\",'3 - SPECIE DA IMPIANTARE'!$G772,\"\")","v":""},{"$f":"IF('3 - SPECIE DA IMPIANTARE'!#REF!=1,'3 - SPECIE DA IMPIANTARE'!#REF!,\"\")","v":{"$error":"#REF!"}}]
[{"$f":"IF('3 - SPECIE DA IMPIANTARE'!$G773=\"AZIONE_1\",'3 - SPECIE DA IMPIANTARE'!$G773,\"\")","v":""},{"$f":"IF('3 - SPECIE DA IMPIANTARE'!#REF!=1,'3 - SPECIE DA IMPIANTARE'!#REF!,\"\")","v":{"$error":"#REF!"}}]
[{"$f":"IF('3 - SPECIE DA IMPIANTARE'!$G774=\"AZIONE_1\",'3 - SPECIE DA IMPIANTARE'!$G774,\"\")","v":""},{"$f":"IF('3 - SPECIE DA IMPIANTARE'!#REF!=1,'3 - SPECIE DA IMPIANTARE'!#REF!,\"\")","v":{"$error":"#REF!"}}]
[{"$f":"IF('3 - SPECIE DA IMPIANTARE'!$G775=\"AZIONE_1\",'3 - SPECIE DA IMPIANTARE'!$G775,\"\")","v":""},{"$f":"IF('3 - SPECIE DA IMPIANTARE'!#REF!=1,'3 - SPECIE DA IMPIANTARE'!#REF!,\"\")","v":{"$error":"#REF!"}}]
[{"$f":"IF('3 - SPECIE DA IMPIANTARE'!$G776=\"AZIONE_1\",'3 - SPECIE DA IMPIANTARE'!$G776,\"\")","v":""},{"$f":"IF('3 - SPECIE DA IMPIANTARE'!#REF!=1,'3 - SPECIE DA IMPIANTARE'!#REF!,\"\")","v":{"$error":"#REF!"}}]
[{"$f":"IF('3 - SPECIE DA IMPIANTARE'!$G777=\"AZIONE_1\",'3 - SPECIE DA IMPIANTARE'!$G777,\"\")","v":""},{"$f":"IF('3 - SPECIE DA IMPIANTARE'!#REF!=1,'3 - SPECIE DA IMPIANTARE'!#REF!,\"\")","v":{"$error":"#REF!"}}]
[{"$f":"IF('3 - SPECIE DA IMPIANTARE'!$G778=\"AZIONE_1\",'3 - SPECIE DA IMPIANTARE'!$G778,\"\")","v":""},{"$f":"IF('3 - SPECIE DA IMPIANTARE'!#REF!=1,'3 - SPECIE DA IMPIANTARE'!#REF!,\"\")","v":{"$error":"#REF!"}}]
[{"$f":"IF('3 - SPECIE DA IMPIANTARE'!$G779=\"AZIONE_1\",'3 - SPECIE DA IMPIANTARE'!$G779,\"\")","v":""},{"$f":"IF('3 - SPECIE DA IMPIANTARE'!#REF!=1,'3 - SPECIE DA IMPIANTARE'!#REF!,\"\")","v":{"$error":"#REF!"}}]
[{"$f":"IF('3 - SPECIE DA IMPIANTARE'!$G780=\"AZIONE_1\",'3 - SPECIE DA IMPIANTARE'!$G780,\"\")","v":""},{"$f":"IF('3 - SPECIE DA IMPIANTARE'!#REF!=1,'3 - SPECIE DA IMPIANTARE'!#REF!,\"\")","v":{"$error":"#REF!"}}]
[{"$f":"IF('3 - SPECIE DA IMPIANTARE'!$G781=\"AZIONE_1\",'3 - SPECIE DA IMPIANTARE'!$G781,\"\")","v":""},{"$f":"IF('3 - SPECIE DA IMPIANTARE'!#REF!=1,'3 - SPECIE DA IMPIANTARE'!#REF!,\"\")","v":{"$error":"#REF!"}}]
[{"$f":"IF('3 - SPECIE DA IMPIANTARE'!$G782=\"AZIONE_1\",'3 - SPECIE DA IMPIANTARE'!$G782,\"\")","v":""},{"$f":"IF('3 - SPECIE DA IMPIANTARE'!#REF!=1,'3 - SPECIE DA IMPIANTARE'!#REF!,\"\")","v":{"$error":"#REF!"}}]
[{"$f":"IF('3 - SPECIE DA IMPIANTARE'!$G783=\"AZIONE_1\",'3 - SPECIE DA IMPIANTARE'!$G783,\"\")","v":""},{"$f":"IF('3 - SPECIE DA IMPIANTARE'!#REF!=1,'3 - SPECIE DA IMPIANTARE'!#REF!,\"\")","v":{"$error":"#REF!"}}]
[{"$f":"IF('3 - SPECIE DA IMPIANTARE'!$G784=\"AZIONE_1\",'3 - SPECIE DA IMPIANTARE'!$G784,\"\")","v":""},{"$f":"IF('3 - SPECIE DA IMPIANTARE'!#REF!=1,'3 - SPECIE DA IMPIANTARE'!#REF!,\"\")","v":{"$error":"#REF!"}}]
[{"$f":"IF('3 - SPECIE DA IMPIANTARE'!$G785=\"AZIONE_1\",'3 - SPECIE DA IMPIANTARE'!$G785,\"\")","v":""},{"$f":"IF('3 - SPECIE DA IMPIANTARE'!#REF!=1,'3 - SPECIE DA IMPIANTARE'!#REF!,\"\")","v":{"$error":"#REF!"}}]
[{"$f":"IF('3 - SPECIE DA IMPIANTARE'!$G786=\"AZIONE_1\",'3 - SPECIE DA IMPIANTARE'!$G786,\"\")","v":""},{"$f":"IF('3 - SPECIE DA IMPIANTARE'!#REF!=1,'3 - SPECIE DA IMPIANTARE'!#REF!,\"\")","v":{"$error":"#REF!"}}]
[{"$f":"IF('3 - SPECIE DA IMPIANTARE'!$G787=\"AZIONE_1\",'3 - SPECIE DA IMPIANTARE'!$G787,\"\")","v":""},{"$f":"IF('3 - SPECIE DA IMPIANTARE'!#REF!=1,'3 - SPECIE DA IMPIANTARE'!#REF!,\"\")","v":{"$error":"#REF!"}}]
[{"$f":"IF('3 - SPECIE DA IMPIANTARE'!$G788=\"AZIONE_1\",'3 - SPECIE DA IMPIANTARE'!$G788,\"\")","v":""},{"$f":"IF('3 - SPECIE DA IMPIANTARE'!#REF!=1,'3 - SPECIE DA IMPIANTARE'!#REF!,\"\")","v":{"$error":"#REF!"}}]
[{"$f":"IF('3 - SPECIE DA IMPIANTARE'!$G789=\"AZIONE_1\",'3 - SPECIE DA IMPIANTARE'!$G789,\"\")","v":""},{"$f":"IF('3 - SPECIE DA IMPIANTARE'!#REF!=1,'3 - SPECIE DA IMPIANTARE'!#REF!,\"\")","v":{"$error":"#REF!"}}]
[{"$f":"IF('3 - SPECIE DA IMPIANTARE'!$G790=\"AZIONE_1\",'3 - SPECIE DA IMPIANTARE'!$G790,\"\")","v":""},{"$f":"IF('3 - SPECIE DA IMPIANTARE'!#REF!=1,'3 - SPECIE DA IMPIANTARE'!#REF!,\"\")","v":{"$error":"#REF!"}}]
[{"$f":"IF('3 - SPECIE DA IMPIANTARE'!$G791=\"AZIONE_1\",'3 - SPECIE DA IMPIANTARE'!$G791,\"\")","v":""},{"$f":"IF('3 - SPECIE DA IMPIANTARE'!#REF!=1,'3 - SPECIE DA IMPIANTARE'!#REF!,\"\")","v":{"$error":"#REF!"}}]
[{"$f":"IF('3 - SPECIE DA IMPIANTARE'!$G792=\"AZIONE_1\",'3 - SPECIE DA IMPIANTARE'!$G792,\"\")","v":""},{"$f":"IF('3 - SPECIE DA IMPIANTARE'!#REF!=1,'3 - SPECIE DA IMPIANTARE'!#REF!,\"\")","v":{"$error":"#REF!"}}]
[{"$f":"IF('3 - SPECIE DA IMPIANTARE'!$G793=\"AZIONE_1\",'3 - SPECIE DA IMPIANTARE'!$G793,\"\")","v":""},{"$f":"IF('3 - SPECIE DA IMPIANTARE'!#REF!=1,'3 - SPECIE DA IMPIANTARE'!#REF!,\"\")","v":{"$error":"#REF!"}}]
[{"$f":"IF('3 - SPECIE DA IMPIANTARE'!$G794=\"AZIONE_1\",'3 - SPECIE DA IMPIANTARE'!$G794,\"\")","v":""},{"$f":"IF('3 - SPECIE DA IMPIANTARE'!#REF!=1,'3 - SPECIE DA IMPIANTARE'!#REF!,\"\")","v":{"$error":"#REF!"}}]
[{"$f":"IF('3 - SPECIE DA IMPIANTARE'!$G795=\"AZIONE_1\",'3 - SPECIE DA IMPIANTARE'!$G795,\"\")","v":""},{"$f":"IF('3 - SPECIE DA IMPIANTARE'!#REF!=1,'3 - SPECIE DA IMPIANTARE'!#REF!,\"\")","v":{"$error":"#REF!"}}]
[{"$f":"IF('3 - SPECIE DA IMPIANTARE'!$G796=\"AZIONE_1\",'3 - SPECIE DA IMPIANTARE'!$G796,\"\")","v":""},{"$f":"IF('3 - SPECIE DA IMPIANTARE'!#REF!=1,'3 - SPECIE DA IMPIANTARE'!#REF!,\"\")","v":{"$error":"#REF!"}}]
[{"$f":"IF('3 - SPECIE DA IMPIANTARE'!$G797=\"AZIONE_1\",'3 - SPECIE DA IMPIANTARE'!$G797,\"\")","v":""},{"$f":"IF('3 - SPECIE DA IMPIANTARE'!#REF!=1,'3 - SPECIE DA IMPIANTARE'!#REF!,\"\")","v":{"$error":"#REF!"}}]
[{"$f":"IF('3 - SPECIE DA IMPIANTARE'!$G798=\"AZIONE_1\",'3 - SPECIE DA IMPIANTARE'!$G798,\"\")","v":""},{"$f":"IF('3 - SPECIE DA IMPIANTARE'!#REF!=1,'3 - SPECIE DA IMPIANTARE'!#REF!,\"\")","v":{"$error":"#REF!"}}]
[{"$f":"IF('3 - SPECIE DA IMPIANTARE'!$G799=\"AZIONE_1\",'3 - SPECIE DA IMPIANTARE'!$G799,\"\")","v":""},{"$f":"IF('3 - SPECIE DA IMPIANTARE'!#REF!=1,'3 - SPECIE DA IMPIANTARE'!#REF!,\"\")","v":{"$error":"#REF!"}}]
[{"$f":"IF('3 - SPECIE DA IMPIANTARE'!$G800=\"AZIONE_1\",'3 - SPECIE DA IMPIANTARE'!$G800,\"\")","v":""},{"$f":"IF('3 - SPECIE DA IMPIANTARE'!#REF!=1,'3 - SPECIE DA IMPIANTARE'!#REF!,\"\")","v":{"$error":"#REF!"}}]
[{"$f":"IF('3 - SPECIE DA IMPIANTARE'!$G801=\"AZIONE_1\",'3 - SPECIE DA IMPIANTARE'!$G801,\"\")","v":""},{"$f":"IF('3 - SPECIE DA IMPIANTARE'!#REF!=1,'3 - SPECIE DA IMPIANTARE'!#REF!,\"\")","v":{"$error":"#REF!"}}]
[{"$f":"IF('3 - SPECIE DA IMPIANTARE'!$G802=\"AZIONE_1\",'3 - SPECIE DA IMPIANTARE'!$G802,\"\")","v":""},{"$f":"IF('3 - SPECIE DA IMPIANTARE'!#REF!=1,'3 - SPECIE DA IMPIANTARE'!#REF!,\"\")","v":{"$error":"#REF!"}}]
[{"$f":"IF('3 - SPECIE DA IMPIANTARE'!$G803=\"AZIONE_1\",'3 - SPECIE DA IMPIANTARE'!$G803,\"\")","v":""},{"$f":"IF('3 - SPECIE DA IMPIANTARE'!#REF!=1,'3 - SPECIE DA IMPIANTARE'!#REF!,\"\")","v":{"$error":"#REF!"}}]
[{"$f":"IF('3 - SPECIE DA IMPIANTARE'!$G804=\"AZIONE_1\",'3 - SPECIE DA IMPIANTARE'!$G804,\"\")","v":""},{"$f":"IF('3 - SPECIE DA IMPIANTARE'!#REF!=1,'3 - SPECIE DA IMPIANTARE'!#REF!,\"\")","v":{"$error":"#REF!"}}]
[{"$f":"IF('3 - SPECIE DA IMPIANTARE'!$G805=\"AZIONE_1\",'3 - SPECIE DA IMPIANTARE'!$G805,\"\")","v":""},{"$f":"IF('3 - SPECIE DA IMPIANTARE'!#REF!=1,'3 - SPECIE DA IMPIANTARE'!#REF!,\"\")","v":{"$error":"#REF!"}}]
[{"$f":"IF('3 - SPECIE DA IMPIANTARE'!$G806=\"AZIONE_1\",'3 - SPECIE DA IMPIANTARE'!$G806,\"\")","v":""},{"$f":"IF('3 - SPECIE DA IMPIANTARE'!#REF!=1,'3 - SPECIE DA IMPIANTARE'!#REF!,\"\")","v":{"$error":"#REF!"}}]
[{"$f":"IF('3 - SPECIE DA IMPIANTARE'!$G807=\"AZIONE_1\",'3 - SPECIE DA IMPIANTARE'!$G807,\"\")","v":""},{"$f":"IF('3 - SPECIE DA IMPIANTARE'!#REF!=1,'3 - SPECIE DA IMPIANTARE'!#REF!,\"\")","v":{"$error":"#REF!"}}]
[{"$f":"IF('3 - SPECIE DA IMPIANTARE'!$G808=\"AZIONE_1\",'3 - SPECIE DA IMPIANTARE'!$G808,\"\")","v":""},{"$f":"IF('3 - SPECIE DA IMPIANTARE'!#REF!=1,'3 - SPECIE DA IMPIANTARE'!#REF!,\"\")","v":{"$error":"#REF!"}}]
[{"$f":"IF('3 - SPECIE DA IMPIANTARE'!$G809=\"AZIONE_1\",'3 - SPECIE DA IMPIANTARE'!$G809,\"\")","v":""},{"$f":"IF('3 - SPECIE DA IMPIANTARE'!#REF!=1,'3 - SPECIE DA IMPIANTARE'!#REF!,\"\")","v":{"$error":"#REF!"}}]
[{"$f":"IF('3 - SPECIE DA IMPIANTARE'!$G810=\"AZIONE_1\",'3 - SPECIE DA IMPIANTARE'!$G810,\"\")","v":""},{"$f":"IF('3 - SPECIE DA IMPIANTARE'!#REF!=1,'3 - SPECIE DA IMPIANTARE'!#REF!,\"\")","v":{"$error":"#REF!"}}]
[{"$f":"IF('3 - SPECIE DA IMPIANTARE'!$G811=\"AZIONE_1\",'3 - SPECIE DA IMPIANTARE'!$G811,\"\")","v":""},{"$f":"IF('3 - SPECIE DA IMPIANTARE'!#REF!=1,'3 - SPECIE DA IMPIANTARE'!#REF!,\"\")","v":{"$error":"#REF!"}}]
[{"$f":"IF('3 - SPECIE DA IMPIANTARE'!$G812=\"AZIONE_1\",'3 - SPECIE DA IMPIANTARE'!$G812,\"\")","v":""},{"$f":"IF('3 - SPECIE DA IMPIANTARE'!#REF!=1,'3 - SPECIE DA IMPIANTARE'!#REF!,\"\")","v":{"$error":"#REF!"}}]
[{"$f":"IF('3 - SPECIE DA IMPIANTARE'!$G813=\"AZIONE_1\",'3 - SPECIE DA IMPIANTARE'!$G813,\"\")","v":""},{"$f":"IF('3 - SPECIE DA IMPIANTARE'!#REF!=1,'3 - SPECIE DA IMPIANTARE'!#REF!,\"\")","v":{"$error":"#REF!"}}]
[{"$f":"IF('3 - SPECIE DA IMPIANTARE'!$G814=\"AZIONE_1\",'3 - SPECIE DA IMPIANTARE'!$G814,\"\")","v":""},{"$f":"IF('3 - SPECIE DA IMPIANTARE'!#REF!=1,'3 - SPECIE DA IMPIANTARE'!#REF!,\"\")","v":{"$error":"#REF!"}}]
[{"$f":"IF('3 - SPECIE DA IMPIANTARE'!$G815=\"AZIONE_1\",'3 - SPECIE DA IMPIANTARE'!$G815,\"\")","v":""},{"$f":"IF('3 - SPECIE DA IMPIANTARE'!#REF!=1,'3 - SPECIE DA IMPIANTARE'!#REF!,\"\")","v":{"$error":"#REF!"}}]
[{"$f":"IF('3 - SPECIE DA IMPIANTARE'!$G816=\"AZIONE_1\",'3 - SPECIE DA IMPIANTARE'!$G816,\"\")","v":""},{"$f":"IF('3 - SPECIE DA IMPIANTARE'!#REF!=1,'3 - SPECIE DA IMPIANTARE'!#REF!,\"\")","v":{"$error":"#REF!"}}]
[{"$f":"IF('3 - SPECIE DA IMPIANTARE'!$G817=\"AZIONE_1\",'3 - SPECIE DA IMPIANTARE'!$G817,\"\")","v":""},{"$f":"IF('3 - SPECIE DA IMPIANTARE'!#REF!=1,'3 - SPECIE DA IMPIANTARE'!#REF!,\"\")","v":{"$error":"#REF!"}}]
[{"$f":"IF('3 - SPECIE DA IMPIANTARE'!$G818=\"AZIONE_1\",'3 - SPECIE DA IMPIANTARE'!$G818,\"\")","v":""},{"$f":"IF('3 - SPECIE DA IMPIANTARE'!#REF!=1,'3 - SPECIE DA IMPIANTARE'!#REF!,\"\")","v":{"$error":"#REF!"}}]
[{"$f":"IF('3 - SPECIE DA IMPIANTARE'!$G819=\"AZIONE_1\",'3 - SPECIE DA IMPIANTARE'!$G819,\"\")","v":""},{"$f":"IF('3 - SPECIE DA IMPIANTARE'!#REF!=1,'3 - SPECIE DA IMPIANTARE'!#REF!,\"\")","v":{"$error":"#REF!"}}]
[{"$f":"IF('3 - SPECIE DA IMPIANTARE'!$G820=\"AZIONE_1\",'3 - SPECIE DA IMPIANTARE'!$G820,\"\")","v":""},{"$f":"IF('3 - SPECIE DA IMPIANTARE'!#REF!=1,'3 - SPECIE DA IMPIANTARE'!#REF!,\"\")","v":{"$error":"#REF!"}}]
[{"$f":"IF('3 - SPECIE DA IMPIANTARE'!$G821=\"AZIONE_1\",'3 - SPECIE DA IMPIANTARE'!$G821,\"\")","v":""},{"$f":"IF('3 - SPECIE DA IMPIANTARE'!#REF!=1,'3 - SPECIE DA IMPIANTARE'!#REF!,\"\")","v":{"$error":"#REF!"}}]
[{"$f":"IF('3 - SPECIE DA IMPIANTARE'!$G822=\"AZIONE_1\",'3 - SPECIE DA IMPIANTARE'!$G822,\"\")","v":""},{"$f":"IF('3 - SPECIE DA IMPIANTARE'!#REF!=1,'3 - SPECIE DA IMPIANTARE'!#REF!,\"\")","v":{"$error":"#REF!"}}]
[{"$f":"IF('3 - SPECIE DA IMPIANTARE'!$G823=\"AZIONE_1\",'3 - SPECIE DA IMPIANTARE'!$G823,\"\")","v":""},{"$f":"IF('3 - SPECIE DA IMPIANTARE'!#REF!=1,'3 - SPECIE DA IMPIANTARE'!#REF!,\"\")","v":{"$error":"#REF!"}}]
[{"$f":"IF('3 - SPECIE DA IMPIANTARE'!$G824=\"AZIONE_1\",'3 - SPECIE DA IMPIANTARE'!$G824,\"\")","v":""},{"$f":"IF('3 - SPECIE DA IMPIANTARE'!#REF!=1,'3 - SPECIE DA IMPIANTARE'!#REF!,\"\")","v":{"$error":"#REF!"}}]
[{"$f":"IF('3 - SPECIE DA IMPIANTARE'!$G825=\"AZIONE_1\",'3 - SPECIE DA IMPIANTARE'!$G825,\"\")","v":""},{"$f":"IF('3 - SPECIE DA IMPIANTARE'!#REF!=1,'3 - SPECIE DA IMPIANTARE'!#REF!,\"\")","v":{"$error":"#REF!"}}]
[{"$f":"IF('3 - SPECIE DA IMPIANTARE'!$G826=\"AZIONE_1\",'3 - SPECIE DA IMPIANTARE'!$G826,\"\")","v":""},{"$f":"IF('3 - SPECIE DA IMPIANTARE'!#REF!=1,'3 - SPECIE DA IMPIANTARE'!#REF!,\"\")","v":{"$error":"#REF!"}}]
[{"$f":"IF('3 - SPECIE DA IMPIANTARE'!$G827=\"AZIONE_1\",'3 - SPECIE DA IMPIANTARE'!$G827,\"\")","v":""},{"$f":"IF('3 - SPECIE DA IMPIANTARE'!#REF!=1,'3 - SPECIE DA IMPIANTARE'!#REF!,\"\")","v":{"$error":"#REF!"}}]
[{"$f":"IF('3 - SPECIE DA IMPIANTARE'!$G828=\"AZIONE_1\",'3 - SPECIE DA IMPIANTARE'!$G828,\"\")","v":""},{"$f":"IF('3 - SPECIE DA IMPIANTARE'!#REF!=1,'3 - SPECIE DA IMPIANTARE'!#REF!,\"\")","v":{"$error":"#REF!"}}]
[{"$f":"IF('3 - SPECIE DA IMPIANTARE'!$G829=\"AZIONE_1\",'3 - SPECIE DA IMPIANTARE'!$G829,\"\")","v":""},{"$f":"IF('3 - SPECIE DA IMPIANTARE'!#REF!=1,'3 - SPECIE DA IMPIANTARE'!#REF!,\"\")","v":{"$error":"#REF!"}}]
[{"$f":"IF('3 - SPECIE DA IMPIANTARE'!$G830=\"AZIONE_1\",'3 - SPECIE DA IMPIANTARE'!$G830,\"\")","v":""},{"$f":"IF('3 - SPECIE DA IMPIANTARE'!#REF!=1,'3 - SPECIE DA IMPIANTARE'!#REF!,\"\")","v":{"$error":"#REF!"}}]
[{"$f":"IF('3 - SPECIE DA IMPIANTARE'!$G831=\"AZIONE_1\",'3 - SPECIE DA IMPIANTARE'!$G831,\"\")","v":""},{"$f":"IF('3 - SPECIE DA IMPIANTARE'!#REF!=1,'3 - SPECIE DA IMPIANTARE'!#REF!,\"\")","v":{"$error":"#REF!"}}]
[{"$f":"IF('3 - SPECIE DA IMPIANTARE'!$G832=\"AZIONE_1\",'3 - SPECIE DA IMPIANTARE'!$G832,\"\")","v":""},{"$f":"IF('3 - SPECIE DA IMPIANTARE'!#REF!=1,'3 - SPECIE DA IMPIANTARE'!#REF!,\"\")","v":{"$error":"#REF!"}}]
[{"$f":"IF('3 - SPECIE DA IMPIANTARE'!$G833=\"AZIONE_1\",'3 - SPECIE DA IMPIANTARE'!$G833,\"\")","v":""},{"$f":"IF('3 - SPECIE DA IMPIANTARE'!#REF!=1,'3 - SPECIE DA IMPIANTARE'!#REF!,\"\")","v":{"$error":"#REF!"}}]
[{"$f":"IF('3 - SPECIE DA IMPIANTARE'!$G834=\"AZIONE_1\",'3 - SPECIE DA IMPIANTARE'!$G834,\"\")","v":""},{"$f":"IF('3 - SPECIE DA IMPIANTARE'!#REF!=1,'3 - SPECIE DA IMPIANTARE'!#REF!,\"\")","v":{"$error":"#REF!"}}]
[{"$f":"IF('3 - SPECIE DA IMPIANTARE'!$G835=\"AZIONE_1\",'3 - SPECIE DA IMPIANTARE'!$G835,\"\")","v":""},{"$f":"IF('3 - SPECIE DA IMPIANTARE'!#REF!=1,'3 - SPECIE DA IMPIANTARE'!#REF!,\"\")","v":{"$error":"#REF!"}}]
[{"$f":"IF('3 - SPECIE DA IMPIANTARE'!$G836=\"AZIONE_1\",'3 - SPECIE DA IMPIANTARE'!$G836,\"\")","v":""},{"$f":"IF('3 - SPECIE DA IMPIANTARE'!#REF!=1,'3 - SPECIE DA IMPIANTARE'!#REF!,\"\")","v":{"$error":"#REF!"}}]
[{"$f":"IF('3 - SPECIE DA IMPIANTARE'!$G837=\"AZIONE_1\",'3 - SPECIE DA IMPIANTARE'!$G837,\"\")","v":""},{"$f":"IF('3 - SPECIE DA IMPIANTARE'!#REF!=1,'3 - SPECIE DA IMPIANTARE'!#REF!,\"\")","v":{"$error":"#REF!"}}]
[{"$f":"IF('3 - SPECIE DA IMPIANTARE'!$G838=\"AZIONE_1\",'3 - SPECIE DA IMPIANTARE'!$G838,\"\")","v":""},{"$f":"IF('3 - SPECIE DA IMPIANTARE'!#REF!=1,'3 - SPECIE DA IMPIANTARE'!#REF!,\"\")","v":{"$error":"#REF!"}}]
[{"$f":"IF('3 - SPECIE DA IMPIANTARE'!$G839=\"AZIONE_1\",'3 - SPECIE DA IMPIANTARE'!$G839,\"\")","v":""},{"$f":"IF('3 - SPECIE DA IMPIANTARE'!#REF!=1,'3 - SPECIE DA IMPIANTARE'!#REF!,\"\")","v":{"$error":"#REF!"}}]
[{"$f":"IF('3 - SPECIE DA IMPIANTARE'!$G840=\"AZIONE_1\",'3 - SPECIE DA IMPIANTARE'!$G840,\"\")","v":""},{"$f":"IF('3 - SPECIE DA IMPIANTARE'!#REF!=1,'3 - SPECIE DA IMPIANTARE'!#REF!,\"\")","v":{"$error":"#REF!"}}]
[{"$f":"IF('3 - SPECIE DA IMPIANTARE'!$G841=\"AZIONE_1\",'3 - SPECIE DA IMPIANTARE'!$G841,\"\")","v":""},{"$f":"IF('3 - SPECIE DA IMPIANTARE'!#REF!=1,'3 - SPECIE DA IMPIANTARE'!#REF!,\"\")","v":{"$error":"#REF!"}}]
[{"$f":"IF('3 - SPECIE DA IMPIANTARE'!$G842=\"AZIONE_1\",'3 - SPECIE DA IMPIANTARE'!$G842,\"\")","v":""},{"$f":"IF('3 - SPECIE DA IMPIANTARE'!#REF!=1,'3 - SPECIE DA IMPIANTARE'!#REF!,\"\")","v":{"$error":"#REF!"}}]
[{"$f":"IF('3 - SPECIE DA IMPIANTARE'!$G843=\"AZIONE_1\",'3 - SPECIE DA IMPIANTARE'!$G843,\"\")","v":""},{"$f":"IF('3 - SPECIE DA IMPIANTARE'!#REF!=1,'3 - SPECIE DA IMPIANTARE'!#REF!,\"\")","v":{"$error":"#REF!"}}]
[{"$f":"IF('3 - SPECIE DA IMPIANTARE'!$G844=\"AZIONE_1\",'3 - SPECIE DA IMPIANTARE'!$G844,\"\")","v":""},{"$f":"IF('3 - SPECIE DA IMPIANTARE'!#REF!=1,'3 - SPECIE DA IMPIANTARE'!#REF!,\"\")","v":{"$error":"#REF!"}}]
[{"$f":"IF('3 - SPECIE DA IMPIANTARE'!$G845=\"AZIONE_1\",'3 - SPECIE DA IMPIANTARE'!$G845,\"\")","v":""},{"$f":"IF('3 - SPECIE DA IMPIANTARE'!#REF!=1,'3 - SPECIE DA IMPIANTARE'!#REF!,\"\")","v":{"$error":"#REF!"}}]
[{"$f":"IF('3 - SPECIE DA IMPIANTARE'!$G846=\"AZIONE_1\",'3 - SPECIE DA IMPIANTARE'!$G846,\"\")","v":""},{"$f":"IF('3 - SPECIE DA IMPIANTARE'!#REF!=1,'3 - SPECIE DA IMPIANTARE'!#REF!,\"\")","v":{"$error":"#REF!"}}]
[{"$f":"IF('3 - SPECIE DA IMPIANTARE'!$G847=\"AZIONE_1\",'3 - SPECIE DA IMPIANTARE'!$G847,\"\")","v":""},{"$f":"IF('3 - SPECIE DA IMPIANTARE'!#REF!=1,'3 - SPECIE DA IMPIANTARE'!#REF!,\"\")","v":{"$error":"#REF!"}}]
[{"$f":"IF('3 - SPECIE DA IMPIANTARE'!$G848=\"AZIONE_1\",'3 - SPECIE DA IMPIANTARE'!$G848,\"\")","v":""},{"$f":"IF('3 - SPECIE DA IMPIANTARE'!#REF!=1,'3 - SPECIE DA IMPIANTARE'!#REF!,\"\")","v":{"$error":"#REF!"}}]
[{"$f":"IF('3 - SPECIE DA IMPIANTARE'!$G849=\"AZIONE_1\",'3 - SPECIE DA IMPIANTARE'!$G849,\"\")","v":""},{"$f":"IF('3 - SPECIE DA IMPIANTARE'!#REF!=1,'3 - SPECIE DA IMPIANTARE'!#REF!,\"\")","v":{"$error":"#REF!"}}]
[{"$f":"IF('3 - SPECIE DA IMPIANTARE'!$G850=\"AZIONE_1\",'3 - SPECIE DA IMPIANTARE'!$G850,\"\")","v":""},{"$f":"IF('3 - SPECIE DA IMPIANTARE'!#REF!=1,'3 - SPECIE DA IMPIANTARE'!#REF!,\"\")","v":{"$error":"#REF!"}}]
[{"$f":"IF('3 - SPECIE DA IMPIANTARE'!$G851=\"AZIONE_1\",'3 - SPECIE DA IMPIANTARE'!$G851,\"\")","v":""},{"$f":"IF('3 - SPECIE DA IMPIANTARE'!#REF!=1,'3 - SPECIE DA IMPIANTARE'!#REF!,\"\")","v":{"$error":"#REF!"}}]
[{"$f":"IF('3 - SPECIE DA IMPIANTARE'!$G852=\"AZIONE_1\",'3 - SPECIE DA IMPIANTARE'!$G852,\"\")","v":""},{"$f":"IF('3 - SPECIE DA IMPIANTARE'!#REF!=1,'3 - SPECIE DA IMPIANTARE'!#REF!,\"\")","v":{"$error":"#REF!"}}]
[{"$f":"IF('3 - SPECIE DA IMPIANTARE'!$G853=\"AZIONE_1\",'3 - SPECIE DA IMPIANTARE'!$G853,\"\")","v":""},{"$f":"IF('3 - SPECIE DA IMPIANTARE'!#REF!=1,'3 - SPECIE DA IMPIANTARE'!#REF!,\"\")","v":{"$error":"#REF!"}}]
[{"$f":"IF('3 - SPECIE DA IMPIANTARE'!$G854=\"AZIONE_1\",'3 - SPECIE DA IMPIANTARE'!$G854,\"\")","v":""},{"$f":"IF('3 - SPECIE DA IMPIANTARE'!#REF!=1,'3 - SPECIE DA IMPIANTARE'!#REF!,\"\")","v":{"$error":"#REF!"}}]
[{"$f":"IF('3 - SPECIE DA IMPIANTARE'!$G855=\"AZIONE_1\",'3 - SPECIE DA IMPIANTARE'!$G855,\"\")","v":""},{"$f":"IF('3 - SPECIE DA IMPIANTARE'!#REF!=1,'3 - SPECIE DA IMPIANTARE'!#REF!,\"\")","v":{"$error":"#REF!"}}]
[{"$f":"IF('3 - SPECIE DA IMPIANTARE'!$G856=\"AZIONE_1\",'3 - SPECIE DA IMPIANTARE'!$G856,\"\")","v":""},{"$f":"IF('3 - SPECIE DA IMPIANTARE'!#REF!=1,'3 - SPECIE DA IMPIANTARE'!#REF!,\"\")","v":{"$error":"#REF!"}}]
[{"$f":"IF('3 - SPECIE DA IMPIANTARE'!$G857=\"AZIONE_1\",'3 - SPECIE DA IMPIANTARE'!$G857,\"\")","v":""},{"$f":"IF('3 - SPECIE DA IMPIANTARE'!#REF!=1,'3 - SPECIE DA IMPIANTARE'!#REF!,\"\")","v":{"$error":"#REF!"}}]
[{"$f":"IF('3 - SPECIE DA IMPIANTARE'!$G858=\"AZIONE_1\",'3 - SPECIE DA IMPIANTARE'!$G858,\"\")","v":""},{"$f":"IF('3 - SPECIE DA IMPIANTARE'!#REF!=1,'3 - SPECIE DA IMPIANTARE'!#REF!,\"\")","v":{"$error":"#REF!"}}]
[{"$f":"IF('3 - SPECIE DA IMPIANTARE'!$G859=\"AZIONE_1\",'3 - SPECIE DA IMPIANTARE'!$G859,\"\")","v":""},{"$f":"IF('3 - SPECIE DA IMPIANTARE'!#REF!=1,'3 - SPECIE DA IMPIANTARE'!#REF!,\"\")","v":{"$error":"#REF!"}}]
[{"$f":"IF('3 - SPECIE DA IMPIANTARE'!$G860=\"AZIONE_1\",'3 - SPECIE DA IMPIANTARE'!$G860,\"\")","v":""},{"$f":"IF('3 - SPECIE DA IMPIANTARE'!#REF!=1,'3 - SPECIE DA IMPIANTARE'!#REF!,\"\")","v":{"$error":"#REF!"}}]
[{"$f":"IF('3 - SPECIE DA IMPIANTARE'!$G861=\"AZIONE_1\",'3 - SPECIE DA IMPIANTARE'!$G861,\"\")","v":""},{"$f":"IF('3 - SPECIE DA IMPIANTARE'!#REF!=1,'3 - SPECIE DA IMPIANTARE'!#REF!,\"\")","v":{"$error":"#REF!"}}]
[{"$f":"IF('3 - SPECIE DA IMPIANTARE'!$G862=\"AZIONE_1\",'3 - SPECIE DA IMPIANTARE'!$G862,\"\")","v":""},{"$f":"IF('3 - SPECIE DA IMPIANTARE'!#REF!=1,'3 - SPECIE DA IMPIANTARE'!#REF!,\"\")","v":{"$error":"#REF!"}}]
[{"$f":"IF('3 - SPECIE DA IMPIANTARE'!$G863=\"AZIONE_1\",'3 - SPECIE DA IMPIANTARE'!$G863,\"\")","v":""},{"$f":"IF('3 - SPECIE DA IMPIANTARE'!#REF!=1,'3 - SPECIE DA IMPIANTARE'!#REF!,\"\")","v":{"$error":"#REF!"}}]
[{"$f":"IF('3 - SPECIE DA IMPIANTARE'!$G864=\"AZIONE_1\",'3 - SPECIE DA IMPIANTARE'!$G864,\"\")","v":""},{"$f":"IF('3 - SPECIE DA IMPIANTARE'!#REF!=1,'3 - SPECIE DA IMPIANTARE'!#REF!,\"\")","v":{"$error":"#REF!"}}]
[{"$f":"IF('3 - SPECIE DA IMPIANTARE'!$G865=\"AZIONE_1\",'3 - SPECIE DA IMPIANTARE'!$G865,\"\")","v":""},{"$f":"IF('3 - SPECIE DA IMPIANTARE'!#REF!=1,'3 - SPECIE DA IMPIANTARE'!#REF!,\"\")","v":{"$error":"#REF!"}}]
[{"$f":"IF('3 - SPECIE DA IMPIANTARE'!$G866=\"AZIONE_1\",'3 - SPECIE DA IMPIANTARE'!$G866,\"\")","v":""},{"$f":"IF('3 - SPECIE DA IMPIANTARE'!#REF!=1,'3 - SPECIE DA IMPIANTARE'!#REF!,\"\")","v":{"$error":"#REF!"}}]
[{"$f":"IF('3 - SPECIE DA IMPIANTARE'!$G867=\"AZIONE_1\",'3 - SPECIE DA IMPIANTARE'!$G867,\"\")","v":""},{"$f":"IF('3 - SPECIE DA IMPIANTARE'!#REF!=1,'3 - SPECIE DA IMPIANTARE'!#REF!,\"\")","v":{"$error":"#REF!"}}]
[{"$f":"IF('3 - SPECIE DA IMPIANTARE'!$G868=\"AZIONE_1\",'3 - SPECIE DA IMPIANTARE'!$G868,\"\")","v":""},{"$f":"IF('3 - SPECIE DA IMPIANTARE'!#REF!=1,'3 - SPECIE DA IMPIANTARE'!#REF!,\"\")","v":{"$error":"#REF!"}}]
[{"$f":"IF('3 - SPECIE DA IMPIANTARE'!$G869=\"AZIONE_1\",'3 - SPECIE DA IMPIANTARE'!$G869,\"\")","v":""},{"$f":"IF('3 - SPECIE DA IMPIANTARE'!#REF!=1,'3 - SPECIE DA IMPIANTARE'!#REF!,\"\")","v":{"$error":"#REF!"}}]
[{"$f":"IF('3 - SPECIE DA IMPIANTARE'!$G870=\"AZIONE_1\",'3 - SPECIE DA IMPIANTARE'!$G870,\"\")","v":""},{"$f":"IF('3 - SPECIE DA IMPIANTARE'!#REF!=1,'3 - SPECIE DA IMPIANTARE'!#REF!,\"\")","v":{"$error":"#REF!"}}]
[{"$f":"IF('3 - SPECIE DA IMPIANTARE'!$G871=\"AZIONE_1\",'3 - SPECIE DA IMPIANTARE'!$G871,\"\")","v":""},{"$f":"IF('3 - SPECIE DA IMPIANTARE'!#REF!=1,'3 - SPECIE DA IMPIANTARE'!#REF!,\"\")","v":{"$error":"#REF!"}}]
[{"$f":"IF('3 - SPECIE DA IMPIANTARE'!$G872=\"AZIONE_1\",'3 - SPECIE DA IMPIANTARE'!$G872,\"\")","v":""},{"$f":"IF('3 - SPECIE DA IMPIANTARE'!#REF!=1,'3 - SPECIE DA IMPIANTARE'!#REF!,\"\")","v":{"$error":"#REF!"}}]
[{"$f":"IF('3 - SPECIE DA IMPIANTARE'!$G873=\"AZIONE_1\",'3 - SPECIE DA IMPIANTARE'!$G873,\"\")","v":""},{"$f":"IF('3 - SPECIE DA IMPIANTARE'!#REF!=1,'3 - SPECIE DA IMPIANTARE'!#REF!,\"\")","v":{"$error":"#REF!"}}]
[{"$f":"IF('3 - SPECIE DA IMPIANTARE'!$G874=\"AZIONE_1\",'3 - SPECIE DA IMPIANTARE'!$G874,\"\")","v":""},{"$f":"IF('3 - SPECIE DA IMPIANTARE'!#REF!=1,'3 - SPECIE DA IMPIANTARE'!#REF!,\"\")","v":{"$error":"#REF!"}}]
[{"$f":"IF('3 - SPECIE DA IMPIANTARE'!$G875=\"AZIONE_1\",'3 - SPECIE DA IMPIANTARE'!$G875,\"\")","v":""},{"$f":"IF('3 - SPECIE DA IMPIANTARE'!#REF!=1,'3 - SPECIE DA IMPIANTARE'!#REF!,\"\")","v":{"$error":"#REF!"}}]
[{"$f":"IF('3 - SPECIE DA IMPIANTARE'!$G876=\"AZIONE_1\",'3 - SPECIE DA IMPIANTARE'!$G876,\"\")","v":""},{"$f":"IF('3 - SPECIE DA IMPIANTARE'!#REF!=1,'3 - SPECIE DA IMPIANTARE'!#REF!,\"\")","v":{"$error":"#REF!"}}]
[{"$f":"IF('3 - SPECIE DA IMPIANTARE'!$G877=\"AZIONE_1\",'3 - SPECIE DA IMPIANTARE'!$G877,\"\")","v":""},{"$f":"IF('3 - SPECIE DA IMPIANTARE'!#REF!=1,'3 - SPECIE DA IMPIANTARE'!#REF!,\"\")","v":{"$error":"#REF!"}}]
[{"$f":"IF('3 - SPECIE DA IMPIANTARE'!$G878=\"AZIONE_1\",'3 - SPECIE DA IMPIANTARE'!$G878,\"\")","v":""},{"$f":"IF('3 - SPECIE DA IMPIANTARE'!#REF!=1,'3 - SPECIE DA IMPIANTARE'!#REF!,\"\")","v":{"$error":"#REF!"}}]
[{"$f":"IF('3 - SPECIE DA IMPIANTARE'!$G879=\"AZIONE_1\",'3 - SPECIE DA IMPIANTARE'!$G879,\"\")","v":""},{"$f":"IF('3 - SPECIE DA IMPIANTARE'!#REF!=1,'3 - SPECIE DA IMPIANTARE'!#REF!,\"\")","v":{"$error":"#REF!"}}]
[{"$f":"IF('3 - SPECIE DA IMPIANTARE'!$G880=\"AZIONE_1\",'3 - SPECIE DA IMPIANTARE'!$G880,\"\")","v":""},{"$f":"IF('3 - SPECIE DA IMPIANTARE'!#REF!=1,'3 - SPECIE DA IMPIANTARE'!#REF!,\"\")","v":{"$error":"#REF!"}}]
[{"$f":"IF('3 - SPECIE DA IMPIANTARE'!$G881=\"AZIONE_1\",'3 - SPECIE DA IMPIANTARE'!$G881,\"\")","v":""},{"$f":"IF('3 - SPECIE DA IMPIANTARE'!#REF!=1,'3 - SPECIE DA IMPIANTARE'!#REF!,\"\")","v":{"$error":"#REF!"}}]
[{"$f":"IF('3 - SPECIE DA IMPIANTARE'!$G882=\"AZIONE_1\",'3 - SPECIE DA IMPIANTARE'!$G882,\"\")","v":""},{"$f":"IF('3 - SPECIE DA IMPIANTARE'!#REF!=1,'3 - SPECIE DA IMPIANTARE'!#REF!,\"\")","v":{"$error":"#REF!"}}]
[{"$f":"IF('3 - SPECIE DA IMPIANTARE'!$G883=\"AZIONE_1\",'3 - SPECIE DA IMPIANTARE'!$G883,\"\")","v":""},{"$f":"IF('3 - SPECIE DA IMPIANTARE'!#REF!=1,'3 - SPECIE DA IMPIANTARE'!#REF!,\"\")","v":{"$error":"#REF!"}}]
[{"$f":"IF('3 - SPECIE DA IMPIANTARE'!$G884=\"AZIONE_1\",'3 - SPECIE DA IMPIANTARE'!$G884,\"\")","v":""},{"$f":"IF('3 - SPECIE DA IMPIANTARE'!#REF!=1,'3 - SPECIE DA IMPIANTARE'!#REF!,\"\")","v":{"$error":"#REF!"}}]
[{"$f":"IF('3 - SPECIE DA IMPIANTARE'!$G885=\"AZIONE_1\",'3 - SPECIE DA IMPIANTARE'!$G885,\"\")","v":""},{"$f":"IF('3 - SPECIE DA IMPIANTARE'!#REF!=1,'3 - SPECIE DA IMPIANTARE'!#REF!,\"\")","v":{"$error":"#REF!"}}]
[{"$f":"IF('3 - SPECIE DA IMPIANTARE'!$G886=\"AZIONE_1\",'3 - SPECIE DA IMPIANTARE'!$G886,\"\")","v":""},{"$f":"IF('3 - SPECIE DA IMPIANTARE'!#REF!=1,'3 - SPECIE DA IMPIANTARE'!#REF!,\"\")","v":{"$error":"#REF!"}}]
[{"$f":"IF('3 - SPECIE DA IMPIANTARE'!$G887=\"AZIONE_1\",'3 - SPECIE DA IMPIANTARE'!$G887,\"\")","v":""},{"$f":"IF('3 - SPECIE DA IMPIANTARE'!#REF!=1,'3 - SPECIE DA IMPIANTARE'!#REF!,\"\")","v":{"$error":"#REF!"}}]
[{"$f":"IF('3 - SPECIE DA IMPIANTARE'!$G888=\"AZIONE_1\",'3 - SPECIE DA IMPIANTARE'!$G888,\"\")","v":""},{"$f":"IF('3 - SPECIE DA IMPIANTARE'!#REF!=1,'3 - SPECIE DA IMPIANTARE'!#REF!,\"\")","v":{"$error":"#REF!"}}]
[{"$f":"IF('3 - SPECIE DA IMPIANTARE'!$G889=\"AZIONE_1\",'3 - SPECIE DA IMPIANTARE'!$G889,\"\")","v":""},{"$f":"IF('3 - SPECIE DA IMPIANTARE'!#REF!=1,'3 - SPECIE DA IMPIANTARE'!#REF!,\"\")","v":{"$error":"#REF!"}}]
[{"$f":"IF('3 - SPECIE DA IMPIANTARE'!$G890=\"AZIONE_1\",'3 - SPECIE DA IMPIANTARE'!$G890,\"\")","v":""},{"$f":"IF('3 - SPECIE DA IMPIANTARE'!#REF!=1,'3 - SPECIE DA IMPIANTARE'!#REF!,\"\")","v":{"$error":"#REF!"}}]
[{"$f":"IF('3 - SPECIE DA IMPIANTARE'!$G891=\"AZIONE_1\",'3 - SPECIE DA IMPIANTARE'!$G891,\"\")","v":""},{"$f":"IF('3 - SPECIE DA IMPIANTARE'!#REF!=1,'3 - SPECIE DA IMPIANTARE'!#REF!,\"\")","v":{"$error":"#REF!"}}]
[{"$f":"IF('3 - SPECIE DA IMPIANTARE'!$G892=\"AZIONE_1\",'3 - SPECIE DA IMPIANTARE'!$G892,\"\")","v":""},{"$f":"IF('3 - SPECIE DA IMPIANTARE'!#REF!=1,'3 - SPECIE DA IMPIANTARE'!#REF!,\"\")","v":{"$error":"#REF!"}}]
[{"$f":"IF('3 - SPECIE DA IMPIANTARE'!$G893=\"AZIONE_1\",'3 - SPECIE DA IMPIANTARE'!$G893,\"\")","v":""},{"$f":"IF('3 - SPECIE DA IMPIANTARE'!#REF!=1,'3 - SPECIE DA IMPIANTARE'!#REF!,\"\")","v":{"$error":"#REF!"}}]
[{"$f":"IF('3 - SPECIE DA IMPIANTARE'!$G894=\"AZIONE_1\",'3 - SPECIE DA IMPIANTARE'!$G894,\"\")","v":""},{"$f":"IF('3 - SPECIE DA IMPIANTARE'!#REF!=1,'3 - SPECIE DA IMPIANTARE'!#REF!,\"\")","v":{"$error":"#REF!"}}]
[{"$f":"IF('3 - SPECIE DA IMPIANTARE'!$G895=\"AZIONE_1\",'3 - SPECIE DA IMPIANTARE'!$G895,\"\")","v":""},{"$f":"IF('3 - SPECIE DA IMPIANTARE'!#REF!=1,'3 - SPECIE DA IMPIANTARE'!#REF!,\"\")","v":{"$error":"#REF!"}}]
[{"$f":"IF('3 - SPECIE DA IMPIANTARE'!$G896=\"AZIONE_1\",'3 - SPECIE DA IMPIANTARE'!$G896,\"\")","v":""},{"$f":"IF('3 - SPECIE DA IMPIANTARE'!#REF!=1,'3 - SPECIE DA IMPIANTARE'!#REF!,\"\")","v":{"$error":"#REF!"}}]
[{"$f":"IF('3 - SPECIE DA IMPIANTARE'!$G897=\"AZIONE_1\",'3 - SPECIE DA IMPIANTARE'!$G897,\"\")","v":""},{"$f":"IF('3 - SPECIE DA IMPIANTARE'!#REF!=1,'3 - SPECIE DA IMPIANTARE'!#REF!,\"\")","v":{"$error":"#REF!"}}]
[{"$f":"IF('3 - SPECIE DA IMPIANTARE'!$G898=\"AZIONE_1\",'3 - SPECIE DA IMPIANTARE'!$G898,\"\")","v":""},{"$f":"IF('3 - SPECIE DA IMPIANTARE'!#REF!=1,'3 - SPECIE DA IMPIANTARE'!#REF!,\"\")","v":{"$error":"#REF!"}}]
[{"$f":"IF('3 - SPECIE DA IMPIANTARE'!$G899=\"AZIONE_1\",'3 - SPECIE DA IMPIANTARE'!$G899,\"\")","v":""},{"$f":"IF('3 - SPECIE DA IMPIANTARE'!#REF!=1,'3 - SPECIE DA IMPIANTARE'!#REF!,\"\")","v":{"$error":"#REF!"}}]
[{"$f":"IF('3 - SPECIE DA IMPIANTARE'!$G900=\"AZIONE_1\",'3 - SPECIE DA IMPIANTARE'!$G900,\"\")","v":""},{"$f":"IF('3 - SPECIE DA IMPIANTARE'!#REF!=1,'3 - SPECIE DA IMPIANTARE'!#REF!,\"\")","v":{"$error":"#REF!"}}]
[{"$f":"IF('3 - SPECIE DA IMPIANTARE'!$G901=\"AZIONE_1\",'3 - SPECIE DA IMPIANTARE'!$G901,\"\")","v":""},{"$f":"IF('3 - SPECIE DA IMPIANTARE'!#REF!=1,'3 - SPECIE DA IMPIANTARE'!#REF!,\"\")","v":{"$error":"#REF!"}}]
[{"$f":"IF('3 - SPECIE DA IMPIANTARE'!$G902=\"AZIONE_1\",'3 - SPECIE DA IMPIANTARE'!$G902,\"\")","v":""},{"$f":"IF('3 - SPECIE DA IMPIANTARE'!#REF!=1,'3 - SPECIE DA IMPIANTARE'!#REF!,\"\")","v":{"$error":"#REF!"}}]
[{"$f":"IF('3 - SPECIE DA IMPIANTARE'!$G903=\"AZIONE_1\",'3 - SPECIE DA IMPIANTARE'!$G903,\"\")","v":""},{"$f":"IF('3 - SPECIE DA IMPIANTARE'!#REF!=1,'3 - SPECIE DA IMPIANTARE'!#REF!,\"\")","v":{"$error":"#REF!"}}]
[{"$f":"IF('3 - SPECIE DA IMPIANTARE'!$G904=\"AZIONE_1\",'3 - SPECIE DA IMPIANTARE'!$G904,\"\")","v":""},{"$f":"IF('3 - SPECIE DA IMPIANTARE'!#REF!=1,'3 - SPECIE DA IMPIANTARE'!#REF!,\"\")","v":{"$error":"#REF!"}}]
[{"$f":"IF('3 - SPECIE DA IMPIANTARE'!$G905=\"AZIONE_1\",'3 - SPECIE DA IMPIANTARE'!$G905,\"\")","v":""},{"$f":"IF('3 - SPECIE DA IMPIANTARE'!#REF!=1,'3 - SPECIE DA IMPIANTARE'!#REF!,\"\")","v":{"$error":"#REF!"}}]
[{"$f":"IF('3 - SPECIE DA IMPIANTARE'!$G906=\"AZIONE_1\",'3 - SPECIE DA IMPIANTARE'!$G906,\"\")","v":""},{"$f":"IF('3 - SPECIE DA IMPIANTARE'!#REF!=1,'3 - SPECIE DA IMPIANTARE'!#REF!,\"\")","v":{"$error":"#REF!"}}]
[{"$f":"IF('3 - SPECIE DA IMPIANTARE'!$G907=\"AZIONE_1\",'3 - SPECIE DA IMPIANTARE'!$G907,\"\")","v":""},{"$f":"IF('3 - SPECIE DA IMPIANTARE'!#REF!=1,'3 - SPECIE DA IMPIANTARE'!#REF!,\"\")","v":{"$error":"#REF!"}}]
[{"$f":"IF('3 - SPECIE DA IMPIANTARE'!$G908=\"AZIONE_1\",'3 - SPECIE DA IMPIANTARE'!$G908,\"\")","v":""},{"$f":"IF('3 - SPECIE DA IMPIANTARE'!#REF!=1,'3 - SPECIE DA IMPIANTARE'!#REF!,\"\")","v":{"$error":"#REF!"}}]
[{"$f":"IF('3 - SPECIE DA IMPIANTARE'!$G909=\"AZIONE_1\",'3 - SPECIE DA IMPIANTARE'!$G909,\"\")","v":""},{"$f":"IF('3 - SPECIE DA IMPIANTARE'!#REF!=1,'3 - SPECIE DA IMPIANTARE'!#REF!,\"\")","v":{"$error":"#REF!"}}]
[{"$f":"IF('3 - SPECIE DA IMPIANTARE'!$G910=\"AZIONE_1\",'3 - SPECIE DA IMPIANTARE'!$G910,\"\")","v":""},{"$f":"IF('3 - SPECIE DA IMPIANTARE'!#REF!=1,'3 - SPECIE DA IMPIANTARE'!#REF!,\"\")","v":{"$error":"#REF!"}}]
[{"$f":"IF('3 - SPECIE DA IMPIANTARE'!$G911=\"AZIONE_1\",'3 - SPECIE DA IMPIANTARE'!$G911,\"\")","v":""},{"$f":"IF('3 - SPECIE DA IMPIANTARE'!#REF!=1,'3 - SPECIE DA IMPIANTARE'!#REF!,\"\")","v":{"$error":"#REF!"}}]
[{"$f":"IF('3 - SPECIE DA IMPIANTARE'!$G912=\"AZIONE_1\",'3 - SPECIE DA IMPIANTARE'!$G912,\"\")","v":""},{"$f":"IF('3 - SPECIE DA IMPIANTARE'!#REF!=1,'3 - SPECIE DA IMPIANTARE'!#REF!,\"\")","v":{"$error":"#REF!"}}]
[{"$f":"IF('3 - SPECIE DA IMPIANTARE'!$G913=\"AZIONE_1\",'3 - SPECIE DA IMPIANTARE'!$G913,\"\")","v":""},{"$f":"IF('3 - SPECIE DA IMPIANTARE'!#REF!=1,'3 - SPECIE DA IMPIANTARE'!#REF!,\"\")","v":{"$error":"#REF!"}}]
[{"$f":"IF('3 - SPECIE DA IMPIANTARE'!$G914=\"AZIONE_1\",'3 - SPECIE DA IMPIANTARE'!$G914,\"\")","v":""},{"$f":"IF('3 - SPECIE DA IMPIANTARE'!#REF!=1,'3 - SPECIE DA IMPIANTARE'!#REF!,\"\")","v":{"$error":"#REF!"}}]
[{"$f":"IF('3 - SPECIE DA IMPIANTARE'!$G915=\"AZIONE_1\",'3 - SPECIE DA IMPIANTARE'!$G915,\"\")","v":""},{"$f":"IF('3 - SPECIE DA IMPIANTARE'!#REF!=1,'3 - SPECIE DA IMPIANTARE'!#REF!,\"\")","v":{"$error":"#REF!"}}]
[{"$f":"IF('3 - SPECIE DA IMPIANTARE'!$G916=\"AZIONE_1\",'3 - SPECIE DA IMPIANTARE'!$G916,\"\")","v":""},{"$f":"IF('3 - SPECIE DA IMPIANTARE'!#REF!=1,'3 - SPECIE DA IMPIANTARE'!#REF!,\"\")","v":{"$error":"#REF!"}}]
[{"$f":"IF('3 - SPECIE DA IMPIANTARE'!$G917=\"AZIONE_1\",'3 - SPECIE DA IMPIANTARE'!$G917,\"\")","v":""},{"$f":"IF('3 - SPECIE DA IMPIANTARE'!#REF!=1,'3 - SPECIE DA IMPIANTARE'!#REF!,\"\")","v":{"$error":"#REF!"}}]
[{"$f":"IF('3 - SPECIE DA IMPIANTARE'!$G918=\"AZIONE_1\",'3 - SPECIE DA IMPIANTARE'!$G918,\"\")","v":""},{"$f":"IF('3 - SPECIE DA IMPIANTARE'!#REF!=1,'3 - SPECIE DA IMPIANTARE'!#REF!,\"\")","v":{"$error":"#REF!"}}]
[{"$f":"IF('3 - SPECIE DA IMPIANTARE'!$G919=\"AZIONE_1\",'3 - SPECIE DA IMPIANTARE'!$G919,\"\")","v":""},{"$f":"IF('3 - SPECIE DA IMPIANTARE'!#REF!=1,'3 - SPECIE DA IMPIANTARE'!#REF!,\"\")","v":{"$error":"#REF!"}}]
[{"$f":"IF('3 - SPECIE DA IMPIANTARE'!$G920=\"AZIONE_1\",'3 - SPECIE DA IMPIANTARE'!$G920,\"\")","v":""},{"$f":"IF('3 - SPECIE DA IMPIANTARE'!#REF!=1,'3 - SPECIE DA IMPIANTARE'!#REF!,\"\")","v":{"$error":"#REF!"}}]
[{"$f":"IF('3 - SPECIE DA IMPIANTARE'!$G921=\"AZIONE_1\",'3 - SPECIE DA IMPIANTARE'!$G921,\"\")","v":""},{"$f":"IF('3 - SPECIE DA IMPIANTARE'!#REF!=1,'3 - SPECIE DA IMPIANTARE'!#REF!,\"\")","v":{"$error":"#REF!"}}]
[{"$f":"IF('3 - SPECIE DA IMPIANTARE'!$G922=\"AZIONE_1\",'3 - SPECIE DA IMPIANTARE'!$G922,\"\")","v":""},{"$f":"IF('3 - SPECIE DA IMPIANTARE'!#REF!=1,'3 - SPECIE DA IMPIANTARE'!#REF!,\"\")","v":{"$error":"#REF!"}}]
[{"$f":"IF('3 - SPECIE DA IMPIANTARE'!$G923=\"AZIONE_1\",'3 - SPECIE DA IMPIANTARE'!$G923,\"\")","v":""},{"$f":"IF('3 - SPECIE DA IMPIANTARE'!#REF!=1,'3 - SPECIE DA IMPIANTARE'!#REF!,\"\")","v":{"$error":"#REF!"}}]
[{"$f":"IF('3 - SPECIE DA IMPIANTARE'!$G924=\"AZIONE_1\",'3 - SPECIE DA IMPIANTARE'!$G924,\"\")","v":""},{"$f":"IF('3 - SPECIE DA IMPIANTARE'!#REF!=1,'3 - SPECIE DA IMPIANTARE'!#REF!,\"\")","v":{"$error":"#REF!"}}]
[{"$f":"IF('3 - SPECIE DA IMPIANTARE'!$G925=\"AZIONE_1\",'3 - SPECIE DA IMPIANTARE'!$G925,\"\")","v":""},{"$f":"IF('3 - SPECIE DA IMPIANTARE'!#REF!=1,'3 - SPECIE DA IMPIANTARE'!#REF!,\"\")","v":{"$error":"#REF!"}}]
[{"$f":"IF('3 - SPECIE DA IMPIANTARE'!$G926=\"AZIONE_1\",'3 - SPECIE DA IMPIANTARE'!$G926,\"\")","v":""},{"$f":"IF('3 - SPECIE DA IMPIANTARE'!#REF!=1,'3 - SPECIE DA IMPIANTARE'!#REF!,\"\")","v":{"$error":"#REF!"}}]
[{"$f":"IF('3 - SPECIE DA IMPIANTARE'!$G927=\"AZIONE_1\",'3 - SPECIE DA IMPIANTARE'!$G927,\"\")","v":""},{"$f":"IF('3 - SPECIE DA IMPIANTARE'!#REF!=1,'3 - SPECIE DA IMPIANTARE'!#REF!,\"\")","v":{"$error":"#REF!"}}]
[{"$f":"IF('3 - SPECIE DA IMPIANTARE'!$G928=\"AZIONE_1\",'3 - SPECIE DA IMPIANTARE'!$G928,\"\")","v":""},{"$f":"IF('3 - SPECIE DA IMPIANTARE'!#REF!=1,'3 - SPECIE DA IMPIANTARE'!#REF!,\"\")","v":{"$error":"#REF!"}}]
[{"$f":"IF('3 - SPECIE DA IMPIANTARE'!$G929=\"AZIONE_1\",'3 - SPECIE DA IMPIANTARE'!$G929,\"\")","v":""},{"$f":"IF('3 - SPECIE DA IMPIANTARE'!#REF!=1,'3 - SPECIE DA IMPIANTARE'!#REF!,\"\")","v":{"$error":"#REF!"}}]
[{"$f":"IF('3 - SPECIE DA IMPIANTARE'!$G930=\"AZIONE_1\",'3 - SPECIE DA IMPIANTARE'!$G930,\"\")","v":""},{"$f":"IF('3 - SPECIE DA IMPIANTARE'!#REF!=1,'3 - SPECIE DA IMPIANTARE'!#REF!,\"\")","v":{"$error":"#REF!"}}]
[{"$f":"IF('3 - SPECIE DA IMPIANTARE'!$G931=\"AZIONE_1\",'3 - SPECIE DA IMPIANTARE'!$G931,\"\")","v":""},{"$f":"IF('3 - SPECIE DA IMPIANTARE'!#REF!=1,'3 - SPECIE DA IMPIANTARE'!#REF!,\"\")","v":{"$error":"#REF!"}}]
[{"$f":"IF('3 - SPECIE DA IMPIANTARE'!$G932=\"AZIONE_1\",'3 - SPECIE DA IMPIANTARE'!$G932,\"\")","v":""},{"$f":"IF('3 - SPECIE DA IMPIANTARE'!#REF!=1,'3 - SPECIE DA IMPIANTARE'!#REF!,\"\")","v":{"$error":"#REF!"}}]
[{"$f":"IF('3 - SPECIE DA IMPIANTARE'!$G933=\"AZIONE_1\",'3 - SPECIE DA IMPIANTARE'!$G933,\"\")","v":""},{"$f":"IF('3 - SPECIE DA IMPIANTARE'!#REF!=1,'3 - SPECIE DA IMPIANTARE'!#REF!,\"\")","v":{"$error":"#REF!"}}]
[{"$f":"IF('3 - SPECIE DA IMPIANTARE'!$G934=\"AZIONE_1\",'3 - SPECIE DA IMPIANTARE'!$G934,\"\")","v":""},{"$f":"IF('3 - SPECIE DA IMPIANTARE'!#REF!=1,'3 - SPECIE DA IMPIANTARE'!#REF!,\"\")","v":{"$error":"#REF!"}}]
[{"$f":"IF('3 - SPECIE DA IMPIANTARE'!$G935=\"AZIONE_1\",'3 - SPECIE DA IMPIANTARE'!$G935,\"\")","v":""},{"$f":"IF('3 - SPECIE DA IMPIANTARE'!#REF!=1,'3 - SPECIE DA IMPIANTARE'!#REF!,\"\")","v":{"$error":"#REF!"}}]
[{"$f":"IF('3 - SPECIE DA IMPIANTARE'!$G936=\"AZIONE_1\",'3 - SPECIE DA IMPIANTARE'!$G936,\"\")","v":""},{"$f":"IF('3 - SPECIE DA IMPIANTARE'!#REF!=1,'3 - SPECIE DA IMPIANTARE'!#REF!,\"\")","v":{"$error":"#REF!"}}]
[{"$f":"IF('3 - SPECIE DA IMPIANTARE'!$G937=\"AZIONE_1\",'3 - SPECIE DA IMPIANTARE'!$G937,\"\")","v":""},{"$f":"IF('3 - SPECIE DA IMPIANTARE'!#REF!=1,'3 - SPECIE DA IMPIANTARE'!#REF!,\"\")","v":{"$error":"#REF!"}}]
[{"$f":"IF('3 - SPECIE DA IMPIANTARE'!$G938=\"AZIONE_1\",'3 - SPECIE DA IMPIANTARE'!$G938,\"\")","v":""},{"$f":"IF('3 - SPECIE DA IMPIANTARE'!#REF!=1,'3 - SPECIE DA IMPIANTARE'!#REF!,\"\")","v":{"$error":"#REF!"}}]
[{"$f":"IF('3 - SPECIE DA IMPIANTARE'!$G939=\"AZIONE_1\",'3 - SPECIE DA IMPIANTARE'!$G939,\"\")","v":""},{"$f":"IF('3 - SPECIE DA IMPIANTARE'!#REF!=1,'3 - SPECIE DA IMPIANTARE'!#REF!,\"\")","v":{"$error":"#REF!"}}]
[{"$f":"IF('3 - SPECIE DA IMPIANTARE'!$G940=\"AZIONE_1\",'3 - SPECIE DA IMPIANTARE'!$G940,\"\")","v":""},{"$f":"IF('3 - SPECIE DA IMPIANTARE'!#REF!=1,'3 - SPECIE DA IMPIANTARE'!#REF!,\"\")","v":{"$error":"#REF!"}}]
[{"$f":"IF('3 - SPECIE DA IMPIANTARE'!$G941=\"AZIONE_1\",'3 - SPECIE DA IMPIANTARE'!$G941,\"\")","v":""},{"$f":"IF('3 - SPECIE DA IMPIANTARE'!#REF!=1,'3 - SPECIE DA IMPIANTARE'!#REF!,\"\")","v":{"$error":"#REF!"}}]
[{"$f":"IF('3 - SPECIE DA IMPIANTARE'!$G942=\"AZIONE_1\",'3 - SPECIE DA IMPIANTARE'!$G942,\"\")","v":""},{"$f":"IF('3 - SPECIE DA IMPIANTARE'!#REF!=1,'3 - SPECIE DA IMPIANTARE'!#REF!,\"\")","v":{"$error":"#REF!"}}]
[{"$f":"IF('3 - SPECIE DA IMPIANTARE'!$G943=\"AZIONE_1\",'3 - SPECIE DA IMPIANTARE'!$G943,\"\")","v":""},{"$f":"IF('3 - SPECIE DA IMPIANTARE'!#REF!=1,'3 - SPECIE DA IMPIANTARE'!#REF!,\"\")","v":{"$error":"#REF!"}}]
[{"$f":"IF('3 - SPECIE DA IMPIANTARE'!$G944=\"AZIONE_1\",'3 - SPECIE DA IMPIANTARE'!$G944,\"\")","v":""},{"$f":"IF('3 - SPECIE DA IMPIANTARE'!#REF!=1,'3 - SPECIE DA IMPIANTARE'!#REF!,\"\")","v":{"$error":"#REF!"}}]
[{"$f":"IF('3 - SPECIE DA IMPIANTARE'!$G945=\"AZIONE_1\",'3 - SPECIE DA IMPIANTARE'!$G945,\"\")","v":""},{"$f":"IF('3 - SPECIE DA IMPIANTARE'!#REF!=1,'3 - SPECIE DA IMPIANTARE'!#REF!,\"\")","v":{"$error":"#REF!"}}]
[{"$f":"IF('3 - SPECIE DA IMPIANTARE'!$G946=\"AZIONE_1\",'3 - SPECIE DA IMPIANTARE'!$G946,\"\")","v":""},{"$f":"IF('3 - SPECIE DA IMPIANTARE'!#REF!=1,'3 - SPECIE DA IMPIANTARE'!#REF!,\"\")","v":{"$error":"#REF!"}}]
[{"$f":"IF('3 - SPECIE DA IMPIANTARE'!$G947=\"AZIONE_1\",'3 - SPECIE DA IMPIANTARE'!$G947,\"\")","v":""},{"$f":"IF('3 - SPECIE DA IMPIANTARE'!#REF!=1,'3 - SPECIE DA IMPIANTARE'!#REF!,\"\")","v":{"$error":"#REF!"}}]
[{"$f":"IF('3 - SPECIE DA IMPIANTARE'!$G948=\"AZIONE_1\",'3 - SPECIE DA IMPIANTARE'!$G948,\"\")","v":""},{"$f":"IF('3 - SPECIE DA IMPIANTARE'!#REF!=1,'3 - SPECIE DA IMPIANTARE'!#REF!,\"\")","v":{"$error":"#REF!"}}]
[{"$f":"IF('3 - SPECIE DA IMPIANTARE'!$G949=\"AZIONE_1\",'3 - SPECIE DA IMPIANTARE'!$G949,\"\")","v":""},{"$f":"IF('3 - SPECIE DA IMPIANTARE'!#REF!=1,'3 - SPECIE DA IMPIANTARE'!#REF!,\"\")","v":{"$error":"#REF!"}}]
[{"$f":"IF('3 - SPECIE DA IMPIANTARE'!$G950=\"AZIONE_1\",'3 - SPECIE DA IMPIANTARE'!$G950,\"\")","v":""},{"$f":"IF('3 - SPECIE DA IMPIANTARE'!#REF!=1,'3 - SPECIE DA IMPIANTARE'!#REF!,\"\")","v":{"$error":"#REF!"}}]
[{"$f":"IF('3 - SPECIE DA IMPIANTARE'!$G951=\"AZIONE_1\",'3 - SPECIE DA IMPIANTARE'!$G951,\"\")","v":""},{"$f":"IF('3 - SPECIE DA IMPIANTARE'!#REF!=1,'3 - SPECIE DA IMPIANTARE'!#REF!,\"\")","v":{"$error":"#REF!"}}]
[{"$f":"IF('3 - SPECIE DA IMPIANTARE'!$G952=\"AZIONE_1\",'3 - SPECIE DA IMPIANTARE'!$G952,\"\")","v":""},{"$f":"IF('3 - SPECIE DA IMPIANTARE'!#REF!=1,'3 - SPECIE DA IMPIANTARE'!#REF!,\"\")","v":{"$error":"#REF!"}}]
[{"$f":"IF('3 - SPECIE DA IMPIANTARE'!$G953=\"AZIONE_1\",'3 - SPECIE DA IMPIANTARE'!$G953,\"\")","v":""},{"$f":"IF('3 - SPECIE DA IMPIANTARE'!#REF!=1,'3 - SPECIE DA IMPIANTARE'!#REF!,\"\")","v":{"$error":"#REF!"}}]
[{"$f":"IF('3 - SPECIE DA IMPIANTARE'!$G954=\"AZIONE_1\",'3 - SPECIE DA IMPIANTARE'!$G954,\"\")","v":""},{"$f":"IF('3 - SPECIE DA IMPIANTARE'!#REF!=1,'3 - SPECIE DA IMPIANTARE'!#REF!,\"\")","v":{"$error":"#REF!"}}]
[{"$f":"IF('3 - SPECIE DA IMPIANTARE'!$G955=\"AZIONE_1\",'3 - SPECIE DA IMPIANTARE'!$G955,\"\")","v":""},{"$f":"IF('3 - SPECIE DA IMPIANTARE'!#REF!=1,'3 - SPECIE DA IMPIANTARE'!#REF!,\"\")","v":{"$error":"#REF!"}}]
[{"$f":"IF('3 - SPECIE DA IMPIANTARE'!$G956=\"AZIONE_1\",'3 - SPECIE DA IMPIANTARE'!$G956,\"\")","v":""},{"$f":"IF('3 - SPECIE DA IMPIANTARE'!#REF!=1,'3 - SPECIE DA IMPIANTARE'!#REF!,\"\")","v":{"$error":"#REF!"}}]
[{"$f":"IF('3 - SPECIE DA IMPIANTARE'!$G957=\"AZIONE_1\",'3 - SPECIE DA IMPIANTARE'!$G957,\"\")","v":""},{"$f":"IF('3 - SPECIE DA IMPIANTARE'!#REF!=1,'3 - SPECIE DA IMPIANTARE'!#REF!,\"\")","v":{"$error":"#REF!"}}]
[{"$f":"IF('3 - SPECIE DA IMPIANTARE'!$G958=\"AZIONE_1\",'3 - SPECIE DA IMPIANTARE'!$G958,\"\")","v":""},{"$f":"IF('3 - SPECIE DA IMPIANTARE'!#REF!=1,'3 - SPECIE DA IMPIANTARE'!#REF!,\"\")","v":{"$error":"#REF!"}}]
[{"$f":"IF('3 - SPECIE DA IMPIANTARE'!$G959=\"AZIONE_1\",'3 - SPECIE DA IMPIANTARE'!$G959,\"\")","v":""},{"$f":"IF('3 - SPECIE DA IMPIANTARE'!#REF!=1,'3 - SPECIE DA IMPIANTARE'!#REF!,\"\")","v":{"$error":"#REF!"}}]
[{"$f":"IF('3 - SPECIE DA IMPIANTARE'!$G960=\"AZIONE_1\",'3 - SPECIE DA IMPIANTARE'!$G960,\"\")","v":""},{"$f":"IF('3 - SPECIE DA IMPIANTARE'!#REF!=1,'3 - SPECIE DA IMPIANTARE'!#REF!,\"\")","v":{"$error":"#REF!"}}]
[{"$f":"IF('3 - SPECIE DA IMPIANTARE'!$G961=\"AZIONE_1\",'3 - SPECIE DA IMPIANTARE'!$G961,\"\")","v":""},{"$f":"IF('3 - SPECIE DA IMPIANTARE'!#REF!=1,'3 - SPECIE DA IMPIANTARE'!#REF!,\"\")","v":{"$error":"#REF!"}}]
[{"$f":"IF('3 - SPECIE DA IMPIANTARE'!$G962=\"AZIONE_1\",'3 - SPECIE DA IMPIANTARE'!$G962,\"\")","v":""},{"$f":"IF('3 - SPECIE DA IMPIANTARE'!#REF!=1,'3 - SPECIE DA IMPIANTARE'!#REF!,\"\")","v":{"$error":"#REF!"}}]
[{"$f":"IF('3 - SPECIE DA IMPIANTARE'!$G963=\"AZIONE_1\",'3 - SPECIE DA IMPIANTARE'!$G963,\"\")","v":""},{"$f":"IF('3 - SPECIE DA IMPIANTARE'!#REF!=1,'3 - SPECIE DA IMPIANTARE'!#REF!,\"\")","v":{"$error":"#REF!"}}]
[{"$f":"IF('3 - SPECIE DA IMPIANTARE'!$G964=\"AZIONE_1\",'3 - SPECIE DA IMPIANTARE'!$G964,\"\")","v":""},{"$f":"IF('3 - SPECIE DA IMPIANTARE'!#REF!=1,'3 - SPECIE DA IMPIANTARE'!#REF!,\"\")","v":{"$error":"#REF!"}}]
[{"$f":"IF('3 - SPECIE DA IMPIANTARE'!$G965=\"AZIONE_1\",'3 - SPECIE DA IMPIANTARE'!$G965,\"\")","v":""},{"$f":"IF('3 - SPECIE DA IMPIANTARE'!#REF!=1,'3 - SPECIE DA IMPIANTARE'!#REF!,\"\")","v":{"$error":"#REF!"}}]
[{"$f":"IF('3 - SPECIE DA IMPIANTARE'!$G966=\"AZIONE_1\",'3 - SPECIE DA IMPIANTARE'!$G966,\"\")","v":""},{"$f":"IF('3 - SPECIE DA IMPIANTARE'!#REF!=1,'3 - SPECIE DA IMPIANTARE'!#REF!,\"\")","v":{"$error":"#REF!"}}]
[{"$f":"IF('3 - SPECIE DA IMPIANTARE'!$G967=\"AZIONE_1\",'3 - SPECIE DA IMPIANTARE'!$G967,\"\")","v":""},{"$f":"IF('3 - SPECIE DA IMPIANTARE'!#REF!=1,'3 - SPECIE DA IMPIANTARE'!#REF!,\"\")","v":{"$error":"#REF!"}}]
[{"$f":"IF('3 - SPECIE DA IMPIANTARE'!$G968=\"AZIONE_1\",'3 - SPECIE DA IMPIANTARE'!$G968,\"\")","v":""},{"$f":"IF('3 - SPECIE DA IMPIANTARE'!#REF!=1,'3 - SPECIE DA IMPIANTARE'!#REF!,\"\")","v":{"$error":"#REF!"}}]
[{"$f":"IF('3 - SPECIE DA IMPIANTARE'!$G969=\"AZIONE_1\",'3 - SPECIE DA IMPIANTARE'!$G969,\"\")","v":""},{"$f":"IF('3 - SPECIE DA IMPIANTARE'!#REF!=1,'3 - SPECIE DA IMPIANTARE'!#REF!,\"\")","v":{"$error":"#REF!"}}]
[{"$f":"IF('3 - SPECIE DA IMPIANTARE'!$G970=\"AZIONE_1\",'3 - SPECIE DA IMPIANTARE'!$G970,\"\")","v":""},{"$f":"IF('3 - SPECIE DA IMPIANTARE'!#REF!=1,'3 - SPECIE DA IMPIANTARE'!#REF!,\"\")","v":{"$error":"#REF!"}}]
[{"$f":"IF('3 - SPECIE DA IMPIANTARE'!$G971=\"AZIONE_1\",'3 - SPECIE DA IMPIANTARE'!$G971,\"\")","v":""},{"$f":"IF('3 - SPECIE DA IMPIANTARE'!#REF!=1,'3 - SPECIE DA IMPIANTARE'!#REF!,\"\")","v":{"$error":"#REF!"}}]
[{"$f":"IF('3 - SPECIE DA IMPIANTARE'!$G972=\"AZIONE_1\",'3 - SPECIE DA IMPIANTARE'!$G972,\"\")","v":""},{"$f":"IF('3 - SPECIE DA IMPIANTARE'!#REF!=1,'3 - SPECIE DA IMPIANTARE'!#REF!,\"\")","v":{"$error":"#REF!"}}]
[{"$f":"IF('3 - SPECIE DA IMPIANTARE'!$G973=\"AZIONE_1\",'3 - SPECIE DA IMPIANTARE'!$G973,\"\")","v":""},{"$f":"IF('3 - SPECIE DA IMPIANTARE'!#REF!=1,'3 - SPECIE DA IMPIANTARE'!#REF!,\"\")","v":{"$error":"#REF!"}}]
[{"$f":"IF('3 - SPECIE DA IMPIANTARE'!$G974=\"AZIONE_1\",'3 - SPECIE DA IMPIANTARE'!$G974,\"\")","v":""},{"$f":"IF('3 - SPECIE DA IMPIANTARE'!#REF!=1,'3 - SPECIE DA IMPIANTARE'!#REF!,\"\")","v":{"$error":"#REF!"}}]
[{"$f":"IF('3 - SPECIE DA IMPIANTARE'!$G975=\"AZIONE_1\",'3 - SPECIE DA IMPIANTARE'!$G975,\"\")","v":""},{"$f":"IF('3 - SPECIE DA IMPIANTARE'!#REF!=1,'3 - SPECIE DA IMPIANTARE'!#REF!,\"\")","v":{"$error":"#REF!"}}]
[{"$f":"IF('3 - SPECIE DA IMPIANTARE'!$G976=\"AZIONE_1\",'3 - SPECIE DA IMPIANTARE'!$G976,\"\")","v":""},{"$f":"IF('3 - SPECIE DA IMPIANTARE'!#REF!=1,'3 - SPECIE DA IMPIANTARE'!#REF!,\"\")","v":{"$error":"#REF!"}}]
[{"$f":"IF('3 - SPECIE DA IMPIANTARE'!$G977=\"AZIONE_1\",'3 - SPECIE DA IMPIANTARE'!$G977,\"\")","v":""},{"$f":"IF('3 - SPECIE DA IMPIANTARE'!#REF!=1,'3 - SPECIE DA IMPIANTARE'!#REF!,\"\")","v":{"$error":"#REF!"}}]
[{"$f":"IF('3 - SPECIE DA IMPIANTARE'!$G978=\"AZIONE_1\",'3 - SPECIE DA IMPIANTARE'!$G978,\"\")","v":""},{"$f":"IF('3 - SPECIE DA IMPIANTARE'!#REF!=1,'3 - SPECIE DA IMPIANTARE'!#REF!,\"\")","v":{"$error":"#REF!"}}]
[{"$f":"IF('3 - SPECIE DA IMPIANTARE'!$G979=\"AZIONE_1\",'3 - SPECIE DA IMPIANTARE'!$G979,\"\")","v":""},{"$f":"IF('3 - SPECIE DA IMPIANTARE'!#REF!=1,'3 - SPECIE DA IMPIANTARE'!#REF!,\"\")","v":{"$error":"#REF!"}}]
[{"$f":"IF('3 - SPECIE DA IMPIANTARE'!$G980=\"AZIONE_1\",'3 - SPECIE DA IMPIANTARE'!$G980,\"\")","v":""},{"$f":"IF('3 - SPECIE DA IMPIANTARE'!#REF!=1,'3 - SPECIE DA IMPIANTARE'!#REF!,\"\")","v":{"$error":"#REF!"}}]
[{"$f":"IF('3 - SPECIE DA IMPIANTARE'!$G981=\"AZIONE_1\",'3 - SPECIE DA IMPIANTARE'!$G981,\"\")","v":""},{"$f":"IF('3 - SPECIE DA IMPIANTARE'!#REF!=1,'3 - SPECIE DA IMPIANTARE'!#REF!,\"\")","v":{"$error":"#REF!"}}]
[{"$f":"IF('3 - SPECIE DA IMPIANTARE'!$G982=\"AZIONE_1\",'3 - SPECIE DA IMPIANTARE'!$G982,\"\")","v":""},{"$f":"IF('3 - SPECIE DA IMPIANTARE'!#REF!=1,'3 - SPECIE DA IMPIANTARE'!#REF!,\"\")","v":{"$error":"#REF!"}}]
[{"$f":"IF('3 - SPECIE DA IMPIANTARE'!$G983=\"AZIONE_1\",'3 - SPECIE DA IMPIANTARE'!$G983,\"\")","v":""},{"$f":"IF('3 - SPECIE DA IMPIANTARE'!#REF!=1,'3 - SPECIE DA IMPIANTARE'!#REF!,\"\")","v":{"$error":"#REF!"}}]
[{"$f":"IF('3 - SPECIE DA IMPIANTARE'!$G984=\"AZIONE_1\",'3 - SPECIE DA IMPIANTARE'!$G984,\"\")","v":""},{"$f":"IF('3 - SPECIE DA IMPIANTARE'!#REF!=1,'3 - SPECIE DA IMPIANTARE'!#REF!,\"\")","v":{"$error":"#REF!"}}]
[{"$f":"IF('3 - SPECIE DA IMPIANTARE'!$G985=\"AZIONE_1\",'3 - SPECIE DA IMPIANTARE'!$G985,\"\")","v":""},{"$f":"IF('3 - SPECIE DA IMPIANTARE'!#REF!=1,'3 - SPECIE DA IMPIANTARE'!#REF!,\"\")","v":{"$error":"#REF!"}}]
[{"$f":"IF('3 - SPECIE DA IMPIANTARE'!$G986=\"AZIONE_1\",'3 - SPECIE DA IMPIANTARE'!$G986,\"\")","v":""},{"$f":"IF('3 - SPECIE DA IMPIANTARE'!#REF!=1,'3 - SPECIE DA IMPIANTARE'!#REF!,\"\")","v":{"$error":"#REF!"}}]
[{"$f":"IF('3 - SPECIE DA IMPIANTARE'!$G987=\"AZIONE_1\",'3 - SPECIE DA IMPIANTARE'!$G987,\"\")","v":""},{"$f":"IF('3 - SPECIE DA IMPIANTARE'!#REF!=1,'3 - SPECIE DA IMPIANTARE'!#REF!,\"\")","v":{"$error":"#REF!"}}]
[{"$f":"IF('3 - SPECIE DA IMPIANTARE'!$G988=\"AZIONE_1\",'3 - SPECIE DA IMPIANTARE'!$G988,\"\")","v":""},{"$f":"IF('3 - SPECIE DA IMPIANTARE'!#REF!=1,'3 - SPECIE DA IMPIANTARE'!#REF!,\"\")","v":{"$error":"#REF!"}}]
[{"$f":"IF('3 - SPECIE DA IMPIANTARE'!$G989=\"AZIONE_1\",'3 - SPECIE DA IMPIANTARE'!$G989,\"\")","v":""},{"$f":"IF('3 - SPECIE DA IMPIANTARE'!#REF!=1,'3 - SPECIE DA IMPIANTARE'!#REF!,\"\")","v":{"$error":"#REF!"}}]
[{"$f":"IF('3 - SPECIE DA IMPIANTARE'!$G990=\"AZIONE_1\",'3 - SPECIE DA IMPIANTARE'!$G990,\"\")","v":""},{"$f":"IF('3 - SPECIE DA IMPIANTARE'!#REF!=1,'3 - SPECIE DA IMPIANTARE'!#REF!,\"\")","v":{"$error":"#REF!"}}]
[{"$f":"IF('3 - SPECIE DA IMPIANTARE'!$G991=\"AZIONE_1\",'3 - SPECIE DA IMPIANTARE'!$G991,\"\")","v":""},{"$f":"IF('3 - SPECIE DA IMPIANTARE'!#REF!=1,'3 - SPECIE DA IMPIANTARE'!#REF!,\"\")","v":{"$error":"#REF!"}}]
[{"$f":"IF('3 - SPECIE DA IMPIANTARE'!$G992=\"AZIONE_1\",'3 - SPECIE DA IMPIANTARE'!$G992,\"\")","v":""},{"$f":"IF('3 - SPECIE DA IMPIANTARE'!#REF!=1,'3 - SPECIE DA IMPIANTARE'!#REF!,\"\")","v":{"$error":"#REF!"}}]
[{"$f":"IF('3 - SPECIE DA IMPIANTARE'!$G993=\"AZIONE_1\",'3 - SPECIE DA IMPIANTARE'!$G993,\"\")","v":""},{"$f":"IF('3 - SPECIE DA IMPIANTARE'!#REF!=1,'3 - SPECIE DA IMPIANTARE'!#REF!,\"\")","v":{"$error":"#REF!"}}]
[{"$f":"IF('3 - SPECIE DA IMPIANTARE'!$G994=\"AZIONE_1\",'3 - SPECIE DA IMPIANTARE'!$G994,\"\")","v":""},{"$f":"IF('3 - SPECIE DA IMPIANTARE'!#REF!=1,'3 - SPECIE DA IMPIANTARE'!#REF!,\"\")","v":{"$error":"#REF!"}}]
[{"$f":"IF('3 - SPECIE DA IMPIANTARE'!$G995=\"AZIONE_1\",'3 - SPECIE DA IMPIANTARE'!$G995,\"\")","v":""},{"$f":"IF('3 - SPECIE DA IMPIANTARE'!#REF!=1,'3 - SPECIE DA IMPIANTARE'!#REF!,\"\")","v":{"$error":"#REF!"}}]
[{"$f":"IF('3 - SPECIE DA IMPIANTARE'!$G996=\"AZIONE_1\",'3 - SPECIE DA IMPIANTARE'!$G996,\"\")","v":""},{"$f":"IF('3 - SPECIE DA IMPIANTARE'!#REF!=1,'3 - SPECIE DA IMPIANTARE'!#REF!,\"\")","v":{"$error":"#REF!"}}]
[{"$f":"IF('3 - SPECIE DA IMPIANTARE'!$G997=\"AZIONE_1\",'3 - SPECIE DA IMPIANTARE'!$G997,\"\")","v":""},{"$f":"IF('3 - SPECIE DA IMPIANTARE'!#REF!=1,'3 - SPECIE DA IMPIANTARE'!#REF!,\"\")","v":{"$error":"#REF!"}}]
[{"$f":"IF('3 - SPECIE DA IMPIANTARE'!$G998=\"AZIONE_1\",'3 - SPECIE DA IMPIANTARE'!$G998,\"\")","v":""},{"$f":"IF('3 - SPECIE DA IMPIANTARE'!#REF!=1,'3 - SPECIE DA IMPIANTARE'!#REF!,\"\")","v":{"$error":"#REF!"}}]
[{"$f":"IF('3 - SPECIE DA IMPIANTARE'!$G999=\"AZIONE_1\",'3 - SPECIE DA IMPIANTARE'!$G999,\"\")","v":""},{"$f":"IF('3 - SPECIE DA IMPIANTARE'!#REF!=1,'3 - SPECIE DA IMPIANTARE'!#REF!,\"\")","v":{"$error":"#REF!"}}]
[{"$f":"IF('3 - SPECIE DA IMPIANTARE'!$G1000=\"AZIONE_1\",'3 - SPECIE DA IMPIANTARE'!$G1000,\"\")","v":""},{"$f":"IF('3 - SPECIE DA IMPIANTARE'!#REF!=1,'3 - SPECIE DA IMPIANTARE'!#REF!,\"\")","v":{"$error":"#REF!"}}]
[{"$f":"IF('3 - SPECIE DA IMPIANTARE'!$G1001=\"AZIONE_1\",'3 - SPECIE DA IMPIANTARE'!$G1001,\"\")","v":""},{"$f":"IF('3 - SPECIE DA IMPIANTARE'!#REF!=1,'3 - SPECIE DA IMPIANTARE'!#REF!,\"\")","v":{"$error":"#REF!"}}]
[{"$f":"IF('3 - SPECIE DA IMPIANTARE'!$G1002=\"AZIONE_1\",'3 - SPECIE DA IMPIANTARE'!$G1002,\"\")","v":""},{"$f":"IF('3 - SPECIE DA IMPIANTARE'!#REF!=1,'3 - SPECIE DA IMPIANTARE'!#REF!,\"\")","v":{"$error":"#REF!"}}]
[{"$f":"IF('3 - SPECIE DA IMPIANTARE'!$G1003=\"AZIONE_1\",'3 - SPECIE DA IMPIANTARE'!$G1003,\"\")","v":""},{"$f":"IF('3 - SPECIE DA IMPIANTARE'!#REF!=1,'3 - SPECIE DA IMPIANTARE'!#REF!,\"\")","v":{"$error":"#REF!"}}]
[{"$f":"IF('3 - SPECIE DA IMPIANTARE'!$G1004=\"AZIONE_1\",'3 - SPECIE DA IMPIANTARE'!$G1004,\"\")","v":""},{"$f":"IF('3 - SPECIE DA IMPIANTARE'!#REF!=1,'3 - SPECIE DA IMPIANTARE'!#REF!,\"\")","v":{"$error":"#REF!"}}]
[{"$f":"IF('3 - SPECIE DA IMPIANTARE'!$G1005=\"AZIONE_1\",'3 - SPECIE DA IMPIANTARE'!$G1005,\"\")","v":""},{"$f":"IF('3 - SPECIE DA IMPIANTARE'!#REF!=1,'3 - SPECIE DA IMPIANTARE'!#REF!,\"\")","v":{"$error":"#REF!"}}]
[{"$f":"IF('3 - SPECIE DA IMPIANTARE'!$G1006=\"AZIONE_1\",'3 - SPECIE DA IMPIANTARE'!$G1006,\"\")","v":""},{"$f":"IF('3 - SPECIE DA IMPIANTARE'!#REF!=1,'3 - SPECIE DA IMPIANTARE'!#REF!,\"\")","v":{"$error":"#REF!"}}]
[{"$f":"IF('3 - SPECIE DA IMPIANTARE'!$G1007=\"AZIONE_1\",'3 - SPECIE DA IMPIANTARE'!$G1007,\"\")","v":""},{"$f":"IF('3 - SPECIE DA IMPIANTARE'!#REF!=1,'3 - SPECIE DA IMPIANTARE'!#REF!,\"\")","v":{"$error":"#REF!"}}]
[{"$f":"IF('3 - SPECIE DA IMPIANTARE'!$G1008=\"AZIONE_1\",'3 - SPECIE DA IMPIANTARE'!$G1008,\"\")","v":""},{"$f":"IF('3 - SPECIE DA IMPIANTARE'!#REF!=1,'3 - SPECIE DA IMPIANTARE'!#REF!,\"\")","v":{"$error":"#REF!"}}]
[{"$f":"IF('3 - SPECIE DA IMPIANTARE'!$G1009=\"AZIONE_1\",'3 - SPECIE DA IMPIANTARE'!$G1009,\"\")","v":""},{"$f":"IF('3 - SPECIE DA IMPIANTARE'!#REF!=1,'3 - SPECIE DA IMPIANTARE'!#REF!,\"\")","v":{"$error":"#REF!"}}]
[{"$f":"IF('3 - SPECIE DA IMPIANTARE'!$G1010=\"AZIONE_1\",'3 - SPECIE DA IMPIANTARE'!$G1010,\"\")","v":""},{"$f":"IF('3 - SPECIE DA IMPIANTARE'!#REF!=1,'3 - SPECIE DA IMPIANTARE'!#REF!,\"\")","v":{"$error":"#REF!"}}]
[{"$f":"IF('3 - SPECIE DA IMPIANTARE'!$G1011=\"AZIONE_1\",'3 - SPECIE DA IMPIANTARE'!$G1011,\"\")","v":""},{"$f":"IF('3 - SPECIE DA IMPIANTARE'!#REF!=1,'3 - SPECIE DA IMPIANTARE'!#REF!,\"\")","v":{"$error":"#REF!"}}]
[{"$f":"IF('3 - SPECIE DA IMPIANTARE'!$G1012=\"AZIONE_1\",'3 - SPECIE DA IMPIANTARE'!$G1012,\"\")","v":""},{"$f":"IF('3 - SPECIE DA IMPIANTARE'!#REF!=1,'3 - SPECIE DA IMPIANTARE'!#REF!,\"\")","v":{"$error":"#REF!"}}]
[{"$f":"IF('3 - SPECIE DA IMPIANTARE'!$G1013=\"AZIONE_1\",'3 - SPECIE DA IMPIANTARE'!$G1013,\"\")","v":""},{"$f":"IF('3 - SPECIE DA IMPIANTARE'!#REF!=1,'3 - SPECIE DA IMPIANTARE'!#REF!,\"\")","v":{"$error":"#REF!"}}]
[{"$f":"IF('3 - SPECIE DA IMPIANTARE'!$G1014=\"AZIONE_1\",'3 - SPECIE DA IMPIANTARE'!$G1014,\"\")","v":""},{"$f":"IF('3 - SPECIE DA IMPIANTARE'!#REF!=1,'3 - SPECIE DA IMPIANTARE'!#REF!,\"\")","v":{"$error":"#REF!"}}]
[{"$f":"IF('3 - SPECIE DA IMPIANTARE'!$G1015=\"AZIONE_1\",'3 - SPECIE DA IMPIANTARE'!$G1015,\"\")","v":""},{"$f":"IF('3 - SPECIE DA IMPIANTARE'!#REF!=1,'3 - SPECIE DA IMPIANTARE'!#REF!,\"\")","v":{"$error":"#REF!"}}]
[{"$f":"IF('3 - SPECIE DA IMPIANTARE'!$G1016=\"AZIONE_1\",'3 - SPECIE DA IMPIANTARE'!$G1016,\"\")","v":""},{"$f":"IF('3 - SPECIE DA IMPIANTARE'!#REF!=1,'3 - SPECIE DA IMPIANTARE'!#REF!,\"\")","v":{"$error":"#REF!"}}]
[{"$f":"IF('3 - SPECIE DA IMPIANTARE'!$G1017=\"AZIONE_1\",'3 - SPECIE DA IMPIANTARE'!$G1017,\"\")","v":""},{"$f":"IF('3 - SPECIE DA IMPIANTARE'!#REF!=1,'3 - SPECIE DA IMPIANTARE'!#REF!,\"\")","v":{"$error":"#REF!"}}]
[{"$f":"IF('3 - SPECIE DA IMPIANTARE'!$G1018=\"AZIONE_1\",'3 - SPECIE DA IMPIANTARE'!$G1018,\"\")","v":""},{"$f":"IF('3 - SPECIE DA IMPIANTARE'!#REF!=1,'3 - SPECIE DA IMPIANTARE'!#REF!,\"\")","v":{"$error":"#REF!"}}]
[{"$f":"IF('3 - SPECIE DA IMPIANTARE'!$G1019=\"AZIONE_1\",'3 - SPECIE DA IMPIANTARE'!$G1019,\"\")","v":""},{"$f":"IF('3 - SPECIE DA IMPIANTARE'!#REF!=1,'3 - SPECIE DA IMPIANTARE'!#REF!,\"\")","v":{"$error":"#REF!"}}]
[{"$f":"IF('3 - SPECIE DA IMPIANTARE'!$G1020=\"AZIONE_1\",'3 - SPECIE DA IMPIANTARE'!$G1020,\"\")","v":""},{"$f":"IF('3 - SPECIE DA IMPIANTARE'!#REF!=1,'3 - SPECIE DA IMPIANTARE'!#REF!,\"\")","v":{"$error":"#REF!"}}]
[{"$f":"IF('3 - SPECIE DA IMPIANTARE'!$G1021=\"AZIONE_1\",'3 - SPECIE DA IMPIANTARE'!$G1021,\"\")","v":""},{"$f":"IF('3 - SPECIE DA IMPIANTARE'!#REF!=1,'3 - SPECIE DA IMPIANTARE'!#REF!,\"\")","v":{"$error":"#REF!"}}]
[{"$f":"IF('3 - SPECIE DA IMPIANTARE'!$G1022=\"AZIONE_1\",'3 - SPECIE DA IMPIANTARE'!$G1022,\"\")","v":""},{"$f":"IF('3 - SPECIE DA IMPIANTARE'!#REF!=1,'3 - SPECIE DA IMPIANTARE'!#REF!,\"\")","v":{"$error":"#REF!"}}]
[{"$f":"IF('3 - SPECIE DA IMPIANTARE'!$G1023=\"AZIONE_1\",'3 - SPECIE DA IMPIANTARE'!$G1023,\"\")","v":""},{"$f":"IF('3 - SPECIE DA IMPIANTARE'!#REF!=1,'3 - SPECIE DA IMPIANTARE'!#REF!,\"\")","v":{"$error":"#REF!"}}]
[{"$f":"IF('3 - SPECIE DA IMPIANTARE'!$G1024=\"AZIONE_1\",'3 - SPECIE DA IMPIANTARE'!$G1024,\"\")","v":""},{"$f":"IF('3 - SPECIE DA IMPIANTARE'!#REF!=1,'3 - SPECIE DA IMPIANTARE'!#REF!,\"\")","v":{"$error":"#REF!"}}]
[{"$f":"IF('3 - SPECIE DA IMPIANTARE'!$G1025=\"AZIONE_1\",'3 - SPECIE DA IMPIANTARE'!$G1025,\"\")","v":""},{"$f":"IF('3 - SPECIE DA IMPIANTARE'!#REF!=1,'3 - SPECIE DA IMPIANTARE'!#REF!,\"\")","v":{"$error":"#REF!"}}]
[{"$f":"IF('3 - SPECIE DA IMPIANTARE'!$G1026=\"AZIONE_1\",'3 - SPECIE DA IMPIANTARE'!$G1026,\"\")","v":""},{"$f":"IF('3 - SPECIE DA IMPIANTARE'!#REF!=1,'3 - SPECIE DA IMPIANTARE'!#REF!,\"\")","v":{"$error":"#REF!"}}]
[{"$f":"IF('3 - SPECIE DA IMPIANTARE'!$G1027=\"AZIONE_1\",'3 - SPECIE DA IMPIANTARE'!$G1027,\"\")","v":""},{"$f":"IF('3 - SPECIE DA IMPIANTARE'!#REF!=1,'3 - SPECIE DA IMPIANTARE'!#REF!,\"\")","v":{"$error":"#REF!"}}]
[{"$f":"IF('3 - SPECIE DA IMPIANTARE'!$G1028=\"AZIONE_1\",'3 - SPECIE DA IMPIANTARE'!$G1028,\"\")","v":""},{"$f":"IF('3 - SPECIE DA IMPIANTARE'!#REF!=1,'3 - SPECIE DA IMPIANTARE'!#REF!,\"\")","v":{"$error":"#REF!"}}]
[{"$f":"IF('3 - SPECIE DA IMPIANTARE'!$G1029=\"AZIONE_1\",'3 - SPECIE DA IMPIANTARE'!$G1029,\"\")","v":""},{"$f":"IF('3 - SPECIE DA IMPIANTARE'!#REF!=1,'3 - SPECIE DA IMPIANTARE'!#REF!,\"\")","v":{"$error":"#REF!"}}]
[{"$f":"IF('3 - SPECIE DA IMPIANTARE'!$G1030=\"AZIONE_1\",'3 - SPECIE DA IMPIANTARE'!$G1030,\"\")","v":""},{"$f":"IF('3 - SPECIE DA IMPIANTARE'!#REF!=1,'3 - SPECIE DA IMPIANTARE'!#REF!,\"\")","v":{"$error":"#REF!"}}]
[{"$f":"IF('3 - SPECIE DA IMPIANTARE'!$G1031=\"AZIONE_1\",'3 - SPECIE DA IMPIANTARE'!$G1031,\"\")","v":""},{"$f":"IF('3 - SPECIE DA IMPIANTARE'!#REF!=1,'3 - SPECIE DA IMPIANTARE'!#REF!,\"\")","v":{"$error":"#REF!"}}]
[{"$f":"IF('3 - SPECIE DA IMPIANTARE'!$G1032=\"AZIONE_1\",'3 - SPECIE DA IMPIANTARE'!$G1032,\"\")","v":""},{"$f":"IF('3 - SPECIE DA IMPIANTARE'!#REF!=1,'3 - SPECIE DA IMPIANTARE'!#REF!,\"\")","v":{"$error":"#REF!"}}]
[{"$f":"IF('3 - SPECIE DA IMPIANTARE'!$G1033=\"AZIONE_1\",'3 - SPECIE DA IMPIANTARE'!$G1033,\"\")","v":""},{"$f":"IF('3 - SPECIE DA IMPIANTARE'!#REF!=1,'3 - SPECIE DA IMPIANTARE'!#REF!,\"\")","v":{"$error":"#REF!"}}]
[{"$f":"IF('3 - SPECIE DA IMPIANTARE'!$G1034=\"AZIONE_1\",'3 - SPECIE DA IMPIANTARE'!$G1034,\"\")","v":""},{"$f":"IF('3 - SPECIE DA IMPIANTARE'!#REF!=1,'3 - SPECIE DA IMPIANTARE'!#REF!,\"\")","v":{"$error":"#REF!"}}]
[{"$f":"IF('3 - SPECIE DA IMPIANTARE'!$G1035=\"AZIONE_1\",'3 - SPECIE DA IMPIANTARE'!$G1035,\"\")","v":""},{"$f":"IF('3 - SPECIE DA IMPIANTARE'!#REF!=1,'3 - SPECIE DA IMPIANTARE'!#REF!,\"\")","v":{"$error":"#REF!"}}]
[{"$f":"IF('3 - SPECIE DA IMPIANTARE'!$G1036=\"AZIONE_1\",'3 - SPECIE DA IMPIANTARE'!$G1036,\"\")","v":""},{"$f":"IF('3 - SPECIE DA IMPIANTARE'!#REF!=1,'3 - SPECIE DA IMPIANTARE'!#REF!,\"\")","v":{"$error":"#REF!"}}]
[{"$f":"IF('3 - SPECIE DA IMPIANTARE'!$G1037=\"AZIONE_1\",'3 - SPECIE DA IMPIANTARE'!$G1037,\"\")","v":""},{"$f":"IF('3 - SPECIE DA IMPIANTARE'!#REF!=1,'3 - SPECIE DA IMPIANTARE'!#REF!,\"\")","v":{"$error":"#REF!"}}]
[{"$f":"IF('3 - SPECIE DA IMPIANTARE'!$G1038=\"AZIONE_1\",'3 - SPECIE DA IMPIANTARE'!$G1038,\"\")","v":""},{"$f":"IF('3 - SPECIE DA IMPIANTARE'!#REF!=1,'3 - SPECIE DA IMPIANTARE'!#REF!,\"\")","v":{"$error":"#REF!"}}]
[{"$f":"IF('3 - SPECIE DA IMPIANTARE'!$G1039=\"AZIONE_1\",'3 - SPECIE DA IMPIANTARE'!$G1039,\"\")","v":""},{"$f":"IF('3 - SPECIE DA IMPIANTARE'!#REF!=1,'3 - SPECIE DA IMPIANTARE'!#REF!,\"\")","v":{"$error":"#REF!"}}]
[{"$f":"IF('3 - SPECIE DA IMPIANTARE'!$G1040=\"AZIONE_1\",'3 - SPECIE DA IMPIANTARE'!$G1040,\"\")","v":""},{"$f":"IF('3 - SPECIE DA IMPIANTARE'!#REF!=1,'3 - SPECIE DA IMPIANTARE'!#REF!,\"\")","v":{"$error":"#REF!"}}]
[{"$f":"IF('3 - SPECIE DA IMPIANTARE'!$G1041=\"AZIONE_1\",'3 - SPECIE DA IMPIANTARE'!$G1041,\"\")","v":""},{"$f":"IF('3 - SPECIE DA IMPIANTARE'!#REF!=1,'3 - SPECIE DA IMPIANTARE'!#REF!,\"\")","v":{"$error":"#REF!"}}]
[{"$f":"IF('3 - SPECIE DA IMPIANTARE'!$G1042=\"AZIONE_1\",'3 - SPECIE DA IMPIANTARE'!$G1042,\"\")","v":""},{"$f":"IF('3 - SPECIE DA IMPIANTARE'!#REF!=1,'3 - SPECIE DA IMPIANTARE'!#REF!,\"\")","v":{"$error":"#REF!"}}]
[{"$f":"IF('3 - SPECIE DA IMPIANTARE'!$G1043=\"AZIONE_1\",'3 - SPECIE DA IMPIANTARE'!$G1043,\"\")","v":""},{"$f":"IF('3 - SPECIE DA IMPIANTARE'!#REF!=1,'3 - SPECIE DA IMPIANTARE'!#REF!,\"\")","v":{"$error":"#REF!"}}]
[{"$f":"IF('3 - SPECIE DA IMPIANTARE'!$G1044=\"AZIONE_1\",'3 - SPECIE DA IMPIANTARE'!$G1044,\"\")","v":""},{"$f":"IF('3 - SPECIE DA IMPIANTARE'!#REF!=1,'3 - SPECIE DA IMPIANTARE'!#REF!,\"\")","v":{"$error":"#REF!"}}]
[{"$f":"IF('3 - SPECIE DA IMPIANTARE'!$G1045=\"AZIONE_1\",'3 - SPECIE DA IMPIANTARE'!$G1045,\"\")","v":""},{"$f":"IF('3 - SPECIE DA IMPIANTARE'!#REF!=1,'3 - SPECIE DA IMPIANTARE'!#REF!,\"\")","v":{"$error":"#REF!"}}]
[{"$f":"IF('3 - SPECIE DA IMPIANTARE'!$G1046=\"AZIONE_1\",'3 - SPECIE DA IMPIANTARE'!$G1046,\"\")","v":""},{"$f":"IF('3 - SPECIE DA IMPIANTARE'!#REF!=1,'3 - SPECIE DA IMPIANTARE'!#REF!,\"\")","v":{"$error":"#REF!"}}]
[{"$f":"IF('3 - SPECIE DA IMPIANTARE'!$G1047=\"AZIONE_1\",'3 - SPECIE DA IMPIANTARE'!$G1047,\"\")","v":""},{"$f":"IF('3 - SPECIE DA IMPIANTARE'!#REF!=1,'3 - SPECIE DA IMPIANTARE'!#REF!,\"\")","v":{"$error":"#REF!"}}]
[{"$f":"IF('3 - SPECIE DA IMPIANTARE'!$G1048=\"AZIONE_1\",'3 - SPECIE DA IMPIANTARE'!$G1048,\"\")","v":""},{"$f":"IF('3 - SPECIE DA IMPIANTARE'!#REF!=1,'3 - SPECIE DA IMPIANTARE'!#REF!,\"\")","v":{"$error":"#REF!"}}]
[{"$f":"IF('3 - SPECIE DA IMPIANTARE'!$G1049=\"AZIONE_1\",'3 - SPECIE DA IMPIANTARE'!$G1049,\"\")","v":""},{"$f":"IF('3 - SPECIE DA IMPIANTARE'!#REF!=1,'3 - SPECIE DA IMPIANTARE'!#REF!,\"\")","v":{"$error":"#REF!"}}]
[{"$f":"IF('3 - SPECIE DA IMPIANTARE'!$G1050=\"AZIONE_1\",'3 - SPECIE DA IMPIANTARE'!$G1050,\"\")","v":""},{"$f":"IF('3 - SPECIE DA IMPIANTARE'!#REF!=1,'3 - SPECIE DA IMPIANTARE'!#REF!,\"\")","v":{"$error":"#REF!"}}]
[{"$f":"IF('3 - SPECIE DA IMPIANTARE'!$G1051=\"AZIONE_1\",'3 - SPECIE DA IMPIANTARE'!$G1051,\"\")","v":""},{"$f":"IF('3 - SPECIE DA IMPIANTARE'!#REF!=1,'3 - SPECIE DA IMPIANTARE'!#REF!,\"\")","v":{"$error":"#REF!"}}]
[{"$f":"IF('3 - SPECIE DA IMPIANTARE'!$G1052=\"AZIONE_1\",'3 - SPECIE DA IMPIANTARE'!$G1052,\"\")","v":""},{"$f":"IF('3 - SPECIE DA IMPIANTARE'!#REF!=1,'3 - SPECIE DA IMPIANTARE'!#REF!,\"\")","v":{"$error":"#REF!"}}]
[{"$f":"IF('3 - SPECIE DA IMPIANTARE'!$G1053=\"AZIONE_1\",'3 - SPECIE DA IMPIANTARE'!$G1053,\"\")","v":""},{"$f":"IF('3 - SPECIE DA IMPIANTARE'!#REF!=1,'3 - SPECIE DA IMPIANTARE'!#REF!,\"\")","v":{"$error":"#REF!"}}]
[{"$f":"IF('3 - SPECIE DA IMPIANTARE'!$G1054=\"AZIONE_1\",'3 - SPECIE DA IMPIANTARE'!$G1054,\"\")","v":""},{"$f":"IF('3 - SPECIE DA IMPIANTARE'!#REF!=1,'3 - SPECIE DA IMPIANTARE'!#REF!,\"\")","v":{"$error":"#REF!"}}]
[{"$f":"IF('3 - SPECIE DA IMPIANTARE'!$G1055=\"AZIONE_1\",'3 - SPECIE DA IMPIANTARE'!$G1055,\"\")","v":""},{"$f":"IF('3 - SPECIE DA IMPIANTARE'!#REF!=1,'3 - SPECIE DA IMPIANTARE'!#REF!,\"\")","v":{"$error":"#REF!"}}]
[{"$f":"IF('3 - SPECIE DA IMPIANTARE'!$G1056=\"AZIONE_1\",'3 - SPECIE DA IMPIANTARE'!$G1056,\"\")","v":""},{"$f":"IF('3 - SPECIE DA IMPIANTARE'!#REF!=1,'3 - SPECIE DA IMPIANTARE'!#REF!,\"\")","v":{"$error":"#REF!"}}]
[{"$f":"IF('3 - SPECIE DA IMPIANTARE'!$G1057=\"AZIONE_1\",'3 - SPECIE DA IMPIANTARE'!$G1057,\"\")","v":""},{"$f":"IF('3 - SPECIE DA IMPIANTARE'!#REF!=1,'3 - SPECIE DA IMPIANTARE'!#REF!,\"\")","v":{"$error":"#REF!"}}]
[{"$f":"IF('3 - SPECIE DA IMPIANTARE'!$G1058=\"AZIONE_1\",'3 - SPECIE DA IMPIANTARE'!$G1058,\"\")","v":""},{"$f":"IF('3 - SPECIE DA IMPIANTARE'!#REF!=1,'3 - SPECIE DA IMPIANTARE'!#REF!,\"\")","v":{"$error":"#REF!"}}]
[{"$f":"IF('3 - SPECIE DA IMPIANTARE'!$G1059=\"AZIONE_1\",'3 - SPECIE DA IMPIANTARE'!$G1059,\"\")","v":""},{"$f":"IF('3 - SPECIE DA IMPIANTARE'!#REF!=1,'3 - SPECIE DA IMPIANTARE'!#REF!,\"\")","v":{"$error":"#REF!"}}]
[{"$f":"IF('3 - SPECIE DA IMPIANTARE'!$G1060=\"AZIONE_1\",'3 - SPECIE DA IMPIANTARE'!$G1060,\"\")","v":""},{"$f":"IF('3 - SPECIE DA IMPIANTARE'!#REF!=1,'3 - SPECIE DA IMPIANTARE'!#REF!,\"\")","v":{"$error":"#REF!"}}]
[{"$f":"IF('3 - SPECIE DA IMPIANTARE'!$G1061=\"AZIONE_1\",'3 - SPECIE DA IMPIANTARE'!$G1061,\"\")","v":""},{"$f":"IF('3 - SPECIE DA IMPIANTARE'!#REF!=1,'3 - SPECIE DA IMPIANTARE'!#REF!,\"\")","v":{"$error":"#REF!"}}]
[{"$f":"IF('3 - SPECIE DA IMPIANTARE'!$G1062=\"AZIONE_1\",'3 - SPECIE DA IMPIANTARE'!$G1062,\"\")","v":""},{"$f":"IF('3 - SPECIE DA IMPIANTARE'!#REF!=1,'3 - SPECIE DA IMPIANTARE'!#REF!,\"\")","v":{"$error":"#REF!"}}]
[{"$f":"IF('3 - SPECIE DA IMPIANTARE'!$G1063=\"AZIONE_1\",'3 - SPECIE DA IMPIANTARE'!$G1063,\"\")","v":""},{"$f":"IF('3 - SPECIE DA IMPIANTARE'!#REF!=1,'3 - SPECIE DA IMPIANTARE'!#REF!,\"\")","v":{"$error":"#REF!"}}]
[{"$f":"IF('3 - SPECIE DA IMPIANTARE'!$G1064=\"AZIONE_1\",'3 - SPECIE DA IMPIANTARE'!$G1064,\"\")","v":""},{"$f":"IF('3 - SPECIE DA IMPIANTARE'!#REF!=1,'3 - SPECIE DA IMPIANTARE'!#REF!,\"\")","v":{"$error":"#REF!"}}]
[{"$f":"IF('3 - SPECIE DA IMPIANTARE'!$G1065=\"AZIONE_1\",'3 - SPECIE DA IMPIANTARE'!$G1065,\"\")","v":""},{"$f":"IF('3 - SPECIE DA IMPIANTARE'!#REF!=1,'3 - SPECIE DA IMPIANTARE'!#REF!,\"\")","v":{"$error":"#REF!"}}]
[{"$f":"IF('3 - SPECIE DA IMPIANTARE'!$G1066=\"AZIONE_1\",'3 - SPECIE DA IMPIANTARE'!$G1066,\"\")","v":""},{"$f":"IF('3 - SPECIE DA IMPIANTARE'!#REF!=1,'3 - SPECIE DA IMPIANTARE'!#REF!,\"\")","v":{"$error":"#REF!"}}]
[{"$f":"IF('3 - SPECIE DA IMPIANTARE'!$G1067=\"AZIONE_1\",'3 - SPECIE DA IMPIANTARE'!$G1067,\"\")","v":""},{"$f":"IF('3 - SPECIE DA IMPIANTARE'!#REF!=1,'3 - SPECIE DA IMPIANTARE'!#REF!,\"\")","v":{"$error":"#REF!"}}]
[{"$f":"IF('3 - SPECIE DA IMPIANTARE'!$G1068=\"AZIONE_1\",'3 - SPECIE DA IMPIANTARE'!$G1068,\"\")","v":""},{"$f":"IF('3 - SPECIE DA IMPIANTARE'!#REF!=1,'3 - SPECIE DA IMPIANTARE'!#REF!,\"\")","v":{"$error":"#REF!"}}]
[{"$f":"IF('3 - SPECIE DA IMPIANTARE'!$G1069=\"AZIONE_1\",'3 - SPECIE DA IMPIANTARE'!$G1069,\"\")","v":""},{"$f":"IF('3 - SPECIE DA IMPIANTARE'!#REF!=1,'3 - SPECIE DA IMPIANTARE'!#REF!,\"\")","v":{"$error":"#REF!"}}]
[{"$f":"IF('3 - SPECIE DA IMPIANTARE'!$G1070=\"AZIONE_1\",'3 - SPECIE DA IMPIANTARE'!$G1070,\"\")","v":""},{"$f":"IF('3 - SPECIE DA IMPIANTARE'!#REF!=1,'3 - SPECIE DA IMPIANTARE'!#REF!,\"\")","v":{"$error":"#REF!"}}]
[{"$f":"IF('3 - SPECIE DA IMPIANTARE'!$G1071=\"AZIONE_1\",'3 - SPECIE DA IMPIANTARE'!$G1071,\"\")","v":""},{"$f":"IF('3 - SPECIE DA IMPIANTARE'!#REF!=1,'3 - SPECIE DA IMPIANTARE'!#REF!,\"\")","v":{"$error":"#REF!"}}]
[{"$f":"IF('3 - SPECIE DA IMPIANTARE'!$G1072=\"AZIONE_1\",'3 - SPECIE DA IMPIANTARE'!$G1072,\"\")","v":""},{"$f":"IF('3 - SPECIE DA IMPIANTARE'!#REF!=1,'3 - SPECIE DA IMPIANTARE'!#REF!,\"\")","v":{"$error":"#REF!"}}]
[{"$f":"IF('3 - SPECIE DA IMPIANTARE'!$G1073=\"AZIONE_1\",'3 - SPECIE DA IMPIANTARE'!$G1073,\"\")","v":""},{"$f":"IF('3 - SPECIE DA IMPIANTARE'!#REF!=1,'3 - SPECIE DA IMPIANTARE'!#REF!,\"\")","v":{"$error":"#REF!"}}]
[{"$f":"IF('3 - SPECIE DA IMPIANTARE'!$G1074=\"AZIONE_1\",'3 - SPECIE DA IMPIANTARE'!$G1074,\"\")","v":""},{"$f":"IF('3 - SPECIE DA IMPIANTARE'!#REF!=1,'3 - SPECIE DA IMPIANTARE'!#REF!,\"\")","v":{"$error":"#REF!"}}]
[{"$f":"IF('3 - SPECIE DA IMPIANTARE'!$G1075=\"AZIONE_1\",'3 - SPECIE DA IMPIANTARE'!$G1075,\"\")","v":""},{"$f":"IF('3 - SPECIE DA IMPIANTARE'!#REF!=1,'3 - SPECIE DA IMPIANTARE'!#REF!,\"\")","v":{"$error":"#REF!"}}]
[{"$f":"IF('3 - SPECIE DA IMPIANTARE'!$G1076=\"AZIONE_1\",'3 - SPECIE DA IMPIANTARE'!$G1076,\"\")","v":""},{"$f":"IF('3 - SPECIE DA IMPIANTARE'!#REF!=1,'3 - SPECIE DA IMPIANTARE'!#REF!,\"\")","v":{"$error":"#REF!"}}]
[{"$f":"IF('3 - SPECIE DA IMPIANTARE'!$G1077=\"AZIONE_1\",'3 - SPECIE DA IMPIANTARE'!$G1077,\"\")","v":""},{"$f":"IF('3 - SPECIE DA IMPIANTARE'!#REF!=1,'3 - SPECIE DA IMPIANTARE'!#REF!,\"\")","v":{"$error":"#REF!"}}]
[{"$f":"IF('3 - SPECIE DA IMPIANTARE'!$G1078=\"AZIONE_1\",'3 - SPECIE DA IMPIANTARE'!$G1078,\"\")","v":""},{"$f":"IF('3 - SPECIE DA IMPIANTARE'!#REF!=1,'3 - SPECIE DA IMPIANTARE'!#REF!,\"\")","v":{"$error":"#REF!"}}]
[{"$f":"IF('3 - SPECIE DA IMPIANTARE'!$G1079=\"AZIONE_1\",'3 - SPECIE DA IMPIANTARE'!$G1079,\"\")","v":""},{"$f":"IF('3 - SPECIE DA IMPIANTARE'!#REF!=1,'3 - SPECIE DA IMPIANTARE'!#REF!,\"\")","v":{"$error":"#REF!"}}]
[{"$f":"IF('3 - SPECIE DA IMPIANTARE'!$G1080=\"AZIONE_1\",'3 - SPECIE DA IMPIANTARE'!$G1080,\"\")","v":""},{"$f":"IF('3 - SPECIE DA IMPIANTARE'!#REF!=1,'3 - SPECIE DA IMPIANTARE'!#REF!,\"\")","v":{"$error":"#REF!"}}]
[{"$f":"IF('3 - SPECIE DA IMPIANTARE'!$G1081=\"AZIONE_1\",'3 - SPECIE DA IMPIANTARE'!$G1081,\"\")","v":""},{"$f":"IF('3 - SPECIE DA IMPIANTARE'!#REF!=1,'3 - SPECIE DA IMPIANTARE'!#REF!,\"\")","v":{"$error":"#REF!"}}]
[{"$f":"IF('3 - SPECIE DA IMPIANTARE'!$G1082=\"AZIONE_1\",'3 - SPECIE DA IMPIANTARE'!$G1082,\"\")","v":""},{"$f":"IF('3 - SPECIE DA IMPIANTARE'!#REF!=1,'3 - SPECIE DA IMPIANTARE'!#REF!,\"\")","v":{"$error":"#REF!"}}]
[{"$f":"IF('3 - SPECIE DA IMPIANTARE'!$G1083=\"AZIONE_1\",'3 - SPECIE DA IMPIANTARE'!$G1083,\"\")","v":""},{"$f":"IF('3 - SPECIE DA IMPIANTARE'!#REF!=1,'3 - SPECIE DA IMPIANTARE'!#REF!,\"\")","v":{"$error":"#REF!"}}]
[{"$f":"IF('3 - SPECIE DA IMPIANTARE'!$G1084=\"AZIONE_1\",'3 - SPECIE DA IMPIANTARE'!$G1084,\"\")","v":""},{"$f":"IF('3 - SPECIE DA IMPIANTARE'!#REF!=1,'3 - SPECIE DA IMPIANTARE'!#REF!,\"\")","v":{"$error":"#REF!"}}]
[{"$f":"IF('3 - SPECIE DA IMPIANTARE'!$G1085=\"AZIONE_1\",'3 - SPECIE DA IMPIANTARE'!$G1085,\"\")","v":""},{"$f":"IF('3 - SPECIE DA IMPIANTARE'!#REF!=1,'3 - SPECIE DA IMPIANTARE'!#REF!,\"\")","v":{"$error":"#REF!"}}]
[{"$f":"IF('3 - SPECIE DA IMPIANTARE'!$G1086=\"AZIONE_1\",'3 - SPECIE DA IMPIANTARE'!$G1086,\"\")","v":""},{"$f":"IF('3 - SPECIE DA IMPIANTARE'!#REF!=1,'3 - SPECIE DA IMPIANTARE'!#REF!,\"\")","v":{"$error":"#REF!"}}]
[{"$f":"IF('3 - SPECIE DA IMPIANTARE'!$G1087=\"AZIONE_1\",'3 - SPECIE DA IMPIANTARE'!$G1087,\"\")","v":""},{"$f":"IF('3 - SPECIE DA IMPIANTARE'!#REF!=1,'3 - SPECIE DA IMPIANTARE'!#REF!,\"\")","v":{"$error":"#REF!"}}]
[{"$f":"IF('3 - SPECIE DA IMPIANTARE'!$G1088=\"AZIONE_1\",'3 - SPECIE DA IMPIANTARE'!$G1088,\"\")","v":""},{"$f":"IF('3 - SPECIE DA IMPIANTARE'!#REF!=1,'3 - SPECIE DA IMPIANTARE'!#REF!,\"\")","v":{"$error":"#REF!"}}]
[{"$f":"IF('3 - SPECIE DA IMPIANTARE'!$G1089=\"AZIONE_1\",'3 - SPECIE DA IMPIANTARE'!$G1089,\"\")","v":""},{"$f":"IF('3 - SPECIE DA IMPIANTARE'!#REF!=1,'3 - SPECIE DA IMPIANTARE'!#REF!,\"\")","v":{"$error":"#REF!"}}]
[{"$f":"IF('3 - SPECIE DA IMPIANTARE'!$G1090=\"AZIONE_1\",'3 - SPECIE DA IMPIANTARE'!$G1090,\"\")","v":""},{"$f":"IF('3 - SPECIE DA IMPIANTARE'!#REF!=1,'3 - SPECIE DA IMPIANTARE'!#REF!,\"\")","v":{"$error":"#REF!"}}]
[{"$f":"IF('3 - SPECIE DA IMPIANTARE'!$G1091=\"AZIONE_1\",'3 - SPECIE DA IMPIANTARE'!$G1091,\"\")","v":""},{"$f":"IF('3 - SPECIE DA IMPIANTARE'!#REF!=1,'3 - SPECIE DA IMPIANTARE'!#REF!,\"\")","v":{"$error":"#REF!"}}]
[{"$f":"IF('3 - SPECIE DA IMPIANTARE'!$G1092=\"AZIONE_1\",'3 - SPECIE DA IMPIANTARE'!$G1092,\"\")","v":""},{"$f":"IF('3 - SPECIE DA IMPIANTARE'!#REF!=1,'3 - SPECIE DA IMPIANTARE'!#REF!,\"\")","v":{"$error":"#REF!"}}]
[{"$f":"IF('3 - SPECIE DA IMPIANTARE'!$G1093=\"AZIONE_1\",'3 - SPECIE DA IMPIANTARE'!$G1093,\"\")","v":""},{"$f":"IF('3 - SPECIE DA IMPIANTARE'!#REF!=1,'3 - SPECIE DA IMPIANTARE'!#REF!,\"\")","v":{"$error":"#REF!"}}]
[{"$f":"IF('3 - SPECIE DA IMPIANTARE'!$G1094=\"AZIONE_1\",'3 - SPECIE DA IMPIANTARE'!$G1094,\"\")","v":""},{"$f":"IF('3 - SPECIE DA IMPIANTARE'!#REF!=1,'3 - SPECIE DA IMPIANTARE'!#REF!,\"\")","v":{"$error":"#REF!"}}]
[{"$f":"IF('3 - SPECIE DA IMPIANTARE'!$G1095=\"AZIONE_1\",'3 - SPECIE DA IMPIANTARE'!$G1095,\"\")","v":""},{"$f":"IF('3 - SPECIE DA IMPIANTARE'!#REF!=1,'3 - SPECIE DA IMPIANTARE'!#REF!,\"\")","v":{"$error":"#REF!"}}]
[{"$f":"IF('3 - SPECIE DA IMPIANTARE'!$G1096=\"AZIONE_1\",'3 - SPECIE DA IMPIANTARE'!$G1096,\"\")","v":""},{"$f":"IF('3 - SPECIE DA IMPIANTARE'!#REF!=1,'3 - SPECIE DA IMPIANTARE'!#REF!,\"\")","v":{"$error":"#REF!"}}]
[{"$f":"IF('3 - SPECIE DA IMPIANTARE'!$G1097=\"AZIONE_1\",'3 - SPECIE DA IMPIANTARE'!$G1097,\"\")","v":""},{"$f":"IF('3 - SPECIE DA IMPIANTARE'!#REF!=1,'3 - SPECIE DA IMPIANTARE'!#REF!,\"\")","v":{"$error":"#REF!"}}]
[{"$f":"IF('3 - SPECIE DA IMPIANTARE'!$G1098=\"AZIONE_1\",'3 - SPECIE DA IMPIANTARE'!$G1098,\"\")","v":""},{"$f":"IF('3 - SPECIE DA IMPIANTARE'!#REF!=1,'3 - SPECIE DA IMPIANTARE'!#REF!,\"\")","v":{"$error":"#REF!"}}]
[{"$f":"IF('3 - SPECIE DA IMPIANTARE'!$G1099=\"AZIONE_1\",'3 - SPECIE DA IMPIANTARE'!$G1099,\"\")","v":""},{"$f":"IF('3 - SPECIE DA IMPIANTARE'!#REF!=1,'3 - SPECIE DA IMPIANTARE'!#REF!,\"\")","v":{"$error":"#REF!"}}]
[{"$f":"IF('3 - SPECIE DA IMPIANTARE'!$G1100=\"AZIONE_1\",'3 - SPECIE DA IMPIANTARE'!$G1100,\"\")","v":""},{"$f":"IF('3 - SPECIE DA IMPIANTARE'!#REF!=1,'3 - SPECIE DA IMPIANTARE'!#REF!,\"\")","v":{"$error":"#REF!"}}]
[{"$f":"IF('3 - SPECIE DA IMPIANTARE'!$G1101=\"AZIONE_1\",'3 - SPECIE DA IMPIANTARE'!$G1101,\"\")","v":""},{"$f":"IF('3 - SPECIE DA IMPIANTARE'!#REF!=1,'3 - SPECIE DA IMPIANTARE'!#REF!,\"\")","v":{"$error":"#REF!"}}]

{"sheet":"riepilogo per operazione","index":11,"n_rows":101,"n_cols":36,"rows_kept":101,"cut":false,"hidden":true,"merged":[]}
["Operazione impianti in ordine sparso",null,null,null,null,null,null,null,null,null,null,null,"Operazione Piantagioni lineari",null,null,null,null,null,null,null,null,null,null,null,"Operazione impianti a sesto regolare"]
[{"$f":"IF('3 - SPECIE DA IMPIANTARE'!$G3=\"Impianti in ordine sparso\",'3 - SPECIE DA IMPIANTARE'!H3,0)","v":0},{"$f":"IF('3 - SPECIE DA IMPIANTARE'!$G3=\"Impianti in ordine sparso\",'3 - SPECIE DA IMPIANTARE'!$I3,0)","v":0},{"$f":"IF('3 - SPECIE DA IMPIANTARE'!$G3=\"Impianti in ordine sparso\",'3 - SPECIE DA IMPIANTARE'!$K3,0)","v":0},{"$f":"IF('3 - SPECIE DA IMPIANTARE'!$G3=\"Impianti in ordine sparso\",'3 - SPECIE DA IMPIANTARE'!$L3,0)","v":0},{"$f":"IF('3 - SPECIE DA IMPIANTARE'!$G3=\"Impianti in ordine sparso\",'3 - SPECIE DA IMPIANTARE'!$N3,0)","v":0},{"$f":"IF('3 - SPECIE DA IMPIANTARE'!$G3=\"Impianti in ordine sparso\",'3 - SPECIE DA IMPIANTARE'!$O3,0)","v":0},{"$f":"IF('3 - SPECIE DA IMPIANTARE'!$G3=\"Impianti in ordine sparso\",'3 - SPECIE DA IMPIANTARE'!$Q3,0)","v":0},{"$f":"IF('3 - SPECIE DA IMPIANTARE'!$G3=\"Impianti in ordine sparso\",'3 - SPECIE DA IMPIANTARE'!$R3,0)","v":0},{"$f":"IF('3 - SPECIE DA IMPIANTARE'!$G3=\"Impianti in ordine sparso\",'3 - SPECIE DA IMPIANTARE'!$T3,0)","v":0},{"$f":"IF('3 - SPECIE DA IMPIANTARE'!$G3=\"Impianti in ordine sparso\",'3 - SPECIE DA IMPIANTARE'!$U3,0)","v":0},{"$f":"IF('3 - SPECIE DA IMPIANTARE'!$G3=\"Impianti in ordine sparso\",'3 - SPECIE DA IMPIANTARE'!$W3,0)","v":0},{"$f":"IF('3 - SPECIE DA IMPIANTARE'!$G3=\"Impianti in ordine sparso\",'3 - SPECIE DA IMPIANTARE'!$X3,0)","v":0},{"$f":"IF('3 - SPECIE DA IMPIANTARE'!$G3=\"Piantagioni lineari\",'3 - SPECIE DA IMPIANTARE'!$H3,0)","v":0},{"$f":"IF('3 - SPECIE DA IMPIANTARE'!$G3=\"Piantagioni lineari\",'3 - SPECIE DA IMPIANTARE'!I$3,0)","v":0},{"$f":"IF('3 - SPECIE DA IMPIANTARE'!$G3=\"Piantagioni lineari\",'3 - SPECIE DA IMPIANTARE'!$K3,0)","v":0},{"$f":"IF('3 - SPECIE DA IMPIANTARE'!$G3=\"Piantagioni lineari\",'3 - SPECIE DA IMPIANTARE'!$L3,0)","v":0},{"$f":"IF('3 - SPECIE DA IMPIANTARE'!$G3=\"Piantagioni lineari\",'3 - SPECIE DA IMPIANTARE'!$N3,0)","v":0},{"$f":"IF('3 - SPECIE DA IMPIANTARE'!$G3=\"Piantagioni lineari\",'3 - SPECIE DA IMPIANTARE'!$O3,0)","v":0},{"$f":"IF('3 - SPECIE DA IMPIANTARE'!$G3=\"Piantagioni lineari\",'3 - SPECIE DA IMPIANTARE'!$Q3,0)","v":0},{"$f":"IF('3 - SPECIE DA IMPIANTARE'!$G3=\"Piantagioni lineari\",'3 - SPECIE DA IMPIANTARE'!$R3,0)","v":0},{"$f":"IF('3 - SPECIE DA IMPIANTARE'!$G3=\"Piantagioni lineari\",'3 - SPECIE DA IMPIANTARE'!$T3,0)","v":0},{"$f":"IF('3 - SPECIE DA IMPIANTARE'!$G3=\"Piantagioni lineari\",'3 - SPECIE DA IMPIANTARE'!$U3,0)","v":0},{"$f":"IF('3 - SPECIE DA IMPIANTARE'!$G3=\"Piantagioni lineari\",'3 - SPECIE DA IMPIANTARE'!$W3,0)","v":0},{"$f":"IF('3 - SPECIE DA IMPIANTARE'!$G3=\"Piantagioni lineari\",'3 - SPECIE DA IMPIANTARE'!$X3,0)","v":0},{"$f":"IF('3 - SPECIE DA IMPIANTARE'!$G3=\"Impianti a sesto regolare\",'3 - SPECIE DA IMPIANTARE'!$H3,0)","v":0},{"$f":"IF('3 - SPECIE DA IMPIANTARE'!$G3=\"Impianti a sesto regolare\",'3 - SPECIE DA IMPIANTARE'!$I3,0)","v":0},{"$f":"IF('3 - SPECIE DA IMPIANTARE'!$G3=\"Impianti a sesto regolare\",'3 - SPECIE DA IMPIANTARE'!$K3,0)","v":0},{"$f":"IF('3 - SPECIE DA IMPIANTARE'!$G3=\"Impianti a sesto regolare\",'3 - SPECIE DA IMPIANTARE'!$L3,0)","v":0},{"$f":"IF('3 - SPECIE DA IMPIANTARE'!$G3=\"Impianti a sesto regolare\",'3 - SPECIE DA IMPIANTARE'!$N3,0)","v":0},{"$f":"IF('3 - SPECIE DA IMPIANTARE'!$G3=\"Impianti a sesto regolare\",'3 - SPECIE DA IMPIANTARE'!$O3,0)","v":0},{"$f":"IF('3 - SPECIE DA IMPIANTARE'!$G3=\"Impianti a sesto regolare\",'3 - SPECIE DA IMPIANTARE'!$Q3,0)","v":0},{"$f":"IF('3 - SPECIE DA IMPIANTARE'!$G3=\"Impianti a sesto regolare\",'3 - SPECIE DA IMPIANTARE'!$R3,0)","v":0},{"$f":"IF('3 - SPECIE DA IMPIANTARE'!$G3=\"Impianti a sesto regolare\",'3 - SPECIE DA IMPIANTARE'!$T3,0)","v":0},{"$f":"IF('3 - SPECIE DA IMPIANTARE'!$G3=\"Impianti a sesto regolare\",'3 - SPECIE DA IMPIANTARE'!$U3,0)","v":0},{"$f":"IF('3 - SPECIE DA IMPIANTARE'!$G3=\"Impianti a sesto regolare\",'3 - SPECIE DA IMPIANTARE'!$W3,0)","v":0},{"$f":"IF('3 - SPECIE DA IMPIANTARE'!$G3=\"Impianti a sesto regolare\",'3 - SPECIE DA IMPIANTARE'!$X3,0)","v":0}]
[{"$f":"IF('3 - SPECIE DA IMPIANTARE'!G4=\"Impianti in ordine sparso\",'3 - SPECIE DA IMPIANTARE'!H4,0)","v":0},{"$f":"IF('3 - SPECIE DA IMPIANTARE'!$G4=\"Impianti in ordine sparso\",'3 - SPECIE DA IMPIANTARE'!I4,0)","v":0},{"$f":"IF('3 - SPECIE DA IMPIANTARE'!$G4=\"Impianti in ordine sparso\",'3 - SPECIE DA IMPIANTARE'!K4,0)","v":0},{"$f":"IF('3 - SPECIE DA IMPIANTARE'!$G4=\"Impianti in ordine sparso\",'3 - SPECIE DA IMPIANTARE'!L4,0)","v":0},{"$f":"IF('3 - SPECIE DA IMPIANTARE'!$G4=\"Impianti in ordine sparso\",'3 - SPECIE DA IMPIANTARE'!N4,0)","v":0},{"$f":"IF('3 - SPECIE DA IMPIANTARE'!$G4=\"Impianti in ordine sparso\",'3 - SPECIE DA IMPIANTARE'!O4,0)","v":0},{"$f":"IF('3 - SPECIE DA IMPIANTARE'!$G4=\"Impianti in ordine sparso\",'3 - SPECIE DA IMPIANTARE'!Q4,0)","v":0},{"$f":"IF('3 - SPECIE DA IMPIANTARE'!$G4=\"Impianti in ordine sparso\",'3 - SPECIE DA IMPIANTARE'!R4,0)","v":0},{"$f":"IF('3 - SPECIE DA IMPIANTARE'!$G4=\"Impianti in ordine sparso\",'3 - SPECIE DA IMPIANTARE'!T4,0)","v":0},{"$f":"IF('3 - SPECIE DA IMPIANTARE'!$G4=\"Impianti in ordine sparso\",'3 - SPECIE DA IMPIANTARE'!U4,0)","v":0},{"$f":"IF('3 - SPECIE DA IMPIANTARE'!$G4=\"Impianti in ordine sparso\",'3 - SPECIE DA IMPIANTARE'!W4,0)","v":0},{"$f":"IF('3 - SPECIE DA IMPIANTARE'!$G4=\"Impianti in ordine sparso\",'3 - SPECIE DA IMPIANTARE'!X4,0)","v":0},{"$f":"IF('3 - SPECIE DA IMPIANTARE'!$G4=\"Piantagioni lineari\",'3 - SPECIE DA IMPIANTARE'!H4,0)","v":0},{"$f":"IF('3 - SPECIE DA IMPIANTARE'!$G4=\"Piantagioni lineari\",'3 - SPECIE DA IMPIANTARE'!I4,0)","v":0},{"$f":"IF('3 - SPECIE DA IMPIANTARE'!$G4=\"Piantagioni lineari\",'3 - SPECIE DA IMPIANTARE'!K4,0)","v":0},{"$f":"IF('3 - SPECIE DA IMPIANTARE'!$G4=\"Piantagioni lineari\",'3 - SPECIE DA IMPIANTARE'!L4,0)","v":0},{"$f":"IF('3 - SPECIE DA IMPIANTARE'!$G4=\"Piantagioni lineari\",'3 - SPECIE DA IMPIANTARE'!N4,0)","v":0},{"$f":"IF('3 - SPECIE DA IMPIANTARE'!$G4=\"Piantagioni lineari\",'3 - SPECIE DA IMPIANTARE'!O4,0)","v":0},{"$f":"IF('3 - SPECIE DA IMPIANTARE'!$G4=\"Piantagioni lineari\",'3 - SPECIE DA IMPIANTARE'!Q4,0)","v":0},{"$f":"IF('3 - SPECIE DA IMPIANTARE'!$G4=\"Piantagioni lineari\",'3 - SPECIE DA IMPIANTARE'!R4,0)","v":0},{"$f":"IF('3 - SPECIE DA IMPIANTARE'!$G4=\"Piantagioni lineari\",'3 - SPECIE DA IMPIANTARE'!T4,0)","v":0},{"$f":"IF('3 - SPECIE DA IMPIANTARE'!$G4=\"Piantagioni lineari\",'3 - SPECIE DA IMPIANTARE'!U4,0)","v":0},{"$f":"IF('3 - SPECIE DA IMPIANTARE'!$G4=\"Piantagioni lineari\",'3 - SPECIE DA IMPIANTARE'!W4,0)","v":0},{"$f":"IF('3 - SPECIE DA IMPIANTARE'!$G4=\"Piantagioni lineari\",'3 - SPECIE DA IMPIANTARE'!X4,0)","v":0},{"$f":"IF('3 - SPECIE DA IMPIANTARE'!$G4=\"Impianti a sesto regolare\",'3 - SPECIE DA IMPIANTARE'!$H4,0)","v":0},{"$f":"IF('3 - SPECIE DA IMPIANTARE'!$G4=\"Impianti a sesto regolare\",'3 - SPECIE DA IMPIANTARE'!$I4,0)","v":0},{"$f":"IF('3 - SPECIE DA IMPIANTARE'!$G4=\"Impianti a sesto regolare\",'3 - SPECIE DA IMPIANTARE'!$K4,0)","v":0},{"$f":"IF('3 - SPECIE DA IMPIANTARE'!$G4=\"Impianti a sesto regolare\",'3 - SPECIE DA IMPIANTARE'!$L4,0)","v":0},{"$f":"IF('3 - SPECIE DA IMPIANTARE'!$G4=\"Impianti a sesto regolare\",'3 - SPECIE DA IMPIANTARE'!$N4,0)","v":0},{"$f":"IF('3 - SPECIE DA IMPIANTARE'!$G4=\"Impianti a sesto regolare\",'3 - SPECIE DA IMPIANTARE'!$O4,0)","v":0},{"$f":"IF('3 - SPECIE DA IMPIANTARE'!$G4=\"Impianti a sesto regolare\",'3 - SPECIE DA IMPIANTARE'!$Q4,0)","v":0},{"$f":"IF('3 - SPECIE DA IMPIANTARE'!$G4=\"Impianti a sesto regolare\",'3 - SPECIE DA IMPIANTARE'!$R4,0)","v":0},{"$f":"IF('3 - SPECIE DA IMPIANTARE'!$G4=\"Impianti a sesto regolare\",'3 - SPECIE DA IMPIANTARE'!$T4,0)","v":0},{"$f":"IF('3 - SPECIE DA IMPIANTARE'!$G4=\"Impianti a sesto regolare\",'3 - SPECIE DA IMPIANTARE'!$U4,0)","v":0},{"$f":"IF('3 - SPECIE DA IMPIANTARE'!$G4=\"Impianti a sesto regolare\",'3 - SPECIE DA IMPIANTARE'!$W4,0)","v":0},{"$f":"IF('3 - SPECIE DA IMPIANTARE'!$G4=\"Impianti a sesto regolare\",'3 - SPECIE DA IMPIANTARE'!$X4,0)","v":0}]
[{"$f":"IF('3 - SPECIE DA IMPIANTARE'!G5=\"Impianti in ordine sparso\",'3 - SPECIE DA IMPIANTARE'!H5,0)","v":0},{"$f":"IF('3 - SPECIE DA IMPIANTARE'!$G5=\"Impianti in ordine sparso\",'3 - SPECIE DA IMPIANTARE'!I5,0)","v":0},{"$f":"IF('3 - SPECIE DA IMPIANTARE'!$G5=\"Impianti in ordine sparso\",'3 - SPECIE DA IMPIANTARE'!K5,0)","v":0},{"$f":"IF('3 - SPECIE DA IMPIANTARE'!$G5=\"Impianti in ordine sparso\",'3 - SPECIE DA IMPIANTARE'!L5,0)","v":0},{"$f":"IF('3 - SPECIE DA IMPIANTARE'!$G5=\"Impianti in ordine sparso\",'3 - SPECIE DA IMPIANTARE'!N5,0)","v":0},{"$f":"IF('3 - SPECIE DA IMPIANTARE'!$G5=\"Impianti in ordine sparso\",'3 - SPECIE DA IMPIANTARE'!O5,0)","v":0},{"$f":"IF('3 - SPECIE DA IMPIANTARE'!$G5=\"Impianti in ordine sparso\",'3 - SPECIE DA IMPIANTARE'!Q5,0)","v":0},{"$f":"IF('3 - SPECIE DA IMPIANTARE'!$G5=\"Impianti in ordine sparso\",'3 - SPECIE DA IMPIANTARE'!R5,0)","v":0},{"$f":"IF('3 - SPECIE DA IMPIANTARE'!$G5=\"Impianti in ordine sparso\",'3 - SPECIE DA IMPIANTARE'!T5,0)","v":0},{"$f":"IF('3 - SPECIE DA IMPIANTARE'!$G5=\"Impianti in ordine sparso\",'3 - SPECIE DA IMPIANTARE'!U5,0)","v":0},{"$f":"IF('3 - SPECIE DA IMPIANTARE'!$G5=\"Impianti in ordine sparso\",'3 - SPECIE DA IMPIANTARE'!W5,0)","v":0},{"$f":"IF('3 - SPECIE DA IMPIANTARE'!$G5=\"Impianti in ordine sparso\",'3 - SPECIE DA IMPIANTARE'!X5,0)","v":0},{"$f":"IF('3 - SPECIE DA IMPIANTARE'!$G5=\"Piantagioni lineari\",'3 - SPECIE DA IMPIANTARE'!H5,0)","v":0},{"$f":"IF('3 - SPECIE DA IMPIANTARE'!$G5=\"Piantagioni lineari\",'3 - SPECIE DA IMPIANTARE'!I5,0)","v":0},{"$f":"IF('3 - SPECIE DA IMPIANTARE'!$G5=\"Piantagioni lineari\",'3 - SPECIE DA IMPIANTARE'!K5,0)","v":0},{"$f":"IF('3 - SPECIE DA IMPIANTARE'!$G5=\"Piantagioni lineari\",'3 - SPECIE DA IMPIANTARE'!L5,0)","v":0},{"$f":"IF('3 - SPECIE DA IMPIANTARE'!$G5=\"Piantagioni lineari\",'3 - SPECIE DA IMPIANTARE'!N5,0)","v":0},{"$f":"IF('3 - SPECIE DA IMPIANTARE'!$G5=\"Piantagioni lineari\",'3 - SPECIE DA IMPIANTARE'!O5,0)","v":0},{"$f":"IF('3 - SPECIE DA IMPIANTARE'!$G5=\"Piantagioni lineari\",'3 - SPECIE DA IMPIANTARE'!Q5,0)","v":0},{"$f":"IF('3 - SPECIE DA IMPIANTARE'!$G5=\"Piantagioni lineari\",'3 - SPECIE DA IMPIANTARE'!R5,0)","v":0},{"$f":"IF('3 - SPECIE DA IMPIANTARE'!$G5=\"Piantagioni lineari\",'3 - SPECIE DA IMPIANTARE'!T5,0)","v":0},{"$f":"IF('3 - SPECIE DA IMPIANTARE'!$G5=\"Piantagioni lineari\",'3 - SPECIE DA IMPIANTARE'!U5,0)","v":0},{"$f":"IF('3 - SPECIE DA IMPIANTARE'!$G5=\"Piantagioni lineari\",'3 - SPECIE DA IMPIANTARE'!W5,0)","v":0},{"$f":"IF('3 - SPECIE DA IMPIANTARE'!$G5=\"Piantagioni lineari\",'3 - SPECIE DA IMPIANTARE'!X5,0)","v":0},{"$f":"IF('3 - SPECIE DA IMPIANTARE'!$G5=\"Impianti a sesto regolare\",'3 - SPECIE DA IMPIANTARE'!$H5,0)","v":0},{"$f":"IF('3 - SPECIE DA IMPIANTARE'!$G5=\"Impianti a sesto regolare\",'3 - SPECIE DA IMPIANTARE'!$I5,0)","v":0},{"$f":"IF('3 - SPECIE DA IMPIANTARE'!$G5=\"Impianti a sesto regolare\",'3 - SPECIE DA IMPIANTARE'!$K5,0)","v":0},{"$f":"IF('3 - SPECIE DA IMPIANTARE'!$G5=\"Impianti a sesto regolare\",'3 - SPECIE DA IMPIANTARE'!$L5,0)","v":0},{"$f":"IF('3 - SPECIE DA IMPIANTARE'!$G5=\"Impianti a sesto regolare\",'3 - SPECIE DA IMPIANTARE'!$N5,0)","v":0},{"$f":"IF('3 - SPECIE DA IMPIANTARE'!$G5=\"Impianti a sesto regolare\",'3 - SPECIE DA IMPIANTARE'!$O5,0)","v":0},{"$f":"IF('3 - SPECIE DA IMPIANTARE'!$G5=\"Impianti a sesto regolare\",'3 - SPECIE DA IMPIANTARE'!$Q5,0)","v":0},{"$f":"IF('3 - SPECIE DA IMPIANTARE'!$G5=\"Impianti a sesto regolare\",'3 - SPECIE DA IMPIANTARE'!$R5,0)","v":0},{"$f":"IF('3 - SPECIE DA IMPIANTARE'!$G5=\"Impianti a sesto regolare\",'3 - SPECIE DA IMPIANTARE'!$T5,0)","v":0},{"$f":"IF('3 - SPECIE DA IMPIANTARE'!$G5=\"Impianti a sesto regolare\",'3 - SPECIE DA IMPIANTARE'!$U5,0)","v":0},{"$f":"IF('3 - SPECIE DA IMPIANTARE'!$G5=\"Impianti a sesto regolare\",'3 - SPECIE DA IMPIANTARE'!$W5,0)","v":0},{"$f":"IF('3 - SPECIE DA IMPIANTARE'!$G5=\"Impianti a sesto regolare\",'3 - SPECIE DA IMPIANTARE'!$X5,0)","v":0}]
[{"$f":"IF('3 - SPECIE DA IMPIANTARE'!G6=\"Impianti in ordine sparso\",'3 - SPECIE DA IMPIANTARE'!H6,0)","v":0},{"$f":"IF('3 - SPECIE DA IMPIANTARE'!$G6=\"Impianti in ordine sparso\",'3 - SPECIE DA IMPIANTARE'!I6,0)","v":0},{"$f":"IF('3 - SPECIE DA IMPIANTARE'!$G6=\"Impianti in ordine sparso\",'3 - SPECIE DA IMPIANTARE'!K6,0)","v":0},{"$f":"IF('3 - SPECIE DA IMPIANTARE'!$G6=\"Impianti in ordine sparso\",'3 - SPECIE DA IMPIANTARE'!L6,0)","v":0},{"$f":"IF('3 - SPECIE DA IMPIANTARE'!$G6=\"Impianti in ordine sparso\",'3 - SPECIE DA IMPIANTARE'!N6,0)","v":0},{"$f":"IF('3 - SPECIE DA IMPIANTARE'!$G6=\"Impianti in ordine sparso\",'3 - SPECIE DA IMPIANTARE'!O6,0)","v":0},{"$f":"IF('3 - SPECIE DA IMPIANTARE'!$G6=\"Impianti in ordine sparso\",'3 - SPECIE DA IMPIANTARE'!Q6,0)","v":0},{"$f":"IF('3 - SPECIE DA IMPIANTARE'!$G6=\"Impianti in ordine sparso\",'3 - SPECIE DA IMPIANTARE'!R6,0)","v":0},{"$f":"IF('3 - SPECIE DA IMPIANTARE'!$G6=\"Impianti in ordine sparso\",'3 - SPECIE DA IMPIANTARE'!T6,0)","v":0},{"$f":"IF('3 - SPECIE DA IMPIANTARE'!$G6=\"Impianti in ordine sparso\",'3 - SPECIE DA IMPIANTARE'!U6,0)","v":0},{"$f":"IF('3 - SPECIE DA IMPIANTARE'!$G6=\"Impianti in ordine sparso\",'3 - SPECIE DA IMPIANTARE'!W6,0)","v":0},{"$f":"IF('3 - SPECIE DA IMPIANTARE'!$G6=\"Impianti in ordine sparso\",'3 - SPECIE DA IMPIANTARE'!X6,0)","v":0},{"$f":"IF('3 - SPECIE DA IMPIANTARE'!$G6=\"Piantagioni lineari\",'3 - SPECIE DA IMPIANTARE'!H6,0)","v":0},{"$f":"IF('3 - SPECIE DA IMPIANTARE'!$G6=\"Piantagioni lineari\",'3 - SPECIE DA IMPIANTARE'!I6,0)","v":0},{"$f":"IF('3 - SPECIE DA IMPIANTARE'!$G6=\"Piantagioni lineari\",'3 - SPECIE DA IMPIANTARE'!K6,0)","v":0},{"$f":"IF('3 - SPECIE DA IMPIANTARE'!$G6=\"Piantagioni lineari\",'3 - SPECIE DA IMPIANTARE'!L6,0)","v":0},{"$f":"IF('3 - SPECIE DA IMPIANTARE'!$G6=\"Piantagioni lineari\",'3 - SPECIE DA IMPIANTARE'!N6,0)","v":0},{"$f":"IF('3 - SPECIE DA IMPIANTARE'!$G6=\"Piantagioni lineari\",'3 - SPECIE DA IMPIANTARE'!O6,0)","v":0},{"$f":"IF('3 - SPECIE DA IMPIANTARE'!$G6=\"Piantagioni lineari\",'3 - SPECIE DA IMPIANTARE'!Q6,0)","v":0},{"$f":"IF('3 - SPECIE DA IMPIANTARE'!$G6=\"Piantagioni lineari\",'3 - SPECIE DA IMPIANTARE'!R6,0)","v":0},{"$f":"IF('3 - SPECIE DA IMPIANTARE'!$G6=\"Piantagioni lineari\",'3 - SPECIE DA IMPIANTARE'!T6,0)","v":0},{"$f":"IF('3 - SPECIE DA IMPIANTARE'!$G6=\"Piantagioni lineari\",'3 - SPECIE DA IMPIANTARE'!U6,0)","v":0},{"$f":"IF('3 - SPECIE DA IMPIANTARE'!$G6=\"Piantagioni lineari\",'3 - SPECIE DA IMPIANTARE'!W6,0)","v":0},{"$f":"IF('3 - SPECIE DA IMPIANTARE'!$G6=\"Piantagioni lineari\",'3 - SPECIE DA IMPIANTARE'!X6,0)","v":0},{"$f":"IF('3 - SPECIE DA IMPIANTARE'!$G6=\"Impianti a sesto regolare\",'3 - SPECIE DA IMPIANTARE'!$H6,0)","v":0},{"$f":"IF('3 - SPECIE DA IMPIANTARE'!$G6=\"Impianti a sesto regolare\",'3 - SPECIE DA IMPIANTARE'!$I6,0)","v":0},{"$f":"IF('3 - SPECIE DA IMPIANTARE'!$G6=\"Impianti a sesto regolare\",'3 - SPECIE DA IMPIANTARE'!$K6,0)","v":0},{"$f":"IF('3 - SPECIE DA IMPIANTARE'!$G6=\"Impianti a sesto regolare\",'3 - SPECIE DA IMPIANTARE'!$L6,0)","v":0},{"$f":"IF('3 - SPECIE DA IMPIANTARE'!$G6=\"Impianti a sesto regolare\",'3 - SPECIE DA IMPIANTARE'!$N6,0)","v":0},{"$f":"IF('3 - SPECIE DA IMPIANTARE'!$G6=\"Impianti a sesto regolare\",'3 - SPECIE DA IMPIANTARE'!$O6,0)","v":0},{"$f":"IF('3 - SPECIE DA IMPIANTARE'!$G6=\"Impianti a sesto regolare\",'3 - SPECIE DA IMPIANTARE'!$Q6,0)","v":0},{"$f":"IF('3 - SPECIE DA IMPIANTARE'!$G6=\"Impianti a sesto regolare\",'3 - SPECIE DA IMPIANTARE'!$R6,0)","v":0},{"$f":"IF('3 - SPECIE DA IMPIANTARE'!$G6=\"Impianti a sesto regolare\",'3 - SPECIE DA IMPIANTARE'!$T6,0)","v":0},{"$f":"IF('3 - SPECIE DA IMPIANTARE'!$G6=\"Impianti a sesto regolare\",'3 - SPECIE DA IMPIANTARE'!$U6,0)","v":0},{"$f":"IF('3 - SPECIE DA IMPIANTARE'!$G6=\"Impianti a sesto regolare\",'3 - SPECIE DA IMPIANTARE'!$W6,0)","v":0},{"$f":"IF('3 - SPECIE DA IMPIANTARE'!$G6=\"Impianti a sesto regolare\",'3 - SPECIE DA IMPIANTARE'!$X6,0)","v":0}]
[{"$f":"IF('3 - SPECIE DA IMPIANTARE'!G7=\"Impianti in ordine sparso\",'3 - SPECIE DA IMPIANTARE'!H7,0)","v":0},{"$f":"IF('3 - SPECIE DA IMPIANTARE'!$G7=\"Impianti in ordine sparso\",'3 - SPECIE DA IMPIANTARE'!I7,0)","v":0},{"$f":"IF('3 - SPECIE DA IMPIANTARE'!$G7=\"Impianti in ordine sparso\",'3 - SPECIE DA IMPIANTARE'!K7,0)","v":0},{"$f":"IF('3 - SPECIE DA IMPIANTARE'!$G7=\"Impianti in ordine sparso\",'3 - SPECIE DA IMPIANTARE'!L7,0)","v":0},{"$f":"IF('3 - SPECIE DA IMPIANTARE'!$G7=\"Impianti in ordine sparso\",'3 - SPECIE DA IMPIANTARE'!N7,0)","v":0},{"$f":"IF('3 - SPECIE DA IMPIANTARE'!$G7=\"Impianti in ordine sparso\",'3 - SPECIE DA IMPIANTARE'!O7,0)","v":0},{"$f":"IF('3 - SPECIE DA IMPIANTARE'!$G7=\"Impianti in ordine sparso\",'3 - SPECIE DA IMPIANTARE'!Q7,0)","v":0},{"$f":"IF('3 - SPECIE DA IMPIANTARE'!$G7=\"Impianti in ordine sparso\",'3 - SPECIE DA IMPIANTARE'!R7,0)","v":0},{"$f":"IF('3 - SPECIE DA IMPIANTARE'!$G7=\"Impianti in ordine sparso\",'3 - SPECIE DA IMPIANTARE'!T7,0)","v":0},{"$f":"IF('3 - SPECIE DA IMPIANTARE'!$G7=\"Impianti in ordine sparso\",'3 - SPECIE DA IMPIANTARE'!U7,0)","v":0},{"$f":"IF('3 - SPECIE DA IMPIANTARE'!$G7=\"Impianti in ordine sparso\",'3 - SPECIE DA IMPIANTARE'!W7,0)","v":0},{"$f":"IF('3 - SPECIE DA IMPIANTARE'!$G7=\"Impianti in ordine sparso\",'3 - SPECIE DA IMPIANTARE'!X7,0)","v":0},{"$f":"IF('3 - SPECIE DA IMPIANTARE'!$G7=\"Piantagioni lineari\",'3 - SPECIE DA IMPIANTARE'!H7,0)","v":0},{"$f":"IF('3 - SPECIE DA IMPIANTARE'!$G7=\"Piantagioni lineari\",'3 - SPECIE DA IMPIANTARE'!I7,0)","v":0},{"$f":"IF('3 - SPECIE DA IMPIANTARE'!$G7=\"Piantagioni lineari\",'3 - SPECIE DA IMPIANTARE'!K7,0)","v":0},{"$f":"IF('3 - SPECIE DA IMPIANTARE'!$G7=\"Piantagioni lineari\",'3 - SPECIE DA IMPIANTARE'!L7,0)","v":0},{"$f":"IF('3 - SPECIE DA IMPIANTARE'!$G7=\"Piantagioni lineari\",'3 - SPECIE DA IMPIANTARE'!N7,0)","v":0},{"$f":"IF('3 - SPECIE DA IMPIANTARE'!$G7=\"Piantagioni lineari\",'3 - SPECIE DA IMPIANTARE'!O7,0)","v":0},{"$f":"IF('3 - SPECIE DA IMPIANTARE'!$G7=\"Piantagioni lineari\",'3 - SPECIE DA IMPIANTARE'!Q7,0)","v":0},{"$f":"IF('3 - SPECIE DA IMPIANTARE'!$G7=\"Piantagioni lineari\",'3 - SPECIE DA IMPIANTARE'!R7,0)","v":0},{"$f":"IF('3 - SPECIE DA IMPIANTARE'!$G7=\"Piantagioni lineari\",'3 - SPECIE DA IMPIANTARE'!T7,0)","v":0},{"$f":"IF('3 - SPECIE DA IMPIANTARE'!$G7=\"Piantagioni lineari\",'3 - SPECIE DA IMPIANTARE'!U7,0)","v":0},{"$f":"IF('3 - SPECIE DA IMPIANTARE'!$G7=\"Piantagioni lineari\",'3 - SPECIE DA IMPIANTARE'!W7,0)","v":0},{"$f":"IF('3 - SPECIE DA IMPIANTARE'!$G7=\"Piantagioni lineari\",'3 - SPECIE DA IMPIANTARE'!X7,0)","v":0},{"$f":"IF('3 - SPECIE DA IMPIANTARE'!$G7=\"Impianti a sesto regolare\",'3 - SPECIE DA IMPIANTARE'!$H7,0)","v":0},{"$f":"IF('3 - SPECIE DA IMPIANTARE'!$G7=\"Impianti a sesto regolare\",'3 - SPECIE DA IMPIANTARE'!$I7,0)","v":0},{"$f":"IF('3 - SPECIE DA IMPIANTARE'!$G7=\"Impianti a sesto regolare\",'3 - SPECIE DA IMPIANTARE'!$K7,0)","v":0},{"$f":"IF('3 - SPECIE DA IMPIANTARE'!$G7=\"Impianti a sesto regolare\",'3 - SPECIE DA IMPIANTARE'!$L7,0)","v":0},{"$f":"IF('3 - SPECIE DA IMPIANTARE'!$G7=\"Impianti a sesto regolare\",'3 - SPECIE DA IMPIANTARE'!$N7,0)","v":0},{"$f":"IF('3 - SPECIE DA IMPIANTARE'!$G7=\"Impianti a sesto regolare\",'3 - SPECIE DA IMPIANTARE'!$O7,0)","v":0},{"$f":"IF('3 - SPECIE DA IMPIANTARE'!$G7=\"Impianti a sesto regolare\",'3 - SPECIE DA IMPIANTARE'!$Q7,0)","v":0},{"$f":"IF('3 - SPECIE DA IMPIANTARE'!$G7=\"Impianti a sesto regolare\",'3 - SPECIE DA IMPIANTARE'!$R7,0)","v":0},{"$f":"IF('3 - SPECIE DA IMPIANTARE'!$G7=\"Impianti a sesto regolare\",'3 - SPECIE DA IMPIANTARE'!$T7,0)","v":0},{"$f":"IF('3 - SPECIE DA IMPIANTARE'!$G7=\"Impianti a sesto regolare\",'3 - SPECIE DA IMPIANTARE'!$U7,0)","v":0},{"$f":"IF('3 - SPECIE DA IMPIANTARE'!$G7=\"Impianti a sesto regolare\",'3 - SPECIE DA IMPIANTARE'!$W7,0)","v":0},{"$f":"IF('3 - SPECIE DA IMPIANTARE'!$G7=\"Impianti a sesto regolare\",'3 - SPECIE DA IMPIANTARE'!$X7,0)","v":0}]
[{"$f":"IF('3 - SPECIE DA IMPIANTARE'!G8=\"Impianti in ordine sparso\",'3 - SPECIE DA IMPIANTARE'!H8,0)","v":0},{"$f":"IF('3 - SPECIE DA IMPIANTARE'!$G8=\"Impianti in ordine sparso\",'3 - SPECIE DA IMPIANTARE'!I8,0)","v":0},{"$f":"IF('3 - SPECIE DA IMPIANTARE'!$G8=\"Impianti in ordine sparso\",'3 - SPECIE DA IMPIANTARE'!K8,0)","v":0},{"$f":"IF('3 - SPECIE DA IMPIANTARE'!$G8=\"Impianti in ordine sparso\",'3 - SPECIE DA IMPIANTARE'!L8,0)","v":0},{"$f":"IF('3 - SPECIE DA IMPIANTARE'!$G8=\"Impianti in ordine sparso\",'3 - SPECIE DA IMPIANTARE'!N8,0)","v":0},{"$f":"IF('3 - SPECIE DA IMPIANTARE'!$G8=\"Impianti in ordine sparso\",'3 - SPECIE DA IMPIANTARE'!O8,0)","v":0},{"$f":"IF('3 - SPECIE DA IMPIANTARE'!$G8=\"Impianti in ordine sparso\",'3 - SPECIE DA IMPIANTARE'!Q8,0)","v":0},{"$f":"IF('3 - SPECIE DA IMPIANTARE'!$G8=\"Impianti in ordine sparso\",'3 - SPECIE DA IMPIANTARE'!R8,0)","v":0},{"$f":"IF('3 - SPECIE DA IMPIANTARE'!$G8=\"Impianti in ordine sparso\",'3 - SPECIE DA IMPIANTARE'!T8,0)","v":0},{"$f":"IF('3 - SPECIE DA IMPIANTARE'!$G8=\"Impianti in ordine sparso\",'3 - SPECIE DA IMPIANTARE'!U8,0)","v":0},{"$f":"IF('3 - SPECIE DA IMPIANTARE'!$G8=\"Impianti in ordine sparso\",'3 - SPECIE DA IMPIANTARE'!W8,0)","v":0},{"$f":"IF('3 - SPECIE DA IMPIANTARE'!$G8=\"Impianti in ordine sparso\",'3 - SPECIE DA IMPIANTARE'!X8,0)","v":0},{"$f":"IF('3 - SPECIE DA IMPIANTARE'!$G8=\"Piantagioni lineari\",'3 - SPECIE DA IMPIANTARE'!H8,0)","v":0},{"$f":"IF('3 - SPECIE DA IMPIANTARE'!$G8=\"Piantagioni lineari\",'3 - SPECIE DA IMPIANTARE'!I8,0)","v":0},{"$f":"IF('3 - SPECIE DA IMPIANTARE'!$G8=\"Piantagioni lineari\",'3 - SPECIE DA IMPIANTARE'!K8,0)","v":0},{"$f":"IF('3 - SPECIE DA IMPIANTARE'!$G8=\"Piantagioni lineari\",'3 - SPECIE DA IMPIANTARE'!L8,0)","v":0},{"$f":"IF('3 - SPECIE DA IMPIANTARE'!$G8=\"Piantagioni lineari\",'3 - SPECIE DA IMPIANTARE'!N8,0)","v":0},{"$f":"IF('3 - SPECIE DA IMPIANTARE'!$G8=\"Piantagioni lineari\",'3 - SPECIE DA IMPIANTARE'!O8,0)","v":0},{"$f":"IF('3 - SPECIE DA IMPIANTARE'!$G8=\"Piantagioni lineari\",'3 - SPECIE DA IMPIANTARE'!Q8,0)","v":0},{"$f":"IF('3 - SPECIE DA IMPIANTARE'!$G8=\"Piantagioni lineari\",'3 - SPECIE DA IMPIANTARE'!R8,0)","v":0},{"$f":"IF('3 - SPECIE DA IMPIANTARE'!$G8=\"Piantagioni lineari\",'3 - SPECIE DA IMPIANTARE'!T8,0)","v":0},{"$f":"IF('3 - SPECIE DA IMPIANTARE'!$G8=\"Piantagioni lineari\",'3 - SPECIE DA IMPIANTARE'!U8,0)","v":0},{"$f":"IF('3 - SPECIE DA IMPIANTARE'!$G8=\"Piantagioni lineari\",'3 - SPECIE DA IMPIANTARE'!W8,0)","v":0},{"$f":"IF('3 - SPECIE DA IMPIANTARE'!$G8=\"Piantagioni lineari\",'3 - SPECIE DA IMPIANTARE'!X8,0)","v":0},{"$f":"IF('3 - SPECIE DA IMPIANTARE'!$G8=\"Impianti a sesto regolare\",'3 - SPECIE DA IMPIANTARE'!$H8,0)","v":0},{"$f":"IF('3 - SPECIE DA IMPIANTARE'!$G8=\"Impianti a sesto regolare\",'3 - SPECIE DA IMPIANTARE'!$I8,0)","v":0},{"$f":"IF('3 - SPECIE DA IMPIANTARE'!$G8=\"Impianti a sesto regolare\",'3 - SPECIE DA IMPIANTARE'!$K8,0)","v":0},{"$f":"IF('3 - SPECIE DA IMPIANTARE'!$G8=\"Impianti a sesto regolare\",'3 - SPECIE DA IMPIANTARE'!$L8,0)","v":0},{"$f":"IF('3 - SPECIE DA IMPIANTARE'!$G8=\"Impianti a sesto regolare\",'3 - SPECIE DA IMPIANTARE'!$N8,0)","v":0},{"$f":"IF('3 - SPECIE DA IMPIANTARE'!$G8=\"Impianti a sesto regolare\",'3 - SPECIE DA IMPIANTARE'!$O8,0)","v":0},{"$f":"IF('3 - SPECIE DA IMPIANTARE'!$G8=\"Impianti a sesto regolare\",'3 - SPECIE DA IMPIANTARE'!$Q8,0)","v":0},{"$f":"IF('3 - SPECIE DA IMPIANTARE'!$G8=\"Impianti a sesto regolare\",'3 - SPECIE DA IMPIANTARE'!$R8,0)","v":0},{"$f":"IF('3 - SPECIE DA IMPIANTARE'!$G8=\"Impianti a sesto regolare\",'3 - SPECIE DA IMPIANTARE'!$T8,0)","v":0},{"$f":"IF('3 - SPECIE DA IMPIANTARE'!$G8=\"Impianti a sesto regolare\",'3 - SPECIE DA IMPIANTARE'!$U8,0)","v":0},{"$f":"IF('3 - SPECIE DA IMPIANTARE'!$G8=\"Impianti a sesto regolare\",'3 - SPECIE DA IMPIANTARE'!$W8,0)","v":0},{"$f":"IF('3 - SPECIE DA IMPIANTARE'!$G8=\"Impianti a sesto regolare\",'3 - SPECIE DA IMPIANTARE'!$X8,0)","v":0}]
[{"$f":"IF('3 - SPECIE DA IMPIANTARE'!G9=\"Impianti in ordine sparso\",'3 - SPECIE DA IMPIANTARE'!H9,0)","v":0},{"$f":"IF('3 - SPECIE DA IMPIANTARE'!$G9=\"Impianti in ordine sparso\",'3 - SPECIE DA IMPIANTARE'!I9,0)","v":0},{"$f":"IF('3 - SPECIE DA IMPIANTARE'!$G9=\"Impianti in ordine sparso\",'3 - SPECIE DA IMPIANTARE'!K9,0)","v":0},{"$f":"IF('3 - SPECIE DA IMPIANTARE'!$G9=\"Impianti in ordine sparso\",'3 - SPECIE DA IMPIANTARE'!L9,0)","v":0},{"$f":"IF('3 - SPECIE DA IMPIANTARE'!$G9=\"Impianti in ordine sparso\",'3 - SPECIE DA IMPIANTARE'!N9,0)","v":0},{"$f":"IF('3 - SPECIE DA IMPIANTARE'!$G9=\"Impianti in ordine sparso\",'3 - SPECIE DA IMPIANTARE'!O9,0)","v":0},{"$f":"IF('3 - SPECIE DA IMPIANTARE'!$G9=\"Impianti in ordine sparso\",'3 - SPECIE DA IMPIANTARE'!Q9,0)","v":0},{"$f":"IF('3 - SPECIE DA IMPIANTARE'!$G9=\"Impianti in ordine sparso\",'3 - SPECIE DA IMPIANTARE'!R9,0)","v":0},{"$f":"IF('3 - SPECIE DA IMPIANTARE'!$G9=\"Impianti in ordine sparso\",'3 - SPECIE DA IMPIANTARE'!T9,0)","v":0},{"$f":"IF('3 - SPECIE DA IMPIANTARE'!$G9=\"Impianti in ordine sparso\",'3 - SPECIE DA IMPIANTARE'!U9,0)","v":0},{"$f":"IF('3 - SPECIE DA IMPIANTARE'!$G9=\"Impianti in ordine sparso\",'3 - SPECIE DA IMPIANTARE'!W9,0)","v":0},{"$f":"IF('3 - SPECIE DA IMPIANTARE'!$G9=\"Impianti in ordine sparso\",'3 - SPECIE DA IMPIANTARE'!X9,0)","v":0},{"$f":"IF('3 - SPECIE DA IMPIANTARE'!$G9=\"Piantagioni lineari\",'3 - SPECIE DA IMPIANTARE'!H9,0)","v":0},{"$f":"IF('3 - SPECIE DA IMPIANTARE'!$G9=\"Piantagioni lineari\",'3 - SPECIE DA IMPIANTARE'!I9,0)","v":0},{"$f":"IF('3 - SPECIE DA IMPIANTARE'!$G9=\"Piantagioni lineari\",'3 - SPECIE DA IMPIANTARE'!K9,0)","v":0},{"$f":"IF('3 - SPECIE DA IMPIANTARE'!$G9=\"Piantagioni lineari\",'3 - SPECIE DA IMPIANTARE'!L9,0)","v":0},{"$f":"IF('3 - SPECIE DA IMPIANTARE'!$G9=\"Piantagioni lineari\",'3 - SPECIE DA IMPIANTARE'!N9,0)","v":0},{"$f":"IF('3 - SPECIE DA IMPIANTARE'!$G9=\"Piantagioni lineari\",'3 - SPECIE DA IMPIANTARE'!O9,0)","v":0},{"$f":"IF('3 - SPECIE DA IMPIANTARE'!$G9=\"Piantagioni lineari\",'3 - SPECIE DA IMPIANTARE'!Q9,0)","v":0},{"$f":"IF('3 - SPECIE DA IMPIANTARE'!$G9=\"Piantagioni lineari\",'3 - SPECIE DA IMPIANTARE'!R9,0)","v":0},{"$f":"IF('3 - SPECIE DA IMPIANTARE'!$G9=\"Piantagioni lineari\",'3 - SPECIE DA IMPIANTARE'!T9,0)","v":0},{"$f":"IF('3 - SPECIE DA IMPIANTARE'!$G9=\"Piantagioni lineari\",'3 - SPECIE DA IMPIANTARE'!U9,0)","v":0},{"$f":"IF('3 - SPECIE DA IMPIANTARE'!$G9=\"Piantagioni lineari\",'3 - SPECIE DA IMPIANTARE'!W9,0)","v":0},{"$f":"IF('3 - SPECIE DA IMPIANTARE'!$G9=\"Piantagioni lineari\",'3 - SPECIE DA IMPIANTARE'!X9,0)","v":0},{"$f":"IF('3 - SPECIE DA IMPIANTARE'!$G9=\"Impianti a sesto regolare\",'3 - SPECIE DA IMPIANTARE'!$H9,0)","v":0},{"$f":"IF('3 - SPECIE DA IMPIANTARE'!$G9=\"Impianti a sesto regolare\",'3 - SPECIE DA IMPIANTARE'!$I9,0)","v":0},{"$f":"IF('3 - SPECIE DA IMPIANTARE'!$G9=\"Impianti a sesto regolare\",'3 - SPECIE DA IMPIANTARE'!$K9,0)","v":0},{"$f":"IF('3 - SPECIE DA IMPIANTARE'!$G9=\"Impianti a sesto regolare\",'3 - SPECIE DA IMPIANTARE'!$L9,0)","v":0},{"$f":"IF('3 - SPECIE DA IMPIANTARE'!$G9=\"Impianti a sesto regolare\",'3 - SPECIE DA IMPIANTARE'!$N9,0)","v":0},{"$f":"IF('3 - SPECIE DA IMPIANTARE'!$G9=\"Impianti a sesto regolare\",'3 - SPECIE DA IMPIANTARE'!$O9,0)","v":0},{"$f":"IF('3 - SPECIE DA IMPIANTARE'!$G9=\"Impianti a sesto regolare\",'3 - SPECIE DA IMPIANTARE'!$Q9,0)","v":0},{"$f":"IF('3 - SPECIE DA IMPIANTARE'!$G9=\"Impianti a sesto regolare\",'3 - SPECIE DA IMPIANTARE'!$R9,0)","v":0},{"$f":"IF('3 - SPECIE DA IMPIANTARE'!$G9=\"Impianti a sesto regolare\",'3 - SPECIE DA IMPIANTARE'!$T9,0)","v":0},{"$f":"IF('3 - SPECIE DA IMPIANTARE'!$G9=\"Impianti a sesto regolare\",'3 - SPECIE DA IMPIANTARE'!$U9,0)","v":0},{"$f":"IF('3 - SPECIE DA IMPIANTARE'!$G9=\"Impianti a sesto regolare\",'3 - SPECIE DA IMPIANTARE'!$W9,0)","v":0},{"$f":"IF('3 - SPECIE DA IMPIANTARE'!$G9=\"Impianti a sesto regolare\",'3 - SPECIE DA IMPIANTARE'!$X9,0)","v":0}]
[{"$f":"IF('3 - SPECIE DA IMPIANTARE'!G10=\"Impianti in ordine sparso\",'3 - SPECIE DA IMPIANTARE'!H10,0)","v":0},{"$f":"IF('3 - SPECIE DA IMPIANTARE'!$G10=\"Impianti in ordine sparso\",'3 - SPECIE DA IMPIANTARE'!I10,0)","v":0},{"$f":"IF('3 - SPECIE DA IMPIANTARE'!$G10=\"Impianti in ordine sparso\",'3 - SPECIE DA IMPIANTARE'!K10,0)","v":0},{"$f":"IF('3 - SPECIE DA IMPIANTARE'!$G10=\"Impianti in ordine sparso\",'3 - SPECIE DA IMPIANTARE'!L10,0)","v":0},{"$f":"IF('3 - SPECIE DA IMPIANTARE'!$G10=\"Impianti in ordine sparso\",'3 - SPECIE DA IMPIANTARE'!N10,0)","v":0},{"$f":"IF('3 - SPECIE DA IMPIANTARE'!$G10=\"Impianti in ordine sparso\",'3 - SPECIE DA IMPIANTARE'!O10,0)","v":0},{"$f":"IF('3 - SPECIE DA IMPIANTARE'!$G10=\"Impianti in ordine sparso\",'3 - SPECIE DA IMPIANTARE'!Q10,0)","v":0},{"$f":"IF('3 - SPECIE DA IMPIANTARE'!$G10=\"Impianti in ordine sparso\",'3 - SPECIE DA IMPIANTARE'!R10,0)","v":0},{"$f":"IF('3 - SPECIE DA IMPIANTARE'!$G10=\"Impianti in ordine sparso\",'3 - SPECIE DA IMPIANTARE'!T10,0)","v":0},{"$f":"IF('3 - SPECIE DA IMPIANTARE'!$G10=\"Impianti in ordine sparso\",'3 - SPECIE DA IMPIANTARE'!U10,0)","v":0},{"$f":"IF('3 - SPECIE DA IMPIANTARE'!$G10=\"Impianti in ordine sparso\",'3 - SPECIE DA IMPIANTARE'!W10,0)","v":0},{"$f":"IF('3 - SPECIE DA IMPIANTARE'!$G10=\"Impianti in ordine sparso\",'3 - SPECIE DA IMPIANTARE'!X10,0)","v":0},{"$f":"IF('3 - SPECIE DA IMPIANTARE'!$G10=\"Piantagioni lineari\",'3 - SPECIE DA IMPIANTARE'!H10,0)","v":0},{"$f":"IF('3 - SPECIE DA IMPIANTARE'!$G10=\"Piantagioni lineari\",'3 - SPECIE DA IMPIANTARE'!I10,0)","v":0},{"$f":"IF('3 - SPECIE DA IMPIANTARE'!$G10=\"Piantagioni lineari\",'3 - SPECIE DA IMPIANTARE'!K10,0)","v":0},{"$f":"IF('3 - SPECIE DA IMPIANTARE'!$G10=\"Piantagioni lineari\",'3 - SPECIE DA IMPIANTARE'!L10,0)","v":0},{"$f":"IF('3 - SPECIE DA IMPIANTARE'!$G10=\"Piantagioni lineari\",'3 - SPECIE DA IMPIANTARE'!N10,0)","v":0},{"$f":"IF('3 - SPECIE DA IMPIANTARE'!$G10=\"Piantagioni lineari\",'3 - SPECIE DA IMPIANTARE'!O10,0)","v":0},{"$f":"IF('3 - SPECIE DA IMPIANTARE'!$G10=\"Piantagioni lineari\",'3 - SPECIE DA IMPIANTARE'!Q10,0)","v":0},{"$f":"IF('3 - SPECIE DA IMPIANTARE'!$G10=\"Piantagioni lineari\",'3 - SPECIE DA IMPIANTARE'!R10,0)","v":0},{"$f":"IF('3 - SPECIE DA IMPIANTARE'!$G10=\"Piantagioni lineari\",'3 - SPECIE DA IMPIANTARE'!T10,0)","v":0},{"$f":"IF('3 - SPECIE DA IMPIANTARE'!$G10=\"Piantagioni lineari\",'3 - SPECIE DA IMPIANTARE'!U10,0)","v":0},{"$f":"IF('3 - SPECIE DA IMPIANTARE'!$G10=\"Piantagioni lineari\",'3 - SPECIE DA IMPIANTARE'!W10,0)","v":0},{"$f":"IF('3 - SPECIE DA IMPIANTARE'!$G10=\"Piantagioni lineari\",'3 - SPECIE DA IMPIANTARE'!X10,0)","v":0},{"$f":"IF('3 - SPECIE DA IMPIANTARE'!$G10=\"Impianti a sesto regolare\",'3 - SPECIE DA IMPIANTARE'!$H10,0)","v":0},{"$f":"IF('3 - SPECIE DA IMPIANTARE'!$G10=\"Impianti a sesto regolare\",'3 - SPECIE DA IMPIANTARE'!$I10,0)","v":0},{"$f":"IF('3 - SPECIE DA IMPIANTARE'!$G10=\"Impianti a sesto regolare\",'3 - SPECIE DA IMPIANTARE'!$K10,0)","v":0},{"$f":"IF('3 - SPECIE DA IMPIANTARE'!$G10=\"Impianti a sesto regolare\",'3 - SPECIE DA IMPIANTARE'!$L10,0)","v":0},{"$f":"IF('3 - SPECIE DA IMPIANTARE'!$G10=\"Impianti a sesto regolare\",'3 - SPECIE DA IMPIANTARE'!$N10,0)","v":0},{"$f":"IF('3 - SPECIE DA IMPIANTARE'!$G10=\"Impianti a sesto regolare\",'3 - SPECIE DA IMPIANTARE'!$O10,0)","v":0},{"$f":"IF('3 - SPECIE DA IMPIANTARE'!$G10=\"Impianti a sesto regolare\",'3 - SPECIE DA IMPIANTARE'!$Q10,0)","v":0},{"$f":"IF('3 - SPECIE DA IMPIANTARE'!$G10=\"Impianti a sesto regolare\",'3 - SPECIE DA IMPIANTARE'!$R10,0)","v":0},{"$f":"IF('3 - SPECIE DA IMPIANTARE'!$G10=\"Impianti a sesto regolare\",'3 - SPECIE DA IMPIANTARE'!$T10,0)","v":0},{"$f":"IF('3 - SPECIE DA IMPIANTARE'!$G10=\"Impianti a sesto regolare\",'3 - SPECIE DA IMPIANTARE'!$U10,0)","v":0},{"$f":"IF('3 - SPECIE DA IMPIANTARE'!$G10=\"Impianti a sesto regolare\",'3 - SPECIE DA IMPIANTARE'!$W10,0)","v":0},{"$f":"IF('3 - SPECIE DA IMPIANTARE'!$G10=\"Impianti a sesto regolare\",'3 - SPECIE DA IMPIANTARE'!$X10,0)","v":0}]
[{"$f":"IF('3 - SPECIE DA IMPIANTARE'!G11=\"Impianti in ordine sparso\",'3 - SPECIE DA IMPIANTARE'!H11,0)","v":0},{"$f":"IF('3 - SPECIE DA IMPIANTARE'!$G11=\"Impianti in ordine sparso\",'3 - SPECIE DA IMPIANTARE'!I11,0)","v":0},{"$f":"IF('3 - SPECIE DA IMPIANTARE'!$G11=\"Impianti in ordine sparso\",'3 - SPECIE DA IMPIANTARE'!K11,0)","v":0},{"$f":"IF('3 - SPECIE DA IMPIANTARE'!$G11=\"Impianti in ordine sparso\",'3 - SPECIE DA IMPIANTARE'!L11,0)","v":0},{"$f":"IF('3 - SPECIE DA IMPIANTARE'!$G11=\"Impianti in ordine sparso\",'3 - SPECIE DA IMPIANTARE'!N11,0)","v":0},{"$f":"IF('3 - SPECIE DA IMPIANTARE'!$G11=\"Impianti in ordine sparso\",'3 - SPECIE DA IMPIANTARE'!O11,0)","v":0},{"$f":"IF('3 - SPECIE DA IMPIANTARE'!$G11=\"Impianti in ordine sparso\",'3 - SPECIE DA IMPIANTARE'!Q11,0)","v":0},{"$f":"IF('3 - SPECIE DA IMPIANTARE'!$G11=\"Impianti in ordine sparso\",'3 - SPECIE DA IMPIANTARE'!R11,0)","v":0},{"$f":"IF('3 - SPECIE DA IMPIANTARE'!$G11=\"Impianti in ordine sparso\",'3 - SPECIE DA IMPIANTARE'!T11,0)","v":0},{"$f":"IF('3 - SPECIE DA IMPIANTARE'!$G11=\"Impianti in ordine sparso\",'3 - SPECIE DA IMPIANTARE'!U11,0)","v":0},{"$f":"IF('3 - SPECIE DA IMPIANTARE'!$G11=\"Impianti in ordine sparso\",'3 - SPECIE DA IMPIANTARE'!W11,0)","v":0},{"$f":"IF('3 - SPECIE DA IMPIANTARE'!$G11=\"Impianti in ordine sparso\",'3 - SPECIE DA IMPIANTARE'!X11,0)","v":0},{"$f":"IF('3 - SPECIE DA IMPIANTARE'!$G11=\"Piantagioni lineari\",'3 - SPECIE DA IMPIANTARE'!H11,0)","v":0},{"$f":"IF('3 - SPECIE DA IMPIANTARE'!$G11=\"Piantagioni lineari\",'3 - SPECIE DA IMPIANTARE'!I11,0)","v":0},{"$f":"IF('3 - SPECIE DA IMPIANTARE'!$G11=\"Piantagioni lineari\",'3 - SPECIE DA IMPIANTARE'!K11,0)","v":0},{"$f":"IF('3 - SPECIE DA IMPIANTARE'!$G11=\"Piantagioni lineari\",'3 - SPECIE DA IMPIANTARE'!L11,0)","v":0},{"$f":"IF('3 - SPECIE DA IMPIANTARE'!$G11=\"Piantagioni lineari\",'3 - SPECIE DA IMPIANTARE'!N11,0)","v":0},{"$f":"IF('3 - SPECIE DA IMPIANTARE'!$G11=\"Piantagioni lineari\",'3 - SPECIE DA IMPIANTARE'!O11,0)","v":0},{"$f":"IF('3 - SPECIE DA IMPIANTARE'!$G11=\"Piantagioni lineari\",'3 - SPECIE DA IMPIANTARE'!Q11,0)","v":0},{"$f":"IF('3 - SPECIE DA IMPIANTARE'!$G11=\"Piantagioni lineari\",'3 - SPECIE DA IMPIANTARE'!R11,0)","v":0},{"$f":"IF('3 - SPECIE DA IMPIANTARE'!$G11=\"Piantagioni lineari\",'3 - SPECIE DA IMPIANTARE'!T11,0)","v":0},{"$f":"IF('3 - SPECIE DA IMPIANTARE'!$G11=\"Piantagioni lineari\",'3 - SPECIE DA IMPIANTARE'!U11,0)","v":0},{"$f":"IF('3 - SPECIE DA IMPIANTARE'!$G11=\"Piantagioni lineari\",'3 - SPECIE DA IMPIANTARE'!W11,0)","v":0},{"$f":"IF('3 - SPECIE DA IMPIANTARE'!$G11=\"Piantagioni lineari\",'3 - SPECIE DA IMPIANTARE'!X11,0)","v":0},{"$f":"IF('3 - SPECIE DA IMPIANTARE'!$G11=\"Impianti a sesto regolare\",'3 - SPECIE DA IMPIANTARE'!$H11,0)","v":0},{"$f":"IF('3 - SPECIE DA IMPIANTARE'!$G11=\"Impianti a sesto regolare\",'3 - SPECIE DA IMPIANTARE'!$I11,0)","v":0},{"$f":"IF('3 - SPECIE DA IMPIANTARE'!$G11=\"Impianti a sesto regolare\",'3 - SPECIE DA IMPIANTARE'!$K11,0)","v":0},{"$f":"IF('3 - SPECIE DA IMPIANTARE'!$G11=\"Impianti a sesto regolare\",'3 - SPECIE DA IMPIANTARE'!$L11,0)","v":0},{"$f":"IF('3 - SPECIE DA IMPIANTARE'!$G11=\"Impianti a sesto regolare\",'3 - SPECIE DA IMPIANTARE'!$N11,0)","v":0},{"$f":"IF('3 - SPECIE DA IMPIANTARE'!$G11=\"Impianti a sesto regolare\",'3 - SPECIE DA IMPIANTARE'!$O11,0)","v":0},{"$f":"IF('3 - SPECIE DA IMPIANTARE'!$G11=\"Impianti a sesto regolare\",'3 - SPECIE DA IMPIANTARE'!$Q11,0)","v":0},{"$f":"IF('3 - SPECIE DA IMPIANTARE'!$G11=\"Impianti a sesto regolare\",'3 - SPECIE DA IMPIANTARE'!$R11,0)","v":0},{"$f":"IF('3 - SPECIE DA IMPIANTARE'!$G11=\"Impianti a sesto regolare\",'3 - SPECIE DA IMPIANTARE'!$T11,0)","v":0},{"$f":"IF('3 - SPECIE DA IMPIANTARE'!$G11=\"Impianti a sesto regolare\",'3 - SPECIE DA IMPIANTARE'!$U11,0)","v":0},{"$f":"IF('3 - SPECIE DA IMPIANTARE'!$G11=\"Impianti a sesto regolare\",'3 - SPECIE DA IMPIANTARE'!$W11,0)","v":0},{"$f":"IF('3 - SPECIE DA IMPIANTARE'!$G11=\"Impianti a sesto regolare\",'3 - SPECIE DA IMPIANTARE'!$X11,0)","v":0}]
[{"$f":"IF('3 - SPECIE DA IMPIANTARE'!G12=\"Impianti in ordine sparso\",'3 - SPECIE DA IMPIANTARE'!H12,0)","v":0},{"$f":"IF('3 - SPECIE DA IMPIANTARE'!$G12=\"Impianti in ordine sparso\",'3 - SPECIE DA IMPIANTARE'!I12,0)","v":0},{"$f":"IF('3 - SPECIE DA IMPIANTARE'!$G12=\"Impianti in ordine sparso\",'3 - SPECIE DA IMPIANTARE'!K12,0)","v":0},{"$f":"IF('3 - SPECIE DA IMPIANTARE'!$G12=\"Impianti in ordine sparso\",'3 - SPECIE DA IMPIANTARE'!L12,0)","v":0},{"$f":"IF('3 - SPECIE DA IMPIANTARE'!$G12=\"Impianti in ordine sparso\",'3 - SPECIE DA IMPIANTARE'!N12,0)","v":0},{"$f":"IF('3 - SPECIE DA IMPIANTARE'!$G12=\"Impianti in ordine sparso\",'3 - SPECIE DA IMPIANTARE'!O12,0)","v":0},{"$f":"IF('3 - SPECIE DA IMPIANTARE'!$G12=\"Impianti in ordine sparso\",'3 - SPECIE DA IMPIANTARE'!Q12,0)","v":0},{"$f":"IF('3 - SPECIE DA IMPIANTARE'!$G12=\"Impianti in ordine sparso\",'3 - SPECIE DA IMPIANTARE'!R12,0)","v":0},{"$f":"IF('3 - SPECIE DA IMPIANTARE'!$G12=\"Impianti in ordine sparso\",'3 - SPECIE DA IMPIANTARE'!T12,0)","v":0},{"$f":"IF('3 - SPECIE DA IMPIANTARE'!$G12=\"Impianti in ordine sparso\",'3 - SPECIE DA IMPIANTARE'!U12,0)","v":0},{"$f":"IF('3 - SPECIE DA IMPIANTARE'!$G12=\"Impianti in ordine sparso\",'3 - SPECIE DA IMPIANTARE'!W12,0)","v":0},{"$f":"IF('3 - SPECIE DA IMPIANTARE'!$G12=\"Impianti in ordine sparso\",'3 - SPECIE DA IMPIANTARE'!X12,0)","v":0},{"$f":"IF('3 - SPECIE DA IMPIANTARE'!$G12=\"Piantagioni lineari\",'3 - SPECIE DA IMPIANTARE'!H12,0)","v":0},{"$f":"IF('3 - SPECIE DA IMPIANTARE'!$G12=\"Piantagioni lineari\",'3 - SPECIE DA IMPIANTARE'!I12,0)","v":0},{"$f":"IF('3 - SPECIE DA IMPIANTARE'!$G12=\"Piantagioni lineari\",'3 - SPECIE DA IMPIANTARE'!K12,0)","v":0},{"$f":"IF('3 - SPECIE DA IMPIANTARE'!$G12=\"Piantagioni lineari\",'3 - SPECIE DA IMPIANTARE'!L12,0)","v":0},{"$f":"IF('3 - SPECIE DA IMPIANTARE'!$G12=\"Piantagioni lineari\",'3 - SPECIE DA IMPIANTARE'!N12,0)","v":0},{"$f":"IF('3 - SPECIE DA IMPIANTARE'!$G12=\"Piantagioni lineari\",'3 - SPECIE DA IMPIANTARE'!O12,0)","v":0},{"$f":"IF('3 - SPECIE DA IMPIANTARE'!$G12=\"Piantagioni lineari\",'3 - SPECIE DA IMPIANTARE'!Q12,0)","v":0},{"$f":"IF('3 - SPECIE DA IMPIANTARE'!$G12=\"Piantagioni lineari\",'3 - SPECIE DA IMPIANTARE'!R12,0)","v":0},{"$f":"IF('3 - SPECIE DA IMPIANTARE'!$G12=\"Piantagioni lineari\",'3 - SPECIE DA IMPIANTARE'!T12,0)","v":0},{"$f":"IF('3 - SPECIE DA IMPIANTARE'!$G12=\"Piantagioni lineari\",'3 - SPECIE DA IMPIANTARE'!U12,0)","v":0},{"$f":"IF('3 - SPECIE DA IMPIANTARE'!$G12=\"Piantagioni lineari\",'3 - SPECIE DA IMPIANTARE'!W12,0)","v":0},{"$f":"IF('3 - SPECIE DA IMPIANTARE'!$G12=\"Piantagioni lineari\",'3 - SPECIE DA IMPIANTARE'!X12,0)","v":0},{"$f":"IF('3 - SPECIE DA IMPIANTARE'!$G12=\"Impianti a sesto regolare\",'3 - SPECIE DA IMPIANTARE'!$H12,0)","v":0},{"$f":"IF('3 - SPECIE DA IMPIANTARE'!$G12=\"Impianti a sesto regolare\",'3 - SPECIE DA IMPIANTARE'!$I12,0)","v":0},{"$f":"IF('3 - SPECIE DA IMPIANTARE'!$G12=\"Impianti a sesto regolare\",'3 - SPECIE DA IMPIANTARE'!$K12,0)","v":0},{"$f":"IF('3 - SPECIE DA IMPIANTARE'!$G12=\"Impianti a sesto regolare\",'3 - SPECIE DA IMPIANTARE'!$L12,0)","v":0},{"$f":"IF('3 - SPECIE DA IMPIANTARE'!$G12=\"Impianti a sesto regolare\",'3 - SPECIE DA IMPIANTARE'!$N12,0)","v":0},{"$f":"IF('3 - SPECIE DA IMPIANTARE'!$G12=\"Impianti a sesto regolare\",'3 - SPECIE DA IMPIANTARE'!$O12,0)","v":0},{"$f":"IF('3 - SPECIE DA IMPIANTARE'!$G12=\"Impianti a sesto regolare\",'3 - SPECIE DA IMPIANTARE'!$Q12,0)","v":0},{"$f":"IF('3 - SPECIE DA IMPIANTARE'!$G12=\"Impianti a sesto regolare\",'3 - SPECIE DA IMPIANTARE'!$R12,0)","v":0},{"$f":"IF('3 - SPECIE DA IMPIANTARE'!$G12=\"Impianti a sesto regolare\",'3 - SPECIE DA IMPIANTARE'!$T12,0)","v":0},{"$f":"IF('3 - SPECIE DA IMPIANTARE'!$G12=\"Impianti a sesto regolare\",'3 - SPECIE DA IMPIANTARE'!$U12,0)","v":0},{"$f":"IF('3 - SPECIE DA IMPIANTARE'!$G12=\"Impianti a sesto regolare\",'3 - SPECIE DA IMPIANTARE'!$W12,0)","v":0},{"$f":"IF('3 - SPECIE DA IMPIANTARE'!$G12=\"Impianti a sesto regolare\",'3 - SPECIE DA IMPIANTARE'!$X12,0)","v":0}]
[{"$f":"IF('3 - SPECIE DA IMPIANTARE'!G13=\"Impianti in ordine sparso\",'3 - SPECIE DA IMPIANTARE'!H13,0)","v":0},{"$f":"IF('3 - SPECIE DA IMPIANTARE'!$G13=\"Impianti in ordine sparso\",'3 - SPECIE DA IMPIANTARE'!I13,0)","v":0},{"$f":"IF('3 - SPECIE DA IMPIANTARE'!$G13=\"Impianti in ordine sparso\",'3 - SPECIE DA IMPIANTARE'!K13,0)","v":0},{"$f":"IF('3 - SPECIE DA IMPIANTARE'!$G13=\"Impianti in ordine sparso\",'3 - SPECIE DA IMPIANTARE'!L13,0)","v":0},{"$f":"IF('3 - SPECIE DA IMPIANTARE'!$G13=\"Impianti in ordine sparso\",'3 - SPECIE DA IMPIANTARE'!N13,0)","v":0},{"$f":"IF('3 - SPECIE DA IMPIANTARE'!$G13=\"Impianti in ordine sparso\",'3 - SPECIE DA IMPIANTARE'!O13,0)","v":0},{"$f":"IF('3 - SPECIE DA IMPIANTARE'!$G13=\"Impianti in ordine sparso\",'3 - SPECIE DA IMPIANTARE'!Q13,0)","v":0},{"$f":"IF('3 - SPECIE DA IMPIANTARE'!$G13=\"Impianti in ordine sparso\",'3 - SPECIE DA IMPIANTARE'!R13,0)","v":0},{"$f":"IF('3 - SPECIE DA IMPIANTARE'!$G13=\"Impianti in ordine sparso\",'3 - SPECIE DA IMPIANTARE'!T13,0)","v":0},{"$f":"IF('3 - SPECIE DA IMPIANTARE'!$G13=\"Impianti in ordine sparso\",'3 - SPECIE DA IMPIANTARE'!U13,0)","v":0},{"$f":"IF('3 - SPECIE DA IMPIANTARE'!$G13=\"Impianti in ordine sparso\",'3 - SPECIE DA IMPIANTARE'!W13,0)","v":0},{"$f":"IF('3 - SPECIE DA IMPIANTARE'!$G13=\"Impianti in ordine sparso\",'3 - SPECIE DA IMPIANTARE'!X13,0)","v":0},{"$f":"IF('3 - SPECIE DA IMPIANTARE'!$G13=\"Piantagioni lineari\",'3 - SPECIE DA IMPIANTARE'!H13,0)","v":0},{"$f":"IF('3 - SPECIE DA IMPIANTARE'!$G13=\"Piantagioni lineari\",'3 - SPECIE DA IMPIANTARE'!I13,0)","v":0},{"$f":"IF('3 - SPECIE DA IMPIANTARE'!$G13=\"Piantagioni lineari\",'3 - SPECIE DA IMPIANTARE'!K13,0)","v":0},{"$f":"IF('3 - SPECIE DA IMPIANTARE'!$G13=\"Piantagioni lineari\",'3 - SPECIE DA IMPIANTARE'!L13,0)","v":0},{"$f":"IF('3 - SPECIE DA IMPIANTARE'!$G13=\"Piantagioni lineari\",'3 - SPECIE DA IMPIANTARE'!N13,0)","v":0},{"$f":"IF('3 - SPECIE DA IMPIANTARE'!$G13=\"Piantagioni lineari\",'3 - SPECIE DA IMPIANTARE'!O13,0)","v":0},{"$f":"IF('3 - SPECIE DA IMPIANTARE'!$G13=\"Piantagioni lineari\",'3 - SPECIE DA IMPIANTARE'!Q13,0)","v":0},{"$f":"IF('3 - SPECIE DA IMPIANTARE'!$G13=\"Piantagioni lineari\",'3 - SPECIE DA IMPIANTARE'!R13,0)","v":0},{"$f":"IF('3 - SPECIE DA IMPIANTARE'!$G13=\"Piantagioni lineari\",'3 - SPECIE DA IMPIANTARE'!T13,0)","v":0},{"$f":"IF('3 - SPECIE DA IMPIANTARE'!$G13=\"Piantagioni lineari\",'3 - SPECIE DA IMPIANTARE'!U13,0)","v":0},{"$f":"IF('3 - SPECIE DA IMPIANTARE'!$G13=\"Piantagioni lineari\",'3 - SPECIE DA IMPIANTARE'!W13,0)","v":0},{"$f":"IF('3 - SPECIE DA IMPIANTARE'!$G13=\"Piantagioni lineari\",'3 - SPECIE DA IMPIANTARE'!X13,0)","v":0},{"$f":"IF('3 - SPECIE DA IMPIANTARE'!$G13=\"Impianti a sesto regolare\",'3 - SPECIE DA IMPIANTARE'!$H13,0)","v":0},{"$f":"IF('3 - SPECIE DA IMPIANTARE'!$G13=\"Impianti a sesto regolare\",'3 - SPECIE DA IMPIANTARE'!$I13,0)","v":0},{"$f":"IF('3 - SPECIE DA IMPIANTARE'!$G13=\"Impianti a sesto regolare\",'3 - SPECIE DA IMPIANTARE'!$K13,0)","v":0},{"$f":"IF('3 - SPECIE DA IMPIANTARE'!$G13=\"Impianti a sesto regolare\",'3 - SPECIE DA IMPIANTARE'!$L13,0)","v":0},{"$f":"IF('3 - SPECIE DA IMPIANTARE'!$G13=\"Impianti a sesto regolare\",'3 - SPECIE DA IMPIANTARE'!$N13,0)","v":0},{"$f":"IF('3 - SPECIE DA IMPIANTARE'!$G13=\"Impianti a sesto regolare\",'3 - SPECIE DA IMPIANTARE'!$O13,0)","v":0},{"$f":"IF('3 - SPECIE DA IMPIANTARE'!$G13=\"Impianti a sesto regolare\",'3 - SPECIE DA IMPIANTARE'!$Q13,0)","v":0},{"$f":"IF('3 - SPECIE DA IMPIANTARE'!$G13=\"Impianti a sesto regolare\",'3 - SPECIE DA IMPIANTARE'!$R13,0)","v":0},{"$f":"IF('3 - SPECIE DA IMPIANTARE'!$G13=\"Impianti a sesto regolare\",'3 - SPECIE DA IMPIANTARE'!$T13,0)","v":0},{"$f":"IF('3 - SPECIE DA IMPIANTARE'!$G13=\"Impianti a sesto regolare\",'3 - SPECIE DA IMPIANTARE'!$U13,0)","v":0},{"$f":"IF('3 - SPECIE DA IMPIANTARE'!$G13=\"Impianti a sesto regolare\",'3 - SPECIE DA IMPIANTARE'!$W13,0)","v":0},{"$f":"IF('3 - SPECIE DA IMPIANTARE'!$G13=\"Impianti a sesto regolare\",'3 - SPECIE DA IMPIANTARE'!$X13,0)","v":0}]
[{"$f":"IF('3 - SPECIE DA IMPIANTARE'!G14=\"Impianti in ordine sparso\",'3 - SPECIE DA IMPIANTARE'!H14,0)","v":0},{"$f":"IF('3 - SPECIE DA IMPIANTARE'!$G14=\"Impianti in ordine sparso\",'3 - SPECIE DA IMPIANTARE'!I14,0)","v":0},{"$f":"IF('3 - SPECIE DA IMPIANTARE'!$G14=\"Impianti in ordine sparso\",'3 - SPECIE DA IMPIANTARE'!K14,0)","v":0},{"$f":"IF('3 - SPECIE DA IMPIANTARE'!$G14=\"Impianti in ordine sparso\",'3 - SPECIE DA IMPIANTARE'!L14,0)","v":0},{"$f":"IF('3 - SPECIE DA IMPIANTARE'!$G14=\"Impianti in ordine sparso\",'3 - SPECIE DA IMPIANTARE'!N14,0)","v":0},{"$f":"IF('3 - SPECIE DA IMPIANTARE'!$G14=\"Impianti in ordine sparso\",'3 - SPECIE DA IMPIANTARE'!O14,0)","v":0},{"$f":"IF('3 - SPECIE DA IMPIANTARE'!$G14=\"Impianti in ordine sparso\",'3 - SPECIE DA IMPIANTARE'!Q14,0)","v":0},{"$f":"IF('3 - SPECIE DA IMPIANTARE'!$G14=\"Impianti in ordine sparso\",'3 - SPECIE DA IMPIANTARE'!R14,0)","v":0},{"$f":"IF('3 - SPECIE DA IMPIANTARE'!$G14=\"Impianti in ordine sparso\",'3 - SPECIE DA IMPIANTARE'!T14,0)","v":0},{"$f":"IF('3 - SPECIE DA IMPIANTARE'!$G14=\"Impianti in ordine sparso\",'3 - SPECIE DA IMPIANTARE'!U14,0)","v":0},{"$f":"IF('3 - SPECIE DA IMPIANTARE'!$G14=\"Impianti in ordine sparso\",'3 - SPECIE DA IMPIANTARE'!W14,0)","v":0},{"$f":"IF('3 - SPECIE DA IMPIANTARE'!$G14=\"Impianti in ordine sparso\",'3 - SPECIE DA IMPIANTARE'!X14,0)","v":0},{"$f":"IF('3 - SPECIE DA IMPIANTARE'!$G14=\"Piantagioni lineari\",'3 - SPECIE DA IMPIANTARE'!H14,0)","v":0},{"$f":"IF('3 - SPECIE DA IMPIANTARE'!$G14=\"Piantagioni lineari\",'3 - SPECIE DA IMPIANTARE'!I14,0)","v":0},{"$f":"IF('3 - SPECIE DA IMPIANTARE'!$G14=\"Piantagioni lineari\",'3 - SPECIE DA IMPIANTARE'!K14,0)","v":0},{"$f":"IF('3 - SPECIE DA IMPIANTARE'!$G14=\"Piantagioni lineari\",'3 - SPECIE DA IMPIANTARE'!L14,0)","v":0},{"$f":"IF('3 - SPECIE DA IMPIANTARE'!$G14=\"Piantagioni lineari\",'3 - SPECIE DA IMPIANTARE'!N14,0)","v":0},{"$f":"IF('3 - SPECIE DA IMPIANTARE'!$G14=\"Piantagioni lineari\",'3 - SPECIE DA IMPIANTARE'!O14,0)","v":0},{"$f":"IF('3 - SPECIE DA IMPIANTARE'!$G14=\"Piantagioni lineari\",'3 - SPECIE DA IMPIANTARE'!Q14,0)","v":0},{"$f":"IF('3 - SPECIE DA IMPIANTARE'!$G14=\"Piantagioni lineari\",'3 - SPECIE DA IMPIANTARE'!R14,0)","v":0},{"$f":"IF('3 - SPECIE DA IMPIANTARE'!$G14=\"Piantagioni lineari\",'3 - SPECIE DA IMPIANTARE'!T14,0)","v":0},{"$f":"IF('3 - SPECIE DA IMPIANTARE'!$G14=\"Piantagioni lineari\",'3 - SPECIE DA IMPIANTARE'!U14,0)","v":0},{"$f":"IF('3 - SPECIE DA IMPIANTARE'!$G14=\"Piantagioni lineari\",'3 - SPECIE DA IMPIANTARE'!W14,0)","v":0},{"$f":"IF('3 - SPECIE DA IMPIANTARE'!$G14=\"Piantagioni lineari\",'3 - SPECIE DA IMPIANTARE'!X14,0)","v":0},{"$f":"IF('3 - SPECIE DA IMPIANTARE'!$G14=\"Impianti a sesto regolare\",'3 - SPECIE DA IMPIANTARE'!$H14,0)","v":0},{"$f":"IF('3 - SPECIE DA IMPIANTARE'!$G14=\"Impianti a sesto regolare\",'3 - SPECIE DA IMPIANTARE'!$I14,0)","v":0},{"$f":"IF('3 - SPECIE DA IMPIANTARE'!$G14=\"Impianti a sesto regolare\",'3 - SPECIE DA IMPIANTARE'!$K14,0)","v":0},{"$f":"IF('3 - SPECIE DA IMPIANTARE'!$G14=\"Impianti a sesto regolare\",'3 - SPECIE DA IMPIANTARE'!$L14,0)","v":0},{"$f":"IF('3 - SPECIE DA IMPIANTARE'!$G14=\"Impianti a sesto regolare\",'3 - SPECIE DA IMPIANTARE'!$N14,0)","v":0},{"$f":"IF('3 - SPECIE DA IMPIANTARE'!$G14=\"Impianti a sesto regolare\",'3 - SPECIE DA IMPIANTARE'!$O14,0)","v":0},{"$f":"IF('3 - SPECIE DA IMPIANTARE'!$G14=\"Impianti a sesto regolare\",'3 - SPECIE DA IMPIANTARE'!$Q14,0)","v":0},{"$f":"IF('3 - SPECIE DA IMPIANTARE'!$G14=\"Impianti a sesto regolare\",'3 - SPECIE DA IMPIANTARE'!$R14,0)","v":0},{"$f":"IF('3 - SPECIE DA IMPIANTARE'!$G14=\"Impianti a sesto regolare\",'3 - SPECIE DA IMPIANTARE'!$T14,0)","v":0},{"$f":"IF('3 - SPECIE DA IMPIANTARE'!$G14=\"Impianti a sesto regolare\",'3 - SPECIE DA IMPIANTARE'!$U14,0)","v":0},{"$f":"IF('3 - SPECIE DA IMPIANTARE'!$G14=\"Impianti a sesto regolare\",'3 - SPECIE DA IMPIANTARE'!$W14,0)","v":0},{"$f":"IF('3 - SPECIE DA IMPIANTARE'!$G14=\"Impianti a sesto regolare\",'3 - SPECIE DA IMPIANTARE'!$X14,0)","v":0}]
[{"$f":"IF('3 - SPECIE DA IMPIANTARE'!G15=\"Impianti in ordine sparso\",'3 - SPECIE DA IMPIANTARE'!H15,0)","v":0},{"$f":"IF('3 - SPECIE DA IMPIANTARE'!$G15=\"Impianti in ordine sparso\",'3 - SPECIE DA IMPIANTARE'!I15,0)","v":0},{"$f":"IF('3 - SPECIE DA IMPIANTARE'!$G15=\"Impianti in ordine sparso\",'3 - SPECIE DA IMPIANTARE'!K15,0)","v":0},{"$f":"IF('3 - SPECIE DA IMPIANTARE'!$G15=\"Impianti in ordine sparso\",'3 - SPECIE DA IMPIANTARE'!L15,0)","v":0},{"$f":"IF('3 - SPECIE DA IMPIANTARE'!$G15=\"Impianti in ordine sparso\",'3 - SPECIE DA IMPIANTARE'!N15,0)","v":0},{"$f":"IF('3 - SPECIE DA IMPIANTARE'!$G15=\"Impianti in ordine sparso\",'3 - SPECIE DA IMPIANTARE'!O15,0)","v":0},{"$f":"IF('3 - SPECIE DA IMPIANTARE'!$G15=\"Impianti in ordine sparso\",'3 - SPECIE DA IMPIANTARE'!Q15,0)","v":0},{"$f":"IF('3 - SPECIE DA IMPIANTARE'!$G15=\"Impianti in ordine sparso\",'3 - SPECIE DA IMPIANTARE'!R15,0)","v":0},{"$f":"IF('3 - SPECIE DA IMPIANTARE'!$G15=\"Impianti in ordine sparso\",'3 - SPECIE DA IMPIANTARE'!T15,0)","v":0},{"$f":"IF('3 - SPECIE DA IMPIANTARE'!$G15=\"Impianti in ordine sparso\",'3 - SPECIE DA IMPIANTARE'!U15,0)","v":0},{"$f":"IF('3 - SPECIE DA IMPIANTARE'!$G15=\"Impianti in ordine sparso\",'3 - SPECIE DA IMPIANTARE'!W15,0)","v":0},{"$f":"IF('3 - SPECIE DA IMPIANTARE'!$G15=\"Impianti in ordine sparso\",'3 - SPECIE DA IMPIANTARE'!X15,0)","v":0},{"$f":"IF('3 - SPECIE DA IMPIANTARE'!$G15=\"Piantagioni lineari\",'3 - SPECIE DA IMPIANTARE'!H15,0)","v":0},{"$f":"IF('3 - SPECIE DA IMPIANTARE'!$G15=\"Piantagioni lineari\",'3 - SPECIE DA IMPIANTARE'!I15,0)","v":0},{"$f":"IF('3 - SPECIE DA IMPIANTARE'!$G15=\"Piantagioni lineari\",'3 - SPECIE DA IMPIANTARE'!K15,0)","v":0},{"$f":"IF('3 - SPECIE DA IMPIANTARE'!$G15=\"Piantagioni lineari\",'3 - SPECIE DA IMPIANTARE'!L15,0)","v":0},{"$f":"IF('3 - SPECIE DA IMPIANTARE'!$G15=\"Piantagioni lineari\",'3 - SPECIE DA IMPIANTARE'!N15,0)","v":0},{"$f":"IF('3 - SPECIE DA IMPIANTARE'!$G15=\"Piantagioni lineari\",'3 - SPECIE DA IMPIANTARE'!O15,0)","v":0},{"$f":"IF('3 - SPECIE DA IMPIANTARE'!$G15=\"Piantagioni lineari\",'3 - SPECIE DA IMPIANTARE'!Q15,0)","v":0},{"$f":"IF('3 - SPECIE DA IMPIANTARE'!$G15=\"Piantagioni lineari\",'3 - SPECIE DA IMPIANTARE'!R15,0)","v":0},{"$f":"IF('3 - SPECIE DA IMPIANTARE'!$G15=\"Piantagioni lineari\",'3 - SPECIE DA IMPIANTARE'!T15,0)","v":0},{"$f":"IF('3 - SPECIE DA IMPIANTARE'!$G15=\"Piantagioni lineari\",'3 - SPECIE DA IMPIANTARE'!U15,0)","v":0},{"$f":"IF('3 - SPECIE DA IMPIANTARE'!$G15=\"Piantagioni lineari\",'3 - SPECIE DA IMPIANTARE'!W15,0)","v":0},{"$f":"IF('3 - SPECIE DA IMPIANTARE'!$G15=\"Piantagioni lineari\",'3 - SPECIE DA IMPIANTARE'!X15,0)","v":0},{"$f":"IF('3 - SPECIE DA IMPIANTARE'!$G15=\"Impianti a sesto regolare\",'3 - SPECIE DA IMPIANTARE'!$H15,0)","v":0},{"$f":"IF('3 - SPECIE DA IMPIANTARE'!$G15=\"Impianti a sesto regolare\",'3 - SPECIE DA IMPIANTARE'!$I15,0)","v":0},{"$f":"IF('3 - SPECIE DA IMPIANTARE'!$G15=\"Impianti a sesto regolare\",'3 - SPECIE DA IMPIANTARE'!$K15,0)","v":0},{"$f":"IF('3 - SPECIE DA IMPIANTARE'!$G15=\"Impianti a sesto regolare\",'3 - SPECIE DA IMPIANTARE'!$L15,0)","v":0},{"$f":"IF('3 - SPECIE DA IMPIANTARE'!$G15=\"Impianti a sesto regolare\",'3 - SPECIE DA IMPIANTARE'!$N15,0)","v":0},{"$f":"IF('3 - SPECIE DA IMPIANTARE'!$G15=\"Impianti a sesto regolare\",'3 - SPECIE DA IMPIANTARE'!$O15,0)","v":0},{"$f":"IF('3 - SPECIE DA IMPIANTARE'!$G15=\"Impianti a sesto regolare\",'3 - SPECIE DA IMPIANTARE'!$Q15,0)","v":0},{"$f":"IF('3 - SPECIE DA IMPIANTARE'!$G15=\"Impianti a sesto regolare\",'3 - SPECIE DA IMPIANTARE'!$R15,0)","v":0},{"$f":"IF('3 - SPECIE DA IMPIANTARE'!$G15=\"Impianti a sesto regolare\",'3 - SPECIE DA IMPIANTARE'!$T15,0)","v":0},{"$f":"IF('3 - SPECIE DA IMPIANTARE'!$G15=\"Impianti a sesto regolare\",'3 - SPECIE DA IMPIANTARE'!$U15,0)","v":0},{"$f":"IF('3 - SPECIE DA IMPIANTARE'!$G15=\"Impianti a sesto regolare\",'3 - SPECIE DA IMPIANTARE'!$W15,0)","v":0},{"$f":"IF('3 - SPECIE DA IMPIANTARE'!$G15=\"Impianti a sesto regolare\",'3 - SPECIE DA IMPIANTARE'!$X15,0)","v":0}]
[{"$f":"IF('3 - SPECIE DA IMPIANTARE'!G16=\"Impianti in ordine sparso\",'3 - SPECIE DA IMPIANTARE'!H16,0)","v":0},{"$f":"IF('3 - SPECIE DA IMPIANTARE'!$G16=\"Impianti in ordine sparso\",'3 - SPECIE DA IMPIANTARE'!I16,0)","v":0},{"$f":"IF('3 - SPECIE DA IMPIANTARE'!$G16=\"Impianti in ordine sparso\",'3 - SPECIE DA IMPIANTARE'!K16,0)","v":0},{"$f":"IF('3 - SPECIE DA IMPIANTARE'!$G16=\"Impianti in ordine sparso\",'3 - SPECIE DA IMPIANTARE'!L16,0)","v":0},{"$f":"IF('3 - SPECIE DA IMPIANTARE'!$G16=\"Impianti in ordine sparso\",'3 - SPECIE DA IMPIANTARE'!N16,0)","v":0},{"$f":"IF('3 - SPECIE DA IMPIANTARE'!$G16=\"Impianti in ordine sparso\",'3 - SPECIE DA IMPIANTARE'!O16,0)","v":0},{"$f":"IF('3 - SPECIE DA IMPIANTARE'!$G16=\"Impianti in ordine sparso\",'3 - SPECIE DA IMPIANTARE'!Q16,0)","v":0},{"$f":"IF('3 - SPECIE DA IMPIANTARE'!$G16=\"Impianti in ordine sparso\",'3 - SPECIE DA IMPIANTARE'!R16,0)","v":0},{"$f":"IF('3 - SPECIE DA IMPIANTARE'!$G16=\"Impianti in ordine sparso\",'3 - SPECIE DA IMPIANTARE'!T16,0)","v":0},{"$f":"IF('3 - SPECIE DA IMPIANTARE'!$G16=\"Impianti in ordine sparso\",'3 - SPECIE DA IMPIANTARE'!U16,0)","v":0},{"$f":"IF('3 - SPECIE DA IMPIANTARE'!$G16=\"Impianti in ordine sparso\",'3 - SPECIE DA IMPIANTARE'!W16,0)","v":0},{"$f":"IF('3 - SPECIE DA IMPIANTARE'!$G16=\"Impianti in ordine sparso\",'3 - SPECIE DA IMPIANTARE'!X16,0)","v":0},{"$f":"IF('3 - SPECIE DA IMPIANTARE'!$G16=\"Piantagioni lineari\",'3 - SPECIE DA IMPIANTARE'!H16,0)","v":0},{"$f":"IF('3 - SPECIE DA IMPIANTARE'!$G16=\"Piantagioni lineari\",'3 - SPECIE DA IMPIANTARE'!I16,0)","v":0},{"$f":"IF('3 - SPECIE DA IMPIANTARE'!$G16=\"Piantagioni lineari\",'3 - SPECIE DA IMPIANTARE'!K16,0)","v":0},{"$f":"IF('3 - SPECIE DA IMPIANTARE'!$G16=\"Piantagioni lineari\",'3 - SPECIE DA IMPIANTARE'!L16,0)","v":0},{"$f":"IF('3 - SPECIE DA IMPIANTARE'!$G16=\"Piantagioni lineari\",'3 - SPECIE DA IMPIANTARE'!N16,0)","v":0},{"$f":"IF('3 - SPECIE DA IMPIANTARE'!$G16=\"Piantagioni lineari\",'3 - SPECIE DA IMPIANTARE'!O16,0)","v":0},{"$f":"IF('3 - SPECIE DA IMPIANTARE'!$G16=\"Piantagioni lineari\",'3 - SPECIE DA IMPIANTARE'!Q16,0)","v":0},{"$f":"IF('3 - SPECIE DA IMPIANTARE'!$G16=\"Piantagioni lineari\",'3 - SPECIE DA IMPIANTARE'!R16,0)","v":0},{"$f":"IF('3 - SPECIE DA IMPIANTARE'!$G16=\"Piantagioni lineari\",'3 - SPECIE DA IMPIANTARE'!T16,0)","v":0},{"$f":"IF('3 - SPECIE DA IMPIANTARE'!$G16=\"Piantagioni lineari\",'3 - SPECIE DA IMPIANTARE'!U16,0)","v":0},{"$f":"IF('3 - SPECIE DA IMPIANTARE'!$G16=\"Piantagioni lineari\",'3 - SPECIE DA IMPIANTARE'!W16,0)","v":0},{"$f":"IF('3 - SPECIE DA IMPIANTARE'!$G16=\"Piantagioni lineari\",'3 - SPECIE DA IMPIANTARE'!X16,0)","v":0},{"$f":"IF('3 - SPECIE DA IMPIANTARE'!$G16=\"Impianti a sesto regolare\",'3 - SPECIE DA IMPIANTARE'!$H16,0)","v":0},{"$f":"IF('3 - SPECIE DA IMPIANTARE'!$G16=\"Impianti a sesto regolare\",'3 - SPECIE DA IMPIANTARE'!$I16,0)","v":0},{"$f":"IF('3 - SPECIE DA IMPIANTARE'!$G16=\"Impianti a sesto regolare\",'3 - SPECIE DA IMPIANTARE'!$K16,0)","v":0},{"$f":"IF('3 - SPECIE DA IMPIANTARE'!$G16=\"Impianti a sesto regolare\",'3 - SPECIE DA IMPIANTARE'!$L16,0)","v":0},{"$f":"IF('3 - SPECIE DA IMPIANTARE'!$G16=\"Impianti a sesto regolare\",'3 - SPECIE DA IMPIANTARE'!$N16,0)","v":0},{"$f":"IF('3 - SPECIE DA IMPIANTARE'!$G16=\"Impianti a sesto regolare\",'3 - SPECIE DA IMPIANTARE'!$O16,0)","v":0},{"$f":"IF('3 - SPECIE DA IMPIANTARE'!$G16=\"Impianti a sesto regolare\",'3 - SPECIE DA IMPIANTARE'!$Q16,0)","v":0},{"$f":"IF('3 - SPECIE DA IMPIANTARE'!$G16=\"Impianti a sesto regolare\",'3 - SPECIE DA IMPIANTARE'!$R16,0)","v":0},{"$f":"IF('3 - SPECIE DA IMPIANTARE'!$G16=\"Impianti a sesto regolare\",'3 - SPECIE DA IMPIANTARE'!$T16,0)","v":0},{"$f":"IF('3 - SPECIE DA IMPIANTARE'!$G16=\"Impianti a sesto regolare\",'3 - SPECIE DA IMPIANTARE'!$U16,0)","v":0},{"$f":"IF('3 - SPECIE DA IMPIANTARE'!$G16=\"Impianti a sesto regolare\",'3 - SPECIE DA IMPIANTARE'!$W16,0)","v":0},{"$f":"IF('3 - SPECIE DA IMPIANTARE'!$G16=\"Impianti a sesto regolare\",'3 - SPECIE DA IMPIANTARE'!$X16,0)","v":0}]
[{"$f":"IF('3 - SPECIE DA IMPIANTARE'!G17=\"Impianti in ordine sparso\",'3 - SPECIE DA IMPIANTARE'!H17,0)","v":0},{"$f":"IF('3 - SPECIE DA IMPIANTARE'!$G17=\"Impianti in ordine sparso\",'3 - SPECIE DA IMPIANTARE'!I17,0)","v":0},{"$f":"IF('3 - SPECIE DA IMPIANTARE'!$G17=\"Impianti in ordine sparso\",'3 - SPECIE DA IMPIANTARE'!K17,0)","v":0},{"$f":"IF('3 - SPECIE DA IMPIANTARE'!$G17=\"Impianti in ordine sparso\",'3 - SPECIE DA IMPIANTARE'!L17,0)","v":0},{"$f":"IF('3 - SPECIE DA IMPIANTARE'!$G17=\"Impianti in ordine sparso\",'3 - SPECIE DA IMPIANTARE'!N17,0)","v":0},{"$f":"IF('3 - SPECIE DA IMPIANTARE'!$G17=\"Impianti in ordine sparso\",'3 - SPECIE DA IMPIANTARE'!O17,0)","v":0},{"$f":"IF('3 - SPECIE DA IMPIANTARE'!$G17=\"Impianti in ordine sparso\",'3 - SPECIE DA IMPIANTARE'!Q17,0)","v":0},{"$f":"IF('3 - SPECIE DA IMPIANTARE'!$G17=\"Impianti in ordine sparso\",'3 - SPECIE DA IMPIANTARE'!R17,0)","v":0},{"$f":"IF('3 - SPECIE DA IMPIANTARE'!$G17=\"Impianti in ordine sparso\",'3 - SPECIE DA IMPIANTARE'!T17,0)","v":0},{"$f":"IF('3 - SPECIE DA IMPIANTARE'!$G17=\"Impianti in ordine sparso\",'3 - SPECIE DA IMPIANTARE'!U17,0)","v":0},{"$f":"IF('3 - SPECIE DA IMPIANTARE'!$G17=\"Impianti in ordine sparso\",'3 - SPECIE DA IMPIANTARE'!W17,0)","v":0},{"$f":"IF('3 - SPECIE DA IMPIANTARE'!$G17=\"Impianti in ordine sparso\",'3 - SPECIE DA IMPIANTARE'!X17,0)","v":0},{"$f":"IF('3 - SPECIE DA IMPIANTARE'!$G17=\"Piantagioni lineari\",'3 - SPECIE DA IMPIANTARE'!H17,0)","v":0},{"$f":"IF('3 - SPECIE DA IMPIANTARE'!$G17=\"Piantagioni lineari\",'3 - SPECIE DA IMPIANTARE'!I17,0)","v":0},{"$f":"IF('3 - SPECIE DA IMPIANTARE'!$G17=\"Piantagioni lineari\",'3 - SPECIE DA IMPIANTARE'!K17,0)","v":0},{"$f":"IF('3 - SPECIE DA IMPIANTARE'!$G17=\"Piantagioni lineari\",'3 - SPECIE DA IMPIANTARE'!L17,0)","v":0},{"$f":"IF('3 - SPECIE DA IMPIANTARE'!$G17=\"Piantagioni lineari\",'3 - SPECIE DA IMPIANTARE'!N17,0)","v":0},{"$f":"IF('3 - SPECIE DA IMPIANTARE'!$G17=\"Piantagioni lineari\",'3 - SPECIE DA IMPIANTARE'!O17,0)","v":0},{"$f":"IF('3 - SPECIE DA IMPIANTARE'!$G17=\"Piantagioni lineari\",'3 - SPECIE DA IMPIANTARE'!Q17,0)","v":0},{"$f":"IF('3 - SPECIE DA IMPIANTARE'!$G17=\"Piantagioni lineari\",'3 - SPECIE DA IMPIANTARE'!R17,0)","v":0},{"$f":"IF('3 - SPECIE DA IMPIANTARE'!$G17=\"Piantagioni lineari\",'3 - SPECIE DA IMPIANTARE'!T17,0)","v":0},{"$f":"IF('3 - SPECIE DA IMPIANTARE'!$G17=\"Piantagioni lineari\",'3 - SPECIE DA IMPIANTARE'!U17,0)","v":0},{"$f":"IF('3 - SPECIE DA IMPIANTARE'!$G17=\"Piantagioni lineari\",'3 - SPECIE DA IMPIANTARE'!W17,0)","v":0},{"$f":"IF('3 - SPECIE DA IMPIANTARE'!$G17=\"Piantagioni lineari\",'3 - SPECIE DA IMPIANTARE'!X17,0)","v":0},{"$f":"IF('3 - SPECIE DA IMPIANTARE'!$G17=\"Impianti a sesto regolare\",'3 - SPECIE DA IMPIANTARE'!$H17,0)","v":0},{"$f":"IF('3 - SPECIE DA IMPIANTARE'!$G17=\"Impianti a sesto regolare\",'3 - SPECIE DA IMPIANTARE'!$I17,0)","v":0},{"$f":"IF('3 - SPECIE DA IMPIANTARE'!$G17=\"Impianti a sesto regolare\",'3 - SPECIE DA IMPIANTARE'!$K17,0)","v":0},{"$f":"IF('3 - SPECIE DA IMPIANTARE'!$G17=\"Impianti a sesto regolare\",'3 - SPECIE DA IMPIANTARE'!$L17,0)","v":0},{"$f":"IF('3 - SPECIE DA IMPIANTARE'!$G17=\"Impianti a sesto regolare\",'3 - SPECIE DA IMPIANTARE'!$N17,0)","v":0},{"$f":"IF('3 - SPECIE DA IMPIANTARE'!$G17=\"Impianti a sesto regolare\",'3 - SPECIE DA IMPIANTARE'!$O17,0)","v":0},{"$f":"IF('3 - SPECIE DA IMPIANTARE'!$G17=\"Impianti a sesto regolare\",'3 - SPECIE DA IMPIANTARE'!$Q17,0)","v":0},{"$f":"IF('3 - SPECIE DA IMPIANTARE'!$G17=\"Impianti a sesto regolare\",'3 - SPECIE DA IMPIANTARE'!$R17,0)","v":0},{"$f":"IF('3 - SPECIE DA IMPIANTARE'!$G17=\"Impianti a sesto regolare\",'3 - SPECIE DA IMPIANTARE'!$T17,0)","v":0},{"$f":"IF('3 - SPECIE DA IMPIANTARE'!$G17=\"Impianti a sesto regolare\",'3 - SPECIE DA IMPIANTARE'!$U17,0)","v":0},{"$f":"IF('3 - SPECIE DA IMPIANTARE'!$G17=\"Impianti a sesto regolare\",'3 - SPECIE DA IMPIANTARE'!$W17,0)","v":0},{"$f":"IF('3 - SPECIE DA IMPIANTARE'!$G17=\"Impianti a sesto regolare\",'3 - SPECIE DA IMPIANTARE'!$X17,0)","v":0}]
[{"$f":"IF('3 - SPECIE DA IMPIANTARE'!G18=\"Impianti in ordine sparso\",'3 - SPECIE DA IMPIANTARE'!H18,0)","v":0},{"$f":"IF('3 - SPECIE DA IMPIANTARE'!$G18=\"Impianti in ordine sparso\",'3 - SPECIE DA IMPIANTARE'!I18,0)","v":0},{"$f":"IF('3 - SPECIE DA IMPIANTARE'!$G18=\"Impianti in ordine sparso\",'3 - SPECIE DA IMPIANTARE'!K18,0)","v":0},{"$f":"IF('3 - SPECIE DA IMPIANTARE'!$G18=\"Impianti in ordine sparso\",'3 - SPECIE DA IMPIANTARE'!L18,0)","v":0},{"$f":"IF('3 - SPECIE DA IMPIANTARE'!$G18=\"Impianti in ordine sparso\",'3 - SPECIE DA IMPIANTARE'!N18,0)","v":0},{"$f":"IF('3 - SPECIE DA IMPIANTARE'!$G18=\"Impianti in ordine sparso\",'3 - SPECIE DA IMPIANTARE'!O18,0)","v":0},{"$f":"IF('3 - SPECIE DA IMPIANTARE'!$G18=\"Impianti in ordine sparso\",'3 - SPECIE DA IMPIANTARE'!Q18,0)","v":0},{"$f":"IF('3 - SPECIE DA IMPIANTARE'!$G18=\"Impianti in ordine sparso\",'3 - SPECIE DA IMPIANTARE'!R18,0)","v":0},{"$f":"IF('3 - SPECIE DA IMPIANTARE'!$G18=\"Impianti in ordine sparso\",'3 - SPECIE DA IMPIANTARE'!T18,0)","v":0},{"$f":"IF('3 - SPECIE DA IMPIANTARE'!$G18=\"Impianti in ordine sparso\",'3 - SPECIE DA IMPIANTARE'!U18,0)","v":0},{"$f":"IF('3 - SPECIE DA IMPIANTARE'!$G18=\"Impianti in ordine sparso\",'3 - SPECIE DA IMPIANTARE'!W18,0)","v":0},{"$f":"IF('3 - SPECIE DA IMPIANTARE'!$G18=\"Impianti in ordine sparso\",'3 - SPECIE DA IMPIANTARE'!X18,0)","v":0},{"$f":"IF('3 - SPECIE DA IMPIANTARE'!$G18=\"Piantagioni lineari\",'3 - SPECIE DA IMPIANTARE'!H18,0)","v":0},{"$f":"IF('3 - SPECIE DA IMPIANTARE'!$G18=\"Piantagioni lineari\",'3 - SPECIE DA IMPIANTARE'!I18,0)","v":0},{"$f":"IF('3 - SPECIE DA IMPIANTARE'!$G18=\"Piantagioni lineari\",'3 - SPECIE DA IMPIANTARE'!K18,0)","v":0},{"$f":"IF('3 - SPECIE DA IMPIANTARE'!$G18=\"Piantagioni lineari\",'3 - SPECIE DA IMPIANTARE'!L18,0)","v":0},{"$f":"IF('3 - SPECIE DA IMPIANTARE'!$G18=\"Piantagioni lineari\",'3 - SPECIE DA IMPIANTARE'!N18,0)","v":0},{"$f":"IF('3 - SPECIE DA IMPIANTARE'!$G18=\"Piantagioni lineari\",'3 - SPECIE DA IMPIANTARE'!O18,0)","v":0},{"$f":"IF('3 - SPECIE DA IMPIANTARE'!$G18=\"Piantagioni lineari\",'3 - SPECIE DA IMPIANTARE'!Q18,0)","v":0},{"$f":"IF('3 - SPECIE DA IMPIANTARE'!$G18=\"Piantagioni lineari\",'3 - SPECIE DA IMPIANTARE'!R18,0)","v":0},{"$f":"IF('3 - SPECIE DA IMPIANTARE'!$G18=\"Piantagioni lineari\",'3 - SPECIE DA IMPIANTARE'!T18,0)","v":0},{"$f":"IF('3 - SPECIE DA IMPIANTARE'!$G18=\"Piantagioni lineari\",'3 - SPECIE DA IMPIANTARE'!U18,0)","v":0},{"$f":"IF('3 - SPECIE DA IMPIANTARE'!$G18=\"Piantagioni lineari\",'3 - SPECIE DA IMPIANTARE'!W18,0)","v":0},{"$f":"IF('3 - SPECIE DA IMPIANTARE'!$G18=\"Piantagioni lineari\",'3 - SPECIE DA IMPIANTARE'!X18,0)","v":0},{"$f":"IF('3 - SPECIE DA IMPIANTARE'!$G18=\"Impianti a sesto regolare\",'3 - SPECIE DA IMPIANTARE'!$H18,0)","v":0},{"$f":"IF('3 - SPECIE DA IMPIANTARE'!$G18=\"Impianti a sesto regolare\",'3 - SPECIE DA IMPIANTARE'!$I18,0)","v":0},{"$f":"IF('3 - SPECIE DA IMPIANTARE'!$G18=\"Impianti a sesto regolare\",'3 - SPECIE DA IMPIANTARE'!$K18,0)","v":0},{"$f":"IF('3 - SPECIE DA IMPIANTARE'!$G18=\"Impianti a sesto regolare\",'3 - SPECIE DA IMPIANTARE'!$L18,0)","v":0},{"$f":"IF('3 - SPECIE DA IMPIANTARE'!$G18=\"Impianti a sesto regolare\",'3 - SPECIE DA IMPIANTARE'!$N18,0)","v":0},{"$f":"IF('3 - SPECIE DA IMPIANTARE'!$G18=\"Impianti a sesto regolare\",'3 - SPECIE DA IMPIANTARE'!$O18,0)","v":0},{"$f":"IF('3 - SPECIE DA IMPIANTARE'!$G18=\"Impianti a sesto regolare\",'3 - SPECIE DA IMPIANTARE'!$Q18,0)","v":0},{"$f":"IF('3 - SPECIE DA IMPIANTARE'!$G18=\"Impianti a sesto regolare\",'3 - SPECIE DA IMPIANTARE'!$R18,0)","v":0},{"$f":"IF('3 - SPECIE DA IMPIANTARE'!$G18=\"Impianti a sesto regolare\",'3 - SPECIE DA IMPIANTARE'!$T18,0)","v":0},{"$f":"IF('3 - SPECIE DA IMPIANTARE'!$G18=\"Impianti a sesto regolare\",'3 - SPECIE DA IMPIANTARE'!$U18,0)","v":0},{"$f":"IF('3 - SPECIE DA IMPIANTARE'!$G18=\"Impianti a sesto regolare\",'3 - SPECIE DA IMPIANTARE'!$W18,0)","v":0},{"$f":"IF('3 - SPECIE DA IMPIANTARE'!$G18=\"Impianti a sesto regolare\",'3 - SPECIE DA IMPIANTARE'!$X18,0)","v":0}]
[{"$f":"IF('3 - SPECIE DA IMPIANTARE'!G19=\"Impianti in ordine sparso\",'3 - SPECIE DA IMPIANTARE'!H19,0)","v":0},{"$f":"IF('3 - SPECIE DA IMPIANTARE'!$G19=\"Impianti in ordine sparso\",'3 - SPECIE DA IMPIANTARE'!I19,0)","v":0},{"$f":"IF('3 - SPECIE DA IMPIANTARE'!$G19=\"Impianti in ordine sparso\",'3 - SPECIE DA IMPIANTARE'!K19,0)","v":0},{"$f":"IF('3 - SPECIE DA IMPIANTARE'!$G19=\"Impianti in ordine sparso\",'3 - SPECIE DA IMPIANTARE'!L19,0)","v":0},{"$f":"IF('3 - SPECIE DA IMPIANTARE'!$G19=\"Impianti in ordine sparso\",'3 - SPECIE DA IMPIANTARE'!N19,0)","v":0},{"$f":"IF('3 - SPECIE DA IMPIANTARE'!$G19=\"Impianti in ordine sparso\",'3 - SPECIE DA IMPIANTARE'!O19,0)","v":0},{"$f":"IF('3 - SPECIE DA IMPIANTARE'!$G19=\"Impianti in ordine sparso\",'3 - SPECIE DA IMPIANTARE'!Q19,0)","v":0},{"$f":"IF('3 - SPECIE DA IMPIANTARE'!$G19=\"Impianti in ordine sparso\",'3 - SPECIE DA IMPIANTARE'!R19,0)","v":0},{"$f":"IF('3 - SPECIE DA IMPIANTARE'!$G19=\"Impianti in ordine sparso\",'3 - SPECIE DA IMPIANTARE'!T19,0)","v":0},{"$f":"IF('3 - SPECIE DA IMPIANTARE'!$G19=\"Impianti in ordine sparso\",'3 - SPECIE DA IMPIANTARE'!U19,0)","v":0},{"$f":"IF('3 - SPECIE DA IMPIANTARE'!$G19=\"Impianti in ordine sparso\",'3 - SPECIE DA IMPIANTARE'!W19,0)","v":0},{"$f":"IF('3 - SPECIE DA IMPIANTARE'!$G19=\"Impianti in ordine sparso\",'3 - SPECIE DA IMPIANTARE'!X19,0)","v":0},{"$f":"IF('3 - SPECIE DA IMPIANTARE'!$G19=\"Piantagioni lineari\",'3 - SPECIE DA IMPIANTARE'!H19,0)","v":0},{"$f":"IF('3 - SPECIE DA IMPIANTARE'!$G19=\"Piantagioni lineari\",'3 - SPECIE DA IMPIANTARE'!I19,0)","v":0},{"$f":"IF('3 - SPECIE DA IMPIANTARE'!$G19=\"Piantagioni lineari\",'3 - SPECIE DA IMPIANTARE'!K19,0)","v":0},{"$f":"IF('3 - SPECIE DA IMPIANTARE'!$G19=\"Piantagioni lineari\",'3 - SPECIE DA IMPIANTARE'!L19,0)","v":0},{"$f":"IF('3 - SPECIE DA IMPIANTARE'!$G19=\"Piantagioni lineari\",'3 - SPECIE DA IMPIANTARE'!N19,0)","v":0},{"$f":"IF('3 - SPECIE DA IMPIANTARE'!$G19=\"Piantagioni lineari\",'3 - SPECIE DA IMPIANTARE'!O19,0)","v":0},{"$f":"IF('3 - SPECIE DA IMPIANTARE'!$G19=\"Piantagioni lineari\",'3 - SPECIE DA IMPIANTARE'!Q19,0)","v":0},{"$f":"IF('3 - SPECIE DA IMPIANTARE'!$G19=\"Piantagioni lineari\",'3 - SPECIE DA IMPIANTARE'!R19,0)","v":0},{"$f":"IF('3 - SPECIE DA IMPIANTARE'!$G19=\"Piantagioni lineari\",'3 - SPECIE DA IMPIANTARE'!T19,0)","v":0},{"$f":"IF('3 - SPECIE DA IMPIANTARE'!$G19=\"Piantagioni lineari\",'3 - SPECIE DA IMPIANTARE'!U19,0)","v":0},{"$f":"IF('3 - SPECIE DA IMPIANTARE'!$G19=\"Piantagioni lineari\",'3 - SPECIE DA IMPIANTARE'!W19,0)","v":0},{"$f":"IF('3 - SPECIE DA IMPIANTARE'!$G19=\"Piantagioni lineari\",'3 - SPECIE DA IMPIANTARE'!X19,0)","v":0},{"$f":"IF('3 - SPECIE DA IMPIANTARE'!$G19=\"Impianti a sesto regolare\",'3 - SPECIE DA IMPIANTARE'!$H19,0)","v":0},{"$f":"IF('3 - SPECIE DA IMPIANTARE'!$G19=\"Impianti a sesto regolare\",'3 - SPECIE DA IMPIANTARE'!$I19,0)","v":0},{"$f":"IF('3 - SPECIE DA IMPIANTARE'!$G19=\"Impianti a sesto regolare\",'3 - SPECIE DA IMPIANTARE'!$K19,0)","v":0},{"$f":"IF('3 - SPECIE DA IMPIANTARE'!$G19=\"Impianti a sesto regolare\",'3 - SPECIE DA IMPIANTARE'!$L19,0)","v":0},{"$f":"IF('3 - SPECIE DA IMPIANTARE'!$G19=\"Impianti a sesto regolare\",'3 - SPECIE DA IMPIANTARE'!$N19,0)","v":0},{"$f":"IF('3 - SPECIE DA IMPIANTARE'!$G19=\"Impianti a sesto regolare\",'3 - SPECIE DA IMPIANTARE'!$O19,0)","v":0},{"$f":"IF('3 - SPECIE DA IMPIANTARE'!$G19=\"Impianti a sesto regolare\",'3 - SPECIE DA IMPIANTARE'!$Q19,0)","v":0},{"$f":"IF('3 - SPECIE DA IMPIANTARE'!$G19=\"Impianti a sesto regolare\",'3 - SPECIE DA IMPIANTARE'!$R19,0)","v":0},{"$f":"IF('3 - SPECIE DA IMPIANTARE'!$G19=\"Impianti a sesto regolare\",'3 - SPECIE DA IMPIANTARE'!$T19,0)","v":0},{"$f":"IF('3 - SPECIE DA IMPIANTARE'!$G19=\"Impianti a sesto regolare\",'3 - SPECIE DA IMPIANTARE'!$U19,0)","v":0},{"$f":"IF('3 - SPECIE DA IMPIANTARE'!$G19=\"Impianti a sesto regolare\",'3 - SPECIE DA IMPIANTARE'!$W19,0)","v":0},{"$f":"IF('3 - SPECIE DA IMPIANTARE'!$G19=\"Impianti a sesto regolare\",'3 - SPECIE DA IMPIANTARE'!$X19,0)","v":0}]
[{"$f":"IF('3 - SPECIE DA IMPIANTARE'!G20=\"Impianti in ordine sparso\",'3 - SPECIE DA IMPIANTARE'!H20,0)","v":0},{"$f":"IF('3 - SPECIE DA IMPIANTARE'!$G20=\"Impianti in ordine sparso\",'3 - SPECIE DA IMPIANTARE'!I20,0)","v":0},{"$f":"IF('3 - SPECIE DA IMPIANTARE'!$G20=\"Impianti in ordine sparso\",'3 - SPECIE DA IMPIANTARE'!K20,0)","v":0},{"$f":"IF('3 - SPECIE DA IMPIANTARE'!$G20=\"Impianti in ordine sparso\",'3 - SPECIE DA IMPIANTARE'!L20,0)","v":0},{"$f":"IF('3 - SPECIE DA IMPIANTARE'!$G20=\"Impianti in ordine sparso\",'3 - SPECIE DA IMPIANTARE'!N20,0)","v":0},{"$f":"IF('3 - SPECIE DA IMPIANTARE'!$G20=\"Impianti in ordine sparso\",'3 - SPECIE DA IMPIANTARE'!O20,0)","v":0},{"$f":"IF('3 - SPECIE DA IMPIANTARE'!$G20=\"Impianti in ordine sparso\",'3 - SPECIE DA IMPIANTARE'!Q20,0)","v":0},{"$f":"IF('3 - SPECIE DA IMPIANTARE'!$G20=\"Impianti in ordine sparso\",'3 - SPECIE DA IMPIANTARE'!R20,0)","v":0},{"$f":"IF('3 - SPECIE DA IMPIANTARE'!$G20=\"Impianti in ordine sparso\",'3 - SPECIE DA IMPIANTARE'!T20,0)","v":0},{"$f":"IF('3 - SPECIE DA IMPIANTARE'!$G20=\"Impianti in ordine sparso\",'3 - SPECIE DA IMPIANTARE'!U20,0)","v":0},{"$f":"IF('3 - SPECIE DA IMPIANTARE'!$G20=\"Impianti in ordine sparso\",'3 - SPECIE DA IMPIANTARE'!W20,0)","v":0},{"$f":"IF('3 - SPECIE DA IMPIANTARE'!$G20=\"Impianti in ordine sparso\",'3 - SPECIE DA IMPIANTARE'!X20,0)","v":0},{"$f":"IF('3 - SPECIE DA IMPIANTARE'!$G20=\"Piantagioni lineari\",'3 - SPECIE DA IMPIANTARE'!H20,0)","v":0},{"$f":"IF('3 - SPECIE DA IMPIANTARE'!$G20=\"Piantagioni lineari\",'3 - SPECIE DA IMPIANTARE'!I20,0)","v":0},{"$f":"IF('3 - SPECIE DA IMPIANTARE'!$G20=\"Piantagioni lineari\",'3 - SPECIE DA IMPIANTARE'!K20,0)","v":0},{"$f":"IF('3 - SPECIE DA IMPIANTARE'!$G20=\"Piantagioni lineari\",'3 - SPECIE DA IMPIANTARE'!L20,0)","v":0},{"$f":"IF('3 - SPECIE DA IMPIANTARE'!$G20=\"Piantagioni lineari\",'3 - SPECIE DA IMPIANTARE'!N20,0)","v":0},{"$f":"IF('3 - SPECIE DA IMPIANTARE'!$G20=\"Piantagioni lineari\",'3 - SPECIE DA IMPIANTARE'!O20,0)","v":0},{"$f":"IF('3 - SPECIE DA IMPIANTARE'!$G20=\"Piantagioni lineari\",'3 - SPECIE DA IMPIANTARE'!Q20,0)","v":0},{"$f":"IF('3 - SPECIE DA IMPIANTARE'!$G20=\"Piantagioni lineari\",'3 - SPECIE DA IMPIANTARE'!R20,0)","v":0},{"$f":"IF('3 - SPECIE DA IMPIANTARE'!$G20=\"Piantagioni lineari\",'3 - SPECIE DA IMPIANTARE'!T20,0)","v":0},{"$f":"IF('3 - SPECIE DA IMPIANTARE'!$G20=\"Piantagioni lineari\",'3 - SPECIE DA IMPIANTARE'!U20,0)","v":0},{"$f":"IF('3 - SPECIE DA IMPIANTARE'!$G20=\"Piantagioni lineari\",'3 - SPECIE DA IMPIANTARE'!W20,0)","v":0},{"$f":"IF('3 - SPECIE DA IMPIANTARE'!$G20=\"Piantagioni lineari\",'3 - SPECIE DA IMPIANTARE'!X20,0)","v":0},{"$f":"IF('3 - SPECIE DA IMPIANTARE'!$G20=\"Impianti a sesto regolare\",'3 - SPECIE DA IMPIANTARE'!$H20,0)","v":0},{"$f":"IF('3 - SPECIE DA IMPIANTARE'!$G20=\"Impianti a sesto regolare\",'3 - SPECIE DA IMPIANTARE'!$I20,0)","v":0},{"$f":"IF('3 - SPECIE DA IMPIANTARE'!$G20=\"Impianti a sesto regolare\",'3 - SPECIE DA IMPIANTARE'!$K20,0)","v":0},{"$f":"IF('3 - SPECIE DA IMPIANTARE'!$G20=\"Impianti a sesto regolare\",'3 - SPECIE DA IMPIANTARE'!$L20,0)","v":0},{"$f":"IF('3 - SPECIE DA IMPIANTARE'!$G20=\"Impianti a sesto regolare\",'3 - SPECIE DA IMPIANTARE'!$N20,0)","v":0},{"$f":"IF('3 - SPECIE DA IMPIANTARE'!$G20=\"Impianti a sesto regolare\",'3 - SPECIE DA IMPIANTARE'!$O20,0)","v":0},{"$f":"IF('3 - SPECIE DA IMPIANTARE'!$G20=\"Impianti a sesto regolare\",'3 - SPECIE DA IMPIANTARE'!$Q20,0)","v":0},{"$f":"IF('3 - SPECIE DA IMPIANTARE'!$G20=\"Impianti a sesto regolare\",'3 - SPECIE DA IMPIANTARE'!$R20,0)","v":0},{"$f":"IF('3 - SPECIE DA IMPIANTARE'!$G20=\"Impianti a sesto regolare\",'3 - SPECIE DA IMPIANTARE'!$T20,0)","v":0},{"$f":"IF('3 - SPECIE DA IMPIANTARE'!$G20=\"Impianti a sesto regolare\",'3 - SPECIE DA IMPIANTARE'!$U20,0)","v":0},{"$f":"IF('3 - SPECIE DA IMPIANTARE'!$G20=\"Impianti a sesto regolare\",'3 - SPECIE DA IMPIANTARE'!$W20,0)","v":0},{"$f":"IF('3 - SPECIE DA IMPIANTARE'!$G20=\"Impianti a sesto regolare\",'3 - SPECIE DA IMPIANTARE'!$X20,0)","v":0}]
[{"$f":"IF('3 - SPECIE DA IMPIANTARE'!G21=\"Impianti in ordine sparso\",'3 - SPECIE DA IMPIANTARE'!H21,0)","v":0},{"$f":"IF('3 - SPECIE DA IMPIANTARE'!$G21=\"Impianti in ordine sparso\",'3 - SPECIE DA IMPIANTARE'!I21,0)","v":0},{"$f":"IF('3 - SPECIE DA IMPIANTARE'!$G21=\"Impianti in ordine sparso\",'3 - SPECIE DA IMPIANTARE'!K21,0)","v":0},{"$f":"IF('3 - SPECIE DA IMPIANTARE'!$G21=\"Impianti in ordine sparso\",'3 - SPECIE DA IMPIANTARE'!L21,0)","v":0},{"$f":"IF('3 - SPECIE DA IMPIANTARE'!$G21=\"Impianti in ordine sparso\",'3 - SPECIE DA IMPIANTARE'!N21,0)","v":0},{"$f":"IF('3 - SPECIE DA IMPIANTARE'!$G21=\"Impianti in ordine sparso\",'3 - SPECIE DA IMPIANTARE'!O21,0)","v":0},{"$f":"IF('3 - SPECIE DA IMPIANTARE'!$G21=\"Impianti in ordine sparso\",'3 - SPECIE DA IMPIANTARE'!Q21,0)","v":0},{"$f":"IF('3 - SPECIE DA IMPIANTARE'!$G21=\"Impianti in ordine sparso\",'3 - SPECIE DA IMPIANTARE'!R21,0)","v":0},{"$f":"IF('3 - SPECIE DA IMPIANTARE'!$G21=\"Impianti in ordine sparso\",'3 - SPECIE DA IMPIANTARE'!T21,0)","v":0},{"$f":"IF('3 - SPECIE DA IMPIANTARE'!$G21=\"Impianti in ordine sparso\",'3 - SPECIE DA IMPIANTARE'!U21,0)","v":0},{"$f":"IF('3 - SPECIE DA IMPIANTARE'!$G21=\"Impianti in ordine sparso\",'3 - SPECIE DA IMPIANTARE'!W21,0)","v":0},{"$f":"IF('3 - SPECIE DA IMPIANTARE'!$G21=\"Impianti in ordine sparso\",'3 - SPECIE DA IMPIANTARE'!X21,0)","v":0},{"$f":"IF('3 - SPECIE DA IMPIANTARE'!$G21=\"Piantagioni lineari\",'3 - SPECIE DA IMPIANTARE'!H21,0)","v":0},{"$f":"IF('3 - SPECIE DA IMPIANTARE'!$G21=\"Piantagioni lineari\",'3 - SPECIE DA IMPIANTARE'!I21,0)","v":0},{"$f":"IF('3 - SPECIE DA IMPIANTARE'!$G21=\"Piantagioni lineari\",'3 - SPECIE DA IMPIANTARE'!K21,0)","v":0},{"$f":"IF('3 - SPECIE DA IMPIANTARE'!$G21=\"Piantagioni lineari\",'3 - SPECIE DA IMPIANTARE'!L21,0)","v":0},{"$f":"IF('3 - SPECIE DA IMPIANTARE'!$G21=\"Piantagioni lineari\",'3 - SPECIE DA IMPIANTARE'!N21,0)","v":0},{"$f":"IF('3 - SPECIE DA IMPIANTARE'!$G21=\"Piantagioni lineari\",'3 - SPECIE DA IMPIANTARE'!O21,0)","v":0},{"$f":"IF('3 - SPECIE DA IMPIANTARE'!$G21=\"Piantagioni lineari\",'3 - SPECIE DA IMPIANTARE'!Q21,0)","v":0},{"$f":"IF('3 - SPECIE DA IMPIANTARE'!$G21=\"Piantagioni lineari\",'3 - SPECIE DA IMPIANTARE'!R21,0)","v":0},{"$f":"IF('3 - SPECIE DA IMPIANTARE'!$G21=\"Piantagioni lineari\",'3 - SPECIE DA IMPIANTARE'!T21,0)","v":0},{"$f":"IF('3 - SPECIE DA IMPIANTARE'!$G21=\"Piantagioni lineari\",'3 - SPECIE DA IMPIANTARE'!U21,0)","v":0},{"$f":"IF('3 - SPECIE DA IMPIANTARE'!$G21=\"Piantagioni lineari\",'3 - SPECIE DA IMPIANTARE'!W21,0)","v":0},{"$f":"IF('3 - SPECIE DA IMPIANTARE'!$G21=\"Piantagioni lineari\",'3 - SPECIE DA IMPIANTARE'!X21,0)","v":0},{"$f":"IF('3 - SPECIE DA IMPIANTARE'!$G21=\"Impianti a sesto regolare\",'3 - SPECIE DA IMPIANTARE'!$H21,0)","v":0},{"$f":"IF('3 - SPECIE DA IMPIANTARE'!$G21=\"Impianti a sesto regolare\",'3 - SPECIE DA IMPIANTARE'!$I21,0)","v":0},{"$f":"IF('3 - SPECIE DA IMPIANTARE'!$G21=\"Impianti a sesto regolare\",'3 - SPECIE DA IMPIANTARE'!$K21,0)","v":0},{"$f":"IF('3 - SPECIE DA IMPIANTARE'!$G21=\"Impianti a sesto regolare\",'3 - SPECIE DA IMPIANTARE'!$L21,0)","v":0},{"$f":"IF('3 - SPECIE DA IMPIANTARE'!$G21=\"Impianti a sesto regolare\",'3 - SPECIE DA IMPIANTARE'!$N21,0)","v":0},{"$f":"IF('3 - SPECIE DA IMPIANTARE'!$G21=\"Impianti a sesto regolare\",'3 - SPECIE DA IMPIANTARE'!$O21,0)","v":0},{"$f":"IF('3 - SPECIE DA IMPIANTARE'!$G21=\"Impianti a sesto regolare\",'3 - SPECIE DA IMPIANTARE'!$Q21,0)","v":0},{"$f":"IF('3 - SPECIE DA IMPIANTARE'!$G21=\"Impianti a sesto regolare\",'3 - SPECIE DA IMPIANTARE'!$R21,0)","v":0},{"$f":"IF('3 - SPECIE DA IMPIANTARE'!$G21=\"Impianti a sesto regolare\",'3 - SPECIE DA IMPIANTARE'!$T21,0)","v":0},{"$f":"IF('3 - SPECIE DA IMPIANTARE'!$G21=\"Impianti a sesto regolare\",'3 - SPECIE DA IMPIANTARE'!$U21,0)","v":0},{"$f":"IF('3 - SPECIE DA IMPIANTARE'!$G21=\"Impianti a sesto regolare\",'3 - SPECIE DA IMPIANTARE'!$W21,0)","v":0},{"$f":"IF('3 - SPECIE DA IMPIANTARE'!$G21=\"Impianti a sesto regolare\",'3 - SPECIE DA IMPIANTARE'!$X21,0)","v":0}]
[{"$f":"IF('3 - SPECIE DA IMPIANTARE'!G22=\"Impianti in ordine sparso\",'3 - SPECIE DA IMPIANTARE'!H22,0)","v":0},{"$f":"IF('3 - SPECIE DA IMPIANTARE'!$G22=\"Impianti in ordine sparso\",'3 - SPECIE DA IMPIANTARE'!I22,0)","v":0},{"$f":"IF('3 - SPECIE DA IMPIANTARE'!$G22=\"Impianti in ordine sparso\",'3 - SPECIE DA IMPIANTARE'!K22,0)","v":0},{"$f":"IF('3 - SPECIE DA IMPIANTARE'!$G22=\"Impianti in ordine sparso\",'3 - SPECIE DA IMPIANTARE'!L22,0)","v":0},{"$f":"IF('3 - SPECIE DA IMPIANTARE'!$G22=\"Impianti in ordine sparso\",'3 - SPECIE DA IMPIANTARE'!N22,0)","v":0},{"$f":"IF('3 - SPECIE DA IMPIANTARE'!$G22=\"Impianti in ordine sparso\",'3 - SPECIE DA IMPIANTARE'!O22,0)","v":0},{"$f":"IF('3 - SPECIE DA IMPIANTARE'!$G22=\"Impianti in ordine sparso\",'3 - SPECIE DA IMPIANTARE'!Q22,0)","v":0},{"$f":"IF('3 - SPECIE DA IMPIANTARE'!$G22=\"Impianti in ordine sparso\",'3 - SPECIE DA IMPIANTARE'!R22,0)","v":0},{"$f":"IF('3 - SPECIE DA IMPIANTARE'!$G22=\"Impianti in ordine sparso\",'3 - SPECIE DA IMPIANTARE'!T22,0)","v":0},{"$f":"IF('3 - SPECIE DA IMPIANTARE'!$G22=\"Impianti in ordine sparso\",'3 - SPECIE DA IMPIANTARE'!U22,0)","v":0},{"$f":"IF('3 - SPECIE DA IMPIANTARE'!$G22=\"Impianti in ordine sparso\",'3 - SPECIE DA IMPIANTARE'!W22,0)","v":0},{"$f":"IF('3 - SPECIE DA IMPIANTARE'!$G22=\"Impianti in ordine sparso\",'3 - SPECIE DA IMPIANTARE'!X22,0)","v":0},{"$f":"IF('3 - SPECIE DA IMPIANTARE'!$G22=\"Piantagioni lineari\",'3 - SPECIE DA IMPIANTARE'!H22,0)","v":0},{"$f":"IF('3 - SPECIE DA IMPIANTARE'!$G22=\"Piantagioni lineari\",'3 - SPECIE DA IMPIANTARE'!I22,0)","v":0},{"$f":"IF('3 - SPECIE DA IMPIANTARE'!$G22=\"Piantagioni lineari\",'3 - SPECIE DA IMPIANTARE'!K22,0)","v":0},{"$f":"IF('3 - SPECIE DA IMPIANTARE'!$G22=\"Piantagioni lineari\",'3 - SPECIE DA IMPIANTARE'!L22,0)","v":0},{"$f":"IF('3 - SPECIE DA IMPIANTARE'!$G22=\"Piantagioni lineari\",'3 - SPECIE DA IMPIANTARE'!N22,0)","v":0},{"$f":"IF('3 - SPECIE DA IMPIANTARE'!$G22=\"Piantagioni lineari\",'3 - SPECIE DA IMPIANTARE'!O22,0)","v":0},{"$f":"IF('3 - SPECIE DA IMPIANTARE'!$G22=\"Piantagioni lineari\",'3 - SPECIE DA IMPIANTARE'!Q22,0)","v":0},{"$f":"IF('3 - SPECIE DA IMPIANTARE'!$G22=\"Piantagioni lineari\",'3 - SPECIE DA IMPIANTARE'!R22,0)","v":0},{"$f":"IF('3 - SPECIE DA IMPIANTARE'!$G22=\"Piantagioni lineari\",'3 - SPECIE DA IMPIANTARE'!T22,0)","v":0},{"$f":"IF('3 - SPECIE DA IMPIANTARE'!$G22=\"Piantagioni lineari\",'3 - SPECIE DA IMPIANTARE'!U22,0)","v":0},{"$f":"IF('3 - SPECIE DA IMPIANTARE'!$G22=\"Piantagioni lineari\",'3 - SPECIE DA IMPIANTARE'!W22,0)","v":0},{"$f":"IF('3 - SPECIE DA IMPIANTARE'!$G22=\"Piantagioni lineari\",'3 - SPECIE DA IMPIANTARE'!X22,0)","v":0},{"$f":"IF('3 - SPECIE DA IMPIANTARE'!$G22=\"Impianti a sesto regolare\",'3 - SPECIE DA IMPIANTARE'!$H22,0)","v":0},{"$f":"IF('3 - SPECIE DA IMPIANTARE'!$G22=\"Impianti a sesto regolare\",'3 - SPECIE DA IMPIANTARE'!$I22,0)","v":0},{"$f":"IF('3 - SPECIE DA IMPIANTARE'!$G22=\"Impianti a sesto regolare\",'3 - SPECIE DA IMPIANTARE'!$K22,0)","v":0},{"$f":"IF('3 - SPECIE DA IMPIANTARE'!$G22=\"Impianti a sesto regolare\",'3 - SPECIE DA IMPIANTARE'!$L22,0)","v":0},{"$f":"IF('3 - SPECIE DA IMPIANTARE'!$G22=\"Impianti a sesto regolare\",'3 - SPECIE DA IMPIANTARE'!$N22,0)","v":0},{"$f":"IF('3 - SPECIE DA IMPIANTARE'!$G22=\"Impianti a sesto regolare\",'3 - SPECIE DA IMPIANTARE'!$O22,0)","v":0},{"$f":"IF('3 - SPECIE DA IMPIANTARE'!$G22=\"Impianti a sesto regolare\",'3 - SPECIE DA IMPIANTARE'!$Q22,0)","v":0},{"$f":"IF('3 - SPECIE DA IMPIANTARE'!$G22=\"Impianti a sesto regolare\",'3 - SPECIE DA IMPIANTARE'!$R22,0)","v":0},{"$f":"IF('3 - SPECIE DA IMPIANTARE'!$G22=\"Impianti a sesto regolare\",'3 - SPECIE DA IMPIANTARE'!$T22,0)","v":0},{"$f":"IF('3 - SPECIE DA IMPIANTARE'!$G22=\"Impianti a sesto regolare\",'3 - SPECIE DA IMPIANTARE'!$U22,0)","v":0},{"$f":"IF('3 - SPECIE DA IMPIANTARE'!$G22=\"Impianti a sesto regolare\",'3 - SPECIE DA IMPIANTARE'!$W22,0)","v":0},{"$f":"IF('3 - SPECIE DA IMPIANTARE'!$G22=\"Impianti a sesto regolare\",'3 - SPECIE DA IMPIANTARE'!$X22,0)","v":0}]
[{"$f":"IF('3 - SPECIE DA IMPIANTARE'!G23=\"Impianti in ordine sparso\",'3 - SPECIE DA IMPIANTARE'!H23,0)","v":0},{"$f":"IF('3 - SPECIE DA IMPIANTARE'!$G23=\"Impianti in ordine sparso\",'3 - SPECIE DA IMPIANTARE'!I23,0)","v":0},{"$f":"IF('3 - SPECIE DA IMPIANTARE'!$G23=\"Impianti in ordine sparso\",'3 - SPECIE DA IMPIANTARE'!K23,0)","v":0},{"$f":"IF('3 - SPECIE DA IMPIANTARE'!$G23=\"Impianti in ordine sparso\",'3 - SPECIE DA IMPIANTARE'!L23,0)","v":0},{"$f":"IF('3 - SPECIE DA IMPIANTARE'!$G23=\"Impianti in ordine sparso\",'3 - SPECIE DA IMPIANTARE'!N23,0)","v":0},{"$f":"IF('3 - SPECIE DA IMPIANTARE'!$G23=\"Impianti in ordine sparso\",'3 - SPECIE DA IMPIANTARE'!O23,0)","v":0},{"$f":"IF('3 - SPECIE DA IMPIANTARE'!$G23=\"Impianti in ordine sparso\",'3 - SPECIE DA IMPIANTARE'!Q23,0)","v":0},{"$f":"IF('3 - SPECIE DA IMPIANTARE'!$G23=\"Impianti in ordine sparso\",'3 - SPECIE DA IMPIANTARE'!R23,0)","v":0},{"$f":"IF('3 - SPECIE DA IMPIANTARE'!$G23=\"Impianti in ordine sparso\",'3 - SPECIE DA IMPIANTARE'!T23,0)","v":0},{"$f":"IF('3 - SPECIE DA IMPIANTARE'!$G23=\"Impianti in ordine sparso\",'3 - SPECIE DA IMPIANTARE'!U23,0)","v":0},{"$f":"IF('3 - SPECIE DA IMPIANTARE'!$G23=\"Impianti in ordine sparso\",'3 - SPECIE DA IMPIANTARE'!W23,0)","v":0},{"$f":"IF('3 - SPECIE DA IMPIANTARE'!$G23=\"Impianti in ordine sparso\",'3 - SPECIE DA IMPIANTARE'!X23,0)","v":0},{"$f":"IF('3 - SPECIE DA IMPIANTARE'!$G23=\"Piantagioni lineari\",'3 - SPECIE DA IMPIANTARE'!H23,0)","v":0},{"$f":"IF('3 - SPECIE DA IMPIANTARE'!$G23=\"Piantagioni lineari\",'3 - SPECIE DA IMPIANTARE'!I23,0)","v":0},{"$f":"IF('3 - SPECIE DA IMPIANTARE'!$G23=\"Piantagioni lineari\",'3 - SPECIE DA IMPIANTARE'!K23,0)","v":0},{"$f":"IF('3 - SPECIE DA IMPIANTARE'!$G23=\"Piantagioni lineari\",'3 - SPECIE DA IMPIANTARE'!L23,0)","v":0},{"$f":"IF('3 - SPECIE DA IMPIANTARE'!$G23=\"Piantagioni lineari\",'3 - SPECIE DA IMPIANTARE'!N23,0)","v":0},{"$f":"IF('3 - SPECIE DA IMPIANTARE'!$G23=\"Piantagioni lineari\",'3 - SPECIE DA IMPIANTARE'!O23,0)","v":0},{"$f":"IF('3 - SPECIE DA IMPIANTARE'!$G23=\"Piantagioni lineari\",'3 - SPECIE DA IMPIANTARE'!Q23,0)","v":0},{"$f":"IF('3 - SPECIE DA IMPIANTARE'!$G23=\"Piantagioni lineari\",'3 - SPECIE DA IMPIANTARE'!R23,0)","v":0},{"$f":"IF('3 - SPECIE DA IMPIANTARE'!$G23=\"Piantagioni lineari\",'3 - SPECIE DA IMPIANTARE'!T23,0)","v":0},{"$f":"IF('3 - SPECIE DA IMPIANTARE'!$G23=\"Piantagioni lineari\",'3 - SPECIE DA IMPIANTARE'!U23,0)","v":0},{"$f":"IF('3 - SPECIE DA IMPIANTARE'!$G23=\"Piantagioni lineari\",'3 - SPECIE DA IMPIANTARE'!W23,0)","v":0},{"$f":"IF('3 - SPECIE DA IMPIANTARE'!$G23=\"Piantagioni lineari\",'3 - SPECIE DA IMPIANTARE'!X23,0)","v":0},{"$f":"IF('3 - SPECIE DA IMPIANTARE'!$G23=\"Impianti a sesto regolare\",'3 - SPECIE DA IMPIANTARE'!$H23,0)","v":0},{"$f":"IF('3 - SPECIE DA IMPIANTARE'!$G23=\"Impianti a sesto regolare\",'3 - SPECIE DA IMPIANTARE'!$I23,0)","v":0},{"$f":"IF('3 - SPECIE DA IMPIANTARE'!$G23=\"Impianti a sesto regolare\",'3 - SPECIE DA IMPIANTARE'!$K23,0)","v":0},{"$f":"IF('3 - SPECIE DA IMPIANTARE'!$G23=\"Impianti a sesto regolare\",'3 - SPECIE DA IMPIANTARE'!$L23,0)","v":0},{"$f":"IF('3 - SPECIE DA IMPIANTARE'!$G23=\"Impianti a sesto regolare\",'3 - SPECIE DA IMPIANTARE'!$N23,0)","v":0},{"$f":"IF('3 - SPECIE DA IMPIANTARE'!$G23=\"Impianti a sesto regolare\",'3 - SPECIE DA IMPIANTARE'!$O23,0)","v":0},{"$f":"IF('3 - SPECIE DA IMPIANTARE'!$G23=\"Impianti a sesto regolare\",'3 - SPECIE DA IMPIANTARE'!$Q23,0)","v":0},{"$f":"IF('3 - SPECIE DA IMPIANTARE'!$G23=\"Impianti a sesto regolare\",'3 - SPECIE DA IMPIANTARE'!$R23,0)","v":0},{"$f":"IF('3 - SPECIE DA IMPIANTARE'!$G23=\"Impianti a sesto regolare\",'3 - SPECIE DA IMPIANTARE'!$T23,0)","v":0},{"$f":"IF('3 - SPECIE DA IMPIANTARE'!$G23=\"Impianti a sesto regolare\",'3 - SPECIE DA IMPIANTARE'!$U23,0)","v":0},{"$f":"IF('3 - SPECIE DA IMPIANTARE'!$G23=\"Impianti a sesto regolare\",'3 - SPECIE DA IMPIANTARE'!$W23,0)","v":0},{"$f":"IF('3 - SPECIE DA IMPIANTARE'!$G23=\"Impianti a sesto regolare\",'3 - SPECIE DA IMPIANTARE'!$X23,0)","v":0}]
[{"$f":"IF('3 - SPECIE DA IMPIANTARE'!G24=\"Impianti in ordine sparso\",'3 - SPECIE DA IMPIANTARE'!H24,0)","v":0},{"$f":"IF('3 - SPECIE DA IMPIANTARE'!$G24=\"Impianti in ordine sparso\",'3 - SPECIE DA IMPIANTARE'!I24,0)","v":0},{"$f":"IF('3 - SPECIE DA IMPIANTARE'!$G24=\"Impianti in ordine sparso\",'3 - SPECIE DA IMPIANTARE'!K24,0)","v":0},{"$f":"IF('3 - SPECIE DA IMPIANTARE'!$G24=\"Impianti in ordine sparso\",'3 - SPECIE DA IMPIANTARE'!L24,0)","v":0},{"$f":"IF('3 - SPECIE DA IMPIANTARE'!$G24=\"Impianti in ordine sparso\",'3 - SPECIE DA IMPIANTARE'!N24,0)","v":0},{"$f":"IF('3 - SPECIE DA IMPIANTARE'!$G24=\"Impianti in ordine sparso\",'3 - SPECIE DA IMPIANTARE'!O24,0)","v":0},{"$f":"IF('3 - SPECIE DA IMPIANTARE'!$G24=\"Impianti in ordine sparso\",'3 - SPECIE DA IMPIANTARE'!Q24,0)","v":0},{"$f":"IF('3 - SPECIE DA IMPIANTARE'!$G24=\"Impianti in ordine sparso\",'3 - SPECIE DA IMPIANTARE'!R24,0)","v":0},{"$f":"IF('3 - SPECIE DA IMPIANTARE'!$G24=\"Impianti in ordine sparso\",'3 - SPECIE DA IMPIANTARE'!T24,0)","v":0},{"$f":"IF('3 - SPECIE DA IMPIANTARE'!$G24=\"Impianti in ordine sparso\",'3 - SPECIE DA IMPIANTARE'!U24,0)","v":0},{"$f":"IF('3 - SPECIE DA IMPIANTARE'!$G24=\"Impianti in ordine sparso\",'3 - SPECIE DA IMPIANTARE'!W24,0)","v":0},{"$f":"IF('3 - SPECIE DA IMPIANTARE'!$G24=\"Impianti in ordine sparso\",'3 - SPECIE DA IMPIANTARE'!X24,0)","v":0},{"$f":"IF('3 - SPECIE DA IMPIANTARE'!$G24=\"Piantagioni lineari\",'3 - SPECIE DA IMPIANTARE'!H24,0)","v":0},{"$f":"IF('3 - SPECIE DA IMPIANTARE'!$G24=\"Piantagioni lineari\",'3 - SPECIE DA IMPIANTARE'!I24,0)","v":0},{"$f":"IF('3 - SPECIE DA IMPIANTARE'!$G24=\"Piantagioni lineari\",'3 - SPECIE DA IMPIANTARE'!K24,0)","v":0},{"$f":"IF('3 - SPECIE DA IMPIANTARE'!$G24=\"Piantagioni lineari\",'3 - SPECIE DA IMPIANTARE'!L24,0)","v":0},{"$f":"IF('3 - SPECIE DA IMPIANTARE'!$G24=\"Piantagioni lineari\",'3 - SPECIE DA IMPIANTARE'!N24,0)","v":0},{"$f":"IF('3 - SPECIE DA IMPIANTARE'!$G24=\"Piantagioni lineari\",'3 - SPECIE DA IMPIANTARE'!O24,0)","v":0},{"$f":"IF('3 - SPECIE DA IMPIANTARE'!$G24=\"Piantagioni lineari\",'3 - SPECIE DA IMPIANTARE'!Q24,0)","v":0},{"$f":"IF('3 - SPECIE DA IMPIANTARE'!$G24=\"Piantagioni lineari\",'3 - SPECIE DA IMPIANTARE'!R24,0)","v":0},{"$f":"IF('3 - SPECIE DA IMPIANTARE'!$G24=\"Piantagioni lineari\",'3 - SPECIE DA IMPIANTARE'!T24,0)","v":0},{"$f":"IF('3 - SPECIE DA IMPIANTARE'!$G24=\"Piantagioni lineari\",'3 - SPECIE DA IMPIANTARE'!U24,0)","v":0},{"$f":"IF('3 - SPECIE DA IMPIANTARE'!$G24=\"Piantagioni lineari\",'3 - SPECIE DA IMPIANTARE'!W24,0)","v":0},{"$f":"IF('3 - SPECIE DA IMPIANTARE'!$G24=\"Piantagioni lineari\",'3 - SPECIE DA IMPIANTARE'!X24,0)","v":0},{"$f":"IF('3 - SPECIE DA IMPIANTARE'!$G24=\"Impianti a sesto regolare\",'3 - SPECIE DA IMPIANTARE'!$H24,0)","v":0},{"$f":"IF('3 - SPECIE DA IMPIANTARE'!$G24=\"Impianti a sesto regolare\",'3 - SPECIE DA IMPIANTARE'!$I24,0)","v":0},{"$f":"IF('3 - SPECIE DA IMPIANTARE'!$G24=\"Impianti a sesto regolare\",'3 - SPECIE DA IMPIANTARE'!$K24,0)","v":0},{"$f":"IF('3 - SPECIE DA IMPIANTARE'!$G24=\"Impianti a sesto regolare\",'3 - SPECIE DA IMPIANTARE'!$L24,0)","v":0},{"$f":"IF('3 - SPECIE DA IMPIANTARE'!$G24=\"Impianti a sesto regolare\",'3 - SPECIE DA IMPIANTARE'!$N24,0)","v":0},{"$f":"IF('3 - SPECIE DA IMPIANTARE'!$G24=\"Impianti a sesto regolare\",'3 - SPECIE DA IMPIANTARE'!$O24,0)","v":0},{"$f":"IF('3 - SPECIE DA IMPIANTARE'!$G24=\"Impianti a sesto regolare\",'3 - SPECIE DA IMPIANTARE'!$Q24,0)","v":0},{"$f":"IF('3 - SPECIE DA IMPIANTARE'!$G24=\"Impianti a sesto regolare\",'3 - SPECIE DA IMPIANTARE'!$R24,0)","v":0},{"$f":"IF('3 - SPECIE DA IMPIANTARE'!$G24=\"Impianti a sesto regolare\",'3 - SPECIE DA IMPIANTARE'!$T24,0)","v":0},{"$f":"IF('3 - SPECIE DA IMPIANTARE'!$G24=\"Impianti a sesto regolare\",'3 - SPECIE DA IMPIANTARE'!$U24,0)","v":0},{"$f":"IF('3 - SPECIE DA IMPIANTARE'!$G24=\"Impianti a sesto regolare\",'3 - SPECIE DA IMPIANTARE'!$W24,0)","v":0},{"$f":"IF('3 - SPECIE DA IMPIANTARE'!$G24=\"Impianti a sesto regolare\",'3 - SPECIE DA IMPIANTARE'!$X24,0)","v":0}]
[{"$f":"IF('3 - SPECIE DA IMPIANTARE'!G25=\"Impianti in ordine sparso\",'3 - SPECIE DA IMPIANTARE'!H25,0)","v":0},{"$f":"IF('3 - SPECIE DA IMPIANTARE'!$G25=\"Impianti in ordine sparso\",'3 - SPECIE DA IMPIANTARE'!I25,0)","v":0},{"$f":"IF('3 - SPECIE DA IMPIANTARE'!$G25=\"Impianti in ordine sparso\",'3 - SPECIE DA IMPIANTARE'!K25,0)","v":0},{"$f":"IF('3 - SPECIE DA IMPIANTARE'!$G25=\"Impianti in ordine sparso\",'3 - SPECIE DA IMPIANTARE'!L25,0)","v":0},{"$f":"IF('3 - SPECIE DA IMPIANTARE'!$G25=\"Impianti in ordine sparso\",'3 - SPECIE DA IMPIANTARE'!N25,0)","v":0},{"$f":"IF('3 - SPECIE DA IMPIANTARE'!$G25=\"Impianti in ordine sparso\",'3 - SPECIE DA IMPIANTARE'!O25,0)","v":0},{"$f":"IF('3 - SPECIE DA IMPIANTARE'!$G25=\"Impianti in ordine sparso\",'3 - SPECIE DA IMPIANTARE'!Q25,0)","v":0},{"$f":"IF('3 - SPECIE DA IMPIANTARE'!$G25=\"Impianti in ordine sparso\",'3 - SPECIE DA IMPIANTARE'!R25,0)","v":0},{"$f":"IF('3 - SPECIE DA IMPIANTARE'!$G25=\"Impianti in ordine sparso\",'3 - SPECIE DA IMPIANTARE'!T25,0)","v":0},{"$f":"IF('3 - SPECIE DA IMPIANTARE'!$G25=\"Impianti in ordine sparso\",'3 - SPECIE DA IMPIANTARE'!U25,0)","v":0},{"$f":"IF('3 - SPECIE DA IMPIANTARE'!$G25=\"Impianti in ordine sparso\",'3 - SPECIE DA IMPIANTARE'!W25,0)","v":0},{"$f":"IF('3 - SPECIE DA IMPIANTARE'!$G25=\"Impianti in ordine sparso\",'3 - SPECIE DA IMPIANTARE'!X25,0)","v":0},{"$f":"IF('3 - SPECIE DA IMPIANTARE'!$G25=\"Piantagioni lineari\",'3 - SPECIE DA IMPIANTARE'!H25,0)","v":0},{"$f":"IF('3 - SPECIE DA IMPIANTARE'!$G25=\"Piantagioni lineari\",'3 - SPECIE DA IMPIANTARE'!I25,0)","v":0},{"$f":"IF('3 - SPECIE DA IMPIANTARE'!$G25=\"Piantagioni lineari\",'3 - SPECIE DA IMPIANTARE'!K25,0)","v":0},{"$f":"IF('3 - SPECIE DA IMPIANTARE'!$G25=\"Piantagioni lineari\",'3 - SPECIE DA IMPIANTARE'!L25,0)","v":0},{"$f":"IF('3 - SPECIE DA IMPIANTARE'!$G25=\"Piantagioni lineari\",'3 - SPECIE DA IMPIANTARE'!N25,0)","v":0},{"$f":"IF('3 - SPECIE DA IMPIANTARE'!$G25=\"Piantagioni lineari\",'3 - SPECIE DA IMPIANTARE'!O25,0)","v":0},{"$f":"IF('3 - SPECIE DA IMPIANTARE'!$G25=\"Piantagioni lineari\",'3 - SPECIE DA IMPIANTARE'!Q25,0)","v":0},{"$f":"IF('3 - SPECIE DA IMPIANTARE'!$G25=\"Piantagioni lineari\",'3 - SPECIE DA IMPIANTARE'!R25,0)","v":0},{"$f":"IF('3 - SPECIE DA IMPIANTARE'!$G25=\"Piantagioni lineari\",'3 - SPECIE DA IMPIANTARE'!T25,0)","v":0},{"$f":"IF('3 - SPECIE DA IMPIANTARE'!$G25=\"Piantagioni lineari\",'3 - SPECIE DA IMPIANTARE'!U25,0)","v":0},{"$f":"IF('3 - SPECIE DA IMPIANTARE'!$G25=\"Piantagioni lineari\",'3 - SPECIE DA IMPIANTARE'!W25,0)","v":0},{"$f":"IF('3 - SPECIE DA IMPIANTARE'!$G25=\"Piantagioni lineari\",'3 - SPECIE DA IMPIANTARE'!X25,0)","v":0},{"$f":"IF('3 - SPECIE DA IMPIANTARE'!$G25=\"Impianti a sesto regolare\",'3 - SPECIE DA IMPIANTARE'!$H25,0)","v":0},{"$f":"IF('3 - SPECIE DA IMPIANTARE'!$G25=\"Impianti a sesto regolare\",'3 - SPECIE DA IMPIANTARE'!$I25,0)","v":0},{"$f":"IF('3 - SPECIE DA IMPIANTARE'!$G25=\"Impianti a sesto regolare\",'3 - SPECIE DA IMPIANTARE'!$K25,0)","v":0},{"$f":"IF('3 - SPECIE DA IMPIANTARE'!$G25=\"Impianti a sesto regolare\",'3 - SPECIE DA IMPIANTARE'!$L25,0)","v":0},{"$f":"IF('3 - SPECIE DA IMPIANTARE'!$G25=\"Impianti a sesto regolare\",'3 - SPECIE DA IMPIANTARE'!$N25,0)","v":0},{"$f":"IF('3 - SPECIE DA IMPIANTARE'!$G25=\"Impianti a sesto regolare\",'3 - SPECIE DA IMPIANTARE'!$O25,0)","v":0},{"$f":"IF('3 - SPECIE DA IMPIANTARE'!$G25=\"Impianti a sesto regolare\",'3 - SPECIE DA IMPIANTARE'!$Q25,0)","v":0},{"$f":"IF('3 - SPECIE DA IMPIANTARE'!$G25=\"Impianti a sesto regolare\",'3 - SPECIE DA IMPIANTARE'!$R25,0)","v":0},{"$f":"IF('3 - SPECIE DA IMPIANTARE'!$G25=\"Impianti a sesto regolare\",'3 - SPECIE DA IMPIANTARE'!$T25,0)","v":0},{"$f":"IF('3 - SPECIE DA IMPIANTARE'!$G25=\"Impianti a sesto regolare\",'3 - SPECIE DA IMPIANTARE'!$U25,0)","v":0},{"$f":"IF('3 - SPECIE DA IMPIANTARE'!$G25=\"Impianti a sesto regolare\",'3 - SPECIE DA IMPIANTARE'!$W25,0)","v":0},{"$f":"IF('3 - SPECIE DA IMPIANTARE'!$G25=\"Impianti a sesto regolare\",'3 - SPECIE DA IMPIANTARE'!$X25,0)","v":0}]
[{"$f":"IF('3 - SPECIE DA IMPIANTARE'!G26=\"Impianti in ordine sparso\",'3 - SPECIE DA IMPIANTARE'!H26,0)","v":0},{"$f":"IF('3 - SPECIE DA IMPIANTARE'!$G26=\"Impianti in ordine sparso\",'3 - SPECIE DA IMPIANTARE'!I26,0)","v":0},{"$f":"IF('3 - SPECIE DA IMPIANTARE'!$G26=\"Impianti in ordine sparso\",'3 - SPECIE DA IMPIANTARE'!K26,0)","v":0},{"$f":"IF('3 - SPECIE DA IMPIANTARE'!$G26=\"Impianti in ordine sparso\",'3 - SPECIE DA IMPIANTARE'!L26,0)","v":0},{"$f":"IF('3 - SPECIE DA IMPIANTARE'!$G26=\"Impianti in ordine sparso\",'3 - SPECIE DA IMPIANTARE'!N26,0)","v":0},{"$f":"IF('3 - SPECIE DA IMPIANTARE'!$G26=\"Impianti in ordine sparso\",'3 - SPECIE DA IMPIANTARE'!O26,0)","v":0},{"$f":"IF('3 - SPECIE DA IMPIANTARE'!$G26=\"Impianti in ordine sparso\",'3 - SPECIE DA IMPIANTARE'!Q26,0)","v":0},{"$f":"IF('3 - SPECIE DA IMPIANTARE'!$G26=\"Impianti in ordine sparso\",'3 - SPECIE DA IMPIANTARE'!R26,0)","v":0},{"$f":"IF('3 - SPECIE DA IMPIANTARE'!$G26=\"Impianti in ordine sparso\",'3 - SPECIE DA IMPIANTARE'!T26,0)","v":0},{"$f":"IF('3 - SPECIE DA IMPIANTARE'!$G26=\"Impianti in ordine sparso\",'3 - SPECIE DA IMPIANTARE'!U26,0)","v":0},{"$f":"IF('3 - SPECIE DA IMPIANTARE'!$G26=\"Impianti in ordine sparso\",'3 - SPECIE DA IMPIANTARE'!W26,0)","v":0},{"$f":"IF('3 - SPECIE DA IMPIANTARE'!$G26=\"Impianti in ordine sparso\",'3 - SPECIE DA IMPIANTARE'!X26,0)","v":0},{"$f":"IF('3 - SPECIE DA IMPIANTARE'!$G26=\"Piantagioni lineari\",'3 - SPECIE DA IMPIANTARE'!H26,0)","v":0},{"$f":"IF('3 - SPECIE DA IMPIANTARE'!$G26=\"Piantagioni lineari\",'3 - SPECIE DA IMPIANTARE'!I26,0)","v":0},{"$f":"IF('3 - SPECIE DA IMPIANTARE'!$G26=\"Piantagioni lineari\",'3 - SPECIE DA IMPIANTARE'!K26,0)","v":0},{"$f":"IF('3 - SPECIE DA IMPIANTARE'!$G26=\"Piantagioni lineari\",'3 - SPECIE DA IMPIANTARE'!L26,0)","v":0},{"$f":"IF('3 - SPECIE DA IMPIANTARE'!$G26=\"Piantagioni lineari\",'3 - SPECIE DA IMPIANTARE'!N26,0)","v":0},{"$f":"IF('3 - SPECIE DA IMPIANTARE'!$G26=\"Piantagioni lineari\",'3 - SPECIE DA IMPIANTARE'!O26,0)","v":0},{"$f":"IF('3 - SPECIE DA IMPIANTARE'!$G26=\"Piantagioni lineari\",'3 - SPECIE DA IMPIANTARE'!Q26,0)","v":0},{"$f":"IF('3 - SPECIE DA IMPIANTARE'!$G26=\"Piantagioni lineari\",'3 - SPECIE DA IMPIANTARE'!R26,0)","v":0},{"$f":"IF('3 - SPECIE DA IMPIANTARE'!$G26=\"Piantagioni lineari\",'3 - SPECIE DA IMPIANTARE'!T26,0)","v":0},{"$f":"IF('3 - SPECIE DA IMPIANTARE'!$G26=\"Piantagioni lineari\",'3 - SPECIE DA IMPIANTARE'!U26,0)","v":0},{"$f":"IF('3 - SPECIE DA IMPIANTARE'!$G26=\"Piantagioni lineari\",'3 - SPECIE DA IMPIANTARE'!W26,0)","v":0},{"$f":"IF('3 - SPECIE DA IMPIANTARE'!$G26=\"Piantagioni lineari\",'3 - SPECIE DA IMPIANTARE'!X26,0)","v":0},{"$f":"IF('3 - SPECIE DA IMPIANTARE'!$G26=\"Impianti a sesto regolare\",'3 - SPECIE DA IMPIANTARE'!$H26,0)","v":0},{"$f":"IF('3 - SPECIE DA IMPIANTARE'!$G26=\"Impianti a sesto regolare\",'3 - SPECIE DA IMPIANTARE'!$I26,0)","v":0},{"$f":"IF('3 - SPECIE DA IMPIANTARE'!$G26=\"Impianti a sesto regolare\",'3 - SPECIE DA IMPIANTARE'!$K26,0)","v":0},{"$f":"IF('3 - SPECIE DA IMPIANTARE'!$G26=\"Impianti a sesto regolare\",'3 - SPECIE DA IMPIANTARE'!$L26,0)","v":0},{"$f":"IF('3 - SPECIE DA IMPIANTARE'!$G26=\"Impianti a sesto regolare\",'3 - SPECIE DA IMPIANTARE'!$N26,0)","v":0},{"$f":"IF('3 - SPECIE DA IMPIANTARE'!$G26=\"Impianti a sesto regolare\",'3 - SPECIE DA IMPIANTARE'!$O26,0)","v":0},{"$f":"IF('3 - SPECIE DA IMPIANTARE'!$G26=\"Impianti a sesto regolare\",'3 - SPECIE DA IMPIANTARE'!$Q26,0)","v":0},{"$f":"IF('3 - SPECIE DA IMPIANTARE'!$G26=\"Impianti a sesto regolare\",'3 - SPECIE DA IMPIANTARE'!$R26,0)","v":0},{"$f":"IF('3 - SPECIE DA IMPIANTARE'!$G26=\"Impianti a sesto regolare\",'3 - SPECIE DA IMPIANTARE'!$T26,0)","v":0},{"$f":"IF('3 - SPECIE DA IMPIANTARE'!$G26=\"Impianti a sesto regolare\",'3 - SPECIE DA IMPIANTARE'!$U26,0)","v":0},{"$f":"IF('3 - SPECIE DA IMPIANTARE'!$G26=\"Impianti a sesto regolare\",'3 - SPECIE DA IMPIANTARE'!$W26,0)","v":0},{"$f":"IF('3 - SPECIE DA IMPIANTARE'!$G26=\"Impianti a sesto regolare\",'3 - SPECIE DA IMPIANTARE'!$X26,0)","v":0}]
[{"$f":"IF('3 - SPECIE DA IMPIANTARE'!G27=\"Impianti in ordine sparso\",'3 - SPECIE DA IMPIANTARE'!H27,0)","v":0},{"$f":"IF('3 - SPECIE DA IMPIANTARE'!$G27=\"Impianti in ordine sparso\",'3 - SPECIE DA IMPIANTARE'!I27,0)","v":0},{"$f":"IF('3 - SPECIE DA IMPIANTARE'!$G27=\"Impianti in ordine sparso\",'3 - SPECIE DA IMPIANTARE'!K27,0)","v":0},{"$f":"IF('3 - SPECIE DA IMPIANTARE'!$G27=\"Impianti in ordine sparso\",'3 - SPECIE DA IMPIANTARE'!L27,0)","v":0},{"$f":"IF('3 - SPECIE DA IMPIANTARE'!$G27=\"Impianti in ordine sparso\",'3 - SPECIE DA IMPIANTARE'!N27,0)","v":0},{"$f":"IF('3 - SPECIE DA IMPIANTARE'!$G27=\"Impianti in ordine sparso\",'3 - SPECIE DA IMPIANTARE'!O27,0)","v":0},{"$f":"IF('3 - SPECIE DA IMPIANTARE'!$G27=\"Impianti in ordine sparso\",'3 - SPECIE DA IMPIANTARE'!Q27,0)","v":0},{"$f":"IF('3 - SPECIE DA IMPIANTARE'!$G27=\"Impianti in ordine sparso\",'3 - SPECIE DA IMPIANTARE'!R27,0)","v":0},{"$f":"IF('3 - SPECIE DA IMPIANTARE'!$G27=\"Impianti in ordine sparso\",'3 - SPECIE DA IMPIANTARE'!T27,0)","v":0},{"$f":"IF('3 - SPECIE DA IMPIANTARE'!$G27=\"Impianti in ordine sparso\",'3 - SPECIE DA IMPIANTARE'!U27,0)","v":0},{"$f":"IF('3 - SPECIE DA IMPIANTARE'!$G27=\"Impianti in ordine sparso\",'3 - SPECIE DA IMPIANTARE'!W27,0)","v":0},{"$f":"IF('3 - SPECIE DA IMPIANTARE'!$G27=\"Impianti in ordine sparso\",'3 - SPECIE DA IMPIANTARE'!X27,0)","v":0},{"$f":"IF('3 - SPECIE DA IMPIANTARE'!$G27=\"Piantagioni lineari\",'3 - SPECIE DA IMPIANTARE'!H27,0)","v":0},{"$f":"IF('3 - SPECIE DA IMPIANTARE'!$G27=\"Piantagioni lineari\",'3 - SPECIE DA IMPIANTARE'!I27,0)","v":0},{"$f":"IF('3 - SPECIE DA IMPIANTARE'!$G27=\"Piantagioni lineari\",'3 - SPECIE DA IMPIANTARE'!K27,0)","v":0},{"$f":"IF('3 - SPECIE DA IMPIANTARE'!$G27=\"Piantagioni lineari\",'3 - SPECIE DA IMPIANTARE'!L27,0)","v":0},{"$f":"IF('3 - SPECIE DA IMPIANTARE'!$G27=\"Piantagioni lineari\",'3 - SPECIE DA IMPIANTARE'!N27,0)","v":0},{"$f":"IF('3 - SPECIE DA IMPIANTARE'!$G27=\"Piantagioni lineari\",'3 - SPECIE DA IMPIANTARE'!O27,0)","v":0},{"$f":"IF('3 - SPECIE DA IMPIANTARE'!$G27=\"Piantagioni lineari\",'3 - SPECIE DA IMPIANTARE'!Q27,0)","v":0},{"$f":"IF('3 - SPECIE DA IMPIANTARE'!$G27=\"Piantagioni lineari\",'3 - SPECIE DA IMPIANTARE'!R27,0)","v":0},{"$f":"IF('3 - SPECIE DA IMPIANTARE'!$G27=\"Piantagioni lineari\",'3 - SPECIE DA IMPIANTARE'!T27,0)","v":0},{"$f":"IF('3 - SPECIE DA IMPIANTARE'!$G27=\"Piantagioni lineari\",'3 - SPECIE DA IMPIANTARE'!U27,0)","v":0},{"$f":"IF('3 - SPECIE DA IMPIANTARE'!$G27=\"Piantagioni lineari\",'3 - SPECIE DA IMPIANTARE'!W27,0)","v":0},{"$f":"IF('3 - SPECIE DA IMPIANTARE'!$G27=\"Piantagioni lineari\",'3 - SPECIE DA IMPIANTARE'!X27,0)","v":0},{"$f":"IF('3 - SPECIE DA IMPIANTARE'!$G27=\"Impianti a sesto regolare\",'3 - SPECIE DA IMPIANTARE'!$H27,0)","v":0},{"$f":"IF('3 - SPECIE DA IMPIANTARE'!$G27=\"Impianti a sesto regolare\",'3 - SPECIE DA IMPIANTARE'!$I27,0)","v":0},{"$f":"IF('3 - SPECIE DA IMPIANTARE'!$G27=\"Impianti a sesto regolare\",'3 - SPECIE DA IMPIANTARE'!$K27,0)","v":0},{"$f":"IF('3 - SPECIE DA IMPIANTARE'!$G27=\"Impianti a sesto regolare\",'3 - SPECIE DA IMPIANTARE'!$L27,0)","v":0},{"$f":"IF('3 - SPECIE DA IMPIANTARE'!$G27=\"Impianti a sesto regolare\",'3 - SPECIE DA IMPIANTARE'!$N27,0)","v":0},{"$f":"IF('3 - SPECIE DA IMPIANTARE'!$G27=\"Impianti a sesto regolare\",'3 - SPECIE DA IMPIANTARE'!$O27,0)","v":0},{"$f":"IF('3 - SPECIE DA IMPIANTARE'!$G27=\"Impianti a sesto regolare\",'3 - SPECIE DA IMPIANTARE'!$Q27,0)","v":0},{"$f":"IF('3 - SPECIE DA IMPIANTARE'!$G27=\"Impianti a sesto regolare\",'3 - SPECIE DA IMPIANTARE'!$R27,0)","v":0},{"$f":"IF('3 - SPECIE DA IMPIANTARE'!$G27=\"Impianti a sesto regolare\",'3 - SPECIE DA IMPIANTARE'!$T27,0)","v":0},{"$f":"IF('3 - SPECIE DA IMPIANTARE'!$G27=\"Impianti a sesto regolare\",'3 - SPECIE DA IMPIANTARE'!$U27,0)","v":0},{"$f":"IF('3 - SPECIE DA IMPIANTARE'!$G27=\"Impianti a sesto regolare\",'3 - SPECIE DA IMPIANTARE'!$W27,0)","v":0},{"$f":"IF('3 - SPECIE DA IMPIANTARE'!$G27=\"Impianti a sesto regolare\",'3 - SPECIE DA IMPIANTARE'!$X27,0)","v":0}]
[{"$f":"IF('3 - SPECIE DA IMPIANTARE'!G28=\"Impianti in ordine sparso\",'3 - SPECIE DA IMPIANTARE'!H28,0)","v":0},{"$f":"IF('3 - SPECIE DA IMPIANTARE'!$G28=\"Impianti in ordine sparso\",'3 - SPECIE DA IMPIANTARE'!I28,0)","v":0},{"$f":"IF('3 - SPECIE DA IMPIANTARE'!$G28=\"Impianti in ordine sparso\",'3 - SPECIE DA IMPIANTARE'!K28,0)","v":0},{"$f":"IF('3 - SPECIE DA IMPIANTARE'!$G28=\"Impianti in ordine sparso\",'3 - SPECIE DA IMPIANTARE'!L28,0)","v":0},{"$f":"IF('3 - SPECIE DA IMPIANTARE'!$G28=\"Impianti in ordine sparso\",'3 - SPECIE DA IMPIANTARE'!N28,0)","v":0},{"$f":"IF('3 - SPECIE DA IMPIANTARE'!$G28=\"Impianti in ordine sparso\",'3 - SPECIE DA IMPIANTARE'!O28,0)","v":0},{"$f":"IF('3 - SPECIE DA IMPIANTARE'!$G28=\"Impianti in ordine sparso\",'3 - SPECIE DA IMPIANTARE'!Q28,0)","v":0},{"$f":"IF('3 - SPECIE DA IMPIANTARE'!$G28=\"Impianti in ordine sparso\",'3 - SPECIE DA IMPIANTARE'!R28,0)","v":0},{"$f":"IF('3 - SPECIE DA IMPIANTARE'!$G28=\"Impianti in ordine sparso\",'3 - SPECIE DA IMPIANTARE'!T28,0)","v":0},{"$f":"IF('3 - SPECIE DA IMPIANTARE'!$G28=\"Impianti in ordine sparso\",'3 - SPECIE DA IMPIANTARE'!U28,0)","v":0},{"$f":"IF('3 - SPECIE DA IMPIANTARE'!$G28=\"Impianti in ordine sparso\",'3 - SPECIE DA IMPIANTARE'!W28,0)","v":0},{"$f":"IF('3 - SPECIE DA IMPIANTARE'!$G28=\"Impianti in ordine sparso\",'3 - SPECIE DA IMPIANTARE'!X28,0)","v":0},{"$f":"IF('3 - SPECIE DA IMPIANTARE'!$G28=\"Piantagioni lineari\",'3 - SPECIE DA IMPIANTARE'!H28,0)","v":0},{"$f":"IF('3 - SPECIE DA IMPIANTARE'!$G28=\"Piantagioni lineari\",'3 - SPECIE DA IMPIANTARE'!I28,0)","v":0},{"$f":"IF('3 - SPECIE DA IMPIANTARE'!$G28=\"Piantagioni lineari\",'3 - SPECIE DA IMPIANTARE'!K28,0)","v":0},{"$f":"IF('3 - SPECIE DA IMPIANTARE'!$G28=\"Piantagioni lineari\",'3 - SPECIE DA IMPIANTARE'!L28,0)","v":0},{"$f":"IF('3 - SPECIE DA IMPIANTARE'!$G28=\"Piantagioni lineari\",'3 - SPECIE DA IMPIANTARE'!N28,0)","v":0},{"$f":"IF('3 - SPECIE DA IMPIANTARE'!$G28=\"Piantagioni lineari\",'3 - SPECIE DA IMPIANTARE'!O28,0)","v":0},{"$f":"IF('3 - SPECIE DA IMPIANTARE'!$G28=\"Piantagioni lineari\",'3 - SPECIE DA IMPIANTARE'!Q28,0)","v":0},{"$f":"IF('3 - SPECIE DA IMPIANTARE'!$G28=\"Piantagioni lineari\",'3 - SPECIE DA IMPIANTARE'!R28,0)","v":0},{"$f":"IF('3 - SPECIE DA IMPIANTARE'!$G28=\"Piantagioni lineari\",'3 - SPECIE DA IMPIANTARE'!T28,0)","v":0},{"$f":"IF('3 - SPECIE DA IMPIANTARE'!$G28=\"Piantagioni lineari\",'3 - SPECIE DA IMPIANTARE'!U28,0)","v":0},{"$f":"IF('3 - SPECIE DA IMPIANTARE'!$G28=\"Piantagioni lineari\",'3 - SPECIE DA IMPIANTARE'!W28,0)","v":0},{"$f":"IF('3 - SPECIE DA IMPIANTARE'!$G28=\"Piantagioni lineari\",'3 - SPECIE DA IMPIANTARE'!X28,0)","v":0},{"$f":"IF('3 - SPECIE DA IMPIANTARE'!$G28=\"Impianti a sesto regolare\",'3 - SPECIE DA IMPIANTARE'!$H28,0)","v":0},{"$f":"IF('3 - SPECIE DA IMPIANTARE'!$G28=\"Impianti a sesto regolare\",'3 - SPECIE DA IMPIANTARE'!$I28,0)","v":0},{"$f":"IF('3 - SPECIE DA IMPIANTARE'!$G28=\"Impianti a sesto regolare\",'3 - SPECIE DA IMPIANTARE'!$K28,0)","v":0},{"$f":"IF('3 - SPECIE DA IMPIANTARE'!$G28=\"Impianti a sesto regolare\",'3 - SPECIE DA IMPIANTARE'!$L28,0)","v":0},{"$f":"IF('3 - SPECIE DA IMPIANTARE'!$G28=\"Impianti a sesto regolare\",'3 - SPECIE DA IMPIANTARE'!$N28,0)","v":0},{"$f":"IF('3 - SPECIE DA IMPIANTARE'!$G28=\"Impianti a sesto regolare\",'3 - SPECIE DA IMPIANTARE'!$O28,0)","v":0},{"$f":"IF('3 - SPECIE DA IMPIANTARE'!$G28=\"Impianti a sesto regolare\",'3 - SPECIE DA IMPIANTARE'!$Q28,0)","v":0},{"$f":"IF('3 - SPECIE DA IMPIANTARE'!$G28=\"Impianti a sesto regolare\",'3 - SPECIE DA IMPIANTARE'!$R28,0)","v":0},{"$f":"IF('3 - SPECIE DA IMPIANTARE'!$G28=\"Impianti a sesto regolare\",'3 - SPECIE DA IMPIANTARE'!$T28,0)","v":0},{"$f":"IF('3 - SPECIE DA IMPIANTARE'!$G28=\"Impianti a sesto regolare\",'3 - SPECIE DA IMPIANTARE'!$U28,0)","v":0},{"$f":"IF('3 - SPECIE DA IMPIANTARE'!$G28=\"Impianti a sesto regolare\",'3 - SPECIE DA IMPIANTARE'!$W28,0)","v":0},{"$f":"IF('3 - SPECIE DA IMPIANTARE'!$G28=\"Impianti a sesto regolare\",'3 - SPECIE DA IMPIANTARE'!$X28,0)","v":0}]
[{"$f":"IF('3 - SPECIE DA IMPIANTARE'!G29=\"Impianti in ordine sparso\",'3 - SPECIE DA IMPIANTARE'!H29,0)","v":0},{"$f":"IF('3 - SPECIE DA IMPIANTARE'!$G29=\"Impianti in ordine sparso\",'3 - SPECIE DA IMPIANTARE'!I29,0)","v":0},{"$f":"IF('3 - SPECIE DA IMPIANTARE'!$G29=\"Impianti in ordine sparso\",'3 - SPECIE DA IMPIANTARE'!K29,0)","v":0},{"$f":"IF('3 - SPECIE DA IMPIANTARE'!$G29=\"Impianti in ordine sparso\",'3 - SPECIE DA IMPIANTARE'!L29,0)","v":0},{"$f":"IF('3 - SPECIE DA IMPIANTARE'!$G29=\"Impianti in ordine sparso\",'3 - SPECIE DA IMPIANTARE'!N29,0)","v":0},{"$f":"IF('3 - SPECIE DA IMPIANTARE'!$G29=\"Impianti in ordine sparso\",'3 - SPECIE DA IMPIANTARE'!O29,0)","v":0},{"$f":"IF('3 - SPECIE DA IMPIANTARE'!$G29=\"Impianti in ordine sparso\",'3 - SPECIE DA IMPIANTARE'!Q29,0)","v":0},{"$f":"IF('3 - SPECIE DA IMPIANTARE'!$G29=\"Impianti in ordine sparso\",'3 - SPECIE DA IMPIANTARE'!R29,0)","v":0},{"$f":"IF('3 - SPECIE DA IMPIANTARE'!$G29=\"Impianti in ordine sparso\",'3 - SPECIE DA IMPIANTARE'!T29,0)","v":0},{"$f":"IF('3 - SPECIE DA IMPIANTARE'!$G29=\"Impianti in ordine sparso\",'3 - SPECIE DA IMPIANTARE'!U29,0)","v":0},{"$f":"IF('3 - SPECIE DA IMPIANTARE'!$G29=\"Impianti in ordine sparso\",'3 - SPECIE DA IMPIANTARE'!W29,0)","v":0},{"$f":"IF('3 - SPECIE DA IMPIANTARE'!$G29=\"Impianti in ordine sparso\",'3 - SPECIE DA IMPIANTARE'!X29,0)","v":0},{"$f":"IF('3 - SPECIE DA IMPIANTARE'!$G29=\"Piantagioni lineari\",'3 - SPECIE DA IMPIANTARE'!H29,0)","v":0},{"$f":"IF('3 - SPECIE DA IMPIANTARE'!$G29=\"Piantagioni lineari\",'3 - SPECIE DA IMPIANTARE'!I29,0)","v":0},{"$f":"IF('3 - SPECIE DA IMPIANTARE'!$G29=\"Piantagioni lineari\",'3 - SPECIE DA IMPIANTARE'!K29,0)","v":0},{"$f":"IF('3 - SPECIE DA IMPIANTARE'!$G29=\"Piantagioni lineari\",'3 - SPECIE DA IMPIANTARE'!L29,0)","v":0},{"$f":"IF('3 - SPECIE DA IMPIANTARE'!$G29=\"Piantagioni lineari\",'3 - SPECIE DA IMPIANTARE'!N29,0)","v":0},{"$f":"IF('3 - SPECIE DA IMPIANTARE'!$G29=\"Piantagioni lineari\",'3 - SPECIE DA IMPIANTARE'!O29,0)","v":0},{"$f":"IF('3 - SPECIE DA IMPIANTARE'!$G29=\"Piantagioni lineari\",'3 - SPECIE DA IMPIANTARE'!Q29,0)","v":0},{"$f":"IF('3 - SPECIE DA IMPIANTARE'!$G29=\"Piantagioni lineari\",'3 - SPECIE DA IMPIANTARE'!R29,0)","v":0},{"$f":"IF('3 - SPECIE DA IMPIANTARE'!$G29=\"Piantagioni lineari\",'3 - SPECIE DA IMPIANTARE'!T29,0)","v":0},{"$f":"IF('3 - SPECIE DA IMPIANTARE'!$G29=\"Piantagioni lineari\",'3 - SPECIE DA IMPIANTARE'!U29,0)","v":0},{"$f":"IF('3 - SPECIE DA IMPIANTARE'!$G29=\"Piantagioni lineari\",'3 - SPECIE DA IMPIANTARE'!W29,0)","v":0},{"$f":"IF('3 - SPECIE DA IMPIANTARE'!$G29=\"Piantagioni lineari\",'3 - SPECIE DA IMPIANTARE'!X29,0)","v":0},{"$f":"IF('3 - SPECIE DA IMPIANTARE'!$G29=\"Impianti a sesto regolare\",'3 - SPECIE DA IMPIANTARE'!$H29,0)","v":0},{"$f":"IF('3 - SPECIE DA IMPIANTARE'!$G29=\"Impianti a sesto regolare\",'3 - SPECIE DA IMPIANTARE'!$I29,0)","v":0},{"$f":"IF('3 - SPECIE DA IMPIANTARE'!$G29=\"Impianti a sesto regolare\",'3 - SPECIE DA IMPIANTARE'!$K29,0)","v":0},{"$f":"IF('3 - SPECIE DA IMPIANTARE'!$G29=\"Impianti a sesto regolare\",'3 - SPECIE DA IMPIANTARE'!$L29,0)","v":0},{"$f":"IF('3 - SPECIE DA IMPIANTARE'!$G29=\"Impianti a sesto regolare\",'3 - SPECIE DA IMPIANTARE'!$N29,0)","v":0},{"$f":"IF('3 - SPECIE DA IMPIANTARE'!$G29=\"Impianti a sesto regolare\",'3 - SPECIE DA IMPIANTARE'!$O29,0)","v":0},{"$f":"IF('3 - SPECIE DA IMPIANTARE'!$G29=\"Impianti a sesto regolare\",'3 - SPECIE DA IMPIANTARE'!$Q29,0)","v":0},{"$f":"IF('3 - SPECIE DA IMPIANTARE'!$G29=\"Impianti a sesto regolare\",'3 - SPECIE DA IMPIANTARE'!$R29,0)","v":0},{"$f":"IF('3 - SPECIE DA IMPIANTARE'!$G29=\"Impianti a sesto regolare\",'3 - SPECIE DA IMPIANTARE'!$T29,0)","v":0},{"$f":"IF('3 - SPECIE DA IMPIANTARE'!$G29=\"Impianti a sesto regolare\",'3 - SPECIE DA IMPIANTARE'!$U29,0)","v":0},{"$f":"IF('3 - SPECIE DA IMPIANTARE'!$G29=\"Impianti a sesto regolare\",'3 - SPECIE DA IMPIANTARE'!$W29,0)","v":0},{"$f":"IF('3 - SPECIE DA IMPIANTARE'!$G29=\"Impianti a sesto regolare\",'3 - SPECIE DA IMPIANTARE'!$X29,0)","v":0}]
[{"$f":"IF('3 - SPECIE DA IMPIANTARE'!G30=\"Impianti in ordine sparso\",'3 - SPECIE DA IMPIANTARE'!H30,0)","v":0},{"$f":"IF('3 - SPECIE DA IMPIANTARE'!$G30=\"Impianti in ordine sparso\",'3 - SPECIE DA IMPIANTARE'!I30,0)","v":0},{"$f":"IF('3 - SPECIE DA IMPIANTARE'!$G30=\"Impianti in ordine sparso\",'3 - SPECIE DA IMPIANTARE'!K30,0)","v":0},{"$f":"IF('3 - SPECIE DA IMPIANTARE'!$G30=\"Impianti in ordine sparso\",'3 - SPECIE DA IMPIANTARE'!L30,0)","v":0},{"$f":"IF('3 - SPECIE DA IMPIANTARE'!$G30=\"Impianti in ordine sparso\",'3 - SPECIE DA IMPIANTARE'!N30,0)","v":0},{"$f":"IF('3 - SPECIE DA IMPIANTARE'!$G30=\"Impianti in ordine sparso\",'3 - SPECIE DA IMPIANTARE'!O30,0)","v":0},{"$f":"IF('3 - SPECIE DA IMPIANTARE'!$G30=\"Impianti in ordine sparso\",'3 - SPECIE DA IMPIANTARE'!Q30,0)","v":0},{"$f":"IF('3 - SPECIE DA IMPIANTARE'!$G30=\"Impianti in ordine sparso\",'3 - SPECIE DA IMPIANTARE'!R30,0)","v":0},{"$f":"IF('3 - SPECIE DA IMPIANTARE'!$G30=\"Impianti in ordine sparso\",'3 - SPECIE DA IMPIANTARE'!T30,0)","v":0},{"$f":"IF('3 - SPECIE DA IMPIANTARE'!$G30=\"Impianti in ordine sparso\",'3 - SPECIE DA IMPIANTARE'!U30,0)","v":0},{"$f":"IF('3 - SPECIE DA IMPIANTARE'!$G30=\"Impianti in ordine sparso\",'3 - SPECIE DA IMPIANTARE'!W30,0)","v":0},{"$f":"IF('3 - SPECIE DA IMPIANTARE'!$G30=\"Impianti in ordine sparso\",'3 - SPECIE DA IMPIANTARE'!X30,0)","v":0},{"$f":"IF('3 - SPECIE DA IMPIANTARE'!$G30=\"Piantagioni lineari\",'3 - SPECIE DA IMPIANTARE'!H30,0)","v":0},{"$f":"IF('3 - SPECIE DA IMPIANTARE'!$G30=\"Piantagioni lineari\",'3 - SPECIE DA IMPIANTARE'!I30,0)","v":0},{"$f":"IF('3 - SPECIE DA IMPIANTARE'!$G30=\"Piantagioni lineari\",'3 - SPECIE DA IMPIANTARE'!K30,0)","v":0},{"$f":"IF('3 - SPECIE DA IMPIANTARE'!$G30=\"Piantagioni lineari\",'3 - SPECIE DA IMPIANTARE'!L30,0)","v":0},{"$f":"IF('3 - SPECIE DA IMPIANTARE'!$G30=\"Piantagioni lineari\",'3 - SPECIE DA IMPIANTARE'!N30,0)","v":0},{"$f":"IF('3 - SPECIE DA IMPIANTARE'!$G30=\"Piantagioni lineari\",'3 - SPECIE DA IMPIANTARE'!O30,0)","v":0},{"$f":"IF('3 - SPECIE DA IMPIANTARE'!$G30=\"Piantagioni lineari\",'3 - SPECIE DA IMPIANTARE'!Q30,0)","v":0},{"$f":"IF('3 - SPECIE DA IMPIANTARE'!$G30=\"Piantagioni lineari\",'3 - SPECIE DA IMPIANTARE'!R30,0)","v":0},{"$f":"IF('3 - SPECIE DA IMPIANTARE'!$G30=\"Piantagioni lineari\",'3 - SPECIE DA IMPIANTARE'!T30,0)","v":0},{"$f":"IF('3 - SPECIE DA IMPIANTARE'!$G30=\"Piantagioni lineari\",'3 - SPECIE DA IMPIANTARE'!U30,0)","v":0},{"$f":"IF('3 - SPECIE DA IMPIANTARE'!$G30=\"Piantagioni lineari\",'3 - SPECIE DA IMPIANTARE'!W30,0)","v":0},{"$f":"IF('3 - SPECIE DA IMPIANTARE'!$G30=\"Piantagioni lineari\",'3 - SPECIE DA IMPIANTARE'!X30,0)","v":0},{"$f":"IF('3 - SPECIE DA IMPIANTARE'!$G30=\"Impianti a sesto regolare\",'3 - SPECIE DA IMPIANTARE'!$H30,0)","v":0},{"$f":"IF('3 - SPECIE DA IMPIANTARE'!$G30=\"Impianti a sesto regolare\",'3 - SPECIE DA IMPIANTARE'!$I30,0)","v":0},{"$f":"IF('3 - SPECIE DA IMPIANTARE'!$G30=\"Impianti a sesto regolare\",'3 - SPECIE DA IMPIANTARE'!$K30,0)","v":0},{"$f":"IF('3 - SPECIE DA IMPIANTARE'!$G30=\"Impianti a sesto regolare\",'3 - SPECIE DA IMPIANTARE'!$L30,0)","v":0},{"$f":"IF('3 - SPECIE DA IMPIANTARE'!$G30=\"Impianti a sesto regolare\",'3 - SPECIE DA IMPIANTARE'!$N30,0)","v":0},{"$f":"IF('3 - SPECIE DA IMPIANTARE'!$G30=\"Impianti a sesto regolare\",'3 - SPECIE DA IMPIANTARE'!$O30,0)","v":0},{"$f":"IF('3 - SPECIE DA IMPIANTARE'!$G30=\"Impianti a sesto regolare\",'3 - SPECIE DA IMPIANTARE'!$Q30,0)","v":0},{"$f":"IF('3 - SPECIE DA IMPIANTARE'!$G30=\"Impianti a sesto regolare\",'3 - SPECIE DA IMPIANTARE'!$R30,0)","v":0},{"$f":"IF('3 - SPECIE DA IMPIANTARE'!$G30=\"Impianti a sesto regolare\",'3 - SPECIE DA IMPIANTARE'!$T30,0)","v":0},{"$f":"IF('3 - SPECIE DA IMPIANTARE'!$G30=\"Impianti a sesto regolare\",'3 - SPECIE DA IMPIANTARE'!$U30,0)","v":0},{"$f":"IF('3 - SPECIE DA IMPIANTARE'!$G30=\"Impianti a sesto regolare\",'3 - SPECIE DA IMPIANTARE'!$W30,0)","v":0},{"$f":"IF('3 - SPECIE DA IMPIANTARE'!$G30=\"Impianti a sesto regolare\",'3 - SPECIE DA IMPIANTARE'!$X30,0)","v":0}]
[{"$f":"IF('3 - SPECIE DA IMPIANTARE'!G31=\"Impianti in ordine sparso\",'3 - SPECIE DA IMPIANTARE'!H31,0)","v":0},{"$f":"IF('3 - SPECIE DA IMPIANTARE'!$G31=\"Impianti in ordine sparso\",'3 - SPECIE DA IMPIANTARE'!I31,0)","v":0},{"$f":"IF('3 - SPECIE DA IMPIANTARE'!$G31=\"Impianti in ordine sparso\",'3 - SPECIE DA IMPIANTARE'!K31,0)","v":0},{"$f":"IF('3 - SPECIE DA IMPIANTARE'!$G31=\"Impianti in ordine sparso\",'3 - SPECIE DA IMPIANTARE'!L31,0)","v":0},{"$f":"IF('3 - SPECIE DA IMPIANTARE'!$G31=\"Impianti in ordine sparso\",'3 - SPECIE DA IMPIANTARE'!N31,0)","v":0},{"$f":"IF('3 - SPECIE DA IMPIANTARE'!$G31=\"Impianti in ordine sparso\",'3 - SPECIE DA IMPIANTARE'!O31,0)","v":0},{"$f":"IF('3 - SPECIE DA IMPIANTARE'!$G31=\"Impianti in ordine sparso\",'3 - SPECIE DA IMPIANTARE'!Q31,0)","v":0},{"$f":"IF('3 - SPECIE DA IMPIANTARE'!$G31=\"Impianti in ordine sparso\",'3 - SPECIE DA IMPIANTARE'!R31,0)","v":0},{"$f":"IF('3 - SPECIE DA IMPIANTARE'!$G31=\"Impianti in ordine sparso\",'3 - SPECIE DA IMPIANTARE'!T31,0)","v":0},{"$f":"IF('3 - SPECIE DA IMPIANTARE'!$G31=\"Impianti in ordine sparso\",'3 - SPECIE DA IMPIANTARE'!U31,0)","v":0},{"$f":"IF('3 - SPECIE DA IMPIANTARE'!$G31=\"Impianti in ordine sparso\",'3 - SPECIE DA IMPIANTARE'!W31,0)","v":0},{"$f":"IF('3 - SPECIE DA IMPIANTARE'!$G31=\"Impianti in ordine sparso\",'3 - SPECIE DA IMPIANTARE'!X31,0)","v":0},{"$f":"IF('3 - SPECIE DA IMPIANTARE'!$G31=\"Piantagioni lineari\",'3 - SPECIE DA IMPIANTARE'!H31,0)","v":0},{"$f":"IF('3 - SPECIE DA IMPIANTARE'!$G31=\"Piantagioni lineari\",'3 - SPECIE DA IMPIANTARE'!I31,0)","v":0},{"$f":"IF('3 - SPECIE DA IMPIANTARE'!$G31=\"Piantagioni lineari\",'3 - SPECIE DA IMPIANTARE'!K31,0)","v":0},{"$f":"IF('3 - SPECIE DA IMPIANTARE'!$G31=\"Piantagioni lineari\",'3 - SPECIE DA IMPIANTARE'!L31,0)","v":0},{"$f":"IF('3 - SPECIE DA IMPIANTARE'!$G31=\"Piantagioni lineari\",'3 - SPECIE DA IMPIANTARE'!N31,0)","v":0},{"$f":"IF('3 - SPECIE DA IMPIANTARE'!$G31=\"Piantagioni lineari\",'3 - SPECIE DA IMPIANTARE'!O31,0)","v":0},{"$f":"IF('3 - SPECIE DA IMPIANTARE'!$G31=\"Piantagioni lineari\",'3 - SPECIE DA IMPIANTARE'!Q31,0)","v":0},{"$f":"IF('3 - SPECIE DA IMPIANTARE'!$G31=\"Piantagioni lineari\",'3 - SPECIE DA IMPIANTARE'!R31,0)","v":0},{"$f":"IF('3 - SPECIE DA IMPIANTARE'!$G31=\"Piantagioni lineari\",'3 - SPECIE DA IMPIANTARE'!T31,0)","v":0},{"$f":"IF('3 - SPECIE DA IMPIANTARE'!$G31=\"Piantagioni lineari\",'3 - SPECIE DA IMPIANTARE'!U31,0)","v":0},{"$f":"IF('3 - SPECIE DA IMPIANTARE'!$G31=\"Piantagioni lineari\",'3 - SPECIE DA IMPIANTARE'!W31,0)","v":0},{"$f":"IF('3 - SPECIE DA IMPIANTARE'!$G31=\"Piantagioni lineari\",'3 - SPECIE DA IMPIANTARE'!X31,0)","v":0},{"$f":"IF('3 - SPECIE DA IMPIANTARE'!$G31=\"Impianti a sesto regolare\",'3 - SPECIE DA IMPIANTARE'!$H31,0)","v":0},{"$f":"IF('3 - SPECIE DA IMPIANTARE'!$G31=\"Impianti a sesto regolare\",'3 - SPECIE DA IMPIANTARE'!$I31,0)","v":0},{"$f":"IF('3 - SPECIE DA IMPIANTARE'!$G31=\"Impianti a sesto regolare\",'3 - SPECIE DA IMPIANTARE'!$K31,0)","v":0},{"$f":"IF('3 - SPECIE DA IMPIANTARE'!$G31=\"Impianti a sesto regolare\",'3 - SPECIE DA IMPIANTARE'!$L31,0)","v":0},{"$f":"IF('3 - SPECIE DA IMPIANTARE'!$G31=\"Impianti a sesto regolare\",'3 - SPECIE DA IMPIANTARE'!$N31,0)","v":0},{"$f":"IF('3 - SPECIE DA IMPIANTARE'!$G31=\"Impianti a sesto regolare\",'3 - SPECIE DA IMPIANTARE'!$O31,0)","v":0},{"$f":"IF('3 - SPECIE DA IMPIANTARE'!$G31=\"Impianti a sesto regolare\",'3 - SPECIE DA IMPIANTARE'!$Q31,0)","v":0},{"$f":"IF('3 - SPECIE DA IMPIANTARE'!$G31=\"Impianti a sesto regolare\",'3 - SPECIE DA IMPIANTARE'!$R31,0)","v":0},{"$f":"IF('3 - SPECIE DA IMPIANTARE'!$G31=\"Impianti a sesto regolare\",'3 - SPECIE DA IMPIANTARE'!$T31,0)","v":0},{"$f":"IF('3 - SPECIE DA IMPIANTARE'!$G31=\"Impianti a sesto regolare\",'3 - SPECIE DA IMPIANTARE'!$U31,0)","v":0},{"$f":"IF('3 - SPECIE DA IMPIANTARE'!$G31=\"Impianti a sesto regolare\",'3 - SPECIE DA IMPIANTARE'!$W31,0)","v":0},{"$f":"IF('3 - SPECIE DA IMPIANTARE'!$G31=\"Impianti a sesto regolare\",'3 - SPECIE DA IMPIANTARE'!$X31,0)","v":0}]
[{"$f":"IF('3 - SPECIE DA IMPIANTARE'!G32=\"Impianti in ordine sparso\",'3 - SPECIE DA IMPIANTARE'!H32,0)","v":0},{"$f":"IF('3 - SPECIE DA IMPIANTARE'!$G32=\"Impianti in ordine sparso\",'3 - SPECIE DA IMPIANTARE'!I32,0)","v":0},{"$f":"IF('3 - SPECIE DA IMPIANTARE'!$G32=\"Impianti in ordine sparso\",'3 - SPECIE DA IMPIANTARE'!K32,0)","v":0},{"$f":"IF('3 - SPECIE DA IMPIANTARE'!$G32=\"Impianti in ordine sparso\",'3 - SPECIE DA IMPIANTARE'!L32,0)","v":0},{"$f":"IF('3 - SPECIE DA IMPIANTARE'!$G32=\"Impianti in ordine sparso\",'3 - SPECIE DA IMPIANTARE'!N32,0)","v":0},{"$f":"IF('3 - SPECIE DA IMPIANTARE'!$G32=\"Impianti in ordine sparso\",'3 - SPECIE DA IMPIANTARE'!O32,0)","v":0},{"$f":"IF('3 - SPECIE DA IMPIANTARE'!$G32=\"Impianti in ordine sparso\",'3 - SPECIE DA IMPIANTARE'!Q32,0)","v":0},{"$f":"IF('3 - SPECIE DA IMPIANTARE'!$G32=\"Impianti in ordine sparso\",'3 - SPECIE DA IMPIANTARE'!R32,0)","v":0},{"$f":"IF('3 - SPECIE DA IMPIANTARE'!$G32=\"Impianti in ordine sparso\",'3 - SPECIE DA IMPIANTARE'!T32,0)","v":0},{"$f":"IF('3 - SPECIE DA IMPIANTARE'!$G32=\"Impianti in ordine sparso\",'3 - SPECIE DA IMPIANTARE'!U32,0)","v":0},{"$f":"IF('3 - SPECIE DA IMPIANTARE'!$G32=\"Impianti in ordine sparso\",'3 - SPECIE DA IMPIANTARE'!W32,0)","v":0},{"$f":"IF('3 - SPECIE DA IMPIANTARE'!$G32=\"Impianti in ordine sparso\",'3 - SPECIE DA IMPIANTARE'!X32,0)","v":0},{"$f":"IF('3 - SPECIE DA IMPIANTARE'!$G32=\"Piantagioni lineari\",'3 - SPECIE DA IMPIANTARE'!H32,0)","v":0},{"$f":"IF('3 - SPECIE DA IMPIANTARE'!$G32=\"Piantagioni lineari\",'3 - SPECIE DA IMPIANTARE'!I32,0)","v":0},{"$f":"IF('3 - SPECIE DA IMPIANTARE'!$G32=\"Piantagioni lineari\",'3 - SPECIE DA IMPIANTARE'!K32,0)","v":0},{"$f":"IF('3 - SPECIE DA IMPIANTARE'!$G32=\"Piantagioni lineari\",'3 - SPECIE DA IMPIANTARE'!L32,0)","v":0},{"$f":"IF('3 - SPECIE DA IMPIANTARE'!$G32=\"Piantagioni lineari\",'3 - SPECIE DA IMPIANTARE'!N32,0)","v":0},{"$f":"IF('3 - SPECIE DA IMPIANTARE'!$G32=\"Piantagioni lineari\",'3 - SPECIE DA IMPIANTARE'!O32,0)","v":0},{"$f":"IF('3 - SPECIE DA IMPIANTARE'!$G32=\"Piantagioni lineari\",'3 - SPECIE DA IMPIANTARE'!Q32,0)","v":0},{"$f":"IF('3 - SPECIE DA IMPIANTARE'!$G32=\"Piantagioni lineari\",'3 - SPECIE DA IMPIANTARE'!R32,0)","v":0},{"$f":"IF('3 - SPECIE DA IMPIANTARE'!$G32=\"Piantagioni lineari\",'3 - SPECIE DA IMPIANTARE'!T32,0)","v":0},{"$f":"IF('3 - SPECIE DA IMPIANTARE'!$G32=\"Piantagioni lineari\",'3 - SPECIE DA IMPIANTARE'!U32,0)","v":0},{"$f":"IF('3 - SPECIE DA IMPIANTARE'!$G32=\"Piantagioni lineari\",'3 - SPECIE DA IMPIANTARE'!W32,0)","v":0},{"$f":"IF('3 - SPECIE DA IMPIANTARE'!$G32=\"Piantagioni lineari\",'3 - SPECIE DA IMPIANTARE'!X32,0)","v":0},{"$f":"IF('3 - SPECIE DA IMPIANTARE'!$G32=\"Impianti a sesto regolare\",'3 - SPECIE DA IMPIANTARE'!$H32,0)","v":0},{"$f":"IF('3 - SPECIE DA IMPIANTARE'!$G32=\"Impianti a sesto regolare\",'3 - SPECIE DA IMPIANTARE'!$I32,0)","v":0},{"$f":"IF('3 - SPECIE DA IMPIANTARE'!$G32=\"Impianti a sesto regolare\",'3 - SPECIE DA IMPIANTARE'!$K32,0)","v":0},{"$f":"IF('3 - SPECIE DA IMPIANTARE'!$G32=\"Impianti a sesto regolare\",'3 - SPECIE DA IMPIANTARE'!$L32,0)","v":0},{"$f":"IF('3 - SPECIE DA IMPIANTARE'!$G32=\"Impianti a sesto regolare\",'3 - SPECIE DA IMPIANTARE'!$N32,0)","v":0},{"$f":"IF('3 - SPECIE DA IMPIANTARE'!$G32=\"Impianti a sesto regolare\",'3 - SPECIE DA IMPIANTARE'!$O32,0)","v":0},{"$f":"IF('3 - SPECIE DA IMPIANTARE'!$G32=\"Impianti a sesto regolare\",'3 - SPECIE DA IMPIANTARE'!$Q32,0)","v":0},{"$f":"IF('3 - SPECIE DA IMPIANTARE'!$G32=\"Impianti a sesto regolare\",'3 - SPECIE DA IMPIANTARE'!$R32,0)","v":0},{"$f":"IF('3 - SPECIE DA IMPIANTARE'!$G32=\"Impianti a sesto regolare\",'3 - SPECIE DA IMPIANTARE'!$T32,0)","v":0},{"$f":"IF('3 - SPECIE DA IMPIANTARE'!$G32=\"Impianti a sesto regolare\",'3 - SPECIE DA IMPIANTARE'!$U32,0)","v":0},{"$f":"IF('3 - SPECIE DA IMPIANTARE'!$G32=\"Impianti a sesto regolare\",'3 - SPECIE DA IMPIANTARE'!$W32,0)","v":0},{"$f":"IF('3 - SPECIE DA IMPIANTARE'!$G32=\"Impianti a sesto regolare\",'3 - SPECIE DA IMPIANTARE'!$X32,0)","v":0}]
[{"$f":"IF('3 - SPECIE DA IMPIANTARE'!G33=\"Impianti in ordine sparso\",'3 - SPECIE DA IMPIANTARE'!H33,0)","v":0},{"$f":"IF('3 - SPECIE DA IMPIANTARE'!$G33=\"Impianti in ordine sparso\",'3 - SPECIE DA IMPIANTARE'!I33,0)","v":0},{"$f":"IF('3 - SPECIE DA IMPIANTARE'!$G33=\"Impianti in ordine sparso\",'3 - SPECIE DA IMPIANTARE'!K33,0)","v":0},{"$f":"IF('3 - SPECIE DA IMPIANTARE'!$G33=\"Impianti in ordine sparso\",'3 - SPECIE DA IMPIANTARE'!L33,0)","v":0},{"$f":"IF('3 - SPECIE DA IMPIANTARE'!$G33=\"Impianti in ordine sparso\",'3 - SPECIE DA IMPIANTARE'!N33,0)","v":0},{"$f":"IF('3 - SPECIE DA IMPIANTARE'!$G33=\"Impianti in ordine sparso\",'3 - SPECIE DA IMPIANTARE'!O33,0)","v":0},{"$f":"IF('3 - SPECIE DA IMPIANTARE'!$G33=\"Impianti in ordine sparso\",'3 - SPECIE DA IMPIANTARE'!Q33,0)","v":0},{"$f":"IF('3 - SPECIE DA IMPIANTARE'!$G33=\"Impianti in ordine sparso\",'3 - SPECIE DA IMPIANTARE'!R33,0)","v":0},{"$f":"IF('3 - SPECIE DA IMPIANTARE'!$G33=\"Impianti in ordine sparso\",'3 - SPECIE DA IMPIANTARE'!T33,0)","v":0},{"$f":"IF('3 - SPECIE DA IMPIANTARE'!$G33=\"Impianti in ordine sparso\",'3 - SPECIE DA IMPIANTARE'!U33,0)","v":0},{"$f":"IF('3 - SPECIE DA IMPIANTARE'!$G33=\"Impianti in ordine sparso\",'3 - SPECIE DA IMPIANTARE'!W33,0)","v":0},{"$f":"IF('3 - SPECIE DA IMPIANTARE'!$G33=\"Impianti in ordine sparso\",'3 - SPECIE DA IMPIANTARE'!X33,0)","v":0},{"$f":"IF('3 - SPECIE DA IMPIANTARE'!$G33=\"Piantagioni lineari\",'3 - SPECIE DA IMPIANTARE'!H33,0)","v":0},{"$f":"IF('3 - SPECIE DA IMPIANTARE'!$G33=\"Piantagioni lineari\",'3 - SPECIE DA IMPIANTARE'!I33,0)","v":0},{"$f":"IF('3 - SPECIE DA IMPIANTARE'!$G33=\"Piantagioni lineari\",'3 - SPECIE DA IMPIANTARE'!K33,0)","v":0},{"$f":"IF('3 - SPECIE DA IMPIANTARE'!$G33=\"Piantagioni lineari\",'3 - SPECIE DA IMPIANTARE'!L33,0)","v":0},{"$f":"IF('3 - SPECIE DA IMPIANTARE'!$G33=\"Piantagioni lineari\",'3 - SPECIE DA IMPIANTARE'!N33,0)","v":0},{"$f":"IF('3 - SPECIE DA IMPIANTARE'!$G33=\"Piantagioni lineari\",'3 - SPECIE DA IMPIANTARE'!O33,0)","v":0},{"$f":"IF('3 - SPECIE DA IMPIANTARE'!$G33=\"Piantagioni lineari\",'3 - SPECIE DA IMPIANTARE'!Q33,0)","v":0},{"$f":"IF('3 - SPECIE DA IMPIANTARE'!$G33=\"Piantagioni lineari\",'3 - SPECIE DA IMPIANTARE'!R33,0)","v":0},{"$f":"IF('3 - SPECIE DA IMPIANTARE'!$G33=\"Piantagioni lineari\",'3 - SPECIE DA IMPIANTARE'!T33,0)","v":0},{"$f":"IF('3 - SPECIE DA IMPIANTARE'!$G33=\"Piantagioni lineari\",'3 - SPECIE DA IMPIANTARE'!U33,0)","v":0},{"$f":"IF('3 - SPECIE DA IMPIANTARE'!$G33=\"Piantagioni lineari\",'3 - SPECIE DA IMPIANTARE'!W33,0)","v":0},{"$f":"IF('3 - SPECIE DA IMPIANTARE'!$G33=\"Piantagioni lineari\",'3 - SPECIE DA IMPIANTARE'!X33,0)","v":0},{"$f":"IF('3 - SPECIE DA IMPIANTARE'!$G33=\"Impianti a sesto regolare\",'3 - SPECIE DA IMPIANTARE'!$H33,0)","v":0},{"$f":"IF('3 - SPECIE DA IMPIANTARE'!$G33=\"Impianti a sesto regolare\",'3 - SPECIE DA IMPIANTARE'!$I33,0)","v":0},{"$f":"IF('3 - SPECIE DA IMPIANTARE'!$G33=\"Impianti a sesto regolare\",'3 - SPECIE DA IMPIANTARE'!$K33,0)","v":0},{"$f":"IF('3 - SPECIE DA IMPIANTARE'!$G33=\"Impianti a sesto regolare\",'3 - SPECIE DA IMPIANTARE'!$L33,0)","v":0},{"$f":"IF('3 - SPECIE DA IMPIANTARE'!$G33=\"Impianti a sesto regolare\",'3 - SPECIE DA IMPIANTARE'!$N33,0)","v":0},{"$f":"IF('3 - SPECIE DA IMPIANTARE'!$G33=\"Impianti a sesto regolare\",'3 - SPECIE DA IMPIANTARE'!$O33,0)","v":0},{"$f":"IF('3 - SPECIE DA IMPIANTARE'!$G33=\"Impianti a sesto regolare\",'3 - SPECIE DA IMPIANTARE'!$Q33,0)","v":0},{"$f":"IF('3 - SPECIE DA IMPIANTARE'!$G33=\"Impianti a sesto regolare\",'3 - SPECIE DA IMPIANTARE'!$R33,0)","v":0},{"$f":"IF('3 - SPECIE DA IMPIANTARE'!$G33=\"Impianti a sesto regolare\",'3 - SPECIE DA IMPIANTARE'!$T33,0)","v":0},{"$f":"IF('3 - SPECIE DA IMPIANTARE'!$G33=\"Impianti a sesto regolare\",'3 - SPECIE DA IMPIANTARE'!$U33,0)","v":0},{"$f":"IF('3 - SPECIE DA IMPIANTARE'!$G33=\"Impianti a sesto regolare\",'3 - SPECIE DA IMPIANTARE'!$W33,0)","v":0},{"$f":"IF('3 - SPECIE DA IMPIANTARE'!$G33=\"Impianti a sesto regolare\",'3 - SPECIE DA IMPIANTARE'!$X33,0)","v":0}]
[{"$f":"IF('3 - SPECIE DA IMPIANTARE'!G34=\"Impianti in ordine sparso\",'3 - SPECIE DA IMPIANTARE'!H34,0)","v":0},{"$f":"IF('3 - SPECIE DA IMPIANTARE'!$G34=\"Impianti in ordine sparso\",'3 - SPECIE DA IMPIANTARE'!I34,0)","v":0},{"$f":"IF('3 - SPECIE DA IMPIANTARE'!$G34=\"Impianti in ordine sparso\",'3 - SPECIE DA IMPIANTARE'!K34,0)","v":0},{"$f":"IF('3 - SPECIE DA IMPIANTARE'!$G34=\"Impianti in ordine sparso\",'3 - SPECIE DA IMPIANTARE'!L34,0)","v":0},{"$f":"IF('3 - SPECIE DA IMPIANTARE'!$G34=\"Impianti in ordine sparso\",'3 - SPECIE DA IMPIANTARE'!N34,0)","v":0},{"$f":"IF('3 - SPECIE DA IMPIANTARE'!$G34=\"Impianti in ordine sparso\",'3 - SPECIE DA IMPIANTARE'!O34,0)","v":0},{"$f":"IF('3 - SPECIE DA IMPIANTARE'!$G34=\"Impianti in ordine sparso\",'3 - SPECIE DA IMPIANTARE'!Q34,0)","v":0},{"$f":"IF('3 - SPECIE DA IMPIANTARE'!$G34=\"Impianti in ordine sparso\",'3 - SPECIE DA IMPIANTARE'!R34,0)","v":0},{"$f":"IF('3 - SPECIE DA IMPIANTARE'!$G34=\"Impianti in ordine sparso\",'3 - SPECIE DA IMPIANTARE'!T34,0)","v":0},{"$f":"IF('3 - SPECIE DA IMPIANTARE'!$G34=\"Impianti in ordine sparso\",'3 - SPECIE DA IMPIANTARE'!U34,0)","v":0},{"$f":"IF('3 - SPECIE DA IMPIANTARE'!$G34=\"Impianti in ordine sparso\",'3 - SPECIE DA IMPIANTARE'!W34,0)","v":0},{"$f":"IF('3 - SPECIE DA IMPIANTARE'!$G34=\"Impianti in ordine sparso\",'3 - SPECIE DA IMPIANTARE'!X34,0)","v":0},{"$f":"IF('3 - SPECIE DA IMPIANTARE'!$G34=\"Piantagioni lineari\",'3 - SPECIE DA IMPIANTARE'!H34,0)","v":0},{"$f":"IF('3 - SPECIE DA IMPIANTARE'!$G34=\"Piantagioni lineari\",'3 - SPECIE DA IMPIANTARE'!I34,0)","v":0},{"$f":"IF('3 - SPECIE DA IMPIANTARE'!$G34=\"Piantagioni lineari\",'3 - SPECIE DA IMPIANTARE'!K34,0)","v":0},{"$f":"IF('3 - SPECIE DA IMPIANTARE'!$G34=\"Piantagioni lineari\",'3 - SPECIE DA IMPIANTARE'!L34,0)","v":0},{"$f":"IF('3 - SPECIE DA IMPIANTARE'!$G34=\"Piantagioni lineari\",'3 - SPECIE DA IMPIANTARE'!N34,0)","v":0},{"$f":"IF('3 - SPECIE DA IMPIANTARE'!$G34=\"Piantagioni lineari\",'3 - SPECIE DA IMPIANTARE'!O34,0)","v":0},{"$f":"IF('3 - SPECIE DA IMPIANTARE'!$G34=\"Piantagioni lineari\",'3 - SPECIE DA IMPIANTARE'!Q34,0)","v":0},{"$f":"IF('3 - SPECIE DA IMPIANTARE'!$G34=\"Piantagioni lineari\",'3 - SPECIE DA IMPIANTARE'!R34,0)","v":0},{"$f":"IF('3 - SPECIE DA IMPIANTARE'!$G34=\"Piantagioni lineari\",'3 - SPECIE DA IMPIANTARE'!T34,0)","v":0},{"$f":"IF('3 - SPECIE DA IMPIANTARE'!$G34=\"Piantagioni lineari\",'3 - SPECIE DA IMPIANTARE'!U34,0)","v":0},{"$f":"IF('3 - SPECIE DA IMPIANTARE'!$G34=\"Piantagioni lineari\",'3 - SPECIE DA IMPIANTARE'!W34,0)","v":0},{"$f":"IF('3 - SPECIE DA IMPIANTARE'!$G34=\"Piantagioni lineari\",'3 - SPECIE DA IMPIANTARE'!X34,0)","v":0},{"$f":"IF('3 - SPECIE DA IMPIANTARE'!$G34=\"Impianti a sesto regolare\",'3 - SPECIE DA IMPIANTARE'!$H34,0)","v":0},{"$f":"IF('3 - SPECIE DA IMPIANTARE'!$G34=\"Impianti a sesto regolare\",'3 - SPECIE DA IMPIANTARE'!$I34,0)","v":0},{"$f":"IF('3 - SPECIE DA IMPIANTARE'!$G34=\"Impianti a sesto regolare\",'3 - SPECIE DA IMPIANTARE'!$K34,0)","v":0},{"$f":"IF('3 - SPECIE DA IMPIANTARE'!$G34=\"Impianti a sesto regolare\",'3 - SPECIE DA IMPIANTARE'!$L34,0)","v":0},{"$f":"IF('3 - SPECIE DA IMPIANTARE'!$G34=\"Impianti a sesto regolare\",'3 - SPECIE DA IMPIANTARE'!$N34,0)","v":0},{"$f":"IF('3 - SPECIE DA IMPIANTARE'!$G34=\"Impianti a sesto regolare\",'3 - SPECIE DA IMPIANTARE'!$O34,0)","v":0},{"$f":"IF('3 - SPECIE DA IMPIANTARE'!$G34=\"Impianti a sesto regolare\",'3 - SPECIE DA IMPIANTARE'!$Q34,0)","v":0},{"$f":"IF('3 - SPECIE DA IMPIANTARE'!$G34=\"Impianti a sesto regolare\",'3 - SPECIE DA IMPIANTARE'!$R34,0)","v":0},{"$f":"IF('3 - SPECIE DA IMPIANTARE'!$G34=\"Impianti a sesto regolare\",'3 - SPECIE DA IMPIANTARE'!$T34,0)","v":0},{"$f":"IF('3 - SPECIE DA IMPIANTARE'!$G34=\"Impianti a sesto regolare\",'3 - SPECIE DA IMPIANTARE'!$U34,0)","v":0},{"$f":"IF('3 - SPECIE DA IMPIANTARE'!$G34=\"Impianti a sesto regolare\",'3 - SPECIE DA IMPIANTARE'!$W34,0)","v":0},{"$f":"IF('3 - SPECIE DA IMPIANTARE'!$G34=\"Impianti a sesto regolare\",'3 - SPECIE DA IMPIANTARE'!$X34,0)","v":0}]
[{"$f":"IF('3 - SPECIE DA IMPIANTARE'!G35=\"Impianti in ordine sparso\",'3 - SPECIE DA IMPIANTARE'!H35,0)","v":0},{"$f":"IF('3 - SPECIE DA IMPIANTARE'!$G35=\"Impianti in ordine sparso\",'3 - SPECIE DA IMPIANTARE'!I35,0)","v":0},{"$f":"IF('3 - SPECIE DA IMPIANTARE'!$G35=\"Impianti in ordine sparso\",'3 - SPECIE DA IMPIANTARE'!K35,0)","v":0},{"$f":"IF('3 - SPECIE DA IMPIANTARE'!$G35=\"Impianti in ordine sparso\",'3 - SPECIE DA IMPIANTARE'!L35,0)","v":0},{"$f":"IF('3 - SPECIE DA IMPIANTARE'!$G35=\"Impianti in ordine sparso\",'3 - SPECIE DA IMPIANTARE'!N35,0)","v":0},{"$f":"IF('3 - SPECIE DA IMPIANTARE'!$G35=\"Impianti in ordine sparso\",'3 - SPECIE DA IMPIANTARE'!O35,0)","v":0},{"$f":"IF('3 - SPECIE DA IMPIANTARE'!$G35=\"Impianti in ordine sparso\",'3 - SPECIE DA IMPIANTARE'!Q35,0)","v":0},{"$f":"IF('3 - SPECIE DA IMPIANTARE'!$G35=\"Impianti in ordine sparso\",'3 - SPECIE DA IMPIANTARE'!R35,0)","v":0},{"$f":"IF('3 - SPECIE DA IMPIANTARE'!$G35=\"Impianti in ordine sparso\",'3 - SPECIE DA IMPIANTARE'!T35,0)","v":0},{"$f":"IF('3 - SPECIE DA IMPIANTARE'!$G35=\"Impianti in ordine sparso\",'3 - SPECIE DA IMPIANTARE'!U35,0)","v":0},{"$f":"IF('3 - SPECIE DA IMPIANTARE'!$G35=\"Impianti in ordine sparso\",'3 - SPECIE DA IMPIANTARE'!W35,0)","v":0},{"$f":"IF('3 - SPECIE DA IMPIANTARE'!$G35=\"Impianti in ordine sparso\",'3 - SPECIE DA IMPIANTARE'!X35,0)","v":0},{"$f":"IF('3 - SPECIE DA IMPIANTARE'!$G35=\"Piantagioni lineari\",'3 - SPECIE DA IMPIANTARE'!H35,0)","v":0},{"$f":"IF('3 - SPECIE DA IMPIANTARE'!$G35=\"Piantagioni lineari\",'3 - SPECIE DA IMPIANTARE'!I35,0)","v":0},{"$f":"IF('3 - SPECIE DA IMPIANTARE'!$G35=\"Piantagioni lineari\",'3 - SPECIE DA IMPIANTARE'!K35,0)","v":0},{"$f":"IF('3 - SPECIE DA IMPIANTARE'!$G35=\"Piantagioni lineari\",'3 - SPECIE DA IMPIANTARE'!L35,0)","v":0},{"$f":"IF('3 - SPECIE DA IMPIANTARE'!$G35=\"Piantagioni lineari\",'3 - SPECIE DA IMPIANTARE'!N35,0)","v":0},{"$f":"IF('3 - SPECIE DA IMPIANTARE'!$G35=\"Piantagioni lineari\",'3 - SPECIE DA IMPIANTARE'!O35,0)","v":0},{"$f":"IF('3 - SPECIE DA IMPIANTARE'!$G35=\"Piantagioni lineari\",'3 - SPECIE DA IMPIANTARE'!Q35,0)","v":0},{"$f":"IF('3 - SPECIE DA IMPIANTARE'!$G35=\"Piantagioni lineari\",'3 - SPECIE DA IMPIANTARE'!R35,0)","v":0},{"$f":"IF('3 - SPECIE DA IMPIANTARE'!$G35=\"Piantagioni lineari\",'3 - SPECIE DA IMPIANTARE'!T35,0)","v":0},{"$f":"IF('3 - SPECIE DA IMPIANTARE'!$G35=\"Piantagioni lineari\",'3 - SPECIE DA IMPIANTARE'!U35,0)","v":0},{"$f":"IF('3 - SPECIE DA IMPIANTARE'!$G35=\"Piantagioni lineari\",'3 - SPECIE DA IMPIANTARE'!W35,0)","v":0},{"$f":"IF('3 - SPECIE DA IMPIANTARE'!$G35=\"Piantagioni lineari\",'3 - SPECIE DA IMPIANTARE'!X35,0)","v":0},{"$f":"IF('3 - SPECIE DA IMPIANTARE'!$G35=\"Impianti a sesto regolare\",'3 - SPECIE DA IMPIANTARE'!$H35,0)","v":0},{"$f":"IF('3 - SPECIE DA IMPIANTARE'!$G35=\"Impianti a sesto regolare\",'3 - SPECIE DA IMPIANTARE'!$I35,0)","v":0},{"$f":"IF('3 - SPECIE DA IMPIANTARE'!$G35=\"Impianti a sesto regolare\",'3 - SPECIE DA IMPIANTARE'!$K35,0)","v":0},{"$f":"IF('3 - SPECIE DA IMPIANTARE'!$G35=\"Impianti a sesto regolare\",'3 - SPECIE DA IMPIANTARE'!$L35,0)","v":0},{"$f":"IF('3 - SPECIE DA IMPIANTARE'!$G35=\"Impianti a sesto regolare\",'3 - SPECIE DA IMPIANTARE'!$N35,0)","v":0},{"$f":"IF('3 - SPECIE DA IMPIANTARE'!$G35=\"Impianti a sesto regolare\",'3 - SPECIE DA IMPIANTARE'!$O35,0)","v":0},{"$f":"IF('3 - SPECIE DA IMPIANTARE'!$G35=\"Impianti a sesto regolare\",'3 - SPECIE DA IMPIANTARE'!$Q35,0)","v":0},{"$f":"IF('3 - SPECIE DA IMPIANTARE'!$G35=\"Impianti a sesto regolare\",'3 - SPECIE DA IMPIANTARE'!$R35,0)","v":0},{"$f":"IF('3 - SPECIE DA IMPIANTARE'!$G35=\"Impianti a sesto regolare\",'3 - SPECIE DA IMPIANTARE'!$T35,0)","v":0},{"$f":"IF('3 - SPECIE DA IMPIANTARE'!$G35=\"Impianti a sesto regolare\",'3 - SPECIE DA IMPIANTARE'!$U35,0)","v":0},{"$f":"IF('3 - SPECIE DA IMPIANTARE'!$G35=\"Impianti a sesto regolare\",'3 - SPECIE DA IMPIANTARE'!$W35,0)","v":0},{"$f":"IF('3 - SPECIE DA IMPIANTARE'!$G35=\"Impianti a sesto regolare\",'3 - SPECIE DA IMPIANTARE'!$X35,0)","v":0}]
[{"$f":"IF('3 - SPECIE DA IMPIANTARE'!G36=\"Impianti in ordine sparso\",'3 - SPECIE DA IMPIANTARE'!H36,0)","v":0},{"$f":"IF('3 - SPECIE DA IMPIANTARE'!$G36=\"Impianti in ordine sparso\",'3 - SPECIE DA IMPIANTARE'!I36,0)","v":0},{"$f":"IF('3 - SPECIE DA IMPIANTARE'!$G36=\"Impianti in ordine sparso\",'3 - SPECIE DA IMPIANTARE'!K36,0)","v":0},{"$f":"IF('3 - SPECIE DA IMPIANTARE'!$G36=\"Impianti in ordine sparso\",'3 - SPECIE DA IMPIANTARE'!L36,0)","v":0},{"$f":"IF('3 - SPECIE DA IMPIANTARE'!$G36=\"Impianti in ordine sparso\",'3 - SPECIE DA IMPIANTARE'!N36,0)","v":0},{"$f":"IF('3 - SPECIE DA IMPIANTARE'!$G36=\"Impianti in ordine sparso\",'3 - SPECIE DA IMPIANTARE'!O36,0)","v":0},{"$f":"IF('3 - SPECIE DA IMPIANTARE'!$G36=\"Impianti in ordine sparso\",'3 - SPECIE DA IMPIANTARE'!Q36,0)","v":0},{"$f":"IF('3 - SPECIE DA IMPIANTARE'!$G36=\"Impianti in ordine sparso\",'3 - SPECIE DA IMPIANTARE'!R36,0)","v":0},{"$f":"IF('3 - SPECIE DA IMPIANTARE'!$G36=\"Impianti in ordine sparso\",'3 - SPECIE DA IMPIANTARE'!T36,0)","v":0},{"$f":"IF('3 - SPECIE DA IMPIANTARE'!$G36=\"Impianti in ordine sparso\",'3 - SPECIE DA IMPIANTARE'!U36,0)","v":0},{"$f":"IF('3 - SPECIE DA IMPIANTARE'!$G36=\"Impianti in ordine sparso\",'3 - SPECIE DA IMPIANTARE'!W36,0)","v":0},{"$f":"IF('3 - SPECIE DA IMPIANTARE'!$G36=\"Impianti in ordine sparso\",'3 - SPECIE DA IMPIANTARE'!X36,0)","v":0},{"$f":"IF('3 - SPECIE DA IMPIANTARE'!$G36=\"Piantagioni lineari\",'3 - SPECIE DA IMPIANTARE'!H36,0)","v":0},{"$f":"IF('3 - SPECIE DA IMPIANTARE'!$G36=\"Piantagioni lineari\",'3 - SPECIE DA IMPIANTARE'!I36,0)","v":0},{"$f":"IF('3 - SPECIE DA IMPIANTARE'!$G36=\"Piantagioni lineari\",'3 - SPECIE DA IMPIANTARE'!K36,0)","v":0},{"$f":"IF('3 - SPECIE DA IMPIANTARE'!$G36=\"Piantagioni lineari\",'3 - SPECIE DA IMPIANTARE'!L36,0)","v":0},{"$f":"IF('3 - SPECIE DA IMPIANTARE'!$G36=\"Piantagioni lineari\",'3 - SPECIE DA IMPIANTARE'!N36,0)","v":0},{"$f":"IF('3 - SPECIE DA IMPIANTARE'!$G36=\"Piantagioni lineari\",'3 - SPECIE DA IMPIANTARE'!O36,0)","v":0},{"$f":"IF('3 - SPECIE DA IMPIANTARE'!$G36=\"Piantagioni lineari\",'3 - SPECIE DA IMPIANTARE'!Q36,0)","v":0},{"$f":"IF('3 - SPECIE DA IMPIANTARE'!$G36=\"Piantagioni lineari\",'3 - SPECIE DA IMPIANTARE'!R36,0)","v":0},{"$f":"IF('3 - SPECIE DA IMPIANTARE'!$G36=\"Piantagioni lineari\",'3 - SPECIE DA IMPIANTARE'!T36,0)","v":0},{"$f":"IF('3 - SPECIE DA IMPIANTARE'!$G36=\"Piantagioni lineari\",'3 - SPECIE DA IMPIANTARE'!U36,0)","v":0},{"$f":"IF('3 - SPECIE DA IMPIANTARE'!$G36=\"Piantagioni lineari\",'3 - SPECIE DA IMPIANTARE'!W36,0)","v":0},{"$f":"IF('3 - SPECIE DA IMPIANTARE'!$G36=\"Piantagioni lineari\",'3 - SPECIE DA IMPIANTARE'!X36,0)","v":0},{"$f":"IF('3 - SPECIE DA IMPIANTARE'!$G36=\"Impianti a sesto regolare\",'3 - SPECIE DA IMPIANTARE'!$H36,0)","v":0},{"$f":"IF('3 - SPECIE DA IMPIANTARE'!$G36=\"Impianti a sesto regolare\",'3 - SPECIE DA IMPIANTARE'!$I36,0)","v":0},{"$f":"IF('3 - SPECIE DA IMPIANTARE'!$G36=\"Impianti a sesto regolare\",'3 - SPECIE DA IMPIANTARE'!$K36,0)","v":0},{"$f":"IF('3 - SPECIE DA IMPIANTARE'!$G36=\"Impianti a sesto regolare\",'3 - SPECIE DA IMPIANTARE'!$L36,0)","v":0},{"$f":"IF('3 - SPECIE DA IMPIANTARE'!$G36=\"Impianti a sesto regolare\",'3 - SPECIE DA IMPIANTARE'!$N36,0)","v":0},{"$f":"IF('3 - SPECIE DA IMPIANTARE'!$G36=\"Impianti a sesto regolare\",'3 - SPECIE DA IMPIANTARE'!$O36,0)","v":0},{"$f":"IF('3 - SPECIE DA IMPIANTARE'!$G36=\"Impianti a sesto regolare\",'3 - SPECIE DA IMPIANTARE'!$Q36,0)","v":0},{"$f":"IF('3 - SPECIE DA IMPIANTARE'!$G36=\"Impianti a sesto regolare\",'3 - SPECIE DA IMPIANTARE'!$R36,0)","v":0},{"$f":"IF('3 - SPECIE DA IMPIANTARE'!$G36=\"Impianti a sesto regolare\",'3 - SPECIE DA IMPIANTARE'!$T36,0)","v":0},{"$f":"IF('3 - SPECIE DA IMPIANTARE'!$G36=\"Impianti a sesto regolare\",'3 - SPECIE DA IMPIANTARE'!$U36,0)","v":0},{"$f":"IF('3 - SPECIE DA IMPIANTARE'!$G36=\"Impianti a sesto regolare\",'3 - SPECIE DA IMPIANTARE'!$W36,0)","v":0},{"$f":"IF('3 - SPECIE DA IMPIANTARE'!$G36=\"Impianti a sesto regolare\",'3 - SPECIE DA IMPIANTARE'!$X36,0)","v":0}]
[{"$f":"IF('3 - SPECIE DA IMPIANTARE'!G37=\"Impianti in ordine sparso\",'3 - SPECIE DA IMPIANTARE'!H37,0)","v":0},{"$f":"IF('3 - SPECIE DA IMPIANTARE'!$G37=\"Impianti in ordine sparso\",'3 - SPECIE DA IMPIANTARE'!I37,0)","v":0},{"$f":"IF('3 - SPECIE DA IMPIANTARE'!$G37=\"Impianti in ordine sparso\",'3 - SPECIE DA IMPIANTARE'!K37,0)","v":0},{"$f":"IF('3 - SPECIE DA IMPIANTARE'!$G37=\"Impianti in ordine sparso\",'3 - SPECIE DA IMPIANTARE'!L37,0)","v":0},{"$f":"IF('3 - SPECIE DA IMPIANTARE'!$G37=\"Impianti in ordine sparso\",'3 - SPECIE DA IMPIANTARE'!N37,0)","v":0},{"$f":"IF('3 - SPECIE DA IMPIANTARE'!$G37=\"Impianti in ordine sparso\",'3 - SPECIE DA IMPIANTARE'!O37,0)","v":0},{"$f":"IF('3 - SPECIE DA IMPIANTARE'!$G37=\"Impianti in ordine sparso\",'3 - SPECIE DA IMPIANTARE'!Q37,0)","v":0},{"$f":"IF('3 - SPECIE DA IMPIANTARE'!$G37=\"Impianti in ordine sparso\",'3 - SPECIE DA IMPIANTARE'!R37,0)","v":0},{"$f":"IF('3 - SPECIE DA IMPIANTARE'!$G37=\"Impianti in ordine sparso\",'3 - SPECIE DA IMPIANTARE'!T37,0)","v":0},{"$f":"IF('3 - SPECIE DA IMPIANTARE'!$G37=\"Impianti in ordine sparso\",'3 - SPECIE DA IMPIANTARE'!U37,0)","v":0},{"$f":"IF('3 - SPECIE DA IMPIANTARE'!$G37=\"Impianti in ordine sparso\",'3 - SPECIE DA IMPIANTARE'!W37,0)","v":0},{"$f":"IF('3 - SPECIE DA IMPIANTARE'!$G37=\"Impianti in ordine sparso\",'3 - SPECIE DA IMPIANTARE'!X37,0)","v":0},{"$f":"IF('3 - SPECIE DA IMPIANTARE'!$G37=\"Piantagioni lineari\",'3 - SPECIE DA IMPIANTARE'!H37,0)","v":0},{"$f":"IF('3 - SPECIE DA IMPIANTARE'!$G37=\"Piantagioni lineari\",'3 - SPECIE DA IMPIANTARE'!I37,0)","v":0},{"$f":"IF('3 - SPECIE DA IMPIANTARE'!$G37=\"Piantagioni lineari\",'3 - SPECIE DA IMPIANTARE'!K37,0)","v":0},{"$f":"IF('3 - SPECIE DA IMPIANTARE'!$G37=\"Piantagioni lineari\",'3 - SPECIE DA IMPIANTARE'!L37,0)","v":0},{"$f":"IF('3 - SPECIE DA IMPIANTARE'!$G37=\"Piantagioni lineari\",'3 - SPECIE DA IMPIANTARE'!N37,0)","v":0},{"$f":"IF('3 - SPECIE DA IMPIANTARE'!$G37=\"Piantagioni lineari\",'3 - SPECIE DA IMPIANTARE'!O37,0)","v":0},{"$f":"IF('3 - SPECIE DA IMPIANTARE'!$G37=\"Piantagioni lineari\",'3 - SPECIE DA IMPIANTARE'!Q37,0)","v":0},{"$f":"IF('3 - SPECIE DA IMPIANTARE'!$G37=\"Piantagioni lineari\",'3 - SPECIE DA IMPIANTARE'!R37,0)","v":0},{"$f":"IF('3 - SPECIE DA IMPIANTARE'!$G37=\"Piantagioni lineari\",'3 - SPECIE DA IMPIANTARE'!T37,0)","v":0},{"$f":"IF('3 - SPECIE DA IMPIANTARE'!$G37=\"Piantagioni lineari\",'3 - SPECIE DA IMPIANTARE'!U37,0)","v":0},{"$f":"IF('3 - SPECIE DA IMPIANTARE'!$G37=\"Piantagioni lineari\",'3 - SPECIE DA IMPIANTARE'!W37,0)","v":0},{"$f":"IF('3 - SPECIE DA IMPIANTARE'!$G37=\"Piantagioni lineari\",'3 - SPECIE DA IMPIANTARE'!X37,0)","v":0},{"$f":"IF('3 - SPECIE DA IMPIANTARE'!$G37=\"Impianti a sesto regolare\",'3 - SPECIE DA IMPIANTARE'!$H37,0)","v":0},{"$f":"IF('3 - SPECIE DA IMPIANTARE'!$G37=\"Impianti a sesto regolare\",'3 - SPECIE DA IMPIANTARE'!$I37,0)","v":0},{"$f":"IF('3 - SPECIE DA IMPIANTARE'!$G37=\"Impianti a sesto regolare\",'3 - SPECIE DA IMPIANTARE'!$K37,0)","v":0},{"$f":"IF('3 - SPECIE DA IMPIANTARE'!$G37=\"Impianti a sesto regolare\",'3 - SPECIE DA IMPIANTARE'!$L37,0)","v":0},{"$f":"IF('3 - SPECIE DA IMPIANTARE'!$G37=\"Impianti a sesto regolare\",'3 - SPECIE DA IMPIANTARE'!$N37,0)","v":0},{"$f":"IF('3 - SPECIE DA IMPIANTARE'!$G37=\"Impianti a sesto regolare\",'3 - SPECIE DA IMPIANTARE'!$O37,0)","v":0},{"$f":"IF('3 - SPECIE DA IMPIANTARE'!$G37=\"Impianti a sesto regolare\",'3 - SPECIE DA IMPIANTARE'!$Q37,0)","v":0},{"$f":"IF('3 - SPECIE DA IMPIANTARE'!$G37=\"Impianti a sesto regolare\",'3 - SPECIE DA IMPIANTARE'!$R37,0)","v":0},{"$f":"IF('3 - SPECIE DA IMPIANTARE'!$G37=\"Impianti a sesto regolare\",'3 - SPECIE DA IMPIANTARE'!$T37,0)","v":0},{"$f":"IF('3 - SPECIE DA IMPIANTARE'!$G37=\"Impianti a sesto regolare\",'3 - SPECIE DA IMPIANTARE'!$U37,0)","v":0},{"$f":"IF('3 - SPECIE DA IMPIANTARE'!$G37=\"Impianti a sesto regolare\",'3 - SPECIE DA IMPIANTARE'!$W37,0)","v":0},{"$f":"IF('3 - SPECIE DA IMPIANTARE'!$G37=\"Impianti a sesto regolare\",'3 - SPECIE DA IMPIANTARE'!$X37,0)","v":0}]
[{"$f":"IF('3 - SPECIE DA IMPIANTARE'!G38=\"Impianti in ordine sparso\",'3 - SPECIE DA IMPIANTARE'!H38,0)","v":0},{"$f":"IF('3 - SPECIE DA IMPIANTARE'!$G38=\"Impianti in ordine sparso\",'3 - SPECIE DA IMPIANTARE'!I38,0)","v":0},{"$f":"IF('3 - SPECIE DA IMPIANTARE'!$G38=\"Impianti in ordine sparso\",'3 - SPECIE DA IMPIANTARE'!K38,0)","v":0},{"$f":"IF('3 - SPECIE DA IMPIANTARE'!$G38=\"Impianti in ordine sparso\",'3 - SPECIE DA IMPIANTARE'!L38,0)","v":0},{"$f":"IF('3 - SPECIE DA IMPIANTARE'!$G38=\"Impianti in ordine sparso\",'3 - SPECIE DA IMPIANTARE'!N38,0)","v":0},{"$f":"IF('3 - SPECIE DA IMPIANTARE'!$G38=\"Impianti in ordine sparso\",'3 - SPECIE DA IMPIANTARE'!O38,0)","v":0},{"$f":"IF('3 - SPECIE DA IMPIANTARE'!$G38=\"Impianti in ordine sparso\",'3 - SPECIE DA IMPIANTARE'!Q38,0)","v":0},{"$f":"IF('3 - SPECIE DA IMPIANTARE'!$G38=\"Impianti in ordine sparso\",'3 - SPECIE DA IMPIANTARE'!R38,0)","v":0},{"$f":"IF('3 - SPECIE DA IMPIANTARE'!$G38=\"Impianti in ordine sparso\",'3 - SPECIE DA IMPIANTARE'!T38,0)","v":0},{"$f":"IF('3 - SPECIE DA IMPIANTARE'!$G38=\"Impianti in ordine sparso\",'3 - SPECIE DA IMPIANTARE'!U38,0)","v":0},{"$f":"IF('3 - SPECIE DA IMPIANTARE'!$G38=\"Impianti in ordine sparso\",'3 - SPECIE DA IMPIANTARE'!W38,0)","v":0},{"$f":"IF('3 - SPECIE DA IMPIANTARE'!$G38=\"Impianti in ordine sparso\",'3 - SPECIE DA IMPIANTARE'!X38,0)","v":0},{"$f":"IF('3 - SPECIE DA IMPIANTARE'!$G38=\"Piantagioni lineari\",'3 - SPECIE DA IMPIANTARE'!H38,0)","v":0},{"$f":"IF('3 - SPECIE DA IMPIANTARE'!$G38=\"Piantagioni lineari\",'3 - SPECIE DA IMPIANTARE'!I38,0)","v":0},{"$f":"IF('3 - SPECIE DA IMPIANTARE'!$G38=\"Piantagioni lineari\",'3 - SPECIE DA IMPIANTARE'!K38,0)","v":0},{"$f":"IF('3 - SPECIE DA IMPIANTARE'!$G38=\"Piantagioni lineari\",'3 - SPECIE DA IMPIANTARE'!L38,0)","v":0},{"$f":"IF('3 - SPECIE DA IMPIANTARE'!$G38=\"Piantagioni lineari\",'3 - SPECIE DA IMPIANTARE'!N38,0)","v":0},{"$f":"IF('3 - SPECIE DA IMPIANTARE'!$G38=\"Piantagioni lineari\",'3 - SPECIE DA IMPIANTARE'!O38,0)","v":0},{"$f":"IF('3 - SPECIE DA IMPIANTARE'!$G38=\"Piantagioni lineari\",'3 - SPECIE DA IMPIANTARE'!Q38,0)","v":0},{"$f":"IF('3 - SPECIE DA IMPIANTARE'!$G38=\"Piantagioni lineari\",'3 - SPECIE DA IMPIANTARE'!R38,0)","v":0},{"$f":"IF('3 - SPECIE DA IMPIANTARE'!$G38=\"Piantagioni lineari\",'3 - SPECIE DA IMPIANTARE'!T38,0)","v":0},{"$f":"IF('3 - SPECIE DA IMPIANTARE'!$G38=\"Piantagioni lineari\",'3 - SPECIE DA IMPIANTARE'!U38,0)","v":0},{"$f":"IF('3 - SPECIE DA IMPIANTARE'!$G38=\"Piantagioni lineari\",'3 - SPECIE DA IMPIANTARE'!W38,0)","v":0},{"$f":"IF('3 - SPECIE DA IMPIANTARE'!$G38=\"Piantagioni lineari\",'3 - SPECIE DA IMPIANTARE'!X38,0)","v":0},{"$f":"IF('3 - SPECIE DA IMPIANTARE'!$G38=\"Impianti a sesto regolare\",'3 - SPECIE DA IMPIANTARE'!$H38,0)","v":0},{"$f":"IF('3 - SPECIE DA IMPIANTARE'!$G38=\"Impianti a sesto regolare\",'3 - SPECIE DA IMPIANTARE'!$I38,0)","v":0},{"$f":"IF('3 - SPECIE DA IMPIANTARE'!$G38=\"Impianti a sesto regolare\",'3 - SPECIE DA IMPIANTARE'!$K38,0)","v":0},{"$f":"IF('3 - SPECIE DA IMPIANTARE'!$G38=\"Impianti a sesto regolare\",'3 - SPECIE DA IMPIANTARE'!$L38,0)","v":0},{"$f":"IF('3 - SPECIE DA IMPIANTARE'!$G38=\"Impianti a sesto regolare\",'3 - SPECIE DA IMPIANTARE'!$N38,0)","v":0},{"$f":"IF('3 - SPECIE DA IMPIANTARE'!$G38=\"Impianti a sesto regolare\",'3 - SPECIE DA IMPIANTARE'!$O38,0)","v":0},{"$f":"IF('3 - SPECIE DA IMPIANTARE'!$G38=\"Impianti a sesto regolare\",'3 - SPECIE DA IMPIANTARE'!$Q38,0)","v":0},{"$f":"IF('3 - SPECIE DA IMPIANTARE'!$G38=\"Impianti a sesto regolare\",'3 - SPECIE DA IMPIANTARE'!$R38,0)","v":0},{"$f":"IF('3 - SPECIE DA IMPIANTARE'!$G38=\"Impianti a sesto regolare\",'3 - SPECIE DA IMPIANTARE'!$T38,0)","v":0},{"$f":"IF('3 - SPECIE DA IMPIANTARE'!$G38=\"Impianti a sesto regolare\",'3 - SPECIE DA IMPIANTARE'!$U38,0)","v":0},{"$f":"IF('3 - SPECIE DA IMPIANTARE'!$G38=\"Impianti a sesto regolare\",'3 - SPECIE DA IMPIANTARE'!$W38,0)","v":0},{"$f":"IF('3 - SPECIE DA IMPIANTARE'!$G38=\"Impianti a sesto regolare\",'3 - SPECIE DA IMPIANTARE'!$X38,0)","v":0}]
[{"$f":"IF('3 - SPECIE DA IMPIANTARE'!G39=\"Impianti in ordine sparso\",'3 - SPECIE DA IMPIANTARE'!H39,0)","v":0},{"$f":"IF('3 - SPECIE DA IMPIANTARE'!$G39=\"Impianti in ordine sparso\",'3 - SPECIE DA IMPIANTARE'!I39,0)","v":0},{"$f":"IF('3 - SPECIE DA IMPIANTARE'!$G39=\"Impianti in ordine sparso\",'3 - SPECIE DA IMPIANTARE'!K39,0)","v":0},{"$f":"IF('3 - SPECIE DA IMPIANTARE'!$G39=\"Impianti in ordine sparso\",'3 - SPECIE DA IMPIANTARE'!L39,0)","v":0},{"$f":"IF('3 - SPECIE DA IMPIANTARE'!$G39=\"Impianti in ordine sparso\",'3 - SPECIE DA IMPIANTARE'!N39,0)","v":0},{"$f":"IF('3 - SPECIE DA IMPIANTARE'!$G39=\"Impianti in ordine sparso\",'3 - SPECIE DA IMPIANTARE'!O39,0)","v":0},{"$f":"IF('3 - SPECIE DA IMPIANTARE'!$G39=\"Impianti in ordine sparso\",'3 - SPECIE DA IMPIANTARE'!Q39,0)","v":0},{"$f":"IF('3 - SPECIE DA IMPIANTARE'!$G39=\"Impianti in ordine sparso\",'3 - SPECIE DA IMPIANTARE'!R39,0)","v":0},{"$f":"IF('3 - SPECIE DA IMPIANTARE'!$G39=\"Impianti in ordine sparso\",'3 - SPECIE DA IMPIANTARE'!T39,0)","v":0},{"$f":"IF('3 - SPECIE DA IMPIANTARE'!$G39=\"Impianti in ordine sparso\",'3 - SPECIE DA IMPIANTARE'!U39,0)","v":0},{"$f":"IF('3 - SPECIE DA IMPIANTARE'!$G39=\"Impianti in ordine sparso\",'3 - SPECIE DA IMPIANTARE'!W39,0)","v":0},{"$f":"IF('3 - SPECIE DA IMPIANTARE'!$G39=\"Impianti in ordine sparso\",'3 - SPECIE DA IMPIANTARE'!X39,0)","v":0},{"$f":"IF('3 - SPECIE DA IMPIANTARE'!$G39=\"Piantagioni lineari\",'3 - SPECIE DA IMPIANTARE'!H39,0)","v":0},{"$f":"IF('3 - SPECIE DA IMPIANTARE'!$G39=\"Piantagioni lineari\",'3 - SPECIE DA IMPIANTARE'!I39,0)","v":0},{"$f":"IF('3 - SPECIE DA IMPIANTARE'!$G39=\"Piantagioni lineari\",'3 - SPECIE DA IMPIANTARE'!K39,0)","v":0},{"$f":"IF('3 - SPECIE DA IMPIANTARE'!$G39=\"Piantagioni lineari\",'3 - SPECIE DA IMPIANTARE'!L39,0)","v":0},{"$f":"IF('3 - SPECIE DA IMPIANTARE'!$G39=\"Piantagioni lineari\",'3 - SPECIE DA IMPIANTARE'!N39,0)","v":0},{"$f":"IF('3 - SPECIE DA IMPIANTARE'!$G39=\"Piantagioni lineari\",'3 - SPECIE DA IMPIANTARE'!O39,0)","v":0},{"$f":"IF('3 - SPECIE DA IMPIANTARE'!$G39=\"Piantagioni lineari\",'3 - SPECIE DA IMPIANTARE'!Q39,0)","v":0},{"$f":"IF('3 - SPECIE DA IMPIANTARE'!$G39=\"Piantagioni lineari\",'3 - SPECIE DA IMPIANTARE'!R39,0)","v":0},{"$f":"IF('3 - SPECIE DA IMPIANTARE'!$G39=\"Piantagioni lineari\",'3 - SPECIE DA IMPIANTARE'!T39,0)","v":0},{"$f":"IF('3 - SPECIE DA IMPIANTARE'!$G39=\"Piantagioni lineari\",'3 - SPECIE DA IMPIANTARE'!U39,0)","v":0},{"$f":"IF('3 - SPECIE DA IMPIANTARE'!$G39=\"Piantagioni lineari\",'3 - SPECIE DA IMPIANTARE'!W39,0)","v":0},{"$f":"IF('3 - SPECIE DA IMPIANTARE'!$G39=\"Piantagioni lineari\",'3 - SPECIE DA IMPIANTARE'!X39,0)","v":0},{"$f":"IF('3 - SPECIE DA IMPIANTARE'!$G39=\"Impianti a sesto regolare\",'3 - SPECIE DA IMPIANTARE'!$H39,0)","v":0},{"$f":"IF('3 - SPECIE DA IMPIANTARE'!$G39=\"Impianti a sesto regolare\",'3 - SPECIE DA IMPIANTARE'!$I39,0)","v":0},{"$f":"IF('3 - SPECIE DA IMPIANTARE'!$G39=\"Impianti a sesto regolare\",'3 - SPECIE DA IMPIANTARE'!$K39,0)","v":0},{"$f":"IF('3 - SPECIE DA IMPIANTARE'!$G39=\"Impianti a sesto regolare\",'3 - SPECIE DA IMPIANTARE'!$L39,0)","v":0},{"$f":"IF('3 - SPECIE DA IMPIANTARE'!$G39=\"Impianti a sesto regolare\",'3 - SPECIE DA IMPIANTARE'!$N39,0)","v":0},{"$f":"IF('3 - SPECIE DA IMPIANTARE'!$G39=\"Impianti a sesto regolare\",'3 - SPECIE DA IMPIANTARE'!$O39,0)","v":0},{"$f":"IF('3 - SPECIE DA IMPIANTARE'!$G39=\"Impianti a sesto regolare\",'3 - SPECIE DA IMPIANTARE'!$Q39,0)","v":0},{"$f":"IF('3 - SPECIE DA IMPIANTARE'!$G39=\"Impianti a sesto regolare\",'3 - SPECIE DA IMPIANTARE'!$R39,0)","v":0},{"$f":"IF('3 - SPECIE DA IMPIANTARE'!$G39=\"Impianti a sesto regolare\",'3 - SPECIE DA IMPIANTARE'!$T39,0)","v":0},{"$f":"IF('3 - SPECIE DA IMPIANTARE'!$G39=\"Impianti a sesto regolare\",'3 - SPECIE DA IMPIANTARE'!$U39,0)","v":0},{"$f":"IF('3 - SPECIE DA IMPIANTARE'!$G39=\"Impianti a sesto regolare\",'3 - SPECIE DA IMPIANTARE'!$W39,0)","v":0},{"$f":"IF('3 - SPECIE DA IMPIANTARE'!$G39=\"Impianti a sesto regolare\",'3 - SPECIE DA IMPIANTARE'!$X39,0)","v":0}]
[{"$f":"IF('3 - SPECIE DA IMPIANTARE'!G40=\"Impianti in ordine sparso\",'3 - SPECIE DA IMPIANTARE'!H40,0)","v":0},{"$f":"IF('3 - SPECIE DA IMPIANTARE'!$G40=\"Impianti in ordine sparso\",'3 - SPECIE DA IMPIANTARE'!I40,0)","v":0},{"$f":"IF('3 - SPECIE DA IMPIANTARE'!$G40=\"Impianti in ordine sparso\",'3 - SPECIE DA IMPIANTARE'!K40,0)","v":0},{"$f":"IF('3 - SPECIE DA IMPIANTARE'!$G40=\"Impianti in ordine sparso\",'3 - SPECIE DA IMPIANTARE'!L40,0)","v":0},{"$f":"IF('3 - SPECIE DA IMPIANTARE'!$G40=\"Impianti in ordine sparso\",'3 - SPECIE DA IMPIANTARE'!N40,0)","v":0},{"$f":"IF('3 - SPECIE DA IMPIANTARE'!$G40=\"Impianti in ordine sparso\",'3 - SPECIE DA IMPIANTARE'!O40,0)","v":0},{"$f":"IF('3 - SPECIE DA IMPIANTARE'!$G40=\"Impianti in ordine sparso\",'3 - SPECIE DA IMPIANTARE'!Q40,0)","v":0},{"$f":"IF('3 - SPECIE DA IMPIANTARE'!$G40=\"Impianti in ordine sparso\",'3 - SPECIE DA IMPIANTARE'!R40,0)","v":0},{"$f":"IF('3 - SPECIE DA IMPIANTARE'!$G40=\"Impianti in ordine sparso\",'3 - SPECIE DA IMPIANTARE'!T40,0)","v":0},{"$f":"IF('3 - SPECIE DA IMPIANTARE'!$G40=\"Impianti in ordine sparso\",'3 - SPECIE DA IMPIANTARE'!U40,0)","v":0},{"$f":"IF('3 - SPECIE DA IMPIANTARE'!$G40=\"Impianti in ordine sparso\",'3 - SPECIE DA IMPIANTARE'!W40,0)","v":0},{"$f":"IF('3 - SPECIE DA IMPIANTARE'!$G40=\"Impianti in ordine sparso\",'3 - SPECIE DA IMPIANTARE'!X40,0)","v":0},{"$f":"IF('3 - SPECIE DA IMPIANTARE'!$G40=\"Piantagioni lineari\",'3 - SPECIE DA IMPIANTARE'!H40,0)","v":0},{"$f":"IF('3 - SPECIE DA IMPIANTARE'!$G40=\"Piantagioni lineari\",'3 - SPECIE DA IMPIANTARE'!I40,0)","v":0},{"$f":"IF('3 - SPECIE DA IMPIANTARE'!$G40=\"Piantagioni lineari\",'3 - SPECIE DA IMPIANTARE'!K40,0)","v":0},{"$f":"IF('3 - SPECIE DA IMPIANTARE'!$G40=\"Piantagioni lineari\",'3 - SPECIE DA IMPIANTARE'!L40,0)","v":0},{"$f":"IF('3 - SPECIE DA IMPIANTARE'!$G40=\"Piantagioni lineari\",'3 - SPECIE DA IMPIANTARE'!N40,0)","v":0},{"$f":"IF('3 - SPECIE DA IMPIANTARE'!$G40=\"Piantagioni lineari\",'3 - SPECIE DA IMPIANTARE'!O40,0)","v":0},{"$f":"IF('3 - SPECIE DA IMPIANTARE'!$G40=\"Piantagioni lineari\",'3 - SPECIE DA IMPIANTARE'!Q40,0)","v":0},{"$f":"IF('3 - SPECIE DA IMPIANTARE'!$G40=\"Piantagioni lineari\",'3 - SPECIE DA IMPIANTARE'!R40,0)","v":0},{"$f":"IF('3 - SPECIE DA IMPIANTARE'!$G40=\"Piantagioni lineari\",'3 - SPECIE DA IMPIANTARE'!T40,0)","v":0},{"$f":"IF('3 - SPECIE DA IMPIANTARE'!$G40=\"Piantagioni lineari\",'3 - SPECIE DA IMPIANTARE'!U40,0)","v":0},{"$f":"IF('3 - SPECIE DA IMPIANTARE'!$G40=\"Piantagioni lineari\",'3 - SPECIE DA IMPIANTARE'!W40,0)","v":0},{"$f":"IF('3 - SPECIE DA IMPIANTARE'!$G40=\"Piantagioni lineari\",'3 - SPECIE DA IMPIANTARE'!X40,0)","v":0},{"$f":"IF('3 - SPECIE DA IMPIANTARE'!$G40=\"Impianti a sesto regolare\",'3 - SPECIE DA IMPIANTARE'!$H40,0)","v":0},{"$f":"IF('3 - SPECIE DA IMPIANTARE'!$G40=\"Impianti a sesto regolare\",'3 - SPECIE DA IMPIANTARE'!$I40,0)","v":0},{"$f":"IF('3 - SPECIE DA IMPIANTARE'!$G40=\"Impianti a sesto regolare\",'3 - SPECIE DA IMPIANTARE'!$K40,0)","v":0},{"$f":"IF('3 - SPECIE DA IMPIANTARE'!$G40=\"Impianti a sesto regolare\",'3 - SPECIE DA IMPIANTARE'!$L40,0)","v":0},{"$f":"IF('3 - SPECIE DA IMPIANTARE'!$G40=\"Impianti a sesto regolare\",'3 - SPECIE DA IMPIANTARE'!$N40,0)","v":0},{"$f":"IF('3 - SPECIE DA IMPIANTARE'!$G40=\"Impianti a sesto regolare\",'3 - SPECIE DA IMPIANTARE'!$O40,0)","v":0},{"$f":"IF('3 - SPECIE DA IMPIANTARE'!$G40=\"Impianti a sesto regolare\",'3 - SPECIE DA IMPIANTARE'!$Q40,0)","v":0},{"$f":"IF('3 - SPECIE DA IMPIANTARE'!$G40=\"Impianti a sesto regolare\",'3 - SPECIE DA IMPIANTARE'!$R40,0)","v":0},{"$f":"IF('3 - SPECIE DA IMPIANTARE'!$G40=\"Impianti a sesto regolare\",'3 - SPECIE DA IMPIANTARE'!$T40,0)","v":0},{"$f":"IF('3 - SPECIE DA IMPIANTARE'!$G40=\"Impianti a sesto regolare\",'3 - SPECIE DA IMPIANTARE'!$U40,0)","v":0},{"$f":"IF('3 - SPECIE DA IMPIANTARE'!$G40=\"Impianti a sesto regolare\",'3 - SPECIE DA IMPIANTARE'!$W40,0)","v":0},{"$f":"IF('3 - SPECIE DA IMPIANTARE'!$G40=\"Impianti a sesto regolare\",'3 - SPECIE DA IMPIANTARE'!$X40,0)","v":0}]
[{"$f":"IF('3 - SPECIE DA IMPIANTARE'!G41=\"Impianti in ordine sparso\",'3 - SPECIE DA IMPIANTARE'!H41,0)","v":0},{"$f":"IF('3 - SPECIE DA IMPIANTARE'!$G41=\"Impianti in ordine sparso\",'3 - SPECIE DA IMPIANTARE'!I41,0)","v":0},{"$f":"IF('3 - SPECIE DA IMPIANTARE'!$G41=\"Impianti in ordine sparso\",'3 - SPECIE DA IMPIANTARE'!K41,0)","v":0},{"$f":"IF('3 - SPECIE DA IMPIANTARE'!$G41=\"Impianti in ordine sparso\",'3 - SPECIE DA IMPIANTARE'!L41,0)","v":0},{"$f":"IF('3 - SPECIE DA IMPIANTARE'!$G41=\"Impianti in ordine sparso\",'3 - SPECIE DA IMPIANTARE'!N41,0)","v":0},{"$f":"IF('3 - SPECIE DA IMPIANTARE'!$G41=\"Impianti in ordine sparso\",'3 - SPECIE DA IMPIANTARE'!O41,0)","v":0},{"$f":"IF('3 - SPECIE DA IMPIANTARE'!$G41=\"Impianti in ordine sparso\",'3 - SPECIE DA IMPIANTARE'!Q41,0)","v":0},{"$f":"IF('3 - SPECIE DA IMPIANTARE'!$G41=\"Impianti in ordine sparso\",'3 - SPECIE DA IMPIANTARE'!R41,0)","v":0},{"$f":"IF('3 - SPECIE DA IMPIANTARE'!$G41=\"Impianti in ordine sparso\",'3 - SPECIE DA IMPIANTARE'!T41,0)","v":0},{"$f":"IF('3 - SPECIE DA IMPIANTARE'!$G41=\"Impianti in ordine sparso\",'3 - SPECIE DA IMPIANTARE'!U41,0)","v":0},{"$f":"IF('3 - SPECIE DA IMPIANTARE'!$G41=\"Impianti in ordine sparso\",'3 - SPECIE DA IMPIANTARE'!W41,0)","v":0},{"$f":"IF('3 - SPECIE DA IMPIANTARE'!$G41=\"Impianti in ordine sparso\",'3 - SPECIE DA IMPIANTARE'!X41,0)","v":0},{"$f":"IF('3 - SPECIE DA IMPIANTARE'!$G41=\"Piantagioni lineari\",'3 - SPECIE DA IMPIANTARE'!H41,0)","v":0},{"$f":"IF('3 - SPECIE DA IMPIANTARE'!$G41=\"Piantagioni lineari\",'3 - SPECIE DA IMPIANTARE'!I41,0)","v":0},{"$f":"IF('3 - SPECIE DA IMPIANTARE'!$G41=\"Piantagioni lineari\",'3 - SPECIE DA IMPIANTARE'!K41,0)","v":0},{"$f":"IF('3 - SPECIE DA IMPIANTARE'!$G41=\"Piantagioni lineari\",'3 - SPECIE DA IMPIANTARE'!L41,0)","v":0},{"$f":"IF('3 - SPECIE DA IMPIANTARE'!$G41=\"Piantagioni lineari\",'3 - SPECIE DA IMPIANTARE'!N41,0)","v":0},{"$f":"IF('3 - SPECIE DA IMPIANTARE'!$G41=\"Piantagioni lineari\",'3 - SPECIE DA IMPIANTARE'!O41,0)","v":0},{"$f":"IF('3 - SPECIE DA IMPIANTARE'!$G41=\"Piantagioni lineari\",'3 - SPECIE DA IMPIANTARE'!Q41,0)","v":0},{"$f":"IF('3 - SPECIE DA IMPIANTARE'!$G41=\"Piantagioni lineari\",'3 - SPECIE DA IMPIANTARE'!R41,0)","v":0},{"$f":"IF('3 - SPECIE DA IMPIANTARE'!$G41=\"Piantagioni lineari\",'3 - SPECIE DA IMPIANTARE'!T41,0)","v":0},{"$f":"IF('3 - SPECIE DA IMPIANTARE'!$G41=\"Piantagioni lineari\",'3 - SPECIE DA IMPIANTARE'!U41,0)","v":0},{"$f":"IF('3 - SPECIE DA IMPIANTARE'!$G41=\"Piantagioni lineari\",'3 - SPECIE DA IMPIANTARE'!W41,0)","v":0},{"$f":"IF('3 - SPECIE DA IMPIANTARE'!$G41=\"Piantagioni lineari\",'3 - SPECIE DA IMPIANTARE'!X41,0)","v":0},{"$f":"IF('3 - SPECIE DA IMPIANTARE'!$G41=\"Impianti a sesto regolare\",'3 - SPECIE DA IMPIANTARE'!$H41,0)","v":0},{"$f":"IF('3 - SPECIE DA IMPIANTARE'!$G41=\"Impianti a sesto regolare\",'3 - SPECIE DA IMPIANTARE'!$I41,0)","v":0},{"$f":"IF('3 - SPECIE DA IMPIANTARE'!$G41=\"Impianti a sesto regolare\",'3 - SPECIE DA IMPIANTARE'!$K41,0)","v":0},{"$f":"IF('3 - SPECIE DA IMPIANTARE'!$G41=\"Impianti a sesto regolare\",'3 - SPECIE DA IMPIANTARE'!$L41,0)","v":0},{"$f":"IF('3 - SPECIE DA IMPIANTARE'!$G41=\"Impianti a sesto regolare\",'3 - SPECIE DA IMPIANTARE'!$N41,0)","v":0},{"$f":"IF('3 - SPECIE DA IMPIANTARE'!$G41=\"Impianti a sesto regolare\",'3 - SPECIE DA IMPIANTARE'!$O41,0)","v":0},{"$f":"IF('3 - SPECIE DA IMPIANTARE'!$G41=\"Impianti a sesto regolare\",'3 - SPECIE DA IMPIANTARE'!$Q41,0)","v":0},{"$f":"IF('3 - SPECIE DA IMPIANTARE'!$G41=\"Impianti a sesto regolare\",'3 - SPECIE DA IMPIANTARE'!$R41,0)","v":0},{"$f":"IF('3 - SPECIE DA IMPIANTARE'!$G41=\"Impianti a sesto regolare\",'3 - SPECIE DA IMPIANTARE'!$T41,0)","v":0},{"$f":"IF('3 - SPECIE DA IMPIANTARE'!$G41=\"Impianti a sesto regolare\",'3 - SPECIE DA IMPIANTARE'!$U41,0)","v":0},{"$f":"IF('3 - SPECIE DA IMPIANTARE'!$G41=\"Impianti a sesto regolare\",'3 - SPECIE DA IMPIANTARE'!$W41,0)","v":0},{"$f":"IF('3 - SPECIE DA IMPIANTARE'!$G41=\"Impianti a sesto regolare\",'3 - SPECIE DA IMPIANTARE'!$X41,0)","v":0}]
[{"$f":"IF('3 - SPECIE DA IMPIANTARE'!G42=\"Impianti in ordine sparso\",'3 - SPECIE DA IMPIANTARE'!H42,0)","v":0},{"$f":"IF('3 - SPECIE DA IMPIANTARE'!$G42=\"Impianti in ordine sparso\",'3 - SPECIE DA IMPIANTARE'!I42,0)","v":0},{"$f":"IF('3 - SPECIE DA IMPIANTARE'!$G42=\"Impianti in ordine sparso\",'3 - SPECIE DA IMPIANTARE'!K42,0)","v":0},{"$f":"IF('3 - SPECIE DA IMPIANTARE'!$G42=\"Impianti in ordine sparso\",'3 - SPECIE DA IMPIANTARE'!L42,0)","v":0},{"$f":"IF('3 - SPECIE DA IMPIANTARE'!$G42=\"Impianti in ordine sparso\",'3 - SPECIE DA IMPIANTARE'!N42,0)","v":0},{"$f":"IF('3 - SPECIE DA IMPIANTARE'!$G42=\"Impianti in ordine sparso\",'3 - SPECIE DA IMPIANTARE'!O42,0)","v":0},{"$f":"IF('3 - SPECIE DA IMPIANTARE'!$G42=\"Impianti in ordine sparso\",'3 - SPECIE DA IMPIANTARE'!Q42,0)","v":0},{"$f":"IF('3 - SPECIE DA IMPIANTARE'!$G42=\"Impianti in ordine sparso\",'3 - SPECIE DA IMPIANTARE'!R42,0)","v":0},{"$f":"IF('3 - SPECIE DA IMPIANTARE'!$G42=\"Impianti in ordine sparso\",'3 - SPECIE DA IMPIANTARE'!T42,0)","v":0},{"$f":"IF('3 - SPECIE DA IMPIANTARE'!$G42=\"Impianti in ordine sparso\",'3 - SPECIE DA IMPIANTARE'!U42,0)","v":0},{"$f":"IF('3 - SPECIE DA IMPIANTARE'!$G42=\"Impianti in ordine sparso\",'3 - SPECIE DA IMPIANTARE'!W42,0)","v":0},{"$f":"IF('3 - SPECIE DA IMPIANTARE'!$G42=\"Impianti in ordine sparso\",'3 - SPECIE DA IMPIANTARE'!X42,0)","v":0},{"$f":"IF('3 - SPECIE DA IMPIANTARE'!$G42=\"Piantagioni lineari\",'3 - SPECIE DA IMPIANTARE'!H42,0)","v":0},{"$f":"IF('3 - SPECIE DA IMPIANTARE'!$G42=\"Piantagioni lineari\",'3 - SPECIE DA IMPIANTARE'!I42,0)","v":0},{"$f":"IF('3 - SPECIE DA IMPIANTARE'!$G42=\"Piantagioni lineari\",'3 - SPECIE DA IMPIANTARE'!K42,0)","v":0},{"$f":"IF('3 - SPECIE DA IMPIANTARE'!$G42=\"Piantagioni lineari\",'3 - SPECIE DA IMPIANTARE'!L42,0)","v":0},{"$f":"IF('3 - SPECIE DA IMPIANTARE'!$G42=\"Piantagioni lineari\",'3 - SPECIE DA IMPIANTARE'!N42,0)","v":0},{"$f":"IF('3 - SPECIE DA IMPIANTARE'!$G42=\"Piantagioni lineari\",'3 - SPECIE DA IMPIANTARE'!O42,0)","v":0},{"$f":"IF('3 - SPECIE DA IMPIANTARE'!$G42=\"Piantagioni lineari\",'3 - SPECIE DA IMPIANTARE'!Q42,0)","v":0},{"$f":"IF('3 - SPECIE DA IMPIANTARE'!$G42=\"Piantagioni lineari\",'3 - SPECIE DA IMPIANTARE'!R42,0)","v":0},{"$f":"IF('3 - SPECIE DA IMPIANTARE'!$G42=\"Piantagioni lineari\",'3 - SPECIE DA IMPIANTARE'!T42,0)","v":0},{"$f":"IF('3 - SPECIE DA IMPIANTARE'!$G42=\"Piantagioni lineari\",'3 - SPECIE DA IMPIANTARE'!U42,0)","v":0},{"$f":"IF('3 - SPECIE DA IMPIANTARE'!$G42=\"Piantagioni lineari\",'3 - SPECIE DA IMPIANTARE'!W42,0)","v":0},{"$f":"IF('3 - SPECIE DA IMPIANTARE'!$G42=\"Piantagioni lineari\",'3 - SPECIE DA IMPIANTARE'!X42,0)","v":0},{"$f":"IF('3 - SPECIE DA IMPIANTARE'!$G42=\"Impianti a sesto regolare\",'3 - SPECIE DA IMPIANTARE'!$H42,0)","v":0},{"$f":"IF('3 - SPECIE DA IMPIANTARE'!$G42=\"Impianti a sesto regolare\",'3 - SPECIE DA IMPIANTARE'!$I42,0)","v":0},{"$f":"IF('3 - SPECIE DA IMPIANTARE'!$G42=\"Impianti a sesto regolare\",'3 - SPECIE DA IMPIANTARE'!$K42,0)","v":0},{"$f":"IF('3 - SPECIE DA IMPIANTARE'!$G42=\"Impianti a sesto regolare\",'3 - SPECIE DA IMPIANTARE'!$L42,0)","v":0},{"$f":"IF('3 - SPECIE DA IMPIANTARE'!$G42=\"Impianti a sesto regolare\",'3 - SPECIE DA IMPIANTARE'!$N42,0)","v":0},{"$f":"IF('3 - SPECIE DA IMPIANTARE'!$G42=\"Impianti a sesto regolare\",'3 - SPECIE DA IMPIANTARE'!$O42,0)","v":0},{"$f":"IF('3 - SPECIE DA IMPIANTARE'!$G42=\"Impianti a sesto regolare\",'3 - SPECIE DA IMPIANTARE'!$Q42,0)","v":0},{"$f":"IF('3 - SPECIE DA IMPIANTARE'!$G42=\"Impianti a sesto regolare\",'3 - SPECIE DA IMPIANTARE'!$R42,0)","v":0},{"$f":"IF('3 - SPECIE DA IMPIANTARE'!$G42=\"Impianti a sesto regolare\",'3 - SPECIE DA IMPIANTARE'!$T42,0)","v":0},{"$f":"IF('3 - SPECIE DA IMPIANTARE'!$G42=\"Impianti a sesto regolare\",'3 - SPECIE DA IMPIANTARE'!$U42,0)","v":0},{"$f":"IF('3 - SPECIE DA IMPIANTARE'!$G42=\"Impianti a sesto regolare\",'3 - SPECIE DA IMPIANTARE'!$W42,0)","v":0},{"$f":"IF('3 - SPECIE DA IMPIANTARE'!$G42=\"Impianti a sesto regolare\",'3 - SPECIE DA IMPIANTARE'!$X42,0)","v":0}]
[{"$f":"IF('3 - SPECIE DA IMPIANTARE'!G43=\"Impianti in ordine sparso\",'3 - SPECIE DA IMPIANTARE'!H43,0)","v":0},{"$f":"IF('3 - SPECIE DA IMPIANTARE'!$G43=\"Impianti in ordine sparso\",'3 - SPECIE DA IMPIANTARE'!I43,0)","v":0},{"$f":"IF('3 - SPECIE DA IMPIANTARE'!$G43=\"Impianti in ordine sparso\",'3 - SPECIE DA IMPIANTARE'!K43,0)","v":0},{"$f":"IF('3 - SPECIE DA IMPIANTARE'!$G43=\"Impianti in ordine sparso\",'3 - SPECIE DA IMPIANTARE'!L43,0)","v":0},{"$f":"IF('3 - SPECIE DA IMPIANTARE'!$G43=\"Impianti in ordine sparso\",'3 - SPECIE DA IMPIANTARE'!N43,0)","v":0},{"$f":"IF('3 - SPECIE DA IMPIANTARE'!$G43=\"Impianti in ordine sparso\",'3 - SPECIE DA IMPIANTARE'!O43,0)","v":0},{"$f":"IF('3 - SPECIE DA IMPIANTARE'!$G43=\"Impianti in ordine sparso\",'3 - SPECIE DA IMPIANTARE'!Q43,0)","v":0},{"$f":"IF('3 - SPECIE DA IMPIANTARE'!$G43=\"Impianti in ordine sparso\",'3 - SPECIE DA IMPIANTARE'!R43,0)","v":0},{"$f":"IF('3 - SPECIE DA IMPIANTARE'!$G43=\"Impianti in ordine sparso\",'3 - SPECIE DA IMPIANTARE'!T43,0)","v":0},{"$f":"IF('3 - SPECIE DA IMPIANTARE'!$G43=\"Impianti in ordine sparso\",'3 - SPECIE DA IMPIANTARE'!U43,0)","v":0},{"$f":"IF('3 - SPECIE DA IMPIANTARE'!$G43=\"Impianti in ordine sparso\",'3 - SPECIE DA IMPIANTARE'!W43,0)","v":0},{"$f":"IF('3 - SPECIE DA IMPIANTARE'!$G43=\"Impianti in ordine sparso\",'3 - SPECIE DA IMPIANTARE'!X43,0)","v":0},{"$f":"IF('3 - SPECIE DA IMPIANTARE'!$G43=\"Piantagioni lineari\",'3 - SPECIE DA IMPIANTARE'!H43,0)","v":0},{"$f":"IF('3 - SPECIE DA IMPIANTARE'!$G43=\"Piantagioni lineari\",'3 - SPECIE DA IMPIANTARE'!I43,0)","v":0},{"$f":"IF('3 - SPECIE DA IMPIANTARE'!$G43=\"Piantagioni lineari\",'3 - SPECIE DA IMPIANTARE'!K43,0)","v":0},{"$f":"IF('3 - SPECIE DA IMPIANTARE'!$G43=\"Piantagioni lineari\",'3 - SPECIE DA IMPIANTARE'!L43,0)","v":0},{"$f":"IF('3 - SPECIE DA IMPIANTARE'!$G43=\"Piantagioni lineari\",'3 - SPECIE DA IMPIANTARE'!N43,0)","v":0},{"$f":"IF('3 - SPECIE DA IMPIANTARE'!$G43=\"Piantagioni lineari\",'3 - SPECIE DA IMPIANTARE'!O43,0)","v":0},{"$f":"IF('3 - SPECIE DA IMPIANTARE'!$G43=\"Piantagioni lineari\",'3 - SPECIE DA IMPIANTARE'!Q43,0)","v":0},{"$f":"IF('3 - SPECIE DA IMPIANTARE'!$G43=\"Piantagioni lineari\",'3 - SPECIE DA IMPIANTARE'!R43,0)","v":0},{"$f":"IF('3 - SPECIE DA IMPIANTARE'!$G43=\"Piantagioni lineari\",'3 - SPECIE DA IMPIANTARE'!T43,0)","v":0},{"$f":"IF('3 - SPECIE DA IMPIANTARE'!$G43=\"Piantagioni lineari\",'3 - SPECIE DA IMPIANTARE'!U43,0)","v":0},{"$f":"IF('3 - SPECIE DA IMPIANTARE'!$G43=\"Piantagioni lineari\",'3 - SPECIE DA IMPIANTARE'!W43,0)","v":0},{"$f":"IF('3 - SPECIE DA IMPIANTARE'!$G43=\"Piantagioni lineari\",'3 - SPECIE DA IMPIANTARE'!X43,0)","v":0},{"$f":"IF('3 - SPECIE DA IMPIANTARE'!$G43=\"Impianti a sesto regolare\",'3 - SPECIE DA IMPIANTARE'!$H43,0)","v":0},{"$f":"IF('3 - SPECIE DA IMPIANTARE'!$G43=\"Impianti a sesto regolare\",'3 - SPECIE DA IMPIANTARE'!$I43,0)","v":0},{"$f":"IF('3 - SPECIE DA IMPIANTARE'!$G43=\"Impianti a sesto regolare\",'3 - SPECIE DA IMPIANTARE'!$K43,0)","v":0},{"$f":"IF('3 - SPECIE DA IMPIANTARE'!$G43=\"Impianti a sesto regolare\",'3 - SPECIE DA IMPIANTARE'!$L43,0)","v":0},{"$f":"IF('3 - SPECIE DA IMPIANTARE'!$G43=\"Impianti a sesto regolare\",'3 - SPECIE DA IMPIANTARE'!$N43,0)","v":0},{"$f":"IF('3 - SPECIE DA IMPIANTARE'!$G43=\"Impianti a sesto regolare\",'3 - SPECIE DA IMPIANTARE'!$O43,0)","v":0},{"$f":"IF('3 - SPECIE DA IMPIANTARE'!$G43=\"Impianti a sesto regolare\",'3 - SPECIE DA IMPIANTARE'!$Q43,0)","v":0},{"$f":"IF('3 - SPECIE DA IMPIANTARE'!$G43=\"Impianti a sesto regolare\",'3 - SPECIE DA IMPIANTARE'!$R43,0)","v":0},{"$f":"IF('3 - SPECIE DA IMPIANTARE'!$G43=\"Impianti a sesto regolare\",'3 - SPECIE DA IMPIANTARE'!$T43,0)","v":0},{"$f":"IF('3 - SPECIE DA IMPIANTARE'!$G43=\"Impianti a sesto regolare\",'3 - SPECIE DA IMPIANTARE'!$U43,0)","v":0},{"$f":"IF('3 - SPECIE DA IMPIANTARE'!$G43=\"Impianti a sesto regolare\",'3 - SPECIE DA IMPIANTARE'!$W43,0)","v":0},{"$f":"IF('3 - SPECIE DA IMPIANTARE'!$G43=\"Impianti a sesto regolare\",'3 - SPECIE DA IMPIANTARE'!$X43,0)","v":0}]
[{"$f":"IF('3 - SPECIE DA IMPIANTARE'!G44=\"Impianti in ordine sparso\",'3 - SPECIE DA IMPIANTARE'!H44,0)","v":0},{"$f":"IF('3 - SPECIE DA IMPIANTARE'!$G44=\"Impianti in ordine sparso\",'3 - SPECIE DA IMPIANTARE'!I44,0)","v":0},{"$f":"IF('3 - SPECIE DA IMPIANTARE'!$G44=\"Impianti in ordine sparso\",'3 - SPECIE DA IMPIANTARE'!K44,0)","v":0},{"$f":"IF('3 - SPECIE DA IMPIANTARE'!$G44=\"Impianti in ordine sparso\",'3 - SPECIE DA IMPIANTARE'!L44,0)","v":0},{"$f":"IF('3 - SPECIE DA IMPIANTARE'!$G44=\"Impianti in ordine sparso\",'3 - SPECIE DA IMPIANTARE'!N44,0)","v":0},{"$f":"IF('3 - SPECIE DA IMPIANTARE'!$G44=\"Impianti in ordine sparso\",'3 - SPECIE DA IMPIANTARE'!O44,0)","v":0},{"$f":"IF('3 - SPECIE DA IMPIANTARE'!$G44=\"Impianti in ordine sparso\",'3 - SPECIE DA IMPIANTARE'!Q44,0)","v":0},{"$f":"IF('3 - SPECIE DA IMPIANTARE'!$G44=\"Impianti in ordine sparso\",'3 - SPECIE DA IMPIANTARE'!R44,0)","v":0},{"$f":"IF('3 - SPECIE DA IMPIANTARE'!$G44=\"Impianti in ordine sparso\",'3 - SPECIE DA IMPIANTARE'!T44,0)","v":0},{"$f":"IF('3 - SPECIE DA IMPIANTARE'!$G44=\"Impianti in ordine sparso\",'3 - SPECIE DA IMPIANTARE'!U44,0)","v":0},{"$f":"IF('3 - SPECIE DA IMPIANTARE'!$G44=\"Impianti in ordine sparso\",'3 - SPECIE DA IMPIANTARE'!W44,0)","v":0},{"$f":"IF('3 - SPECIE DA IMPIANTARE'!$G44=\"Impianti in ordine sparso\",'3 - SPECIE DA IMPIANTARE'!X44,0)","v":0},{"$f":"IF('3 - SPECIE DA IMPIANTARE'!$G44=\"Piantagioni lineari\",'3 - SPECIE DA IMPIANTARE'!H44,0)","v":0},{"$f":"IF('3 - SPECIE DA IMPIANTARE'!$G44=\"Piantagioni lineari\",'3 - SPECIE DA IMPIANTARE'!I44,0)","v":0},{"$f":"IF('3 - SPECIE DA IMPIANTARE'!$G44=\"Piantagioni lineari\",'3 - SPECIE DA IMPIANTARE'!K44,0)","v":0},{"$f":"IF('3 - SPECIE DA IMPIANTARE'!$G44=\"Piantagioni lineari\",'3 - SPECIE DA IMPIANTARE'!L44,0)","v":0},{"$f":"IF('3 - SPECIE DA IMPIANTARE'!$G44=\"Piantagioni lineari\",'3 - SPECIE DA IMPIANTARE'!N44,0)","v":0},{"$f":"IF('3 - SPECIE DA IMPIANTARE'!$G44=\"Piantagioni lineari\",'3 - SPECIE DA IMPIANTARE'!O44,0)","v":0},{"$f":"IF('3 - SPECIE DA IMPIANTARE'!$G44=\"Piantagioni lineari\",'3 - SPECIE DA IMPIANTARE'!Q44,0)","v":0},{"$f":"IF('3 - SPECIE DA IMPIANTARE'!$G44=\"Piantagioni lineari\",'3 - SPECIE DA IMPIANTARE'!R44,0)","v":0},{"$f":"IF('3 - SPECIE DA IMPIANTARE'!$G44=\"Piantagioni lineari\",'3 - SPECIE DA IMPIANTARE'!T44,0)","v":0},{"$f":"IF('3 - SPECIE DA IMPIANTARE'!$G44=\"Piantagioni lineari\",'3 - SPECIE DA IMPIANTARE'!U44,0)","v":0},{"$f":"IF('3 - SPECIE DA IMPIANTARE'!$G44=\"Piantagioni lineari\",'3 - SPECIE DA IMPIANTARE'!W44,0)","v":0},{"$f":"IF('3 - SPECIE DA IMPIANTARE'!$G44=\"Piantagioni lineari\",'3 - SPECIE DA IMPIANTARE'!X44,0)","v":0},{"$f":"IF('3 - SPECIE DA IMPIANTARE'!$G44=\"Impianti a sesto regolare\",'3 - SPECIE DA IMPIANTARE'!$H44,0)","v":0},{"$f":"IF('3 - SPECIE DA IMPIANTARE'!$G44=\"Impianti a sesto regolare\",'3 - SPECIE DA IMPIANTARE'!$I44,0)","v":0},{"$f":"IF('3 - SPECIE DA IMPIANTARE'!$G44=\"Impianti a sesto regolare\",'3 - SPECIE DA IMPIANTARE'!$K44,0)","v":0},{"$f":"IF('3 - SPECIE DA IMPIANTARE'!$G44=\"Impianti a sesto regolare\",'3 - SPECIE DA IMPIANTARE'!$L44,0)","v":0},{"$f":"IF('3 - SPECIE DA IMPIANTARE'!$G44=\"Impianti a sesto regolare\",'3 - SPECIE DA IMPIANTARE'!$N44,0)","v":0},{"$f":"IF('3 - SPECIE DA IMPIANTARE'!$G44=\"Impianti a sesto regolare\",'3 - SPECIE DA IMPIANTARE'!$O44,0)","v":0},{"$f":"IF('3 - SPECIE DA IMPIANTARE'!$G44=\"Impianti a sesto regolare\",'3 - SPECIE DA IMPIANTARE'!$Q44,0)","v":0},{"$f":"IF('3 - SPECIE DA IMPIANTARE'!$G44=\"Impianti a sesto regolare\",'3 - SPECIE DA IMPIANTARE'!$R44,0)","v":0},{"$f":"IF('3 - SPECIE DA IMPIANTARE'!$G44=\"Impianti a sesto regolare\",'3 - SPECIE DA IMPIANTARE'!$T44,0)","v":0},{"$f":"IF('3 - SPECIE DA IMPIANTARE'!$G44=\"Impianti a sesto regolare\",'3 - SPECIE DA IMPIANTARE'!$U44,0)","v":0},{"$f":"IF('3 - SPECIE DA IMPIANTARE'!$G44=\"Impianti a sesto regolare\",'3 - SPECIE DA IMPIANTARE'!$W44,0)","v":0},{"$f":"IF('3 - SPECIE DA IMPIANTARE'!$G44=\"Impianti a sesto regolare\",'3 - SPECIE DA IMPIANTARE'!$X44,0)","v":0}]
[{"$f":"IF('3 - SPECIE DA IMPIANTARE'!G45=\"Impianti in ordine sparso\",'3 - SPECIE DA IMPIANTARE'!H45,0)","v":0},{"$f":"IF('3 - SPECIE DA IMPIANTARE'!$G45=\"Impianti in ordine sparso\",'3 - SPECIE DA IMPIANTARE'!I45,0)","v":0},{"$f":"IF('3 - SPECIE DA IMPIANTARE'!$G45=\"Impianti in ordine sparso\",'3 - SPECIE DA IMPIANTARE'!K45,0)","v":0},{"$f":"IF('3 - SPECIE DA IMPIANTARE'!$G45=\"Impianti in ordine sparso\",'3 - SPECIE DA IMPIANTARE'!L45,0)","v":0},{"$f":"IF('3 - SPECIE DA IMPIANTARE'!$G45=\"Impianti in ordine sparso\",'3 - SPECIE DA IMPIANTARE'!N45,0)","v":0},{"$f":"IF('3 - SPECIE DA IMPIANTARE'!$G45=\"Impianti in ordine sparso\",'3 - SPECIE DA IMPIANTARE'!O45,0)","v":0},{"$f":"IF('3 - SPECIE DA IMPIANTARE'!$G45=\"Impianti in ordine sparso\",'3 - SPECIE DA IMPIANTARE'!Q45,0)","v":0},{"$f":"IF('3 - SPECIE DA IMPIANTARE'!$G45=\"Impianti in ordine sparso\",'3 - SPECIE DA IMPIANTARE'!R45,0)","v":0},{"$f":"IF('3 - SPECIE DA IMPIANTARE'!$G45=\"Impianti in ordine sparso\",'3 - SPECIE DA IMPIANTARE'!T45,0)","v":0},{"$f":"IF('3 - SPECIE DA IMPIANTARE'!$G45=\"Impianti in ordine sparso\",'3 - SPECIE DA IMPIANTARE'!U45,0)","v":0},{"$f":"IF('3 - SPECIE DA IMPIANTARE'!$G45=\"Impianti in ordine sparso\",'3 - SPECIE DA IMPIANTARE'!W45,0)","v":0},{"$f":"IF('3 - SPECIE DA IMPIANTARE'!$G45=\"Impianti in ordine sparso\",'3 - SPECIE DA IMPIANTARE'!X45,0)","v":0},{"$f":"IF('3 - SPECIE DA IMPIANTARE'!$G45=\"Piantagioni lineari\",'3 - SPECIE DA IMPIANTARE'!H45,0)","v":0},{"$f":"IF('3 - SPECIE DA IMPIANTARE'!$G45=\"Piantagioni lineari\",'3 - SPECIE DA IMPIANTARE'!I45,0)","v":0},{"$f":"IF('3 - SPECIE DA IMPIANTARE'!$G45=\"Piantagioni lineari\",'3 - SPECIE DA IMPIANTARE'!K45,0)","v":0},{"$f":"IF('3 - SPECIE DA IMPIANTARE'!$G45=\"Piantagioni lineari\",'3 - SPECIE DA IMPIANTARE'!L45,0)","v":0},{"$f":"IF('3 - SPECIE DA IMPIANTARE'!$G45=\"Piantagioni lineari\",'3 - SPECIE DA IMPIANTARE'!N45,0)","v":0},{"$f":"IF('3 - SPECIE DA IMPIANTARE'!$G45=\"Piantagioni lineari\",'3 - SPECIE DA IMPIANTARE'!O45,0)","v":0},{"$f":"IF('3 - SPECIE DA IMPIANTARE'!$G45=\"Piantagioni lineari\",'3 - SPECIE DA IMPIANTARE'!Q45,0)","v":0},{"$f":"IF('3 - SPECIE DA IMPIANTARE'!$G45=\"Piantagioni lineari\",'3 - SPECIE DA IMPIANTARE'!R45,0)","v":0},{"$f":"IF('3 - SPECIE DA IMPIANTARE'!$G45=\"Piantagioni lineari\",'3 - SPECIE DA IMPIANTARE'!T45,0)","v":0},{"$f":"IF('3 - SPECIE DA IMPIANTARE'!$G45=\"Piantagioni lineari\",'3 - SPECIE DA IMPIANTARE'!U45,0)","v":0},{"$f":"IF('3 - SPECIE DA IMPIANTARE'!$G45=\"Piantagioni lineari\",'3 - SPECIE DA IMPIANTARE'!W45,0)","v":0},{"$f":"IF('3 - SPECIE DA IMPIANTARE'!$G45=\"Piantagioni lineari\",'3 - SPECIE DA IMPIANTARE'!X45,0)","v":0},{"$f":"IF('3 - SPECIE DA IMPIANTARE'!$G45=\"Impianti a sesto regolare\",'3 - SPECIE DA IMPIANTARE'!$H45,0)","v":0},{"$f":"IF('3 - SPECIE DA IMPIANTARE'!$G45=\"Impianti a sesto regolare\",'3 - SPECIE DA IMPIANTARE'!$I45,0)","v":0},{"$f":"IF('3 - SPECIE DA IMPIANTARE'!$G45=\"Impianti a sesto regolare\",'3 - SPECIE DA IMPIANTARE'!$K45,0)","v":0},{"$f":"IF('3 - SPECIE DA IMPIANTARE'!$G45=\"Impianti a sesto regolare\",'3 - SPECIE DA IMPIANTARE'!$L45,0)","v":0},{"$f":"IF('3 - SPECIE DA IMPIANTARE'!$G45=\"Impianti a sesto regolare\",'3 - SPECIE DA IMPIANTARE'!$N45,0)","v":0},{"$f":"IF('3 - SPECIE DA IMPIANTARE'!$G45=\"Impianti a sesto regolare\",'3 - SPECIE DA IMPIANTARE'!$O45,0)","v":0},{"$f":"IF('3 - SPECIE DA IMPIANTARE'!$G45=\"Impianti a sesto regolare\",'3 - SPECIE DA IMPIANTARE'!$Q45,0)","v":0},{"$f":"IF('3 - SPECIE DA IMPIANTARE'!$G45=\"Impianti a sesto regolare\",'3 - SPECIE DA IMPIANTARE'!$R45,0)","v":0},{"$f":"IF('3 - SPECIE DA IMPIANTARE'!$G45=\"Impianti a sesto regolare\",'3 - SPECIE DA IMPIANTARE'!$T45,0)","v":0},{"$f":"IF('3 - SPECIE DA IMPIANTARE'!$G45=\"Impianti a sesto regolare\",'3 - SPECIE DA IMPIANTARE'!$U45,0)","v":0},{"$f":"IF('3 - SPECIE DA IMPIANTARE'!$G45=\"Impianti a sesto regolare\",'3 - SPECIE DA IMPIANTARE'!$W45,0)","v":0},{"$f":"IF('3 - SPECIE DA IMPIANTARE'!$G45=\"Impianti a sesto regolare\",'3 - SPECIE DA IMPIANTARE'!$X45,0)","v":0}]
[{"$f":"IF('3 - SPECIE DA IMPIANTARE'!G46=\"Impianti in ordine sparso\",'3 - SPECIE DA IMPIANTARE'!H46,0)","v":0},{"$f":"IF('3 - SPECIE DA IMPIANTARE'!$G46=\"Impianti in ordine sparso\",'3 - SPECIE DA IMPIANTARE'!I46,0)","v":0},{"$f":"IF('3 - SPECIE DA IMPIANTARE'!$G46=\"Impianti in ordine sparso\",'3 - SPECIE DA IMPIANTARE'!K46,0)","v":0},{"$f":"IF('3 - SPECIE DA IMPIANTARE'!$G46=\"Impianti in ordine sparso\",'3 - SPECIE DA IMPIANTARE'!L46,0)","v":0},{"$f":"IF('3 - SPECIE DA IMPIANTARE'!$G46=\"Impianti in ordine sparso\",'3 - SPECIE DA IMPIANTARE'!N46,0)","v":0},{"$f":"IF('3 - SPECIE DA IMPIANTARE'!$G46=\"Impianti in ordine sparso\",'3 - SPECIE DA IMPIANTARE'!O46,0)","v":0},{"$f":"IF('3 - SPECIE DA IMPIANTARE'!$G46=\"Impianti in ordine sparso\",'3 - SPECIE DA IMPIANTARE'!Q46,0)","v":0},{"$f":"IF('3 - SPECIE DA IMPIANTARE'!$G46=\"Impianti in ordine sparso\",'3 - SPECIE DA IMPIANTARE'!R46,0)","v":0},{"$f":"IF('3 - SPECIE DA IMPIANTARE'!$G46=\"Impianti in ordine sparso\",'3 - SPECIE DA IMPIANTARE'!T46,0)","v":0},{"$f":"IF('3 - SPECIE DA IMPIANTARE'!$G46=\"Impianti in ordine sparso\",'3 - SPECIE DA IMPIANTARE'!U46,0)","v":0},{"$f":"IF('3 - SPECIE DA IMPIANTARE'!$G46=\"Impianti in ordine sparso\",'3 - SPECIE DA IMPIANTARE'!W46,0)","v":0},{"$f":"IF('3 - SPECIE DA IMPIANTARE'!$G46=\"Impianti in ordine sparso\",'3 - SPECIE DA IMPIANTARE'!X46,0)","v":0},{"$f":"IF('3 - SPECIE DA IMPIANTARE'!$G46=\"Piantagioni lineari\",'3 - SPECIE DA IMPIANTARE'!H46,0)","v":0},{"$f":"IF('3 - SPECIE DA IMPIANTARE'!$G46=\"Piantagioni lineari\",'3 - SPECIE DA IMPIANTARE'!I46,0)","v":0},{"$f":"IF('3 - SPECIE DA IMPIANTARE'!$G46=\"Piantagioni lineari\",'3 - SPECIE DA IMPIANTARE'!K46,0)","v":0},{"$f":"IF('3 - SPECIE DA IMPIANTARE'!$G46=\"Piantagioni lineari\",'3 - SPECIE DA IMPIANTARE'!L46,0)","v":0},{"$f":"IF('3 - SPECIE DA IMPIANTARE'!$G46=\"Piantagioni lineari\",'3 - SPECIE DA IMPIANTARE'!N46,0)","v":0},{"$f":"IF('3 - SPECIE DA IMPIANTARE'!$G46=\"Piantagioni lineari\",'3 - SPECIE DA IMPIANTARE'!O46,0)","v":0},{"$f":"IF('3 - SPECIE DA IMPIANTARE'!$G46=\"Piantagioni lineari\",'3 - SPECIE DA IMPIANTARE'!Q46,0)","v":0},{"$f":"IF('3 - SPECIE DA IMPIANTARE'!$G46=\"Piantagioni lineari\",'3 - SPECIE DA IMPIANTARE'!R46,0)","v":0},{"$f":"IF('3 - SPECIE DA IMPIANTARE'!$G46=\"Piantagioni lineari\",'3 - SPECIE DA IMPIANTARE'!T46,0)","v":0},{"$f":"IF('3 - SPECIE DA IMPIANTARE'!$G46=\"Piantagioni lineari\",'3 - SPECIE DA IMPIANTARE'!U46,0)","v":0},{"$f":"IF('3 - SPECIE DA IMPIANTARE'!$G46=\"Piantagioni lineari\",'3 - SPECIE DA IMPIANTARE'!W46,0)","v":0},{"$f":"IF('3 - SPECIE DA IMPIANTARE'!$G46=\"Piantagioni lineari\",'3 - SPECIE DA IMPIANTARE'!X46,0)","v":0},{"$f":"IF('3 - SPECIE DA IMPIANTARE'!$G46=\"Impianti a sesto regolare\",'3 - SPECIE DA IMPIANTARE'!$H46,0)","v":0},{"$f":"IF('3 - SPECIE DA IMPIANTARE'!$G46=\"Impianti a sesto regolare\",'3 - SPECIE DA IMPIANTARE'!$I46,0)","v":0},{"$f":"IF('3 - SPECIE DA IMPIANTARE'!$G46=\"Impianti a sesto regolare\",'3 - SPECIE DA IMPIANTARE'!$K46,0)","v":0},{"$f":"IF('3 - SPECIE DA IMPIANTARE'!$G46=\"Impianti a sesto regolare\",'3 - SPECIE DA IMPIANTARE'!$L46,0)","v":0},{"$f":"IF('3 - SPECIE DA IMPIANTARE'!$G46=\"Impianti a sesto regolare\",'3 - SPECIE DA IMPIANTARE'!$N46,0)","v":0},{"$f":"IF('3 - SPECIE DA IMPIANTARE'!$G46=\"Impianti a sesto regolare\",'3 - SPECIE DA IMPIANTARE'!$O46,0)","v":0},{"$f":"IF('3 - SPECIE DA IMPIANTARE'!$G46=\"Impianti a sesto regolare\",'3 - SPECIE DA IMPIANTARE'!$Q46,0)","v":0},{"$f":"IF('3 - SPECIE DA IMPIANTARE'!$G46=\"Impianti a sesto regolare\",'3 - SPECIE DA IMPIANTARE'!$R46,0)","v":0},{"$f":"IF('3 - SPECIE DA IMPIANTARE'!$G46=\"Impianti a sesto regolare\",'3 - SPECIE DA IMPIANTARE'!$T46,0)","v":0},{"$f":"IF('3 - SPECIE DA IMPIANTARE'!$G46=\"Impianti a sesto regolare\",'3 - SPECIE DA IMPIANTARE'!$U46,0)","v":0},{"$f":"IF('3 - SPECIE DA IMPIANTARE'!$G46=\"Impianti a sesto regolare\",'3 - SPECIE DA IMPIANTARE'!$W46,0)","v":0},{"$f":"IF('3 - SPECIE DA IMPIANTARE'!$G46=\"Impianti a sesto regolare\",'3 - SPECIE DA IMPIANTARE'!$X46,0)","v":0}]
[{"$f":"IF('3 - SPECIE DA IMPIANTARE'!G47=\"Impianti in ordine sparso\",'3 - SPECIE DA IMPIANTARE'!H47,0)","v":0},{"$f":"IF('3 - SPECIE DA IMPIANTARE'!$G47=\"Impianti in ordine sparso\",'3 - SPECIE DA IMPIANTARE'!I47,0)","v":0},{"$f":"IF('3 - SPECIE DA IMPIANTARE'!$G47=\"Impianti in ordine sparso\",'3 - SPECIE DA IMPIANTARE'!K47,0)","v":0},{"$f":"IF('3 - SPECIE DA IMPIANTARE'!$G47=\"Impianti in ordine sparso\",'3 - SPECIE DA IMPIANTARE'!L47,0)","v":0},{"$f":"IF('3 - SPECIE DA IMPIANTARE'!$G47=\"Impianti in ordine sparso\",'3 - SPECIE DA IMPIANTARE'!N47,0)","v":0},{"$f":"IF('3 - SPECIE DA IMPIANTARE'!$G47=\"Impianti in ordine sparso\",'3 - SPECIE DA IMPIANTARE'!O47,0)","v":0},{"$f":"IF('3 - SPECIE DA IMPIANTARE'!$G47=\"Impianti in ordine sparso\",'3 - SPECIE DA IMPIANTARE'!Q47,0)","v":0},{"$f":"IF('3 - SPECIE DA IMPIANTARE'!$G47=\"Impianti in ordine sparso\",'3 - SPECIE DA IMPIANTARE'!R47,0)","v":0},{"$f":"IF('3 - SPECIE DA IMPIANTARE'!$G47=\"Impianti in ordine sparso\",'3 - SPECIE DA IMPIANTARE'!T47,0)","v":0},{"$f":"IF('3 - SPECIE DA IMPIANTARE'!$G47=\"Impianti in ordine sparso\",'3 - SPECIE DA IMPIANTARE'!U47,0)","v":0},{"$f":"IF('3 - SPECIE DA IMPIANTARE'!$G47=\"Impianti in ordine sparso\",'3 - SPECIE DA IMPIANTARE'!W47,0)","v":0},{"$f":"IF('3 - SPECIE DA IMPIANTARE'!$G47=\"Impianti in ordine sparso\",'3 - SPECIE DA IMPIANTARE'!X47,0)","v":0},{"$f":"IF('3 - SPECIE DA IMPIANTARE'!$G47=\"Piantagioni lineari\",'3 - SPECIE DA IMPIANTARE'!H47,0)","v":0},{"$f":"IF('3 - SPECIE DA IMPIANTARE'!$G47=\"Piantagioni lineari\",'3 - SPECIE DA IMPIANTARE'!I47,0)","v":0},{"$f":"IF('3 - SPECIE DA IMPIANTARE'!$G47=\"Piantagioni lineari\",'3 - SPECIE DA IMPIANTARE'!K47,0)","v":0},{"$f":"IF('3 - SPECIE DA IMPIANTARE'!$G47=\"Piantagioni lineari\",'3 - SPECIE DA IMPIANTARE'!L47,0)","v":0},{"$f":"IF('3 - SPECIE DA IMPIANTARE'!$G47=\"Piantagioni lineari\",'3 - SPECIE DA IMPIANTARE'!N47,0)","v":0},{"$f":"IF('3 - SPECIE DA IMPIANTARE'!$G47=\"Piantagioni lineari\",'3 - SPECIE DA IMPIANTARE'!O47,0)","v":0},{"$f":"IF('3 - SPECIE DA IMPIANTARE'!$G47=\"Piantagioni lineari\",'3 - SPECIE DA IMPIANTARE'!Q47,0)","v":0},{"$f":"IF('3 - SPECIE DA IMPIANTARE'!$G47=\"Piantagioni lineari\",'3 - SPECIE DA IMPIANTARE'!R47,0)","v":0},{"$f":"IF('3 - SPECIE DA IMPIANTARE'!$G47=\"Piantagioni lineari\",'3 - SPECIE DA IMPIANTARE'!T47,0)","v":0},{"$f":"IF('3 - SPECIE DA IMPIANTARE'!$G47=\"Piantagioni lineari\",'3 - SPECIE DA IMPIANTARE'!U47,0)","v":0},{"$f":"IF('3 - SPECIE DA IMPIANTARE'!$G47=\"Piantagioni lineari\",'3 - SPECIE DA IMPIANTARE'!W47,0)","v":0},{"$f":"IF('3 - SPECIE DA IMPIANTARE'!$G47=\"Piantagioni lineari\",'3 - SPECIE DA IMPIANTARE'!X47,0)","v":0},{"$f":"IF('3 - SPECIE DA IMPIANTARE'!$G47=\"Impianti a sesto regolare\",'3 - SPECIE DA IMPIANTARE'!$H47,0)","v":0},{"$f":"IF('3 - SPECIE DA IMPIANTARE'!$G47=\"Impianti a sesto regolare\",'3 - SPECIE DA IMPIANTARE'!$I47,0)","v":0},{"$f":"IF('3 - SPECIE DA IMPIANTARE'!$G47=\"Impianti a sesto regolare\",'3 - SPECIE DA IMPIANTARE'!$K47,0)","v":0},{"$f":"IF('3 - SPECIE DA IMPIANTARE'!$G47=\"Impianti a sesto regolare\",'3 - SPECIE DA IMPIANTARE'!$L47,0)","v":0},{"$f":"IF('3 - SPECIE DA IMPIANTARE'!$G47=\"Impianti a sesto regolare\",'3 - SPECIE DA IMPIANTARE'!$N47,0)","v":0},{"$f":"IF('3 - SPECIE DA IMPIANTARE'!$G47=\"Impianti a sesto regolare\",'3 - SPECIE DA IMPIANTARE'!$O47,0)","v":0},{"$f":"IF('3 - SPECIE DA IMPIANTARE'!$G47=\"Impianti a sesto regolare\",'3 - SPECIE DA IMPIANTARE'!$Q47,0)","v":0},{"$f":"IF('3 - SPECIE DA IMPIANTARE'!$G47=\"Impianti a sesto regolare\",'3 - SPECIE DA IMPIANTARE'!$R47,0)","v":0},{"$f":"IF('3 - SPECIE DA IMPIANTARE'!$G47=\"Impianti a sesto regolare\",'3 - SPECIE DA IMPIANTARE'!$T47,0)","v":0},{"$f":"IF('3 - SPECIE DA IMPIANTARE'!$G47=\"Impianti a sesto regolare\",'3 - SPECIE DA IMPIANTARE'!$U47,0)","v":0},{"$f":"IF('3 - SPECIE DA IMPIANTARE'!$G47=\"Impianti a sesto regolare\",'3 - SPECIE DA IMPIANTARE'!$W47,0)","v":0},{"$f":"IF('3 - SPECIE DA IMPIANTARE'!$G47=\"Impianti a sesto regolare\",'3 - SPECIE DA IMPIANTARE'!$X47,0)","v":0}]
[{"$f":"IF('3 - SPECIE DA IMPIANTARE'!G48=\"Impianti in ordine sparso\",'3 - SPECIE DA IMPIANTARE'!H48,0)","v":0},{"$f":"IF('3 - SPECIE DA IMPIANTARE'!$G48=\"Impianti in ordine sparso\",'3 - SPECIE DA IMPIANTARE'!I48,0)","v":0},{"$f":"IF('3 - SPECIE DA IMPIANTARE'!$G48=\"Impianti in ordine sparso\",'3 - SPECIE DA IMPIANTARE'!K48,0)","v":0},{"$f":"IF('3 - SPECIE DA IMPIANTARE'!$G48=\"Impianti in ordine sparso\",'3 - SPECIE DA IMPIANTARE'!L48,0)","v":0},{"$f":"IF('3 - SPECIE DA IMPIANTARE'!$G48=\"Impianti in ordine sparso\",'3 - SPECIE DA IMPIANTARE'!N48,0)","v":0},{"$f":"IF('3 - SPECIE DA IMPIANTARE'!$G48=\"Impianti in ordine sparso\",'3 - SPECIE DA IMPIANTARE'!O48,0)","v":0},{"$f":"IF('3 - SPECIE DA IMPIANTARE'!$G48=\"Impianti in ordine sparso\",'3 - SPECIE DA IMPIANTARE'!Q48,0)","v":0},{"$f":"IF('3 - SPECIE DA IMPIANTARE'!$G48=\"Impianti in ordine sparso\",'3 - SPECIE DA IMPIANTARE'!R48,0)","v":0},{"$f":"IF('3 - SPECIE DA IMPIANTARE'!$G48=\"Impianti in ordine sparso\",'3 - SPECIE DA IMPIANTARE'!T48,0)","v":0},{"$f":"IF('3 - SPECIE DA IMPIANTARE'!$G48=\"Impianti in ordine sparso\",'3 - SPECIE DA IMPIANTARE'!U48,0)","v":0},{"$f":"IF('3 - SPECIE DA IMPIANTARE'!$G48=\"Impianti in ordine sparso\",'3 - SPECIE DA IMPIANTARE'!W48,0)","v":0},{"$f":"IF('3 - SPECIE DA IMPIANTARE'!$G48=\"Impianti in ordine sparso\",'3 - SPECIE DA IMPIANTARE'!X48,0)","v":0},{"$f":"IF('3 - SPECIE DA IMPIANTARE'!$G48=\"Piantagioni lineari\",'3 - SPECIE DA IMPIANTARE'!H48,0)","v":0},{"$f":"IF('3 - SPECIE DA IMPIANTARE'!$G48=\"Piantagioni lineari\",'3 - SPECIE DA IMPIANTARE'!I48,0)","v":0},{"$f":"IF('3 - SPECIE DA IMPIANTARE'!$G48=\"Piantagioni lineari\",'3 - SPECIE DA IMPIANTARE'!K48,0)","v":0},{"$f":"IF('3 - SPECIE DA IMPIANTARE'!$G48=\"Piantagioni lineari\",'3 - SPECIE DA IMPIANTARE'!L48,0)","v":0},{"$f":"IF('3 - SPECIE DA IMPIANTARE'!$G48=\"Piantagioni lineari\",'3 - SPECIE DA IMPIANTARE'!N48,0)","v":0},{"$f":"IF('3 - SPECIE DA IMPIANTARE'!$G48=\"Piantagioni lineari\",'3 - SPECIE DA IMPIANTARE'!O48,0)","v":0},{"$f":"IF('3 - SPECIE DA IMPIANTARE'!$G48=\"Piantagioni lineari\",'3 - SPECIE DA IMPIANTARE'!Q48,0)","v":0},{"$f":"IF('3 - SPECIE DA IMPIANTARE'!$G48=\"Piantagioni lineari\",'3 - SPECIE DA IMPIANTARE'!R48,0)","v":0},{"$f":"IF('3 - SPECIE DA IMPIANTARE'!$G48=\"Piantagioni lineari\",'3 - SPECIE DA IMPIANTARE'!T48,0)","v":0},{"$f":"IF('3 - SPECIE DA IMPIANTARE'!$G48=\"Piantagioni lineari\",'3 - SPECIE DA IMPIANTARE'!U48,0)","v":0},{"$f":"IF('3 - SPECIE DA IMPIANTARE'!$G48=\"Piantagioni lineari\",'3 - SPECIE DA IMPIANTARE'!W48,0)","v":0},{"$f":"IF('3 - SPECIE DA IMPIANTARE'!$G48=\"Piantagioni lineari\",'3 - SPECIE DA IMPIANTARE'!X48,0)","v":0},{"$f":"IF('3 - SPECIE DA IMPIANTARE'!$G48=\"Impianti a sesto regolare\",'3 - SPECIE DA IMPIANTARE'!$H48,0)","v":0},{"$f":"IF('3 - SPECIE DA IMPIANTARE'!$G48=\"Impianti a sesto regolare\",'3 - SPECIE DA IMPIANTARE'!$I48,0)","v":0},{"$f":"IF('3 - SPECIE DA IMPIANTARE'!$G48=\"Impianti a sesto regolare\",'3 - SPECIE DA IMPIANTARE'!$K48,0)","v":0},{"$f":"IF('3 - SPECIE DA IMPIANTARE'!$G48=\"Impianti a sesto regolare\",'3 - SPECIE DA IMPIANTARE'!$L48,0)","v":0},{"$f":"IF('3 - SPECIE DA IMPIANTARE'!$G48=\"Impianti a sesto regolare\",'3 - SPECIE DA IMPIANTARE'!$N48,0)","v":0},{"$f":"IF('3 - SPECIE DA IMPIANTARE'!$G48=\"Impianti a sesto regolare\",'3 - SPECIE DA IMPIANTARE'!$O48,0)","v":0},{"$f":"IF('3 - SPECIE DA IMPIANTARE'!$G48=\"Impianti a sesto regolare\",'3 - SPECIE DA IMPIANTARE'!$Q48,0)","v":0},{"$f":"IF('3 - SPECIE DA IMPIANTARE'!$G48=\"Impianti a sesto regolare\",'3 - SPECIE DA IMPIANTARE'!$R48,0)","v":0},{"$f":"IF('3 - SPECIE DA IMPIANTARE'!$G48=\"Impianti a sesto regolare\",'3 - SPECIE DA IMPIANTARE'!$T48,0)","v":0},{"$f":"IF('3 - SPECIE DA IMPIANTARE'!$G48=\"Impianti a sesto regolare\",'3 - SPECIE DA IMPIANTARE'!$U48,0)","v":0},{"$f":"IF('3 - SPECIE DA IMPIANTARE'!$G48=\"Impianti a sesto regolare\",'3 - SPECIE DA IMPIANTARE'!$W48,0)","v":0},{"$f":"IF('3 - SPECIE DA IMPIANTARE'!$G48=\"Impianti a sesto regolare\",'3 - SPECIE DA IMPIANTARE'!$X48,0)","v":0}]
[{"$f":"IF('3 - SPECIE DA IMPIANTARE'!G49=\"Impianti in ordine sparso\",'3 - SPECIE DA IMPIANTARE'!H49,0)","v":0},{"$f":"IF('3 - SPECIE DA IMPIANTARE'!$G49=\"Impianti in ordine sparso\",'3 - SPECIE DA IMPIANTARE'!I49,0)","v":0},{"$f":"IF('3 - SPECIE DA IMPIANTARE'!$G49=\"Impianti in ordine sparso\",'3 - SPECIE DA IMPIANTARE'!K49,0)","v":0},{"$f":"IF('3 - SPECIE DA IMPIANTARE'!$G49=\"Impianti in ordine sparso\",'3 - SPECIE DA IMPIANTARE'!L49,0)","v":0},{"$f":"IF('3 - SPECIE DA IMPIANTARE'!$G49=\"Impianti in ordine sparso\",'3 - SPECIE DA IMPIANTARE'!N49,0)","v":0},{"$f":"IF('3 - SPECIE DA IMPIANTARE'!$G49=\"Impianti in ordine sparso\",'3 - SPECIE DA IMPIANTARE'!O49,0)","v":0},{"$f":"IF('3 - SPECIE DA IMPIANTARE'!$G49=\"Impianti in ordine sparso\",'3 - SPECIE DA IMPIANTARE'!Q49,0)","v":0},{"$f":"IF('3 - SPECIE DA IMPIANTARE'!$G49=\"Impianti in ordine sparso\",'3 - SPECIE DA IMPIANTARE'!R49,0)","v":0},{"$f":"IF('3 - SPECIE DA IMPIANTARE'!$G49=\"Impianti in ordine sparso\",'3 - SPECIE DA IMPIANTARE'!T49,0)","v":0},{"$f":"IF('3 - SPECIE DA IMPIANTARE'!$G49=\"Impianti in ordine sparso\",'3 - SPECIE DA IMPIANTARE'!U49,0)","v":0},{"$f":"IF('3 - SPECIE DA IMPIANTARE'!$G49=\"Impianti in ordine sparso\",'3 - SPECIE DA IMPIANTARE'!W49,0)","v":0},{"$f":"IF('3 - SPECIE DA IMPIANTARE'!$G49=\"Impianti in ordine sparso\",'3 - SPECIE DA IMPIANTARE'!X49,0)","v":0},{"$f":"IF('3 - SPECIE DA IMPIANTARE'!$G49=\"Piantagioni lineari\",'3 - SPECIE DA IMPIANTARE'!H49,0)","v":0},{"$f":"IF('3 - SPECIE DA IMPIANTARE'!$G49=\"Piantagioni lineari\",'3 - SPECIE DA IMPIANTARE'!I49,0)","v":0},{"$f":"IF('3 - SPECIE DA IMPIANTARE'!$G49=\"Piantagioni lineari\",'3 - SPECIE DA IMPIANTARE'!K49,0)","v":0},{"$f":"IF('3 - SPECIE DA IMPIANTARE'!$G49=\"Piantagioni lineari\",'3 - SPECIE DA IMPIANTARE'!L49,0)","v":0},{"$f":"IF('3 - SPECIE DA IMPIANTARE'!$G49=\"Piantagioni lineari\",'3 - SPECIE DA IMPIANTARE'!N49,0)","v":0},{"$f":"IF('3 - SPECIE DA IMPIANTARE'!$G49=\"Piantagioni lineari\",'3 - SPECIE DA IMPIANTARE'!O49,0)","v":0},{"$f":"IF('3 - SPECIE DA IMPIANTARE'!$G49=\"Piantagioni lineari\",'3 - SPECIE DA IMPIANTARE'!Q49,0)","v":0},{"$f":"IF('3 - SPECIE DA IMPIANTARE'!$G49=\"Piantagioni lineari\",'3 - SPECIE DA IMPIANTARE'!R49,0)","v":0},{"$f":"IF('3 - SPECIE DA IMPIANTARE'!$G49=\"Piantagioni lineari\",'3 - SPECIE DA IMPIANTARE'!T49,0)","v":0},{"$f":"IF('3 - SPECIE DA IMPIANTARE'!$G49=\"Piantagioni lineari\",'3 - SPECIE DA IMPIANTARE'!U49,0)","v":0},{"$f":"IF('3 - SPECIE DA IMPIANTARE'!$G49=\"Piantagioni lineari\",'3 - SPECIE DA IMPIANTARE'!W49,0)","v":0},{"$f":"IF('3 - SPECIE DA IMPIANTARE'!$G49=\"Piantagioni lineari\",'3 - SPECIE DA IMPIANTARE'!X49,0)","v":0},{"$f":"IF('3 - SPECIE DA IMPIANTARE'!$G49=\"Impianti a sesto regolare\",'3 - SPECIE DA IMPIANTARE'!$H49,0)","v":0},{"$f":"IF('3 - SPECIE DA IMPIANTARE'!$G49=\"Impianti a sesto regolare\",'3 - SPECIE DA IMPIANTARE'!$I49,0)","v":0},{"$f":"IF('3 - SPECIE DA IMPIANTARE'!$G49=\"Impianti a sesto regolare\",'3 - SPECIE DA IMPIANTARE'!$K49,0)","v":0},{"$f":"IF('3 - SPECIE DA IMPIANTARE'!$G49=\"Impianti a sesto regolare\",'3 - SPECIE DA IMPIANTARE'!$L49,0)","v":0},{"$f":"IF('3 - SPECIE DA IMPIANTARE'!$G49=\"Impianti a sesto regolare\",'3 - SPECIE DA IMPIANTARE'!$N49,0)","v":0},{"$f":"IF('3 - SPECIE DA IMPIANTARE'!$G49=\"Impianti a sesto regolare\",'3 - SPECIE DA IMPIANTARE'!$O49,0)","v":0},{"$f":"IF('3 - SPECIE DA IMPIANTARE'!$G49=\"Impianti a sesto regolare\",'3 - SPECIE DA IMPIANTARE'!$Q49,0)","v":0},{"$f":"IF('3 - SPECIE DA IMPIANTARE'!$G49=\"Impianti a sesto regolare\",'3 - SPECIE DA IMPIANTARE'!$R49,0)","v":0},{"$f":"IF('3 - SPECIE DA IMPIANTARE'!$G49=\"Impianti a sesto regolare\",'3 - SPECIE DA IMPIANTARE'!$T49,0)","v":0},{"$f":"IF('3 - SPECIE DA IMPIANTARE'!$G49=\"Impianti a sesto regolare\",'3 - SPECIE DA IMPIANTARE'!$U49,0)","v":0},{"$f":"IF('3 - SPECIE DA IMPIANTARE'!$G49=\"Impianti a sesto regolare\",'3 - SPECIE DA IMPIANTARE'!$W49,0)","v":0},{"$f":"IF('3 - SPECIE DA IMPIANTARE'!$G49=\"Impianti a sesto regolare\",'3 - SPECIE DA IMPIANTARE'!$X49,0)","v":0}]
[{"$f":"IF('3 - SPECIE DA IMPIANTARE'!G50=\"Impianti in ordine sparso\",'3 - SPECIE DA IMPIANTARE'!H50,0)","v":0},{"$f":"IF('3 - SPECIE DA IMPIANTARE'!$G50=\"Impianti in ordine sparso\",'3 - SPECIE DA IMPIANTARE'!I50,0)","v":0},{"$f":"IF('3 - SPECIE DA IMPIANTARE'!$G50=\"Impianti in ordine sparso\",'3 - SPECIE DA IMPIANTARE'!K50,0)","v":0},{"$f":"IF('3 - SPECIE DA IMPIANTARE'!$G50=\"Impianti in ordine sparso\",'3 - SPECIE DA IMPIANTARE'!L50,0)","v":0},{"$f":"IF('3 - SPECIE DA IMPIANTARE'!$G50=\"Impianti in ordine sparso\",'3 - SPECIE DA IMPIANTARE'!N50,0)","v":0},{"$f":"IF('3 - SPECIE DA IMPIANTARE'!$G50=\"Impianti in ordine sparso\",'3 - SPECIE DA IMPIANTARE'!O50,0)","v":0},{"$f":"IF('3 - SPECIE DA IMPIANTARE'!$G50=\"Impianti in ordine sparso\",'3 - SPECIE DA IMPIANTARE'!Q50,0)","v":0},{"$f":"IF('3 - SPECIE DA IMPIANTARE'!$G50=\"Impianti in ordine sparso\",'3 - SPECIE DA IMPIANTARE'!R50,0)","v":0},{"$f":"IF('3 - SPECIE DA IMPIANTARE'!$G50=\"Impianti in ordine sparso\",'3 - SPECIE DA IMPIANTARE'!T50,0)","v":0},{"$f":"IF('3 - SPECIE DA IMPIANTARE'!$G50=\"Impianti in ordine sparso\",'3 - SPECIE DA IMPIANTARE'!U50,0)","v":0},{"$f":"IF('3 - SPECIE DA IMPIANTARE'!$G50=\"Impianti in ordine sparso\",'3 - SPECIE DA IMPIANTARE'!W50,0)","v":0},{"$f":"IF('3 - SPECIE DA IMPIANTARE'!$G50=\"Impianti in ordine sparso\",'3 - SPECIE DA IMPIANTARE'!X50,0)","v":0},{"$f":"IF('3 - SPECIE DA IMPIANTARE'!$G50=\"Piantagioni lineari\",'3 - SPECIE DA IMPIANTARE'!H50,0)","v":0},{"$f":"IF('3 - SPECIE DA IMPIANTARE'!$G50=\"Piantagioni lineari\",'3 - SPECIE DA IMPIANTARE'!I50,0)","v":0},{"$f":"IF('3 - SPECIE DA IMPIANTARE'!$G50=\"Piantagioni lineari\",'3 - SPECIE DA IMPIANTARE'!K50,0)","v":0},{"$f":"IF('3 - SPECIE DA IMPIANTARE'!$G50=\"Piantagioni lineari\",'3 - SPECIE DA IMPIANTARE'!L50,0)","v":0},{"$f":"IF('3 - SPECIE DA IMPIANTARE'!$G50=\"Piantagioni lineari\",'3 - SPECIE DA IMPIANTARE'!N50,0)","v":0},{"$f":"IF('3 - SPECIE DA IMPIANTARE'!$G50=\"Piantagioni lineari\",'3 - SPECIE DA IMPIANTARE'!O50,0)","v":0},{"$f":"IF('3 - SPECIE DA IMPIANTARE'!$G50=\"Piantagioni lineari\",'3 - SPECIE DA IMPIANTARE'!Q50,0)","v":0},{"$f":"IF('3 - SPECIE DA IMPIANTARE'!$G50=\"Piantagioni lineari\",'3 - SPECIE DA IMPIANTARE'!R50,0)","v":0},{"$f":"IF('3 - SPECIE DA IMPIANTARE'!$G50=\"Piantagioni lineari\",'3 - SPECIE DA IMPIANTARE'!T50,0)","v":0},{"$f":"IF('3 - SPECIE DA IMPIANTARE'!$G50=\"Piantagioni lineari\",'3 - SPECIE DA IMPIANTARE'!U50,0)","v":0},{"$f":"IF('3 - SPECIE DA IMPIANTARE'!$G50=\"Piantagioni lineari\",'3 - SPECIE DA IMPIANTARE'!W50,0)","v":0},{"$f":"IF('3 - SPECIE DA IMPIANTARE'!$G50=\"Piantagioni lineari\",'3 - SPECIE DA IMPIANTARE'!X50,0)","v":0},{"$f":"IF('3 - SPECIE DA IMPIANTARE'!$G50=\"Impianti a sesto regolare\",'3 - SPECIE DA IMPIANTARE'!$H50,0)","v":0},{"$f":"IF('3 - SPECIE DA IMPIANTARE'!$G50=\"Impianti a sesto regolare\",'3 - SPECIE DA IMPIANTARE'!$I50,0)","v":0},{"$f":"IF('3 - SPECIE DA IMPIANTARE'!$G50=\"Impianti a sesto regolare\",'3 - SPECIE DA IMPIANTARE'!$K50,0)","v":0},{"$f":"IF('3 - SPECIE DA IMPIANTARE'!$G50=\"Impianti a sesto regolare\",'3 - SPECIE DA IMPIANTARE'!$L50,0)","v":0},{"$f":"IF('3 - SPECIE DA IMPIANTARE'!$G50=\"Impianti a sesto regolare\",'3 - SPECIE DA IMPIANTARE'!$N50,0)","v":0},{"$f":"IF('3 - SPECIE DA IMPIANTARE'!$G50=\"Impianti a sesto regolare\",'3 - SPECIE DA IMPIANTARE'!$O50,0)","v":0},{"$f":"IF('3 - SPECIE DA IMPIANTARE'!$G50=\"Impianti a sesto regolare\",'3 - SPECIE DA IMPIANTARE'!$Q50,0)","v":0},{"$f":"IF('3 - SPECIE DA IMPIANTARE'!$G50=\"Impianti a sesto regolare\",'3 - SPECIE DA IMPIANTARE'!$R50,0)","v":0},{"$f":"IF('3 - SPECIE DA IMPIANTARE'!$G50=\"Impianti a sesto regolare\",'3 - SPECIE DA IMPIANTARE'!$T50,0)","v":0},{"$f":"IF('3 - SPECIE DA IMPIANTARE'!$G50=\"Impianti a sesto regolare\",'3 - SPECIE DA IMPIANTARE'!$U50,0)","v":0},{"$f":"IF('3 - SPECIE DA IMPIANTARE'!$G50=\"Impianti a sesto regolare\",'3 - SPECIE DA IMPIANTARE'!$W50,0)","v":0},{"$f":"IF('3 - SPECIE DA IMPIANTARE'!$G50=\"Impianti a sesto regolare\",'3 - SPECIE DA IMPIANTARE'!$X50,0)","v":0}]
[{"$f":"IF('3 - SPECIE DA IMPIANTARE'!G51=\"Impianti in ordine sparso\",'3 - SPECIE DA IMPIANTARE'!H51,0)","v":0},{"$f":"IF('3 - SPECIE DA IMPIANTARE'!$G51=\"Impianti in ordine sparso\",'3 - SPECIE DA IMPIANTARE'!I51,0)","v":0},{"$f":"IF('3 - SPECIE DA IMPIANTARE'!$G51=\"Impianti in ordine sparso\",'3 - SPECIE DA IMPIANTARE'!K51,0)","v":0},{"$f":"IF('3 - SPECIE DA IMPIANTARE'!$G51=\"Impianti in ordine sparso\",'3 - SPECIE DA IMPIANTARE'!L51,0)","v":0},{"$f":"IF('3 - SPECIE DA IMPIANTARE'!$G51=\"Impianti in ordine sparso\",'3 - SPECIE DA IMPIANTARE'!N51,0)","v":0},{"$f":"IF('3 - SPECIE DA IMPIANTARE'!$G51=\"Impianti in ordine sparso\",'3 - SPECIE DA IMPIANTARE'!O51,0)","v":0},{"$f":"IF('3 - SPECIE DA IMPIANTARE'!$G51=\"Impianti in ordine sparso\",'3 - SPECIE DA IMPIANTARE'!Q51,0)","v":0},{"$f":"IF('3 - SPECIE DA IMPIANTARE'!$G51=\"Impianti in ordine sparso\",'3 - SPECIE DA IMPIANTARE'!R51,0)","v":0},{"$f":"IF('3 - SPECIE DA IMPIANTARE'!$G51=\"Impianti in ordine sparso\",'3 - SPECIE DA IMPIANTARE'!T51,0)","v":0},{"$f":"IF('3 - SPECIE DA IMPIANTARE'!$G51=\"Impianti in ordine sparso\",'3 - SPECIE DA IMPIANTARE'!U51,0)","v":0},{"$f":"IF('3 - SPECIE DA IMPIANTARE'!$G51=\"Impianti in ordine sparso\",'3 - SPECIE DA IMPIANTARE'!W51,0)","v":0},{"$f":"IF('3 - SPECIE DA IMPIANTARE'!$G51=\"Impianti in ordine sparso\",'3 - SPECIE DA IMPIANTARE'!X51,0)","v":0},{"$f":"IF('3 - SPECIE DA IMPIANTARE'!$G51=\"Piantagioni lineari\",'3 - SPECIE DA IMPIANTARE'!H51,0)","v":0},{"$f":"IF('3 - SPECIE DA IMPIANTARE'!$G51=\"Piantagioni lineari\",'3 - SPECIE DA IMPIANTARE'!I51,0)","v":0},{"$f":"IF('3 - SPECIE DA IMPIANTARE'!$G51=\"Piantagioni lineari\",'3 - SPECIE DA IMPIANTARE'!K51,0)","v":0},{"$f":"IF('3 - SPECIE DA IMPIANTARE'!$G51=\"Piantagioni lineari\",'3 - SPECIE DA IMPIANTARE'!L51,0)","v":0},{"$f":"IF('3 - SPECIE DA IMPIANTARE'!$G51=\"Piantagioni lineari\",'3 - SPECIE DA IMPIANTARE'!N51,0)","v":0},{"$f":"IF('3 - SPECIE DA IMPIANTARE'!$G51=\"Piantagioni lineari\",'3 - SPECIE DA IMPIANTARE'!O51,0)","v":0},{"$f":"IF('3 - SPECIE DA IMPIANTARE'!$G51=\"Piantagioni lineari\",'3 - SPECIE DA IMPIANTARE'!Q51,0)","v":0},{"$f":"IF('3 - SPECIE DA IMPIANTARE'!$G51=\"Piantagioni lineari\",'3 - SPECIE DA IMPIANTARE'!R51,0)","v":0},{"$f":"IF('3 - SPECIE DA IMPIANTARE'!$G51=\"Piantagioni lineari\",'3 - SPECIE DA IMPIANTARE'!T51,0)","v":0},{"$f":"IF('3 - SPECIE DA IMPIANTARE'!$G51=\"Piantagioni lineari\",'3 - SPECIE DA IMPIANTARE'!U51,0)","v":0},{"$f":"IF('3 - SPECIE DA IMPIANTARE'!$G51=\"Piantagioni lineari\",'3 - SPECIE DA IMPIANTARE'!W51,0)","v":0},{"$f":"IF('3 - SPECIE DA IMPIANTARE'!$G51=\"Piantagioni lineari\",'3 - SPECIE DA IMPIANTARE'!X51,0)","v":0},{"$f":"IF('3 - SPECIE DA IMPIANTARE'!$G51=\"Impianti a sesto regolare\",'3 - SPECIE DA IMPIANTARE'!$H51,0)","v":0},{"$f":"IF('3 - SPECIE DA IMPIANTARE'!$G51=\"Impianti a sesto regolare\",'3 - SPECIE DA IMPIANTARE'!$I51,0)","v":0},{"$f":"IF('3 - SPECIE DA IMPIANTARE'!$G51=\"Impianti a sesto regolare\",'3 - SPECIE DA IMPIANTARE'!$K51,0)","v":0},{"$f":"IF('3 - SPECIE DA IMPIANTARE'!$G51=\"Impianti a sesto regolare\",'3 - SPECIE DA IMPIANTARE'!$L51,0)","v":0},{"$f":"IF('3 - SPECIE DA IMPIANTARE'!$G51=\"Impianti a sesto regolare\",'3 - SPECIE DA IMPIANTARE'!$N51,0)","v":0},{"$f":"IF('3 - SPECIE DA IMPIANTARE'!$G51=\"Impianti a sesto regolare\",'3 - SPECIE DA IMPIANTARE'!$O51,0)","v":0},{"$f":"IF('3 - SPECIE DA IMPIANTARE'!$G51=\"Impianti a sesto regolare\",'3 - SPECIE DA IMPIANTARE'!$Q51,0)","v":0},{"$f":"IF('3 - SPECIE DA IMPIANTARE'!$G51=\"Impianti a sesto regolare\",'3 - SPECIE DA IMPIANTARE'!$R51,0)","v":0},{"$f":"IF('3 - SPECIE DA IMPIANTARE'!$G51=\"Impianti a sesto regolare\",'3 - SPECIE DA IMPIANTARE'!$T51,0)","v":0},{"$f":"IF('3 - SPECIE DA IMPIANTARE'!$G51=\"Impianti a sesto regolare\",'3 - SPECIE DA IMPIANTARE'!$U51,0)","v":0},{"$f":"IF('3 - SPECIE DA IMPIANTARE'!$G51=\"Impianti a sesto regolare\",'3 - SPECIE DA IMPIANTARE'!$W51,0)","v":0},{"$f":"IF('3 - SPECIE DA IMPIANTARE'!$G51=\"Impianti a sesto regolare\",'3 - SPECIE DA IMPIANTARE'!$X51,0)","v":0}]
[{"$f":"IF('3 - SPECIE DA IMPIANTARE'!G52=\"Impianti in ordine sparso\",'3 - SPECIE DA IMPIANTARE'!H52,0)","v":0},{"$f":"IF('3 - SPECIE DA IMPIANTARE'!$G52=\"Impianti in ordine sparso\",'3 - SPECIE DA IMPIANTARE'!I52,0)","v":0},{"$f":"IF('3 - SPECIE DA IMPIANTARE'!$G52=\"Impianti in ordine sparso\",'3 - SPECIE DA IMPIANTARE'!K52,0)","v":0},{"$f":"IF('3 - SPECIE DA IMPIANTARE'!$G52=\"Impianti in ordine sparso\",'3 - SPECIE DA IMPIANTARE'!L52,0)","v":0},{"$f":"IF('3 - SPECIE DA IMPIANTARE'!$G52=\"Impianti in ordine sparso\",'3 - SPECIE DA IMPIANTARE'!N52,0)","v":0},{"$f":"IF('3 - SPECIE DA IMPIANTARE'!$G52=\"Impianti in ordine sparso\",'3 - SPECIE DA IMPIANTARE'!O52,0)","v":0},{"$f":"IF('3 - SPECIE DA IMPIANTARE'!$G52=\"Impianti in ordine sparso\",'3 - SPECIE DA IMPIANTARE'!Q52,0)","v":0},{"$f":"IF('3 - SPECIE DA IMPIANTARE'!$G52=\"Impianti in ordine sparso\",'3 - SPECIE DA IMPIANTARE'!R52,0)","v":0},{"$f":"IF('3 - SPECIE DA IMPIANTARE'!$G52=\"Impianti in ordine sparso\",'3 - SPECIE DA IMPIANTARE'!T52,0)","v":0},{"$f":"IF('3 - SPECIE DA IMPIANTARE'!$G52=\"Impianti in ordine sparso\",'3 - SPECIE DA IMPIANTARE'!U52,0)","v":0},{"$f":"IF('3 - SPECIE DA IMPIANTARE'!$G52=\"Impianti in ordine sparso\",'3 - SPECIE DA IMPIANTARE'!W52,0)","v":0},{"$f":"IF('3 - SPECIE DA IMPIANTARE'!$G52=\"Impianti in ordine sparso\",'3 - SPECIE DA IMPIANTARE'!X52,0)","v":0},{"$f":"IF('3 - SPECIE DA IMPIANTARE'!$G52=\"Piantagioni lineari\",'3 - SPECIE DA IMPIANTARE'!H52,0)","v":0},{"$f":"IF('3 - SPECIE DA IMPIANTARE'!$G52=\"Piantagioni lineari\",'3 - SPECIE DA IMPIANTARE'!I52,0)","v":0},{"$f":"IF('3 - SPECIE DA IMPIANTARE'!$G52=\"Piantagioni lineari\",'3 - SPECIE DA IMPIANTARE'!K52,0)","v":0},{"$f":"IF('3 - SPECIE DA IMPIANTARE'!$G52=\"Piantagioni lineari\",'3 - SPECIE DA IMPIANTARE'!L52,0)","v":0},{"$f":"IF('3 - SPECIE DA IMPIANTARE'!$G52=\"Piantagioni lineari\",'3 - SPECIE DA IMPIANTARE'!N52,0)","v":0},{"$f":"IF('3 - SPECIE DA IMPIANTARE'!$G52=\"Piantagioni lineari\",'3 - SPECIE DA IMPIANTARE'!O52,0)","v":0},{"$f":"IF('3 - SPECIE DA IMPIANTARE'!$G52=\"Piantagioni lineari\",'3 - SPECIE DA IMPIANTARE'!Q52,0)","v":0},{"$f":"IF('3 - SPECIE DA IMPIANTARE'!$G52=\"Piantagioni lineari\",'3 - SPECIE DA IMPIANTARE'!R52,0)","v":0},{"$f":"IF('3 - SPECIE DA IMPIANTARE'!$G52=\"Piantagioni lineari\",'3 - SPECIE DA IMPIANTARE'!T52,0)","v":0},{"$f":"IF('3 - SPECIE DA IMPIANTARE'!$G52=\"Piantagioni lineari\",'3 - SPECIE DA IMPIANTARE'!U52,0)","v":0},{"$f":"IF('3 - SPECIE DA IMPIANTARE'!$G52=\"Piantagioni lineari\",'3 - SPECIE DA IMPIANTARE'!W52,0)","v":0},{"$f":"IF('3 - SPECIE DA IMPIANTARE'!$G52=\"Piantagioni lineari\",'3 - SPECIE DA IMPIANTARE'!X52,0)","v":0},{"$f":"IF('3 - SPECIE DA IMPIANTARE'!$G52=\"Impianti a sesto regolare\",'3 - SPECIE DA IMPIANTARE'!$H52,0)","v":0},{"$f":"IF('3 - SPECIE DA IMPIANTARE'!$G52=\"Impianti a sesto regolare\",'3 - SPECIE DA IMPIANTARE'!$I52,0)","v":0},{"$f":"IF('3 - SPECIE DA IMPIANTARE'!$G52=\"Impianti a sesto regolare\",'3 - SPECIE DA IMPIANTARE'!$K52,0)","v":0},{"$f":"IF('3 - SPECIE DA IMPIANTARE'!$G52=\"Impianti a sesto regolare\",'3 - SPECIE DA IMPIANTARE'!$L52,0)","v":0},{"$f":"IF('3 - SPECIE DA IMPIANTARE'!$G52=\"Impianti a sesto regolare\",'3 - SPECIE DA IMPIANTARE'!$N52,0)","v":0},{"$f":"IF('3 - SPECIE DA IMPIANTARE'!$G52=\"Impianti a sesto regolare\",'3 - SPECIE DA IMPIANTARE'!$O52,0)","v":0},{"$f":"IF('3 - SPECIE DA IMPIANTARE'!$G52=\"Impianti a sesto regolare\",'3 - SPECIE DA IMPIANTARE'!$Q52,0)","v":0},{"$f":"IF('3 - SPECIE DA IMPIANTARE'!$G52=\"Impianti a sesto regolare\",'3 - SPECIE DA IMPIANTARE'!$R52,0)","v":0},{"$f":"IF('3 - SPECIE DA IMPIANTARE'!$G52=\"Impianti a sesto regolare\",'3 - SPECIE DA IMPIANTARE'!$T52,0)","v":0},{"$f":"IF('3 - SPECIE DA IMPIANTARE'!$G52=\"Impianti a sesto regolare\",'3 - SPECIE DA IMPIANTARE'!$U52,0)","v":0},{"$f":"IF('3 - SPECIE DA IMPIANTARE'!$G52=\"Impianti a sesto regolare\",'3 - SPECIE DA IMPIANTARE'!$W52,0)","v":0},{"$f":"IF('3 - SPECIE DA IMPIANTARE'!$G52=\"Impianti a sesto regolare\",'3 - SPECIE DA IMPIANTARE'!$X52,0)","v":0}]
[{"$f":"IF('3 - SPECIE DA IMPIANTARE'!G53=\"Impianti in ordine sparso\",'3 - SPECIE DA IMPIANTARE'!H53,0)","v":0},{"$f":"IF('3 - SPECIE DA IMPIANTARE'!$G53=\"Impianti in ordine sparso\",'3 - SPECIE DA IMPIANTARE'!I53,0)","v":0},{"$f":"IF('3 - SPECIE DA IMPIANTARE'!$G53=\"Impianti in ordine sparso\",'3 - SPECIE DA IMPIANTARE'!K53,0)","v":0},{"$f":"IF('3 - SPECIE DA IMPIANTARE'!$G53=\"Impianti in ordine sparso\",'3 - SPECIE DA IMPIANTARE'!L53,0)","v":0},{"$f":"IF('3 - SPECIE DA IMPIANTARE'!$G53=\"Impianti in ordine sparso\",'3 - SPECIE DA IMPIANTARE'!N53,0)","v":0},{"$f":"IF('3 - SPECIE DA IMPIANTARE'!$G53=\"Impianti in ordine sparso\",'3 - SPECIE DA IMPIANTARE'!O53,0)","v":0},{"$f":"IF('3 - SPECIE DA IMPIANTARE'!$G53=\"Impianti in ordine sparso\",'3 - SPECIE DA IMPIANTARE'!Q53,0)","v":0},{"$f":"IF('3 - SPECIE DA IMPIANTARE'!$G53=\"Impianti in ordine sparso\",'3 - SPECIE DA IMPIANTARE'!R53,0)","v":0},{"$f":"IF('3 - SPECIE DA IMPIANTARE'!$G53=\"Impianti in ordine sparso\",'3 - SPECIE DA IMPIANTARE'!T53,0)","v":0},{"$f":"IF('3 - SPECIE DA IMPIANTARE'!$G53=\"Impianti in ordine sparso\",'3 - SPECIE DA IMPIANTARE'!U53,0)","v":0},{"$f":"IF('3 - SPECIE DA IMPIANTARE'!$G53=\"Impianti in ordine sparso\",'3 - SPECIE DA IMPIANTARE'!W53,0)","v":0},{"$f":"IF('3 - SPECIE DA IMPIANTARE'!$G53=\"Impianti in ordine sparso\",'3 - SPECIE DA IMPIANTARE'!X53,0)","v":0},{"$f":"IF('3 - SPECIE DA IMPIANTARE'!$G53=\"Piantagioni lineari\",'3 - SPECIE DA IMPIANTARE'!H53,0)","v":0},{"$f":"IF('3 - SPECIE DA IMPIANTARE'!$G53=\"Piantagioni lineari\",'3 - SPECIE DA IMPIANTARE'!I53,0)","v":0},{"$f":"IF('3 - SPECIE DA IMPIANTARE'!$G53=\"Piantagioni lineari\",'3 - SPECIE DA IMPIANTARE'!K53,0)","v":0},{"$f":"IF('3 - SPECIE DA IMPIANTARE'!$G53=\"Piantagioni lineari\",'3 - SPECIE DA IMPIANTARE'!L53,0)","v":0},{"$f":"IF('3 - SPECIE DA IMPIANTARE'!$G53=\"Piantagioni lineari\",'3 - SPECIE DA IMPIANTARE'!N53,0)","v":0},{"$f":"IF('3 - SPECIE DA IMPIANTARE'!$G53=\"Piantagioni lineari\",'3 - SPECIE DA IMPIANTARE'!O53,0)","v":0},{"$f":"IF('3 - SPECIE DA IMPIANTARE'!$G53=\"Piantagioni lineari\",'3 - SPECIE DA IMPIANTARE'!Q53,0)","v":0},{"$f":"IF('3 - SPECIE DA IMPIANTARE'!$G53=\"Piantagioni lineari\",'3 - SPECIE DA IMPIANTARE'!R53,0)","v":0},{"$f":"IF('3 - SPECIE DA IMPIANTARE'!$G53=\"Piantagioni lineari\",'3 - SPECIE DA IMPIANTARE'!T53,0)","v":0},{"$f":"IF('3 - SPECIE DA IMPIANTARE'!$G53=\"Piantagioni lineari\",'3 - SPECIE DA IMPIANTARE'!U53,0)","v":0},{"$f":"IF('3 - SPECIE DA IMPIANTARE'!$G53=\"Piantagioni lineari\",'3 - SPECIE DA IMPIANTARE'!W53,0)","v":0},{"$f":"IF('3 - SPECIE DA IMPIANTARE'!$G53=\"Piantagioni lineari\",'3 - SPECIE DA IMPIANTARE'!X53,0)","v":0},{"$f":"IF('3 - SPECIE DA IMPIANTARE'!$G53=\"Impianti a sesto regolare\",'3 - SPECIE DA IMPIANTARE'!$H53,0)","v":0},{"$f":"IF('3 - SPECIE DA IMPIANTARE'!$G53=\"Impianti a sesto regolare\",'3 - SPECIE DA IMPIANTARE'!$I53,0)","v":0},{"$f":"IF('3 - SPECIE DA IMPIANTARE'!$G53=\"Impianti a sesto regolare\",'3 - SPECIE DA IMPIANTARE'!$K53,0)","v":0},{"$f":"IF('3 - SPECIE DA IMPIANTARE'!$G53=\"Impianti a sesto regolare\",'3 - SPECIE DA IMPIANTARE'!$L53,0)","v":0},{"$f":"IF('3 - SPECIE DA IMPIANTARE'!$G53=\"Impianti a sesto regolare\",'3 - SPECIE DA IMPIANTARE'!$N53,0)","v":0},{"$f":"IF('3 - SPECIE DA IMPIANTARE'!$G53=\"Impianti a sesto regolare\",'3 - SPECIE DA IMPIANTARE'!$O53,0)","v":0},{"$f":"IF('3 - SPECIE DA IMPIANTARE'!$G53=\"Impianti a sesto regolare\",'3 - SPECIE DA IMPIANTARE'!$Q53,0)","v":0},{"$f":"IF('3 - SPECIE DA IMPIANTARE'!$G53=\"Impianti a sesto regolare\",'3 - SPECIE DA IMPIANTARE'!$R53,0)","v":0},{"$f":"IF('3 - SPECIE DA IMPIANTARE'!$G53=\"Impianti a sesto regolare\",'3 - SPECIE DA IMPIANTARE'!$T53,0)","v":0},{"$f":"IF('3 - SPECIE DA IMPIANTARE'!$G53=\"Impianti a sesto regolare\",'3 - SPECIE DA IMPIANTARE'!$U53,0)","v":0},{"$f":"IF('3 - SPECIE DA IMPIANTARE'!$G53=\"Impianti a sesto regolare\",'3 - SPECIE DA IMPIANTARE'!$W53,0)","v":0},{"$f":"IF('3 - SPECIE DA IMPIANTARE'!$G53=\"Impianti a sesto regolare\",'3 - SPECIE DA IMPIANTARE'!$X53,0)","v":0}]
[{"$f":"IF('3 - SPECIE DA IMPIANTARE'!G54=\"Impianti in ordine sparso\",'3 - SPECIE DA IMPIANTARE'!H54,0)","v":0},{"$f":"IF('3 - SPECIE DA IMPIANTARE'!$G54=\"Impianti in ordine sparso\",'3 - SPECIE DA IMPIANTARE'!I54,0)","v":0},{"$f":"IF('3 - SPECIE DA IMPIANTARE'!$G54=\"Impianti in ordine sparso\",'3 - SPECIE DA IMPIANTARE'!K54,0)","v":0},{"$f":"IF('3 - SPECIE DA IMPIANTARE'!$G54=\"Impianti in ordine sparso\",'3 - SPECIE DA IMPIANTARE'!L54,0)","v":0},{"$f":"IF('3 - SPECIE DA IMPIANTARE'!$G54=\"Impianti in ordine sparso\",'3 - SPECIE DA IMPIANTARE'!N54,0)","v":0},{"$f":"IF('3 - SPECIE DA IMPIANTARE'!$G54=\"Impianti in ordine sparso\",'3 - SPECIE DA IMPIANTARE'!O54,0)","v":0},{"$f":"IF('3 - SPECIE DA IMPIANTARE'!$G54=\"Impianti in ordine sparso\",'3 - SPECIE DA IMPIANTARE'!Q54,0)","v":0},{"$f":"IF('3 - SPECIE DA IMPIANTARE'!$G54=\"Impianti in ordine sparso\",'3 - SPECIE DA IMPIANTARE'!R54,0)","v":0},{"$f":"IF('3 - SPECIE DA IMPIANTARE'!$G54=\"Impianti in ordine sparso\",'3 - SPECIE DA IMPIANTARE'!T54,0)","v":0},{"$f":"IF('3 - SPECIE DA IMPIANTARE'!$G54=\"Impianti in ordine sparso\",'3 - SPECIE DA IMPIANTARE'!U54,0)","v":0},{"$f":"IF('3 - SPECIE DA IMPIANTARE'!$G54=\"Impianti in ordine sparso\",'3 - SPECIE DA IMPIANTARE'!W54,0)","v":0},{"$f":"IF('3 - SPECIE DA IMPIANTARE'!$G54=\"Impianti in ordine sparso\",'3 - SPECIE DA IMPIANTARE'!X54,0)","v":0},{"$f":"IF('3 - SPECIE DA IMPIANTARE'!$G54=\"Piantagioni lineari\",'3 - SPECIE DA IMPIANTARE'!H54,0)","v":0},{"$f":"IF('3 - SPECIE DA IMPIANTARE'!$G54=\"Piantagioni lineari\",'3 - SPECIE DA IMPIANTARE'!I54,0)","v":0},{"$f":"IF('3 - SPECIE DA IMPIANTARE'!$G54=\"Piantagioni lineari\",'3 - SPECIE DA IMPIANTARE'!K54,0)","v":0},{"$f":"IF('3 - SPECIE DA IMPIANTARE'!$G54=\"Piantagioni lineari\",'3 - SPECIE DA IMPIANTARE'!L54,0)","v":0},{"$f":"IF('3 - SPECIE DA IMPIANTARE'!$G54=\"Piantagioni lineari\",'3 - SPECIE DA IMPIANTARE'!N54,0)","v":0},{"$f":"IF('3 - SPECIE DA IMPIANTARE'!$G54=\"Piantagioni lineari\",'3 - SPECIE DA IMPIANTARE'!O54,0)","v":0},{"$f":"IF('3 - SPECIE DA IMPIANTARE'!$G54=\"Piantagioni lineari\",'3 - SPECIE DA IMPIANTARE'!Q54,0)","v":0},{"$f":"IF('3 - SPECIE DA IMPIANTARE'!$G54=\"Piantagioni lineari\",'3 - SPECIE DA IMPIANTARE'!R54,0)","v":0},{"$f":"IF('3 - SPECIE DA IMPIANTARE'!$G54=\"Piantagioni lineari\",'3 - SPECIE DA IMPIANTARE'!T54,0)","v":0},{"$f":"IF('3 - SPECIE DA IMPIANTARE'!$G54=\"Piantagioni lineari\",'3 - SPECIE DA IMPIANTARE'!U54,0)","v":0},{"$f":"IF('3 - SPECIE DA IMPIANTARE'!$G54=\"Piantagioni lineari\",'3 - SPECIE DA IMPIANTARE'!W54,0)","v":0},{"$f":"IF('3 - SPECIE DA IMPIANTARE'!$G54=\"Piantagioni lineari\",'3 - SPECIE DA IMPIANTARE'!X54,0)","v":0},{"$f":"IF('3 - SPECIE DA IMPIANTARE'!$G54=\"Impianti a sesto regolare\",'3 - SPECIE DA IMPIANTARE'!$H54,0)","v":0},{"$f":"IF('3 - SPECIE DA IMPIANTARE'!$G54=\"Impianti a sesto regolare\",'3 - SPECIE DA IMPIANTARE'!$I54,0)","v":0},{"$f":"IF('3 - SPECIE DA IMPIANTARE'!$G54=\"Impianti a sesto regolare\",'3 - SPECIE DA IMPIANTARE'!$K54,0)","v":0},{"$f":"IF('3 - SPECIE DA IMPIANTARE'!$G54=\"Impianti a sesto regolare\",'3 - SPECIE DA IMPIANTARE'!$L54,0)","v":0},{"$f":"IF('3 - SPECIE DA IMPIANTARE'!$G54=\"Impianti a sesto regolare\",'3 - SPECIE DA IMPIANTARE'!$N54,0)","v":0},{"$f":"IF('3 - SPECIE DA IMPIANTARE'!$G54=\"Impianti a sesto regolare\",'3 - SPECIE DA IMPIANTARE'!$O54,0)","v":0},{"$f":"IF('3 - SPECIE DA IMPIANTARE'!$G54=\"Impianti a sesto regolare\",'3 - SPECIE DA IMPIANTARE'!$Q54,0)","v":0},{"$f":"IF('3 - SPECIE DA IMPIANTARE'!$G54=\"Impianti a sesto regolare\",'3 - SPECIE DA IMPIANTARE'!$R54,0)","v":0},{"$f":"IF('3 - SPECIE DA IMPIANTARE'!$G54=\"Impianti a sesto regolare\",'3 - SPECIE DA IMPIANTARE'!$T54,0)","v":0},{"$f":"IF('3 - SPECIE DA IMPIANTARE'!$G54=\"Impianti a sesto regolare\",'3 - SPECIE DA IMPIANTARE'!$U54,0)","v":0},{"$f":"IF('3 - SPECIE DA IMPIANTARE'!$G54=\"Impianti a sesto regolare\",'3 - SPECIE DA IMPIANTARE'!$W54,0)","v":0},{"$f":"IF('3 - SPECIE DA IMPIANTARE'!$G54=\"Impianti a sesto regolare\",'3 - SPECIE DA IMPIANTARE'!$X54,0)","v":0}]
[{"$f":"IF('3 - SPECIE DA IMPIANTARE'!G55=\"Impianti in ordine sparso\",'3 - SPECIE DA IMPIANTARE'!H55,0)","v":0},{"$f":"IF('3 - SPECIE DA IMPIANTARE'!$G55=\"Impianti in ordine sparso\",'3 - SPECIE DA IMPIANTARE'!I55,0)","v":0},{"$f":"IF('3 - SPECIE DA IMPIANTARE'!$G55=\"Impianti in ordine sparso\",'3 - SPECIE DA IMPIANTARE'!K55,0)","v":0},{"$f":"IF('3 - SPECIE DA IMPIANTARE'!$G55=\"Impianti in ordine sparso\",'3 - SPECIE DA IMPIANTARE'!L55,0)","v":0},{"$f":"IF('3 - SPECIE DA IMPIANTARE'!$G55=\"Impianti in ordine sparso\",'3 - SPECIE DA IMPIANTARE'!N55,0)","v":0},{"$f":"IF('3 - SPECIE DA IMPIANTARE'!$G55=\"Impianti in ordine sparso\",'3 - SPECIE DA IMPIANTARE'!O55,0)","v":0},{"$f":"IF('3 - SPECIE DA IMPIANTARE'!$G55=\"Impianti in ordine sparso\",'3 - SPECIE DA IMPIANTARE'!Q55,0)","v":0},{"$f":"IF('3 - SPECIE DA IMPIANTARE'!$G55=\"Impianti in ordine sparso\",'3 - SPECIE DA IMPIANTARE'!R55,0)","v":0},{"$f":"IF('3 - SPECIE DA IMPIANTARE'!$G55=\"Impianti in ordine sparso\",'3 - SPECIE DA IMPIANTARE'!T55,0)","v":0},{"$f":"IF('3 - SPECIE DA IMPIANTARE'!$G55=\"Impianti in ordine sparso\",'3 - SPECIE DA IMPIANTARE'!U55,0)","v":0},{"$f":"IF('3 - SPECIE DA IMPIANTARE'!$G55=\"Impianti in ordine sparso\",'3 - SPECIE DA IMPIANTARE'!W55,0)","v":0},{"$f":"IF('3 - SPECIE DA IMPIANTARE'!$G55=\"Impianti in ordine sparso\",'3 - SPECIE DA IMPIANTARE'!X55,0)","v":0},{"$f":"IF('3 - SPECIE DA IMPIANTARE'!$G55=\"Piantagioni lineari\",'3 - SPECIE DA IMPIANTARE'!H55,0)","v":0},{"$f":"IF('3 - SPECIE DA IMPIANTARE'!$G55=\"Piantagioni lineari\",'3 - SPECIE DA IMPIANTARE'!I55,0)","v":0},{"$f":"IF('3 - SPECIE DA IMPIANTARE'!$G55=\"Piantagioni lineari\",'3 - SPECIE DA IMPIANTARE'!K55,0)","v":0},{"$f":"IF('3 - SPECIE DA IMPIANTARE'!$G55=\"Piantagioni lineari\",'3 - SPECIE DA IMPIANTARE'!L55,0)","v":0},{"$f":"IF('3 - SPECIE DA IMPIANTARE'!$G55=\"Piantagioni lineari\",'3 - SPECIE DA IMPIANTARE'!N55,0)","v":0},{"$f":"IF('3 - SPECIE DA IMPIANTARE'!$G55=\"Piantagioni lineari\",'3 - SPECIE DA IMPIANTARE'!O55,0)","v":0},{"$f":"IF('3 - SPECIE DA IMPIANTARE'!$G55=\"Piantagioni lineari\",'3 - SPECIE DA IMPIANTARE'!Q55,0)","v":0},{"$f":"IF('3 - SPECIE DA IMPIANTARE'!$G55=\"Piantagioni lineari\",'3 - SPECIE DA IMPIANTARE'!R55,0)","v":0},{"$f":"IF('3 - SPECIE DA IMPIANTARE'!$G55=\"Piantagioni lineari\",'3 - SPECIE DA IMPIANTARE'!T55,0)","v":0},{"$f":"IF('3 - SPECIE DA IMPIANTARE'!$G55=\"Piantagioni lineari\",'3 - SPECIE DA IMPIANTARE'!U55,0)","v":0},{"$f":"IF('3 - SPECIE DA IMPIANTARE'!$G55=\"Piantagioni lineari\",'3 - SPECIE DA IMPIANTARE'!W55,0)","v":0},{"$f":"IF('3 - SPECIE DA IMPIANTARE'!$G55=\"Piantagioni lineari\",'3 - SPECIE DA IMPIANTARE'!X55,0)","v":0},{"$f":"IF('3 - SPECIE DA IMPIANTARE'!$G55=\"Impianti a sesto regolare\",'3 - SPECIE DA IMPIANTARE'!$H55,0)","v":0},{"$f":"IF('3 - SPECIE DA IMPIANTARE'!$G55=\"Impianti a sesto regolare\",'3 - SPECIE DA IMPIANTARE'!$I55,0)","v":0},{"$f":"IF('3 - SPECIE DA IMPIANTARE'!$G55=\"Impianti a sesto regolare\",'3 - SPECIE DA IMPIANTARE'!$K55,0)","v":0},{"$f":"IF('3 - SPECIE DA IMPIANTARE'!$G55=\"Impianti a sesto regolare\",'3 - SPECIE DA IMPIANTARE'!$L55,0)","v":0},{"$f":"IF('3 - SPECIE DA IMPIANTARE'!$G55=\"Impianti a sesto regolare\",'3 - SPECIE DA IMPIANTARE'!$N55,0)","v":0},{"$f":"IF('3 - SPECIE DA IMPIANTARE'!$G55=\"Impianti a sesto regolare\",'3 - SPECIE DA IMPIANTARE'!$O55,0)","v":0},{"$f":"IF('3 - SPECIE DA IMPIANTARE'!$G55=\"Impianti a sesto regolare\",'3 - SPECIE DA IMPIANTARE'!$Q55,0)","v":0},{"$f":"IF('3 - SPECIE DA IMPIANTARE'!$G55=\"Impianti a sesto regolare\",'3 - SPECIE DA IMPIANTARE'!$R55,0)","v":0},{"$f":"IF('3 - SPECIE DA IMPIANTARE'!$G55=\"Impianti a sesto regolare\",'3 - SPECIE DA IMPIANTARE'!$T55,0)","v":0},{"$f":"IF('3 - SPECIE DA IMPIANTARE'!$G55=\"Impianti a sesto regolare\",'3 - SPECIE DA IMPIANTARE'!$U55,0)","v":0},{"$f":"IF('3 - SPECIE DA IMPIANTARE'!$G55=\"Impianti a sesto regolare\",'3 - SPECIE DA IMPIANTARE'!$W55,0)","v":0},{"$f":"IF('3 - SPECIE DA IMPIANTARE'!$G55=\"Impianti a sesto regolare\",'3 - SPECIE DA IMPIANTARE'!$X55,0)","v":0}]
[{"$f":"IF('3 - SPECIE DA IMPIANTARE'!G56=\"Impianti in ordine sparso\",'3 - SPECIE DA IMPIANTARE'!H56,0)","v":0},{"$f":"IF('3 - SPECIE DA IMPIANTARE'!$G56=\"Impianti in ordine sparso\",'3 - SPECIE DA IMPIANTARE'!I56,0)","v":0},{"$f":"IF('3 - SPECIE DA IMPIANTARE'!$G56=\"Impianti in ordine sparso\",'3 - SPECIE DA IMPIANTARE'!K56,0)","v":0},{"$f":"IF('3 - SPECIE DA IMPIANTARE'!$G56=\"Impianti in ordine sparso\",'3 - SPECIE DA IMPIANTARE'!L56,0)","v":0},{"$f":"IF('3 - SPECIE DA IMPIANTARE'!$G56=\"Impianti in ordine sparso\",'3 - SPECIE DA IMPIANTARE'!N56,0)","v":0},{"$f":"IF('3 - SPECIE DA IMPIANTARE'!$G56=\"Impianti in ordine sparso\",'3 - SPECIE DA IMPIANTARE'!O56,0)","v":0},{"$f":"IF('3 - SPECIE DA IMPIANTARE'!$G56=\"Impianti in ordine sparso\",'3 - SPECIE DA IMPIANTARE'!Q56,0)","v":0},{"$f":"IF('3 - SPECIE DA IMPIANTARE'!$G56=\"Impianti in ordine sparso\",'3 - SPECIE DA IMPIANTARE'!R56,0)","v":0},{"$f":"IF('3 - SPECIE DA IMPIANTARE'!$G56=\"Impianti in ordine sparso\",'3 - SPECIE DA IMPIANTARE'!T56,0)","v":0},{"$f":"IF('3 - SPECIE DA IMPIANTARE'!$G56=\"Impianti in ordine sparso\",'3 - SPECIE DA IMPIANTARE'!U56,0)","v":0},{"$f":"IF('3 - SPECIE DA IMPIANTARE'!$G56=\"Impianti in ordine sparso\",'3 - SPECIE DA IMPIANTARE'!W56,0)","v":0},{"$f":"IF('3 - SPECIE DA IMPIANTARE'!$G56=\"Impianti in ordine sparso\",'3 - SPECIE DA IMPIANTARE'!X56,0)","v":0},{"$f":"IF('3 - SPECIE DA IMPIANTARE'!$G56=\"Piantagioni lineari\",'3 - SPECIE DA IMPIANTARE'!H56,0)","v":0},{"$f":"IF('3 - SPECIE DA IMPIANTARE'!$G56=\"Piantagioni lineari\",'3 - SPECIE DA IMPIANTARE'!I56,0)","v":0},{"$f":"IF('3 - SPECIE DA IMPIANTARE'!$G56=\"Piantagioni lineari\",'3 - SPECIE DA IMPIANTARE'!K56,0)","v":0},{"$f":"IF('3 - SPECIE DA IMPIANTARE'!$G56=\"Piantagioni lineari\",'3 - SPECIE DA IMPIANTARE'!L56,0)","v":0},{"$f":"IF('3 - SPECIE DA IMPIANTARE'!$G56=\"Piantagioni lineari\",'3 - SPECIE DA IMPIANTARE'!N56,0)","v":0},{"$f":"IF('3 - SPECIE DA IMPIANTARE'!$G56=\"Piantagioni lineari\",'3 - SPECIE DA IMPIANTARE'!O56,0)","v":0},{"$f":"IF('3 - SPECIE DA IMPIANTARE'!$G56=\"Piantagioni lineari\",'3 - SPECIE DA IMPIANTARE'!Q56,0)","v":0},{"$f":"IF('3 - SPECIE DA IMPIANTARE'!$G56=\"Piantagioni lineari\",'3 - SPECIE DA IMPIANTARE'!R56,0)","v":0},{"$f":"IF('3 - SPECIE DA IMPIANTARE'!$G56=\"Piantagioni lineari\",'3 - SPECIE DA IMPIANTARE'!T56,0)","v":0},{"$f":"IF('3 - SPECIE DA IMPIANTARE'!$G56=\"Piantagioni lineari\",'3 - SPECIE DA IMPIANTARE'!U56,0)","v":0},{"$f":"IF('3 - SPECIE DA IMPIANTARE'!$G56=\"Piantagioni lineari\",'3 - SPECIE DA IMPIANTARE'!W56,0)","v":0},{"$f":"IF('3 - SPECIE DA IMPIANTARE'!$G56=\"Piantagioni lineari\",'3 - SPECIE DA IMPIANTARE'!X56,0)","v":0},{"$f":"IF('3 - SPECIE DA IMPIANTARE'!$G56=\"Impianti a sesto regolare\",'3 - SPECIE DA IMPIANTARE'!$H56,0)","v":0},{"$f":"IF('3 - SPECIE DA IMPIANTARE'!$G56=\"Impianti a sesto regolare\",'3 - SPECIE DA IMPIANTARE'!$I56,0)","v":0},{"$f":"IF('3 - SPECIE DA IMPIANTARE'!$G56=\"Impianti a sesto regolare\",'3 - SPECIE DA IMPIANTARE'!$K56,0)","v":0},{"$f":"IF('3 - SPECIE DA IMPIANTARE'!$G56=\"Impianti a sesto regolare\",'3 - SPECIE DA IMPIANTARE'!$L56,0)","v":0},{"$f":"IF('3 - SPECIE DA IMPIANTARE'!$G56=\"Impianti a sesto regolare\",'3 - SPECIE DA IMPIANTARE'!$N56,0)","v":0},{"$f":"IF('3 - SPECIE DA IMPIANTARE'!$G56=\"Impianti a sesto regolare\",'3 - SPECIE DA IMPIANTARE'!$O56,0)","v":0},{"$f":"IF('3 - SPECIE DA IMPIANTARE'!$G56=\"Impianti a sesto regolare\",'3 - SPECIE DA IMPIANTARE'!$Q56,0)","v":0},{"$f":"IF('3 - SPECIE DA IMPIANTARE'!$G56=\"Impianti a sesto regolare\",'3 - SPECIE DA IMPIANTARE'!$R56,0)","v":0},{"$f":"IF('3 - SPECIE DA IMPIANTARE'!$G56=\"Impianti a sesto regolare\",'3 - SPECIE DA IMPIANTARE'!$T56,0)","v":0},{"$f":"IF('3 - SPECIE DA IMPIANTARE'!$G56=\"Impianti a sesto regolare\",'3 - SPECIE DA IMPIANTARE'!$U56,0)","v":0},{"$f":"IF('3 - SPECIE DA IMPIANTARE'!$G56=\"Impianti a sesto regolare\",'3 - SPECIE DA IMPIANTARE'!$W56,0)","v":0},{"$f":"IF('3 - SPECIE DA IMPIANTARE'!$G56=\"Impianti a sesto regolare\",'3 - SPECIE DA IMPIANTARE'!$X56,0)","v":0}]
[{"$f":"IF('3 - SPECIE DA IMPIANTARE'!G57=\"Impianti in ordine sparso\",'3 - SPECIE DA IMPIANTARE'!H57,0)","v":0},{"$f":"IF('3 - SPECIE DA IMPIANTARE'!$G57=\"Impianti in ordine sparso\",'3 - SPECIE DA IMPIANTARE'!I57,0)","v":0},{"$f":"IF('3 - SPECIE DA IMPIANTARE'!$G57=\"Impianti in ordine sparso\",'3 - SPECIE DA IMPIANTARE'!K57,0)","v":0},{"$f":"IF('3 - SPECIE DA IMPIANTARE'!$G57=\"Impianti in ordine sparso\",'3 - SPECIE DA IMPIANTARE'!L57,0)","v":0},{"$f":"IF('3 - SPECIE DA IMPIANTARE'!$G57=\"Impianti in ordine sparso\",'3 - SPECIE DA IMPIANTARE'!N57,0)","v":0},{"$f":"IF('3 - SPECIE DA IMPIANTARE'!$G57=\"Impianti in ordine sparso\",'3 - SPECIE DA IMPIANTARE'!O57,0)","v":0},{"$f":"IF('3 - SPECIE DA IMPIANTARE'!$G57=\"Impianti in ordine sparso\",'3 - SPECIE DA IMPIANTARE'!Q57,0)","v":0},{"$f":"IF('3 - SPECIE DA IMPIANTARE'!$G57=\"Impianti in ordine sparso\",'3 - SPECIE DA IMPIANTARE'!R57,0)","v":0},{"$f":"IF('3 - SPECIE DA IMPIANTARE'!$G57=\"Impianti in ordine sparso\",'3 - SPECIE DA IMPIANTARE'!T57,0)","v":0},{"$f":"IF('3 - SPECIE DA IMPIANTARE'!$G57=\"Impianti in ordine sparso\",'3 - SPECIE DA IMPIANTARE'!U57,0)","v":0},{"$f":"IF('3 - SPECIE DA IMPIANTARE'!$G57=\"Impianti in ordine sparso\",'3 - SPECIE DA IMPIANTARE'!W57,0)","v":0},{"$f":"IF('3 - SPECIE DA IMPIANTARE'!$G57=\"Impianti in ordine sparso\",'3 - SPECIE DA IMPIANTARE'!X57,0)","v":0},{"$f":"IF('3 - SPECIE DA IMPIANTARE'!$G57=\"Piantagioni lineari\",'3 - SPECIE DA IMPIANTARE'!H57,0)","v":0},{"$f":"IF('3 - SPECIE DA IMPIANTARE'!$G57=\"Piantagioni lineari\",'3 - SPECIE DA IMPIANTARE'!I57,0)","v":0},{"$f":"IF('3 - SPECIE DA IMPIANTARE'!$G57=\"Piantagioni lineari\",'3 - SPECIE DA IMPIANTARE'!K57,0)","v":0},{"$f":"IF('3 - SPECIE DA IMPIANTARE'!$G57=\"Piantagioni lineari\",'3 - SPECIE DA IMPIANTARE'!L57,0)","v":0},{"$f":"IF('3 - SPECIE DA IMPIANTARE'!$G57=\"Piantagioni lineari\",'3 - SPECIE DA IMPIANTARE'!N57,0)","v":0},{"$f":"IF('3 - SPECIE DA IMPIANTARE'!$G57=\"Piantagioni lineari\",'3 - SPECIE DA IMPIANTARE'!O57,0)","v":0},{"$f":"IF('3 - SPECIE DA IMPIANTARE'!$G57=\"Piantagioni lineari\",'3 - SPECIE DA IMPIANTARE'!Q57,0)","v":0},{"$f":"IF('3 - SPECIE DA IMPIANTARE'!$G57=\"Piantagioni lineari\",'3 - SPECIE DA IMPIANTARE'!R57,0)","v":0},{"$f":"IF('3 - SPECIE DA IMPIANTARE'!$G57=\"Piantagioni lineari\",'3 - SPECIE DA IMPIANTARE'!T57,0)","v":0},{"$f":"IF('3 - SPECIE DA IMPIANTARE'!$G57=\"Piantagioni lineari\",'3 - SPECIE DA IMPIANTARE'!U57,0)","v":0},{"$f":"IF('3 - SPECIE DA IMPIANTARE'!$G57=\"Piantagioni lineari\",'3 - SPECIE DA IMPIANTARE'!W57,0)","v":0},{"$f":"IF('3 - SPECIE DA IMPIANTARE'!$G57=\"Piantagioni lineari\",'3 - SPECIE DA IMPIANTARE'!X57,0)","v":0},{"$f":"IF('3 - SPECIE DA IMPIANTARE'!$G57=\"Impianti a sesto regolare\",'3 - SPECIE DA IMPIANTARE'!$H57,0)","v":0},{"$f":"IF('3 - SPECIE DA IMPIANTARE'!$G57=\"Impianti a sesto regolare\",'3 - SPECIE DA IMPIANTARE'!$I57,0)","v":0},{"$f":"IF('3 - SPECIE DA IMPIANTARE'!$G57=\"Impianti a sesto regolare\",'3 - SPECIE DA IMPIANTARE'!$K57,0)","v":0},{"$f":"IF('3 - SPECIE DA IMPIANTARE'!$G57=\"Impianti a sesto regolare\",'3 - SPECIE DA IMPIANTARE'!$L57,0)","v":0},{"$f":"IF('3 - SPECIE DA IMPIANTARE'!$G57=\"Impianti a sesto regolare\",'3 - SPECIE DA IMPIANTARE'!$N57,0)","v":0},{"$f":"IF('3 - SPECIE DA IMPIANTARE'!$G57=\"Impianti a sesto regolare\",'3 - SPECIE DA IMPIANTARE'!$O57,0)","v":0},{"$f":"IF('3 - SPECIE DA IMPIANTARE'!$G57=\"Impianti a sesto regolare\",'3 - SPECIE DA IMPIANTARE'!$Q57,0)","v":0},{"$f":"IF('3 - SPECIE DA IMPIANTARE'!$G57=\"Impianti a sesto regolare\",'3 - SPECIE DA IMPIANTARE'!$R57,0)","v":0},{"$f":"IF('3 - SPECIE DA IMPIANTARE'!$G57=\"Impianti a sesto regolare\",'3 - SPECIE DA IMPIANTARE'!$T57,0)","v":0},{"$f":"IF('3 - SPECIE DA IMPIANTARE'!$G57=\"Impianti a sesto regolare\",'3 - SPECIE DA IMPIANTARE'!$U57,0)","v":0},{"$f":"IF('3 - SPECIE DA IMPIANTARE'!$G57=\"Impianti a sesto regolare\",'3 - SPECIE DA IMPIANTARE'!$W57,0)","v":0},{"$f":"IF('3 - SPECIE DA IMPIANTARE'!$G57=\"Impianti a sesto regolare\",'3 - SPECIE DA IMPIANTARE'!$X57,0)","v":0}]
[{"$f":"IF('3 - SPECIE DA IMPIANTARE'!G58=\"Impianti in ordine sparso\",'3 - SPECIE DA IMPIANTARE'!H58,0)","v":0},{"$f":"IF('3 - SPECIE DA IMPIANTARE'!$G58=\"Impianti in ordine sparso\",'3 - SPECIE DA IMPIANTARE'!I58,0)","v":0},{"$f":"IF('3 - SPECIE DA IMPIANTARE'!$G58=\"Impianti in ordine sparso\",'3 - SPECIE DA IMPIANTARE'!K58,0)","v":0},{"$f":"IF('3 - SPECIE DA IMPIANTARE'!$G58=\"Impianti in ordine sparso\",'3 - SPECIE DA IMPIANTARE'!L58,0)","v":0},{"$f":"IF('3 - SPECIE DA IMPIANTARE'!$G58=\"Impianti in ordine sparso\",'3 - SPECIE DA IMPIANTARE'!N58,0)","v":0},{"$f":"IF('3 - SPECIE DA IMPIANTARE'!$G58=\"Impianti in ordine sparso\",'3 - SPECIE DA IMPIANTARE'!O58,0)","v":0},{"$f":"IF('3 - SPECIE DA IMPIANTARE'!$G58=\"Impianti in ordine sparso\",'3 - SPECIE DA IMPIANTARE'!Q58,0)","v":0},{"$f":"IF('3 - SPECIE DA IMPIANTARE'!$G58=\"Impianti in ordine sparso\",'3 - SPECIE DA IMPIANTARE'!R58,0)","v":0},{"$f":"IF('3 - SPECIE DA IMPIANTARE'!$G58=\"Impianti in ordine sparso\",'3 - SPECIE DA IMPIANTARE'!T58,0)","v":0},{"$f":"IF('3 - SPECIE DA IMPIANTARE'!$G58=\"Impianti in ordine sparso\",'3 - SPECIE DA IMPIANTARE'!U58,0)","v":0},{"$f":"IF('3 - SPECIE DA IMPIANTARE'!$G58=\"Impianti in ordine sparso\",'3 - SPECIE DA IMPIANTARE'!W58,0)","v":0},{"$f":"IF('3 - SPECIE DA IMPIANTARE'!$G58=\"Impianti in ordine sparso\",'3 - SPECIE DA IMPIANTARE'!X58,0)","v":0},{"$f":"IF('3 - SPECIE DA IMPIANTARE'!$G58=\"Piantagioni lineari\",'3 - SPECIE DA IMPIANTARE'!H58,0)","v":0},{"$f":"IF('3 - SPECIE DA IMPIANTARE'!$G58=\"Piantagioni lineari\",'3 - SPECIE DA IMPIANTARE'!I58,0)","v":0},{"$f":"IF('3 - SPECIE DA IMPIANTARE'!$G58=\"Piantagioni lineari\",'3 - SPECIE DA IMPIANTARE'!K58,0)","v":0},{"$f":"IF('3 - SPECIE DA IMPIANTARE'!$G58=\"Piantagioni lineari\",'3 - SPECIE DA IMPIANTARE'!L58,0)","v":0},{"$f":"IF('3 - SPECIE DA IMPIANTARE'!$G58=\"Piantagioni lineari\",'3 - SPECIE DA IMPIANTARE'!N58,0)","v":0},{"$f":"IF('3 - SPECIE DA IMPIANTARE'!$G58=\"Piantagioni lineari\",'3 - SPECIE DA IMPIANTARE'!O58,0)","v":0},{"$f":"IF('3 - SPECIE DA IMPIANTARE'!$G58=\"Piantagioni lineari\",'3 - SPECIE DA IMPIANTARE'!Q58,0)","v":0},{"$f":"IF('3 - SPECIE DA IMPIANTARE'!$G58=\"Piantagioni lineari\",'3 - SPECIE DA IMPIANTARE'!R58,0)","v":0},{"$f":"IF('3 - SPECIE DA IMPIANTARE'!$G58=\"Piantagioni lineari\",'3 - SPECIE DA IMPIANTARE'!T58,0)","v":0},{"$f":"IF('3 - SPECIE DA IMPIANTARE'!$G58=\"Piantagioni lineari\",'3 - SPECIE DA IMPIANTARE'!U58,0)","v":0},{"$f":"IF('3 - SPECIE DA IMPIANTARE'!$G58=\"Piantagioni lineari\",'3 - SPECIE DA IMPIANTARE'!W58,0)","v":0},{"$f":"IF('3 - SPECIE DA IMPIANTARE'!$G58=\"Piantagioni lineari\",'3 - SPECIE DA IMPIANTARE'!X58,0)","v":0},{"$f":"IF('3 - SPECIE DA IMPIANTARE'!$G58=\"Impianti a sesto regolare\",'3 - SPECIE DA IMPIANTARE'!$H58,0)","v":0},{"$f":"IF('3 - SPECIE DA IMPIANTARE'!$G58=\"Impianti a sesto regolare\",'3 - SPECIE DA IMPIANTARE'!$I58,0)","v":0},{"$f":"IF('3 - SPECIE DA IMPIANTARE'!$G58=\"Impianti a sesto regolare\",'3 - SPECIE DA IMPIANTARE'!$K58,0)","v":0},{"$f":"IF('3 - SPECIE DA IMPIANTARE'!$G58=\"Impianti a sesto regolare\",'3 - SPECIE DA IMPIANTARE'!$L58,0)","v":0},{"$f":"IF('3 - SPECIE DA IMPIANTARE'!$G58=\"Impianti a sesto regolare\",'3 - SPECIE DA IMPIANTARE'!$N58,0)","v":0},{"$f":"IF('3 - SPECIE DA IMPIANTARE'!$G58=\"Impianti a sesto regolare\",'3 - SPECIE DA IMPIANTARE'!$O58,0)","v":0},{"$f":"IF('3 - SPECIE DA IMPIANTARE'!$G58=\"Impianti a sesto regolare\",'3 - SPECIE DA IMPIANTARE'!$Q58,0)","v":0},{"$f":"IF('3 - SPECIE DA IMPIANTARE'!$G58=\"Impianti a sesto regolare\",'3 - SPECIE DA IMPIANTARE'!$R58,0)","v":0},{"$f":"IF('3 - SPECIE DA IMPIANTARE'!$G58=\"Impianti a sesto regolare\",'3 - SPECIE DA IMPIANTARE'!$T58,0)","v":0},{"$f":"IF('3 - SPECIE DA IMPIANTARE'!$G58=\"Impianti a sesto regolare\",'3 - SPECIE DA IMPIANTARE'!$U58,0)","v":0},{"$f":"IF('3 - SPECIE DA IMPIANTARE'!$G58=\"Impianti a sesto regolare\",'3 - SPECIE DA IMPIANTARE'!$W58,0)","v":0},{"$f":"IF('3 - SPECIE DA IMPIANTARE'!$G58=\"Impianti a sesto regolare\",'3 - SPECIE DA IMPIANTARE'!$X58,0)","v":0}]
[{"$f":"IF('3 - SPECIE DA IMPIANTARE'!G59=\"Impianti in ordine sparso\",'3 - SPECIE DA IMPIANTARE'!H59,0)","v":0},{"$f":"IF('3 - SPECIE DA IMPIANTARE'!$G59=\"Impianti in ordine sparso\",'3 - SPECIE DA IMPIANTARE'!I59,0)","v":0},{"$f":"IF('3 - SPECIE DA IMPIANTARE'!$G59=\"Impianti in ordine sparso\",'3 - SPECIE DA IMPIANTARE'!K59,0)","v":0},{"$f":"IF('3 - SPECIE DA IMPIANTARE'!$G59=\"Impianti in ordine sparso\",'3 - SPECIE DA IMPIANTARE'!L59,0)","v":0},{"$f":"IF('3 - SPECIE DA IMPIANTARE'!$G59=\"Impianti in ordine sparso\",'3 - SPECIE DA IMPIANTARE'!N59,0)","v":0},{"$f":"IF('3 - SPECIE DA IMPIANTARE'!$G59=\"Impianti in ordine sparso\",'3 - SPECIE DA IMPIANTARE'!O59,0)","v":0},{"$f":"IF('3 - SPECIE DA IMPIANTARE'!$G59=\"Impianti in ordine sparso\",'3 - SPECIE DA IMPIANTARE'!Q59,0)","v":0},{"$f":"IF('3 - SPECIE DA IMPIANTARE'!$G59=\"Impianti in ordine sparso\",'3 - SPECIE DA IMPIANTARE'!R59,0)","v":0},{"$f":"IF('3 - SPECIE DA IMPIANTARE'!$G59=\"Impianti in ordine sparso\",'3 - SPECIE DA IMPIANTARE'!T59,0)","v":0},{"$f":"IF('3 - SPECIE DA IMPIANTARE'!$G59=\"Impianti in ordine sparso\",'3 - SPECIE DA IMPIANTARE'!U59,0)","v":0},{"$f":"IF('3 - SPECIE DA IMPIANTARE'!$G59=\"Impianti in ordine sparso\",'3 - SPECIE DA IMPIANTARE'!W59,0)","v":0},{"$f":"IF('3 - SPECIE DA IMPIANTARE'!$G59=\"Impianti in ordine sparso\",'3 - SPECIE DA IMPIANTARE'!X59,0)","v":0},{"$f":"IF('3 - SPECIE DA IMPIANTARE'!$G59=\"Piantagioni lineari\",'3 - SPECIE DA IMPIANTARE'!H59,0)","v":0},{"$f":"IF('3 - SPECIE DA IMPIANTARE'!$G59=\"Piantagioni lineari\",'3 - SPECIE DA IMPIANTARE'!I59,0)","v":0},{"$f":"IF('3 - SPECIE DA IMPIANTARE'!$G59=\"Piantagioni lineari\",'3 - SPECIE DA IMPIANTARE'!K59,0)","v":0},{"$f":"IF('3 - SPECIE DA IMPIANTARE'!$G59=\"Piantagioni lineari\",'3 - SPECIE DA IMPIANTARE'!L59,0)","v":0},{"$f":"IF('3 - SPECIE DA IMPIANTARE'!$G59=\"Piantagioni lineari\",'3 - SPECIE DA IMPIANTARE'!N59,0)","v":0},{"$f":"IF('3 - SPECIE DA IMPIANTARE'!$G59=\"Piantagioni lineari\",'3 - SPECIE DA IMPIANTARE'!O59,0)","v":0},{"$f":"IF('3 - SPECIE DA IMPIANTARE'!$G59=\"Piantagioni lineari\",'3 - SPECIE DA IMPIANTARE'!Q59,0)","v":0},{"$f":"IF('3 - SPECIE DA IMPIANTARE'!$G59=\"Piantagioni lineari\",'3 - SPECIE DA IMPIANTARE'!R59,0)","v":0},{"$f":"IF('3 - SPECIE DA IMPIANTARE'!$G59=\"Piantagioni lineari\",'3 - SPECIE DA IMPIANTARE'!T59,0)","v":0},{"$f":"IF('3 - SPECIE DA IMPIANTARE'!$G59=\"Piantagioni lineari\",'3 - SPECIE DA IMPIANTARE'!U59,0)","v":0},{"$f":"IF('3 - SPECIE DA IMPIANTARE'!$G59=\"Piantagioni lineari\",'3 - SPECIE DA IMPIANTARE'!W59,0)","v":0},{"$f":"IF('3 - SPECIE DA IMPIANTARE'!$G59=\"Piantagioni lineari\",'3 - SPECIE DA IMPIANTARE'!X59,0)","v":0},{"$f":"IF('3 - SPECIE DA IMPIANTARE'!$G59=\"Impianti a sesto regolare\",'3 - SPECIE DA IMPIANTARE'!$H59,0)","v":0},{"$f":"IF('3 - SPECIE DA IMPIANTARE'!$G59=\"Impianti a sesto regolare\",'3 - SPECIE DA IMPIANTARE'!$I59,0)","v":0},{"$f":"IF('3 - SPECIE DA IMPIANTARE'!$G59=\"Impianti a sesto regolare\",'3 - SPECIE DA IMPIANTARE'!$K59,0)","v":0},{"$f":"IF('3 - SPECIE DA IMPIANTARE'!$G59=\"Impianti a sesto regolare\",'3 - SPECIE DA IMPIANTARE'!$L59,0)","v":0},{"$f":"IF('3 - SPECIE DA IMPIANTARE'!$G59=\"Impianti a sesto regolare\",'3 - SPECIE DA IMPIANTARE'!$N59,0)","v":0},{"$f":"IF('3 - SPECIE DA IMPIANTARE'!$G59=\"Impianti a sesto regolare\",'3 - SPECIE DA IMPIANTARE'!$O59,0)","v":0},{"$f":"IF('3 - SPECIE DA IMPIANTARE'!$G59=\"Impianti a sesto regolare\",'3 - SPECIE DA IMPIANTARE'!$Q59,0)","v":0},{"$f":"IF('3 - SPECIE DA IMPIANTARE'!$G59=\"Impianti a sesto regolare\",'3 - SPECIE DA IMPIANTARE'!$R59,0)","v":0},{"$f":"IF('3 - SPECIE DA IMPIANTARE'!$G59=\"Impianti a sesto regolare\",'3 - SPECIE DA IMPIANTARE'!$T59,0)","v":0},{"$f":"IF('3 - SPECIE DA IMPIANTARE'!$G59=\"Impianti a sesto regolare\",'3 - SPECIE DA IMPIANTARE'!$U59,0)","v":0},{"$f":"IF('3 - SPECIE DA IMPIANTARE'!$G59=\"Impianti a sesto regolare\",'3 - SPECIE DA IMPIANTARE'!$W59,0)","v":0},{"$f":"IF('3 - SPECIE DA IMPIANTARE'!$G59=\"Impianti a sesto regolare\",'3 - SPECIE DA IMPIANTARE'!$X59,0)","v":0}]
[{"$f":"IF('3 - SPECIE DA IMPIANTARE'!G60=\"Impianti in ordine sparso\",'3 - SPECIE DA IMPIANTARE'!H60,0)","v":0},{"$f":"IF('3 - SPECIE DA IMPIANTARE'!$G60=\"Impianti in ordine sparso\",'3 - SPECIE DA IMPIANTARE'!I60,0)","v":0},{"$f":"IF('3 - SPECIE DA IMPIANTARE'!$G60=\"Impianti in ordine sparso\",'3 - SPECIE DA IMPIANTARE'!K60,0)","v":0},{"$f":"IF('3 - SPECIE DA IMPIANTARE'!$G60=\"Impianti in ordine sparso\",'3 - SPECIE DA IMPIANTARE'!L60,0)","v":0},{"$f":"IF('3 - SPECIE DA IMPIANTARE'!$G60=\"Impianti in ordine sparso\",'3 - SPECIE DA IMPIANTARE'!N60,0)","v":0},{"$f":"IF('3 - SPECIE DA IMPIANTARE'!$G60=\"Impianti in ordine sparso\",'3 - SPECIE DA IMPIANTARE'!O60,0)","v":0},{"$f":"IF('3 - SPECIE DA IMPIANTARE'!$G60=\"Impianti in ordine sparso\",'3 - SPECIE DA IMPIANTARE'!Q60,0)","v":0},{"$f":"IF('3 - SPECIE DA IMPIANTARE'!$G60=\"Impianti in ordine sparso\",'3 - SPECIE DA IMPIANTARE'!R60,0)","v":0},{"$f":"IF('3 - SPECIE DA IMPIANTARE'!$G60=\"Impianti in ordine sparso\",'3 - SPECIE DA IMPIANTARE'!T60,0)","v":0},{"$f":"IF('3 - SPECIE DA IMPIANTARE'!$G60=\"Impianti in ordine sparso\",'3 - SPECIE DA IMPIANTARE'!U60,0)","v":0},{"$f":"IF('3 - SPECIE DA IMPIANTARE'!$G60=\"Impianti in ordine sparso\",'3 - SPECIE DA IMPIANTARE'!W60,0)","v":0},{"$f":"IF('3 - SPECIE DA IMPIANTARE'!$G60=\"Impianti in ordine sparso\",'3 - SPECIE DA IMPIANTARE'!X60,0)","v":0},{"$f":"IF('3 - SPECIE DA IMPIANTARE'!$G60=\"Piantagioni lineari\",'3 - SPECIE DA IMPIANTARE'!H60,0)","v":0},{"$f":"IF('3 - SPECIE DA IMPIANTARE'!$G60=\"Piantagioni lineari\",'3 - SPECIE DA IMPIANTARE'!I60,0)","v":0},{"$f":"IF('3 - SPECIE DA IMPIANTARE'!$G60=\"Piantagioni lineari\",'3 - SPECIE DA IMPIANTARE'!K60,0)","v":0},{"$f":"IF('3 - SPECIE DA IMPIANTARE'!$G60=\"Piantagioni lineari\",'3 - SPECIE DA IMPIANTARE'!L60,0)","v":0},{"$f":"IF('3 - SPECIE DA IMPIANTARE'!$G60=\"Piantagioni lineari\",'3 - SPECIE DA IMPIANTARE'!N60,0)","v":0},{"$f":"IF('3 - SPECIE DA IMPIANTARE'!$G60=\"Piantagioni lineari\",'3 - SPECIE DA IMPIANTARE'!O60,0)","v":0},{"$f":"IF('3 - SPECIE DA IMPIANTARE'!$G60=\"Piantagioni lineari\",'3 - SPECIE DA IMPIANTARE'!Q60,0)","v":0},{"$f":"IF('3 - SPECIE DA IMPIANTARE'!$G60=\"Piantagioni lineari\",'3 - SPECIE DA IMPIANTARE'!R60,0)","v":0},{"$f":"IF('3 - SPECIE DA IMPIANTARE'!$G60=\"Piantagioni lineari\",'3 - SPECIE DA IMPIANTARE'!T60,0)","v":0},{"$f":"IF('3 - SPECIE DA IMPIANTARE'!$G60=\"Piantagioni lineari\",'3 - SPECIE DA IMPIANTARE'!U60,0)","v":0},{"$f":"IF('3 - SPECIE DA IMPIANTARE'!$G60=\"Piantagioni lineari\",'3 - SPECIE DA IMPIANTARE'!W60,0)","v":0},{"$f":"IF('3 - SPECIE DA IMPIANTARE'!$G60=\"Piantagioni lineari\",'3 - SPECIE DA IMPIANTARE'!X60,0)","v":0},{"$f":"IF('3 - SPECIE DA IMPIANTARE'!$G60=\"Impianti a sesto regolare\",'3 - SPECIE DA IMPIANTARE'!$H60,0)","v":0},{"$f":"IF('3 - SPECIE DA IMPIANTARE'!$G60=\"Impianti a sesto regolare\",'3 - SPECIE DA IMPIANTARE'!$I60,0)","v":0},{"$f":"IF('3 - SPECIE DA IMPIANTARE'!$G60=\"Impianti a sesto regolare\",'3 - SPECIE DA IMPIANTARE'!$K60,0)","v":0},{"$f":"IF('3 - SPECIE DA IMPIANTARE'!$G60=\"Impianti a sesto regolare\",'3 - SPECIE DA IMPIANTARE'!$L60,0)","v":0},{"$f":"IF('3 - SPECIE DA IMPIANTARE'!$G60=\"Impianti a sesto regolare\",'3 - SPECIE DA IMPIANTARE'!$N60,0)","v":0},{"$f":"IF('3 - SPECIE DA IMPIANTARE'!$G60=\"Impianti a sesto regolare\",'3 - SPECIE DA IMPIANTARE'!$O60,0)","v":0},{"$f":"IF('3 - SPECIE DA IMPIANTARE'!$G60=\"Impianti a sesto regolare\",'3 - SPECIE DA IMPIANTARE'!$Q60,0)","v":0},{"$f":"IF('3 - SPECIE DA IMPIANTARE'!$G60=\"Impianti a sesto regolare\",'3 - SPECIE DA IMPIANTARE'!$R60,0)","v":0},{"$f":"IF('3 - SPECIE DA IMPIANTARE'!$G60=\"Impianti a sesto regolare\",'3 - SPECIE DA IMPIANTARE'!$T60,0)","v":0},{"$f":"IF('3 - SPECIE DA IMPIANTARE'!$G60=\"Impianti a sesto regolare\",'3 - SPECIE DA IMPIANTARE'!$U60,0)","v":0},{"$f":"IF('3 - SPECIE DA IMPIANTARE'!$G60=\"Impianti a sesto regolare\",'3 - SPECIE DA IMPIANTARE'!$W60,0)","v":0},{"$f":"IF('3 - SPECIE DA IMPIANTARE'!$G60=\"Impianti a sesto regolare\",'3 - SPECIE DA IMPIANTARE'!$X60,0)","v":0}]
[{"$f":"IF('3 - SPECIE DA IMPIANTARE'!G61=\"Impianti in ordine sparso\",'3 - SPECIE DA IMPIANTARE'!H61,0)","v":0},{"$f":"IF('3 - SPECIE DA IMPIANTARE'!$G61=\"Impianti in ordine sparso\",'3 - SPECIE DA IMPIANTARE'!I61,0)","v":0},{"$f":"IF('3 - SPECIE DA IMPIANTARE'!$G61=\"Impianti in ordine sparso\",'3 - SPECIE DA IMPIANTARE'!K61,0)","v":0},{"$f":"IF('3 - SPECIE DA IMPIANTARE'!$G61=\"Impianti in ordine sparso\",'3 - SPECIE DA IMPIANTARE'!L61,0)","v":0},{"$f":"IF('3 - SPECIE DA IMPIANTARE'!$G61=\"Impianti in ordine sparso\",'3 - SPECIE DA IMPIANTARE'!N61,0)","v":0},{"$f":"IF('3 - SPECIE DA IMPIANTARE'!$G61=\"Impianti in ordine sparso\",'3 - SPECIE DA IMPIANTARE'!O61,0)","v":0},{"$f":"IF('3 - SPECIE DA IMPIANTARE'!$G61=\"Impianti in ordine sparso\",'3 - SPECIE DA IMPIANTARE'!Q61,0)","v":0},{"$f":"IF('3 - SPECIE DA IMPIANTARE'!$G61=\"Impianti in ordine sparso\",'3 - SPECIE DA IMPIANTARE'!R61,0)","v":0},{"$f":"IF('3 - SPECIE DA IMPIANTARE'!$G61=\"Impianti in ordine sparso\",'3 - SPECIE DA IMPIANTARE'!T61,0)","v":0},{"$f":"IF('3 - SPECIE DA IMPIANTARE'!$G61=\"Impianti in ordine sparso\",'3 - SPECIE DA IMPIANTARE'!U61,0)","v":0},{"$f":"IF('3 - SPECIE DA IMPIANTARE'!$G61=\"Impianti in ordine sparso\",'3 - SPECIE DA IMPIANTARE'!W61,0)","v":0},{"$f":"IF('3 - SPECIE DA IMPIANTARE'!$G61=\"Impianti in ordine sparso\",'3 - SPECIE DA IMPIANTARE'!X61,0)","v":0},{"$f":"IF('3 - SPECIE DA IMPIANTARE'!$G61=\"Piantagioni lineari\",'3 - SPECIE DA IMPIANTARE'!H61,0)","v":0},{"$f":"IF('3 - SPECIE DA IMPIANTARE'!$G61=\"Piantagioni lineari\",'3 - SPECIE DA IMPIANTARE'!I61,0)","v":0},{"$f":"IF('3 - SPECIE DA IMPIANTARE'!$G61=\"Piantagioni lineari\",'3 - SPECIE DA IMPIANTARE'!K61,0)","v":0},{"$f":"IF('3 - SPECIE DA IMPIANTARE'!$G61=\"Piantagioni lineari\",'3 - SPECIE DA IMPIANTARE'!L61,0)","v":0},{"$f":"IF('3 - SPECIE DA IMPIANTARE'!$G61=\"Piantagioni lineari\",'3 - SPECIE DA IMPIANTARE'!N61,0)","v":0},{"$f":"IF('3 - SPECIE DA IMPIANTARE'!$G61=\"Piantagioni lineari\",'3 - SPECIE DA IMPIANTARE'!O61,0)","v":0},{"$f":"IF('3 - SPECIE DA IMPIANTARE'!$G61=\"Piantagioni lineari\",'3 - SPECIE DA IMPIANTARE'!Q61,0)","v":0},{"$f":"IF('3 - SPECIE DA IMPIANTARE'!$G61=\"Piantagioni lineari\",'3 - SPECIE DA IMPIANTARE'!R61,0)","v":0},{"$f":"IF('3 - SPECIE DA IMPIANTARE'!$G61=\"Piantagioni lineari\",'3 - SPECIE DA IMPIANTARE'!T61,0)","v":0},{"$f":"IF('3 - SPECIE DA IMPIANTARE'!$G61=\"Piantagioni lineari\",'3 - SPECIE DA IMPIANTARE'!U61,0)","v":0},{"$f":"IF('3 - SPECIE DA IMPIANTARE'!$G61=\"Piantagioni lineari\",'3 - SPECIE DA IMPIANTARE'!W61,0)","v":0},{"$f":"IF('3 - SPECIE DA IMPIANTARE'!$G61=\"Piantagioni lineari\",'3 - SPECIE DA IMPIANTARE'!X61,0)","v":0},{"$f":"IF('3 - SPECIE DA IMPIANTARE'!$G61=\"Impianti a sesto regolare\",'3 - SPECIE DA IMPIANTARE'!$H61,0)","v":0},{"$f":"IF('3 - SPECIE DA IMPIANTARE'!$G61=\"Impianti a sesto regolare\",'3 - SPECIE DA IMPIANTARE'!$I61,0)","v":0},{"$f":"IF('3 - SPECIE DA IMPIANTARE'!$G61=\"Impianti a sesto regolare\",'3 - SPECIE DA IMPIANTARE'!$K61,0)","v":0},{"$f":"IF('3 - SPECIE DA IMPIANTARE'!$G61=\"Impianti a sesto regolare\",'3 - SPECIE DA IMPIANTARE'!$L61,0)","v":0},{"$f":"IF('3 - SPECIE DA IMPIANTARE'!$G61=\"Impianti a sesto regolare\",'3 - SPECIE DA IMPIANTARE'!$N61,0)","v":0},{"$f":"IF('3 - SPECIE DA IMPIANTARE'!$G61=\"Impianti a sesto regolare\",'3 - SPECIE DA IMPIANTARE'!$O61,0)","v":0},{"$f":"IF('3 - SPECIE DA IMPIANTARE'!$G61=\"Impianti a sesto regolare\",'3 - SPECIE DA IMPIANTARE'!$Q61,0)","v":0},{"$f":"IF('3 - SPECIE DA IMPIANTARE'!$G61=\"Impianti a sesto regolare\",'3 - SPECIE DA IMPIANTARE'!$R61,0)","v":0},{"$f":"IF('3 - SPECIE DA IMPIANTARE'!$G61=\"Impianti a sesto regolare\",'3 - SPECIE DA IMPIANTARE'!$T61,0)","v":0},{"$f":"IF('3 - SPECIE DA IMPIANTARE'!$G61=\"Impianti a sesto regolare\",'3 - SPECIE DA IMPIANTARE'!$U61,0)","v":0},{"$f":"IF('3 - SPECIE DA IMPIANTARE'!$G61=\"Impianti a sesto regolare\",'3 - SPECIE DA IMPIANTARE'!$W61,0)","v":0},{"$f":"IF('3 - SPECIE DA IMPIANTARE'!$G61=\"Impianti a sesto regolare\",'3 - SPECIE DA IMPIANTARE'!$X61,0)","v":0}]
[{"$f":"IF('3 - SPECIE DA IMPIANTARE'!G62=\"Impianti in ordine sparso\",'3 - SPECIE DA IMPIANTARE'!H62,0)","v":0},{"$f":"IF('3 - SPECIE DA IMPIANTARE'!$G62=\"Impianti in ordine sparso\",'3 - SPECIE DA IMPIANTARE'!I62,0)","v":0},{"$f":"IF('3 - SPECIE DA IMPIANTARE'!$G62=\"Impianti in ordine sparso\",'3 - SPECIE DA IMPIANTARE'!K62,0)","v":0},{"$f":"IF('3 - SPECIE DA IMPIANTARE'!$G62=\"Impianti in ordine sparso\",'3 - SPECIE DA IMPIANTARE'!L62,0)","v":0},{"$f":"IF('3 - SPECIE DA IMPIANTARE'!$G62=\"Impianti in ordine sparso\",'3 - SPECIE DA IMPIANTARE'!N62,0)","v":0},{"$f":"IF('3 - SPECIE DA IMPIANTARE'!$G62=\"Impianti in ordine sparso\",'3 - SPECIE DA IMPIANTARE'!O62,0)","v":0},{"$f":"IF('3 - SPECIE DA IMPIANTARE'!$G62=\"Impianti in ordine sparso\",'3 - SPECIE DA IMPIANTARE'!Q62,0)","v":0},{"$f":"IF('3 - SPECIE DA IMPIANTARE'!$G62=\"Impianti in ordine sparso\",'3 - SPECIE DA IMPIANTARE'!R62,0)","v":0},{"$f":"IF('3 - SPECIE DA IMPIANTARE'!$G62=\"Impianti in ordine sparso\",'3 - SPECIE DA IMPIANTARE'!T62,0)","v":0},{"$f":"IF('3 - SPECIE DA IMPIANTARE'!$G62=\"Impianti in ordine sparso\",'3 - SPECIE DA IMPIANTARE'!U62,0)","v":0},{"$f":"IF('3 - SPECIE DA IMPIANTARE'!$G62=\"Impianti in ordine sparso\",'3 - SPECIE DA IMPIANTARE'!W62,0)","v":0},{"$f":"IF('3 - SPECIE DA IMPIANTARE'!$G62=\"Impianti in ordine sparso\",'3 - SPECIE DA IMPIANTARE'!X62,0)","v":0},{"$f":"IF('3 - SPECIE DA IMPIANTARE'!$G62=\"Piantagioni lineari\",'3 - SPECIE DA IMPIANTARE'!H62,0)","v":0},{"$f":"IF('3 - SPECIE DA IMPIANTARE'!$G62=\"Piantagioni lineari\",'3 - SPECIE DA IMPIANTARE'!I62,0)","v":0},{"$f":"IF('3 - SPECIE DA IMPIANTARE'!$G62=\"Piantagioni lineari\",'3 - SPECIE DA IMPIANTARE'!K62,0)","v":0},{"$f":"IF('3 - SPECIE DA IMPIANTARE'!$G62=\"Piantagioni lineari\",'3 - SPECIE DA IMPIANTARE'!L62,0)","v":0},{"$f":"IF('3 - SPECIE DA IMPIANTARE'!$G62=\"Piantagioni lineari\",'3 - SPECIE DA IMPIANTARE'!N62,0)","v":0},{"$f":"IF('3 - SPECIE DA IMPIANTARE'!$G62=\"Piantagioni lineari\",'3 - SPECIE DA IMPIANTARE'!O62,0)","v":0},{"$f":"IF('3 - SPECIE DA IMPIANTARE'!$G62=\"Piantagioni lineari\",'3 - SPECIE DA IMPIANTARE'!Q62,0)","v":0},{"$f":"IF('3 - SPECIE DA IMPIANTARE'!$G62=\"Piantagioni lineari\",'3 - SPECIE DA IMPIANTARE'!R62,0)","v":0},{"$f":"IF('3 - SPECIE DA IMPIANTARE'!$G62=\"Piantagioni lineari\",'3 - SPECIE DA IMPIANTARE'!T62,0)","v":0},{"$f":"IF('3 - SPECIE DA IMPIANTARE'!$G62=\"Piantagioni lineari\",'3 - SPECIE DA IMPIANTARE'!U62,0)","v":0},{"$f":"IF('3 - SPECIE DA IMPIANTARE'!$G62=\"Piantagioni lineari\",'3 - SPECIE DA IMPIANTARE'!W62,0)","v":0},{"$f":"IF('3 - SPECIE DA IMPIANTARE'!$G62=\"Piantagioni lineari\",'3 - SPECIE DA IMPIANTARE'!X62,0)","v":0},{"$f":"IF('3 - SPECIE DA IMPIANTARE'!$G62=\"Impianti a sesto regolare\",'3 - SPECIE DA IMPIANTARE'!$H62,0)","v":0},{"$f":"IF('3 - SPECIE DA IMPIANTARE'!$G62=\"Impianti a sesto regolare\",'3 - SPECIE DA IMPIANTARE'!$I62,0)","v":0},{"$f":"IF('3 - SPECIE DA IMPIANTARE'!$G62=\"Impianti a sesto regolare\",'3 - SPECIE DA IMPIANTARE'!$K62,0)","v":0},{"$f":"IF('3 - SPECIE DA IMPIANTARE'!$G62=\"Impianti a sesto regolare\",'3 - SPECIE DA IMPIANTARE'!$L62,0)","v":0},{"$f":"IF('3 - SPECIE DA IMPIANTARE'!$G62=\"Impianti a sesto regolare\",'3 - SPECIE DA IMPIANTARE'!$N62,0)","v":0},{"$f":"IF('3 - SPECIE DA IMPIANTARE'!$G62=\"Impianti a sesto regolare\",'3 - SPECIE DA IMPIANTARE'!$O62,0)","v":0},{"$f":"IF('3 - SPECIE DA IMPIANTARE'!$G62=\"Impianti a sesto regolare\",'3 - SPECIE DA IMPIANTARE'!$Q62,0)","v":0},{"$f":"IF('3 - SPECIE DA IMPIANTARE'!$G62=\"Impianti a sesto regolare\",'3 - SPECIE DA IMPIANTARE'!$R62,0)","v":0},{"$f":"IF('3 - SPECIE DA IMPIANTARE'!$G62=\"Impianti a sesto regolare\",'3 - SPECIE DA IMPIANTARE'!$T62,0)","v":0},{"$f":"IF('3 - SPECIE DA IMPIANTARE'!$G62=\"Impianti a sesto regolare\",'3 - SPECIE DA IMPIANTARE'!$U62,0)","v":0},{"$f":"IF('3 - SPECIE DA IMPIANTARE'!$G62=\"Impianti a sesto regolare\",'3 - SPECIE DA IMPIANTARE'!$W62,0)","v":0},{"$f":"IF('3 - SPECIE DA IMPIANTARE'!$G62=\"Impianti a sesto regolare\",'3 - SPECIE DA IMPIANTARE'!$X62,0)","v":0}]
[{"$f":"IF('3 - SPECIE DA IMPIANTARE'!G63=\"Impianti in ordine sparso\",'3 - SPECIE DA IMPIANTARE'!H63,0)","v":0},{"$f":"IF('3 - SPECIE DA IMPIANTARE'!$G63=\"Impianti in ordine sparso\",'3 - SPECIE DA IMPIANTARE'!I63,0)","v":0},{"$f":"IF('3 - SPECIE DA IMPIANTARE'!$G63=\"Impianti in ordine sparso\",'3 - SPECIE DA IMPIANTARE'!K63,0)","v":0},{"$f":"IF('3 - SPECIE DA IMPIANTARE'!$G63=\"Impianti in ordine sparso\",'3 - SPECIE DA IMPIANTARE'!L63,0)","v":0},{"$f":"IF('3 - SPECIE DA IMPIANTARE'!$G63=\"Impianti in ordine sparso\",'3 - SPECIE DA IMPIANTARE'!N63,0)","v":0},{"$f":"IF('3 - SPECIE DA IMPIANTARE'!$G63=\"Impianti in ordine sparso\",'3 - SPECIE DA IMPIANTARE'!O63,0)","v":0},{"$f":"IF('3 - SPECIE DA IMPIANTARE'!$G63=\"Impianti in ordine sparso\",'3 - SPECIE DA IMPIANTARE'!Q63,0)","v":0},{"$f":"IF('3 - SPECIE DA IMPIANTARE'!$G63=\"Impianti in ordine sparso\",'3 - SPECIE DA IMPIANTARE'!R63,0)","v":0},{"$f":"IF('3 - SPECIE DA IMPIANTARE'!$G63=\"Impianti in ordine sparso\",'3 - SPECIE DA IMPIANTARE'!T63,0)","v":0},{"$f":"IF('3 - SPECIE DA IMPIANTARE'!$G63=\"Impianti in ordine sparso\",'3 - SPECIE DA IMPIANTARE'!U63,0)","v":0},{"$f":"IF('3 - SPECIE DA IMPIANTARE'!$G63=\"Impianti in ordine sparso\",'3 - SPECIE DA IMPIANTARE'!W63,0)","v":0},{"$f":"IF('3 - SPECIE DA IMPIANTARE'!$G63=\"Impianti in ordine sparso\",'3 - SPECIE DA IMPIANTARE'!X63,0)","v":0},{"$f":"IF('3 - SPECIE DA IMPIANTARE'!$G63=\"Piantagioni lineari\",'3 - SPECIE DA IMPIANTARE'!H63,0)","v":0},{"$f":"IF('3 - SPECIE DA IMPIANTARE'!$G63=\"Piantagioni lineari\",'3 - SPECIE DA IMPIANTARE'!I63,0)","v":0},{"$f":"IF('3 - SPECIE DA IMPIANTARE'!$G63=\"Piantagioni lineari\",'3 - SPECIE DA IMPIANTARE'!K63,0)","v":0},{"$f":"IF('3 - SPECIE DA IMPIANTARE'!$G63=\"Piantagioni lineari\",'3 - SPECIE DA IMPIANTARE'!L63,0)","v":0},{"$f":"IF('3 - SPECIE DA IMPIANTARE'!$G63=\"Piantagioni lineari\",'3 - SPECIE DA IMPIANTARE'!N63,0)","v":0},{"$f":"IF('3 - SPECIE DA IMPIANTARE'!$G63=\"Piantagioni lineari\",'3 - SPECIE DA IMPIANTARE'!O63,0)","v":0},{"$f":"IF('3 - SPECIE DA IMPIANTARE'!$G63=\"Piantagioni lineari\",'3 - SPECIE DA IMPIANTARE'!Q63,0)","v":0},{"$f":"IF('3 - SPECIE DA IMPIANTARE'!$G63=\"Piantagioni lineari\",'3 - SPECIE DA IMPIANTARE'!R63,0)","v":0},{"$f":"IF('3 - SPECIE DA IMPIANTARE'!$G63=\"Piantagioni lineari\",'3 - SPECIE DA IMPIANTARE'!T63,0)","v":0},{"$f":"IF('3 - SPECIE DA IMPIANTARE'!$G63=\"Piantagioni lineari\",'3 - SPECIE DA IMPIANTARE'!U63,0)","v":0},{"$f":"IF('3 - SPECIE DA IMPIANTARE'!$G63=\"Piantagioni lineari\",'3 - SPECIE DA IMPIANTARE'!W63,0)","v":0},{"$f":"IF('3 - SPECIE DA IMPIANTARE'!$G63=\"Piantagioni lineari\",'3 - SPECIE DA IMPIANTARE'!X63,0)","v":0},{"$f":"IF('3 - SPECIE DA IMPIANTARE'!$G63=\"Impianti a sesto regolare\",'3 - SPECIE DA IMPIANTARE'!$H63,0)","v":0},{"$f":"IF('3 - SPECIE DA IMPIANTARE'!$G63=\"Impianti a sesto regolare\",'3 - SPECIE DA IMPIANTARE'!$I63,0)","v":0},{"$f":"IF('3 - SPECIE DA IMPIANTARE'!$G63=\"Impianti a sesto regolare\",'3 - SPECIE DA IMPIANTARE'!$K63,0)","v":0},{"$f":"IF('3 - SPECIE DA IMPIANTARE'!$G63=\"Impianti a sesto regolare\",'3 - SPECIE DA IMPIANTARE'!$L63,0)","v":0},{"$f":"IF('3 - SPECIE DA IMPIANTARE'!$G63=\"Impianti a sesto regolare\",'3 - SPECIE DA IMPIANTARE'!$N63,0)","v":0},{"$f":"IF('3 - SPECIE DA IMPIANTARE'!$G63=\"Impianti a sesto regolare\",'3 - SPECIE DA IMPIANTARE'!$O63,0)","v":0},{"$f":"IF('3 - SPECIE DA IMPIANTARE'!$G63=\"Impianti a sesto regolare\",'3 - SPECIE DA IMPIANTARE'!$Q63,0)","v":0},{"$f":"IF('3 - SPECIE DA IMPIANTARE'!$G63=\"Impianti a sesto regolare\",'3 - SPECIE DA IMPIANTARE'!$R63,0)","v":0},{"$f":"IF('3 - SPECIE DA IMPIANTARE'!$G63=\"Impianti a sesto regolare\",'3 - SPECIE DA IMPIANTARE'!$T63,0)","v":0},{"$f":"IF('3 - SPECIE DA IMPIANTARE'!$G63=\"Impianti a sesto regolare\",'3 - SPECIE DA IMPIANTARE'!$U63,0)","v":0},{"$f":"IF('3 - SPECIE DA IMPIANTARE'!$G63=\"Impianti a sesto regolare\",'3 - SPECIE DA IMPIANTARE'!$W63,0)","v":0},{"$f":"IF('3 - SPECIE DA IMPIANTARE'!$G63=\"Impianti a sesto regolare\",'3 - SPECIE DA IMPIANTARE'!$X63,0)","v":0}]
[{"$f":"IF('3 - SPECIE DA IMPIANTARE'!G64=\"Impianti in ordine sparso\",'3 - SPECIE DA IMPIANTARE'!H64,0)","v":0},{"$f":"IF('3 - SPECIE DA IMPIANTARE'!$G64=\"Impianti in ordine sparso\",'3 - SPECIE DA IMPIANTARE'!I64,0)","v":0},{"$f":"IF('3 - SPECIE DA IMPIANTARE'!$G64=\"Impianti in ordine sparso\",'3 - SPECIE DA IMPIANTARE'!K64,0)","v":0},{"$f":"IF('3 - SPECIE DA IMPIANTARE'!$G64=\"Impianti in ordine sparso\",'3 - SPECIE DA IMPIANTARE'!L64,0)","v":0},{"$f":"IF('3 - SPECIE DA IMPIANTARE'!$G64=\"Impianti in ordine sparso\",'3 - SPECIE DA IMPIANTARE'!N64,0)","v":0},{"$f":"IF('3 - SPECIE DA IMPIANTARE'!$G64=\"Impianti in ordine sparso\",'3 - SPECIE DA IMPIANTARE'!O64,0)","v":0},{"$f":"IF('3 - SPECIE DA IMPIANTARE'!$G64=\"Impianti in ordine sparso\",'3 - SPECIE DA IMPIANTARE'!Q64,0)","v":0},{"$f":"IF('3 - SPECIE DA IMPIANTARE'!$G64=\"Impianti in ordine sparso\",'3 - SPECIE DA IMPIANTARE'!R64,0)","v":0},{"$f":"IF('3 - SPECIE DA IMPIANTARE'!$G64=\"Impianti in ordine sparso\",'3 - SPECIE DA IMPIANTARE'!T64,0)","v":0},{"$f":"IF('3 - SPECIE DA IMPIANTARE'!$G64=\"Impianti in ordine sparso\",'3 - SPECIE DA IMPIANTARE'!U64,0)","v":0},{"$f":"IF('3 - SPECIE DA IMPIANTARE'!$G64=\"Impianti in ordine sparso\",'3 - SPECIE DA IMPIANTARE'!W64,0)","v":0},{"$f":"IF('3 - SPECIE DA IMPIANTARE'!$G64=\"Impianti in ordine sparso\",'3 - SPECIE DA IMPIANTARE'!X64,0)","v":0},{"$f":"IF('3 - SPECIE DA IMPIANTARE'!$G64=\"Piantagioni lineari\",'3 - SPECIE DA IMPIANTARE'!H64,0)","v":0},{"$f":"IF('3 - SPECIE DA IMPIANTARE'!$G64=\"Piantagioni lineari\",'3 - SPECIE DA IMPIANTARE'!I64,0)","v":0},{"$f":"IF('3 - SPECIE DA IMPIANTARE'!$G64=\"Piantagioni lineari\",'3 - SPECIE DA IMPIANTARE'!K64,0)","v":0},{"$f":"IF('3 - SPECIE DA IMPIANTARE'!$G64=\"Piantagioni lineari\",'3 - SPECIE DA IMPIANTARE'!L64,0)","v":0},{"$f":"IF('3 - SPECIE DA IMPIANTARE'!$G64=\"Piantagioni lineari\",'3 - SPECIE DA IMPIANTARE'!N64,0)","v":0},{"$f":"IF('3 - SPECIE DA IMPIANTARE'!$G64=\"Piantagioni lineari\",'3 - SPECIE DA IMPIANTARE'!O64,0)","v":0},{"$f":"IF('3 - SPECIE DA IMPIANTARE'!$G64=\"Piantagioni lineari\",'3 - SPECIE DA IMPIANTARE'!Q64,0)","v":0},{"$f":"IF('3 - SPECIE DA IMPIANTARE'!$G64=\"Piantagioni lineari\",'3 - SPECIE DA IMPIANTARE'!R64,0)","v":0},{"$f":"IF('3 - SPECIE DA IMPIANTARE'!$G64=\"Piantagioni lineari\",'3 - SPECIE DA IMPIANTARE'!T64,0)","v":0},{"$f":"IF('3 - SPECIE DA IMPIANTARE'!$G64=\"Piantagioni lineari\",'3 - SPECIE DA IMPIANTARE'!U64,0)","v":0},{"$f":"IF('3 - SPECIE DA IMPIANTARE'!$G64=\"Piantagioni lineari\",'3 - SPECIE DA IMPIANTARE'!W64,0)","v":0},{"$f":"IF('3 - SPECIE DA IMPIANTARE'!$G64=\"Piantagioni lineari\",'3 - SPECIE DA IMPIANTARE'!X64,0)","v":0},{"$f":"IF('3 - SPECIE DA IMPIANTARE'!$G64=\"Impianti a sesto regolare\",'3 - SPECIE DA IMPIANTARE'!$H64,0)","v":0},{"$f":"IF('3 - SPECIE DA IMPIANTARE'!$G64=\"Impianti a sesto regolare\",'3 - SPECIE DA IMPIANTARE'!$I64,0)","v":0},{"$f":"IF('3 - SPECIE DA IMPIANTARE'!$G64=\"Impianti a sesto regolare\",'3 - SPECIE DA IMPIANTARE'!$K64,0)","v":0},{"$f":"IF('3 - SPECIE DA IMPIANTARE'!$G64=\"Impianti a sesto regolare\",'3 - SPECIE DA IMPIANTARE'!$L64,0)","v":0},{"$f":"IF('3 - SPECIE DA IMPIANTARE'!$G64=\"Impianti a sesto regolare\",'3 - SPECIE DA IMPIANTARE'!$N64,0)","v":0},{"$f":"IF('3 - SPECIE DA IMPIANTARE'!$G64=\"Impianti a sesto regolare\",'3 - SPECIE DA IMPIANTARE'!$O64,0)","v":0},{"$f":"IF('3 - SPECIE DA IMPIANTARE'!$G64=\"Impianti a sesto regolare\",'3 - SPECIE DA IMPIANTARE'!$Q64,0)","v":0},{"$f":"IF('3 - SPECIE DA IMPIANTARE'!$G64=\"Impianti a sesto regolare\",'3 - SPECIE DA IMPIANTARE'!$R64,0)","v":0},{"$f":"IF('3 - SPECIE DA IMPIANTARE'!$G64=\"Impianti a sesto regolare\",'3 - SPECIE DA IMPIANTARE'!$T64,0)","v":0},{"$f":"IF('3 - SPECIE DA IMPIANTARE'!$G64=\"Impianti a sesto regolare\",'3 - SPECIE DA IMPIANTARE'!$U64,0)","v":0},{"$f":"IF('3 - SPECIE DA IMPIANTARE'!$G64=\"Impianti a sesto regolare\",'3 - SPECIE DA IMPIANTARE'!$W64,0)","v":0},{"$f":"IF('3 - SPECIE DA IMPIANTARE'!$G64=\"Impianti a sesto regolare\",'3 - SPECIE DA IMPIANTARE'!$X64,0)","v":0}]
[{"$f":"IF('3 - SPECIE DA IMPIANTARE'!G65=\"Impianti in ordine sparso\",'3 - SPECIE DA IMPIANTARE'!H65,0)","v":0},{"$f":"IF('3 - SPECIE DA IMPIANTARE'!$G65=\"Impianti in ordine sparso\",'3 - SPECIE DA IMPIANTARE'!I65,0)","v":0},{"$f":"IF('3 - SPECIE DA IMPIANTARE'!$G65=\"Impianti in ordine sparso\",'3 - SPECIE DA IMPIANTARE'!K65,0)","v":0},{"$f":"IF('3 - SPECIE DA IMPIANTARE'!$G65=\"Impianti in ordine sparso\",'3 - SPECIE DA IMPIANTARE'!L65,0)","v":0},{"$f":"IF('3 - SPECIE DA IMPIANTARE'!$G65=\"Impianti in ordine sparso\",'3 - SPECIE DA IMPIANTARE'!N65,0)","v":0},{"$f":"IF('3 - SPECIE DA IMPIANTARE'!$G65=\"Impianti in ordine sparso\",'3 - SPECIE DA IMPIANTARE'!O65,0)","v":0},{"$f":"IF('3 - SPECIE DA IMPIANTARE'!$G65=\"Impianti in ordine sparso\",'3 - SPECIE DA IMPIANTARE'!Q65,0)","v":0},{"$f":"IF('3 - SPECIE DA IMPIANTARE'!$G65=\"Impianti in ordine sparso\",'3 - SPECIE DA IMPIANTARE'!R65,0)","v":0},{"$f":"IF('3 - SPECIE DA IMPIANTARE'!$G65=\"Impianti in ordine sparso\",'3 - SPECIE DA IMPIANTARE'!T65,0)","v":0},{"$f":"IF('3 - SPECIE DA IMPIANTARE'!$G65=\"Impianti in ordine sparso\",'3 - SPECIE DA IMPIANTARE'!U65,0)","v":0},{"$f":"IF('3 - SPECIE DA IMPIANTARE'!$G65=\"Impianti in ordine sparso\",'3 - SPECIE DA IMPIANTARE'!W65,0)","v":0},{"$f":"IF('3 - SPECIE DA IMPIANTARE'!$G65=\"Impianti in ordine sparso\",'3 - SPECIE DA IMPIANTARE'!X65,0)","v":0},{"$f":"IF('3 - SPECIE DA IMPIANTARE'!$G65=\"Piantagioni lineari\",'3 - SPECIE DA IMPIANTARE'!H65,0)","v":0},{"$f":"IF('3 - SPECIE DA IMPIANTARE'!$G65=\"Piantagioni lineari\",'3 - SPECIE DA IMPIANTARE'!I65,0)","v":0},{"$f":"IF('3 - SPECIE DA IMPIANTARE'!$G65=\"Piantagioni lineari\",'3 - SPECIE DA IMPIANTARE'!K65,0)","v":0},{"$f":"IF('3 - SPECIE DA IMPIANTARE'!$G65=\"Piantagioni lineari\",'3 - SPECIE DA IMPIANTARE'!L65,0)","v":0},{"$f":"IF('3 - SPECIE DA IMPIANTARE'!$G65=\"Piantagioni lineari\",'3 - SPECIE DA IMPIANTARE'!N65,0)","v":0},{"$f":"IF('3 - SPECIE DA IMPIANTARE'!$G65=\"Piantagioni lineari\",'3 - SPECIE DA IMPIANTARE'!O65,0)","v":0},{"$f":"IF('3 - SPECIE DA IMPIANTARE'!$G65=\"Piantagioni lineari\",'3 - SPECIE DA IMPIANTARE'!Q65,0)","v":0},{"$f":"IF('3 - SPECIE DA IMPIANTARE'!$G65=\"Piantagioni lineari\",'3 - SPECIE DA IMPIANTARE'!R65,0)","v":0},{"$f":"IF('3 - SPECIE DA IMPIANTARE'!$G65=\"Piantagioni lineari\",'3 - SPECIE DA IMPIANTARE'!T65,0)","v":0},{"$f":"IF('3 - SPECIE DA IMPIANTARE'!$G65=\"Piantagioni lineari\",'3 - SPECIE DA IMPIANTARE'!U65,0)","v":0},{"$f":"IF('3 - SPECIE DA IMPIANTARE'!$G65=\"Piantagioni lineari\",'3 - SPECIE DA IMPIANTARE'!W65,0)","v":0},{"$f":"IF('3 - SPECIE DA IMPIANTARE'!$G65=\"Piantagioni lineari\",'3 - SPECIE DA IMPIANTARE'!X65,0)","v":0},{"$f":"IF('3 - SPECIE DA IMPIANTARE'!$G65=\"Impianti a sesto regolare\",'3 - SPECIE DA IMPIANTARE'!$H65,0)","v":0},{"$f":"IF('3 - SPECIE DA IMPIANTARE'!$G65=\"Impianti a sesto regolare\",'3 - SPECIE DA IMPIANTARE'!$I65,0)","v":0},{"$f":"IF('3 - SPECIE DA IMPIANTARE'!$G65=\"Impianti a sesto regolare\",'3 - SPECIE DA IMPIANTARE'!$K65,0)","v":0},{"$f":"IF('3 - SPECIE DA IMPIANTARE'!$G65=\"Impianti a sesto regolare\",'3 - SPECIE DA IMPIANTARE'!$L65,0)","v":0},{"$f":"IF('3 - SPECIE DA IMPIANTARE'!$G65=\"Impianti a sesto regolare\",'3 - SPECIE DA IMPIANTARE'!$N65,0)","v":0},{"$f":"IF('3 - SPECIE DA IMPIANTARE'!$G65=\"Impianti a sesto regolare\",'3 - SPECIE DA IMPIANTARE'!$O65,0)","v":0},{"$f":"IF('3 - SPECIE DA IMPIANTARE'!$G65=\"Impianti a sesto regolare\",'3 - SPECIE DA IMPIANTARE'!$Q65,0)","v":0},{"$f":"IF('3 - SPECIE DA IMPIANTARE'!$G65=\"Impianti a sesto regolare\",'3 - SPECIE DA IMPIANTARE'!$R65,0)","v":0},{"$f":"IF('3 - SPECIE DA IMPIANTARE'!$G65=\"Impianti a sesto regolare\",'3 - SPECIE DA IMPIANTARE'!$T65,0)","v":0},{"$f":"IF('3 - SPECIE DA IMPIANTARE'!$G65=\"Impianti a sesto regolare\",'3 - SPECIE DA IMPIANTARE'!$U65,0)","v":0},{"$f":"IF('3 - SPECIE DA IMPIANTARE'!$G65=\"Impianti a sesto regolare\",'3 - SPECIE DA IMPIANTARE'!$W65,0)","v":0},{"$f":"IF('3 - SPECIE DA IMPIANTARE'!$G65=\"Impianti a sesto regolare\",'3 - SPECIE DA IMPIANTARE'!$X65,0)","v":0}]
[{"$f":"IF('3 - SPECIE DA IMPIANTARE'!G66=\"Impianti in ordine sparso\",'3 - SPECIE DA IMPIANTARE'!H66,0)","v":0},{"$f":"IF('3 - SPECIE DA IMPIANTARE'!$G66=\"Impianti in ordine sparso\",'3 - SPECIE DA IMPIANTARE'!I66,0)","v":0},{"$f":"IF('3 - SPECIE DA IMPIANTARE'!$G66=\"Impianti in ordine sparso\",'3 - SPECIE DA IMPIANTARE'!K66,0)","v":0},{"$f":"IF('3 - SPECIE DA IMPIANTARE'!$G66=\"Impianti in ordine sparso\",'3 - SPECIE DA IMPIANTARE'!L66,0)","v":0},{"$f":"IF('3 - SPECIE DA IMPIANTARE'!$G66=\"Impianti in ordine sparso\",'3 - SPECIE DA IMPIANTARE'!N66,0)","v":0},{"$f":"IF('3 - SPECIE DA IMPIANTARE'!$G66=\"Impianti in ordine sparso\",'3 - SPECIE DA IMPIANTARE'!O66,0)","v":0},{"$f":"IF('3 - SPECIE DA IMPIANTARE'!$G66=\"Impianti in ordine sparso\",'3 - SPECIE DA IMPIANTARE'!Q66,0)","v":0},{"$f":"IF('3 - SPECIE DA IMPIANTARE'!$G66=\"Impianti in ordine sparso\",'3 - SPECIE DA IMPIANTARE'!R66,0)","v":0},{"$f":"IF('3 - SPECIE DA IMPIANTARE'!$G66=\"Impianti in ordine sparso\",'3 - SPECIE DA IMPIANTARE'!T66,0)","v":0},{"$f":"IF('3 - SPECIE DA IMPIANTARE'!$G66=\"Impianti in ordine sparso\",'3 - SPECIE DA IMPIANTARE'!U66,0)","v":0},{"$f":"IF('3 - SPECIE DA IMPIANTARE'!$G66=\"Impianti in ordine sparso\",'3 - SPECIE DA IMPIANTARE'!W66,0)","v":0},{"$f":"IF('3 - SPECIE DA IMPIANTARE'!$G66=\"Impianti in ordine sparso\",'3 - SPECIE DA IMPIANTARE'!X66,0)","v":0},{"$f":"IF('3 - SPECIE DA IMPIANTARE'!$G66=\"Piantagioni lineari\",'3 - SPECIE DA IMPIANTARE'!H66,0)","v":0},{"$f":"IF('3 - SPECIE DA IMPIANTARE'!$G66=\"Piantagioni lineari\",'3 - SPECIE DA IMPIANTARE'!I66,0)","v":0},{"$f":"IF('3 - SPECIE DA IMPIANTARE'!$G66=\"Piantagioni lineari\",'3 - SPECIE DA IMPIANTARE'!K66,0)","v":0},{"$f":"IF('3 - SPECIE DA IMPIANTARE'!$G66=\"Piantagioni lineari\",'3 - SPECIE DA IMPIANTARE'!L66,0)","v":0},{"$f":"IF('3 - SPECIE DA IMPIANTARE'!$G66=\"Piantagioni lineari\",'3 - SPECIE DA IMPIANTARE'!N66,0)","v":0},{"$f":"IF('3 - SPECIE DA IMPIANTARE'!$G66=\"Piantagioni lineari\",'3 - SPECIE DA IMPIANTARE'!O66,0)","v":0},{"$f":"IF('3 - SPECIE DA IMPIANTARE'!$G66=\"Piantagioni lineari\",'3 - SPECIE DA IMPIANTARE'!Q66,0)","v":0},{"$f":"IF('3 - SPECIE DA IMPIANTARE'!$G66=\"Piantagioni lineari\",'3 - SPECIE DA IMPIANTARE'!R66,0)","v":0},{"$f":"IF('3 - SPECIE DA IMPIANTARE'!$G66=\"Piantagioni lineari\",'3 - SPECIE DA IMPIANTARE'!T66,0)","v":0},{"$f":"IF('3 - SPECIE DA IMPIANTARE'!$G66=\"Piantagioni lineari\",'3 - SPECIE DA IMPIANTARE'!U66,0)","v":0},{"$f":"IF('3 - SPECIE DA IMPIANTARE'!$G66=\"Piantagioni lineari\",'3 - SPECIE DA IMPIANTARE'!W66,0)","v":0},{"$f":"IF('3 - SPECIE DA IMPIANTARE'!$G66=\"Piantagioni lineari\",'3 - SPECIE DA IMPIANTARE'!X66,0)","v":0},{"$f":"IF('3 - SPECIE DA IMPIANTARE'!$G66=\"Impianti a sesto regolare\",'3 - SPECIE DA IMPIANTARE'!$H66,0)","v":0},{"$f":"IF('3 - SPECIE DA IMPIANTARE'!$G66=\"Impianti a sesto regolare\",'3 - SPECIE DA IMPIANTARE'!$I66,0)","v":0},{"$f":"IF('3 - SPECIE DA IMPIANTARE'!$G66=\"Impianti a sesto regolare\",'3 - SPECIE DA IMPIANTARE'!$K66,0)","v":0},{"$f":"IF('3 - SPECIE DA IMPIANTARE'!$G66=\"Impianti a sesto regolare\",'3 - SPECIE DA IMPIANTARE'!$L66,0)","v":0},{"$f":"IF('3 - SPECIE DA IMPIANTARE'!$G66=\"Impianti a sesto regolare\",'3 - SPECIE DA IMPIANTARE'!$N66,0)","v":0},{"$f":"IF('3 - SPECIE DA IMPIANTARE'!$G66=\"Impianti a sesto regolare\",'3 - SPECIE DA IMPIANTARE'!$O66,0)","v":0},{"$f":"IF('3 - SPECIE DA IMPIANTARE'!$G66=\"Impianti a sesto regolare\",'3 - SPECIE DA IMPIANTARE'!$Q66,0)","v":0},{"$f":"IF('3 - SPECIE DA IMPIANTARE'!$G66=\"Impianti a sesto regolare\",'3 - SPECIE DA IMPIANTARE'!$R66,0)","v":0},{"$f":"IF('3 - SPECIE DA IMPIANTARE'!$G66=\"Impianti a sesto regolare\",'3 - SPECIE DA IMPIANTARE'!$T66,0)","v":0},{"$f":"IF('3 - SPECIE DA IMPIANTARE'!$G66=\"Impianti a sesto regolare\",'3 - SPECIE DA IMPIANTARE'!$U66,0)","v":0},{"$f":"IF('3 - SPECIE DA IMPIANTARE'!$G66=\"Impianti a sesto regolare\",'3 - SPECIE DA IMPIANTARE'!$W66,0)","v":0},{"$f":"IF('3 - SPECIE DA IMPIANTARE'!$G66=\"Impianti a sesto regolare\",'3 - SPECIE DA IMPIANTARE'!$X66,0)","v":0}]
[{"$f":"IF('3 - SPECIE DA IMPIANTARE'!G67=\"Impianti in ordine sparso\",'3 - SPECIE DA IMPIANTARE'!H67,0)","v":0},{"$f":"IF('3 - SPECIE DA IMPIANTARE'!$G67=\"Impianti in ordine sparso\",'3 - SPECIE DA IMPIANTARE'!I67,0)","v":0},{"$f":"IF('3 - SPECIE DA IMPIANTARE'!$G67=\"Impianti in ordine sparso\",'3 - SPECIE DA IMPIANTARE'!K67,0)","v":0},{"$f":"IF('3 - SPECIE DA IMPIANTARE'!$G67=\"Impianti in ordine sparso\",'3 - SPECIE DA IMPIANTARE'!L67,0)","v":0},{"$f":"IF('3 - SPECIE DA IMPIANTARE'!$G67=\"Impianti in ordine sparso\",'3 - SPECIE DA IMPIANTARE'!N67,0)","v":0},{"$f":"IF('3 - SPECIE DA IMPIANTARE'!$G67=\"Impianti in ordine sparso\",'3 - SPECIE DA IMPIANTARE'!O67,0)","v":0},{"$f":"IF('3 - SPECIE DA IMPIANTARE'!$G67=\"Impianti in ordine sparso\",'3 - SPECIE DA IMPIANTARE'!Q67,0)","v":0},{"$f":"IF('3 - SPECIE DA IMPIANTARE'!$G67=\"Impianti in ordine sparso\",'3 - SPECIE DA IMPIANTARE'!R67,0)","v":0},{"$f":"IF('3 - SPECIE DA IMPIANTARE'!$G67=\"Impianti in ordine sparso\",'3 - SPECIE DA IMPIANTARE'!T67,0)","v":0},{"$f":"IF('3 - SPECIE DA IMPIANTARE'!$G67=\"Impianti in ordine sparso\",'3 - SPECIE DA IMPIANTARE'!U67,0)","v":0},{"$f":"IF('3 - SPECIE DA IMPIANTARE'!$G67=\"Impianti in ordine sparso\",'3 - SPECIE DA IMPIANTARE'!W67,0)","v":0},{"$f":"IF('3 - SPECIE DA IMPIANTARE'!$G67=\"Impianti in ordine sparso\",'3 - SPECIE DA IMPIANTARE'!X67,0)","v":0},{"$f":"IF('3 - SPECIE DA IMPIANTARE'!$G67=\"Piantagioni lineari\",'3 - SPECIE DA IMPIANTARE'!H67,0)","v":0},{"$f":"IF('3 - SPECIE DA IMPIANTARE'!$G67=\"Piantagioni lineari\",'3 - SPECIE DA IMPIANTARE'!I67,0)","v":0},{"$f":"IF('3 - SPECIE DA IMPIANTARE'!$G67=\"Piantagioni lineari\",'3 - SPECIE DA IMPIANTARE'!K67,0)","v":0},{"$f":"IF('3 - SPECIE DA IMPIANTARE'!$G67=\"Piantagioni lineari\",'3 - SPECIE DA IMPIANTARE'!L67,0)","v":0},{"$f":"IF('3 - SPECIE DA IMPIANTARE'!$G67=\"Piantagioni lineari\",'3 - SPECIE DA IMPIANTARE'!N67,0)","v":0},{"$f":"IF('3 - SPECIE DA IMPIANTARE'!$G67=\"Piantagioni lineari\",'3 - SPECIE DA IMPIANTARE'!O67,0)","v":0},{"$f":"IF('3 - SPECIE DA IMPIANTARE'!$G67=\"Piantagioni lineari\",'3 - SPECIE DA IMPIANTARE'!Q67,0)","v":0},{"$f":"IF('3 - SPECIE DA IMPIANTARE'!$G67=\"Piantagioni lineari\",'3 - SPECIE DA IMPIANTARE'!R67,0)","v":0},{"$f":"IF('3 - SPECIE DA IMPIANTARE'!$G67=\"Piantagioni lineari\",'3 - SPECIE DA IMPIANTARE'!T67,0)","v":0},{"$f":"IF('3 - SPECIE DA IMPIANTARE'!$G67=\"Piantagioni lineari\",'3 - SPECIE DA IMPIANTARE'!U67,0)","v":0},{"$f":"IF('3 - SPECIE DA IMPIANTARE'!$G67=\"Piantagioni lineari\",'3 - SPECIE DA IMPIANTARE'!W67,0)","v":0},{"$f":"IF('3 - SPECIE DA IMPIANTARE'!$G67=\"Piantagioni lineari\",'3 - SPECIE DA IMPIANTARE'!X67,0)","v":0},{"$f":"IF('3 - SPECIE DA IMPIANTARE'!$G67=\"Impianti a sesto regolare\",'3 - SPECIE DA IMPIANTARE'!$H67,0)","v":0},{"$f":"IF('3 - SPECIE DA IMPIANTARE'!$G67=\"Impianti a sesto regolare\",'3 - SPECIE DA IMPIANTARE'!$I67,0)","v":0},{"$f":"IF('3 - SPECIE DA IMPIANTARE'!$G67=\"Impianti a sesto regolare\",'3 - SPECIE DA IMPIANTARE'!$K67,0)","v":0},{"$f":"IF('3 - SPECIE DA IMPIANTARE'!$G67=\"Impianti a sesto regolare\",'3 - SPECIE DA IMPIANTARE'!$L67,0)","v":0},{"$f":"IF('3 - SPECIE DA IMPIANTARE'!$G67=\"Impianti a sesto regolare\",'3 - SPECIE DA IMPIANTARE'!$N67,0)","v":0},{"$f":"IF('3 - SPECIE DA IMPIANTARE'!$G67=\"Impianti a sesto regolare\",'3 - SPECIE DA IMPIANTARE'!$O67,0)","v":0},{"$f":"IF('3 - SPECIE DA IMPIANTARE'!$G67=\"Impianti a sesto regolare\",'3 - SPECIE DA IMPIANTARE'!$Q67,0)","v":0},{"$f":"IF('3 - SPECIE DA IMPIANTARE'!$G67=\"Impianti a sesto regolare\",'3 - SPECIE DA IMPIANTARE'!$R67,0)","v":0},{"$f":"IF('3 - SPECIE DA IMPIANTARE'!$G67=\"Impianti a sesto regolare\",'3 - SPECIE DA IMPIANTARE'!$T67,0)","v":0},{"$f":"IF('3 - SPECIE DA IMPIANTARE'!$G67=\"Impianti a sesto regolare\",'3 - SPECIE DA IMPIANTARE'!$U67,0)","v":0},{"$f":"IF('3 - SPECIE DA IMPIANTARE'!$G67=\"Impianti a sesto regolare\",'3 - SPECIE DA IMPIANTARE'!$W67,0)","v":0},{"$f":"IF('3 - SPECIE DA IMPIANTARE'!$G67=\"Impianti a sesto regolare\",'3 - SPECIE DA IMPIANTARE'!$X67,0)","v":0}]
[{"$f":"IF('3 - SPECIE DA IMPIANTARE'!G68=\"Impianti in ordine sparso\",'3 - SPECIE DA IMPIANTARE'!H68,0)","v":0},{"$f":"IF('3 - SPECIE DA IMPIANTARE'!$G68=\"Impianti in ordine sparso\",'3 - SPECIE DA IMPIANTARE'!I68,0)","v":0},{"$f":"IF('3 - SPECIE DA IMPIANTARE'!$G68=\"Impianti in ordine sparso\",'3 - SPECIE DA IMPIANTARE'!K68,0)","v":0},{"$f":"IF('3 - SPECIE DA IMPIANTARE'!$G68=\"Impianti in ordine sparso\",'3 - SPECIE DA IMPIANTARE'!L68,0)","v":0},{"$f":"IF('3 - SPECIE DA IMPIANTARE'!$G68=\"Impianti in ordine sparso\",'3 - SPECIE DA IMPIANTARE'!N68,0)","v":0},{"$f":"IF('3 - SPECIE DA IMPIANTARE'!$G68=\"Impianti in ordine sparso\",'3 - SPECIE DA IMPIANTARE'!O68,0)","v":0},{"$f":"IF('3 - SPECIE DA IMPIANTARE'!$G68=\"Impianti in ordine sparso\",'3 - SPECIE DA IMPIANTARE'!Q68,0)","v":0},{"$f":"IF('3 - SPECIE DA IMPIANTARE'!$G68=\"Impianti in ordine sparso\",'3 - SPECIE DA IMPIANTARE'!R68,0)","v":0},{"$f":"IF('3 - SPECIE DA IMPIANTARE'!$G68=\"Impianti in ordine sparso\",'3 - SPECIE DA IMPIANTARE'!T68,0)","v":0},{"$f":"IF('3 - SPECIE DA IMPIANTARE'!$G68=\"Impianti in ordine sparso\",'3 - SPECIE DA IMPIANTARE'!U68,0)","v":0},{"$f":"IF('3 - SPECIE DA IMPIANTARE'!$G68=\"Impianti in ordine sparso\",'3 - SPECIE DA IMPIANTARE'!W68,0)","v":0},{"$f":"IF('3 - SPECIE DA IMPIANTARE'!$G68=\"Impianti in ordine sparso\",'3 - SPECIE DA IMPIANTARE'!X68,0)","v":0},{"$f":"IF('3 - SPECIE DA IMPIANTARE'!$G68=\"Piantagioni lineari\",'3 - SPECIE DA IMPIANTARE'!H68,0)","v":0},{"$f":"IF('3 - SPECIE DA IMPIANTARE'!$G68=\"Piantagioni lineari\",'3 - SPECIE DA IMPIANTARE'!I68,0)","v":0},{"$f":"IF('3 - SPECIE DA IMPIANTARE'!$G68=\"Piantagioni lineari\",'3 - SPECIE DA IMPIANTARE'!K68,0)","v":0},{"$f":"IF('3 - SPECIE DA IMPIANTARE'!$G68=\"Piantagioni lineari\",'3 - SPECIE DA IMPIANTARE'!L68,0)","v":0},{"$f":"IF('3 - SPECIE DA IMPIANTARE'!$G68=\"Piantagioni lineari\",'3 - SPECIE DA IMPIANTARE'!N68,0)","v":0},{"$f":"IF('3 - SPECIE DA IMPIANTARE'!$G68=\"Piantagioni lineari\",'3 - SPECIE DA IMPIANTARE'!O68,0)","v":0},{"$f":"IF('3 - SPECIE DA IMPIANTARE'!$G68=\"Piantagioni lineari\",'3 - SPECIE DA IMPIANTARE'!Q68,0)","v":0},{"$f":"IF('3 - SPECIE DA IMPIANTARE'!$G68=\"Piantagioni lineari\",'3 - SPECIE DA IMPIANTARE'!R68,0)","v":0},{"$f":"IF('3 - SPECIE DA IMPIANTARE'!$G68=\"Piantagioni lineari\",'3 - SPECIE DA IMPIANTARE'!T68,0)","v":0},{"$f":"IF('3 - SPECIE DA IMPIANTARE'!$G68=\"Piantagioni lineari\",'3 - SPECIE DA IMPIANTARE'!U68,0)","v":0},{"$f":"IF('3 - SPECIE DA IMPIANTARE'!$G68=\"Piantagioni lineari\",'3 - SPECIE DA IMPIANTARE'!W68,0)","v":0},{"$f":"IF('3 - SPECIE DA IMPIANTARE'!$G68=\"Piantagioni lineari\",'3 - SPECIE DA IMPIANTARE'!X68,0)","v":0},{"$f":"IF('3 - SPECIE DA IMPIANTARE'!$G68=\"Impianti a sesto regolare\",'3 - SPECIE DA IMPIANTARE'!$H68,0)","v":0},{"$f":"IF('3 - SPECIE DA IMPIANTARE'!$G68=\"Impianti a sesto regolare\",'3 - SPECIE DA IMPIANTARE'!$I68,0)","v":0},{"$f":"IF('3 - SPECIE DA IMPIANTARE'!$G68=\"Impianti a sesto regolare\",'3 - SPECIE DA IMPIANTARE'!$K68,0)","v":0},{"$f":"IF('3 - SPECIE DA IMPIANTARE'!$G68=\"Impianti a sesto regolare\",'3 - SPECIE DA IMPIANTARE'!$L68,0)","v":0},{"$f":"IF('3 - SPECIE DA IMPIANTARE'!$G68=\"Impianti a sesto regolare\",'3 - SPECIE DA IMPIANTARE'!$N68,0)","v":0},{"$f":"IF('3 - SPECIE DA IMPIANTARE'!$G68=\"Impianti a sesto regolare\",'3 - SPECIE DA IMPIANTARE'!$O68,0)","v":0},{"$f":"IF('3 - SPECIE DA IMPIANTARE'!$G68=\"Impianti a sesto regolare\",'3 - SPECIE DA IMPIANTARE'!$Q68,0)","v":0},{"$f":"IF('3 - SPECIE DA IMPIANTARE'!$G68=\"Impianti a sesto regolare\",'3 - SPECIE DA IMPIANTARE'!$R68,0)","v":0},{"$f":"IF('3 - SPECIE DA IMPIANTARE'!$G68=\"Impianti a sesto regolare\",'3 - SPECIE DA IMPIANTARE'!$T68,0)","v":0},{"$f":"IF('3 - SPECIE DA IMPIANTARE'!$G68=\"Impianti a sesto regolare\",'3 - SPECIE DA IMPIANTARE'!$U68,0)","v":0},{"$f":"IF('3 - SPECIE DA IMPIANTARE'!$G68=\"Impianti a sesto regolare\",'3 - SPECIE DA IMPIANTARE'!$W68,0)","v":0},{"$f":"IF('3 - SPECIE DA IMPIANTARE'!$G68=\"Impianti a sesto regolare\",'3 - SPECIE DA IMPIANTARE'!$X68,0)","v":0}]
[{"$f":"IF('3 - SPECIE DA IMPIANTARE'!G69=\"Impianti in ordine sparso\",'3 - SPECIE DA IMPIANTARE'!H69,0)","v":0},{"$f":"IF('3 - SPECIE DA IMPIANTARE'!$G69=\"Impianti in ordine sparso\",'3 - SPECIE DA IMPIANTARE'!I69,0)","v":0},{"$f":"IF('3 - SPECIE DA IMPIANTARE'!$G69=\"Impianti in ordine sparso\",'3 - SPECIE DA IMPIANTARE'!K69,0)","v":0},{"$f":"IF('3 - SPECIE DA IMPIANTARE'!$G69=\"Impianti in ordine sparso\",'3 - SPECIE DA IMPIANTARE'!L69,0)","v":0},{"$f":"IF('3 - SPECIE DA IMPIANTARE'!$G69=\"Impianti in ordine sparso\",'3 - SPECIE DA IMPIANTARE'!N69,0)","v":0},{"$f":"IF('3 - SPECIE DA IMPIANTARE'!$G69=\"Impianti in ordine sparso\",'3 - SPECIE DA IMPIANTARE'!O69,0)","v":0},{"$f":"IF('3 - SPECIE DA IMPIANTARE'!$G69=\"Impianti in ordine sparso\",'3 - SPECIE DA IMPIANTARE'!Q69,0)","v":0},{"$f":"IF('3 - SPECIE DA IMPIANTARE'!$G69=\"Impianti in ordine sparso\",'3 - SPECIE DA IMPIANTARE'!R69,0)","v":0},{"$f":"IF('3 - SPECIE DA IMPIANTARE'!$G69=\"Impianti in ordine sparso\",'3 - SPECIE DA IMPIANTARE'!T69,0)","v":0},{"$f":"IF('3 - SPECIE DA IMPIANTARE'!$G69=\"Impianti in ordine sparso\",'3 - SPECIE DA IMPIANTARE'!U69,0)","v":0},{"$f":"IF('3 - SPECIE DA IMPIANTARE'!$G69=\"Impianti in ordine sparso\",'3 - SPECIE DA IMPIANTARE'!W69,0)","v":0},{"$f":"IF('3 - SPECIE DA IMPIANTARE'!$G69=\"Impianti in ordine sparso\",'3 - SPECIE DA IMPIANTARE'!X69,0)","v":0},{"$f":"IF('3 - SPECIE DA IMPIANTARE'!$G69=\"Piantagioni lineari\",'3 - SPECIE DA IMPIANTARE'!H69,0)","v":0},{"$f":"IF('3 - SPECIE DA IMPIANTARE'!$G69=\"Piantagioni lineari\",'3 - SPECIE DA IMPIANTARE'!I69,0)","v":0},{"$f":"IF('3 - SPECIE DA IMPIANTARE'!$G69=\"Piantagioni lineari\",'3 - SPECIE DA IMPIANTARE'!K69,0)","v":0},{"$f":"IF('3 - SPECIE DA IMPIANTARE'!$G69=\"Piantagioni lineari\",'3 - SPECIE DA IMPIANTARE'!L69,0)","v":0},{"$f":"IF('3 - SPECIE DA IMPIANTARE'!$G69=\"Piantagioni lineari\",'3 - SPECIE DA IMPIANTARE'!N69,0)","v":0},{"$f":"IF('3 - SPECIE DA IMPIANTARE'!$G69=\"Piantagioni lineari\",'3 - SPECIE DA IMPIANTARE'!O69,0)","v":0},{"$f":"IF('3 - SPECIE DA IMPIANTARE'!$G69=\"Piantagioni lineari\",'3 - SPECIE DA IMPIANTARE'!Q69,0)","v":0},{"$f":"IF('3 - SPECIE DA IMPIANTARE'!$G69=\"Piantagioni lineari\",'3 - SPECIE DA IMPIANTARE'!R69,0)","v":0},{"$f":"IF('3 - SPECIE DA IMPIANTARE'!$G69=\"Piantagioni lineari\",'3 - SPECIE DA IMPIANTARE'!T69,0)","v":0},{"$f":"IF('3 - SPECIE DA IMPIANTARE'!$G69=\"Piantagioni lineari\",'3 - SPECIE DA IMPIANTARE'!U69,0)","v":0},{"$f":"IF('3 - SPECIE DA IMPIANTARE'!$G69=\"Piantagioni lineari\",'3 - SPECIE DA IMPIANTARE'!W69,0)","v":0},{"$f":"IF('3 - SPECIE DA IMPIANTARE'!$G69=\"Piantagioni lineari\",'3 - SPECIE DA IMPIANTARE'!X69,0)","v":0},{"$f":"IF('3 - SPECIE DA IMPIANTARE'!$G69=\"Impianti a sesto regolare\",'3 - SPECIE DA IMPIANTARE'!$H69,0)","v":0},{"$f":"IF('3 - SPECIE DA IMPIANTARE'!$G69=\"Impianti a sesto regolare\",'3 - SPECIE DA IMPIANTARE'!$I69,0)","v":0},{"$f":"IF('3 - SPECIE DA IMPIANTARE'!$G69=\"Impianti a sesto regolare\",'3 - SPECIE DA IMPIANTARE'!$K69,0)","v":0},{"$f":"IF('3 - SPECIE DA IMPIANTARE'!$G69=\"Impianti a sesto regolare\",'3 - SPECIE DA IMPIANTARE'!$L69,0)","v":0},{"$f":"IF('3 - SPECIE DA IMPIANTARE'!$G69=\"Impianti a sesto regolare\",'3 - SPECIE DA IMPIANTARE'!$N69,0)","v":0},{"$f":"IF('3 - SPECIE DA IMPIANTARE'!$G69=\"Impianti a sesto regolare\",'3 - SPECIE DA IMPIANTARE'!$O69,0)","v":0},{"$f":"IF('3 - SPECIE DA IMPIANTARE'!$G69=\"Impianti a sesto regolare\",'3 - SPECIE DA IMPIANTARE'!$Q69,0)","v":0},{"$f":"IF('3 - SPECIE DA IMPIANTARE'!$G69=\"Impianti a sesto regolare\",'3 - SPECIE DA IMPIANTARE'!$R69,0)","v":0},{"$f":"IF('3 - SPECIE DA IMPIANTARE'!$G69=\"Impianti a sesto regolare\",'3 - SPECIE DA IMPIANTARE'!$T69,0)","v":0},{"$f":"IF('3 - SPECIE DA IMPIANTARE'!$G69=\"Impianti a sesto regolare\",'3 - SPECIE DA IMPIANTARE'!$U69,0)","v":0},{"$f":"IF('3 - SPECIE DA IMPIANTARE'!$G69=\"Impianti a sesto regolare\",'3 - SPECIE DA IMPIANTARE'!$W69,0)","v":0},{"$f":"IF('3 - SPECIE DA IMPIANTARE'!$G69=\"Impianti a sesto regolare\",'3 - SPECIE DA IMPIANTARE'!$X69,0)","v":0}]
[{"$f":"IF('3 - SPECIE DA IMPIANTARE'!G70=\"Impianti in ordine sparso\",'3 - SPECIE DA IMPIANTARE'!H70,0)","v":0},{"$f":"IF('3 - SPECIE DA IMPIANTARE'!$G70=\"Impianti in ordine sparso\",'3 - SPECIE DA IMPIANTARE'!I70,0)","v":0},{"$f":"IF('3 - SPECIE DA IMPIANTARE'!$G70=\"Impianti in ordine sparso\",'3 - SPECIE DA IMPIANTARE'!K70,0)","v":0},{"$f":"IF('3 - SPECIE DA IMPIANTARE'!$G70=\"Impianti in ordine sparso\",'3 - SPECIE DA IMPIANTARE'!L70,0)","v":0},{"$f":"IF('3 - SPECIE DA IMPIANTARE'!$G70=\"Impianti in ordine sparso\",'3 - SPECIE DA IMPIANTARE'!N70,0)","v":0},{"$f":"IF('3 - SPECIE DA IMPIANTARE'!$G70=\"Impianti in ordine sparso\",'3 - SPECIE DA IMPIANTARE'!O70,0)","v":0},{"$f":"IF('3 - SPECIE DA IMPIANTARE'!$G70=\"Impianti in ordine sparso\",'3 - SPECIE DA IMPIANTARE'!Q70,0)","v":0},{"$f":"IF('3 - SPECIE DA IMPIANTARE'!$G70=\"Impianti in ordine sparso\",'3 - SPECIE DA IMPIANTARE'!R70,0)","v":0},{"$f":"IF('3 - SPECIE DA IMPIANTARE'!$G70=\"Impianti in ordine sparso\",'3 - SPECIE DA IMPIANTARE'!T70,0)","v":0},{"$f":"IF('3 - SPECIE DA IMPIANTARE'!$G70=\"Impianti in ordine sparso\",'3 - SPECIE DA IMPIANTARE'!U70,0)","v":0},{"$f":"IF('3 - SPECIE DA IMPIANTARE'!$G70=\"Impianti in ordine sparso\",'3 - SPECIE DA IMPIANTARE'!W70,0)","v":0},{"$f":"IF('3 - SPECIE DA IMPIANTARE'!$G70=\"Impianti in ordine sparso\",'3 - SPECIE DA IMPIANTARE'!X70,0)","v":0},{"$f":"IF('3 - SPECIE DA IMPIANTARE'!$G70=\"Piantagioni lineari\",'3 - SPECIE DA IMPIANTARE'!H70,0)","v":0},{"$f":"IF('3 - SPECIE DA IMPIANTARE'!$G70=\"Piantagioni lineari\",'3 - SPECIE DA IMPIANTARE'!I70,0)","v":0},{"$f":"IF('3 - SPECIE DA IMPIANTARE'!$G70=\"Piantagioni lineari\",'3 - SPECIE DA IMPIANTARE'!K70,0)","v":0},{"$f":"IF('3 - SPECIE DA IMPIANTARE'!$G70=\"Piantagioni lineari\",'3 - SPECIE DA IMPIANTARE'!L70,0)","v":0},{"$f":"IF('3 - SPECIE DA IMPIANTARE'!$G70=\"Piantagioni lineari\",'3 - SPECIE DA IMPIANTARE'!N70,0)","v":0},{"$f":"IF('3 - SPECIE DA IMPIANTARE'!$G70=\"Piantagioni lineari\",'3 - SPECIE DA IMPIANTARE'!O70,0)","v":0},{"$f":"IF('3 - SPECIE DA IMPIANTARE'!$G70=\"Piantagioni lineari\",'3 - SPECIE DA IMPIANTARE'!Q70,0)","v":0},{"$f":"IF('3 - SPECIE DA IMPIANTARE'!$G70=\"Piantagioni lineari\",'3 - SPECIE DA IMPIANTARE'!R70,0)","v":0},{"$f":"IF('3 - SPECIE DA IMPIANTARE'!$G70=\"Piantagioni lineari\",'3 - SPECIE DA IMPIANTARE'!T70,0)","v":0},{"$f":"IF('3 - SPECIE DA IMPIANTARE'!$G70=\"Piantagioni lineari\",'3 - SPECIE DA IMPIANTARE'!U70,0)","v":0},{"$f":"IF('3 - SPECIE DA IMPIANTARE'!$G70=\"Piantagioni lineari\",'3 - SPECIE DA IMPIANTARE'!W70,0)","v":0},{"$f":"IF('3 - SPECIE DA IMPIANTARE'!$G70=\"Piantagioni lineari\",'3 - SPECIE DA IMPIANTARE'!X70,0)","v":0},{"$f":"IF('3 - SPECIE DA IMPIANTARE'!$G70=\"Impianti a sesto regolare\",'3 - SPECIE DA IMPIANTARE'!$H70,0)","v":0},{"$f":"IF('3 - SPECIE DA IMPIANTARE'!$G70=\"Impianti a sesto regolare\",'3 - SPECIE DA IMPIANTARE'!$I70,0)","v":0},{"$f":"IF('3 - SPECIE DA IMPIANTARE'!$G70=\"Impianti a sesto regolare\",'3 - SPECIE DA IMPIANTARE'!$K70,0)","v":0},{"$f":"IF('3 - SPECIE DA IMPIANTARE'!$G70=\"Impianti a sesto regolare\",'3 - SPECIE DA IMPIANTARE'!$L70,0)","v":0},{"$f":"IF('3 - SPECIE DA IMPIANTARE'!$G70=\"Impianti a sesto regolare\",'3 - SPECIE DA IMPIANTARE'!$N70,0)","v":0},{"$f":"IF('3 - SPECIE DA IMPIANTARE'!$G70=\"Impianti a sesto regolare\",'3 - SPECIE DA IMPIANTARE'!$O70,0)","v":0},{"$f":"IF('3 - SPECIE DA IMPIANTARE'!$G70=\"Impianti a sesto regolare\",'3 - SPECIE DA IMPIANTARE'!$Q70,0)","v":0},{"$f":"IF('3 - SPECIE DA IMPIANTARE'!$G70=\"Impianti a sesto regolare\",'3 - SPECIE DA IMPIANTARE'!$R70,0)","v":0},{"$f":"IF('3 - SPECIE DA IMPIANTARE'!$G70=\"Impianti a sesto regolare\",'3 - SPECIE DA IMPIANTARE'!$T70,0)","v":0},{"$f":"IF('3 - SPECIE DA IMPIANTARE'!$G70=\"Impianti a sesto regolare\",'3 - SPECIE DA IMPIANTARE'!$U70,0)","v":0},{"$f":"IF('3 - SPECIE DA IMPIANTARE'!$G70=\"Impianti a sesto regolare\",'3 - SPECIE DA IMPIANTARE'!$W70,0)","v":0},{"$f":"IF('3 - SPECIE DA IMPIANTARE'!$G70=\"Impianti a sesto regolare\",'3 - SPECIE DA IMPIANTARE'!$X70,0)","v":0}]
[{"$f":"IF('3 - SPECIE DA IMPIANTARE'!G71=\"Impianti in ordine sparso\",'3 - SPECIE DA IMPIANTARE'!H71,0)","v":0},{"$f":"IF('3 - SPECIE DA IMPIANTARE'!$G71=\"Impianti in ordine sparso\",'3 - SPECIE DA IMPIANTARE'!I71,0)","v":0},{"$f":"IF('3 - SPECIE DA IMPIANTARE'!$G71=\"Impianti in ordine sparso\",'3 - SPECIE DA IMPIANTARE'!K71,0)","v":0},{"$f":"IF('3 - SPECIE DA IMPIANTARE'!$G71=\"Impianti in ordine sparso\",'3 - SPECIE DA IMPIANTARE'!L71,0)","v":0},{"$f":"IF('3 - SPECIE DA IMPIANTARE'!$G71=\"Impianti in ordine sparso\",'3 - SPECIE DA IMPIANTARE'!N71,0)","v":0},{"$f":"IF('3 - SPECIE DA IMPIANTARE'!$G71=\"Impianti in ordine sparso\",'3 - SPECIE DA IMPIANTARE'!O71,0)","v":0},{"$f":"IF('3 - SPECIE DA IMPIANTARE'!$G71=\"Impianti in ordine sparso\",'3 - SPECIE DA IMPIANTARE'!Q71,0)","v":0},{"$f":"IF('3 - SPECIE DA IMPIANTARE'!$G71=\"Impianti in ordine sparso\",'3 - SPECIE DA IMPIANTARE'!R71,0)","v":0},{"$f":"IF('3 - SPECIE DA IMPIANTARE'!$G71=\"Impianti in ordine sparso\",'3 - SPECIE DA IMPIANTARE'!T71,0)","v":0},{"$f":"IF('3 - SPECIE DA IMPIANTARE'!$G71=\"Impianti in ordine sparso\",'3 - SPECIE DA IMPIANTARE'!U71,0)","v":0},{"$f":"IF('3 - SPECIE DA IMPIANTARE'!$G71=\"Impianti in ordine sparso\",'3 - SPECIE DA IMPIANTARE'!W71,0)","v":0},{"$f":"IF('3 - SPECIE DA IMPIANTARE'!$G71=\"Impianti in ordine sparso\",'3 - SPECIE DA IMPIANTARE'!X71,0)","v":0},{"$f":"IF('3 - SPECIE DA IMPIANTARE'!$G71=\"Piantagioni lineari\",'3 - SPECIE DA IMPIANTARE'!H71,0)","v":0},{"$f":"IF('3 - SPECIE DA IMPIANTARE'!$G71=\"Piantagioni lineari\",'3 - SPECIE DA IMPIANTARE'!I71,0)","v":0},{"$f":"IF('3 - SPECIE DA IMPIANTARE'!$G71=\"Piantagioni lineari\",'3 - SPECIE DA IMPIANTARE'!K71,0)","v":0},{"$f":"IF('3 - SPECIE DA IMPIANTARE'!$G71=\"Piantagioni lineari\",'3 - SPECIE DA IMPIANTARE'!L71,0)","v":0},{"$f":"IF('3 - SPECIE DA IMPIANTARE'!$G71=\"Piantagioni lineari\",'3 - SPECIE DA IMPIANTARE'!N71,0)","v":0},{"$f":"IF('3 - SPECIE DA IMPIANTARE'!$G71=\"Piantagioni lineari\",'3 - SPECIE DA IMPIANTARE'!O71,0)","v":0},{"$f":"IF('3 - SPECIE DA IMPIANTARE'!$G71=\"Piantagioni lineari\",'3 - SPECIE DA IMPIANTARE'!Q71,0)","v":0},{"$f":"IF('3 - SPECIE DA IMPIANTARE'!$G71=\"Piantagioni lineari\",'3 - SPECIE DA IMPIANTARE'!R71,0)","v":0},{"$f":"IF('3 - SPECIE DA IMPIANTARE'!$G71=\"Piantagioni lineari\",'3 - SPECIE DA IMPIANTARE'!T71,0)","v":0},{"$f":"IF('3 - SPECIE DA IMPIANTARE'!$G71=\"Piantagioni lineari\",'3 - SPECIE DA IMPIANTARE'!U71,0)","v":0},{"$f":"IF('3 - SPECIE DA IMPIANTARE'!$G71=\"Piantagioni lineari\",'3 - SPECIE DA IMPIANTARE'!W71,0)","v":0},{"$f":"IF('3 - SPECIE DA IMPIANTARE'!$G71=\"Piantagioni lineari\",'3 - SPECIE DA IMPIANTARE'!X71,0)","v":0},{"$f":"IF('3 - SPECIE DA IMPIANTARE'!$G71=\"Impianti a sesto regolare\",'3 - SPECIE DA IMPIANTARE'!$H71,0)","v":0},{"$f":"IF('3 - SPECIE DA IMPIANTARE'!$G71=\"Impianti a sesto regolare\",'3 - SPECIE DA IMPIANTARE'!$I71,0)","v":0},{"$f":"IF('3 - SPECIE DA IMPIANTARE'!$G71=\"Impianti a sesto regolare\",'3 - SPECIE DA IMPIANTARE'!$K71,0)","v":0},{"$f":"IF('3 - SPECIE DA IMPIANTARE'!$G71=\"Impianti a sesto regolare\",'3 - SPECIE DA IMPIANTARE'!$L71,0)","v":0},{"$f":"IF('3 - SPECIE DA IMPIANTARE'!$G71=\"Impianti a sesto regolare\",'3 - SPECIE DA IMPIANTARE'!$N71,0)","v":0},{"$f":"IF('3 - SPECIE DA IMPIANTARE'!$G71=\"Impianti a sesto regolare\",'3 - SPECIE DA IMPIANTARE'!$O71,0)","v":0},{"$f":"IF('3 - SPECIE DA IMPIANTARE'!$G71=\"Impianti a sesto regolare\",'3 - SPECIE DA IMPIANTARE'!$Q71,0)","v":0},{"$f":"IF('3 - SPECIE DA IMPIANTARE'!$G71=\"Impianti a sesto regolare\",'3 - SPECIE DA IMPIANTARE'!$R71,0)","v":0},{"$f":"IF('3 - SPECIE DA IMPIANTARE'!$G71=\"Impianti a sesto regolare\",'3 - SPECIE DA IMPIANTARE'!$T71,0)","v":0},{"$f":"IF('3 - SPECIE DA IMPIANTARE'!$G71=\"Impianti a sesto regolare\",'3 - SPECIE DA IMPIANTARE'!$U71,0)","v":0},{"$f":"IF('3 - SPECIE DA IMPIANTARE'!$G71=\"Impianti a sesto regolare\",'3 - SPECIE DA IMPIANTARE'!$W71,0)","v":0},{"$f":"IF('3 - SPECIE DA IMPIANTARE'!$G71=\"Impianti a sesto regolare\",'3 - SPECIE DA IMPIANTARE'!$X71,0)","v":0}]
[{"$f":"IF('3 - SPECIE DA IMPIANTARE'!G72=\"Impianti in ordine sparso\",'3 - SPECIE DA IMPIANTARE'!H72,0)","v":0},{"$f":"IF('3 - SPECIE DA IMPIANTARE'!$G72=\"Impianti in ordine sparso\",'3 - SPECIE DA IMPIANTARE'!I72,0)","v":0},{"$f":"IF('3 - SPECIE DA IMPIANTARE'!$G72=\"Impianti in ordine sparso\",'3 - SPECIE DA IMPIANTARE'!K72,0)","v":0},{"$f":"IF('3 - SPECIE DA IMPIANTARE'!$G72=\"Impianti in ordine sparso\",'3 - SPECIE DA IMPIANTARE'!L72,0)","v":0},{"$f":"IF('3 - SPECIE DA IMPIANTARE'!$G72=\"Impianti in ordine sparso\",'3 - SPECIE DA IMPIANTARE'!N72,0)","v":0},{"$f":"IF('3 - SPECIE DA IMPIANTARE'!$G72=\"Impianti in ordine sparso\",'3 - SPECIE DA IMPIANTARE'!O72,0)","v":0},{"$f":"IF('3 - SPECIE DA IMPIANTARE'!$G72=\"Impianti in ordine sparso\",'3 - SPECIE DA IMPIANTARE'!Q72,0)","v":0},{"$f":"IF('3 - SPECIE DA IMPIANTARE'!$G72=\"Impianti in ordine sparso\",'3 - SPECIE DA IMPIANTARE'!R72,0)","v":0},{"$f":"IF('3 - SPECIE DA IMPIANTARE'!$G72=\"Impianti in ordine sparso\",'3 - SPECIE DA IMPIANTARE'!T72,0)","v":0},{"$f":"IF('3 - SPECIE DA IMPIANTARE'!$G72=\"Impianti in ordine sparso\",'3 - SPECIE DA IMPIANTARE'!U72,0)","v":0},{"$f":"IF('3 - SPECIE DA IMPIANTARE'!$G72=\"Impianti in ordine sparso\",'3 - SPECIE DA IMPIANTARE'!W72,0)","v":0},{"$f":"IF('3 - SPECIE DA IMPIANTARE'!$G72=\"Impianti in ordine sparso\",'3 - SPECIE DA IMPIANTARE'!X72,0)","v":0},{"$f":"IF('3 - SPECIE DA IMPIANTARE'!$G72=\"Piantagioni lineari\",'3 - SPECIE DA IMPIANTARE'!H72,0)","v":0},{"$f":"IF('3 - SPECIE DA IMPIANTARE'!$G72=\"Piantagioni lineari\",'3 - SPECIE DA IMPIANTARE'!I72,0)","v":0},{"$f":"IF('3 - SPECIE DA IMPIANTARE'!$G72=\"Piantagioni lineari\",'3 - SPECIE DA IMPIANTARE'!K72,0)","v":0},{"$f":"IF('3 - SPECIE DA IMPIANTARE'!$G72=\"Piantagioni lineari\",'3 - SPECIE DA IMPIANTARE'!L72,0)","v":0},{"$f":"IF('3 - SPECIE DA IMPIANTARE'!$G72=\"Piantagioni lineari\",'3 - SPECIE DA IMPIANTARE'!N72,0)","v":0},{"$f":"IF('3 - SPECIE DA IMPIANTARE'!$G72=\"Piantagioni lineari\",'3 - SPECIE DA IMPIANTARE'!O72,0)","v":0},{"$f":"IF('3 - SPECIE DA IMPIANTARE'!$G72=\"Piantagioni lineari\",'3 - SPECIE DA IMPIANTARE'!Q72,0)","v":0},{"$f":"IF('3 - SPECIE DA IMPIANTARE'!$G72=\"Piantagioni lineari\",'3 - SPECIE DA IMPIANTARE'!R72,0)","v":0},{"$f":"IF('3 - SPECIE DA IMPIANTARE'!$G72=\"Piantagioni lineari\",'3 - SPECIE DA IMPIANTARE'!T72,0)","v":0},{"$f":"IF('3 - SPECIE DA IMPIANTARE'!$G72=\"Piantagioni lineari\",'3 - SPECIE DA IMPIANTARE'!U72,0)","v":0},{"$f":"IF('3 - SPECIE DA IMPIANTARE'!$G72=\"Piantagioni lineari\",'3 - SPECIE DA IMPIANTARE'!W72,0)","v":0},{"$f":"IF('3 - SPECIE DA IMPIANTARE'!$G72=\"Piantagioni lineari\",'3 - SPECIE DA IMPIANTARE'!X72,0)","v":0},{"$f":"IF('3 - SPECIE DA IMPIANTARE'!$G72=\"Impianti a sesto regolare\",'3 - SPECIE DA IMPIANTARE'!$H72,0)","v":0},{"$f":"IF('3 - SPECIE DA IMPIANTARE'!$G72=\"Impianti a sesto regolare\",'3 - SPECIE DA IMPIANTARE'!$I72,0)","v":0},{"$f":"IF('3 - SPECIE DA IMPIANTARE'!$G72=\"Impianti a sesto regolare\",'3 - SPECIE DA IMPIANTARE'!$K72,0)","v":0},{"$f":"IF('3 - SPECIE DA IMPIANTARE'!$G72=\"Impianti a sesto regolare\",'3 - SPECIE DA IMPIANTARE'!$L72,0)","v":0},{"$f":"IF('3 - SPECIE DA IMPIANTARE'!$G72=\"Impianti a sesto regolare\",'3 - SPECIE DA IMPIANTARE'!$N72,0)","v":0},{"$f":"IF('3 - SPECIE DA IMPIANTARE'!$G72=\"Impianti a sesto regolare\",'3 - SPECIE DA IMPIANTARE'!$O72,0)","v":0},{"$f":"IF('3 - SPECIE DA IMPIANTARE'!$G72=\"Impianti a sesto regolare\",'3 - SPECIE DA IMPIANTARE'!$Q72,0)","v":0},{"$f":"IF('3 - SPECIE DA IMPIANTARE'!$G72=\"Impianti a sesto regolare\",'3 - SPECIE DA IMPIANTARE'!$R72,0)","v":0},{"$f":"IF('3 - SPECIE DA IMPIANTARE'!$G72=\"Impianti a sesto regolare\",'3 - SPECIE DA IMPIANTARE'!$T72,0)","v":0},{"$f":"IF('3 - SPECIE DA IMPIANTARE'!$G72=\"Impianti a sesto regolare\",'3 - SPECIE DA IMPIANTARE'!$U72,0)","v":0},{"$f":"IF('3 - SPECIE DA IMPIANTARE'!$G72=\"Impianti a sesto regolare\",'3 - SPECIE DA IMPIANTARE'!$W72,0)","v":0},{"$f":"IF('3 - SPECIE DA IMPIANTARE'!$G72=\"Impianti a sesto regolare\",'3 - SPECIE DA IMPIANTARE'!$X72,0)","v":0}]
[{"$f":"IF('3 - SPECIE DA IMPIANTARE'!G73=\"Impianti in ordine sparso\",'3 - SPECIE DA IMPIANTARE'!H73,0)","v":0},{"$f":"IF('3 - SPECIE DA IMPIANTARE'!$G73=\"Impianti in ordine sparso\",'3 - SPECIE DA IMPIANTARE'!I73,0)","v":0},{"$f":"IF('3 - SPECIE DA IMPIANTARE'!$G73=\"Impianti in ordine sparso\",'3 - SPECIE DA IMPIANTARE'!K73,0)","v":0},{"$f":"IF('3 - SPECIE DA IMPIANTARE'!$G73=\"Impianti in ordine sparso\",'3 - SPECIE DA IMPIANTARE'!L73,0)","v":0},{"$f":"IF('3 - SPECIE DA IMPIANTARE'!$G73=\"Impianti in ordine sparso\",'3 - SPECIE DA IMPIANTARE'!N73,0)","v":0},{"$f":"IF('3 - SPECIE DA IMPIANTARE'!$G73=\"Impianti in ordine sparso\",'3 - SPECIE DA IMPIANTARE'!O73,0)","v":0},{"$f":"IF('3 - SPECIE DA IMPIANTARE'!$G73=\"Impianti in ordine sparso\",'3 - SPECIE DA IMPIANTARE'!Q73,0)","v":0},{"$f":"IF('3 - SPECIE DA IMPIANTARE'!$G73=\"Impianti in ordine sparso\",'3 - SPECIE DA IMPIANTARE'!R73,0)","v":0},{"$f":"IF('3 - SPECIE DA IMPIANTARE'!$G73=\"Impianti in ordine sparso\",'3 - SPECIE DA IMPIANTARE'!T73,0)","v":0},{"$f":"IF('3 - SPECIE DA IMPIANTARE'!$G73=\"Impianti in ordine sparso\",'3 - SPECIE DA IMPIANTARE'!U73,0)","v":0},{"$f":"IF('3 - SPECIE DA IMPIANTARE'!$G73=\"Impianti in ordine sparso\",'3 - SPECIE DA IMPIANTARE'!W73,0)","v":0},{"$f":"IF('3 - SPECIE DA IMPIANTARE'!$G73=\"Impianti in ordine sparso\",'3 - SPECIE DA IMPIANTARE'!X73,0)","v":0},{"$f":"IF('3 - SPECIE DA IMPIANTARE'!$G73=\"Piantagioni lineari\",'3 - SPECIE DA IMPIANTARE'!H73,0)","v":0},{"$f":"IF('3 - SPECIE DA IMPIANTARE'!$G73=\"Piantagioni lineari\",'3 - SPECIE DA IMPIANTARE'!I73,0)","v":0},{"$f":"IF('3 - SPECIE DA IMPIANTARE'!$G73=\"Piantagioni lineari\",'3 - SPECIE DA IMPIANTARE'!K73,0)","v":0},{"$f":"IF('3 - SPECIE DA IMPIANTARE'!$G73=\"Piantagioni lineari\",'3 - SPECIE DA IMPIANTARE'!L73,0)","v":0},{"$f":"IF('3 - SPECIE DA IMPIANTARE'!$G73=\"Piantagioni lineari\",'3 - SPECIE DA IMPIANTARE'!N73,0)","v":0},{"$f":"IF('3 - SPECIE DA IMPIANTARE'!$G73=\"Piantagioni lineari\",'3 - SPECIE DA IMPIANTARE'!O73,0)","v":0},{"$f":"IF('3 - SPECIE DA IMPIANTARE'!$G73=\"Piantagioni lineari\",'3 - SPECIE DA IMPIANTARE'!Q73,0)","v":0},{"$f":"IF('3 - SPECIE DA IMPIANTARE'!$G73=\"Piantagioni lineari\",'3 - SPECIE DA IMPIANTARE'!R73,0)","v":0},{"$f":"IF('3 - SPECIE DA IMPIANTARE'!$G73=\"Piantagioni lineari\",'3 - SPECIE DA IMPIANTARE'!T73,0)","v":0},{"$f":"IF('3 - SPECIE DA IMPIANTARE'!$G73=\"Piantagioni lineari\",'3 - SPECIE DA IMPIANTARE'!U73,0)","v":0},{"$f":"IF('3 - SPECIE DA IMPIANTARE'!$G73=\"Piantagioni lineari\",'3 - SPECIE DA IMPIANTARE'!W73,0)","v":0},{"$f":"IF('3 - SPECIE DA IMPIANTARE'!$G73=\"Piantagioni lineari\",'3 - SPECIE DA IMPIANTARE'!X73,0)","v":0},{"$f":"IF('3 - SPECIE DA IMPIANTARE'!$G73=\"Impianti a sesto regolare\",'3 - SPECIE DA IMPIANTARE'!$H73,0)","v":0},{"$f":"IF('3 - SPECIE DA IMPIANTARE'!$G73=\"Impianti a sesto regolare\",'3 - SPECIE DA IMPIANTARE'!$I73,0)","v":0},{"$f":"IF('3 - SPECIE DA IMPIANTARE'!$G73=\"Impianti a sesto regolare\",'3 - SPECIE DA IMPIANTARE'!$K73,0)","v":0},{"$f":"IF('3 - SPECIE DA IMPIANTARE'!$G73=\"Impianti a sesto regolare\",'3 - SPECIE DA IMPIANTARE'!$L73,0)","v":0},{"$f":"IF('3 - SPECIE DA IMPIANTARE'!$G73=\"Impianti a sesto regolare\",'3 - SPECIE DA IMPIANTARE'!$N73,0)","v":0},{"$f":"IF('3 - SPECIE DA IMPIANTARE'!$G73=\"Impianti a sesto regolare\",'3 - SPECIE DA IMPIANTARE'!$O73,0)","v":0},{"$f":"IF('3 - SPECIE DA IMPIANTARE'!$G73=\"Impianti a sesto regolare\",'3 - SPECIE DA IMPIANTARE'!$Q73,0)","v":0},{"$f":"IF('3 - SPECIE DA IMPIANTARE'!$G73=\"Impianti a sesto regolare\",'3 - SPECIE DA IMPIANTARE'!$R73,0)","v":0},{"$f":"IF('3 - SPECIE DA IMPIANTARE'!$G73=\"Impianti a sesto regolare\",'3 - SPECIE DA IMPIANTARE'!$T73,0)","v":0},{"$f":"IF('3 - SPECIE DA IMPIANTARE'!$G73=\"Impianti a sesto regolare\",'3 - SPECIE DA IMPIANTARE'!$U73,0)","v":0},{"$f":"IF('3 - SPECIE DA IMPIANTARE'!$G73=\"Impianti a sesto regolare\",'3 - SPECIE DA IMPIANTARE'!$W73,0)","v":0},{"$f":"IF('3 - SPECIE DA IMPIANTARE'!$G73=\"Impianti a sesto regolare\",'3 - SPECIE DA IMPIANTARE'!$X73,0)","v":0}]
[{"$f":"IF('3 - SPECIE DA IMPIANTARE'!G74=\"Impianti in ordine sparso\",'3 - SPECIE DA IMPIANTARE'!H74,0)","v":0},{"$f":"IF('3 - SPECIE DA IMPIANTARE'!$G74=\"Impianti in ordine sparso\",'3 - SPECIE DA IMPIANTARE'!I74,0)","v":0},{"$f":"IF('3 - SPECIE DA IMPIANTARE'!$G74=\"Impianti in ordine sparso\",'3 - SPECIE DA IMPIANTARE'!K74,0)","v":0},{"$f":"IF('3 - SPECIE DA IMPIANTARE'!$G74=\"Impianti in ordine sparso\",'3 - SPECIE DA IMPIANTARE'!L74,0)","v":0},{"$f":"IF('3 - SPECIE DA IMPIANTARE'!$G74=\"Impianti in ordine sparso\",'3 - SPECIE DA IMPIANTARE'!N74,0)","v":0},{"$f":"IF('3 - SPECIE DA IMPIANTARE'!$G74=\"Impianti in ordine sparso\",'3 - SPECIE DA IMPIANTARE'!O74,0)","v":0},{"$f":"IF('3 - SPECIE DA IMPIANTARE'!$G74=\"Impianti in ordine sparso\",'3 - SPECIE DA IMPIANTARE'!Q74,0)","v":0},{"$f":"IF('3 - SPECIE DA IMPIANTARE'!$G74=\"Impianti in ordine sparso\",'3 - SPECIE DA IMPIANTARE'!R74,0)","v":0},{"$f":"IF('3 - SPECIE DA IMPIANTARE'!$G74=\"Impianti in ordine sparso\",'3 - SPECIE DA IMPIANTARE'!T74,0)","v":0},{"$f":"IF('3 - SPECIE DA IMPIANTARE'!$G74=\"Impianti in ordine sparso\",'3 - SPECIE DA IMPIANTARE'!U74,0)","v":0},{"$f":"IF('3 - SPECIE DA IMPIANTARE'!$G74=\"Impianti in ordine sparso\",'3 - SPECIE DA IMPIANTARE'!W74,0)","v":0},{"$f":"IF('3 - SPECIE DA IMPIANTARE'!$G74=\"Impianti in ordine sparso\",'3 - SPECIE DA IMPIANTARE'!X74,0)","v":0},{"$f":"IF('3 - SPECIE DA IMPIANTARE'!$G74=\"Piantagioni lineari\",'3 - SPECIE DA IMPIANTARE'!H74,0)","v":0},{"$f":"IF('3 - SPECIE DA IMPIANTARE'!$G74=\"Piantagioni lineari\",'3 - SPECIE DA IMPIANTARE'!I74,0)","v":0},{"$f":"IF('3 - SPECIE DA IMPIANTARE'!$G74=\"Piantagioni lineari\",'3 - SPECIE DA IMPIANTARE'!K74,0)","v":0},{"$f":"IF('3 - SPECIE DA IMPIANTARE'!$G74=\"Piantagioni lineari\",'3 - SPECIE DA IMPIANTARE'!L74,0)","v":0},{"$f":"IF('3 - SPECIE DA IMPIANTARE'!$G74=\"Piantagioni lineari\",'3 - SPECIE DA IMPIANTARE'!N74,0)","v":0},{"$f":"IF('3 - SPECIE DA IMPIANTARE'!$G74=\"Piantagioni lineari\",'3 - SPECIE DA IMPIANTARE'!O74,0)","v":0},{"$f":"IF('3 - SPECIE DA IMPIANTARE'!$G74=\"Piantagioni lineari\",'3 - SPECIE DA IMPIANTARE'!Q74,0)","v":0},{"$f":"IF('3 - SPECIE DA IMPIANTARE'!$G74=\"Piantagioni lineari\",'3 - SPECIE DA IMPIANTARE'!R74,0)","v":0},{"$f":"IF('3 - SPECIE DA IMPIANTARE'!$G74=\"Piantagioni lineari\",'3 - SPECIE DA IMPIANTARE'!T74,0)","v":0},{"$f":"IF('3 - SPECIE DA IMPIANTARE'!$G74=\"Piantagioni lineari\",'3 - SPECIE DA IMPIANTARE'!U74,0)","v":0},{"$f":"IF('3 - SPECIE DA IMPIANTARE'!$G74=\"Piantagioni lineari\",'3 - SPECIE DA IMPIANTARE'!W74,0)","v":0},{"$f":"IF('3 - SPECIE DA IMPIANTARE'!$G74=\"Piantagioni lineari\",'3 - SPECIE DA IMPIANTARE'!X74,0)","v":0},{"$f":"IF('3 - SPECIE DA IMPIANTARE'!$G74=\"Impianti a sesto regolare\",'3 - SPECIE DA IMPIANTARE'!$H74,0)","v":0},{"$f":"IF('3 - SPECIE DA IMPIANTARE'!$G74=\"Impianti a sesto regolare\",'3 - SPECIE DA IMPIANTARE'!$I74,0)","v":0},{"$f":"IF('3 - SPECIE DA IMPIANTARE'!$G74=\"Impianti a sesto regolare\",'3 - SPECIE DA IMPIANTARE'!$K74,0)","v":0},{"$f":"IF('3 - SPECIE DA IMPIANTARE'!$G74=\"Impianti a sesto regolare\",'3 - SPECIE DA IMPIANTARE'!$L74,0)","v":0},{"$f":"IF('3 - SPECIE DA IMPIANTARE'!$G74=\"Impianti a sesto regolare\",'3 - SPECIE DA IMPIANTARE'!$N74,0)","v":0},{"$f":"IF('3 - SPECIE DA IMPIANTARE'!$G74=\"Impianti a sesto regolare\",'3 - SPECIE DA IMPIANTARE'!$O74,0)","v":0},{"$f":"IF('3 - SPECIE DA IMPIANTARE'!$G74=\"Impianti a sesto regolare\",'3 - SPECIE DA IMPIANTARE'!$Q74,0)","v":0},{"$f":"IF('3 - SPECIE DA IMPIANTARE'!$G74=\"Impianti a sesto regolare\",'3 - SPECIE DA IMPIANTARE'!$R74,0)","v":0},{"$f":"IF('3 - SPECIE DA IMPIANTARE'!$G74=\"Impianti a sesto regolare\",'3 - SPECIE DA IMPIANTARE'!$T74,0)","v":0},{"$f":"IF('3 - SPECIE DA IMPIANTARE'!$G74=\"Impianti a sesto regolare\",'3 - SPECIE DA IMPIANTARE'!$U74,0)","v":0},{"$f":"IF('3 - SPECIE DA IMPIANTARE'!$G74=\"Impianti a sesto regolare\",'3 - SPECIE DA IMPIANTARE'!$W74,0)","v":0},{"$f":"IF('3 - SPECIE DA IMPIANTARE'!$G74=\"Impianti a sesto regolare\",'3 - SPECIE DA IMPIANTARE'!$X74,0)","v":0}]
[{"$f":"IF('3 - SPECIE DA IMPIANTARE'!G75=\"Impianti in ordine sparso\",'3 - SPECIE DA IMPIANTARE'!H75,0)","v":0},{"$f":"IF('3 - SPECIE DA IMPIANTARE'!$G75=\"Impianti in ordine sparso\",'3 - SPECIE DA IMPIANTARE'!I75,0)","v":0},{"$f":"IF('3 - SPECIE DA IMPIANTARE'!$G75=\"Impianti in ordine sparso\",'3 - SPECIE DA IMPIANTARE'!K75,0)","v":0},{"$f":"IF('3 - SPECIE DA IMPIANTARE'!$G75=\"Impianti in ordine sparso\",'3 - SPECIE DA IMPIANTARE'!L75,0)","v":0},{"$f":"IF('3 - SPECIE DA IMPIANTARE'!$G75=\"Impianti in ordine sparso\",'3 - SPECIE DA IMPIANTARE'!N75,0)","v":0},{"$f":"IF('3 - SPECIE DA IMPIANTARE'!$G75=\"Impianti in ordine sparso\",'3 - SPECIE DA IMPIANTARE'!O75,0)","v":0},{"$f":"IF('3 - SPECIE DA IMPIANTARE'!$G75=\"Impianti in ordine sparso\",'3 - SPECIE DA IMPIANTARE'!Q75,0)","v":0},{"$f":"IF('3 - SPECIE DA IMPIANTARE'!$G75=\"Impianti in ordine sparso\",'3 - SPECIE DA IMPIANTARE'!R75,0)","v":0},{"$f":"IF('3 - SPECIE DA IMPIANTARE'!$G75=\"Impianti in ordine sparso\",'3 - SPECIE DA IMPIANTARE'!T75,0)","v":0},{"$f":"IF('3 - SPECIE DA IMPIANTARE'!$G75=\"Impianti in ordine sparso\",'3 - SPECIE DA IMPIANTARE'!U75,0)","v":0},{"$f":"IF('3 - SPECIE DA IMPIANTARE'!$G75=\"Impianti in ordine sparso\",'3 - SPECIE DA IMPIANTARE'!W75,0)","v":0},{"$f":"IF('3 - SPECIE DA IMPIANTARE'!$G75=\"Impianti in ordine sparso\",'3 - SPECIE DA IMPIANTARE'!X75,0)","v":0},{"$f":"IF('3 - SPECIE DA IMPIANTARE'!$G75=\"Piantagioni lineari\",'3 - SPECIE DA IMPIANTARE'!H75,0)","v":0},{"$f":"IF('3 - SPECIE DA IMPIANTARE'!$G75=\"Piantagioni lineari\",'3 - SPECIE DA IMPIANTARE'!I75,0)","v":0},{"$f":"IF('3 - SPECIE DA IMPIANTARE'!$G75=\"Piantagioni lineari\",'3 - SPECIE DA IMPIANTARE'!K75,0)","v":0},{"$f":"IF('3 - SPECIE DA IMPIANTARE'!$G75=\"Piantagioni lineari\",'3 - SPECIE DA IMPIANTARE'!L75,0)","v":0},{"$f":"IF('3 - SPECIE DA IMPIANTARE'!$G75=\"Piantagioni lineari\",'3 - SPECIE DA IMPIANTARE'!N75,0)","v":0},{"$f":"IF('3 - SPECIE DA IMPIANTARE'!$G75=\"Piantagioni lineari\",'3 - SPECIE DA IMPIANTARE'!O75,0)","v":0},{"$f":"IF('3 - SPECIE DA IMPIANTARE'!$G75=\"Piantagioni lineari\",'3 - SPECIE DA IMPIANTARE'!Q75,0)","v":0},{"$f":"IF('3 - SPECIE DA IMPIANTARE'!$G75=\"Piantagioni lineari\",'3 - SPECIE DA IMPIANTARE'!R75,0)","v":0},{"$f":"IF('3 - SPECIE DA IMPIANTARE'!$G75=\"Piantagioni lineari\",'3 - SPECIE DA IMPIANTARE'!T75,0)","v":0},{"$f":"IF('3 - SPECIE DA IMPIANTARE'!$G75=\"Piantagioni lineari\",'3 - SPECIE DA IMPIANTARE'!U75,0)","v":0},{"$f":"IF('3 - SPECIE DA IMPIANTARE'!$G75=\"Piantagioni lineari\",'3 - SPECIE DA IMPIANTARE'!W75,0)","v":0},{"$f":"IF('3 - SPECIE DA IMPIANTARE'!$G75=\"Piantagioni lineari\",'3 - SPECIE DA IMPIANTARE'!X75,0)","v":0},{"$f":"IF('3 - SPECIE DA IMPIANTARE'!$G75=\"Impianti a sesto regolare\",'3 - SPECIE DA IMPIANTARE'!$H75,0)","v":0},{"$f":"IF('3 - SPECIE DA IMPIANTARE'!$G75=\"Impianti a sesto regolare\",'3 - SPECIE DA IMPIANTARE'!$I75,0)","v":0},{"$f":"IF('3 - SPECIE DA IMPIANTARE'!$G75=\"Impianti a sesto regolare\",'3 - SPECIE DA IMPIANTARE'!$K75,0)","v":0},{"$f":"IF('3 - SPECIE DA IMPIANTARE'!$G75=\"Impianti a sesto regolare\",'3 - SPECIE DA IMPIANTARE'!$L75,0)","v":0},{"$f":"IF('3 - SPECIE DA IMPIANTARE'!$G75=\"Impianti a sesto regolare\",'3 - SPECIE DA IMPIANTARE'!$N75,0)","v":0},{"$f":"IF('3 - SPECIE DA IMPIANTARE'!$G75=\"Impianti a sesto regolare\",'3 - SPECIE DA IMPIANTARE'!$O75,0)","v":0},{"$f":"IF('3 - SPECIE DA IMPIANTARE'!$G75=\"Impianti a sesto regolare\",'3 - SPECIE DA IMPIANTARE'!$Q75,0)","v":0},{"$f":"IF('3 - SPECIE DA IMPIANTARE'!$G75=\"Impianti a sesto regolare\",'3 - SPECIE DA IMPIANTARE'!$R75,0)","v":0},{"$f":"IF('3 - SPECIE DA IMPIANTARE'!$G75=\"Impianti a sesto regolare\",'3 - SPECIE DA IMPIANTARE'!$T75,0)","v":0},{"$f":"IF('3 - SPECIE DA IMPIANTARE'!$G75=\"Impianti a sesto regolare\",'3 - SPECIE DA IMPIANTARE'!$U75,0)","v":0},{"$f":"IF('3 - SPECIE DA IMPIANTARE'!$G75=\"Impianti a sesto regolare\",'3 - SPECIE DA IMPIANTARE'!$W75,0)","v":0},{"$f":"IF('3 - SPECIE DA IMPIANTARE'!$G75=\"Impianti a sesto regolare\",'3 - SPECIE DA IMPIANTARE'!$X75,0)","v":0}]
[{"$f":"IF('3 - SPECIE DA IMPIANTARE'!G76=\"Impianti in ordine sparso\",'3 - SPECIE DA IMPIANTARE'!H76,0)","v":0},{"$f":"IF('3 - SPECIE DA IMPIANTARE'!$G76=\"Impianti in ordine sparso\",'3 - SPECIE DA IMPIANTARE'!I76,0)","v":0},{"$f":"IF('3 - SPECIE DA IMPIANTARE'!$G76=\"Impianti in ordine sparso\",'3 - SPECIE DA IMPIANTARE'!K76,0)","v":0},{"$f":"IF('3 - SPECIE DA IMPIANTARE'!$G76=\"Impianti in ordine sparso\",'3 - SPECIE DA IMPIANTARE'!L76,0)","v":0},{"$f":"IF('3 - SPECIE DA IMPIANTARE'!$G76=\"Impianti in ordine sparso\",'3 - SPECIE DA IMPIANTARE'!N76,0)","v":0},{"$f":"IF('3 - SPECIE DA IMPIANTARE'!$G76=\"Impianti in ordine sparso\",'3 - SPECIE DA IMPIANTARE'!O76,0)","v":0},{"$f":"IF('3 - SPECIE DA IMPIANTARE'!$G76=\"Impianti in ordine sparso\",'3 - SPECIE DA IMPIANTARE'!Q76,0)","v":0},{"$f":"IF('3 - SPECIE DA IMPIANTARE'!$G76=\"Impianti in ordine sparso\",'3 - SPECIE DA IMPIANTARE'!R76,0)","v":0},{"$f":"IF('3 - SPECIE DA IMPIANTARE'!$G76=\"Impianti in ordine sparso\",'3 - SPECIE DA IMPIANTARE'!T76,0)","v":0},{"$f":"IF('3 - SPECIE DA IMPIANTARE'!$G76=\"Impianti in ordine sparso\",'3 - SPECIE DA IMPIANTARE'!U76,0)","v":0},{"$f":"IF('3 - SPECIE DA IMPIANTARE'!$G76=\"Impianti in ordine sparso\",'3 - SPECIE DA IMPIANTARE'!W76,0)","v":0},{"$f":"IF('3 - SPECIE DA IMPIANTARE'!$G76=\"Impianti in ordine sparso\",'3 - SPECIE DA IMPIANTARE'!X76,0)","v":0},{"$f":"IF('3 - SPECIE DA IMPIANTARE'!$G76=\"Piantagioni lineari\",'3 - SPECIE DA IMPIANTARE'!H76,0)","v":0},{"$f":"IF('3 - SPECIE DA IMPIANTARE'!$G76=\"Piantagioni lineari\",'3 - SPECIE DA IMPIANTARE'!I76,0)","v":0},{"$f":"IF('3 - SPECIE DA IMPIANTARE'!$G76=\"Piantagioni lineari\",'3 - SPECIE DA IMPIANTARE'!K76,0)","v":0},{"$f":"IF('3 - SPECIE DA IMPIANTARE'!$G76=\"Piantagioni lineari\",'3 - SPECIE DA IMPIANTARE'!L76,0)","v":0},{"$f":"IF('3 - SPECIE DA IMPIANTARE'!$G76=\"Piantagioni lineari\",'3 - SPECIE DA IMPIANTARE'!N76,0)","v":0},{"$f":"IF('3 - SPECIE DA IMPIANTARE'!$G76=\"Piantagioni lineari\",'3 - SPECIE DA IMPIANTARE'!O76,0)","v":0},{"$f":"IF('3 - SPECIE DA IMPIANTARE'!$G76=\"Piantagioni lineari\",'3 - SPECIE DA IMPIANTARE'!Q76,0)","v":0},{"$f":"IF('3 - SPECIE DA IMPIANTARE'!$G76=\"Piantagioni lineari\",'3 - SPECIE DA IMPIANTARE'!R76,0)","v":0},{"$f":"IF('3 - SPECIE DA IMPIANTARE'!$G76=\"Piantagioni lineari\",'3 - SPECIE DA IMPIANTARE'!T76,0)","v":0},{"$f":"IF('3 - SPECIE DA IMPIANTARE'!$G76=\"Piantagioni lineari\",'3 - SPECIE DA IMPIANTARE'!U76,0)","v":0},{"$f":"IF('3 - SPECIE DA IMPIANTARE'!$G76=\"Piantagioni lineari\",'3 - SPECIE DA IMPIANTARE'!W76,0)","v":0},{"$f":"IF('3 - SPECIE DA IMPIANTARE'!$G76=\"Piantagioni lineari\",'3 - SPECIE DA IMPIANTARE'!X76,0)","v":0},{"$f":"IF('3 - SPECIE DA IMPIANTARE'!$G76=\"Impianti a sesto regolare\",'3 - SPECIE DA IMPIANTARE'!$H76,0)","v":0},{"$f":"IF('3 - SPECIE DA IMPIANTARE'!$G76=\"Impianti a sesto regolare\",'3 - SPECIE DA IMPIANTARE'!$I76,0)","v":0},{"$f":"IF('3 - SPECIE DA IMPIANTARE'!$G76=\"Impianti a sesto regolare\",'3 - SPECIE DA IMPIANTARE'!$K76,0)","v":0},{"$f":"IF('3 - SPECIE DA IMPIANTARE'!$G76=\"Impianti a sesto regolare\",'3 - SPECIE DA IMPIANTARE'!$L76,0)","v":0},{"$f":"IF('3 - SPECIE DA IMPIANTARE'!$G76=\"Impianti a sesto regolare\",'3 - SPECIE DA IMPIANTARE'!$N76,0)","v":0},{"$f":"IF('3 - SPECIE DA IMPIANTARE'!$G76=\"Impianti a sesto regolare\",'3 - SPECIE DA IMPIANTARE'!$O76,0)","v":0},{"$f":"IF('3 - SPECIE DA IMPIANTARE'!$G76=\"Impianti a sesto regolare\",'3 - SPECIE DA IMPIANTARE'!$Q76,0)","v":0},{"$f":"IF('3 - SPECIE DA IMPIANTARE'!$G76=\"Impianti a sesto regolare\",'3 - SPECIE DA IMPIANTARE'!$R76,0)","v":0},{"$f":"IF('3 - SPECIE DA IMPIANTARE'!$G76=\"Impianti a sesto regolare\",'3 - SPECIE DA IMPIANTARE'!$T76,0)","v":0},{"$f":"IF('3 - SPECIE DA IMPIANTARE'!$G76=\"Impianti a sesto regolare\",'3 - SPECIE DA IMPIANTARE'!$U76,0)","v":0},{"$f":"IF('3 - SPECIE DA IMPIANTARE'!$G76=\"Impianti a sesto regolare\",'3 - SPECIE DA IMPIANTARE'!$W76,0)","v":0},{"$f":"IF('3 - SPECIE DA IMPIANTARE'!$G76=\"Impianti a sesto regolare\",'3 - SPECIE DA IMPIANTARE'!$X76,0)","v":0}]
[{"$f":"IF('3 - SPECIE DA IMPIANTARE'!G77=\"Impianti in ordine sparso\",'3 - SPECIE DA IMPIANTARE'!H77,0)","v":0},{"$f":"IF('3 - SPECIE DA IMPIANTARE'!$G77=\"Impianti in ordine sparso\",'3 - SPECIE DA IMPIANTARE'!I77,0)","v":0},{"$f":"IF('3 - SPECIE DA IMPIANTARE'!$G77=\"Impianti in ordine sparso\",'3 - SPECIE DA IMPIANTARE'!K77,0)","v":0},{"$f":"IF('3 - SPECIE DA IMPIANTARE'!$G77=\"Impianti in ordine sparso\",'3 - SPECIE DA IMPIANTARE'!L77,0)","v":0},{"$f":"IF('3 - SPECIE DA IMPIANTARE'!$G77=\"Impianti in ordine sparso\",'3 - SPECIE DA IMPIANTARE'!N77,0)","v":0},{"$f":"IF('3 - SPECIE DA IMPIANTARE'!$G77=\"Impianti in ordine sparso\",'3 - SPECIE DA IMPIANTARE'!O77,0)","v":0},{"$f":"IF('3 - SPECIE DA IMPIANTARE'!$G77=\"Impianti in ordine sparso\",'3 - SPECIE DA IMPIANTARE'!Q77,0)","v":0},{"$f":"IF('3 - SPECIE DA IMPIANTARE'!$G77=\"Impianti in ordine sparso\",'3 - SPECIE DA IMPIANTARE'!R77,0)","v":0},{"$f":"IF('3 - SPECIE DA IMPIANTARE'!$G77=\"Impianti in ordine sparso\",'3 - SPECIE DA IMPIANTARE'!T77,0)","v":0},{"$f":"IF('3 - SPECIE DA IMPIANTARE'!$G77=\"Impianti in ordine sparso\",'3 - SPECIE DA IMPIANTARE'!U77,0)","v":0},{"$f":"IF('3 - SPECIE DA IMPIANTARE'!$G77=\"Impianti in ordine sparso\",'3 - SPECIE DA IMPIANTARE'!W77,0)","v":0},{"$f":"IF('3 - SPECIE DA IMPIANTARE'!$G77=\"Impianti in ordine sparso\",'3 - SPECIE DA IMPIANTARE'!X77,0)","v":0},{"$f":"IF('3 - SPECIE DA IMPIANTARE'!$G77=\"Piantagioni lineari\",'3 - SPECIE DA IMPIANTARE'!H77,0)","v":0},{"$f":"IF('3 - SPECIE DA IMPIANTARE'!$G77=\"Piantagioni lineari\",'3 - SPECIE DA IMPIANTARE'!I77,0)","v":0},{"$f":"IF('3 - SPECIE DA IMPIANTARE'!$G77=\"Piantagioni lineari\",'3 - SPECIE DA IMPIANTARE'!K77,0)","v":0},{"$f":"IF('3 - SPECIE DA IMPIANTARE'!$G77=\"Piantagioni lineari\",'3 - SPECIE DA IMPIANTARE'!L77,0)","v":0},{"$f":"IF('3 - SPECIE DA IMPIANTARE'!$G77=\"Piantagioni lineari\",'3 - SPECIE DA IMPIANTARE'!N77,0)","v":0},{"$f":"IF('3 - SPECIE DA IMPIANTARE'!$G77=\"Piantagioni lineari\",'3 - SPECIE DA IMPIANTARE'!O77,0)","v":0},{"$f":"IF('3 - SPECIE DA IMPIANTARE'!$G77=\"Piantagioni lineari\",'3 - SPECIE DA IMPIANTARE'!Q77,0)","v":0},{"$f":"IF('3 - SPECIE DA IMPIANTARE'!$G77=\"Piantagioni lineari\",'3 - SPECIE DA IMPIANTARE'!R77,0)","v":0},{"$f":"IF('3 - SPECIE DA IMPIANTARE'!$G77=\"Piantagioni lineari\",'3 - SPECIE DA IMPIANTARE'!T77,0)","v":0},{"$f":"IF('3 - SPECIE DA IMPIANTARE'!$G77=\"Piantagioni lineari\",'3 - SPECIE DA IMPIANTARE'!U77,0)","v":0},{"$f":"IF('3 - SPECIE DA IMPIANTARE'!$G77=\"Piantagioni lineari\",'3 - SPECIE DA IMPIANTARE'!W77,0)","v":0},{"$f":"IF('3 - SPECIE DA IMPIANTARE'!$G77=\"Piantagioni lineari\",'3 - SPECIE DA IMPIANTARE'!X77,0)","v":0},{"$f":"IF('3 - SPECIE DA IMPIANTARE'!$G77=\"Impianti a sesto regolare\",'3 - SPECIE DA IMPIANTARE'!$H77,0)","v":0},{"$f":"IF('3 - SPECIE DA IMPIANTARE'!$G77=\"Impianti a sesto regolare\",'3 - SPECIE DA IMPIANTARE'!$I77,0)","v":0},{"$f":"IF('3 - SPECIE DA IMPIANTARE'!$G77=\"Impianti a sesto regolare\",'3 - SPECIE DA IMPIANTARE'!$K77,0)","v":0},{"$f":"IF('3 - SPECIE DA IMPIANTARE'!$G77=\"Impianti a sesto regolare\",'3 - SPECIE DA IMPIANTARE'!$L77,0)","v":0},{"$f":"IF('3 - SPECIE DA IMPIANTARE'!$G77=\"Impianti a sesto regolare\",'3 - SPECIE DA IMPIANTARE'!$N77,0)","v":0},{"$f":"IF('3 - SPECIE DA IMPIANTARE'!$G77=\"Impianti a sesto regolare\",'3 - SPECIE DA IMPIANTARE'!$O77,0)","v":0},{"$f":"IF('3 - SPECIE DA IMPIANTARE'!$G77=\"Impianti a sesto regolare\",'3 - SPECIE DA IMPIANTARE'!$Q77,0)","v":0},{"$f":"IF('3 - SPECIE DA IMPIANTARE'!$G77=\"Impianti a sesto regolare\",'3 - SPECIE DA IMPIANTARE'!$R77,0)","v":0},{"$f":"IF('3 - SPECIE DA IMPIANTARE'!$G77=\"Impianti a sesto regolare\",'3 - SPECIE DA IMPIANTARE'!$T77,0)","v":0},{"$f":"IF('3 - SPECIE DA IMPIANTARE'!$G77=\"Impianti a sesto regolare\",'3 - SPECIE DA IMPIANTARE'!$U77,0)","v":0},{"$f":"IF('3 - SPECIE DA IMPIANTARE'!$G77=\"Impianti a sesto regolare\",'3 - SPECIE DA IMPIANTARE'!$W77,0)","v":0},{"$f":"IF('3 - SPECIE DA IMPIANTARE'!$G77=\"Impianti a sesto regolare\",'3 - SPECIE DA IMPIANTARE'!$X77,0)","v":0}]
[{"$f":"IF('3 - SPECIE DA IMPIANTARE'!G78=\"Impianti in ordine sparso\",'3 - SPECIE DA IMPIANTARE'!H78,0)","v":0},{"$f":"IF('3 - SPECIE DA IMPIANTARE'!$G78=\"Impianti in ordine sparso\",'3 - SPECIE DA IMPIANTARE'!I78,0)","v":0},{"$f":"IF('3 - SPECIE DA IMPIANTARE'!$G78=\"Impianti in ordine sparso\",'3 - SPECIE DA IMPIANTARE'!K78,0)","v":0},{"$f":"IF('3 - SPECIE DA IMPIANTARE'!$G78=\"Impianti in ordine sparso\",'3 - SPECIE DA IMPIANTARE'!L78,0)","v":0},{"$f":"IF('3 - SPECIE DA IMPIANTARE'!$G78=\"Impianti in ordine sparso\",'3 - SPECIE DA IMPIANTARE'!N78,0)","v":0},{"$f":"IF('3 - SPECIE DA IMPIANTARE'!$G78=\"Impianti in ordine sparso\",'3 - SPECIE DA IMPIANTARE'!O78,0)","v":0},{"$f":"IF('3 - SPECIE DA IMPIANTARE'!$G78=\"Impianti in ordine sparso\",'3 - SPECIE DA IMPIANTARE'!Q78,0)","v":0},{"$f":"IF('3 - SPECIE DA IMPIANTARE'!$G78=\"Impianti in ordine sparso\",'3 - SPECIE DA IMPIANTARE'!R78,0)","v":0},{"$f":"IF('3 - SPECIE DA IMPIANTARE'!$G78=\"Impianti in ordine sparso\",'3 - SPECIE DA IMPIANTARE'!T78,0)","v":0},{"$f":"IF('3 - SPECIE DA IMPIANTARE'!$G78=\"Impianti in ordine sparso\",'3 - SPECIE DA IMPIANTARE'!U78,0)","v":0},{"$f":"IF('3 - SPECIE DA IMPIANTARE'!$G78=\"Impianti in ordine sparso\",'3 - SPECIE DA IMPIANTARE'!W78,0)","v":0},{"$f":"IF('3 - SPECIE DA IMPIANTARE'!$G78=\"Impianti in ordine sparso\",'3 - SPECIE DA IMPIANTARE'!X78,0)","v":0},{"$f":"IF('3 - SPECIE DA IMPIANTARE'!$G78=\"Piantagioni lineari\",'3 - SPECIE DA IMPIANTARE'!H78,0)","v":0},{"$f":"IF('3 - SPECIE DA IMPIANTARE'!$G78=\"Piantagioni lineari\",'3 - SPECIE DA IMPIANTARE'!I78,0)","v":0},{"$f":"IF('3 - SPECIE DA IMPIANTARE'!$G78=\"Piantagioni lineari\",'3 - SPECIE DA IMPIANTARE'!K78,0)","v":0},{"$f":"IF('3 - SPECIE DA IMPIANTARE'!$G78=\"Piantagioni lineari\",'3 - SPECIE DA IMPIANTARE'!L78,0)","v":0},{"$f":"IF('3 - SPECIE DA IMPIANTARE'!$G78=\"Piantagioni lineari\",'3 - SPECIE DA IMPIANTARE'!N78,0)","v":0},{"$f":"IF('3 - SPECIE DA IMPIANTARE'!$G78=\"Piantagioni lineari\",'3 - SPECIE DA IMPIANTARE'!O78,0)","v":0},{"$f":"IF('3 - SPECIE DA IMPIANTARE'!$G78=\"Piantagioni lineari\",'3 - SPECIE DA IMPIANTARE'!Q78,0)","v":0},{"$f":"IF('3 - SPECIE DA IMPIANTARE'!$G78=\"Piantagioni lineari\",'3 - SPECIE DA IMPIANTARE'!R78,0)","v":0},{"$f":"IF('3 - SPECIE DA IMPIANTARE'!$G78=\"Piantagioni lineari\",'3 - SPECIE DA IMPIANTARE'!T78,0)","v":0},{"$f":"IF('3 - SPECIE DA IMPIANTARE'!$G78=\"Piantagioni lineari\",'3 - SPECIE DA IMPIANTARE'!U78,0)","v":0},{"$f":"IF('3 - SPECIE DA IMPIANTARE'!$G78=\"Piantagioni lineari\",'3 - SPECIE DA IMPIANTARE'!W78,0)","v":0},{"$f":"IF('3 - SPECIE DA IMPIANTARE'!$G78=\"Piantagioni lineari\",'3 - SPECIE DA IMPIANTARE'!X78,0)","v":0},{"$f":"IF('3 - SPECIE DA IMPIANTARE'!$G78=\"Impianti a sesto regolare\",'3 - SPECIE DA IMPIANTARE'!$H78,0)","v":0},{"$f":"IF('3 - SPECIE DA IMPIANTARE'!$G78=\"Impianti a sesto regolare\",'3 - SPECIE DA IMPIANTARE'!$I78,0)","v":0},{"$f":"IF('3 - SPECIE DA IMPIANTARE'!$G78=\"Impianti a sesto regolare\",'3 - SPECIE DA IMPIANTARE'!$K78,0)","v":0},{"$f":"IF('3 - SPECIE DA IMPIANTARE'!$G78=\"Impianti a sesto regolare\",'3 - SPECIE DA IMPIANTARE'!$L78,0)","v":0},{"$f":"IF('3 - SPECIE DA IMPIANTARE'!$G78=\"Impianti a sesto regolare\",'3 - SPECIE DA IMPIANTARE'!$N78,0)","v":0},{"$f":"IF('3 - SPECIE DA IMPIANTARE'!$G78=\"Impianti a sesto regolare\",'3 - SPECIE DA IMPIANTARE'!$O78,0)","v":0},{"$f":"IF('3 - SPECIE DA IMPIANTARE'!$G78=\"Impianti a sesto regolare\",'3 - SPECIE DA IMPIANTARE'!$Q78,0)","v":0},{"$f":"IF('3 - SPECIE DA IMPIANTARE'!$G78=\"Impianti a sesto regolare\",'3 - SPECIE DA IMPIANTARE'!$R78,0)","v":0},{"$f":"IF('3 - SPECIE DA IMPIANTARE'!$G78=\"Impianti a sesto regolare\",'3 - SPECIE DA IMPIANTARE'!$T78,0)","v":0},{"$f":"IF('3 - SPECIE DA IMPIANTARE'!$G78=\"Impianti a sesto regolare\",'3 - SPECIE DA IMPIANTARE'!$U78,0)","v":0},{"$f":"IF('3 - SPECIE DA IMPIANTARE'!$G78=\"Impianti a sesto regolare\",'3 - SPECIE DA IMPIANTARE'!$W78,0)","v":0},{"$f":"IF('3 - SPECIE DA IMPIANTARE'!$G78=\"Impianti a sesto regolare\",'3 - SPECIE DA IMPIANTARE'!$X78,0)","v":0}]
[{"$f":"IF('3 - SPECIE DA IMPIANTARE'!G79=\"Impianti in ordine sparso\",'3 - SPECIE DA IMPIANTARE'!H79,0)","v":0},{"$f":"IF('3 - SPECIE DA IMPIANTARE'!$G79=\"Impianti in ordine sparso\",'3 - SPECIE DA IMPIANTARE'!I79,0)","v":0},{"$f":"IF('3 - SPECIE DA IMPIANTARE'!$G79=\"Impianti in ordine sparso\",'3 - SPECIE DA IMPIANTARE'!K79,0)","v":0},{"$f":"IF('3 - SPECIE DA IMPIANTARE'!$G79=\"Impianti in ordine sparso\",'3 - SPECIE DA IMPIANTARE'!L79,0)","v":0},{"$f":"IF('3 - SPECIE DA IMPIANTARE'!$G79=\"Impianti in ordine sparso\",'3 - SPECIE DA IMPIANTARE'!N79,0)","v":0},{"$f":"IF('3 - SPECIE DA IMPIANTARE'!$G79=\"Impianti in ordine sparso\",'3 - SPECIE DA IMPIANTARE'!O79,0)","v":0},{"$f":"IF('3 - SPECIE DA IMPIANTARE'!$G79=\"Impianti in ordine sparso\",'3 - SPECIE DA IMPIANTARE'!Q79,0)","v":0},{"$f":"IF('3 - SPECIE DA IMPIANTARE'!$G79=\"Impianti in ordine sparso\",'3 - SPECIE DA IMPIANTARE'!R79,0)","v":0},{"$f":"IF('3 - SPECIE DA IMPIANTARE'!$G79=\"Impianti in ordine sparso\",'3 - SPECIE DA IMPIANTARE'!T79,0)","v":0},{"$f":"IF('3 - SPECIE DA IMPIANTARE'!$G79=\"Impianti in ordine sparso\",'3 - SPECIE DA IMPIANTARE'!U79,0)","v":0},{"$f":"IF('3 - SPECIE DA IMPIANTARE'!$G79=\"Impianti in ordine sparso\",'3 - SPECIE DA IMPIANTARE'!W79,0)","v":0},{"$f":"IF('3 - SPECIE DA IMPIANTARE'!$G79=\"Impianti in ordine sparso\",'3 - SPECIE DA IMPIANTARE'!X79,0)","v":0},{"$f":"IF('3 - SPECIE DA IMPIANTARE'!$G79=\"Piantagioni lineari\",'3 - SPECIE DA IMPIANTARE'!H79,0)","v":0},{"$f":"IF('3 - SPECIE DA IMPIANTARE'!$G79=\"Piantagioni lineari\",'3 - SPECIE DA IMPIANTARE'!I79,0)","v":0},{"$f":"IF('3 - SPECIE DA IMPIANTARE'!$G79=\"Piantagioni lineari\",'3 - SPECIE DA IMPIANTARE'!K79,0)","v":0},{"$f":"IF('3 - SPECIE DA IMPIANTARE'!$G79=\"Piantagioni lineari\",'3 - SPECIE DA IMPIANTARE'!L79,0)","v":0},{"$f":"IF('3 - SPECIE DA IMPIANTARE'!$G79=\"Piantagioni lineari\",'3 - SPECIE DA IMPIANTARE'!N79,0)","v":0},{"$f":"IF('3 - SPECIE DA IMPIANTARE'!$G79=\"Piantagioni lineari\",'3 - SPECIE DA IMPIANTARE'!O79,0)","v":0},{"$f":"IF('3 - SPECIE DA IMPIANTARE'!$G79=\"Piantagioni lineari\",'3 - SPECIE DA IMPIANTARE'!Q79,0)","v":0},{"$f":"IF('3 - SPECIE DA IMPIANTARE'!$G79=\"Piantagioni lineari\",'3 - SPECIE DA IMPIANTARE'!R79,0)","v":0},{"$f":"IF('3 - SPECIE DA IMPIANTARE'!$G79=\"Piantagioni lineari\",'3 - SPECIE DA IMPIANTARE'!T79,0)","v":0},{"$f":"IF('3 - SPECIE DA IMPIANTARE'!$G79=\"Piantagioni lineari\",'3 - SPECIE DA IMPIANTARE'!U79,0)","v":0},{"$f":"IF('3 - SPECIE DA IMPIANTARE'!$G79=\"Piantagioni lineari\",'3 - SPECIE DA IMPIANTARE'!W79,0)","v":0},{"$f":"IF('3 - SPECIE DA IMPIANTARE'!$G79=\"Piantagioni lineari\",'3 - SPECIE DA IMPIANTARE'!X79,0)","v":0},{"$f":"IF('3 - SPECIE DA IMPIANTARE'!$G79=\"Impianti a sesto regolare\",'3 - SPECIE DA IMPIANTARE'!$H79,0)","v":0},{"$f":"IF('3 - SPECIE DA IMPIANTARE'!$G79=\"Impianti a sesto regolare\",'3 - SPECIE DA IMPIANTARE'!$I79,0)","v":0},{"$f":"IF('3 - SPECIE DA IMPIANTARE'!$G79=\"Impianti a sesto regolare\",'3 - SPECIE DA IMPIANTARE'!$K79,0)","v":0},{"$f":"IF('3 - SPECIE DA IMPIANTARE'!$G79=\"Impianti a sesto regolare\",'3 - SPECIE DA IMPIANTARE'!$L79,0)","v":0},{"$f":"IF('3 - SPECIE DA IMPIANTARE'!$G79=\"Impianti a sesto regolare\",'3 - SPECIE DA IMPIANTARE'!$N79,0)","v":0},{"$f":"IF('3 - SPECIE DA IMPIANTARE'!$G79=\"Impianti a sesto regolare\",'3 - SPECIE DA IMPIANTARE'!$O79,0)","v":0},{"$f":"IF('3 - SPECIE DA IMPIANTARE'!$G79=\"Impianti a sesto regolare\",'3 - SPECIE DA IMPIANTARE'!$Q79,0)","v":0},{"$f":"IF('3 - SPECIE DA IMPIANTARE'!$G79=\"Impianti a sesto regolare\",'3 - SPECIE DA IMPIANTARE'!$R79,0)","v":0},{"$f":"IF('3 - SPECIE DA IMPIANTARE'!$G79=\"Impianti a sesto regolare\",'3 - SPECIE DA IMPIANTARE'!$T79,0)","v":0},{"$f":"IF('3 - SPECIE DA IMPIANTARE'!$G79=\"Impianti a sesto regolare\",'3 - SPECIE DA IMPIANTARE'!$U79,0)","v":0},{"$f":"IF('3 - SPECIE DA IMPIANTARE'!$G79=\"Impianti a sesto regolare\",'3 - SPECIE DA IMPIANTARE'!$W79,0)","v":0},{"$f":"IF('3 - SPECIE DA IMPIANTARE'!$G79=\"Impianti a sesto regolare\",'3 - SPECIE DA IMPIANTARE'!$X79,0)","v":0}]
[{"$f":"IF('3 - SPECIE DA IMPIANTARE'!G80=\"Impianti in ordine sparso\",'3 - SPECIE DA IMPIANTARE'!H80,0)","v":0},{"$f":"IF('3 - SPECIE DA IMPIANTARE'!$G80=\"Impianti in ordine sparso\",'3 - SPECIE DA IMPIANTARE'!I80,0)","v":0},{"$f":"IF('3 - SPECIE DA IMPIANTARE'!$G80=\"Impianti in ordine sparso\",'3 - SPECIE DA IMPIANTARE'!K80,0)","v":0},{"$f":"IF('3 - SPECIE DA IMPIANTARE'!$G80=\"Impianti in ordine sparso\",'3 - SPECIE DA IMPIANTARE'!L80,0)","v":0},{"$f":"IF('3 - SPECIE DA IMPIANTARE'!$G80=\"Impianti in ordine sparso\",'3 - SPECIE DA IMPIANTARE'!N80,0)","v":0},{"$f":"IF('3 - SPECIE DA IMPIANTARE'!$G80=\"Impianti in ordine sparso\",'3 - SPECIE DA IMPIANTARE'!O80,0)","v":0},{"$f":"IF('3 - SPECIE DA IMPIANTARE'!$G80=\"Impianti in ordine sparso\",'3 - SPECIE DA IMPIANTARE'!Q80,0)","v":0},{"$f":"IF('3 - SPECIE DA IMPIANTARE'!$G80=\"Impianti in ordine sparso\",'3 - SPECIE DA IMPIANTARE'!R80,0)","v":0},{"$f":"IF('3 - SPECIE DA IMPIANTARE'!$G80=\"Impianti in ordine sparso\",'3 - SPECIE DA IMPIANTARE'!T80,0)","v":0},{"$f":"IF('3 - SPECIE DA IMPIANTARE'!$G80=\"Impianti in ordine sparso\",'3 - SPECIE DA IMPIANTARE'!U80,0)","v":0},{"$f":"IF('3 - SPECIE DA IMPIANTARE'!$G80=\"Impianti in ordine sparso\",'3 - SPECIE DA IMPIANTARE'!W80,0)","v":0},{"$f":"IF('3 - SPECIE DA IMPIANTARE'!$G80=\"Impianti in ordine sparso\",'3 - SPECIE DA IMPIANTARE'!X80,0)","v":0},{"$f":"IF('3 - SPECIE DA IMPIANTARE'!$G80=\"Piantagioni lineari\",'3 - SPECIE DA IMPIANTARE'!H80,0)","v":0},{"$f":"IF('3 - SPECIE DA IMPIANTARE'!$G80=\"Piantagioni lineari\",'3 - SPECIE DA IMPIANTARE'!I80,0)","v":0},{"$f":"IF('3 - SPECIE DA IMPIANTARE'!$G80=\"Piantagioni lineari\",'3 - SPECIE DA IMPIANTARE'!K80,0)","v":0},{"$f":"IF('3 - SPECIE DA IMPIANTARE'!$G80=\"Piantagioni lineari\",'3 - SPECIE DA IMPIANTARE'!L80,0)","v":0},{"$f":"IF('3 - SPECIE DA IMPIANTARE'!$G80=\"Piantagioni lineari\",'3 - SPECIE DA IMPIANTARE'!N80,0)","v":0},{"$f":"IF('3 - SPECIE DA IMPIANTARE'!$G80=\"Piantagioni lineari\",'3 - SPECIE DA IMPIANTARE'!O80,0)","v":0},{"$f":"IF('3 - SPECIE DA IMPIANTARE'!$G80=\"Piantagioni lineari\",'3 - SPECIE DA IMPIANTARE'!Q80,0)","v":0},{"$f":"IF('3 - SPECIE DA IMPIANTARE'!$G80=\"Piantagioni lineari\",'3 - SPECIE DA IMPIANTARE'!R80,0)","v":0},{"$f":"IF('3 - SPECIE DA IMPIANTARE'!$G80=\"Piantagioni lineari\",'3 - SPECIE DA IMPIANTARE'!T80,0)","v":0},{"$f":"IF('3 - SPECIE DA IMPIANTARE'!$G80=\"Piantagioni lineari\",'3 - SPECIE DA IMPIANTARE'!U80,0)","v":0},{"$f":"IF('3 - SPECIE DA IMPIANTARE'!$G80=\"Piantagioni lineari\",'3 - SPECIE DA IMPIANTARE'!W80,0)","v":0},{"$f":"IF('3 - SPECIE DA IMPIANTARE'!$G80=\"Piantagioni lineari\",'3 - SPECIE DA IMPIANTARE'!X80,0)","v":0},{"$f":"IF('3 - SPECIE DA IMPIANTARE'!$G80=\"Impianti a sesto regolare\",'3 - SPECIE DA IMPIANTARE'!$H80,0)","v":0},{"$f":"IF('3 - SPECIE DA IMPIANTARE'!$G80=\"Impianti a sesto regolare\",'3 - SPECIE DA IMPIANTARE'!$I80,0)","v":0},{"$f":"IF('3 - SPECIE DA IMPIANTARE'!$G80=\"Impianti a sesto regolare\",'3 - SPECIE DA IMPIANTARE'!$K80,0)","v":0},{"$f":"IF('3 - SPECIE DA IMPIANTARE'!$G80=\"Impianti a sesto regolare\",'3 - SPECIE DA IMPIANTARE'!$L80,0)","v":0},{"$f":"IF('3 - SPECIE DA IMPIANTARE'!$G80=\"Impianti a sesto regolare\",'3 - SPECIE DA IMPIANTARE'!$N80,0)","v":0},{"$f":"IF('3 - SPECIE DA IMPIANTARE'!$G80=\"Impianti a sesto regolare\",'3 - SPECIE DA IMPIANTARE'!$O80,0)","v":0},{"$f":"IF('3 - SPECIE DA IMPIANTARE'!$G80=\"Impianti a sesto regolare\",'3 - SPECIE DA IMPIANTARE'!$Q80,0)","v":0},{"$f":"IF('3 - SPECIE DA IMPIANTARE'!$G80=\"Impianti a sesto regolare\",'3 - SPECIE DA IMPIANTARE'!$R80,0)","v":0},{"$f":"IF('3 - SPECIE DA IMPIANTARE'!$G80=\"Impianti a sesto regolare\",'3 - SPECIE DA IMPIANTARE'!$T80,0)","v":0},{"$f":"IF('3 - SPECIE DA IMPIANTARE'!$G80=\"Impianti a sesto regolare\",'3 - SPECIE DA IMPIANTARE'!$U80,0)","v":0},{"$f":"IF('3 - SPECIE DA IMPIANTARE'!$G80=\"Impianti a sesto regolare\",'3 - SPECIE DA IMPIANTARE'!$W80,0)","v":0},{"$f":"IF('3 - SPECIE DA IMPIANTARE'!$G80=\"Impianti a sesto regolare\",'3 - SPECIE DA IMPIANTARE'!$X80,0)","v":0}]
[{"$f":"IF('3 - SPECIE DA IMPIANTARE'!G81=\"Impianti in ordine sparso\",'3 - SPECIE DA IMPIANTARE'!H81,0)","v":0},{"$f":"IF('3 - SPECIE DA IMPIANTARE'!$G81=\"Impianti in ordine sparso\",'3 - SPECIE DA IMPIANTARE'!I81,0)","v":0},{"$f":"IF('3 - SPECIE DA IMPIANTARE'!$G81=\"Impianti in ordine sparso\",'3 - SPECIE DA IMPIANTARE'!K81,0)","v":0},{"$f":"IF('3 - SPECIE DA IMPIANTARE'!$G81=\"Impianti in ordine sparso\",'3 - SPECIE DA IMPIANTARE'!L81,0)","v":0},{"$f":"IF('3 - SPECIE DA IMPIANTARE'!$G81=\"Impianti in ordine sparso\",'3 - SPECIE DA IMPIANTARE'!N81,0)","v":0},{"$f":"IF('3 - SPECIE DA IMPIANTARE'!$G81=\"Impianti in ordine sparso\",'3 - SPECIE DA IMPIANTARE'!O81,0)","v":0},{"$f":"IF('3 - SPECIE DA IMPIANTARE'!$G81=\"Impianti in ordine sparso\",'3 - SPECIE DA IMPIANTARE'!Q81,0)","v":0},{"$f":"IF('3 - SPECIE DA IMPIANTARE'!$G81=\"Impianti in ordine sparso\",'3 - SPECIE DA IMPIANTARE'!R81,0)","v":0},{"$f":"IF('3 - SPECIE DA IMPIANTARE'!$G81=\"Impianti in ordine sparso\",'3 - SPECIE DA IMPIANTARE'!T81,0)","v":0},{"$f":"IF('3 - SPECIE DA IMPIANTARE'!$G81=\"Impianti in ordine sparso\",'3 - SPECIE DA IMPIANTARE'!U81,0)","v":0},{"$f":"IF('3 - SPECIE DA IMPIANTARE'!$G81=\"Impianti in ordine sparso\",'3 - SPECIE DA IMPIANTARE'!W81,0)","v":0},{"$f":"IF('3 - SPECIE DA IMPIANTARE'!$G81=\"Impianti in ordine sparso\",'3 - SPECIE DA IMPIANTARE'!X81,0)","v":0},{"$f":"IF('3 - SPECIE DA IMPIANTARE'!$G81=\"Piantagioni lineari\",'3 - SPECIE DA IMPIANTARE'!H81,0)","v":0},{"$f":"IF('3 - SPECIE DA IMPIANTARE'!$G81=\"Piantagioni lineari\",'3 - SPECIE DA IMPIANTARE'!I81,0)","v":0},{"$f":"IF('3 - SPECIE DA IMPIANTARE'!$G81=\"Piantagioni lineari\",'3 - SPECIE DA IMPIANTARE'!K81,0)","v":0},{"$f":"IF('3 - SPECIE DA IMPIANTARE'!$G81=\"Piantagioni lineari\",'3 - SPECIE DA IMPIANTARE'!L81,0)","v":0},{"$f":"IF('3 - SPECIE DA IMPIANTARE'!$G81=\"Piantagioni lineari\",'3 - SPECIE DA IMPIANTARE'!N81,0)","v":0},{"$f":"IF('3 - SPECIE DA IMPIANTARE'!$G81=\"Piantagioni lineari\",'3 - SPECIE DA IMPIANTARE'!O81,0)","v":0},{"$f":"IF('3 - SPECIE DA IMPIANTARE'!$G81=\"Piantagioni lineari\",'3 - SPECIE DA IMPIANTARE'!Q81,0)","v":0},{"$f":"IF('3 - SPECIE DA IMPIANTARE'!$G81=\"Piantagioni lineari\",'3 - SPECIE DA IMPIANTARE'!R81,0)","v":0},{"$f":"IF('3 - SPECIE DA IMPIANTARE'!$G81=\"Piantagioni lineari\",'3 - SPECIE DA IMPIANTARE'!T81,0)","v":0},{"$f":"IF('3 - SPECIE DA IMPIANTARE'!$G81=\"Piantagioni lineari\",'3 - SPECIE DA IMPIANTARE'!U81,0)","v":0},{"$f":"IF('3 - SPECIE DA IMPIANTARE'!$G81=\"Piantagioni lineari\",'3 - SPECIE DA IMPIANTARE'!W81,0)","v":0},{"$f":"IF('3 - SPECIE DA IMPIANTARE'!$G81=\"Piantagioni lineari\",'3 - SPECIE DA IMPIANTARE'!X81,0)","v":0},{"$f":"IF('3 - SPECIE DA IMPIANTARE'!$G81=\"Impianti a sesto regolare\",'3 - SPECIE DA IMPIANTARE'!$H81,0)","v":0},{"$f":"IF('3 - SPECIE DA IMPIANTARE'!$G81=\"Impianti a sesto regolare\",'3 - SPECIE DA IMPIANTARE'!$I81,0)","v":0},{"$f":"IF('3 - SPECIE DA IMPIANTARE'!$G81=\"Impianti a sesto regolare\",'3 - SPECIE DA IMPIANTARE'!$K81,0)","v":0},{"$f":"IF('3 - SPECIE DA IMPIANTARE'!$G81=\"Impianti a sesto regolare\",'3 - SPECIE DA IMPIANTARE'!$L81,0)","v":0},{"$f":"IF('3 - SPECIE DA IMPIANTARE'!$G81=\"Impianti a sesto regolare\",'3 - SPECIE DA IMPIANTARE'!$N81,0)","v":0},{"$f":"IF('3 - SPECIE DA IMPIANTARE'!$G81=\"Impianti a sesto regolare\",'3 - SPECIE DA IMPIANTARE'!$O81,0)","v":0},{"$f":"IF('3 - SPECIE DA IMPIANTARE'!$G81=\"Impianti a sesto regolare\",'3 - SPECIE DA IMPIANTARE'!$Q81,0)","v":0},{"$f":"IF('3 - SPECIE DA IMPIANTARE'!$G81=\"Impianti a sesto regolare\",'3 - SPECIE DA IMPIANTARE'!$R81,0)","v":0},{"$f":"IF('3 - SPECIE DA IMPIANTARE'!$G81=\"Impianti a sesto regolare\",'3 - SPECIE DA IMPIANTARE'!$T81,0)","v":0},{"$f":"IF('3 - SPECIE DA IMPIANTARE'!$G81=\"Impianti a sesto regolare\",'3 - SPECIE DA IMPIANTARE'!$U81,0)","v":0},{"$f":"IF('3 - SPECIE DA IMPIANTARE'!$G81=\"Impianti a sesto regolare\",'3 - SPECIE DA IMPIANTARE'!$W81,0)","v":0},{"$f":"IF('3 - SPECIE DA IMPIANTARE'!$G81=\"Impianti a sesto regolare\",'3 - SPECIE DA IMPIANTARE'!$X81,0)","v":0}]
[{"$f":"IF('3 - SPECIE DA IMPIANTARE'!G82=\"Impianti in ordine sparso\",'3 - SPECIE DA IMPIANTARE'!H82,0)","v":0},{"$f":"IF('3 - SPECIE DA IMPIANTARE'!$G82=\"Impianti in ordine sparso\",'3 - SPECIE DA IMPIANTARE'!I82,0)","v":0},{"$f":"IF('3 - SPECIE DA IMPIANTARE'!$G82=\"Impianti in ordine sparso\",'3 - SPECIE DA IMPIANTARE'!K82,0)","v":0},{"$f":"IF('3 - SPECIE DA IMPIANTARE'!$G82=\"Impianti in ordine sparso\",'3 - SPECIE DA IMPIANTARE'!L82,0)","v":0},{"$f":"IF('3 - SPECIE DA IMPIANTARE'!$G82=\"Impianti in ordine sparso\",'3 - SPECIE DA IMPIANTARE'!N82,0)","v":0},{"$f":"IF('3 - SPECIE DA IMPIANTARE'!$G82=\"Impianti in ordine sparso\",'3 - SPECIE DA IMPIANTARE'!O82,0)","v":0},{"$f":"IF('3 - SPECIE DA IMPIANTARE'!$G82=\"Impianti in ordine sparso\",'3 - SPECIE DA IMPIANTARE'!Q82,0)","v":0},{"$f":"IF('3 - SPECIE DA IMPIANTARE'!$G82=\"Impianti in ordine sparso\",'3 - SPECIE DA IMPIANTARE'!R82,0)","v":0},{"$f":"IF('3 - SPECIE DA IMPIANTARE'!$G82=\"Impianti in ordine sparso\",'3 - SPECIE DA IMPIANTARE'!T82,0)","v":0},{"$f":"IF('3 - SPECIE DA IMPIANTARE'!$G82=\"Impianti in ordine sparso\",'3 - SPECIE DA IMPIANTARE'!U82,0)","v":0},{"$f":"IF('3 - SPECIE DA IMPIANTARE'!$G82=\"Impianti in ordine sparso\",'3 - SPECIE DA IMPIANTARE'!W82,0)","v":0},{"$f":"IF('3 - SPECIE DA IMPIANTARE'!$G82=\"Impianti in ordine sparso\",'3 - SPECIE DA IMPIANTARE'!X82,0)","v":0},{"$f":"IF('3 - SPECIE DA IMPIANTARE'!$G82=\"Piantagioni lineari\",'3 - SPECIE DA IMPIANTARE'!H82,0)","v":0},{"$f":"IF('3 - SPECIE DA IMPIANTARE'!$G82=\"Piantagioni lineari\",'3 - SPECIE DA IMPIANTARE'!I82,0)","v":0},{"$f":"IF('3 - SPECIE DA IMPIANTARE'!$G82=\"Piantagioni lineari\",'3 - SPECIE DA IMPIANTARE'!K82,0)","v":0},{"$f":"IF('3 - SPECIE DA IMPIANTARE'!$G82=\"Piantagioni lineari\",'3 - SPECIE DA IMPIANTARE'!L82,0)","v":0},{"$f":"IF('3 - SPECIE DA IMPIANTARE'!$G82=\"Piantagioni lineari\",'3 - SPECIE DA IMPIANTARE'!N82,0)","v":0},{"$f":"IF('3 - SPECIE DA IMPIANTARE'!$G82=\"Piantagioni lineari\",'3 - SPECIE DA IMPIANTARE'!O82,0)","v":0},{"$f":"IF('3 - SPECIE DA IMPIANTARE'!$G82=\"Piantagioni lineari\",'3 - SPECIE DA IMPIANTARE'!Q82,0)","v":0},{"$f":"IF('3 - SPECIE DA IMPIANTARE'!$G82=\"Piantagioni lineari\",'3 - SPECIE DA IMPIANTARE'!R82,0)","v":0},{"$f":"IF('3 - SPECIE DA IMPIANTARE'!$G82=\"Piantagioni lineari\",'3 - SPECIE DA IMPIANTARE'!T82,0)","v":0},{"$f":"IF('3 - SPECIE DA IMPIANTARE'!$G82=\"Piantagioni lineari\",'3 - SPECIE DA IMPIANTARE'!U82,0)","v":0},{"$f":"IF('3 - SPECIE DA IMPIANTARE'!$G82=\"Piantagioni lineari\",'3 - SPECIE DA IMPIANTARE'!W82,0)","v":0},{"$f":"IF('3 - SPECIE DA IMPIANTARE'!$G82=\"Piantagioni lineari\",'3 - SPECIE DA IMPIANTARE'!X82,0)","v":0},{"$f":"IF('3 - SPECIE DA IMPIANTARE'!$G82=\"Impianti a sesto regolare\",'3 - SPECIE DA IMPIANTARE'!$H82,0)","v":0},{"$f":"IF('3 - SPECIE DA IMPIANTARE'!$G82=\"Impianti a sesto regolare\",'3 - SPECIE DA IMPIANTARE'!$I82,0)","v":0},{"$f":"IF('3 - SPECIE DA IMPIANTARE'!$G82=\"Impianti a sesto regolare\",'3 - SPECIE DA IMPIANTARE'!$K82,0)","v":0},{"$f":"IF('3 - SPECIE DA IMPIANTARE'!$G82=\"Impianti a sesto regolare\",'3 - SPECIE DA IMPIANTARE'!$L82,0)","v":0},{"$f":"IF('3 - SPECIE DA IMPIANTARE'!$G82=\"Impianti a sesto regolare\",'3 - SPECIE DA IMPIANTARE'!$N82,0)","v":0},{"$f":"IF('3 - SPECIE DA IMPIANTARE'!$G82=\"Impianti a sesto regolare\",'3 - SPECIE DA IMPIANTARE'!$O82,0)","v":0},{"$f":"IF('3 - SPECIE DA IMPIANTARE'!$G82=\"Impianti a sesto regolare\",'3 - SPECIE DA IMPIANTARE'!$Q82,0)","v":0},{"$f":"IF('3 - SPECIE DA IMPIANTARE'!$G82=\"Impianti a sesto regolare\",'3 - SPECIE DA IMPIANTARE'!$R82,0)","v":0},{"$f":"IF('3 - SPECIE DA IMPIANTARE'!$G82=\"Impianti a sesto regolare\",'3 - SPECIE DA IMPIANTARE'!$T82,0)","v":0},{"$f":"IF('3 - SPECIE DA IMPIANTARE'!$G82=\"Impianti a sesto regolare\",'3 - SPECIE DA IMPIANTARE'!$U82,0)","v":0},{"$f":"IF('3 - SPECIE DA IMPIANTARE'!$G82=\"Impianti a sesto regolare\",'3 - SPECIE DA IMPIANTARE'!$W82,0)","v":0},{"$f":"IF('3 - SPECIE DA IMPIANTARE'!$G82=\"Impianti a sesto regolare\",'3 - SPECIE DA IMPIANTARE'!$X82,0)","v":0}]
[{"$f":"IF('3 - SPECIE DA IMPIANTARE'!G83=\"Impianti in ordine sparso\",'3 - SPECIE DA IMPIANTARE'!H83,0)","v":0},{"$f":"IF('3 - SPECIE DA IMPIANTARE'!$G83=\"Impianti in ordine sparso\",'3 - SPECIE DA IMPIANTARE'!I83,0)","v":0},{"$f":"IF('3 - SPECIE DA IMPIANTARE'!$G83=\"Impianti in ordine sparso\",'3 - SPECIE DA IMPIANTARE'!K83,0)","v":0},{"$f":"IF('3 - SPECIE DA IMPIANTARE'!$G83=\"Impianti in ordine sparso\",'3 - SPECIE DA IMPIANTARE'!L83,0)","v":0},{"$f":"IF('3 - SPECIE DA IMPIANTARE'!$G83=\"Impianti in ordine sparso\",'3 - SPECIE DA IMPIANTARE'!N83,0)","v":0},{"$f":"IF('3 - SPECIE DA IMPIANTARE'!$G83=\"Impianti in ordine sparso\",'3 - SPECIE DA IMPIANTARE'!O83,0)","v":0},{"$f":"IF('3 - SPECIE DA IMPIANTARE'!$G83=\"Impianti in ordine sparso\",'3 - SPECIE DA IMPIANTARE'!Q83,0)","v":0},{"$f":"IF('3 - SPECIE DA IMPIANTARE'!$G83=\"Impianti in ordine sparso\",'3 - SPECIE DA IMPIANTARE'!R83,0)","v":0},{"$f":"IF('3 - SPECIE DA IMPIANTARE'!$G83=\"Impianti in ordine sparso\",'3 - SPECIE DA IMPIANTARE'!T83,0)","v":0},{"$f":"IF('3 - SPECIE DA IMPIANTARE'!$G83=\"Impianti in ordine sparso\",'3 - SPECIE DA IMPIANTARE'!U83,0)","v":0},{"$f":"IF('3 - SPECIE DA IMPIANTARE'!$G83=\"Impianti in ordine sparso\",'3 - SPECIE DA IMPIANTARE'!W83,0)","v":0},{"$f":"IF('3 - SPECIE DA IMPIANTARE'!$G83=\"Impianti in ordine sparso\",'3 - SPECIE DA IMPIANTARE'!X83,0)","v":0},{"$f":"IF('3 - SPECIE DA IMPIANTARE'!$G83=\"Piantagioni lineari\",'3 - SPECIE DA IMPIANTARE'!H83,0)","v":0},{"$f":"IF('3 - SPECIE DA IMPIANTARE'!$G83=\"Piantagioni lineari\",'3 - SPECIE DA IMPIANTARE'!I83,0)","v":0},{"$f":"IF('3 - SPECIE DA IMPIANTARE'!$G83=\"Piantagioni lineari\",'3 - SPECIE DA IMPIANTARE'!K83,0)","v":0},{"$f":"IF('3 - SPECIE DA IMPIANTARE'!$G83=\"Piantagioni lineari\",'3 - SPECIE DA IMPIANTARE'!L83,0)","v":0},{"$f":"IF('3 - SPECIE DA IMPIANTARE'!$G83=\"Piantagioni lineari\",'3 - SPECIE DA IMPIANTARE'!N83,0)","v":0},{"$f":"IF('3 - SPECIE DA IMPIANTARE'!$G83=\"Piantagioni lineari\",'3 - SPECIE DA IMPIANTARE'!O83,0)","v":0},{"$f":"IF('3 - SPECIE DA IMPIANTARE'!$G83=\"Piantagioni lineari\",'3 - SPECIE DA IMPIANTARE'!Q83,0)","v":0},{"$f":"IF('3 - SPECIE DA IMPIANTARE'!$G83=\"Piantagioni lineari\",'3 - SPECIE DA IMPIANTARE'!R83,0)","v":0},{"$f":"IF('3 - SPECIE DA IMPIANTARE'!$G83=\"Piantagioni lineari\",'3 - SPECIE DA IMPIANTARE'!T83,0)","v":0},{"$f":"IF('3 - SPECIE DA IMPIANTARE'!$G83=\"Piantagioni lineari\",'3 - SPECIE DA IMPIANTARE'!U83,0)","v":0},{"$f":"IF('3 - SPECIE DA IMPIANTARE'!$G83=\"Piantagioni lineari\",'3 - SPECIE DA IMPIANTARE'!W83,0)","v":0},{"$f":"IF('3 - SPECIE DA IMPIANTARE'!$G83=\"Piantagioni lineari\",'3 - SPECIE DA IMPIANTARE'!X83,0)","v":0},{"$f":"IF('3 - SPECIE DA IMPIANTARE'!$G83=\"Impianti a sesto regolare\",'3 - SPECIE DA IMPIANTARE'!$H83,0)","v":0},{"$f":"IF('3 - SPECIE DA IMPIANTARE'!$G83=\"Impianti a sesto regolare\",'3 - SPECIE DA IMPIANTARE'!$I83,0)","v":0},{"$f":"IF('3 - SPECIE DA IMPIANTARE'!$G83=\"Impianti a sesto regolare\",'3 - SPECIE DA IMPIANTARE'!$K83,0)","v":0},{"$f":"IF('3 - SPECIE DA IMPIANTARE'!$G83=\"Impianti a sesto regolare\",'3 - SPECIE DA IMPIANTARE'!$L83,0)","v":0},{"$f":"IF('3 - SPECIE DA IMPIANTARE'!$G83=\"Impianti a sesto regolare\",'3 - SPECIE DA IMPIANTARE'!$N83,0)","v":0},{"$f":"IF('3 - SPECIE DA IMPIANTARE'!$G83=\"Impianti a sesto regolare\",'3 - SPECIE DA IMPIANTARE'!$O83,0)","v":0},{"$f":"IF('3 - SPECIE DA IMPIANTARE'!$G83=\"Impianti a sesto regolare\",'3 - SPECIE DA IMPIANTARE'!$Q83,0)","v":0},{"$f":"IF('3 - SPECIE DA IMPIANTARE'!$G83=\"Impianti a sesto regolare\",'3 - SPECIE DA IMPIANTARE'!$R83,0)","v":0},{"$f":"IF('3 - SPECIE DA IMPIANTARE'!$G83=\"Impianti a sesto regolare\",'3 - SPECIE DA IMPIANTARE'!$T83,0)","v":0},{"$f":"IF('3 - SPECIE DA IMPIANTARE'!$G83=\"Impianti a sesto regolare\",'3 - SPECIE DA IMPIANTARE'!$U83,0)","v":0},{"$f":"IF('3 - SPECIE DA IMPIANTARE'!$G83=\"Impianti a sesto regolare\",'3 - SPECIE DA IMPIANTARE'!$W83,0)","v":0},{"$f":"IF('3 - SPECIE DA IMPIANTARE'!$G83=\"Impianti a sesto regolare\",'3 - SPECIE DA IMPIANTARE'!$X83,0)","v":0}]
[{"$f":"IF('3 - SPECIE DA IMPIANTARE'!G84=\"Impianti in ordine sparso\",'3 - SPECIE DA IMPIANTARE'!H84,0)","v":0},{"$f":"IF('3 - SPECIE DA IMPIANTARE'!$G84=\"Impianti in ordine sparso\",'3 - SPECIE DA IMPIANTARE'!I84,0)","v":0},{"$f":"IF('3 - SPECIE DA IMPIANTARE'!$G84=\"Impianti in ordine sparso\",'3 - SPECIE DA IMPIANTARE'!K84,0)","v":0},{"$f":"IF('3 - SPECIE DA IMPIANTARE'!$G84=\"Impianti in ordine sparso\",'3 - SPECIE DA IMPIANTARE'!L84,0)","v":0},{"$f":"IF('3 - SPECIE DA IMPIANTARE'!$G84=\"Impianti in ordine sparso\",'3 - SPECIE DA IMPIANTARE'!N84,0)","v":0},{"$f":"IF('3 - SPECIE DA IMPIANTARE'!$G84=\"Impianti in ordine sparso\",'3 - SPECIE DA IMPIANTARE'!O84,0)","v":0},{"$f":"IF('3 - SPECIE DA IMPIANTARE'!$G84=\"Impianti in ordine sparso\",'3 - SPECIE DA IMPIANTARE'!Q84,0)","v":0},{"$f":"IF('3 - SPECIE DA IMPIANTARE'!$G84=\"Impianti in ordine sparso\",'3 - SPECIE DA IMPIANTARE'!R84,0)","v":0},{"$f":"IF('3 - SPECIE DA IMPIANTARE'!$G84=\"Impianti in ordine sparso\",'3 - SPECIE DA IMPIANTARE'!T84,0)","v":0},{"$f":"IF('3 - SPECIE DA IMPIANTARE'!$G84=\"Impianti in ordine sparso\",'3 - SPECIE DA IMPIANTARE'!U84,0)","v":0},{"$f":"IF('3 - SPECIE DA IMPIANTARE'!$G84=\"Impianti in ordine sparso\",'3 - SPECIE DA IMPIANTARE'!W84,0)","v":0},{"$f":"IF('3 - SPECIE DA IMPIANTARE'!$G84=\"Impianti in ordine sparso\",'3 - SPECIE DA IMPIANTARE'!X84,0)","v":0},{"$f":"IF('3 - SPECIE DA IMPIANTARE'!$G84=\"Piantagioni lineari\",'3 - SPECIE DA IMPIANTARE'!H84,0)","v":0},{"$f":"IF('3 - SPECIE DA IMPIANTARE'!$G84=\"Piantagioni lineari\",'3 - SPECIE DA IMPIANTARE'!I84,0)","v":0},{"$f":"IF('3 - SPECIE DA IMPIANTARE'!$G84=\"Piantagioni lineari\",'3 - SPECIE DA IMPIANTARE'!K84,0)","v":0},{"$f":"IF('3 - SPECIE DA IMPIANTARE'!$G84=\"Piantagioni lineari\",'3 - SPECIE DA IMPIANTARE'!L84,0)","v":0},{"$f":"IF('3 - SPECIE DA IMPIANTARE'!$G84=\"Piantagioni lineari\",'3 - SPECIE DA IMPIANTARE'!N84,0)","v":0},{"$f":"IF('3 - SPECIE DA IMPIANTARE'!$G84=\"Piantagioni lineari\",'3 - SPECIE DA IMPIANTARE'!O84,0)","v":0},{"$f":"IF('3 - SPECIE DA IMPIANTARE'!$G84=\"Piantagioni lineari\",'3 - SPECIE DA IMPIANTARE'!Q84,0)","v":0},{"$f":"IF('3 - SPECIE DA IMPIANTARE'!$G84=\"Piantagioni lineari\",'3 - SPECIE DA IMPIANTARE'!R84,0)","v":0},{"$f":"IF('3 - SPECIE DA IMPIANTARE'!$G84=\"Piantagioni lineari\",'3 - SPECIE DA IMPIANTARE'!T84,0)","v":0},{"$f":"IF('3 - SPECIE DA IMPIANTARE'!$G84=\"Piantagioni lineari\",'3 - SPECIE DA IMPIANTARE'!U84,0)","v":0},{"$f":"IF('3 - SPECIE DA IMPIANTARE'!$G84=\"Piantagioni lineari\",'3 - SPECIE DA IMPIANTARE'!W84,0)","v":0},{"$f":"IF('3 - SPECIE DA IMPIANTARE'!$G84=\"Piantagioni lineari\",'3 - SPECIE DA IMPIANTARE'!X84,0)","v":0},{"$f":"IF('3 - SPECIE DA IMPIANTARE'!$G84=\"Impianti a sesto regolare\",'3 - SPECIE DA IMPIANTARE'!$H84,0)","v":0},{"$f":"IF('3 - SPECIE DA IMPIANTARE'!$G84=\"Impianti a sesto regolare\",'3 - SPECIE DA IMPIANTARE'!$I84,0)","v":0},{"$f":"IF('3 - SPECIE DA IMPIANTARE'!$G84=\"Impianti a sesto regolare\",'3 - SPECIE DA IMPIANTARE'!$K84,0)","v":0},{"$f":"IF('3 - SPECIE DA IMPIANTARE'!$G84=\"Impianti a sesto regolare\",'3 - SPECIE DA IMPIANTARE'!$L84,0)","v":0},{"$f":"IF('3 - SPECIE DA IMPIANTARE'!$G84=\"Impianti a sesto regolare\",'3 - SPECIE DA IMPIANTARE'!$N84,0)","v":0},{"$f":"IF('3 - SPECIE DA IMPIANTARE'!$G84=\"Impianti a sesto regolare\",'3 - SPECIE DA IMPIANTARE'!$O84,0)","v":0},{"$f":"IF('3 - SPECIE DA IMPIANTARE'!$G84=\"Impianti a sesto regolare\",'3 - SPECIE DA IMPIANTARE'!$Q84,0)","v":0},{"$f":"IF('3 - SPECIE DA IMPIANTARE'!$G84=\"Impianti a sesto regolare\",'3 - SPECIE DA IMPIANTARE'!$R84,0)","v":0},{"$f":"IF('3 - SPECIE DA IMPIANTARE'!$G84=\"Impianti a sesto regolare\",'3 - SPECIE DA IMPIANTARE'!$T84,0)","v":0},{"$f":"IF('3 - SPECIE DA IMPIANTARE'!$G84=\"Impianti a sesto regolare\",'3 - SPECIE DA IMPIANTARE'!$U84,0)","v":0},{"$f":"IF('3 - SPECIE DA IMPIANTARE'!$G84=\"Impianti a sesto regolare\",'3 - SPECIE DA IMPIANTARE'!$W84,0)","v":0},{"$f":"IF('3 - SPECIE DA IMPIANTARE'!$G84=\"Impianti a sesto regolare\",'3 - SPECIE DA IMPIANTARE'!$X84,0)","v":0}]
[{"$f":"IF('3 - SPECIE DA IMPIANTARE'!G85=\"Impianti in ordine sparso\",'3 - SPECIE DA IMPIANTARE'!H85,0)","v":0},{"$f":"IF('3 - SPECIE DA IMPIANTARE'!$G85=\"Impianti in ordine sparso\",'3 - SPECIE DA IMPIANTARE'!I85,0)","v":0},{"$f":"IF('3 - SPECIE DA IMPIANTARE'!$G85=\"Impianti in ordine sparso\",'3 - SPECIE DA IMPIANTARE'!K85,0)","v":0},{"$f":"IF('3 - SPECIE DA IMPIANTARE'!$G85=\"Impianti in ordine sparso\",'3 - SPECIE DA IMPIANTARE'!L85,0)","v":0},{"$f":"IF('3 - SPECIE DA IMPIANTARE'!$G85=\"Impianti in ordine sparso\",'3 - SPECIE DA IMPIANTARE'!N85,0)","v":0},{"$f":"IF('3 - SPECIE DA IMPIANTARE'!$G85=\"Impianti in ordine sparso\",'3 - SPECIE DA IMPIANTARE'!O85,0)","v":0},{"$f":"IF('3 - SPECIE DA IMPIANTARE'!$G85=\"Impianti in ordine sparso\",'3 - SPECIE DA IMPIANTARE'!Q85,0)","v":0},{"$f":"IF('3 - SPECIE DA IMPIANTARE'!$G85=\"Impianti in ordine sparso\",'3 - SPECIE DA IMPIANTARE'!R85,0)","v":0},{"$f":"IF('3 - SPECIE DA IMPIANTARE'!$G85=\"Impianti in ordine sparso\",'3 - SPECIE DA IMPIANTARE'!T85,0)","v":0},{"$f":"IF('3 - SPECIE DA IMPIANTARE'!$G85=\"Impianti in ordine sparso\",'3 - SPECIE DA IMPIANTARE'!U85,0)","v":0},{"$f":"IF('3 - SPECIE DA IMPIANTARE'!$G85=\"Impianti in ordine sparso\",'3 - SPECIE DA IMPIANTARE'!W85,0)","v":0},{"$f":"IF('3 - SPECIE DA IMPIANTARE'!$G85=\"Impianti in ordine sparso\",'3 - SPECIE DA IMPIANTARE'!X85,0)","v":0},{"$f":"IF('3 - SPECIE DA IMPIANTARE'!$G85=\"Piantagioni lineari\",'3 - SPECIE DA IMPIANTARE'!H85,0)","v":0},{"$f":"IF('3 - SPECIE DA IMPIANTARE'!$G85=\"Piantagioni lineari\",'3 - SPECIE DA IMPIANTARE'!I85,0)","v":0},{"$f":"IF('3 - SPECIE DA IMPIANTARE'!$G85=\"Piantagioni lineari\",'3 - SPECIE DA IMPIANTARE'!K85,0)","v":0},{"$f":"IF('3 - SPECIE DA IMPIANTARE'!$G85=\"Piantagioni lineari\",'3 - SPECIE DA IMPIANTARE'!L85,0)","v":0},{"$f":"IF('3 - SPECIE DA IMPIANTARE'!$G85=\"Piantagioni lineari\",'3 - SPECIE DA IMPIANTARE'!N85,0)","v":0},{"$f":"IF('3 - SPECIE DA IMPIANTARE'!$G85=\"Piantagioni lineari\",'3 - SPECIE DA IMPIANTARE'!O85,0)","v":0},{"$f":"IF('3 - SPECIE DA IMPIANTARE'!$G85=\"Piantagioni lineari\",'3 - SPECIE DA IMPIANTARE'!Q85,0)","v":0},{"$f":"IF('3 - SPECIE DA IMPIANTARE'!$G85=\"Piantagioni lineari\",'3 - SPECIE DA IMPIANTARE'!R85,0)","v":0},{"$f":"IF('3 - SPECIE DA IMPIANTARE'!$G85=\"Piantagioni lineari\",'3 - SPECIE DA IMPIANTARE'!T85,0)","v":0},{"$f":"IF('3 - SPECIE DA IMPIANTARE'!$G85=\"Piantagioni lineari\",'3 - SPECIE DA IMPIANTARE'!U85,0)","v":0},{"$f":"IF('3 - SPECIE DA IMPIANTARE'!$G85=\"Piantagioni lineari\",'3 - SPECIE DA IMPIANTARE'!W85,0)","v":0},{"$f":"IF('3 - SPECIE DA IMPIANTARE'!$G85=\"Piantagioni lineari\",'3 - SPECIE DA IMPIANTARE'!X85,0)","v":0},{"$f":"IF('3 - SPECIE DA IMPIANTARE'!$G85=\"Impianti a sesto regolare\",'3 - SPECIE DA IMPIANTARE'!$H85,0)","v":0},{"$f":"IF('3 - SPECIE DA IMPIANTARE'!$G85=\"Impianti a sesto regolare\",'3 - SPECIE DA IMPIANTARE'!$I85,0)","v":0},{"$f":"IF('3 - SPECIE DA IMPIANTARE'!$G85=\"Impianti a sesto regolare\",'3 - SPECIE DA IMPIANTARE'!$K85,0)","v":0},{"$f":"IF('3 - SPECIE DA IMPIANTARE'!$G85=\"Impianti a sesto regolare\",'3 - SPECIE DA IMPIANTARE'!$L85,0)","v":0},{"$f":"IF('3 - SPECIE DA IMPIANTARE'!$G85=\"Impianti a sesto regolare\",'3 - SPECIE DA IMPIANTARE'!$N85,0)","v":0},{"$f":"IF('3 - SPECIE DA IMPIANTARE'!$G85=\"Impianti a sesto regolare\",'3 - SPECIE DA IMPIANTARE'!$O85,0)","v":0},{"$f":"IF('3 - SPECIE DA IMPIANTARE'!$G85=\"Impianti a sesto regolare\",'3 - SPECIE DA IMPIANTARE'!$Q85,0)","v":0},{"$f":"IF('3 - SPECIE DA IMPIANTARE'!$G85=\"Impianti a sesto regolare\",'3 - SPECIE DA IMPIANTARE'!$R85,0)","v":0},{"$f":"IF('3 - SPECIE DA IMPIANTARE'!$G85=\"Impianti a sesto regolare\",'3 - SPECIE DA IMPIANTARE'!$T85,0)","v":0},{"$f":"IF('3 - SPECIE DA IMPIANTARE'!$G85=\"Impianti a sesto regolare\",'3 - SPECIE DA IMPIANTARE'!$U85,0)","v":0},{"$f":"IF('3 - SPECIE DA IMPIANTARE'!$G85=\"Impianti a sesto regolare\",'3 - SPECIE DA IMPIANTARE'!$W85,0)","v":0},{"$f":"IF('3 - SPECIE DA IMPIANTARE'!$G85=\"Impianti a sesto regolare\",'3 - SPECIE DA IMPIANTARE'!$X85,0)","v":0}]
[{"$f":"IF('3 - SPECIE DA IMPIANTARE'!G86=\"Impianti in ordine sparso\",'3 - SPECIE DA IMPIANTARE'!H86,0)","v":0},{"$f":"IF('3 - SPECIE DA IMPIANTARE'!$G86=\"Impianti in ordine sparso\",'3 - SPECIE DA IMPIANTARE'!I86,0)","v":0},{"$f":"IF('3 - SPECIE DA IMPIANTARE'!$G86=\"Impianti in ordine sparso\",'3 - SPECIE DA IMPIANTARE'!K86,0)","v":0},{"$f":"IF('3 - SPECIE DA IMPIANTARE'!$G86=\"Impianti in ordine sparso\",'3 - SPECIE DA IMPIANTARE'!L86,0)","v":0},{"$f":"IF('3 - SPECIE DA IMPIANTARE'!$G86=\"Impianti in ordine sparso\",'3 - SPECIE DA IMPIANTARE'!N86,0)","v":0},{"$f":"IF('3 - SPECIE DA IMPIANTARE'!$G86=\"Impianti in ordine sparso\",'3 - SPECIE DA IMPIANTARE'!O86,0)","v":0},{"$f":"IF('3 - SPECIE DA IMPIANTARE'!$G86=\"Impianti in ordine sparso\",'3 - SPECIE DA IMPIANTARE'!Q86,0)","v":0},{"$f":"IF('3 - SPECIE DA IMPIANTARE'!$G86=\"Impianti in ordine sparso\",'3 - SPECIE DA IMPIANTARE'!R86,0)","v":0},{"$f":"IF('3 - SPECIE DA IMPIANTARE'!$G86=\"Impianti in ordine sparso\",'3 - SPECIE DA IMPIANTARE'!T86,0)","v":0},{"$f":"IF('3 - SPECIE DA IMPIANTARE'!$G86=\"Impianti in ordine sparso\",'3 - SPECIE DA IMPIANTARE'!U86,0)","v":0},{"$f":"IF('3 - SPECIE DA IMPIANTARE'!$G86=\"Impianti in ordine sparso\",'3 - SPECIE DA IMPIANTARE'!W86,0)","v":0},{"$f":"IF('3 - SPECIE DA IMPIANTARE'!$G86=\"Impianti in ordine sparso\",'3 - SPECIE DA IMPIANTARE'!X86,0)","v":0},{"$f":"IF('3 - SPECIE DA IMPIANTARE'!$G86=\"Piantagioni lineari\",'3 - SPECIE DA IMPIANTARE'!H86,0)","v":0},{"$f":"IF('3 - SPECIE DA IMPIANTARE'!$G86=\"Piantagioni lineari\",'3 - SPECIE DA IMPIANTARE'!I86,0)","v":0},{"$f":"IF('3 - SPECIE DA IMPIANTARE'!$G86=\"Piantagioni lineari\",'3 - SPECIE DA IMPIANTARE'!K86,0)","v":0},{"$f":"IF('3 - SPECIE DA IMPIANTARE'!$G86=\"Piantagioni lineari\",'3 - SPECIE DA IMPIANTARE'!L86,0)","v":0},{"$f":"IF('3 - SPECIE DA IMPIANTARE'!$G86=\"Piantagioni lineari\",'3 - SPECIE DA IMPIANTARE'!N86,0)","v":0},{"$f":"IF('3 - SPECIE DA IMPIANTARE'!$G86=\"Piantagioni lineari\",'3 - SPECIE DA IMPIANTARE'!O86,0)","v":0},{"$f":"IF('3 - SPECIE DA IMPIANTARE'!$G86=\"Piantagioni lineari\",'3 - SPECIE DA IMPIANTARE'!Q86,0)","v":0},{"$f":"IF('3 - SPECIE DA IMPIANTARE'!$G86=\"Piantagioni lineari\",'3 - SPECIE DA IMPIANTARE'!R86,0)","v":0},{"$f":"IF('3 - SPECIE DA IMPIANTARE'!$G86=\"Piantagioni lineari\",'3 - SPECIE DA IMPIANTARE'!T86,0)","v":0},{"$f":"IF('3 - SPECIE DA IMPIANTARE'!$G86=\"Piantagioni lineari\",'3 - SPECIE DA IMPIANTARE'!U86,0)","v":0},{"$f":"IF('3 - SPECIE DA IMPIANTARE'!$G86=\"Piantagioni lineari\",'3 - SPECIE DA IMPIANTARE'!W86,0)","v":0},{"$f":"IF('3 - SPECIE DA IMPIANTARE'!$G86=\"Piantagioni lineari\",'3 - SPECIE DA IMPIANTARE'!X86,0)","v":0},{"$f":"IF('3 - SPECIE DA IMPIANTARE'!$G86=\"Impianti a sesto regolare\",'3 - SPECIE DA IMPIANTARE'!$H86,0)","v":0},{"$f":"IF('3 - SPECIE DA IMPIANTARE'!$G86=\"Impianti a sesto regolare\",'3 - SPECIE DA IMPIANTARE'!$I86,0)","v":0},{"$f":"IF('3 - SPECIE DA IMPIANTARE'!$G86=\"Impianti a sesto regolare\",'3 - SPECIE DA IMPIANTARE'!$K86,0)","v":0},{"$f":"IF('3 - SPECIE DA IMPIANTARE'!$G86=\"Impianti a sesto regolare\",'3 - SPECIE DA IMPIANTARE'!$L86,0)","v":0},{"$f":"IF('3 - SPECIE DA IMPIANTARE'!$G86=\"Impianti a sesto regolare\",'3 - SPECIE DA IMPIANTARE'!$N86,0)","v":0},{"$f":"IF('3 - SPECIE DA IMPIANTARE'!$G86=\"Impianti a sesto regolare\",'3 - SPECIE DA IMPIANTARE'!$O86,0)","v":0},{"$f":"IF('3 - SPECIE DA IMPIANTARE'!$G86=\"Impianti a sesto regolare\",'3 - SPECIE DA IMPIANTARE'!$Q86,0)","v":0},{"$f":"IF('3 - SPECIE DA IMPIANTARE'!$G86=\"Impianti a sesto regolare\",'3 - SPECIE DA IMPIANTARE'!$R86,0)","v":0},{"$f":"IF('3 - SPECIE DA IMPIANTARE'!$G86=\"Impianti a sesto regolare\",'3 - SPECIE DA IMPIANTARE'!$T86,0)","v":0},{"$f":"IF('3 - SPECIE DA IMPIANTARE'!$G86=\"Impianti a sesto regolare\",'3 - SPECIE DA IMPIANTARE'!$U86,0)","v":0},{"$f":"IF('3 - SPECIE DA IMPIANTARE'!$G86=\"Impianti a sesto regolare\",'3 - SPECIE DA IMPIANTARE'!$W86,0)","v":0},{"$f":"IF('3 - SPECIE DA IMPIANTARE'!$G86=\"Impianti a sesto regolare\",'3 - SPECIE DA IMPIANTARE'!$X86,0)","v":0}]
[{"$f":"IF('3 - SPECIE DA IMPIANTARE'!G87=\"Impianti in ordine sparso\",'3 - SPECIE DA IMPIANTARE'!H87,0)","v":0},{"$f":"IF('3 - SPECIE DA IMPIANTARE'!$G87=\"Impianti in ordine sparso\",'3 - SPECIE DA IMPIANTARE'!I87,0)","v":0},{"$f":"IF('3 - SPECIE DA IMPIANTARE'!$G87=\"Impianti in ordine sparso\",'3 - SPECIE DA IMPIANTARE'!K87,0)","v":0},{"$f":"IF('3 - SPECIE DA IMPIANTARE'!$G87=\"Impianti in ordine sparso\",'3 - SPECIE DA IMPIANTARE'!L87,0)","v":0},{"$f":"IF('3 - SPECIE DA IMPIANTARE'!$G87=\"Impianti in ordine sparso\",'3 - SPECIE DA IMPIANTARE'!N87,0)","v":0},{"$f":"IF('3 - SPECIE DA IMPIANTARE'!$G87=\"Impianti in ordine sparso\",'3 - SPECIE DA IMPIANTARE'!O87,0)","v":0},{"$f":"IF('3 - SPECIE DA IMPIANTARE'!$G87=\"Impianti in ordine sparso\",'3 - SPECIE DA IMPIANTARE'!Q87,0)","v":0},{"$f":"IF('3 - SPECIE DA IMPIANTARE'!$G87=\"Impianti in ordine sparso\",'3 - SPECIE DA IMPIANTARE'!R87,0)","v":0},{"$f":"IF('3 - SPECIE DA IMPIANTARE'!$G87=\"Impianti in ordine sparso\",'3 - SPECIE DA IMPIANTARE'!T87,0)","v":0},{"$f":"IF('3 - SPECIE DA IMPIANTARE'!$G87=\"Impianti in ordine sparso\",'3 - SPECIE DA IMPIANTARE'!U87,0)","v":0},{"$f":"IF('3 - SPECIE DA IMPIANTARE'!$G87=\"Impianti in ordine sparso\",'3 - SPECIE DA IMPIANTARE'!W87,0)","v":0},{"$f":"IF('3 - SPECIE DA IMPIANTARE'!$G87=\"Impianti in ordine sparso\",'3 - SPECIE DA IMPIANTARE'!X87,0)","v":0},{"$f":"IF('3 - SPECIE DA IMPIANTARE'!$G87=\"Piantagioni lineari\",'3 - SPECIE DA IMPIANTARE'!H87,0)","v":0},{"$f":"IF('3 - SPECIE DA IMPIANTARE'!$G87=\"Piantagioni lineari\",'3 - SPECIE DA IMPIANTARE'!I87,0)","v":0},{"$f":"IF('3 - SPECIE DA IMPIANTARE'!$G87=\"Piantagioni lineari\",'3 - SPECIE DA IMPIANTARE'!K87,0)","v":0},{"$f":"IF('3 - SPECIE DA IMPIANTARE'!$G87=\"Piantagioni lineari\",'3 - SPECIE DA IMPIANTARE'!L87,0)","v":0},{"$f":"IF('3 - SPECIE DA IMPIANTARE'!$G87=\"Piantagioni lineari\",'3 - SPECIE DA IMPIANTARE'!N87,0)","v":0},{"$f":"IF('3 - SPECIE DA IMPIANTARE'!$G87=\"Piantagioni lineari\",'3 - SPECIE DA IMPIANTARE'!O87,0)","v":0},{"$f":"IF('3 - SPECIE DA IMPIANTARE'!$G87=\"Piantagioni lineari\",'3 - SPECIE DA IMPIANTARE'!Q87,0)","v":0},{"$f":"IF('3 - SPECIE DA IMPIANTARE'!$G87=\"Piantagioni lineari\",'3 - SPECIE DA IMPIANTARE'!R87,0)","v":0},{"$f":"IF('3 - SPECIE DA IMPIANTARE'!$G87=\"Piantagioni lineari\",'3 - SPECIE DA IMPIANTARE'!T87,0)","v":0},{"$f":"IF('3 - SPECIE DA IMPIANTARE'!$G87=\"Piantagioni lineari\",'3 - SPECIE DA IMPIANTARE'!U87,0)","v":0},{"$f":"IF('3 - SPECIE DA IMPIANTARE'!$G87=\"Piantagioni lineari\",'3 - SPECIE DA IMPIANTARE'!W87,0)","v":0},{"$f":"IF('3 - SPECIE DA IMPIANTARE'!$G87=\"Piantagioni lineari\",'3 - SPECIE DA IMPIANTARE'!X87,0)","v":0},{"$f":"IF('3 - SPECIE DA IMPIANTARE'!$G87=\"Impianti a sesto regolare\",'3 - SPECIE DA IMPIANTARE'!$H87,0)","v":0},{"$f":"IF('3 - SPECIE DA IMPIANTARE'!$G87=\"Impianti a sesto regolare\",'3 - SPECIE DA IMPIANTARE'!$I87,0)","v":0},{"$f":"IF('3 - SPECIE DA IMPIANTARE'!$G87=\"Impianti a sesto regolare\",'3 - SPECIE DA IMPIANTARE'!$K87,0)","v":0},{"$f":"IF('3 - SPECIE DA IMPIANTARE'!$G87=\"Impianti a sesto regolare\",'3 - SPECIE DA IMPIANTARE'!$L87,0)","v":0},{"$f":"IF('3 - SPECIE DA IMPIANTARE'!$G87=\"Impianti a sesto regolare\",'3 - SPECIE DA IMPIANTARE'!$N87,0)","v":0},{"$f":"IF('3 - SPECIE DA IMPIANTARE'!$G87=\"Impianti a sesto regolare\",'3 - SPECIE DA IMPIANTARE'!$O87,0)","v":0},{"$f":"IF('3 - SPECIE DA IMPIANTARE'!$G87=\"Impianti a sesto regolare\",'3 - SPECIE DA IMPIANTARE'!$Q87,0)","v":0},{"$f":"IF('3 - SPECIE DA IMPIANTARE'!$G87=\"Impianti a sesto regolare\",'3 - SPECIE DA IMPIANTARE'!$R87,0)","v":0},{"$f":"IF('3 - SPECIE DA IMPIANTARE'!$G87=\"Impianti a sesto regolare\",'3 - SPECIE DA IMPIANTARE'!$T87,0)","v":0},{"$f":"IF('3 - SPECIE DA IMPIANTARE'!$G87=\"Impianti a sesto regolare\",'3 - SPECIE DA IMPIANTARE'!$U87,0)","v":0},{"$f":"IF('3 - SPECIE DA IMPIANTARE'!$G87=\"Impianti a sesto regolare\",'3 - SPECIE DA IMPIANTARE'!$W87,0)","v":0},{"$f":"IF('3 - SPECIE DA IMPIANTARE'!$G87=\"Impianti a sesto regolare\",'3 - SPECIE DA IMPIANTARE'!$X87,0)","v":0}]
[{"$f":"IF('3 - SPECIE DA IMPIANTARE'!G88=\"Impianti in ordine sparso\",'3 - SPECIE DA IMPIANTARE'!H88,0)","v":0},{"$f":"IF('3 - SPECIE DA IMPIANTARE'!$G88=\"Impianti in ordine sparso\",'3 - SPECIE DA IMPIANTARE'!I88,0)","v":0},{"$f":"IF('3 - SPECIE DA IMPIANTARE'!$G88=\"Impianti in ordine sparso\",'3 - SPECIE DA IMPIANTARE'!K88,0)","v":0},{"$f":"IF('3 - SPECIE DA IMPIANTARE'!$G88=\"Impianti in ordine sparso\",'3 - SPECIE DA IMPIANTARE'!L88,0)","v":0},{"$f":"IF('3 - SPECIE DA IMPIANTARE'!$G88=\"Impianti in ordine sparso\",'3 - SPECIE DA IMPIANTARE'!N88,0)","v":0},{"$f":"IF('3 - SPECIE DA IMPIANTARE'!$G88=\"Impianti in ordine sparso\",'3 - SPECIE DA IMPIANTARE'!O88,0)","v":0},{"$f":"IF('3 - SPECIE DA IMPIANTARE'!$G88=\"Impianti in ordine sparso\",'3 - SPECIE DA IMPIANTARE'!Q88,0)","v":0},{"$f":"IF('3 - SPECIE DA IMPIANTARE'!$G88=\"Impianti in ordine sparso\",'3 - SPECIE DA IMPIANTARE'!R88,0)","v":0},{"$f":"IF('3 - SPECIE DA IMPIANTARE'!$G88=\"Impianti in ordine sparso\",'3 - SPECIE DA IMPIANTARE'!T88,0)","v":0},{"$f":"IF('3 - SPECIE DA IMPIANTARE'!$G88=\"Impianti in ordine sparso\",'3 - SPECIE DA IMPIANTARE'!U88,0)","v":0},{"$f":"IF('3 - SPECIE DA IMPIANTARE'!$G88=\"Impianti in ordine sparso\",'3 - SPECIE DA IMPIANTARE'!W88,0)","v":0},{"$f":"IF('3 - SPECIE DA IMPIANTARE'!$G88=\"Impianti in ordine sparso\",'3 - SPECIE DA IMPIANTARE'!X88,0)","v":0},{"$f":"IF('3 - SPECIE DA IMPIANTARE'!$G88=\"Piantagioni lineari\",'3 - SPECIE DA IMPIANTARE'!H88,0)","v":0},{"$f":"IF('3 - SPECIE DA IMPIANTARE'!$G88=\"Piantagioni lineari\",'3 - SPECIE DA IMPIANTARE'!I88,0)","v":0},{"$f":"IF('3 - SPECIE DA IMPIANTARE'!$G88=\"Piantagioni lineari\",'3 - SPECIE DA IMPIANTARE'!K88,0)","v":0},{"$f":"IF('3 - SPECIE DA IMPIANTARE'!$G88=\"Piantagioni lineari\",'3 - SPECIE DA IMPIANTARE'!L88,0)","v":0},{"$f":"IF('3 - SPECIE DA IMPIANTARE'!$G88=\"Piantagioni lineari\",'3 - SPECIE DA IMPIANTARE'!N88,0)","v":0},{"$f":"IF('3 - SPECIE DA IMPIANTARE'!$G88=\"Piantagioni lineari\",'3 - SPECIE DA IMPIANTARE'!O88,0)","v":0},{"$f":"IF('3 - SPECIE DA IMPIANTARE'!$G88=\"Piantagioni lineari\",'3 - SPECIE DA IMPIANTARE'!Q88,0)","v":0},{"$f":"IF('3 - SPECIE DA IMPIANTARE'!$G88=\"Piantagioni lineari\",'3 - SPECIE DA IMPIANTARE'!R88,0)","v":0},{"$f":"IF('3 - SPECIE DA IMPIANTARE'!$G88=\"Piantagioni lineari\",'3 - SPECIE DA IMPIANTARE'!T88,0)","v":0},{"$f":"IF('3 - SPECIE DA IMPIANTARE'!$G88=\"Piantagioni lineari\",'3 - SPECIE DA IMPIANTARE'!U88,0)","v":0},{"$f":"IF('3 - SPECIE DA IMPIANTARE'!$G88=\"Piantagioni lineari\",'3 - SPECIE DA IMPIANTARE'!W88,0)","v":0},{"$f":"IF('3 - SPECIE DA IMPIANTARE'!$G88=\"Piantagioni lineari\",'3 - SPECIE DA IMPIANTARE'!X88,0)","v":0},{"$f":"IF('3 - SPECIE DA IMPIANTARE'!$G88=\"Impianti a sesto regolare\",'3 - SPECIE DA IMPIANTARE'!$H88,0)","v":0},{"$f":"IF('3 - SPECIE DA IMPIANTARE'!$G88=\"Impianti a sesto regolare\",'3 - SPECIE DA IMPIANTARE'!$I88,0)","v":0},{"$f":"IF('3 - SPECIE DA IMPIANTARE'!$G88=\"Impianti a sesto regolare\",'3 - SPECIE DA IMPIANTARE'!$K88,0)","v":0},{"$f":"IF('3 - SPECIE DA IMPIANTARE'!$G88=\"Impianti a sesto regolare\",'3 - SPECIE DA IMPIANTARE'!$L88,0)","v":0},{"$f":"IF('3 - SPECIE DA IMPIANTARE'!$G88=\"Impianti a sesto regolare\",'3 - SPECIE DA IMPIANTARE'!$N88,0)","v":0},{"$f":"IF('3 - SPECIE DA IMPIANTARE'!$G88=\"Impianti a sesto regolare\",'3 - SPECIE DA IMPIANTARE'!$O88,0)","v":0},{"$f":"IF('3 - SPECIE DA IMPIANTARE'!$G88=\"Impianti a sesto regolare\",'3 - SPECIE DA IMPIANTARE'!$Q88,0)","v":0},{"$f":"IF('3 - SPECIE DA IMPIANTARE'!$G88=\"Impianti a sesto regolare\",'3 - SPECIE DA IMPIANTARE'!$R88,0)","v":0},{"$f":"IF('3 - SPECIE DA IMPIANTARE'!$G88=\"Impianti a sesto regolare\",'3 - SPECIE DA IMPIANTARE'!$T88,0)","v":0},{"$f":"IF('3 - SPECIE DA IMPIANTARE'!$G88=\"Impianti a sesto regolare\",'3 - SPECIE DA IMPIANTARE'!$U88,0)","v":0},{"$f":"IF('3 - SPECIE DA IMPIANTARE'!$G88=\"Impianti a sesto regolare\",'3 - SPECIE DA IMPIANTARE'!$W88,0)","v":0},{"$f":"IF('3 - SPECIE DA IMPIANTARE'!$G88=\"Impianti a sesto regolare\",'3 - SPECIE DA IMPIANTARE'!$X88,0)","v":0}]
[{"$f":"IF('3 - SPECIE DA IMPIANTARE'!G89=\"Impianti in ordine sparso\",'3 - SPECIE DA IMPIANTARE'!H89,0)","v":0},{"$f":"IF('3 - SPECIE DA IMPIANTARE'!$G89=\"Impianti in ordine sparso\",'3 - SPECIE DA IMPIANTARE'!I89,0)","v":0},{"$f":"IF('3 - SPECIE DA IMPIANTARE'!$G89=\"Impianti in ordine sparso\",'3 - SPECIE DA IMPIANTARE'!K89,0)","v":0},{"$f":"IF('3 - SPECIE DA IMPIANTARE'!$G89=\"Impianti in ordine sparso\",'3 - SPECIE DA IMPIANTARE'!L89,0)","v":0},{"$f":"IF('3 - SPECIE DA IMPIANTARE'!$G89=\"Impianti in ordine sparso\",'3 - SPECIE DA IMPIANTARE'!N89,0)","v":0},{"$f":"IF('3 - SPECIE DA IMPIANTARE'!$G89=\"Impianti in ordine sparso\",'3 - SPECIE DA IMPIANTARE'!O89,0)","v":0},{"$f":"IF('3 - SPECIE DA IMPIANTARE'!$G89=\"Impianti in ordine sparso\",'3 - SPECIE DA IMPIANTARE'!Q89,0)","v":0},{"$f":"IF('3 - SPECIE DA IMPIANTARE'!$G89=\"Impianti in ordine sparso\",'3 - SPECIE DA IMPIANTARE'!R89,0)","v":0},{"$f":"IF('3 - SPECIE DA IMPIANTARE'!$G89=\"Impianti in ordine sparso\",'3 - SPECIE DA IMPIANTARE'!T89,0)","v":0},{"$f":"IF('3 - SPECIE DA IMPIANTARE'!$G89=\"Impianti in ordine sparso\",'3 - SPECIE DA IMPIANTARE'!U89,0)","v":0},{"$f":"IF('3 - SPECIE DA IMPIANTARE'!$G89=\"Impianti in ordine sparso\",'3 - SPECIE DA IMPIANTARE'!W89,0)","v":0},{"$f":"IF('3 - SPECIE DA IMPIANTARE'!$G89=\"Impianti in ordine sparso\",'3 - SPECIE DA IMPIANTARE'!X89,0)","v":0},{"$f":"IF('3 - SPECIE DA IMPIANTARE'!$G89=\"Piantagioni lineari\",'3 - SPECIE DA IMPIANTARE'!H89,0)","v":0},{"$f":"IF('3 - SPECIE DA IMPIANTARE'!$G89=\"Piantagioni lineari\",'3 - SPECIE DA IMPIANTARE'!I89,0)","v":0},{"$f":"IF('3 - SPECIE DA IMPIANTARE'!$G89=\"Piantagioni lineari\",'3 - SPECIE DA IMPIANTARE'!K89,0)","v":0},{"$f":"IF('3 - SPECIE DA IMPIANTARE'!$G89=\"Piantagioni lineari\",'3 - SPECIE DA IMPIANTARE'!L89,0)","v":0},{"$f":"IF('3 - SPECIE DA IMPIANTARE'!$G89=\"Piantagioni lineari\",'3 - SPECIE DA IMPIANTARE'!N89,0)","v":0},{"$f":"IF('3 - SPECIE DA IMPIANTARE'!$G89=\"Piantagioni lineari\",'3 - SPECIE DA IMPIANTARE'!O89,0)","v":0},{"$f":"IF('3 - SPECIE DA IMPIANTARE'!$G89=\"Piantagioni lineari\",'3 - SPECIE DA IMPIANTARE'!Q89,0)","v":0},{"$f":"IF('3 - SPECIE DA IMPIANTARE'!$G89=\"Piantagioni lineari\",'3 - SPECIE DA IMPIANTARE'!R89,0)","v":0},{"$f":"IF('3 - SPECIE DA IMPIANTARE'!$G89=\"Piantagioni lineari\",'3 - SPECIE DA IMPIANTARE'!T89,0)","v":0},{"$f":"IF('3 - SPECIE DA IMPIANTARE'!$G89=\"Piantagioni lineari\",'3 - SPECIE DA IMPIANTARE'!U89,0)","v":0},{"$f":"IF('3 - SPECIE DA IMPIANTARE'!$G89=\"Piantagioni lineari\",'3 - SPECIE DA IMPIANTARE'!W89,0)","v":0},{"$f":"IF('3 - SPECIE DA IMPIANTARE'!$G89=\"Piantagioni lineari\",'3 - SPECIE DA IMPIANTARE'!X89,0)","v":0},{"$f":"IF('3 - SPECIE DA IMPIANTARE'!$G89=\"Impianti a sesto regolare\",'3 - SPECIE DA IMPIANTARE'!$H89,0)","v":0},{"$f":"IF('3 - SPECIE DA IMPIANTARE'!$G89=\"Impianti a sesto regolare\",'3 - SPECIE DA IMPIANTARE'!$I89,0)","v":0},{"$f":"IF('3 - SPECIE DA IMPIANTARE'!$G89=\"Impianti a sesto regolare\",'3 - SPECIE DA IMPIANTARE'!$K89,0)","v":0},{"$f":"IF('3 - SPECIE DA IMPIANTARE'!$G89=\"Impianti a sesto regolare\",'3 - SPECIE DA IMPIANTARE'!$L89,0)","v":0},{"$f":"IF('3 - SPECIE DA IMPIANTARE'!$G89=\"Impianti a sesto regolare\",'3 - SPECIE DA IMPIANTARE'!$N89,0)","v":0},{"$f":"IF('3 - SPECIE DA IMPIANTARE'!$G89=\"Impianti a sesto regolare\",'3 - SPECIE DA IMPIANTARE'!$O89,0)","v":0},{"$f":"IF('3 - SPECIE DA IMPIANTARE'!$G89=\"Impianti a sesto regolare\",'3 - SPECIE DA IMPIANTARE'!$Q89,0)","v":0},{"$f":"IF('3 - SPECIE DA IMPIANTARE'!$G89=\"Impianti a sesto regolare\",'3 - SPECIE DA IMPIANTARE'!$R89,0)","v":0},{"$f":"IF('3 - SPECIE DA IMPIANTARE'!$G89=\"Impianti a sesto regolare\",'3 - SPECIE DA IMPIANTARE'!$T89,0)","v":0},{"$f":"IF('3 - SPECIE DA IMPIANTARE'!$G89=\"Impianti a sesto regolare\",'3 - SPECIE DA IMPIANTARE'!$U89,0)","v":0},{"$f":"IF('3 - SPECIE DA IMPIANTARE'!$G89=\"Impianti a sesto regolare\",'3 - SPECIE DA IMPIANTARE'!$W89,0)","v":0},{"$f":"IF('3 - SPECIE DA IMPIANTARE'!$G89=\"Impianti a sesto regolare\",'3 - SPECIE DA IMPIANTARE'!$X89,0)","v":0}]
[{"$f":"IF('3 - SPECIE DA IMPIANTARE'!G90=\"Impianti in ordine sparso\",'3 - SPECIE DA IMPIANTARE'!H90,0)","v":0},{"$f":"IF('3 - SPECIE DA IMPIANTARE'!$G90=\"Impianti in ordine sparso\",'3 - SPECIE DA IMPIANTARE'!I90,0)","v":0},{"$f":"IF('3 - SPECIE DA IMPIANTARE'!$G90=\"Impianti in ordine sparso\",'3 - SPECIE DA IMPIANTARE'!K90,0)","v":0},{"$f":"IF('3 - SPECIE DA IMPIANTARE'!$G90=\"Impianti in ordine sparso\",'3 - SPECIE DA IMPIANTARE'!L90,0)","v":0},{"$f":"IF('3 - SPECIE DA IMPIANTARE'!$G90=\"Impianti in ordine sparso\",'3 - SPECIE DA IMPIANTARE'!N90,0)","v":0},{"$f":"IF('3 - SPECIE DA IMPIANTARE'!$G90=\"Impianti in ordine sparso\",'3 - SPECIE DA IMPIANTARE'!O90,0)","v":0},{"$f":"IF('3 - SPECIE DA IMPIANTARE'!$G90=\"Impianti in ordine sparso\",'3 - SPECIE DA IMPIANTARE'!Q90,0)","v":0},{"$f":"IF('3 - SPECIE DA IMPIANTARE'!$G90=\"Impianti in ordine sparso\",'3 - SPECIE DA IMPIANTARE'!R90,0)","v":0},{"$f":"IF('3 - SPECIE DA IMPIANTARE'!$G90=\"Impianti in ordine sparso\",'3 - SPECIE DA IMPIANTARE'!T90,0)","v":0},{"$f":"IF('3 - SPECIE DA IMPIANTARE'!$G90=\"Impianti in ordine sparso\",'3 - SPECIE DA IMPIANTARE'!U90,0)","v":0},{"$f":"IF('3 - SPECIE DA IMPIANTARE'!$G90=\"Impianti in ordine sparso\",'3 - SPECIE DA IMPIANTARE'!W90,0)","v":0},{"$f":"IF('3 - SPECIE DA IMPIANTARE'!$G90=\"Impianti in ordine sparso\",'3 - SPECIE DA IMPIANTARE'!X90,0)","v":0},{"$f":"IF('3 - SPECIE DA IMPIANTARE'!$G90=\"Piantagioni lineari\",'3 - SPECIE DA IMPIANTARE'!H90,0)","v":0},{"$f":"IF('3 - SPECIE DA IMPIANTARE'!$G90=\"Piantagioni lineari\",'3 - SPECIE DA IMPIANTARE'!I90,0)","v":0},{"$f":"IF('3 - SPECIE DA IMPIANTARE'!$G90=\"Piantagioni lineari\",'3 - SPECIE DA IMPIANTARE'!K90,0)","v":0},{"$f":"IF('3 - SPECIE DA IMPIANTARE'!$G90=\"Piantagioni lineari\",'3 - SPECIE DA IMPIANTARE'!L90,0)","v":0},{"$f":"IF('3 - SPECIE DA IMPIANTARE'!$G90=\"Piantagioni lineari\",'3 - SPECIE DA IMPIANTARE'!N90,0)","v":0},{"$f":"IF('3 - SPECIE DA IMPIANTARE'!$G90=\"Piantagioni lineari\",'3 - SPECIE DA IMPIANTARE'!O90,0)","v":0},{"$f":"IF('3 - SPECIE DA IMPIANTARE'!$G90=\"Piantagioni lineari\",'3 - SPECIE DA IMPIANTARE'!Q90,0)","v":0},{"$f":"IF('3 - SPECIE DA IMPIANTARE'!$G90=\"Piantagioni lineari\",'3 - SPECIE DA IMPIANTARE'!R90,0)","v":0},{"$f":"IF('3 - SPECIE DA IMPIANTARE'!$G90=\"Piantagioni lineari\",'3 - SPECIE DA IMPIANTARE'!T90,0)","v":0},{"$f":"IF('3 - SPECIE DA IMPIANTARE'!$G90=\"Piantagioni lineari\",'3 - SPECIE DA IMPIANTARE'!U90,0)","v":0},{"$f":"IF('3 - SPECIE DA IMPIANTARE'!$G90=\"Piantagioni lineari\",'3 - SPECIE DA IMPIANTARE'!W90,0)","v":0},{"$f":"IF('3 - SPECIE DA IMPIANTARE'!$G90=\"Piantagioni lineari\",'3 - SPECIE DA IMPIANTARE'!X90,0)","v":0},{"$f":"IF('3 - SPECIE DA IMPIANTARE'!$G90=\"Impianti a sesto regolare\",'3 - SPECIE DA IMPIANTARE'!$H90,0)","v":0},{"$f":"IF('3 - SPECIE DA IMPIANTARE'!$G90=\"Impianti a sesto regolare\",'3 - SPECIE DA IMPIANTARE'!$I90,0)","v":0},{"$f":"IF('3 - SPECIE DA IMPIANTARE'!$G90=\"Impianti a sesto regolare\",'3 - SPECIE DA IMPIANTARE'!$K90,0)","v":0},{"$f":"IF('3 - SPECIE DA IMPIANTARE'!$G90=\"Impianti a sesto regolare\",'3 - SPECIE DA IMPIANTARE'!$L90,0)","v":0},{"$f":"IF('3 - SPECIE DA IMPIANTARE'!$G90=\"Impianti a sesto regolare\",'3 - SPECIE DA IMPIANTARE'!$N90,0)","v":0},{"$f":"IF('3 - SPECIE DA IMPIANTARE'!$G90=\"Impianti a sesto regolare\",'3 - SPECIE DA IMPIANTARE'!$O90,0)","v":0},{"$f":"IF('3 - SPECIE DA IMPIANTARE'!$G90=\"Impianti a sesto regolare\",'3 - SPECIE DA IMPIANTARE'!$Q90,0)","v":0},{"$f":"IF('3 - SPECIE DA IMPIANTARE'!$G90=\"Impianti a sesto regolare\",'3 - SPECIE DA IMPIANTARE'!$R90,0)","v":0},{"$f":"IF('3 - SPECIE DA IMPIANTARE'!$G90=\"Impianti a sesto regolare\",'3 - SPECIE DA IMPIANTARE'!$T90,0)","v":0},{"$f":"IF('3 - SPECIE DA IMPIANTARE'!$G90=\"Impianti a sesto regolare\",'3 - SPECIE DA IMPIANTARE'!$U90,0)","v":0},{"$f":"IF('3 - SPECIE DA IMPIANTARE'!$G90=\"Impianti a sesto regolare\",'3 - SPECIE DA IMPIANTARE'!$W90,0)","v":0},{"$f":"IF('3 - SPECIE DA IMPIANTARE'!$G90=\"Impianti a sesto regolare\",'3 - SPECIE DA IMPIANTARE'!$X90,0)","v":0}]
[{"$f":"IF('3 - SPECIE DA IMPIANTARE'!G91=\"Impianti in ordine sparso\",'3 - SPECIE DA IMPIANTARE'!H91,0)","v":0},{"$f":"IF('3 - SPECIE DA IMPIANTARE'!$G91=\"Impianti in ordine sparso\",'3 - SPECIE DA IMPIANTARE'!I91,0)","v":0},{"$f":"IF('3 - SPECIE DA IMPIANTARE'!$G91=\"Impianti in ordine sparso\",'3 - SPECIE DA IMPIANTARE'!K91,0)","v":0},{"$f":"IF('3 - SPECIE DA IMPIANTARE'!$G91=\"Impianti in ordine sparso\",'3 - SPECIE DA IMPIANTARE'!L91,0)","v":0},{"$f":"IF('3 - SPECIE DA IMPIANTARE'!$G91=\"Impianti in ordine sparso\",'3 - SPECIE DA IMPIANTARE'!N91,0)","v":0},{"$f":"IF('3 - SPECIE DA IMPIANTARE'!$G91=\"Impianti in ordine sparso\",'3 - SPECIE DA IMPIANTARE'!O91,0)","v":0},{"$f":"IF('3 - SPECIE DA IMPIANTARE'!$G91=\"Impianti in ordine sparso\",'3 - SPECIE DA IMPIANTARE'!Q91,0)","v":0},{"$f":"IF('3 - SPECIE DA IMPIANTARE'!$G91=\"Impianti in ordine sparso\",'3 - SPECIE DA IMPIANTARE'!R91,0)","v":0},{"$f":"IF('3 - SPECIE DA IMPIANTARE'!$G91=\"Impianti in ordine sparso\",'3 - SPECIE DA IMPIANTARE'!T91,0)","v":0},{"$f":"IF('3 - SPECIE DA IMPIANTARE'!$G91=\"Impianti in ordine sparso\",'3 - SPECIE DA IMPIANTARE'!U91,0)","v":0},{"$f":"IF('3 - SPECIE DA IMPIANTARE'!$G91=\"Impianti in ordine sparso\",'3 - SPECIE DA IMPIANTARE'!W91,0)","v":0},{"$f":"IF('3 - SPECIE DA IMPIANTARE'!$G91=\"Impianti in ordine sparso\",'3 - SPECIE DA IMPIANTARE'!X91,0)","v":0},{"$f":"IF('3 - SPECIE DA IMPIANTARE'!$G91=\"Piantagioni lineari\",'3 - SPECIE DA IMPIANTARE'!H91,0)","v":0},{"$f":"IF('3 - SPECIE DA IMPIANTARE'!$G91=\"Piantagioni lineari\",'3 - SPECIE DA IMPIANTARE'!I91,0)","v":0},{"$f":"IF('3 - SPECIE DA IMPIANTARE'!$G91=\"Piantagioni lineari\",'3 - SPECIE DA IMPIANTARE'!K91,0)","v":0},{"$f":"IF('3 - SPECIE DA IMPIANTARE'!$G91=\"Piantagioni lineari\",'3 - SPECIE DA IMPIANTARE'!L91,0)","v":0},{"$f":"IF('3 - SPECIE DA IMPIANTARE'!$G91=\"Piantagioni lineari\",'3 - SPECIE DA IMPIANTARE'!N91,0)","v":0},{"$f":"IF('3 - SPECIE DA IMPIANTARE'!$G91=\"Piantagioni lineari\",'3 - SPECIE DA IMPIANTARE'!O91,0)","v":0},{"$f":"IF('3 - SPECIE DA IMPIANTARE'!$G91=\"Piantagioni lineari\",'3 - SPECIE DA IMPIANTARE'!Q91,0)","v":0},{"$f":"IF('3 - SPECIE DA IMPIANTARE'!$G91=\"Piantagioni lineari\",'3 - SPECIE DA IMPIANTARE'!R91,0)","v":0},{"$f":"IF('3 - SPECIE DA IMPIANTARE'!$G91=\"Piantagioni lineari\",'3 - SPECIE DA IMPIANTARE'!T91,0)","v":0},{"$f":"IF('3 - SPECIE DA IMPIANTARE'!$G91=\"Piantagioni lineari\",'3 - SPECIE DA IMPIANTARE'!U91,0)","v":0},{"$f":"IF('3 - SPECIE DA IMPIANTARE'!$G91=\"Piantagioni lineari\",'3 - SPECIE DA IMPIANTARE'!W91,0)","v":0},{"$f":"IF('3 - SPECIE DA IMPIANTARE'!$G91=\"Piantagioni lineari\",'3 - SPECIE DA IMPIANTARE'!X91,0)","v":0},{"$f":"IF('3 - SPECIE DA IMPIANTARE'!$G91=\"Impianti a sesto regolare\",'3 - SPECIE DA IMPIANTARE'!$H91,0)","v":0},{"$f":"IF('3 - SPECIE DA IMPIANTARE'!$G91=\"Impianti a sesto regolare\",'3 - SPECIE DA IMPIANTARE'!$I91,0)","v":0},{"$f":"IF('3 - SPECIE DA IMPIANTARE'!$G91=\"Impianti a sesto regolare\",'3 - SPECIE DA IMPIANTARE'!$K91,0)","v":0},{"$f":"IF('3 - SPECIE DA IMPIANTARE'!$G91=\"Impianti a sesto regolare\",'3 - SPECIE DA IMPIANTARE'!$L91,0)","v":0},{"$f":"IF('3 - SPECIE DA IMPIANTARE'!$G91=\"Impianti a sesto regolare\",'3 - SPECIE DA IMPIANTARE'!$N91,0)","v":0},{"$f":"IF('3 - SPECIE DA IMPIANTARE'!$G91=\"Impianti a sesto regolare\",'3 - SPECIE DA IMPIANTARE'!$O91,0)","v":0},{"$f":"IF('3 - SPECIE DA IMPIANTARE'!$G91=\"Impianti a sesto regolare\",'3 - SPECIE DA IMPIANTARE'!$Q91,0)","v":0},{"$f":"IF('3 - SPECIE DA IMPIANTARE'!$G91=\"Impianti a sesto regolare\",'3 - SPECIE DA IMPIANTARE'!$R91,0)","v":0},{"$f":"IF('3 - SPECIE DA IMPIANTARE'!$G91=\"Impianti a sesto regolare\",'3 - SPECIE DA IMPIANTARE'!$T91,0)","v":0},{"$f":"IF('3 - SPECIE DA IMPIANTARE'!$G91=\"Impianti a sesto regolare\",'3 - SPECIE DA IMPIANTARE'!$U91,0)","v":0},{"$f":"IF('3 - SPECIE DA IMPIANTARE'!$G91=\"Impianti a sesto regolare\",'3 - SPECIE DA IMPIANTARE'!$W91,0)","v":0},{"$f":"IF('3 - SPECIE DA IMPIANTARE'!$G91=\"Impianti a sesto regolare\",'3 - SPECIE DA IMPIANTARE'!$X91,0)","v":0}]
[{"$f":"IF('3 - SPECIE DA IMPIANTARE'!G92=\"Impianti in ordine sparso\",'3 - SPECIE DA IMPIANTARE'!H92,0)","v":0},{"$f":"IF('3 - SPECIE DA IMPIANTARE'!$G92=\"Impianti in ordine sparso\",'3 - SPECIE DA IMPIANTARE'!I92,0)","v":0},{"$f":"IF('3 - SPECIE DA IMPIANTARE'!$G92=\"Impianti in ordine sparso\",'3 - SPECIE DA IMPIANTARE'!K92,0)","v":0},{"$f":"IF('3 - SPECIE DA IMPIANTARE'!$G92=\"Impianti in ordine sparso\",'3 - SPECIE DA IMPIANTARE'!L92,0)","v":0},{"$f":"IF('3 - SPECIE DA IMPIANTARE'!$G92=\"Impianti in ordine sparso\",'3 - SPECIE DA IMPIANTARE'!N92,0)","v":0},{"$f":"IF('3 - SPECIE DA IMPIANTARE'!$G92=\"Impianti in ordine sparso\",'3 - SPECIE DA IMPIANTARE'!O92,0)","v":0},{"$f":"IF('3 - SPECIE DA IMPIANTARE'!$G92=\"Impianti in ordine sparso\",'3 - SPECIE DA IMPIANTARE'!Q92,0)","v":0},{"$f":"IF('3 - SPECIE DA IMPIANTARE'!$G92=\"Impianti in ordine sparso\",'3 - SPECIE DA IMPIANTARE'!R92,0)","v":0},{"$f":"IF('3 - SPECIE DA IMPIANTARE'!$G92=\"Impianti in ordine sparso\",'3 - SPECIE DA IMPIANTARE'!T92,0)","v":0},{"$f":"IF('3 - SPECIE DA IMPIANTARE'!$G92=\"Impianti in ordine sparso\",'3 - SPECIE DA IMPIANTARE'!U92,0)","v":0},{"$f":"IF('3 - SPECIE DA IMPIANTARE'!$G92=\"Impianti in ordine sparso\",'3 - SPECIE DA IMPIANTARE'!W92,0)","v":0},{"$f":"IF('3 - SPECIE DA IMPIANTARE'!$G92=\"Impianti in ordine sparso\",'3 - SPECIE DA IMPIANTARE'!X92,0)","v":0},{"$f":"IF('3 - SPECIE DA IMPIANTARE'!$G92=\"Piantagioni lineari\",'3 - SPECIE DA IMPIANTARE'!H92,0)","v":0},{"$f":"IF('3 - SPECIE DA IMPIANTARE'!$G92=\"Piantagioni lineari\",'3 - SPECIE DA IMPIANTARE'!I92,0)","v":0},{"$f":"IF('3 - SPECIE DA IMPIANTARE'!$G92=\"Piantagioni lineari\",'3 - SPECIE DA IMPIANTARE'!K92,0)","v":0},{"$f":"IF('3 - SPECIE DA IMPIANTARE'!$G92=\"Piantagioni lineari\",'3 - SPECIE DA IMPIANTARE'!L92,0)","v":0},{"$f":"IF('3 - SPECIE DA IMPIANTARE'!$G92=\"Piantagioni lineari\",'3 - SPECIE DA IMPIANTARE'!N92,0)","v":0},{"$f":"IF('3 - SPECIE DA IMPIANTARE'!$G92=\"Piantagioni lineari\",'3 - SPECIE DA IMPIANTARE'!O92,0)","v":0},{"$f":"IF('3 - SPECIE DA IMPIANTARE'!$G92=\"Piantagioni lineari\",'3 - SPECIE DA IMPIANTARE'!Q92,0)","v":0},{"$f":"IF('3 - SPECIE DA IMPIANTARE'!$G92=\"Piantagioni lineari\",'3 - SPECIE DA IMPIANTARE'!R92,0)","v":0},{"$f":"IF('3 - SPECIE DA IMPIANTARE'!$G92=\"Piantagioni lineari\",'3 - SPECIE DA IMPIANTARE'!T92,0)","v":0},{"$f":"IF('3 - SPECIE DA IMPIANTARE'!$G92=\"Piantagioni lineari\",'3 - SPECIE DA IMPIANTARE'!U92,0)","v":0},{"$f":"IF('3 - SPECIE DA IMPIANTARE'!$G92=\"Piantagioni lineari\",'3 - SPECIE DA IMPIANTARE'!W92,0)","v":0},{"$f":"IF('3 - SPECIE DA IMPIANTARE'!$G92=\"Piantagioni lineari\",'3 - SPECIE DA IMPIANTARE'!X92,0)","v":0},{"$f":"IF('3 - SPECIE DA IMPIANTARE'!$G92=\"Impianti a sesto regolare\",'3 - SPECIE DA IMPIANTARE'!$H92,0)","v":0},{"$f":"IF('3 - SPECIE DA IMPIANTARE'!$G92=\"Impianti a sesto regolare\",'3 - SPECIE DA IMPIANTARE'!$I92,0)","v":0},{"$f":"IF('3 - SPECIE DA IMPIANTARE'!$G92=\"Impianti a sesto regolare\",'3 - SPECIE DA IMPIANTARE'!$K92,0)","v":0},{"$f":"IF('3 - SPECIE DA IMPIANTARE'!$G92=\"Impianti a sesto regolare\",'3 - SPECIE DA IMPIANTARE'!$L92,0)","v":0},{"$f":"IF('3 - SPECIE DA IMPIANTARE'!$G92=\"Impianti a sesto regolare\",'3 - SPECIE DA IMPIANTARE'!$N92,0)","v":0},{"$f":"IF('3 - SPECIE DA IMPIANTARE'!$G92=\"Impianti a sesto regolare\",'3 - SPECIE DA IMPIANTARE'!$O92,0)","v":0},{"$f":"IF('3 - SPECIE DA IMPIANTARE'!$G92=\"Impianti a sesto regolare\",'3 - SPECIE DA IMPIANTARE'!$Q92,0)","v":0},{"$f":"IF('3 - SPECIE DA IMPIANTARE'!$G92=\"Impianti a sesto regolare\",'3 - SPECIE DA IMPIANTARE'!$R92,0)","v":0},{"$f":"IF('3 - SPECIE DA IMPIANTARE'!$G92=\"Impianti a sesto regolare\",'3 - SPECIE DA IMPIANTARE'!$T92,0)","v":0},{"$f":"IF('3 - SPECIE DA IMPIANTARE'!$G92=\"Impianti a sesto regolare\",'3 - SPECIE DA IMPIANTARE'!$U92,0)","v":0},{"$f":"IF('3 - SPECIE DA IMPIANTARE'!$G92=\"Impianti a sesto regolare\",'3 - SPECIE DA IMPIANTARE'!$W92,0)","v":0},{"$f":"IF('3 - SPECIE DA IMPIANTARE'!$G92=\"Impianti a sesto regolare\",'3 - SPECIE DA IMPIANTARE'!$X92,0)","v":0}]
[{"$f":"IF('3 - SPECIE DA IMPIANTARE'!G93=\"Impianti in ordine sparso\",'3 - SPECIE DA IMPIANTARE'!H93,0)","v":0},{"$f":"IF('3 - SPECIE DA IMPIANTARE'!$G93=\"Impianti in ordine sparso\",'3 - SPECIE DA IMPIANTARE'!I93,0)","v":0},{"$f":"IF('3 - SPECIE DA IMPIANTARE'!$G93=\"Impianti in ordine sparso\",'3 - SPECIE DA IMPIANTARE'!K93,0)","v":0},{"$f":"IF('3 - SPECIE DA IMPIANTARE'!$G93=\"Impianti in ordine sparso\",'3 - SPECIE DA IMPIANTARE'!L93,0)","v":0},{"$f":"IF('3 - SPECIE DA IMPIANTARE'!$G93=\"Impianti in ordine sparso\",'3 - SPECIE DA IMPIANTARE'!N93,0)","v":0},{"$f":"IF('3 - SPECIE DA IMPIANTARE'!$G93=\"Impianti in ordine sparso\",'3 - SPECIE DA IMPIANTARE'!O93,0)","v":0},{"$f":"IF('3 - SPECIE DA IMPIANTARE'!$G93=\"Impianti in ordine sparso\",'3 - SPECIE DA IMPIANTARE'!Q93,0)","v":0},{"$f":"IF('3 - SPECIE DA IMPIANTARE'!$G93=\"Impianti in ordine sparso\",'3 - SPECIE DA IMPIANTARE'!R93,0)","v":0},{"$f":"IF('3 - SPECIE DA IMPIANTARE'!$G93=\"Impianti in ordine sparso\",'3 - SPECIE DA IMPIANTARE'!T93,0)","v":0},{"$f":"IF('3 - SPECIE DA IMPIANTARE'!$G93=\"Impianti in ordine sparso\",'3 - SPECIE DA IMPIANTARE'!U93,0)","v":0},{"$f":"IF('3 - SPECIE DA IMPIANTARE'!$G93=\"Impianti in ordine sparso\",'3 - SPECIE DA IMPIANTARE'!W93,0)","v":0},{"$f":"IF('3 - SPECIE DA IMPIANTARE'!$G93=\"Impianti in ordine sparso\",'3 - SPECIE DA IMPIANTARE'!X93,0)","v":0},{"$f":"IF('3 - SPECIE DA IMPIANTARE'!$G93=\"Piantagioni lineari\",'3 - SPECIE DA IMPIANTARE'!H93,0)","v":0},{"$f":"IF('3 - SPECIE DA IMPIANTARE'!$G93=\"Piantagioni lineari\",'3 - SPECIE DA IMPIANTARE'!I93,0)","v":0},{"$f":"IF('3 - SPECIE DA IMPIANTARE'!$G93=\"Piantagioni lineari\",'3 - SPECIE DA IMPIANTARE'!K93,0)","v":0},{"$f":"IF('3 - SPECIE DA IMPIANTARE'!$G93=\"Piantagioni lineari\",'3 - SPECIE DA IMPIANTARE'!L93,0)","v":0},{"$f":"IF('3 - SPECIE DA IMPIANTARE'!$G93=\"Piantagioni lineari\",'3 - SPECIE DA IMPIANTARE'!N93,0)","v":0},{"$f":"IF('3 - SPECIE DA IMPIANTARE'!$G93=\"Piantagioni lineari\",'3 - SPECIE DA IMPIANTARE'!O93,0)","v":0},{"$f":"IF('3 - SPECIE DA IMPIANTARE'!$G93=\"Piantagioni lineari\",'3 - SPECIE DA IMPIANTARE'!Q93,0)","v":0},{"$f":"IF('3 - SPECIE DA IMPIANTARE'!$G93=\"Piantagioni lineari\",'3 - SPECIE DA IMPIANTARE'!R93,0)","v":0},{"$f":"IF('3 - SPECIE DA IMPIANTARE'!$G93=\"Piantagioni lineari\",'3 - SPECIE DA IMPIANTARE'!T93,0)","v":0},{"$f":"IF('3 - SPECIE DA IMPIANTARE'!$G93=\"Piantagioni lineari\",'3 - SPECIE DA IMPIANTARE'!U93,0)","v":0},{"$f":"IF('3 - SPECIE DA IMPIANTARE'!$G93=\"Piantagioni lineari\",'3 - SPECIE DA IMPIANTARE'!W93,0)","v":0},{"$f":"IF('3 - SPECIE DA IMPIANTARE'!$G93=\"Piantagioni lineari\",'3 - SPECIE DA IMPIANTARE'!X93,0)","v":0},{"$f":"IF('3 - SPECIE DA IMPIANTARE'!$G93=\"Impianti a sesto regolare\",'3 - SPECIE DA IMPIANTARE'!$H93,0)","v":0},{"$f":"IF('3 - SPECIE DA IMPIANTARE'!$G93=\"Impianti a sesto regolare\",'3 - SPECIE DA IMPIANTARE'!$I93,0)","v":0},{"$f":"IF('3 - SPECIE DA IMPIANTARE'!$G93=\"Impianti a sesto regolare\",'3 - SPECIE DA IMPIANTARE'!$K93,0)","v":0},{"$f":"IF('3 - SPECIE DA IMPIANTARE'!$G93=\"Impianti a sesto regolare\",'3 - SPECIE DA IMPIANTARE'!$L93,0)","v":0},{"$f":"IF('3 - SPECIE DA IMPIANTARE'!$G93=\"Impianti a sesto regolare\",'3 - SPECIE DA IMPIANTARE'!$N93,0)","v":0},{"$f":"IF('3 - SPECIE DA IMPIANTARE'!$G93=\"Impianti a sesto regolare\",'3 - SPECIE DA IMPIANTARE'!$O93,0)","v":0},{"$f":"IF('3 - SPECIE DA IMPIANTARE'!$G93=\"Impianti a sesto regolare\",'3 - SPECIE DA IMPIANTARE'!$Q93,0)","v":0},{"$f":"IF('3 - SPECIE DA IMPIANTARE'!$G93=\"Impianti a sesto regolare\",'3 - SPECIE DA IMPIANTARE'!$R93,0)","v":0},{"$f":"IF('3 - SPECIE DA IMPIANTARE'!$G93=\"Impianti a sesto regolare\",'3 - SPECIE DA IMPIANTARE'!$T93,0)","v":0},{"$f":"IF('3 - SPECIE DA IMPIANTARE'!$G93=\"Impianti a sesto regolare\",'3 - SPECIE DA IMPIANTARE'!$U93,0)","v":0},{"$f":"IF('3 - SPECIE DA IMPIANTARE'!$G93=\"Impianti a sesto regolare\",'3 - SPECIE DA IMPIANTARE'!$W93,0)","v":0},{"$f":"IF('3 - SPECIE DA IMPIANTARE'!$G93=\"Impianti a sesto regolare\",'3 - SPECIE DA IMPIANTARE'!$X93,0)","v":0}]
[{"$f":"IF('3 - SPECIE DA IMPIANTARE'!G94=\"Impianti in ordine sparso\",'3 - SPECIE DA IMPIANTARE'!H94,0)","v":0},{"$f":"IF('3 - SPECIE DA IMPIANTARE'!$G94=\"Impianti in ordine sparso\",'3 - SPECIE DA IMPIANTARE'!I94,0)","v":0},{"$f":"IF('3 - SPECIE DA IMPIANTARE'!$G94=\"Impianti in ordine sparso\",'3 - SPECIE DA IMPIANTARE'!K94,0)","v":0},{"$f":"IF('3 - SPECIE DA IMPIANTARE'!$G94=\"Impianti in ordine sparso\",'3 - SPECIE DA IMPIANTARE'!L94,0)","v":0},{"$f":"IF('3 - SPECIE DA IMPIANTARE'!$G94=\"Impianti in ordine sparso\",'3 - SPECIE DA IMPIANTARE'!N94,0)","v":0},{"$f":"IF('3 - SPECIE DA IMPIANTARE'!$G94=\"Impianti in ordine sparso\",'3 - SPECIE DA IMPIANTARE'!O94,0)","v":0},{"$f":"IF('3 - SPECIE DA IMPIANTARE'!$G94=\"Impianti in ordine sparso\",'3 - SPECIE DA IMPIANTARE'!Q94,0)","v":0},{"$f":"IF('3 - SPECIE DA IMPIANTARE'!$G94=\"Impianti in ordine sparso\",'3 - SPECIE DA IMPIANTARE'!R94,0)","v":0},{"$f":"IF('3 - SPECIE DA IMPIANTARE'!$G94=\"Impianti in ordine sparso\",'3 - SPECIE DA IMPIANTARE'!T94,0)","v":0},{"$f":"IF('3 - SPECIE DA IMPIANTARE'!$G94=\"Impianti in ordine sparso\",'3 - SPECIE DA IMPIANTARE'!U94,0)","v":0},{"$f":"IF('3 - SPECIE DA IMPIANTARE'!$G94=\"Impianti in ordine sparso\",'3 - SPECIE DA IMPIANTARE'!W94,0)","v":0},{"$f":"IF('3 - SPECIE DA IMPIANTARE'!$G94=\"Impianti in ordine sparso\",'3 - SPECIE DA IMPIANTARE'!X94,0)","v":0},{"$f":"IF('3 - SPECIE DA IMPIANTARE'!$G94=\"Piantagioni lineari\",'3 - SPECIE DA IMPIANTARE'!H94,0)","v":0},{"$f":"IF('3 - SPECIE DA IMPIANTARE'!$G94=\"Piantagioni lineari\",'3 - SPECIE DA IMPIANTARE'!I94,0)","v":0},{"$f":"IF('3 - SPECIE DA IMPIANTARE'!$G94=\"Piantagioni lineari\",'3 - SPECIE DA IMPIANTARE'!K94,0)","v":0},{"$f":"IF('3 - SPECIE DA IMPIANTARE'!$G94=\"Piantagioni lineari\",'3 - SPECIE DA IMPIANTARE'!L94,0)","v":0},{"$f":"IF('3 - SPECIE DA IMPIANTARE'!$G94=\"Piantagioni lineari\",'3 - SPECIE DA IMPIANTARE'!N94,0)","v":0},{"$f":"IF('3 - SPECIE DA IMPIANTARE'!$G94=\"Piantagioni lineari\",'3 - SPECIE DA IMPIANTARE'!O94,0)","v":0},{"$f":"IF('3 - SPECIE DA IMPIANTARE'!$G94=\"Piantagioni lineari\",'3 - SPECIE DA IMPIANTARE'!Q94,0)","v":0},{"$f":"IF('3 - SPECIE DA IMPIANTARE'!$G94=\"Piantagioni lineari\",'3 - SPECIE DA IMPIANTARE'!R94,0)","v":0},{"$f":"IF('3 - SPECIE DA IMPIANTARE'!$G94=\"Piantagioni lineari\",'3 - SPECIE DA IMPIANTARE'!T94,0)","v":0},{"$f":"IF('3 - SPECIE DA IMPIANTARE'!$G94=\"Piantagioni lineari\",'3 - SPECIE DA IMPIANTARE'!U94,0)","v":0},{"$f":"IF('3 - SPECIE DA IMPIANTARE'!$G94=\"Piantagioni lineari\",'3 - SPECIE DA IMPIANTARE'!W94,0)","v":0},{"$f":"IF('3 - SPECIE DA IMPIANTARE'!$G94=\"Piantagioni lineari\",'3 - SPECIE DA IMPIANTARE'!X94,0)","v":0},{"$f":"IF('3 - SPECIE DA IMPIANTARE'!$G94=\"Impianti a sesto regolare\",'3 - SPECIE DA IMPIANTARE'!$H94,0)","v":0},{"$f":"IF('3 - SPECIE DA IMPIANTARE'!$G94=\"Impianti a sesto regolare\",'3 - SPECIE DA IMPIANTARE'!$I94,0)","v":0},{"$f":"IF('3 - SPECIE DA IMPIANTARE'!$G94=\"Impianti a sesto regolare\",'3 - SPECIE DA IMPIANTARE'!$K94,0)","v":0},{"$f":"IF('3 - SPECIE DA IMPIANTARE'!$G94=\"Impianti a sesto regolare\",'3 - SPECIE DA IMPIANTARE'!$L94,0)","v":0},{"$f":"IF('3 - SPECIE DA IMPIANTARE'!$G94=\"Impianti a sesto regolare\",'3 - SPECIE DA IMPIANTARE'!$N94,0)","v":0},{"$f":"IF('3 - SPECIE DA IMPIANTARE'!$G94=\"Impianti a sesto regolare\",'3 - SPECIE DA IMPIANTARE'!$O94,0)","v":0},{"$f":"IF('3 - SPECIE DA IMPIANTARE'!$G94=\"Impianti a sesto regolare\",'3 - SPECIE DA IMPIANTARE'!$Q94,0)","v":0},{"$f":"IF('3 - SPECIE DA IMPIANTARE'!$G94=\"Impianti a sesto regolare\",'3 - SPECIE DA IMPIANTARE'!$R94,0)","v":0},{"$f":"IF('3 - SPECIE DA IMPIANTARE'!$G94=\"Impianti a sesto regolare\",'3 - SPECIE DA IMPIANTARE'!$T94,0)","v":0},{"$f":"IF('3 - SPECIE DA IMPIANTARE'!$G94=\"Impianti a sesto regolare\",'3 - SPECIE DA IMPIANTARE'!$U94,0)","v":0},{"$f":"IF('3 - SPECIE DA IMPIANTARE'!$G94=\"Impianti a sesto regolare\",'3 - SPECIE DA IMPIANTARE'!$W94,0)","v":0},{"$f":"IF('3 - SPECIE DA IMPIANTARE'!$G94=\"Impianti a sesto regolare\",'3 - SPECIE DA IMPIANTARE'!$X94,0)","v":0}]
[{"$f":"IF('3 - SPECIE DA IMPIANTARE'!G95=\"Impianti in ordine sparso\",'3 - SPECIE DA IMPIANTARE'!H95,0)","v":0},{"$f":"IF('3 - SPECIE DA IMPIANTARE'!$G95=\"Impianti in ordine sparso\",'3 - SPECIE DA IMPIANTARE'!I95,0)","v":0},{"$f":"IF('3 - SPECIE DA IMPIANTARE'!$G95=\"Impianti in ordine sparso\",'3 - SPECIE DA IMPIANTARE'!K95,0)","v":0},{"$f":"IF('3 - SPECIE DA IMPIANTARE'!$G95=\"Impianti in ordine sparso\",'3 - SPECIE DA IMPIANTARE'!L95,0)","v":0},{"$f":"IF('3 - SPECIE DA IMPIANTARE'!$G95=\"Impianti in ordine sparso\",'3 - SPECIE DA IMPIANTARE'!N95,0)","v":0},{"$f":"IF('3 - SPECIE DA IMPIANTARE'!$G95=\"Impianti in ordine sparso\",'3 - SPECIE DA IMPIANTARE'!O95,0)","v":0},{"$f":"IF('3 - SPECIE DA IMPIANTARE'!$G95=\"Impianti in ordine sparso\",'3 - SPECIE DA IMPIANTARE'!Q95,0)","v":0},{"$f":"IF('3 - SPECIE DA IMPIANTARE'!$G95=\"Impianti in ordine sparso\",'3 - SPECIE DA IMPIANTARE'!R95,0)","v":0},{"$f":"IF('3 - SPECIE DA IMPIANTARE'!$G95=\"Impianti in ordine sparso\",'3 - SPECIE DA IMPIANTARE'!T95,0)","v":0},{"$f":"IF('3 - SPECIE DA IMPIANTARE'!$G95=\"Impianti in ordine sparso\",'3 - SPECIE DA IMPIANTARE'!U95,0)","v":0},{"$f":"IF('3 - SPECIE DA IMPIANTARE'!$G95=\"Impianti in ordine sparso\",'3 - SPECIE DA IMPIANTARE'!W95,0)","v":0},{"$f":"IF('3 - SPECIE DA IMPIANTARE'!$G95=\"Impianti in ordine sparso\",'3 - SPECIE DA IMPIANTARE'!X95,0)","v":0},{"$f":"IF('3 - SPECIE DA IMPIANTARE'!$G95=\"Piantagioni lineari\",'3 - SPECIE DA IMPIANTARE'!H95,0)","v":0},{"$f":"IF('3 - SPECIE DA IMPIANTARE'!$G95=\"Piantagioni lineari\",'3 - SPECIE DA IMPIANTARE'!I95,0)","v":0},{"$f":"IF('3 - SPECIE DA IMPIANTARE'!$G95=\"Piantagioni lineari\",'3 - SPECIE DA IMPIANTARE'!K95,0)","v":0},{"$f":"IF('3 - SPECIE DA IMPIANTARE'!$G95=\"Piantagioni lineari\",'3 - SPECIE DA IMPIANTARE'!L95,0)","v":0},{"$f":"IF('3 - SPECIE DA IMPIANTARE'!$G95=\"Piantagioni lineari\",'3 - SPECIE DA IMPIANTARE'!N95,0)","v":0},{"$f":"IF('3 - SPECIE DA IMPIANTARE'!$G95=\"Piantagioni lineari\",'3 - SPECIE DA IMPIANTARE'!O95,0)","v":0},{"$f":"IF('3 - SPECIE DA IMPIANTARE'!$G95=\"Piantagioni lineari\",'3 - SPECIE DA IMPIANTARE'!Q95,0)","v":0},{"$f":"IF('3 - SPECIE DA IMPIANTARE'!$G95=\"Piantagioni lineari\",'3 - SPECIE DA IMPIANTARE'!R95,0)","v":0},{"$f":"IF('3 - SPECIE DA IMPIANTARE'!$G95=\"Piantagioni lineari\",'3 - SPECIE DA IMPIANTARE'!T95,0)","v":0},{"$f":"IF('3 - SPECIE DA IMPIANTARE'!$G95=\"Piantagioni lineari\",'3 - SPECIE DA IMPIANTARE'!U95,0)","v":0},{"$f":"IF('3 - SPECIE DA IMPIANTARE'!$G95=\"Piantagioni lineari\",'3 - SPECIE DA IMPIANTARE'!W95,0)","v":0},{"$f":"IF('3 - SPECIE DA IMPIANTARE'!$G95=\"Piantagioni lineari\",'3 - SPECIE DA IMPIANTARE'!X95,0)","v":0},{"$f":"IF('3 - SPECIE DA IMPIANTARE'!$G95=\"Impianti a sesto regolare\",'3 - SPECIE DA IMPIANTARE'!$H95,0)","v":0},{"$f":"IF('3 - SPECIE DA IMPIANTARE'!$G95=\"Impianti a sesto regolare\",'3 - SPECIE DA IMPIANTARE'!$I95,0)","v":0},{"$f":"IF('3 - SPECIE DA IMPIANTARE'!$G95=\"Impianti a sesto regolare\",'3 - SPECIE DA IMPIANTARE'!$K95,0)","v":0},{"$f":"IF('3 - SPECIE DA IMPIANTARE'!$G95=\"Impianti a sesto regolare\",'3 - SPECIE DA IMPIANTARE'!$L95,0)","v":0},{"$f":"IF('3 - SPECIE DA IMPIANTARE'!$G95=\"Impianti a sesto regolare\",'3 - SPECIE DA IMPIANTARE'!$N95,0)","v":0},{"$f":"IF('3 - SPECIE DA IMPIANTARE'!$G95=\"Impianti a sesto regolare\",'3 - SPECIE DA IMPIANTARE'!$O95,0)","v":0},{"$f":"IF('3 - SPECIE DA IMPIANTARE'!$G95=\"Impianti a sesto regolare\",'3 - SPECIE DA IMPIANTARE'!$Q95,0)","v":0},{"$f":"IF('3 - SPECIE DA IMPIANTARE'!$G95=\"Impianti a sesto regolare\",'3 - SPECIE DA IMPIANTARE'!$R95,0)","v":0},{"$f":"IF('3 - SPECIE DA IMPIANTARE'!$G95=\"Impianti a sesto regolare\",'3 - SPECIE DA IMPIANTARE'!$T95,0)","v":0},{"$f":"IF('3 - SPECIE DA IMPIANTARE'!$G95=\"Impianti a sesto regolare\",'3 - SPECIE DA IMPIANTARE'!$U95,0)","v":0},{"$f":"IF('3 - SPECIE DA IMPIANTARE'!$G95=\"Impianti a sesto regolare\",'3 - SPECIE DA IMPIANTARE'!$W95,0)","v":0},{"$f":"IF('3 - SPECIE DA IMPIANTARE'!$G95=\"Impianti a sesto regolare\",'3 - SPECIE DA IMPIANTARE'!$X95,0)","v":0}]
[{"$f":"IF('3 - SPECIE DA IMPIANTARE'!G96=\"Impianti in ordine sparso\",'3 - SPECIE DA IMPIANTARE'!H96,0)","v":0},{"$f":"IF('3 - SPECIE DA IMPIANTARE'!$G96=\"Impianti in ordine sparso\",'3 - SPECIE DA IMPIANTARE'!I96,0)","v":0},{"$f":"IF('3 - SPECIE DA IMPIANTARE'!$G96=\"Impianti in ordine sparso\",'3 - SPECIE DA IMPIANTARE'!K96,0)","v":0},{"$f":"IF('3 - SPECIE DA IMPIANTARE'!$G96=\"Impianti in ordine sparso\",'3 - SPECIE DA IMPIANTARE'!L96,0)","v":0},{"$f":"IF('3 - SPECIE DA IMPIANTARE'!$G96=\"Impianti in ordine sparso\",'3 - SPECIE DA IMPIANTARE'!N96,0)","v":0},{"$f":"IF('3 - SPECIE DA IMPIANTARE'!$G96=\"Impianti in ordine sparso\",'3 - SPECIE DA IMPIANTARE'!O96,0)","v":0},{"$f":"IF('3 - SPECIE DA IMPIANTARE'!$G96=\"Impianti in ordine sparso\",'3 - SPECIE DA IMPIANTARE'!Q96,0)","v":0},{"$f":"IF('3 - SPECIE DA IMPIANTARE'!$G96=\"Impianti in ordine sparso\",'3 - SPECIE DA IMPIANTARE'!R96,0)","v":0},{"$f":"IF('3 - SPECIE DA IMPIANTARE'!$G96=\"Impianti in ordine sparso\",'3 - SPECIE DA IMPIANTARE'!T96,0)","v":0},{"$f":"IF('3 - SPECIE DA IMPIANTARE'!$G96=\"Impianti in ordine sparso\",'3 - SPECIE DA IMPIANTARE'!U96,0)","v":0},{"$f":"IF('3 - SPECIE DA IMPIANTARE'!$G96=\"Impianti in ordine sparso\",'3 - SPECIE DA IMPIANTARE'!W96,0)","v":0},{"$f":"IF('3 - SPECIE DA IMPIANTARE'!$G96=\"Impianti in ordine sparso\",'3 - SPECIE DA IMPIANTARE'!X96,0)","v":0},{"$f":"IF('3 - SPECIE DA IMPIANTARE'!$G96=\"Piantagioni lineari\",'3 - SPECIE DA IMPIANTARE'!H96,0)","v":0},{"$f":"IF('3 - SPECIE DA IMPIANTARE'!$G96=\"Piantagioni lineari\",'3 - SPECIE DA IMPIANTARE'!I96,0)","v":0},{"$f":"IF('3 - SPECIE DA IMPIANTARE'!$G96=\"Piantagioni lineari\",'3 - SPECIE DA IMPIANTARE'!K96,0)","v":0},{"$f":"IF('3 - SPECIE DA IMPIANTARE'!$G96=\"Piantagioni lineari\",'3 - SPECIE DA IMPIANTARE'!L96,0)","v":0},{"$f":"IF('3 - SPECIE DA IMPIANTARE'!$G96=\"Piantagioni lineari\",'3 - SPECIE DA IMPIANTARE'!N96,0)","v":0},{"$f":"IF('3 - SPECIE DA IMPIANTARE'!$G96=\"Piantagioni lineari\",'3 - SPECIE DA IMPIANTARE'!O96,0)","v":0},{"$f":"IF('3 - SPECIE DA IMPIANTARE'!$G96=\"Piantagioni lineari\",'3 - SPECIE DA IMPIANTARE'!Q96,0)","v":0},{"$f":"IF('3 - SPECIE DA IMPIANTARE'!$G96=\"Piantagioni lineari\",'3 - SPECIE DA IMPIANTARE'!R96,0)","v":0},{"$f":"IF('3 - SPECIE DA IMPIANTARE'!$G96=\"Piantagioni lineari\",'3 - SPECIE DA IMPIANTARE'!T96,0)","v":0},{"$f":"IF('3 - SPECIE DA IMPIANTARE'!$G96=\"Piantagioni lineari\",'3 - SPECIE DA IMPIANTARE'!U96,0)","v":0},{"$f":"IF('3 - SPECIE DA IMPIANTARE'!$G96=\"Piantagioni lineari\",'3 - SPECIE DA IMPIANTARE'!W96,0)","v":0},{"$f":"IF('3 - SPECIE DA IMPIANTARE'!$G96=\"Piantagioni lineari\",'3 - SPECIE DA IMPIANTARE'!X96,0)","v":0},{"$f":"IF('3 - SPECIE DA IMPIANTARE'!$G96=\"Impianti a sesto regolare\",'3 - SPECIE DA IMPIANTARE'!$H96,0)","v":0},{"$f":"IF('3 - SPECIE DA IMPIANTARE'!$G96=\"Impianti a sesto regolare\",'3 - SPECIE DA IMPIANTARE'!$I96,0)","v":0},{"$f":"IF('3 - SPECIE DA IMPIANTARE'!$G96=\"Impianti a sesto regolare\",'3 - SPECIE DA IMPIANTARE'!$K96,0)","v":0},{"$f":"IF('3 - SPECIE DA IMPIANTARE'!$G96=\"Impianti a sesto regolare\",'3 - SPECIE DA IMPIANTARE'!$L96,0)","v":0},{"$f":"IF('3 - SPECIE DA IMPIANTARE'!$G96=\"Impianti a sesto regolare\",'3 - SPECIE DA IMPIANTARE'!$N96,0)","v":0},{"$f":"IF('3 - SPECIE DA IMPIANTARE'!$G96=\"Impianti a sesto regolare\",'3 - SPECIE DA IMPIANTARE'!$O96,0)","v":0},{"$f":"IF('3 - SPECIE DA IMPIANTARE'!$G96=\"Impianti a sesto regolare\",'3 - SPECIE DA IMPIANTARE'!$Q96,0)","v":0},{"$f":"IF('3 - SPECIE DA IMPIANTARE'!$G96=\"Impianti a sesto regolare\",'3 - SPECIE DA IMPIANTARE'!$R96,0)","v":0},{"$f":"IF('3 - SPECIE DA IMPIANTARE'!$G96=\"Impianti a sesto regolare\",'3 - SPECIE DA IMPIANTARE'!$T96,0)","v":0},{"$f":"IF('3 - SPECIE DA IMPIANTARE'!$G96=\"Impianti a sesto regolare\",'3 - SPECIE DA IMPIANTARE'!$U96,0)","v":0},{"$f":"IF('3 - SPECIE DA IMPIANTARE'!$G96=\"Impianti a sesto regolare\",'3 - SPECIE DA IMPIANTARE'!$W96,0)","v":0},{"$f":"IF('3 - SPECIE DA IMPIANTARE'!$G96=\"Impianti a sesto regolare\",'3 - SPECIE DA IMPIANTARE'!$X96,0)","v":0}]
[{"$f":"IF('3 - SPECIE DA IMPIANTARE'!G97=\"Impianti in ordine sparso\",'3 - SPECIE DA IMPIANTARE'!H97,0)","v":0},{"$f":"IF('3 - SPECIE DA IMPIANTARE'!$G97=\"Impianti in ordine sparso\",'3 - SPECIE DA IMPIANTARE'!I97,0)","v":0},{"$f":"IF('3 - SPECIE DA IMPIANTARE'!$G97=\"Impianti in ordine sparso\",'3 - SPECIE DA IMPIANTARE'!K97,0)","v":0},{"$f":"IF('3 - SPECIE DA IMPIANTARE'!$G97=\"Impianti in ordine sparso\",'3 - SPECIE DA IMPIANTARE'!L97,0)","v":0},{"$f":"IF('3 - SPECIE DA IMPIANTARE'!$G97=\"Impianti in ordine sparso\",'3 - SPECIE DA IMPIANTARE'!N97,0)","v":0},{"$f":"IF('3 - SPECIE DA IMPIANTARE'!$G97=\"Impianti in ordine sparso\",'3 - SPECIE DA IMPIANTARE'!O97,0)","v":0},{"$f":"IF('3 - SPECIE DA IMPIANTARE'!$G97=\"Impianti in ordine sparso\",'3 - SPECIE DA IMPIANTARE'!Q97,0)","v":0},{"$f":"IF('3 - SPECIE DA IMPIANTARE'!$G97=\"Impianti in ordine sparso\",'3 - SPECIE DA IMPIANTARE'!R97,0)","v":0},{"$f":"IF('3 - SPECIE DA IMPIANTARE'!$G97=\"Impianti in ordine sparso\",'3 - SPECIE DA IMPIANTARE'!T97,0)","v":0},{"$f":"IF('3 - SPECIE DA IMPIANTARE'!$G97=\"Impianti in ordine sparso\",'3 - SPECIE DA IMPIANTARE'!U97,0)","v":0},{"$f":"IF('3 - SPECIE DA IMPIANTARE'!$G97=\"Impianti in ordine sparso\",'3 - SPECIE DA IMPIANTARE'!W97,0)","v":0},{"$f":"IF('3 - SPECIE DA IMPIANTARE'!$G97=\"Impianti in ordine sparso\",'3 - SPECIE DA IMPIANTARE'!X97,0)","v":0},{"$f":"IF('3 - SPECIE DA IMPIANTARE'!$G97=\"Piantagioni lineari\",'3 - SPECIE DA IMPIANTARE'!H97,0)","v":0},{"$f":"IF('3 - SPECIE DA IMPIANTARE'!$G97=\"Piantagioni lineari\",'3 - SPECIE DA IMPIANTARE'!I97,0)","v":0},{"$f":"IF('3 - SPECIE DA IMPIANTARE'!$G97=\"Piantagioni lineari\",'3 - SPECIE DA IMPIANTARE'!K97,0)","v":0},{"$f":"IF('3 - SPECIE DA IMPIANTARE'!$G97=\"Piantagioni lineari\",'3 - SPECIE DA IMPIANTARE'!L97,0)","v":0},{"$f":"IF('3 - SPECIE DA IMPIANTARE'!$G97=\"Piantagioni lineari\",'3 - SPECIE DA IMPIANTARE'!N97,0)","v":0},{"$f":"IF('3 - SPECIE DA IMPIANTARE'!$G97=\"Piantagioni lineari\",'3 - SPECIE DA IMPIANTARE'!O97,0)","v":0},{"$f":"IF('3 - SPECIE DA IMPIANTARE'!$G97=\"Piantagioni lineari\",'3 - SPECIE DA IMPIANTARE'!Q97,0)","v":0},{"$f":"IF('3 - SPECIE DA IMPIANTARE'!$G97=\"Piantagioni lineari\",'3 - SPECIE DA IMPIANTARE'!R97,0)","v":0},{"$f":"IF('3 - SPECIE DA IMPIANTARE'!$G97=\"Piantagioni lineari\",'3 - SPECIE DA IMPIANTARE'!T97,0)","v":0},{"$f":"IF('3 - SPECIE DA IMPIANTARE'!$G97=\"Piantagioni lineari\",'3 - SPECIE DA IMPIANTARE'!U97,0)","v":0},{"$f":"IF('3 - SPECIE DA IMPIANTARE'!$G97=\"Piantagioni lineari\",'3 - SPECIE DA IMPIANTARE'!W97,0)","v":0},{"$f":"IF('3 - SPECIE DA IMPIANTARE'!$G97=\"Piantagioni lineari\",'3 - SPECIE DA IMPIANTARE'!X97,0)","v":0},{"$f":"IF('3 - SPECIE DA IMPIANTARE'!$G97=\"Impianti a sesto regolare\",'3 - SPECIE DA IMPIANTARE'!$H97,0)","v":0},{"$f":"IF('3 - SPECIE DA IMPIANTARE'!$G97=\"Impianti a sesto regolare\",'3 - SPECIE DA IMPIANTARE'!$I97,0)","v":0},{"$f":"IF('3 - SPECIE DA IMPIANTARE'!$G97=\"Impianti a sesto regolare\",'3 - SPECIE DA IMPIANTARE'!$K97,0)","v":0},{"$f":"IF('3 - SPECIE DA IMPIANTARE'!$G97=\"Impianti a sesto regolare\",'3 - SPECIE DA IMPIANTARE'!$L97,0)","v":0},{"$f":"IF('3 - SPECIE DA IMPIANTARE'!$G97=\"Impianti a sesto regolare\",'3 - SPECIE DA IMPIANTARE'!$N97,0)","v":0},{"$f":"IF('3 - SPECIE DA IMPIANTARE'!$G97=\"Impianti a sesto regolare\",'3 - SPECIE DA IMPIANTARE'!$O97,0)","v":0},{"$f":"IF('3 - SPECIE DA IMPIANTARE'!$G97=\"Impianti a sesto regolare\",'3 - SPECIE DA IMPIANTARE'!$Q97,0)","v":0},{"$f":"IF('3 - SPECIE DA IMPIANTARE'!$G97=\"Impianti a sesto regolare\",'3 - SPECIE DA IMPIANTARE'!$R97,0)","v":0},{"$f":"IF('3 - SPECIE DA IMPIANTARE'!$G97=\"Impianti a sesto regolare\",'3 - SPECIE DA IMPIANTARE'!$T97,0)","v":0},{"$f":"IF('3 - SPECIE DA IMPIANTARE'!$G97=\"Impianti a sesto regolare\",'3 - SPECIE DA IMPIANTARE'!$U97,0)","v":0},{"$f":"IF('3 - SPECIE DA IMPIANTARE'!$G97=\"Impianti a sesto regolare\",'3 - SPECIE DA IMPIANTARE'!$W97,0)","v":0},{"$f":"IF('3 - SPECIE DA IMPIANTARE'!$G97=\"Impianti a sesto regolare\",'3 - SPECIE DA IMPIANTARE'!$X97,0)","v":0}]
[{"$f":"IF('3 - SPECIE DA IMPIANTARE'!G98=\"Impianti in ordine sparso\",'3 - SPECIE DA IMPIANTARE'!H98,0)","v":0},{"$f":"IF('3 - SPECIE DA IMPIANTARE'!$G98=\"Impianti in ordine sparso\",'3 - SPECIE DA IMPIANTARE'!I98,0)","v":0},{"$f":"IF('3 - SPECIE DA IMPIANTARE'!$G98=\"Impianti in ordine sparso\",'3 - SPECIE DA IMPIANTARE'!K98,0)","v":0},{"$f":"IF('3 - SPECIE DA IMPIANTARE'!$G98=\"Impianti in ordine sparso\",'3 - SPECIE DA IMPIANTARE'!L98,0)","v":0},{"$f":"IF('3 - SPECIE DA IMPIANTARE'!$G98=\"Impianti in ordine sparso\",'3 - SPECIE DA IMPIANTARE'!N98,0)","v":0},{"$f":"IF('3 - SPECIE DA IMPIANTARE'!$G98=\"Impianti in ordine sparso\",'3 - SPECIE DA IMPIANTARE'!O98,0)","v":0},{"$f":"IF('3 - SPECIE DA IMPIANTARE'!$G98=\"Impianti in ordine sparso\",'3 - SPECIE DA IMPIANTARE'!Q98,0)","v":0},{"$f":"IF('3 - SPECIE DA IMPIANTARE'!$G98=\"Impianti in ordine sparso\",'3 - SPECIE DA IMPIANTARE'!R98,0)","v":0},{"$f":"IF('3 - SPECIE DA IMPIANTARE'!$G98=\"Impianti in ordine sparso\",'3 - SPECIE DA IMPIANTARE'!T98,0)","v":0},{"$f":"IF('3 - SPECIE DA IMPIANTARE'!$G98=\"Impianti in ordine sparso\",'3 - SPECIE DA IMPIANTARE'!U98,0)","v":0},{"$f":"IF('3 - SPECIE DA IMPIANTARE'!$G98=\"Impianti in ordine sparso\",'3 - SPECIE DA IMPIANTARE'!W98,0)","v":0},{"$f":"IF('3 - SPECIE DA IMPIANTARE'!$G98=\"Impianti in ordine sparso\",'3 - SPECIE DA IMPIANTARE'!X98,0)","v":0},{"$f":"IF('3 - SPECIE DA IMPIANTARE'!$G98=\"Piantagioni lineari\",'3 - SPECIE DA IMPIANTARE'!H98,0)","v":0},{"$f":"IF('3 - SPECIE DA IMPIANTARE'!$G98=\"Piantagioni lineari\",'3 - SPECIE DA IMPIANTARE'!I98,0)","v":0},{"$f":"IF('3 - SPECIE DA IMPIANTARE'!$G98=\"Piantagioni lineari\",'3 - SPECIE DA IMPIANTARE'!K98,0)","v":0},{"$f":"IF('3 - SPECIE DA IMPIANTARE'!$G98=\"Piantagioni lineari\",'3 - SPECIE DA IMPIANTARE'!L98,0)","v":0},{"$f":"IF('3 - SPECIE DA IMPIANTARE'!$G98=\"Piantagioni lineari\",'3 - SPECIE DA IMPIANTARE'!N98,0)","v":0},{"$f":"IF('3 - SPECIE DA IMPIANTARE'!$G98=\"Piantagioni lineari\",'3 - SPECIE DA IMPIANTARE'!O98,0)","v":0},{"$f":"IF('3 - SPECIE DA IMPIANTARE'!$G98=\"Piantagioni lineari\",'3 - SPECIE DA IMPIANTARE'!Q98,0)","v":0},{"$f":"IF('3 - SPECIE DA IMPIANTARE'!$G98=\"Piantagioni lineari\",'3 - SPECIE DA IMPIANTARE'!R98,0)","v":0},{"$f":"IF('3 - SPECIE DA IMPIANTARE'!$G98=\"Piantagioni lineari\",'3 - SPECIE DA IMPIANTARE'!T98,0)","v":0},{"$f":"IF('3 - SPECIE DA IMPIANTARE'!$G98=\"Piantagioni lineari\",'3 - SPECIE DA IMPIANTARE'!U98,0)","v":0},{"$f":"IF('3 - SPECIE DA IMPIANTARE'!$G98=\"Piantagioni lineari\",'3 - SPECIE DA IMPIANTARE'!W98,0)","v":0},{"$f":"IF('3 - SPECIE DA IMPIANTARE'!$G98=\"Piantagioni lineari\",'3 - SPECIE DA IMPIANTARE'!X98,0)","v":0},{"$f":"IF('3 - SPECIE DA IMPIANTARE'!$G98=\"Impianti a sesto regolare\",'3 - SPECIE DA IMPIANTARE'!$H98,0)","v":0},{"$f":"IF('3 - SPECIE DA IMPIANTARE'!$G98=\"Impianti a sesto regolare\",'3 - SPECIE DA IMPIANTARE'!$I98,0)","v":0},{"$f":"IF('3 - SPECIE DA IMPIANTARE'!$G98=\"Impianti a sesto regolare\",'3 - SPECIE DA IMPIANTARE'!$K98,0)","v":0},{"$f":"IF('3 - SPECIE DA IMPIANTARE'!$G98=\"Impianti a sesto regolare\",'3 - SPECIE DA IMPIANTARE'!$L98,0)","v":0},{"$f":"IF('3 - SPECIE DA IMPIANTARE'!$G98=\"Impianti a sesto regolare\",'3 - SPECIE DA IMPIANTARE'!$N98,0)","v":0},{"$f":"IF('3 - SPECIE DA IMPIANTARE'!$G98=\"Impianti a sesto regolare\",'3 - SPECIE DA IMPIANTARE'!$O98,0)","v":0},{"$f":"IF('3 - SPECIE DA IMPIANTARE'!$G98=\"Impianti a sesto regolare\",'3 - SPECIE DA IMPIANTARE'!$Q98,0)","v":0},{"$f":"IF('3 - SPECIE DA IMPIANTARE'!$G98=\"Impianti a sesto regolare\",'3 - SPECIE DA IMPIANTARE'!$R98,0)","v":0},{"$f":"IF('3 - SPECIE DA IMPIANTARE'!$G98=\"Impianti a sesto regolare\",'3 - SPECIE DA IMPIANTARE'!$T98,0)","v":0},{"$f":"IF('3 - SPECIE DA IMPIANTARE'!$G98=\"Impianti a sesto regolare\",'3 - SPECIE DA IMPIANTARE'!$U98,0)","v":0},{"$f":"IF('3 - SPECIE DA IMPIANTARE'!$G98=\"Impianti a sesto regolare\",'3 - SPECIE DA IMPIANTARE'!$W98,0)","v":0},{"$f":"IF('3 - SPECIE DA IMPIANTARE'!$G98=\"Impianti a sesto regolare\",'3 - SPECIE DA IMPIANTARE'!$X98,0)","v":0}]
[{"$f":"IF('3 - SPECIE DA IMPIANTARE'!G99=\"Impianti in ordine sparso\",'3 - SPECIE DA IMPIANTARE'!H99,0)","v":0},{"$f":"IF('3 - SPECIE DA IMPIANTARE'!$G99=\"Impianti in ordine sparso\",'3 - SPECIE DA IMPIANTARE'!I99,0)","v":0},{"$f":"IF('3 - SPECIE DA IMPIANTARE'!$G99=\"Impianti in ordine sparso\",'3 - SPECIE DA IMPIANTARE'!K99,0)","v":0},{"$f":"IF('3 - SPECIE DA IMPIANTARE'!$G99=\"Impianti in ordine sparso\",'3 - SPECIE DA IMPIANTARE'!L99,0)","v":0},{"$f":"IF('3 - SPECIE DA IMPIANTARE'!$G99=\"Impianti in ordine sparso\",'3 - SPECIE DA IMPIANTARE'!N99,0)","v":0},{"$f":"IF('3 - SPECIE DA IMPIANTARE'!$G99=\"Impianti in ordine sparso\",'3 - SPECIE DA IMPIANTARE'!O99,0)","v":0},{"$f":"IF('3 - SPECIE DA IMPIANTARE'!$G99=\"Impianti in ordine sparso\",'3 - SPECIE DA IMPIANTARE'!Q99,0)","v":0},{"$f":"IF('3 - SPECIE DA IMPIANTARE'!$G99=\"Impianti in ordine sparso\",'3 - SPECIE DA IMPIANTARE'!R99,0)","v":0},{"$f":"IF('3 - SPECIE DA IMPIANTARE'!$G99=\"Impianti in ordine sparso\",'3 - SPECIE DA IMPIANTARE'!T99,0)","v":0},{"$f":"IF('3 - SPECIE DA IMPIANTARE'!$G99=\"Impianti in ordine sparso\",'3 - SPECIE DA IMPIANTARE'!U99,0)","v":0},{"$f":"IF('3 - SPECIE DA IMPIANTARE'!$G99=\"Impianti in ordine sparso\",'3 - SPECIE DA IMPIANTARE'!W99,0)","v":0},{"$f":"IF('3 - SPECIE DA IMPIANTARE'!$G99=\"Impianti in ordine sparso\",'3 - SPECIE DA IMPIANTARE'!X99,0)","v":0},{"$f":"IF('3 - SPECIE DA IMPIANTARE'!$G99=\"Piantagioni lineari\",'3 - SPECIE DA IMPIANTARE'!H99,0)","v":0},{"$f":"IF('3 - SPECIE DA IMPIANTARE'!$G99=\"Piantagioni lineari\",'3 - SPECIE DA IMPIANTARE'!I99,0)","v":0},{"$f":"IF('3 - SPECIE DA IMPIANTARE'!$G99=\"Piantagioni lineari\",'3 - SPECIE DA IMPIANTARE'!K99,0)","v":0},{"$f":"IF('3 - SPECIE DA IMPIANTARE'!$G99=\"Piantagioni lineari\",'3 - SPECIE DA IMPIANTARE'!L99,0)","v":0},{"$f":"IF('3 - SPECIE DA IMPIANTARE'!$G99=\"Piantagioni lineari\",'3 - SPECIE DA IMPIANTARE'!N99,0)","v":0},{"$f":"IF('3 - SPECIE DA IMPIANTARE'!$G99=\"Piantagioni lineari\",'3 - SPECIE DA IMPIANTARE'!O99,0)","v":0},{"$f":"IF('3 - SPECIE DA IMPIANTARE'!$G99=\"Piantagioni lineari\",'3 - SPECIE DA IMPIANTARE'!Q99,0)","v":0},{"$f":"IF('3 - SPECIE DA IMPIANTARE'!$G99=\"Piantagioni lineari\",'3 - SPECIE DA IMPIANTARE'!R99,0)","v":0},{"$f":"IF('3 - SPECIE DA IMPIANTARE'!$G99=\"Piantagioni lineari\",'3 - SPECIE DA IMPIANTARE'!T99,0)","v":0},{"$f":"IF('3 - SPECIE DA IMPIANTARE'!$G99=\"Piantagioni lineari\",'3 - SPECIE DA IMPIANTARE'!U99,0)","v":0},{"$f":"IF('3 - SPECIE DA IMPIANTARE'!$G99=\"Piantagioni lineari\",'3 - SPECIE DA IMPIANTARE'!W99,0)","v":0},{"$f":"IF('3 - SPECIE DA IMPIANTARE'!$G99=\"Piantagioni lineari\",'3 - SPECIE DA IMPIANTARE'!X99,0)","v":0},{"$f":"IF('3 - SPECIE DA IMPIANTARE'!$G99=\"Impianti a sesto regolare\",'3 - SPECIE DA IMPIANTARE'!$H99,0)","v":0},{"$f":"IF('3 - SPECIE DA IMPIANTARE'!$G99=\"Impianti a sesto regolare\",'3 - SPECIE DA IMPIANTARE'!$I99,0)","v":0},{"$f":"IF('3 - SPECIE DA IMPIANTARE'!$G99=\"Impianti a sesto regolare\",'3 - SPECIE DA IMPIANTARE'!$K99,0)","v":0},{"$f":"IF('3 - SPECIE DA IMPIANTARE'!$G99=\"Impianti a sesto regolare\",'3 - SPECIE DA IMPIANTARE'!$L99,0)","v":0},{"$f":"IF('3 - SPECIE DA IMPIANTARE'!$G99=\"Impianti a sesto regolare\",'3 - SPECIE DA IMPIANTARE'!$N99,0)","v":0},{"$f":"IF('3 - SPECIE DA IMPIANTARE'!$G99=\"Impianti a sesto regolare\",'3 - SPECIE DA IMPIANTARE'!$O99,0)","v":0},{"$f":"IF('3 - SPECIE DA IMPIANTARE'!$G99=\"Impianti a sesto regolare\",'3 - SPECIE DA IMPIANTARE'!$Q99,0)","v":0},{"$f":"IF('3 - SPECIE DA IMPIANTARE'!$G99=\"Impianti a sesto regolare\",'3 - SPECIE DA IMPIANTARE'!$R99,0)","v":0},{"$f":"IF('3 - SPECIE DA IMPIANTARE'!$G99=\"Impianti a sesto regolare\",'3 - SPECIE DA IMPIANTARE'!$T99,0)","v":0},{"$f":"IF('3 - SPECIE DA IMPIANTARE'!$G99=\"Impianti a sesto regolare\",'3 - SPECIE DA IMPIANTARE'!$U99,0)","v":0},{"$f":"IF('3 - SPECIE DA IMPIANTARE'!$G99=\"Impianti a sesto regolare\",'3 - SPECIE DA IMPIANTARE'!$W99,0)","v":0},{"$f":"IF('3 - SPECIE DA IMPIANTARE'!$G99=\"Impianti a sesto regolare\",'3 - SPECIE DA IMPIANTARE'!$X99,0)","v":0}]
[{"$f":"IF('3 - SPECIE DA IMPIANTARE'!G100=\"Impianti in ordine sparso\",'3 - SPECIE DA IMPIANTARE'!H100,0)","v":0},{"$f":"IF('3 - SPECIE DA IMPIANTARE'!$G100=\"Impianti in ordine sparso\",'3 - SPECIE DA IMPIANTARE'!I100,0)","v":0},{"$f":"IF('3 - SPECIE DA IMPIANTARE'!$G100=\"Impianti in ordine sparso\",'3 - SPECIE DA IMPIANTARE'!K100,0)","v":0},{"$f":"IF('3 - SPECIE DA IMPIANTARE'!$G100=\"Impianti in ordine sparso\",'3 - SPECIE DA IMPIANTARE'!L100,0)","v":0},{"$f":"IF('3 - SPECIE DA IMPIANTARE'!$G100=\"Impianti in ordine sparso\",'3 - SPECIE DA IMPIANTARE'!N100,0)","v":0},{"$f":"IF('3 - SPECIE DA IMPIANTARE'!$G100=\"Impianti in ordine sparso\",'3 - SPECIE DA IMPIANTARE'!O100,0)","v":0},{"$f":"IF('3 - SPECIE DA IMPIANTARE'!$G100=\"Impianti in ordine sparso\",'3 - SPECIE DA IMPIANTARE'!Q100,0)","v":0},{"$f":"IF('3 - SPECIE DA IMPIANTARE'!$G100=\"Impianti in ordine sparso\",'3 - SPECIE DA IMPIANTARE'!R100,0)","v":0},{"$f":"IF('3 - SPECIE DA IMPIANTARE'!$G100=\"Impianti in ordine sparso\",'3 - SPECIE DA IMPIANTARE'!T100,0)","v":0},{"$f":"IF('3 - SPECIE DA IMPIANTARE'!$G100=\"Impianti in ordine sparso\",'3 - SPECIE DA IMPIANTARE'!U100,0)","v":0},{"$f":"IF('3 - SPECIE DA IMPIANTARE'!$G100=\"Impianti in ordine sparso\",'3 - SPECIE DA IMPIANTARE'!W100,0)","v":0},{"$f":"IF('3 - SPECIE DA IMPIANTARE'!$G100=\"Impianti in ordine sparso\",'3 - SPECIE DA IMPIANTARE'!X100,0)","v":0},{"$f":"IF('3 - SPECIE DA IMPIANTARE'!$G100=\"Piantagioni lineari\",'3 - SPECIE DA IMPIANTARE'!H100,0)","v":0},{"$f":"IF('3 - SPECIE DA IMPIANTARE'!$G100=\"Piantagioni lineari\",'3 - SPECIE DA IMPIANTARE'!I100,0)","v":0},{"$f":"IF('3 - SPECIE DA IMPIANTARE'!$G100=\"Piantagioni lineari\",'3 - SPECIE DA IMPIANTARE'!K100,0)","v":0},{"$f":"IF('3 - SPECIE DA IMPIANTARE'!$G100=\"Piantagioni lineari\",'3 - SPECIE DA IMPIANTARE'!L100,0)","v":0},{"$f":"IF('3 - SPECIE DA IMPIANTARE'!$G100=\"Piantagioni lineari\",'3 - SPECIE DA IMPIANTARE'!N100,0)","v":0},{"$f":"IF('3 - SPECIE DA IMPIANTARE'!$G100=\"Piantagioni lineari\",'3 - SPECIE DA IMPIANTARE'!O100,0)","v":0},{"$f":"IF('3 - SPECIE DA IMPIANTARE'!$G100=\"Piantagioni lineari\",'3 - SPECIE DA IMPIANTARE'!Q100,0)","v":0},{"$f":"IF('3 - SPECIE DA IMPIANTARE'!$G100=\"Piantagioni lineari\",'3 - SPECIE DA IMPIANTARE'!R100,0)","v":0},{"$f":"IF('3 - SPECIE DA IMPIANTARE'!$G100=\"Piantagioni lineari\",'3 - SPECIE DA IMPIANTARE'!T100,0)","v":0},{"$f":"IF('3 - SPECIE DA IMPIANTARE'!$G100=\"Piantagioni lineari\",'3 - SPECIE DA IMPIANTARE'!U100,0)","v":0},{"$f":"IF('3 - SPECIE DA IMPIANTARE'!$G100=\"Piantagioni lineari\",'3 - SPECIE DA IMPIANTARE'!W100,0)","v":0},{"$f":"IF('3 - SPECIE DA IMPIANTARE'!$G100=\"Piantagioni lineari\",'3 - SPECIE DA IMPIANTARE'!X100,0)","v":0},{"$f":"IF('3 - SPECIE DA IMPIANTARE'!$G100=\"Impianti a sesto regolare\",'3 - SPECIE DA IMPIANTARE'!$H100,0)","v":0},{"$f":"IF('3 - SPECIE DA IMPIANTARE'!$G100=\"Impianti a sesto regolare\",'3 - SPECIE DA IMPIANTARE'!$I100,0)","v":0},{"$f":"IF('3 - SPECIE DA IMPIANTARE'!$G100=\"Impianti a sesto regolare\",'3 - SPECIE DA IMPIANTARE'!$K100,0)","v":0},{"$f":"IF('3 - SPECIE DA IMPIANTARE'!$G100=\"Impianti a sesto regolare\",'3 - SPECIE DA IMPIANTARE'!$L100,0)","v":0},{"$f":"IF('3 - SPECIE DA IMPIANTARE'!$G100=\"Impianti a sesto regolare\",'3 - SPECIE DA IMPIANTARE'!$N100,0)","v":0},{"$f":"IF('3 - SPECIE DA IMPIANTARE'!$G100=\"Impianti a sesto regolare\",'3 - SPECIE DA IMPIANTARE'!$O100,0)","v":0},{"$f":"IF('3 - SPECIE DA IMPIANTARE'!$G100=\"Impianti a sesto regolare\",'3 - SPECIE DA IMPIANTARE'!$Q100,0)","v":0},{"$f":"IF('3 - SPECIE DA IMPIANTARE'!$G100=\"Impianti a sesto regolare\",'3 - SPECIE DA IMPIANTARE'!$R100,0)","v":0},{"$f":"IF('3 - SPECIE DA IMPIANTARE'!$G100=\"Impianti a sesto regolare\",'3 - SPECIE DA IMPIANTARE'!$T100,0)","v":0},{"$f":"IF('3 - SPECIE DA IMPIANTARE'!$G100=\"Impianti a sesto regolare\",'3 - SPECIE DA IMPIANTARE'!$U100,0)","v":0},{"$f":"IF('3 - SPECIE DA IMPIANTARE'!$G100=\"Impianti a sesto regolare\",'3 - SPECIE DA IMPIANTARE'!$W100,0)","v":0},{"$f":"IF('3 - SPECIE DA IMPIANTARE'!$G100=\"Impianti a sesto regolare\",'3 - SPECIE DA IMPIANTARE'!$X100,0)","v":0}]
[{"$f":"IF('3 - SPECIE DA IMPIANTARE'!G101=\"Impianti in ordine sparso\",'3 - SPECIE DA IMPIANTARE'!H101,0)","v":0},{"$f":"IF('3 - SPECIE DA IMPIANTARE'!$G101=\"Impianti in ordine sparso\",'3 - SPECIE DA IMPIANTARE'!I101,0)","v":0},{"$f":"IF('3 - SPECIE DA IMPIANTARE'!$G101=\"Impianti in ordine sparso\",'3 - SPECIE DA IMPIANTARE'!K101,0)","v":0},{"$f":"IF('3 - SPECIE DA IMPIANTARE'!$G101=\"Impianti in ordine sparso\",'3 - SPECIE DA IMPIANTARE'!L101,0)","v":0},{"$f":"IF('3 - SPECIE DA IMPIANTARE'!$G101=\"Impianti in ordine sparso\",'3 - SPECIE DA IMPIANTARE'!N101,0)","v":0},{"$f":"IF('3 - SPECIE DA IMPIANTARE'!$G101=\"Impianti in ordine sparso\",'3 - SPECIE DA IMPIANTARE'!O101,0)","v":0},{"$f":"IF('3 - SPECIE DA IMPIANTARE'!$G101=\"Impianti in ordine sparso\",'3 - SPECIE DA IMPIANTARE'!Q101,0)","v":0},{"$f":"IF('3 - SPECIE DA IMPIANTARE'!$G101=\"Impianti in ordine sparso\",'3 - SPECIE DA IMPIANTARE'!R101,0)","v":0},{"$f":"IF('3 - SPECIE DA IMPIANTARE'!$G101=\"Impianti in ordine sparso\",'3 - SPECIE DA IMPIANTARE'!T101,0)","v":0},{"$f":"IF('3 - SPECIE DA IMPIANTARE'!$G101=\"Impianti in ordine sparso\",'3 - SPECIE DA IMPIANTARE'!U101,0)","v":0},{"$f":"IF('3 - SPECIE DA IMPIANTARE'!$G101=\"Impianti in ordine sparso\",'3 - SPECIE DA IMPIANTARE'!W101,0)","v":0},{"$f":"IF('3 - SPECIE DA IMPIANTARE'!$G101=\"Impianti in ordine sparso\",'3 - SPECIE DA IMPIANTARE'!X101,0)","v":0},{"$f":"IF('3 - SPECIE DA IMPIANTARE'!$G101=\"Piantagioni lineari\",'3 - SPECIE DA IMPIANTARE'!H101,0)","v":0},{"$f":"IF('3 - SPECIE DA IMPIANTARE'!$G101=\"Piantagioni lineari\",'3 - SPECIE DA IMPIANTARE'!I101,0)","v":0},{"$f":"IF('3 - SPECIE DA IMPIANTARE'!$G101=\"Piantagioni lineari\",'3 - SPECIE DA IMPIANTARE'!K101,0)","v":0},{"$f":"IF('3 - SPECIE DA IMPIANTARE'!$G101=\"Piantagioni lineari\",'3 - SPECIE DA IMPIANTARE'!L101,0)","v":0},{"$f":"IF('3 - SPECIE DA IMPIANTARE'!$G101=\"Piantagioni lineari\",'3 - SPECIE DA IMPIANTARE'!N101,0)","v":0},{"$f":"IF('3 - SPECIE DA IMPIANTARE'!$G101=\"Piantagioni lineari\",'3 - SPECIE DA IMPIANTARE'!O101,0)","v":0},{"$f":"IF('3 - SPECIE DA IMPIANTARE'!$G101=\"Piantagioni lineari\",'3 - SPECIE DA IMPIANTARE'!Q101,0)","v":0},{"$f":"IF('3 - SPECIE DA IMPIANTARE'!$G101=\"Piantagioni lineari\",'3 - SPECIE DA IMPIANTARE'!R101,0)","v":0},{"$f":"IF('3 - SPECIE DA IMPIANTARE'!$G101=\"Piantagioni lineari\",'3 - SPECIE DA IMPIANTARE'!T101,0)","v":0},{"$f":"IF('3 - SPECIE DA IMPIANTARE'!$G101=\"Piantagioni lineari\",'3 - SPECIE DA IMPIANTARE'!U101,0)","v":0},{"$f":"IF('3 - SPECIE DA IMPIANTARE'!$G101=\"Piantagioni lineari\",'3 - SPECIE DA IMPIANTARE'!W101,0)","v":0},{"$f":"IF('3 - SPECIE DA IMPIANTARE'!$G101=\"Piantagioni lineari\",'3 - SPECIE DA IMPIANTARE'!X101,0)","v":0},{"$f":"IF('3 - SPECIE DA IMPIANTARE'!$G101=\"Impianti a sesto regolare\",'3 - SPECIE DA IMPIANTARE'!$H101,0)","v":0},{"$f":"IF('3 - SPECIE DA IMPIANTARE'!$G101=\"Impianti a sesto regolare\",'3 - SPECIE DA IMPIANTARE'!$I101,0)","v":0},{"$f":"IF('3 - SPECIE DA IMPIANTARE'!$G101=\"Impianti a sesto regolare\",'3 - SPECIE DA IMPIANTARE'!$K101,0)","v":0},{"$f":"IF('3 - SPECIE DA IMPIANTARE'!$G101=\"Impianti a sesto regolare\",'3 - SPECIE DA IMPIANTARE'!$L101,0)","v":0},{"$f":"IF('3 - SPECIE DA IMPIANTARE'!$G101=\"Impianti a sesto regolare\",'3 - SPECIE DA IMPIANTARE'!$N101,0)","v":0},{"$f":"IF('3 - SPECIE DA IMPIANTARE'!$G101=\"Impianti a sesto regolare\",'3 - SPECIE DA IMPIANTARE'!$O101,0)","v":0},{"$f":"IF('3 - SPECIE DA IMPIANTARE'!$G101=\"Impianti a sesto regolare\",'3 - SPECIE DA IMPIANTARE'!$Q101,0)","v":0},{"$f":"IF('3 - SPECIE DA IMPIANTARE'!$G101=\"Impianti a sesto regolare\",'3 - SPECIE DA IMPIANTARE'!$R101,0)","v":0},{"$f":"IF('3 - SPECIE DA IMPIANTARE'!$G101=\"Impianti a sesto regolare\",'3 - SPECIE DA IMPIANTARE'!$T101,0)","v":0},{"$f":"IF('3 - SPECIE DA IMPIANTARE'!$G101=\"Impianti a sesto regolare\",'3 - SPECIE DA IMPIANTARE'!$U101,0)","v":0},{"$f":"IF('3 - SPECIE DA IMPIANTARE'!$G101=\"Impianti a sesto regolare\",'3 - SPECIE DA IMPIANTARE'!$W101,0)","v":0},{"$f":"IF('3 - SPECIE DA IMPIANTARE'!$G101=\"Impianti a sesto regolare\",'3 - SPECIE DA IMPIANTARE'!$X101,0)","v":0}]
[{"$f":"IF('3 - SPECIE DA IMPIANTARE'!G102=\"Impianti in ordine sparso\",'3 - SPECIE DA IMPIANTARE'!H102,0)","v":0},{"$f":"IF('3 - SPECIE DA IMPIANTARE'!$G102=\"Impianti in ordine sparso\",'3 - SPECIE DA IMPIANTARE'!I102,0)","v":0},{"$f":"IF('3 - SPECIE DA IMPIANTARE'!$G102=\"Impianti in ordine sparso\",'3 - SPECIE DA IMPIANTARE'!K102,0)","v":0},{"$f":"IF('3 - SPECIE DA IMPIANTARE'!$G102=\"Impianti in ordine sparso\",'3 - SPECIE DA IMPIANTARE'!L102,0)","v":0},{"$f":"IF('3 - SPECIE DA IMPIANTARE'!$G102=\"Impianti in ordine sparso\",'3 - SPECIE DA IMPIANTARE'!N102,0)","v":0},{"$f":"IF('3 - SPECIE DA IMPIANTARE'!$G102=\"Impianti in ordine sparso\",'3 - SPECIE DA IMPIANTARE'!O102,0)","v":0},{"$f":"IF('3 - SPECIE DA IMPIANTARE'!$G102=\"Impianti in ordine sparso\",'3 - SPECIE DA IMPIANTARE'!Q102,0)","v":0},{"$f":"IF('3 - SPECIE DA IMPIANTARE'!$G102=\"Impianti in ordine sparso\",'3 - SPECIE DA IMPIANTARE'!R102,0)","v":0},{"$f":"IF('3 - SPECIE DA IMPIANTARE'!$G102=\"Impianti in ordine sparso\",'3 - SPECIE DA IMPIANTARE'!T102,0)","v":0},{"$f":"IF('3 - SPECIE DA IMPIANTARE'!$G102=\"Impianti in ordine sparso\",'3 - SPECIE DA IMPIANTARE'!U102,0)","v":0},{"$f":"IF('3 - SPECIE DA IMPIANTARE'!$G102=\"Impianti in ordine sparso\",'3 - SPECIE DA IMPIANTARE'!W102,0)","v":0},{"$f":"IF('3 - SPECIE DA IMPIANTARE'!$G102=\"Impianti in ordine sparso\",'3 - SPECIE DA IMPIANTARE'!X102,0)","v":0},{"$f":"IF('3 - SPECIE DA IMPIANTARE'!$G102=\"Piantagioni lineari\",'3 - SPECIE DA IMPIANTARE'!H102,0)","v":0},{"$f":"IF('3 - SPECIE DA IMPIANTARE'!$G102=\"Piantagioni lineari\",'3 - SPECIE DA IMPIANTARE'!I102,0)","v":0},{"$f":"IF('3 - SPECIE DA IMPIANTARE'!$G102=\"Piantagioni lineari\",'3 - SPECIE DA IMPIANTARE'!K102,0)","v":0},{"$f":"IF('3 - SPECIE DA IMPIANTARE'!$G102=\"Piantagioni lineari\",'3 - SPECIE DA IMPIANTARE'!L102,0)","v":0},{"$f":"IF('3 - SPECIE DA IMPIANTARE'!$G102=\"Piantagioni lineari\",'3 - SPECIE DA IMPIANTARE'!N102,0)","v":0},{"$f":"IF('3 - SPECIE DA IMPIANTARE'!$G102=\"Piantagioni lineari\",'3 - SPECIE DA IMPIANTARE'!O102,0)","v":0},{"$f":"IF('3 - SPECIE DA IMPIANTARE'!$G102=\"Piantagioni lineari\",'3 - SPECIE DA IMPIANTARE'!Q102,0)","v":0},{"$f":"IF('3 - SPECIE DA IMPIANTARE'!$G102=\"Piantagioni lineari\",'3 - SPECIE DA IMPIANTARE'!R102,0)","v":0},{"$f":"IF('3 - SPECIE DA IMPIANTARE'!$G102=\"Piantagioni lineari\",'3 - SPECIE DA IMPIANTARE'!T102,0)","v":0},{"$f":"IF('3 - SPECIE DA IMPIANTARE'!$G102=\"Piantagioni lineari\",'3 - SPECIE DA IMPIANTARE'!U102,0)","v":0},{"$f":"IF('3 - SPECIE DA IMPIANTARE'!$G102=\"Piantagioni lineari\",'3 - SPECIE DA IMPIANTARE'!W102,0)","v":0},{"$f":"IF('3 - SPECIE DA IMPIANTARE'!$G102=\"Piantagioni lineari\",'3 - SPECIE DA IMPIANTARE'!X102,0)","v":0},{"$f":"IF('3 - SPECIE DA IMPIANTARE'!$G102=\"Impianti a sesto regolare\",'3 - SPECIE DA IMPIANTARE'!$H102,0)","v":0},{"$f":"IF('3 - SPECIE DA IMPIANTARE'!$G102=\"Impianti a sesto regolare\",'3 - SPECIE DA IMPIANTARE'!$I102,0)","v":0},{"$f":"IF('3 - SPECIE DA IMPIANTARE'!$G102=\"Impianti a sesto regolare\",'3 - SPECIE DA IMPIANTARE'!$K102,0)","v":0},{"$f":"IF('3 - SPECIE DA IMPIANTARE'!$G102=\"Impianti a sesto regolare\",'3 - SPECIE DA IMPIANTARE'!$L102,0)","v":0},{"$f":"IF('3 - SPECIE DA IMPIANTARE'!$G102=\"Impianti a sesto regolare\",'3 - SPECIE DA IMPIANTARE'!$N102,0)","v":0},{"$f":"IF('3 - SPECIE DA IMPIANTARE'!$G102=\"Impianti a sesto regolare\",'3 - SPECIE DA IMPIANTARE'!$O102,0)","v":0},{"$f":"IF('3 - SPECIE DA IMPIANTARE'!$G102=\"Impianti a sesto regolare\",'3 - SPECIE DA IMPIANTARE'!$Q102,0)","v":0},{"$f":"IF('3 - SPECIE DA IMPIANTARE'!$G102=\"Impianti a sesto regolare\",'3 - SPECIE DA IMPIANTARE'!$R102,0)","v":0},{"$f":"IF('3 - SPECIE DA IMPIANTARE'!$G102=\"Impianti a sesto regolare\",'3 - SPECIE DA IMPIANTARE'!$T102,0)","v":0},{"$f":"IF('3 - SPECIE DA IMPIANTARE'!$G102=\"Impianti a sesto regolare\",'3 - SPECIE DA IMPIANTARE'!$U102,0)","v":0},{"$f":"IF('3 - SPECIE DA IMPIANTARE'!$G102=\"Impianti a sesto regolare\",'3 - SPECIE DA IMPIANTARE'!$W102,0)","v":0},{"$f":"IF('3 - SPECIE DA IMPIANTARE'!$G102=\"Impianti a sesto regolare\",'3 - SPECIE DA IMPIANTARE'!$X102,0)","v":0}]

{"sheet":"controlli legno di pregio","index":12,"n_rows":17,"n_cols":24,"rows_kept":17,"cut":false,"hidden":true,"merged":[[0,16,1,16],[0,1,0,7],[0,9,0,15],[0,17,0,23],[0,0,1,0],[0,8,1,8]]}
["SPECIE8.2","imp. Sparso",null,null,null,null,null,null,"SPECIE8.2"," Piantagioni lineari",null,null,null,null,null,null,"SPECIE8.2","imp. Regolare"]
[null,"specie 1","specie 2","specie 3","specie 4","specie 5","TOTALE","ALTRE",null,"specie 1","specie 2","specie 3","specie 4","specie 5","TOTALE","ALTRE",null,"specie 1","specie 2","specie 3","specie 4","specie 5","TOTALE","ALTRE"]
["Acero montano",{"$f":"SUMIF('riepilogo per operazione'!A$2:A$101,'controlli legno di pregio'!$A$3:$A$16,'riepilogo per operazione'!B$2:B$101)","v":0},{"$f":"SUMIF('riepilogo per operazione'!C$2:C$101,'controlli legno di pregio'!$A$3:$A$16,'riepilogo per operazione'!D$2:D$101)","v":0},{"$f":"SUMIF('riepilogo per operazione'!E$2:E$101,'controlli legno di pregio'!$A$3:$A$16,'riepilogo per operazione'!F$2:F$101)","v":0},{"$f":"SUMIF('riepilogo per operazione'!G$2:G$101,'controlli legno di pregio'!$A$3:$A$16,'riepilogo per operazione'!H$2:H$101)","v":0},{"$f":"SUMIF('riepilogo per operazione'!I$2:I$101,'controlli legno di pregio'!$A$3:$A$16,'riepilogo per operazione'!J$2:J$101)","v":0},{"$f":"SUM(B3:F3)","v":0},{"$f":"SUMIF('riepilogo per operazione'!K$2:K$101,'controlli legno di pregio'!$A$3:$A$16,'riepilogo per operazione'!L$2:L$101)","v":0},"Acero montano",{"$f":"SUMIF('riepilogo per operazione'!M$2:M$101,'controlli legno di pregio'!$A$3:$A$16,'riepilogo per operazione'!N$2:N$101)","v":0},{"$f":"SUMIF('riepilogo per operazione'!O$2:O$101,'controlli legno di pregio'!$A$3:$A$16,'riepilogo per operazione'!P$2:P$101)","v":0},{"$f":"SUMIF('riepilogo per operazione'!Q$2:Q$101,'controlli legno di pregio'!$A$3:$A$16,'riepilogo per operazione'!R$2:R$101)","v":0},{"$f":"SUMIF('riepilogo per operazione'!S$2:S$101,'controlli legno di pregio'!$A$3:$A$16,'riepilogo per operazione'!T$2:T$101)","v":0},{"$f":"SUMIF('riepilogo per operazione'!U$2:U$101,'controlli legno di pregio'!$A$3:$A$16,'riepilogo per operazione'!V$2:V$101)","v":0},{"$f":"SUM(J3:N3)","v":0},{"$f":"SUMIF('riepilogo per operazione'!W$2:W$101,'controlli legno di pregio'!$A$3:$A$16,'riepilogo per operazione'!X$2:X$101)","v":0},"Acero montano",{"$f":"SUMIF('riepilogo per operazione'!Y$2:Y$101,'controlli legno di pregio'!$A$3:$A$16,'riepilogo per operazione'!Z$2:Z$101)","v":0},{"$f":"SUMIF('riepilogo per operazione'!AA$2:AA$101,'controlli legno di pregio'!$A$3:$A$16,'riepilogo per operazione'!AB$2:AB$101)","v":0},{"$f":"SUMIF('riepilogo per operazione'!AC$2:AC$101,'controlli legno di pregio'!$A$3:$A$16,'riepilogo per operazione'!AD$2:AD$101)","v":0},{"$f":"SUMIF('riepilogo per operazione'!AE$2:AE$101,'controlli legno di pregio'!$A$3:$A$16,'riepilogo per operazione'!AF$2:AF$101)","v":0},{"$f":"SUMIF('riepilogo per operazione'!AG$2:AG$101,'controlli legno di pregio'!$A$3:$A$16,'riepilogo per operazione'!AH$2:AH$101)","v":0},{"$f":"SUM(R3:V3)","v":0},{"$f":"SUMIF('riepilogo per operazione'!AI$2:AI$101,'controlli legno di pregio'!$A$3:$A$16,'riepilogo per operazione'!AJ$2:AJ$101)","v":0}]
["Castagno",{"$f":"SUMIF('riepilogo per operazione'!A$2:A$101,'controlli legno di pregio'!$A$3:$A$16,'riepilogo per operazione'!B$2:B$101)","v":0},{"$f":"SUMIF('riepilogo per operazione'!C$2:C$101,'controlli legno di pregio'!$A$3:$A$16,'riepilogo per operazione'!D$2:D$101)","v":0},{"$f":"SUMIF('riepilogo per operazione'!E$2:E$101,'controlli legno di pregio'!$A$3:$A$16,'riepilogo per operazione'!F$2:F$101)","v":0},{"$f":"SUMIF('riepilogo per operazione'!G$2:G$101,'controlli legno di pregio'!$A$3:$A$16,'riepilogo per operazione'!H$2:H$101)","v":0},{"$f":"SUMIF('riepilogo per operazione'!I$2:I$101,'controlli legno di pregio'!$A$3:$A$16,'riepilogo per operazione'!J$2:J$101)","v":0},{"$f":"SUM(B4:F4)","v":0},{"$f":"SUMIF('riepilogo per operazione'!K$2:K$101,'controlli legno di pregio'!$A$3:$A$16,'riepilogo per operazione'!L$2:L$101)","v":0},"Castagno",{"$f":"SUMIF('riepilogo per operazione'!M$2:M$101,'controlli legno di pregio'!$A$3:$A$16,'riepilogo per operazione'!N$2:N$101)","v":0},{"$f":"SUMIF('riepilogo per operazione'!O$2:O$101,'controlli legno di pregio'!$A$3:$A$16,'riepilogo per operazione'!P$2:P$101)","v":0},{"$f":"SUMIF('riepilogo per operazione'!Q$2:Q$101,'controlli legno di pregio'!$A$3:$A$16,'riepilogo per operazione'!R$2:R$101)","v":0},{"$f":"SUMIF('riepilogo per operazione'!S$2:S$101,'controlli legno di pregio'!$A$3:$A$16,'riepilogo per operazione'!T$2:T$101)","v":0},{"$f":"SUMIF('riepilogo per operazione'!U$2:U$101,'controlli legno di pregio'!$A$3:$A$16,'riepilogo per operazione'!V$2:V$101)","v":0},{"$f":"SUM(J4:N4)","v":0},{"$f":"SUMIF('riepilogo per operazione'!W$2:W$101,'controlli legno di pregio'!$A$3:$A$16,'riepilogo per operazione'!X$2:X$101)","v":0},"Castagno",{"$f":"SUMIF('riepilogo per operazione'!Y$2:Y$101,'controlli legno di pregio'!$A$3:$A$16,'riepilogo per operazione'!Z$2:Z$101)","v":0},{"$f":"SUMIF('riepilogo per operazione'!AA$2:AA$101,'controlli legno di pregio'!$A$3:$A$16,'riepilogo per operazione'!AB$2:AB$101)","v":0},{"$f":"SUMIF('riepilogo per operazione'!AC$2:AC$101,'controlli legno di pregio'!$A$3:$A$16,'riepilogo per operazione'!AD$2:AD$101)","v":0},{"$f":"SUMIF('riepilogo per operazione'!AE$2:AE$101,'controlli legno di pregio'!$A$3:$A$16,'riepilogo per operazione'!AF$2:AF$101)","v":0},{"$f":"SUMIF('riepilogo per operazione'!AG$2:AG$101,'controlli legno di pregio'!$A$3:$A$16,'riepilogo per operazione'!AH$2:AH$101)","v":0},{"$f":"SUM(R4:V4)","v":0},{"$f":"SUMIF('riepilogo per operazione'!AI$2:AI$101,'controlli legno di pregio'!$A$3:$A$16,'riepilogo per operazione'!AJ$2:AJ$101)","v":0}]
["Ciliegio",{"$f":"SUMIF('riepilogo per operazione'!A$2:A$101,'controlli legno di pregio'!$A$3:$A$16,'riepilogo per operazione'!B$2:B$101)","v":0},{"$f":"SUMIF('riepilogo per operazione'!C$2:C$101,'controlli legno di pregio'!$A$3:$A$16,'riepilogo per operazione'!D$2:D$101)","v":0},{"$f":"SUMIF('riepilogo per operazione'!E$2:E$101,'controlli legno di pregio'!$A$3:$A$16,'riepilogo per operazione'!F$2:F$101)","v":0},{"$f":"SUMIF('riepilogo per operazione'!G$2:G$101,'controlli legno di pregio'!$A$3:$A$16,'riepilogo per operazione'!H$2:H$101)","v":0},{"$f":"SUMIF('riepilogo per operazione'!I$2:I$101,'controlli legno di pregio'!$A$3:$A$16,'riepilogo per operazione'!J$2:J$101)","v":0},0,{"$f":"SUMIF('riepilogo per operazione'!K$2:K$101,'controlli legno di pregio'!$A$3:$A$16,'riepilogo per operazione'!L$2:L$101)","v":0},"Ciliegio",{"$f":"SUMIF('riepilogo per operazione'!M$2:M$101,'controlli legno di pregio'!$A$3:$A$16,'riepilogo per operazione'!N$2:N$101)","v":0},{"$f":"SUMIF('riepilogo per operazione'!O$2:O$101,'controlli legno di pregio'!$A$3:$A$16,'riepilogo per operazione'!P$2:P$101)","v":0},{"$f":"SUMIF('riepilogo per operazione'!Q$2:Q$101,'controlli legno di pregio'!$A$3:$A$16,'riepilogo per operazione'!R$2:R$101)","v":0},{"$f":"SUMIF('riepilogo per operazione'!S$2:S$101,'controlli legno di pregio'!$A$3:$A$16,'riepilogo per operazione'!T$2:T$101)","v":0},{"$f":"SUMIF('riepilogo per operazione'!U$2:U$101,'controlli legno di pregio'!$A$3:$A$16,'riepilogo per operazione'!V$2:V$101)","v":0},0,{"$f":"SUMIF('riepilogo per operazione'!W$2:W$101,'controlli legno di pregio'!$A$3:$A$16,'riepilogo per operazione'!X$2:X$101)","v":0},"Ciliegio",{"$f":"SUMIF('riepilogo per operazione'!Y$2:Y$101,'controlli legno di pregio'!$A$3:$A$16,'riepilogo per operazione'!Z$2:Z$101)","v":0},{"$f":"SUMIF('riepilogo per operazione'!AA$2:AA$101,'controlli legno di pregio'!$A$3:$A$16,'riepilogo per operazione'!AB$2:AB$101)","v":0},{"$f":"SUMIF('riepilogo per operazione'!AC$2:AC$101,'controlli legno di pregio'!$A$3:$A$16,'riepilogo per operazione'!AD$2:AD$101)","v":0},{"$f":"SUMIF('riepilogo per operazione'!AE$2:AE$101,'controlli legno di pregio'!$A$3:$A$16,'riepilogo per operazione'!AF$2:AF$101)","v":0},{"$f":"SUMIF('riepilogo per operazione'!AG$2:AG$101,'controlli legno di pregio'!$A$3:$A$16,'riepilogo per operazione'!AH$2:AH$101)","v":0},0,{"$f":"SUMIF('riepilogo per operazione'!AI$2:AI$101,'controlli legno di pregio'!$A$3:$A$16,'riepilogo per operazione'!AJ$2:AJ$101)","v":0}]
["Ciliegio canino",{"$f":"SUMIF('riepilogo per operazione'!A$2:A$101,'controlli legno di pregio'!$A$3:$A$16,'riepilogo per operazione'!B$2:B$101)","v":0},{"$f":"SUMIF('riepilogo per operazione'!C$2:C$101,'controlli legno di pregio'!$A$3:$A$16,'riepilogo per operazione'!D$2:D$101)","v":0},{"$f":"SUMIF('riepilogo per operazione'!E$2:E$101,'controlli legno di pregio'!$A$3:$A$16,'riepilogo per operazione'!F$2:F$101)","v":0},{"$f":"SUMIF('riepilogo per operazione'!G$2:G$101,'controlli legno di pregio'!$A$3:$A$16,'riepilogo per operazione'!H$2:H$101)","v":0},{"$f":"SUMIF('riepilogo per operazione'!I$2:I$101,'controlli legno di pregio'!$A$3:$A$16,'riepilogo per operazione'!J$2:J$101)","v":0},0,{"$f":"SUMIF('riepilogo per operazione'!K$2:K$101,'controlli legno di pregio'!$A$3:$A$16,'riepilogo per operazione'!L$2:L$101)","v":0},"Ciliegio canino",{"$f":"SUMIF('riepilogo per operazione'!M$2:M$101,'controlli legno di pregio'!$A$3:$A$16,'riepilogo per operazione'!N$2:N$101)","v":0},{"$f":"SUMIF('riepilogo per operazione'!O$2:O$101,'controlli legno di pregio'!$A$3:$A$16,'riepilogo per operazione'!P$2:P$101)","v":0},{"$f":"SUMIF('riepilogo per operazione'!Q$2:Q$101,'controlli legno di pregio'!$A$3:$A$16,'riepilogo per operazione'!R$2:R$101)","v":0},{"$f":"SUMIF('riepilogo per operazione'!S$2:S$101,'controlli legno di pregio'!$A$3:$A$16,'riepilogo per operazione'!T$2:T$101)","v":0},{"$f":"SUMIF('riepilogo per operazione'!U$2:U$101,'controlli legno di pregio'!$A$3:$A$16,'riepilogo per operazione'!V$2:V$101)","v":0},0,{"$f":"SUMIF('riepilogo per operazione'!W$2:W$101,'controlli legno di pregio'!$A$3:$A$16,'riepilogo per operazione'!X$2:X$101)","v":0},"Ciliegio canino",{"$f":"SUMIF('riepilogo per operazione'!Y$2:Y$101,'controlli legno di pregio'!$A$3:$A$16,'riepilogo per operazione'!Z$2:Z$101)","v":0},{"$f":"SUMIF('riepilogo per operazione'!AA$2:AA$101,'controlli legno di pregio'!$A$3:$A$16,'riepilogo per operazione'!AB$2:AB$101)","v":0},{"$f":"SUMIF('riepilogo per operazione'!AC$2:AC$101,'controlli legno di pregio'!$A$3:$A$16,'riepilogo per operazione'!AD$2:AD$101)","v":0},{"$f":"SUMIF('riepilogo per operazione'!AE$2:AE$101,'controlli legno di pregio'!$A$3:$A$16,'riepilogo per operazione'!AF$2:AF$101)","v":0},{"$f":"SUMIF('riepilogo per operazione'!AG$2:AG$101,'controlli legno di pregio'!$A$3:$A$16,'riepilogo per operazione'!AH$2:AH$101)","v":0},0,{"$f":"SUMIF('riepilogo per operazione'!AI$2:AI$101,'controlli legno di pregio'!$A$3:$A$16,'riepilogo per operazione'!AJ$2:AJ$101)","v":0}]
["Farnia",{"$f":"SUMIF('riepilogo per operazione'!A$2:A$101,'controlli legno di pregio'!$A$3:$A$16,'riepilogo per operazione'!B$2:B$101)","v":0},{"$f":"SUMIF('riepilogo per operazione'!C$2:C$101,'controlli legno di pregio'!$A$3:$A$16,'riepilogo per operazione'!D$2:D$101)","v":0},{"$f":"SUMIF('riepilogo per operazione'!E$2:E$101,'controlli legno di pregio'!$A$3:$A$16,'riepilogo per operazione'!F$2:F$101)","v":0},{"$f":"SUMIF('riepilogo per operazione'!G$2:G$101,'controlli legno di pregio'!$A$3:$A$16,'riepilogo per operazione'!H$2:H$101)","v":0},{"$f":"SUMIF('riepilogo per operazione'!I$2:I$101,'controlli legno di pregio'!$A$3:$A$16,'riepilogo per operazione'!J$2:J$101)","v":0},0,{"$f":"SUMIF('riepilogo per operazione'!K$2:K$101,'controlli legno di pregio'!$A$3:$A$16,'riepilogo per operazione'!L$2:L$101)","v":0},"Farnia",{"$f":"SUMIF('riepilogo per operazione'!M$2:M$101,'controlli legno di pregio'!$A$3:$A$16,'riepilogo per operazione'!N$2:N$101)","v":0},{"$f":"SUMIF('riepilogo per operazione'!O$2:O$101,'controlli legno di pregio'!$A$3:$A$16,'riepilogo per operazione'!P$2:P$101)","v":0},{"$f":"SUMIF('riepilogo per operazione'!Q$2:Q$101,'controlli legno di pregio'!$A$3:$A$16,'riepilogo per operazione'!R$2:R$101)","v":0},{"$f":"SUMIF('riepilogo per operazione'!S$2:S$101,'controlli legno di pregio'!$A$3:$A$16,'riepilogo per operazione'!T$2:T$101)","v":0},{"$f":"SUMIF('riepilogo per operazione'!U$2:U$101,'controlli legno di pregio'!$A$3:$A$16,'riepilogo per operazione'!V$2:V$101)","v":0},0,{"$f":"SUMIF('riepilogo per operazione'!W$2:W$101,'controlli legno di pregio'!$A$3:$A$16,'riepilogo per operazione'!X$2:X$101)","v":0},"Farnia",{"$f":"SUMIF('riepilogo per operazione'!Y$2:Y$101,'controlli legno di pregio'!$A$3:$A$16,'riepilogo per operazione'!Z$2:Z$101)","v":0},{"$f":"SUMIF('riepilogo per operazione'!AA$2:AA$101,'controlli legno di pregio'!$A$3:$A$16,'riepilogo per operazione'!AB$2:AB$101)","v":0},{"$f":"SUMIF('riepilogo per operazione'!AC$2:AC$101,'controlli legno di pregio'!$A$3:$A$16,'riepilogo per operazione'!AD$2:AD$101)","v":0},{"$f":"SUMIF('riepilogo per operazione'!AE$2:AE$101,'controlli legno di pregio'!$A$3:$A$16,'riepilogo per operazione'!AF$2:AF$101)","v":0},{"$f":"SUMIF('riepilogo per operazione'!AG$2:AG$101,'controlli legno di pregio'!$A$3:$A$16,'riepilogo per operazione'!AH$2:AH$101)","v":0},0,{"$f":"SUMIF('riepilogo per operazione'!AI$2:AI$101,'controlli legno di pregio'!$A$3:$A$16,'riepilogo per operazione'!AJ$2:AJ$101)","v":0}]
["Frassino meridionale/oxyphilla",{"$f":"SUMIF('riepilogo per operazione'!A$2:A$101,'controlli legno di pregio'!$A$3:$A$16,'riepilogo per operazione'!B$2:B$101)","v":0},{"$f":"SUMIF('riepilogo per operazione'!C$2:C$101,'controlli legno di pregio'!$A$3:$A$16,'riepilogo per operazione'!D$2:D$101)","v":0},{"$f":"SUMIF('riepilogo per operazione'!E$2:E$101,'controlli legno di pregio'!$A$3:$A$16,'riepilogo per operazione'!F$2:F$101)","v":0},{"$f":"SUMIF('riepilogo per operazione'!G$2:G$101,'controlli legno di pregio'!$A$3:$A$16,'riepilogo per operazione'!H$2:H$101)","v":0},{"$f":"SUMIF('riepilogo per operazione'!I$2:I$101,'controlli legno di pregio'!$A$3:$A$16,'riepilogo per operazione'!J$2:J$101)","v":0},0,{"$f":"SUMIF('riepilogo per operazione'!K$2:K$101,'controlli legno di pregio'!$A$3:$A$16,'riepilogo per operazione'!L$2:L$101)","v":0},"Frassino meridionale/oxyphilla",{"$f":"SUMIF('riepilogo per operazione'!M$2:M$101,'controlli legno di pregio'!$A$3:$A$16,'riepilogo per operazione'!N$2:N$101)","v":0},{"$f":"SUMIF('riepilogo per operazione'!O$2:O$101,'controlli legno di pregio'!$A$3:$A$16,'riepilogo per operazione'!P$2:P$101)","v":0},{"$f":"SUMIF('riepilogo per operazione'!Q$2:Q$101,'controlli legno di pregio'!$A$3:$A$16,'riepilogo per operazione'!R$2:R$101)","v":0},{"$f":"SUMIF('riepilogo per operazione'!S$2:S$101,'controlli legno di pregio'!$A$3:$A$16,'riepilogo per operazione'!T$2:T$101)","v":0},{"$f":"SUMIF('riepilogo per operazione'!U$2:U$101,'controlli legno di pregio'!$A$3:$A$16,'riepilogo per operazione'!V$2:V$101)","v":0},0,{"$f":"SUMIF('riepilogo per operazione'!W$2:W$101,'controlli legno di pregio'!$A$3:$A$16,'riepilogo per operazione'!X$2:X$101)","v":0},"Frassino meridionale/oxyphilla",{"$f":"SUMIF('riepilogo per operazione'!Y$2:Y$101,'controlli legno di pregio'!$A$3:$A$16,'riepilogo per operazione'!Z$2:Z$101)","v":0},{"$f":"SUMIF('riepilogo per operazione'!AA$2:AA$101,'controlli legno di pregio'!$A$3:$A$16,'riepilogo per operazione'!AB$2:AB$101)","v":0},{"$f":"SUMIF('riepilogo per operazione'!AC$2:AC$101,'controlli legno di pregio'!$A$3:$A$16,'riepilogo per operazione'!AD$2:AD$101)","v":0},{"$f":"SUMIF('riepilogo per operazione'!AE$2:AE$101,'controlli legno di pregio'!$A$3:$A$16,'riepilogo per operazione'!AF$2:AF$101)","v":0},{"$f":"SUMIF('riepilogo per operazione'!AG$2:AG$101,'controlli legno di pregio'!$A$3:$A$16,'riepilogo per operazione'!AH$2:AH$101)","v":0},0,{"$f":"SUMIF('riepilogo per operazione'!AI$2:AI$101,'controlli legno di pregio'!$A$3:$A$16,'riepilogo per operazione'!AJ$2:AJ$101)","v":0}]
["Noce comune",{"$f":"SUMIF('riepilogo per operazione'!A$2:A$101,'controlli legno di pregio'!$A$3:$A$16,'riepilogo per operazione'!B$2:B$101)","v":0},{"$f":"SUMIF('riepilogo per operazione'!C$2:C$101,'controlli legno di pregio'!$A$3:$A$16,'riepilogo per operazione'!D$2:D$101)","v":0},{"$f":"SUMIF('riepilogo per operazione'!E$2:E$101,'controlli legno di pregio'!$A$3:$A$16,'riepilogo per operazione'!F$2:F$101)","v":0},{"$f":"SUMIF('riepilogo per operazione'!G$2:G$101,'controlli legno di pregio'!$A$3:$A$16,'riepilogo per operazione'!H$2:H$101)","v":0},{"$f":"SUMIF('riepilogo per operazione'!I$2:I$101,'controlli legno di pregio'!$A$3:$A$16,'riepilogo per operazione'!J$2:J$101)","v":0},0,{"$f":"SUMIF('riepilogo per operazione'!K$2:K$101,'controlli legno di pregio'!$A$3:$A$16,'riepilogo per operazione'!L$2:L$101)","v":0},"Noce comune",{"$f":"SUMIF('riepilogo per operazione'!M$2:M$101,'controlli legno di pregio'!$A$3:$A$16,'riepilogo per operazione'!N$2:N$101)","v":0},{"$f":"SUMIF('riepilogo per operazione'!O$2:O$101,'controlli legno di pregio'!$A$3:$A$16,'riepilogo per operazione'!P$2:P$101)","v":0},{"$f":"SUMIF('riepilogo per operazione'!Q$2:Q$101,'controlli legno di pregio'!$A$3:$A$16,'riepilogo per operazione'!R$2:R$101)","v":0},{"$f":"SUMIF('riepilogo per operazione'!S$2:S$101,'controlli legno di pregio'!$A$3:$A$16,'riepilogo per operazione'!T$2:T$101)","v":0},{"$f":"SUMIF('riepilogo per operazione'!U$2:U$101,'controlli legno di pregio'!$A$3:$A$16,'riepilogo per operazione'!V$2:V$101)","v":0},0,{"$f":"SUMIF('riepilogo per operazione'!W$2:W$101,'controlli legno di pregio'!$A$3:$A$16,'riepilogo per operazione'!X$2:X$101)","v":0},"Noce comune",{"$f":"SUMIF('riepilogo per operazione'!Y$2:Y$101,'controlli legno di pregio'!$A$3:$A$16,'riepilogo per operazione'!Z$2:Z$101)","v":0},{"$f":"SUMIF('riepilogo per operazione'!AA$2:AA$101,'controlli legno di pregio'!$A$3:$A$16,'riepilogo per operazione'!AB$2:AB$101)","v":0},{"$f":"SUMIF('riepilogo per operazione'!AC$2:AC$101,'controlli legno di pregio'!$A$3:$A$16,'riepilogo per operazione'!AD$2:AD$101)","v":0},{"$f":"SUMIF('riepilogo per operazione'!AE$2:AE$101,'controlli legno di pregio'!$A$3:$A$16,'riepilogo per operazione'!AF$2:AF$101)","v":0},{"$f":"SUMIF('riepilogo per operazione'!AG$2:AG$101,'controlli legno di pregio'!$A$3:$A$16,'riepilogo per operazione'!AH$2:AH$101)","v":0},0,{"$f":"SUMIF('riepilogo per operazione'!AI$2:AI$101,'controlli legno di pregio'!$A$3:$A$16,'riepilogo per operazione'!AJ$2:AJ$101)","v":0}]
["Ontano napoletano",{"$f":"SUMIF('riepilogo per operazione'!A$2:A$101,'controlli legno di pregio'!$A$3:$A$16,'riepilogo per operazione'!B$2:B$101)","v":0},{"$f":"SUMIF('riepilogo per operazione'!C$2:C$101,'controlli legno di pregio'!$A$3:$A$16,'riepilogo per operazione'!D$2:D$101)","v":0},{"$f":"SUMIF('riepilogo per operazione'!E$2:E$101,'controlli legno di pregio'!$A$3:$A$16,'riepilogo per operazione'!F$2:F$101)","v":0},{"$f":"SUMIF('riepilogo per operazione'!G$2:G$101,'controlli legno di pregio'!$A$3:$A$16,'riepilogo per operazione'!H$2:H$101)","v":0},{"$f":"SUMIF('riepilogo per operazione'!I$2:I$101,'controlli legno di pregio'!$A$3:$A$16,'riepilogo per operazione'!J$2:J$101)","v":0},0,{"$f":"SUMIF('riepilogo per operazione'!K$2:K$101,'controlli legno di pregio'!$A$3:$A$16,'riepilogo per operazione'!L$2:L$101)","v":0},"Ontano napoletano",{"$f":"SUMIF('riepilogo per operazione'!M$2:M$101,'controlli legno di pregio'!$A$3:$A$16,'riepilogo per operazione'!N$2:N$101)","v":0},{"$f":"SUMIF('riepilogo per operazione'!O$2:O$101,'controlli legno di pregio'!$A$3:$A$16,'riepilogo per operazione'!P$2:P$101)","v":0},{"$f":"SUMIF('riepilogo per operazione'!Q$2:Q$101,'controlli legno di pregio'!$A$3:$A$16,'riepilogo per operazione'!R$2:R$101)","v":0},{"$f":"SUMIF('riepilogo per operazione'!S$2:S$101,'controlli legno di pregio'!$A$3:$A$16,'riepilogo per operazione'!T$2:T$101)","v":0},{"$f":"SUMIF('riepilogo per operazione'!U$2:U$101,'controlli legno di pregio'!$A$3:$A$16,'riepilogo per operazione'!V$2:V$101)","v":0},0,{"$f":"SUMIF('riepilogo per operazione'!W$2:W$101,'controlli legno di pregio'!$A$3:$A$16,'riepilogo per operazione'!X$2:X$101)","v":0},"Ontano napoletano",{"$f":"SUMIF('riepilogo per operazione'!Y$2:Y$101,'controlli legno di pregio'!$A$3:$A$16,'riepilogo per operazione'!Z$2:Z$101)","v":0},{"$f":"SUMIF('riepilogo per operazione'!AA$2:AA$101,'controlli legno di pregio'!$A$3:$A$16,'riepilogo per operazione'!AB$2:AB$101)","v":0},{"$f":"SUMIF('riepilogo per operazione'!AC$2:AC$101,'controlli legno di pregio'!$A$3:$A$16,'riepilogo per operazione'!AD$2:AD$101)","v":0},{"$f":"SUMIF('riepilogo per operazione'!AE$2:AE$101,'controlli legno di pregio'!$A$3:$A$16,'riepilogo per operazione'!AF$2:AF$101)","v":0},{"$f":"SUMIF('riepilogo per operazione'!AG$2:AG$101,'controlli legno di pregio'!$A$3:$A$16,'riepilogo per operazione'!AH$2:AH$101)","v":0},0,{"$f":"SUMIF('riepilogo per operazione'!AI$2:AI$101,'controlli legno di pregio'!$A$3:$A$16,'riepilogo per operazione'!AJ$2:AJ$101)","v":0}]
["Ontano nero",{"$f":"SUMIF('riepilogo per operazione'!A$2:A$101,'controlli legno di pregio'!$A$3:$A$16,'riepilogo per operazione'!B$2:B$101)","v":0},{"$f":"SUMIF('riepilogo per operazione'!C$2:C$101,'controlli legno di pregio'!$A$3:$A$16,'riepilogo per operazione'!D$2:D$101)","v":0},{"$f":"SUMIF('riepilogo per operazione'!E$2:E$101,'controlli legno di pregio'!$A$3:$A$16,'riepilogo per operazione'!F$2:F$101)","v":0},{"$f":"SUMIF('riepilogo per operazione'!G$2:G$101,'controlli legno di pregio'!$A$3:$A$16,'riepilogo per operazione'!H$2:H$101)","v":0},{"$f":"SUMIF('riepilogo per operazione'!I$2:I$101,'controlli legno di pregio'!$A$3:$A$16,'riepilogo per operazione'!J$2:J$101)","v":0},0,{"$f":"SUMIF('riepilogo per operazione'!K$2:K$101,'controlli legno di pregio'!$A$3:$A$16,'riepilogo per operazione'!L$2:L$101)","v":0},"Ontano nero",{"$f":"SUMIF('riepilogo per operazione'!M$2:M$101,'controlli legno di pregio'!$A$3:$A$16,'riepilogo per operazione'!N$2:N$101)","v":0},{"$f":"SUMIF('riepilogo per operazione'!O$2:O$101,'controlli legno di pregio'!$A$3:$A$16,'riepilogo per operazione'!P$2:P$101)","v":0},{"$f":"SUMIF('riepilogo per operazione'!Q$2:Q$101,'controlli legno di pregio'!$A$3:$A$16,'riepilogo per operazione'!R$2:R$101)","v":0},{"$f":"SUMIF('riepilogo per operazione'!S$2:S$101,'controlli legno di pregio'!$A$3:$A$16,'riepilogo per operazione'!T$2:T$101)","v":0},{"$f":"SUMIF('riepilogo per operazione'!U$2:U$101,'controlli legno di pregio'!$A$3:$A$16,'riepilogo per operazione'!V$2:V$101)","v":0},0,{"$f":"SUMIF('riepilogo per operazione'!W$2:W$101,'controlli legno di pregio'!$A$3:$A$16,'riepilogo per operazione'!X$2:X$101)","v":0},"Ontano nero",{"$f":"SUMIF('riepilogo per operazione'!Y$2:Y$101,'controlli legno di pregio'!$A$3:$A$16,'riepilogo per operazione'!Z$2:Z$101)","v":0},{"$f":"SUMIF('riepilogo per operazione'!AA$2:AA$101,'controlli legno di pregio'!$A$3:$A$16,'riepilogo per operazione'!AB$2:AB$101)","v":0},{"$f":"SUMIF('riepilogo per operazione'!AC$2:AC$101,'controlli legno di pregio'!$A$3:$A$16,'riepilogo per operazione'!AD$2:AD$101)","v":0},{"$f":"SUMIF('riepilogo per operazione'!AE$2:AE$101,'controlli legno di pregio'!$A$3:$A$16,'riepilogo per operazione'!AF$2:AF$101)","v":0},{"$f":"SUMIF('riepilogo per operazione'!AG$2:AG$101,'controlli legno di pregio'!$A$3:$A$16,'riepilogo per operazione'!AH$2:AH$101)","v":0},0,{"$f":"SUMIF('riepilogo per operazione'!AI$2:AI$101,'controlli legno di pregio'!$A$3:$A$16,'riepilogo per operazione'!AJ$2:AJ$101)","v":0}]
["Pino domestico",{"$f":"SUMIF('riepilogo per operazione'!A$2:A$101,'controlli legno di pregio'!$A$3:$A$16,'riepilogo per operazione'!B$2:B$101)","v":0},{"$f":"SUMIF('riepilogo per operazione'!C$2:C$101,'controlli legno di pregio'!$A$3:$A$16,'riepilogo per operazione'!D$2:D$101)","v":0},{"$f":"SUMIF('riepilogo per operazione'!E$2:E$101,'controlli legno di pregio'!$A$3:$A$16,'riepilogo per operazione'!F$2:F$101)","v":0},{"$f":"SUMIF('riepilogo per operazione'!G$2:G$101,'controlli legno di pregio'!$A$3:$A$16,'riepilogo per operazione'!H$2:H$101)","v":0},{"$f":"SUMIF('riepilogo per operazione'!I$2:I$101,'controlli legno di pregio'!$A$3:$A$16,'riepilogo per operazione'!J$2:J$101)","v":0},0,{"$f":"SUMIF('riepilogo per operazione'!K$2:K$101,'controlli legno di pregio'!$A$3:$A$16,'riepilogo per operazione'!L$2:L$101)","v":0},"Pino domestico",{"$f":"SUMIF('riepilogo per operazione'!M$2:M$101,'controlli legno di pregio'!$A$3:$A$16,'riepilogo per operazione'!N$2:N$101)","v":0},{"$f":"SUMIF('riepilogo per operazione'!O$2:O$101,'controlli legno di pregio'!$A$3:$A$16,'riepilogo per operazione'!P$2:P$101)","v":0},{"$f":"SUMIF('riepilogo per operazione'!Q$2:Q$101,'controlli legno di pregio'!$A$3:$A$16,'riepilogo per operazione'!R$2:R$101)","v":0},{"$f":"SUMIF('riepilogo per operazione'!S$2:S$101,'controlli legno di pregio'!$A$3:$A$16,'riepilogo per operazione'!T$2:T$101)","v":0},{"$f":"SUMIF('riepilogo per operazione'!U$2:U$101,'controlli legno di pregio'!$A$3:$A$16,'riepilogo per operazione'!V$2:V$101)","v":0},0,{"$f":"SUMIF('riepilogo per operazione'!W$2:W$101,'controlli legno di pregio'!$A$3:$A$16,'riepilogo per operazione'!X$2:X$101)","v":0},"Pino domestico",{"$f":"SUMIF('riepilogo per operazione'!Y$2:Y$101,'controlli legno di pregio'!$A$3:$A$16,'riepilogo per operazione'!Z$2:Z$101)","v":0},{"$f":"SUMIF('riepilogo per operazione'!AA$2:AA$101,'controlli legno di pregio'!$A$3:$A$16,'riepilogo per operazione'!AB$2:AB$101)","v":0},{"$f":"SUMIF('riepilogo per operazione'!AC$2:AC$101,'controlli legno di pregio'!$A$3:$A$16,'riepilogo per operazione'!AD$2:AD$101)","v":0},{"$f":"SUMIF('riepilogo per operazione'!AE$2:AE$101,'controlli legno di pregio'!$A$3:$A$16,'riepilogo per operazione'!AF$2:AF$101)","v":0},{"$f":"SUMIF('riepilogo per operazione'!AG$2:AG$101,'controlli legno di pregio'!$A$3:$A$16,'riepilogo per operazione'!AH$2:AH$101)","v":0},0,{"$f":"SUMIF('riepilogo per operazione'!AI$2:AI$101,'controlli legno di pregio'!$A$3:$A$16,'riepilogo per operazione'!AJ$2:AJ$101)","v":0}]
["Pino marittimo",{"$f":"SUMIF('riepilogo per operazione'!A$2:A$101,'controlli legno di pregio'!$A$3:$A$16,'riepilogo per operazione'!B$2:B$101)","v":0},{"$f":"SUMIF('riepilogo per operazione'!C$2:C$101,'controlli legno di pregio'!$A$3:$A$16,'riepilogo per operazione'!D$2:D$101)","v":0},{"$f":"SUMIF('riepilogo per operazione'!E$2:E$101,'controlli legno di pregio'!$A$3:$A$16,'riepilogo per operazione'!F$2:F$101)","v":0},{"$f":"SUMIF('riepilogo per operazione'!G$2:G$101,'controlli legno di pregio'!$A$3:$A$16,'riepilogo per operazione'!H$2:H$101)","v":0},{"$f":"SUMIF('riepilogo per operazione'!I$2:I$101,'controlli legno di pregio'!$A$3:$A$16,'riepilogo per operazione'!J$2:J$101)","v":0},0,{"$f":"SUMIF('riepilogo per operazione'!K$2:K$101,'controlli legno di pregio'!$A$3:$A$16,'riepilogo per operazione'!L$2:L$101)","v":0},"Pino marittimo",{"$f":"SUMIF('riepilogo per operazione'!M$2:M$101,'controlli legno di pregio'!$A$3:$A$16,'riepilogo per operazione'!N$2:N$101)","v":0},{"$f":"SUMIF('riepilogo per operazione'!O$2:O$101,'controlli legno di pregio'!$A$3:$A$16,'riepilogo per operazione'!P$2:P$101)","v":0},{"$f":"SUMIF('riepilogo per operazione'!Q$2:Q$101,'controlli legno di pregio'!$A$3:$A$16,'riepilogo per operazione'!R$2:R$101)","v":0},{"$f":"SUMIF('riepilogo per operazione'!S$2:S$101,'controlli legno di pregio'!$A$3:$A$16,'riepilogo per operazione'!T$2:T$101)","v":0},{"$f":"SUMIF('riepilogo per operazione'!U$2:U$101,'controlli legno di pregio'!$A$3:$A$16,'riepilogo per operazione'!V$2:V$101)","v":0},0,{"$f":"SUMIF('riepilogo per operazione'!W$2:W$101,'controlli legno di pregio'!$A$3:$A$16,'riepilogo per operazione'!X$2:X$101)","v":0},"Pino marittimo",{"$f":"SUMIF('riepilogo per operazione'!Y$2:Y$101,'controlli legno di pregio'!$A$3:$A$16,'riepilogo per operazione'!Z$2:Z$101)","v":0},{"$f":"SUMIF('riepilogo per operazione'!AA$2:AA$101,'controlli legno di pregio'!$A$3:$A$16,'riepilogo per operazione'!AB$2:AB$101)","v":0},{"$f":"SUMIF('riepilogo per operazione'!AC$2:AC$101,'controlli legno di pregio'!$A$3:$A$16,'riepilogo per operazione'!AD$2:AD$101)","v":0},{"$f":"SUMIF('riepilogo per operazione'!AE$2:AE$101,'controlli legno di pregio'!$A$3:$A$16,'riepilogo per operazione'!AF$2:AF$101)","v":0},{"$f":"SUMIF('riepilogo per operazione'!AG$2:AG$101,'controlli legno di pregio'!$A$3:$A$16,'riepilogo per operazione'!AH$2:AH$101)","v":0},0,{"$f":"SUMIF('riepilogo per operazione'!AI$2:AI$101,'controlli legno di pregio'!$A$3:$A$16,'riepilogo per operazione'!AJ$2:AJ$101)","v":0}]
["Pioppo nero",{"$f":"SUMIF('riepilogo per operazione'!A$2:A$101,'controlli legno di pregio'!$A$3:$A$16,'riepilogo per operazione'!B$2:B$101)","v":0},{"$f":"SUMIF('riepilogo per operazione'!C$2:C$101,'controlli legno di pregio'!$A$3:$A$16,'riepilogo per operazione'!D$2:D$101)","v":0},{"$f":"SUMIF('riepilogo per operazione'!E$2:E$101,'controlli legno di pregio'!$A$3:$A$16,'riepilogo per operazione'!F$2:F$101)","v":0},{"$f":"SUMIF('riepilogo per operazione'!G$2:G$101,'controlli legno di pregio'!$A$3:$A$16,'riepilogo per operazione'!H$2:H$101)","v":0},{"$f":"SUMIF('riepilogo per operazione'!I$2:I$101,'controlli legno di pregio'!$A$3:$A$16,'riepilogo per operazione'!J$2:J$101)","v":0},0,{"$f":"SUMIF('riepilogo per operazione'!K$2:K$101,'controlli legno di pregio'!$A$3:$A$16,'riepilogo per operazione'!L$2:L$101)","v":0},"Pioppo nero",{"$f":"SUMIF('riepilogo per operazione'!M$2:M$101,'controlli legno di pregio'!$A$3:$A$16,'riepilogo per operazione'!N$2:N$101)","v":0},{"$f":"SUMIF('riepilogo per operazione'!O$2:O$101,'controlli legno di pregio'!$A$3:$A$16,'riepilogo per operazione'!P$2:P$101)","v":0},{"$f":"SUMIF('riepilogo per operazione'!Q$2:Q$101,'controlli legno di pregio'!$A$3:$A$16,'riepilogo per operazione'!R$2:R$101)","v":0},{"$f":"SUMIF('riepilogo per operazione'!S$2:S$101,'controlli legno di pregio'!$A$3:$A$16,'riepilogo per operazione'!T$2:T$101)","v":0},{"$f":"SUMIF('riepilogo per operazione'!U$2:U$101,'controlli legno di pregio'!$A$3:$A$16,'riepilogo per operazione'!V$2:V$101)","v":0},0,{"$f":"SUMIF('riepilogo per operazione'!W$2:W$101,'controlli legno di pregio'!$A$3:$A$16,'riepilogo per operazione'!X$2:X$101)","v":0},"Pioppo nero",{"$f":"SUMIF('riepilogo per operazione'!Y$2:Y$101,'controlli legno di pregio'!$A$3:$A$16,'riepilogo per operazione'!Z$2:Z$101)","v":0},{"$f":"SUMIF('riepilogo per operazione'!AA$2:AA$101,'controlli legno di pregio'!$A$3:$A$16,'riepilogo per operazione'!AB$2:AB$101)","v":0},{"$f":"SUMIF('riepilogo per operazione'!AC$2:AC$101,'controlli legno di pregio'!$A$3:$A$16,'riepilogo per operazione'!AD$2:AD$101)","v":0},{"$f":"SUMIF('riepilogo per operazione'!AE$2:AE$101,'controlli legno di pregio'!$A$3:$A$16,'riepilogo per operazione'!AF$2:AF$101)","v":0},{"$f":"SUMIF('riepilogo per operazione'!AG$2:AG$101,'controlli legno di pregio'!$A$3:$A$16,'riepilogo per operazione'!AH$2:AH$101)","v":0},0,{"$f":"SUMIF('riepilogo per operazione'!AI$2:AI$101,'controlli legno di pregio'!$A$3:$A$16,'riepilogo per operazione'!AJ$2:AJ$101)","v":0}]
["Tiglio nostrano",{"$f":"SUMIF('riepilogo per operazione'!A$2:A$101,'controlli legno di pregio'!$A$3:$A$16,'riepilogo per operazione'!B$2:B$101)","v":0},{"$f":"SUMIF('riepilogo per operazione'!C$2:C$101,'controlli legno di pregio'!$A$3:$A$16,'riepilogo per operazione'!D$2:D$101)","v":0},{"$f":"SUMIF('riepilogo per operazione'!E$2:E$101,'controlli legno di pregio'!$A$3:$A$16,'riepilogo per operazione'!F$2:F$101)","v":0},{"$f":"SUMIF('riepilogo per operazione'!G$2:G$101,'controlli legno di pregio'!$A$3:$A$16,'riepilogo per operazione'!H$2:H$101)","v":0},{"$f":"SUMIF('riepilogo per operazione'!I$2:I$101,'controlli legno di pregio'!$A$3:$A$16,'riepilogo per operazione'!J$2:J$101)","v":0},0,{"$f":"SUMIF('riepilogo per operazione'!K$2:K$101,'controlli legno di pregio'!$A$3:$A$16,'riepilogo per operazione'!L$2:L$101)","v":0},"Tiglio nostrano",{"$f":"SUMIF('riepilogo per operazione'!M$2:M$101,'controlli legno di pregio'!$A$3:$A$16,'riepilogo per operazione'!N$2:N$101)","v":0},{"$f":"SUMIF('riepilogo per operazione'!O$2:O$101,'controlli legno di pregio'!$A$3:$A$16,'riepilogo per operazione'!P$2:P$101)","v":0},{"$f":"SUMIF('riepilogo per operazione'!Q$2:Q$101,'controlli legno di pregio'!$A$3:$A$16,'riepilogo per operazione'!R$2:R$101)","v":0},{"$f":"SUMIF('riepilogo per operazione'!S$2:S$101,'controlli legno di pregio'!$A$3:$A$16,'riepilogo per operazione'!T$2:T$101)","v":0},{"$f":"SUMIF('riepilogo per operazione'!U$2:U$101,'controlli legno di pregio'!$A$3:$A$16,'riepilogo per operazione'!V$2:V$101)","v":0},0,{"$f":"SUMIF('riepilogo per operazione'!W$2:W$101,'controlli legno di pregio'!$A$3:$A$16,'riepilogo per operazione'!X$2:X$101)","v":0},"Tiglio nostrano",{"$f":"SUMIF('riepilogo per operazione'!Y$2:Y$101,'controlli legno di pregio'!$A$3:$A$16,'riepilogo per operazione'!Z$2:Z$101)","v":0},{"$f":"SUMIF('riepilogo per operazione'!AA$2:AA$101,'controlli legno di pregio'!$A$3:$A$16,'riepilogo per operazione'!AB$2:AB$101)","v":0},{"$f":"SUMIF('riepilogo per operazione'!AC$2:AC$101,'controlli legno di pregio'!$A$3:$A$16,'riepilogo per operazione'!AD$2:AD$101)","v":0},{"$f":"SUMIF('riepilogo per operazione'!AE$2:AE$101,'controlli legno di pregio'!$A$3:$A$16,'riepilogo per operazione'!AF$2:AF$101)","v":0},{"$f":"SUMIF('riepilogo per operazione'!AG$2:AG$101,'controlli legno di pregio'!$A$3:$A$16,'riepilogo per operazione'!AH$2:AH$101)","v":0},0,{"$f":"SUMIF('riepilogo per operazione'!AI$2:AI$101,'controlli legno di pregio'!$A$3:$A$16,'riepilogo per operazione'!AJ$2:AJ$101)","v":0}]
["ALTRE",null,null,null,null,null,null,{"$f":"SUMIF('riepilogo per operazione'!K$2:K$101,'controlli legno di pregio'!$A$3:$A$16,'riepilogo per operazione'!L$2:L$101)","v":0},"ALTRE",{"$f":"SUMIF('riepilogo per operazione'!M$2:M$101,'controlli legno di pregio'!$A$3:$A$16,'riepilogo per operazione'!N$2:N$101)","v":0},{"$f":"SUMIF('riepilogo per operazione'!O$2:O$101,'controlli legno di pregio'!$A$3:$A$16,'riepilogo per operazione'!P$2:P$101)","v":0},{"$f":"SUMIF('riepilogo per operazione'!Q$2:Q$101,'controlli legno di pregio'!$A$3:$A$16,'riepilogo per operazione'!R$2:R$101)","v":0},{"$f":"SUMIF('riepilogo per operazione'!S$2:S$101,'controlli legno di pregio'!$A$3:$A$16,'riepilogo per operazione'!T$2:T$101)","v":0},{"$f":"SUMIF('riepilogo per operazione'!U$2:U$101,'controlli legno di pregio'!$A$3:$A$16,'riepilogo per operazione'!V$2:V$101)","v":0},null,{"$f":"SUMIF('riepilogo per operazione'!W$2:W$101,'controlli legno di pregio'!$A$3:$A$16,'riepilogo per operazione'!X$2:X$101)","v":0},"ALTRE",{"$f":"SUMIF('riepilogo per operazione'!Y$2:Y$101,'controlli legno di pregio'!$A$3:$A$16,'riepilogo per operazione'!Z$2:Z$101)","v":0},{"$f":"SUMIF('riepilogo per operazione'!AA$2:AA$101,'controlli legno di pregio'!$A$3:$A$16,'riepilogo per operazione'!AB$2:AB$101)","v":0},{"$f":"SUMIF('riepilogo per operazione'!AC$2:AC$101,'controlli legno di pregio'!$A$3:$A$16,'riepilogo per operazione'!AD$2:AD$101)","v":0},{"$f":"SUMIF('riepilogo per operazione'!AE$2:AE$101,'controlli legno di pregio'!$A$3:$A$16,'riepilogo per operazione'!AF$2:AF$101)","v":0},{"$f":"SUMIF('riepilogo per operazione'!AG$2:AG$101,'controlli legno di pregio'!$A$3:$A$16,'riepilogo per operazione'!AH$2:AH$101)","v":0},null,{"$f":"SUMIF('riepilogo per operazione'!AI$2:AI$101,'controlli legno di pregio'!$A$3:$A$16,'riepilogo per operazione'!AJ$2:AJ$101)","v":0}]
["TOTALE",null,null,null,null,null,{"$f":"SUM(G3:G16)","v":0},{"$f":"SUM(H3:H16)","v":0},"TOTALE",null,null,null,null,null,{"$f":"SUM(O3:O16)","v":0},null,"TOTALE",null,null,null,null,null,{"$f":"SUM(W3:W16)","v":0}]