{"text_format":"1","workbook":"xlsx","n_sheets":13,"sheets":["1 - ANAGRAFICA","2 - QUADRO LOCALIZZAZIONE","3 - SPECIE DA IMPIANTARE","4 - RIEPILOGHI E PUNTEGGIO","5 - QUADRO INTERVENTI AZ 1","5 - QUADRO INTERVENTI AZ 2","5 - QUADRO INTERVENTI AZ 3","6 - RIEPILOGO DI SPESA","7 - DICHIARAZIONI","VERIFICA AZ. 1","VERIFICA AZ. 2","VERIFICA AZ. 3","Foglio1"],"not_rendered":{"charts":0,"images":4,"macros":1,"external_links":1,"defined_names":44,"comments":0,"pivot_tables":0},"unopened":[],"bounds":{"document_bytes":16777216,"sheet_cells":100000,"rows_first":2000,"rows_last":500,"rows_between":2000,"halvings":0,"cell_chars":16384,"cell_head_chars":4096},"cells_cut":0,"cells_raw":0,"read":"whole","date_system":"1900"}

{"sheet":"1 - ANAGRAFICA","index":0,"n_rows":14,"n_cols":20,"rows_kept":14,"cut":false,"hidden":false,"merged":[[11,19,11,20],[5,0,5,19],[14,0,15,0],[14,1,15,2],[13,0,13,2],[9,0,9,2],[6,0,6,19],[13,15,13,18],[11,16,11,17],[7,2,7,3],[13,8,13,11],[11,2,11,3],[11,9,11,10],[11,5,11,6],[11,12,11,13]]}
[]
[]
[]
[]
[]
["FORMULARIO DEGLI INTERVENTI"]
[" Avviso Pubblico Sottomisura 8.1 -Sostegno per l’imboschimento dei terreni agricoli allo scopo di incrementare la copertura del suolo, Forestazione e imboschimento - D.A.G. n. 100 del 16/06/2017"]
["CODICE UNIVOCO",7,"Denominazione richiedente",null,"ROSSI RAFFAELE",null,null,null,null,"CUAA","RSSPNOXXXX"]
[]
["SEDE LEGALE",null,null,null,"BARI",null,null,null,null,"TEL.",null,null,null,null,"PEC"]
[]
["AZIONE_1",null,"SUPERFICIE m2",null,null,{"$f":"IF(OR(AND(E12<>0,B12<>\"SI\"),AND(B12=\"SI\",E12=0)),\"INDICARE AZIONE E SUPERFICIE\",\"\")","v":""},null,"AZIONE_2",null,"SUPERFICIE m2",null,null,{"$f":"IF(OR(AND(L12<>0,I12<>\"SI\"),AND(I12=\"SI\",L12=0)),\"INDICARE AZIONE E SUPERFICIE\",\"\")","v":""},null,"AZIONE_3",null,"SUPERFICIE m2",null,null,{"$f":"IF(OR(AND(S12<>0,P12<>\"SI\"),AND(P12=\"SI\",S12=0)),\"INDICARE AZIONE E SUPERFICIE\",\"\")","v":""}]
[]
["LUOGO E DATA",null,null,null,null,null,null,null,"FIRMA DEL RICHIEDENTE",null,null,null,null,null,null,"FIRMA E TIMBRO DEL TECNICO"]

{"sheet":"2 - QUADRO LOCALIZZAZIONE","index":1,"n_rows":102,"n_cols":39,"rows_kept":102,"cut":false,"hidden":false,"merged":[[0,14,0,15],[0,22,0,23],[0,20,0,21],[0,18,0,19],[0,16,0,17]]}
[null,"N. Pr.","Unita' Imboschimento","Provincia","Comune","Fg","P.lla","Sezione o\nAllegato","Superficie Intervento\nm2","Superficie Intervento\nHa","Terreni Agricoli","Terreni Demaniali (Verifica Di Ammissibilità Per Enti Privati E Comuni)","Tipologia Intervento\n(Az. 1 -2 - 3)","Aree Rurali Ad Agricoltura Intensiva Specializzata (Zone B)\n19 Pt","Aree A Rischio Idrogeologico E/O Soggette Ad Erosione\n22 Pt",null,"Z.V.N.\n19 Pt",null,"Aree Natura 2000\n4 Pt",null,"Aree Periurbane\n16 Pt",null,"Superfici Contigue a Interventi Selvicolturali o Di Rimboschimento Precedentemente Realizzati (Ultimi 10 Anni)\n4 Pt",null,"Punteggio Ambito Territoriale","Controllo Campi Editati","Particelle Doppie",null,null,null,null,null,null,null,null,"ZONE B"]
[null,"CONTROLLO CAMPI INSERITI ",{"$f":"COUNTA(C$3:C102)","v":0},{"$f":"COUNTA(D$3:D102)","v":0},{"$f":"COUNTA(E$3:E102)","v":0},{"$f":"COUNTA(F$3:F102)","v":0},{"$f":"COUNTA(G$3:G102)","v":0},null,{"$f":"COUNTA(I$3:I102)","v":0},null,{"$f":"COUNTA(K$3:K102)","v":0},{"$f":"COUNTA(L$3:L102)","v":0},{"$f":"COUNTA(M$3:M102)","v":0},null,{"$f":"COUNTA(O$3:O102)","v":0},null,{"$f":"COUNTA(Q$3:Q102)","v":0},null,{"$f":"COUNTA(S$3:S102)","v":0},null,{"$f":"COUNTA(U$3:U102)","v":0},null,{"$f":"COUNTA(W$3:W102)","v":0},null,null,null,null,null,"BARI","Acquaviva delle Fonti","Andria","Brindisi","Accadia","Acquarica del Capo","Avetrana","Apricena",null,{"$f":"AVERAGE(C2,D2,E2,F2,G2,I2,K2,L2,M2,O2,Q2,S2,U2,W2)","v":0}]
[{"$f":"'1 - ANAGRAFICA'!$B$8","v":7},1,null,null,null,null,null,null,null,{"$f":"I3/10000","v":0},null,null,null,{"$f":"IF(AK3=1,19,0)","v":0},null,{"$f":"IF(O3=\"SI\",22,0)","v":0},null,{"$f":"IF(Q3=\"SI\",19,0)","v":0},null,{"$f":"IF(S3=\"SI\",4,0)","v":0},null,{"$f":"IF(U3=\"SI\",16,0)","v":0},null,{"$f":"IF(W3=\"SI\",4,0)","v":0},{"$f":"SUM(N3,P3,R3,T3,V3,X3)","v":0},{"$f":"COUNTA(C3,D3:I3,K3:M3,O3,Q3,S3,U3,W3)","v":0},{"$f":"IF(D3&E3&F3&G3&H3&M3<>\"\",D3&E3&F3&G3&H3&M3,0)","v":0},{"$f":"Y3*I3","v":0},"BAT","Adelfia","Barletta","Carovigno","Alberona","Alessano","Carosino","Carapelle",{"$f":"COUNTIF($AJ$2:$AJ$51,E3)","v":0},{"$f":"MODE(C2,D2,E2,F2,G2,I2,K2,L2,M2,O2,Q2,S2,U2,W2)","v":0},{"$f":"IF(K3=\"NO\",I3,0)","v":0}]
[{"$f":"'1 - ANAGRAFICA'!$B$8","v":7},2,null,null,null,null,null,null,null,0,null,null,null,{"$f":"IF(AK4=1,19,0)","v":0},null,0,null,0,null,0,null,0,null,0,0,0,{"$f":"IF(D4&E4&F4&G4&H4&M4<>\"\",D4&E4&F4&G4&H4&M4,0)","v":0},0,"BRINDISI","Alberobello","Bisceglie","Ceglie Messapica","Anzano di Puglia","Alezio","Castellaneta","Cerignola",{"$f":"COUNTIF($AJ$2:$AJ$51,E4)","v":0},null,0]
[{"$f":"'1 - ANAGRAFICA'!$B$8","v":7},3,null,null,null,null,null,null,null,0,null,null,null,{"$f":"IF(AK5=1,19,0)","v":0},null,0,null,0,null,0,null,0,null,0,0,0,0,0,"FOGGIA","Altamura","Canosa di Puglia","Cellino San Marco","Apricena","Alliste","Crispiano","Chieuti",0,null,0]
[{"$f":"'1 - ANAGRAFICA'!$B$8","v":7},4,null,null,null,null,null,null,null,0,null,null,null,0,null,0,null,0,null,0,null,0,null,0,0,0,0,0,"LECCE","Bari","Margherita di Savoia","Cisternino","Ascoli Satriano","Andrano","Faggiano","Foggia",0,null,0]
[{"$f":"'1 - ANAGRAFICA'!$B$8","v":7},5,null,null,null,null,null,null,null,0,null,null,null,0,null,0,null,0,null,0,null,0,null,0,0,0,0,0,"TARANTO","Binetto","Minervino Murge","Erchie","Biccari","Aradeo","Fragagnano","Lesina",0,null,0]
[{"$f":"'1 - ANAGRAFICA'!$B$8","v":7},6,null,null,null,null,null,null,null,0,null,null,null,0,null,0,null,0,null,0,null,0,null,0,0,0,0,0,null,"Bitetto","San Ferdinando di Puglia","Fasano","Bovino","Arnesano","Ginosa","Lucera",0,null,0]
[{"$f":"'1 - ANAGRAFICA'!$B$8","v":7},7,null,null,null,null,null,null,null,0,null,null,null,0,null,0,null,0,null,0,null,0,null,0,0,0,0,0,null,"Bitonto","Spinazzola","Francavilla Fontana","Cagnano Varano","Bagnolo del Salento","Grottaglie","Manfredonia",0,null,0]
[{"$f":"'1 - ANAGRAFICA'!$B$8","v":7},8,null,null,null,null,null,null,null,0,null,null,null,0,null,0,null,0,null,0,null,0,null,0,0,0,0,0,null,"Bitritto","Trani","Latiano","Candela","Botrugno","Laterza","Orta Nova",0,null,0]
[{"$f":"'1 - ANAGRAFICA'!$B$8","v":7},9,null,null,null,null,null,null,null,0,null,null,null,0,null,0,null,0,null,0,null,0,null,0,0,{"$f":"COUNTA(C11,D11:I11,K11:M11,O11,Q11,S11,U11,W11)","v":0},0,0,null,"Capurso","Trinitapoli","Mesagne","Carapelle","Calimera","Leporano","Poggio Imperiale",0,null,0]
[{"$f":"'1 - ANAGRAFICA'!$B$8","v":7},10,null,null,null,null,null,null,null,0,null,null,null,0,null,0,null,0,null,0,null,0,null,0,0,0,0,0,null,"Casamassima",null,"Oria","Carlantino","Campi Salentina","Lizzano","San Nicandro Garganico",0,null,0]
[{"$f":"'1 - ANAGRAFICA'!$B$8","v":7},11,null,null,null,null,null,null,null,0,null,null,null,0,null,0,null,0,null,0,null,0,null,0,0,0,0,0,null,"Cassano delle Murge",null,"Ostuni","Carpino","Cannole","Manduria","San Paolo di Civitate",0,null,0]
[{"$f":"'1 - ANAGRAFICA'!$B$8","v":7},12,null,null,null,null,null,null,null,0,null,null,null,0,null,0,null,0,null,0,null,0,null,0,0,0,0,0,null,"Castellana Grotte",null,"San Donaci","Casalnuovo Monterotaro","Caprarica di Lecce","Martina Franca","San Severo",0,null,0]
[{"$f":"'1 - ANAGRAFICA'!$B$8","v":7},13,null,null,null,null,null,null,null,0,null,null,null,0,null,0,null,0,null,0,null,0,null,0,0,0,0,0,null,"Cellamare",null,"San Michele Salentino","Casalvecchio di Puglia","Carmiano","Maruggio","Serracapriola",0,null,0]
[{"$f":"'1 - ANAGRAFICA'!$B$8","v":7},14,null,null,null,null,null,null,null,0,null,null,null,0,null,0,null,0,null,0,null,0,null,0,0,0,0,0,null,"Conversano",null,"San Pancrazio Salentino","Castelluccio dei Sauri","Carpignano Salentino","Massafra","Stornara",0,null,0]
[{"$f":"'1 - ANAGRAFICA'!$B$8","v":7},15,null,null,null,null,null,null,null,0,null,null,null,0,null,0,null,0,null,0,null,0,null,0,0,0,0,0,null,"Corato",null,"San Pietro Vernotico","Castelluccio Valmaggiore","Casarano","Monteiasi","Stornarella",0,null,0]
[{"$f":"'1 - ANAGRAFICA'!$B$8","v":7},16,null,null,null,null,null,null,null,0,null,null,null,0,null,0,null,0,null,0,null,0,null,0,0,0,0,0,null,"Gioia del Colle",null,"San Vito dei Normanni","Castelnuovo della Daunia","Castri di Lecce","Montemesola","Torremaggiore",0,null,0]
[{"$f":"'1 - ANAGRAFICA'!$B$8","v":7},17,null,null,null,null,null,null,null,0,null,null,null,0,null,0,null,0,null,0,null,0,null,0,0,0,0,0,null,"Giovinazzo",null,"Torchiarolo","Celenza Valfortore","Castrignano de' Greci","Monteparano","Troia",0,null,0]
[{"$f":"'1 - ANAGRAFICA'!$B$8","v":7},18,null,null,null,null,null,null,null,0,null,null,null,0,null,0,null,0,null,0,null,0,null,0,0,0,0,0,null,"Gravina in Puglia",null,"Torre Santa Susanna","Celle di San Vito","Castrignano del Capo","Mottola","Ordona",0,null,0]
[{"$f":"'1 - ANAGRAFICA'!$B$8","v":7},19,null,null,null,null,null,null,null,0,null,null,null,0,null,0,null,0,null,0,null,0,null,0,0,0,0,0,null,"Grumo Appula",null,"Villa Castelli","Cerignola","Castro","Palagianello","Zapponeta",0,null,0]
[{"$f":"'1 - ANAGRAFICA'!$B$8","v":7},20,null,null,null,null,null,null,null,0,null,null,null,0,null,0,null,0,null,0,null,0,null,0,0,0,0,0,null,"Locorotondo",null,null,"Chieuti","Cavallino","Palagiano","Adelfia",0,null,0]
[{"$f":"'1 - ANAGRAFICA'!$B$8","v":7},21,null,null,null,null,null,null,null,0,null,null,null,{"$f":"IF(AK23=1,19,0)","v":0},null,0,null,0,null,0,null,0,null,0,0,0,0,0,null,"Modugno",null,null,"Deliceto","Collepasso","Pulsano","Binetto",0,null,0]
[{"$f":"'1 - ANAGRAFICA'!$B$8","v":7},22,null,null,null,null,null,null,null,0,null,null,null,0,null,0,null,0,null,0,null,0,null,0,0,0,0,0,null,"Mola di Bari",null,null,"Faeto","Copertino","Roccaforzata","Bitetto",0,null,0]
[{"$f":"'1 - ANAGRAFICA'!$B$8","v":7},23,null,null,null,null,null,null,null,0,null,null,null,0,null,0,null,0,null,0,null,0,null,0,0,0,0,0,null,"Molfetta",null,null,"Foggia","Corigliano d'Otranto","San Giorgio Ionico","Bitritto",0,null,0]
[{"$f":"'1 - ANAGRAFICA'!$B$8","v":7},24,null,null,null,null,null,null,null,0,null,null,null,0,null,0,null,0,null,0,null,0,null,0,0,0,0,0,null,"Monopoli",null,null,"Ischitella","Corsano","San Marzano di San Giuseppe","Capurso",0,null,0]
[{"$f":"'1 - ANAGRAFICA'!$B$8","v":7},25,null,null,null,null,null,null,null,0,null,null,null,0,null,0,null,0,null,0,null,0,null,0,0,0,0,0,null,"Noci",null,null,"Isole Tremiti","Cursi","Sava","Cellamare",0,null,0]
[{"$f":"'1 - ANAGRAFICA'!$B$8","v":7},26,null,null,null,null,null,null,null,0,null,null,null,0,null,0,null,0,null,0,null,0,null,0,0,{"$f":"COUNTA(D28:I28,K28:M28,O28,Q28,S28,U28,W28)","v":0},0,0,null,"Noicàttaro",null,null,"Lesina","Cutrofiano","Statte","Giovinazzo",0,null,0]
[{"$f":"'1 - ANAGRAFICA'!$B$8","v":7},27,null,null,null,null,null,null,null,0,null,null,null,0,null,0,null,0,null,0,null,0,null,0,0,0,0,0,null,"Palo del Colle",null,null,"Lucera","Diso","Taranto","Modugno",0,null,0]
[{"$f":"'1 - ANAGRAFICA'!$B$8","v":7},28,null,null,null,null,null,null,null,0,null,null,null,0,null,0,null,0,null,0,null,0,null,0,0,0,0,0,null,"Poggiorsini",null,null,"Manfredonia","Gagliano del Capo","Torricella","Mola di Bari",0,null,0]
[{"$f":"'1 - ANAGRAFICA'!$B$8","v":7},29,null,null,null,null,null,null,null,0,null,null,null,0,null,0,null,0,null,0,null,0,null,0,0,0,0,0,null,"Polignano a Mare",null,null,"Mattinata","Galatina",null,"Molfetta",0,null,0]
[{"$f":"'1 - ANAGRAFICA'!$B$8","v":7},30,null,null,null,null,null,null,null,0,null,null,null,0,null,0,null,0,null,0,null,0,null,0,0,0,0,0,null,"Putignano",null,null,"Monte Sant'Angelo","Galatone",null,"Monopoli",0,null,0]
[{"$f":"'1 - ANAGRAFICA'!$B$8","v":7},31,null,null,null,null,null,null,null,0,null,null,null,0,null,0,null,0,null,0,null,0,null,0,0,0,0,0,null,"Rutigliano",null,null,"Monteleone di Puglia","Gallipoli",null,"Noicattaro",0,null,0]
[{"$f":"'1 - ANAGRAFICA'!$B$8","v":7},32,null,null,null,null,null,null,null,0,null,null,null,0,null,0,null,0,null,0,null,0,null,0,0,0,0,0,null,"Ruvo di Puglia",null,null,"Motta Montecorvino","Giuggianello",null,"Polignano a Mare",0,null,0]
[{"$f":"'1 - ANAGRAFICA'!$B$8","v":7},33,null,null,null,null,null,null,null,{"$f":"I35/10000","v":0},null,null,null,0,null,{"$f":"IF(O35=\"SI\",22,0)","v":0},null,{"$f":"IF(Q35=\"SI\",19,0)","v":0},null,{"$f":"IF(S35=\"SI\",4,0)","v":0},null,{"$f":"IF(U35=\"SI\",16,0)","v":0},null,{"$f":"IF(W35=\"SI\",4,0)","v":0},{"$f":"SUM(N35,P35,R35,T35,V35,X35)","v":0},{"$f":"COUNTA(D35:I35,K35:M35,O35,Q35,S35,U35,W35)","v":0},0,{"$f":"Y35*I35","v":0},null,"Sammichele di Bari",null,null,"Ordona","Giurdignano",null,"Rutigliano",0,null,{"$f":"IF(K35=\"NO\",I35,0)","v":0}]
[{"$f":"'1 - ANAGRAFICA'!$B$8","v":7},34,null,null,null,null,null,null,null,0,null,null,null,0,null,0,null,0,null,0,null,0,null,0,0,0,0,0,null,"Sannicandro di Bari",null,null,"Orsara di Puglia","Guagnano",null,"Triggiano",0,null,0]
[{"$f":"'1 - ANAGRAFICA'!$B$8","v":7},35,null,null,null,null,null,null,null,0,null,null,null,0,null,0,null,0,null,0,null,0,null,0,0,0,0,0,null,"Santeramo in Colle",null,null,"Orta Nova","Lecce",null,"Valenzano",0,null,0]
[{"$f":"'1 - ANAGRAFICA'!$B$8","v":7},36,null,null,null,null,null,null,null,0,null,null,null,0,null,0,null,0,null,0,null,0,null,0,0,0,0,0,null,"Terlizzi",null,null,"Panni","Lequile",null,"Crispiano",0,null,0]
[{"$f":"'1 - ANAGRAFICA'!$B$8","v":7},37,null,null,null,null,null,null,null,0,null,null,null,0,null,0,null,0,null,0,null,0,null,0,0,0,0,0,null,"Toritto",null,null,"Peschici","Leverano",null,"Grottaglie",0,null,0]
[{"$f":"'1 - ANAGRAFICA'!$B$8","v":7},38,null,null,null,null,null,null,null,0,null,null,null,0,null,0,null,0,null,0,null,0,null,0,0,0,0,0,null,"Triggiano",null,null,"Pietramontecorvino","Lizzanello",null,"Massafra",0,null,0]
[{"$f":"'1 - ANAGRAFICA'!$B$8","v":7},39,null,null,null,null,null,null,null,0,null,null,null,0,null,0,null,0,null,0,null,0,null,0,0,0,0,0,null,"Turi",null,null,"Poggio Imperiale","Maglie",null,"Montemesola",0,null,0]
[{"$f":"'1 - ANAGRAFICA'!$B$8","v":7},40,null,null,null,null,null,null,null,0,null,null,null,0,null,0,null,0,null,0,null,0,null,0,0,0,0,0,null,"Valenzano",null,null,"Rignano Garganico","Martano",null,"Palagianello",0,null,0]
[{"$f":"'1 - ANAGRAFICA'!$B$8","v":7},41,null,null,null,null,null,null,null,0,null,null,null,0,null,0,null,0,null,0,null,0,null,0,0,0,0,0,null,null,null,null,"Rocchetta Sant'Antonio","Martignano",null,"Palagiano",0,null,0]
[{"$f":"'1 - ANAGRAFICA'!$B$8","v":7},42,null,null,null,null,null,null,null,0,null,null,null,0,null,0,null,0,null,0,null,0,null,0,0,0,0,0,null,null,null,null,"Rodi Garganico","Matino",null,"Statte",0,null,0]
[{"$f":"'1 - ANAGRAFICA'!$B$8","v":7},43,null,null,null,null,null,null,null,0,null,null,null,0,null,0,null,0,null,0,null,0,null,0,0,0,0,0,null,null,null,null,"Roseto Valfortore","Melendugno",null,"Brindisi",0,null,0]
[{"$f":"'1 - ANAGRAFICA'!$B$8","v":7},44,null,null,null,null,null,null,null,0,null,null,null,0,null,0,null,0,null,0,null,0,null,0,0,0,0,0,null,null,null,null,"San Giovanni Rotondo","Melissano",null,"Andria",0,null,0]
[{"$f":"'1 - ANAGRAFICA'!$B$8","v":7},45,null,null,null,null,null,null,null,0,null,null,null,0,null,0,null,0,null,0,null,0,null,0,0,0,0,0,null,null,null,null,"San Marco in Lamis","Melpignano",null,"Barletta",0,null,0]
[{"$f":"'1 - ANAGRAFICA'!$B$8","v":7},46,null,null,null,null,null,null,null,0,null,null,null,0,null,0,null,0,null,0,null,0,null,0,0,0,0,0,null,null,null,null,"San Marco la Catola","Miggiano",null,"Bisceglie",0,null,0]
[{"$f":"'1 - ANAGRAFICA'!$B$8","v":7},47,null,null,null,null,null,null,null,0,null,null,null,0,null,0,null,0,null,0,null,0,null,0,0,0,0,0,null,null,null,null,"San Nicandro Garganico","Minervino di Lecce",null,"Margherita di Savoia",0,null,0]
[{"$f":"'1 - ANAGRAFICA'!$B$8","v":7},48,null,null,null,null,null,null,null,0,null,null,null,0,null,0,null,0,null,0,null,0,null,0,0,0,0,0,null,null,null,null,"San Paolo di Civitate","Monteroni di Lecce",null,"San Ferdinando di Puglia",0,null,0]
[{"$f":"'1 - ANAGRAFICA'!$B$8","v":7},49,null,null,null,null,null,null,null,0,null,null,null,0,null,0,null,0,null,0,null,0,null,0,0,0,0,0,null,null,null,null,"San Severo","Montesano Salentino",null,"Trani",0,null,0]
[{"$f":"'1 - ANAGRAFICA'!$B$8","v":7},50,null,null,null,null,null,null,null,0,null,null,null,0,null,0,null,0,null,0,null,0,null,0,0,0,0,0,null,null,null,null,"Sant'Agata di Puglia","Morciano di Leuca",null,"Trinitapoli",0,null,0]
[{"$f":"'1 - ANAGRAFICA'!$B$8","v":7},51,null,null,null,null,null,null,null,0,null,null,null,0,null,0,null,0,null,0,null,0,null,0,0,0,0,0,null,null,null,null,"Serracapriola","Muro Leccese",null,null,0,null,0]
[{"$f":"'1 - ANAGRAFICA'!$B$8","v":7},52,null,null,null,null,null,null,null,0,null,null,null,0,null,0,null,0,null,0,null,0,null,0,0,0,0,0,null,null,null,null,"Stornara","Nardò",null,null,0,null,0]
[{"$f":"'1 - ANAGRAFICA'!$B$8","v":7},53,null,null,null,null,null,null,null,0,null,null,null,0,null,0,null,0,null,0,null,0,null,0,0,0,0,0,null,null,null,null,"Stornarella","Neviano",null,null,0,null,0]
[{"$f":"'1 - ANAGRAFICA'!$B$8","v":7},54,null,null,null,null,null,null,null,0,null,null,null,0,null,0,null,0,null,0,null,0,null,0,0,0,0,0,null,null,null,null,"Torremaggiore","Nociglia",null,null,0,null,0]
[{"$f":"'1 - ANAGRAFICA'!$B$8","v":7},55,null,null,null,null,null,null,null,0,null,null,null,0,null,0,null,0,null,0,null,0,null,0,0,0,0,0,null,null,null,null,"Troia","Novoli",null,null,0,null,0]
[{"$f":"'1 - ANAGRAFICA'!$B$8","v":7},56,null,null,null,null,null,null,null,0,null,null,null,0,null,0,null,0,null,0,null,0,null,0,0,0,0,0,null,null,null,null,"Vico del Gargano","Ortelle",null,null,0,null,0]
[{"$f":"'1 - ANAGRAFICA'!$B$8","v":7},57,null,null,null,null,null,null,null,0,null,null,null,0,null,0,null,0,null,0,null,0,null,0,0,0,0,0,null,null,null,null,"Vieste","Otranto",null,null,0,null,0]
[{"$f":"'1 - ANAGRAFICA'!$B$8","v":7},58,null,null,null,null,null,null,null,0,null,null,null,0,null,0,null,0,null,0,null,0,null,0,0,0,0,0,null,null,null,null,"Volturara Appula","Palmariggi",null,null,0,null,0]
[{"$f":"'1 - ANAGRAFICA'!$B$8","v":7},59,null,null,null,null,null,null,null,0,null,null,null,0,null,0,null,0,null,0,null,0,null,0,0,0,0,0,null,null,null,null,"Volturino","Parabita",null,null,0,null,0]
[{"$f":"'1 - ANAGRAFICA'!$B$8","v":7},60,null,null,null,null,null,null,null,0,null,null,null,0,null,0,null,0,null,0,null,0,null,0,0,0,0,0,null,null,null,null,"Zapponeta","Patù",null,null,0,null,0]
[{"$f":"'1 - ANAGRAFICA'!$B$8","v":7},61,null,null,null,null,null,null,null,0,null,null,null,0,null,0,null,0,null,0,null,0,null,0,0,0,0,0,null,null,null,null,null,"Poggiardo",null,null,0,null,0]
[{"$f":"'1 - ANAGRAFICA'!$B$8","v":7},62,null,null,null,null,null,null,null,0,null,null,null,0,null,0,null,0,null,0,null,0,null,0,0,0,0,0,null,null,null,null,null,"Porto Cesareo",null,null,0,null,0]
[{"$f":"'1 - ANAGRAFICA'!$B$8","v":7},63,null,null,null,null,null,null,null,0,null,null,null,0,null,0,null,0,null,0,null,0,null,0,0,0,0,0,null,null,null,null,null,"Presicce",null,null,0,null,0]
[{"$f":"'1 - ANAGRAFICA'!$B$8","v":7},64,null,null,null,null,null,null,null,0,null,null,null,0,null,0,null,0,null,0,null,0,null,0,0,0,0,0,null,null,null,null,null,"Racale",null,null,0,null,0]
[{"$f":"'1 - ANAGRAFICA'!$B$8","v":7},65,null,null,null,null,null,null,null,{"$f":"I67/10000","v":0},null,null,null,0,null,{"$f":"IF(O67=\"SI\",22,0)","v":0},null,{"$f":"IF(Q67=\"SI\",19,0)","v":0},null,{"$f":"IF(S67=\"SI\",4,0)","v":0},null,{"$f":"IF(U67=\"SI\",16,0)","v":0},null,{"$f":"IF(W67=\"SI\",4,0)","v":0},{"$f":"SUM(N67,P67,R67,T67,V67,X67)","v":0},{"$f":"COUNTA(D67:I67,K67:M67,O67,Q67,S67,U67,W67)","v":0},0,{"$f":"Y67*I67","v":0},null,null,null,null,null,"Ruffano",null,null,0,null,{"$f":"IF(K67=\"NO\",I67,0)","v":0}]
[{"$f":"'1 - ANAGRAFICA'!$B$8","v":7},66,null,null,null,null,null,null,null,0,null,null,null,0,null,0,null,0,null,0,null,0,null,0,0,0,{"$f":"IF(D68&E68&F68&G68&H68&M68<>\"\",D68&E68&F68&G68&H68&M68,0)","v":0},0,null,null,null,null,null,"Salice Salentino",null,null,{"$f":"COUNTIF($AJ$2:$AJ$51,E68)","v":0},null,0]
[{"$f":"'1 - ANAGRAFICA'!$B$8","v":7},67,null,null,null,null,null,null,null,0,null,null,null,0,null,0,null,0,null,0,null,0,null,0,0,0,0,0,null,null,null,null,null,"Salve",null,null,0,null,0]
[{"$f":"'1 - ANAGRAFICA'!$B$8","v":7},68,null,null,null,null,null,null,null,0,null,null,null,0,null,0,null,0,null,0,null,0,null,0,0,0,0,0,null,null,null,null,null,"San Cassiano",null,null,0,null,0]
[{"$f":"'1 - ANAGRAFICA'!$B$8","v":7},69,null,null,null,null,null,null,null,0,null,null,null,0,null,0,null,0,null,0,null,0,null,0,0,0,0,0,null,null,null,null,null,"San Cesario di Lecce",null,null,0,null,0]
[{"$f":"'1 - ANAGRAFICA'!$B$8","v":7},70,null,null,null,null,null,null,null,0,null,null,null,0,null,0,null,0,null,0,null,0,null,0,0,0,0,0,null,null,null,null,null,"San Donato di Lecce",null,null,0,null,0]
[{"$f":"'1 - ANAGRAFICA'!$B$8","v":7},71,null,null,null,null,null,null,null,0,null,null,null,0,null,0,null,0,null,0,null,0,null,0,0,0,0,0,null,null,null,null,null,"San Pietro in Lama",null,null,0,null,0]
[{"$f":"'1 - ANAGRAFICA'!$B$8","v":7},72,null,null,null,null,null,null,null,0,null,null,null,0,null,0,null,0,null,0,null,0,null,0,0,0,0,0,null,null,null,null,null,"Sanarica",null,null,0,null,0]
[{"$f":"'1 - ANAGRAFICA'!$B$8","v":7},73,null,null,null,null,null,null,null,0,null,null,null,0,null,0,null,0,null,0,null,0,null,0,0,0,0,0,null,null,null,null,null,"Sannicola",null,null,0,null,0]
[{"$f":"'1 - ANAGRAFICA'!$B$8","v":7},74,null,null,null,null,null,null,null,0,null,null,null,0,null,0,null,0,null,0,null,0,null,0,0,0,0,0,null,null,null,null,null,"Santa Cesarea Terme",null,null,0,null,0]
[{"$f":"'1 - ANAGRAFICA'!$B$8","v":7},75,null,null,null,null,null,null,null,0,null,null,null,0,null,0,null,0,null,0,null,0,null,0,0,0,0,0,null,null,null,null,null,"Scorrano",null,null,0,null,0]
[{"$f":"'1 - ANAGRAFICA'!$B$8","v":7},76,null,null,null,null,null,null,null,0,null,null,null,0,null,0,null,0,null,0,null,0,null,0,0,0,0,0,null,null,null,null,null,"Seclì",null,null,0,null,0]
[{"$f":"'1 - ANAGRAFICA'!$B$8","v":7},77,null,null,null,null,null,null,null,0,null,null,null,0,null,0,null,0,null,0,null,0,null,0,0,0,0,0,null,null,null,null,null,"Sogliano Cavour",null,null,0,null,0]
[{"$f":"'1 - ANAGRAFICA'!$B$8","v":7},78,null,null,null,null,null,null,null,0,null,null,null,0,null,0,null,0,null,0,null,0,null,0,0,0,0,0,null,null,null,null,null,"Soleto",null,null,0,null,0]
[{"$f":"'1 - ANAGRAFICA'!$B$8","v":7},79,null,null,null,null,null,null,null,0,null,null,null,0,null,0,null,0,null,0,null,0,null,0,0,0,0,0,null,null,null,null,null,"Specchia",null,null,0,null,0]
[{"$f":"'1 - ANAGRAFICA'!$B$8","v":7},80,null,null,null,null,null,null,null,0,null,null,null,0,null,0,null,0,null,0,null,0,null,0,0,0,0,0,null,null,null,null,null,"Spongano",null,null,0,null,0]
[{"$f":"'1 - ANAGRAFICA'!$B$8","v":7},81,null,null,null,null,null,null,null,0,null,null,null,0,null,0,null,0,null,0,null,0,null,0,0,0,0,0,null,null,null,null,null,"Squinzano",null,null,0,null,0]
[{"$f":"'1 - ANAGRAFICA'!$B$8","v":7},82,null,null,null,null,null,null,null,0,null,null,null,0,null,0,null,0,null,0,null,0,null,0,0,0,0,0,null,null,null,null,null,"Sternatia",null,null,0,null,0]
[{"$f":"'1 - ANAGRAFICA'!$B$8","v":7},83,null,null,null,null,null,null,null,0,null,null,null,0,null,0,null,0,null,0,null,0,null,0,0,0,0,0,null,null,null,null,null,"Supersano",null,null,0,null,0]
[{"$f":"'1 - ANAGRAFICA'!$B$8","v":7},84,null,null,null,null,null,null,null,0,null,null,null,0,null,0,null,0,null,0,null,0,null,0,0,0,0,0,null,null,null,null,null,"Surano",null,null,0,null,0]
[{"$f":"'1 - ANAGRAFICA'!$B$8","v":7},85,null,null,null,null,null,null,null,0,null,null,null,{"$f":"IF(AK87=1,19,0)","v":0},null,{"$f":"IF(O87=\"SI\",22,0)","v":0},null,{"$f":"IF(Q87=\"SI\",19,0)","v":0},null,{"$f":"IF(S87=\"SI\",4,0)","v":0},null,{"$f":"IF(U87=\"SI\",16,0)","v":0},null,{"$f":"IF(W87=\"SI\",4,0)","v":0},{"$f":"SUM(N87,P87,R87,T87,V87,X87)","v":0},0,0,0,null,null,null,null,null,"Surbo",null,null,0,null,0]
[{"$f":"'1 - ANAGRAFICA'!$B$8","v":7},86,null,null,null,null,null,null,null,0,null,null,null,0,null,0,null,0,null,0,null,0,null,0,0,0,0,0,null,null,null,null,null,"Taurisano",null,null,0,null,0]
[{"$f":"'1 - ANAGRAFICA'!$B$8","v":7},87,null,null,null,null,null,null,null,0,null,null,null,0,null,0,null,0,null,0,null,0,null,0,0,0,0,0,null,null,null,null,null,"Taviano",null,null,0,null,0]
[{"$f":"'1 - ANAGRAFICA'!$B$8","v":7},88,null,null,null,null,null,null,null,0,null,null,null,0,null,0,null,0,null,0,null,0,null,0,0,0,0,0,null,null,null,null,null,"Tiggiano",null,null,0,null,0]
[{"$f":"'1 - ANAGRAFICA'!$B$8","v":7},89,null,null,null,null,null,null,null,0,null,null,null,0,null,0,null,0,null,0,null,0,null,0,0,0,0,0,null,null,null,null,null,"Trepuzzi",null,null,0,null,0]
[{"$f":"'1 - ANAGRAFICA'!$B$8","v":7},90,null,null,null,null,null,null,null,0,null,null,null,0,null,0,null,0,null,0,null,0,null,0,0,0,0,0,null,null,null,null,null,"Tricase",null,null,0,null,0]
[{"$f":"'1 - ANAGRAFICA'!$B$8","v":7},91,null,null,null,null,null,null,null,0,null,null,null,0,null,0,null,0,null,0,null,0,null,0,0,0,0,0,null,null,null,null,null,"Tuglie",null,null,0,null,0]
[{"$f":"'1 - ANAGRAFICA'!$B$8","v":7},92,null,null,null,null,null,null,null,0,null,null,null,0,null,0,null,0,null,0,null,0,null,0,0,0,0,0,null,null,null,null,null,"Ugento",null,null,0,null,0]
[{"$f":"'1 - ANAGRAFICA'!$B$8","v":7},93,null,null,null,null,null,null,null,0,null,null,null,0,null,0,null,0,null,0,null,0,null,0,0,0,0,0,null,null,null,null,null,"Uggiano La Chiesa",null,null,0,null,0]
[{"$f":"'1 - ANAGRAFICA'!$B$8","v":7},94,null,null,null,null,null,null,null,0,null,null,null,0,null,0,null,0,null,0,null,0,null,0,0,0,0,0,null,null,null,null,null,"Veglie",null,null,0,null,{"$f":"IF(K96=\"NO\",I96,0)","v":0}]
[{"$f":"'1 - ANAGRAFICA'!$B$8","v":7},95,null,null,null,null,null,null,null,0,null,null,null,0,null,0,null,0,null,0,null,0,null,0,0,0,0,0,null,null,null,null,null,"Vernole",null,null,0,null,0]
[{"$f":"'1 - ANAGRAFICA'!$B$8","v":7},96,null,null,null,null,null,null,null,0,null,null,null,0,null,0,null,0,null,0,null,0,null,0,0,0,0,0,null,null,null,null,null,"Zollino",null,null,0,null,0]
[{"$f":"'1 - ANAGRAFICA'!$B$8","v":7},97,null,null,null,null,null,null,null,{"$f":"I99/10000","v":0},null,null,null,0,null,0,null,0,null,0,null,0,null,0,0,0,0,{"$f":"Y99*I99","v":0},null,null,null,null,null,null,null,null,0,null,0]
[{"$f":"'1 - ANAGRAFICA'!$B$8","v":7},98,null,null,null,null,null,null,null,0,null,null,null,0,null,0,null,0,null,0,null,0,null,0,0,0,0,0,null,null,null,null,null,null,null,null,0,null,0]
[{"$f":"'1 - ANAGRAFICA'!$B$8","v":7},99,null,null,null,null,null,null,null,0,null,null,null,0,null,0,null,0,null,0,null,0,null,0,0,0,0,0,null,null,null,null,null,null,null,null,0,null,0]
[{"$f":"'1 - ANAGRAFICA'!$B$8","v":7},100,null,null,null,null,null,null,null,0,null,null,null,0,null,0,null,0,null,0,null,0,null,0,0,0,0,0,null,null,null,null,null,null,null,null,0,null,0]

{"sheet":"3 - SPECIE DA IMPIANTARE","index":2,"n_rows":102,"n_cols":37,"rows_kept":102,"cut":false,"hidden":false,"merged":[[0,17,0,19],[0,14,0,16],[0,11,0,13],[0,8,0,10],[0,26,0,28],[0,23,0,25],[0,20,0,22],[0,1,1,1],[0,7,1,7],[0,5,1,5],[0,4,1,4],[0,3,1,3],[0,2,1,2],[0,6,1,6]]}
[null,"N. Pr.","COMUNE","FG","P.LLA","SUPERFICIE INTERVENTO\nm2","UNITA' IMBOSCHIMENTO","TIPOLOGIA INTERVENTO\n(AZ. 1 -2 - 3)","SPECIE_1",null,null,"SPECIE_2",null,null,"SPECIE_3",null,null,"SPECIE_4",null,null,"SPECIE_5",null,null,"ALTRE SPECIE",null,null,"CONTROLLO"]
[null,null,null,null,null,null,null,null,"SPECIE","Num. PIANTE","%","SPECIE","Num. PIANTE","%","SPECIE","Num. PIANTE","%","SPECIE","Num. PIANTE","%","SPECIE","Num. PIANTE","%","ALTRE","Num. PIANTE","%","Num. MIN PIANTE\nOBBLIGATORIO","Num. PIANTE PREVISTO","Num. TOT SPECIE\nP.LLA",null,null,null,null,"AZIONE","AZIONE 1","AZIONE 2","AZIONE 3"]
[{"$f":"'1 - ANAGRAFICA'!$B$6","v":0},1,{"$f":"'2 - QUADRO LOCALIZZAZIONE'!E3","v":0},{"$f":"'2 - QUADRO LOCALIZZAZIONE'!F3","v":0},{"$f":"'2 - QUADRO LOCALIZZAZIONE'!G3","v":0},{"$f":"'2 - QUADRO LOCALIZZAZIONE'!I3","v":0},{"$f":"'2 - QUADRO LOCALIZZAZIONE'!C3","v":0},{"$f":"'2 - QUADRO LOCALIZZAZIONE'!M3","v":0},null,null,{"$f":"IF(J3=0,0,J3/$AB3)","v":0},null,null,{"$f":"IF(M3=0,0,M3/$AB3)","v":0},null,null,{"$f":"IF(P3=0,0,P3/$AB3)","v":0},null,null,{"$f":"IF(S3=0,0,S3/$AB3)","v":0},null,null,{"$f":"IF(V3=0,0,V3/$AB3)","v":0},null,null,{"$f":"IF(Y3=0,0,Y3/$AB3)","v":0},{"$f":"CEILING(IF(H3=\"AZIONE_2\",F3/10000*400,F3/10000*1600),1)","v":0},{"$f":"IF(H3<>0,SUM(J3,M3,P3,S3,V3,Y3),0)","v":0},{"$f":"IF(AND(H3<>0,COUNTA(I3,L3,O3,R3,U3,X3)<1),\"Indicare almeno una specie\",COUNTA(I3,L3,O3,R3,U3,X3))","v":0},null,null,null,null,"AZIONE_1","Acero campestre","Acero campestre","Acero montano"]
[{"$f":"'1 - ANAGRAFICA'!$B$6","v":0},2,{"$f":"'2 - QUADRO LOCALIZZAZIONE'!E4","v":0},{"$f":"'2 - QUADRO LOCALIZZAZIONE'!F4","v":0},{"$f":"'2 - QUADRO LOCALIZZAZIONE'!G4","v":0},{"$f":"'2 - QUADRO LOCALIZZAZIONE'!I4","v":0},{"$f":"'2 - QUADRO LOCALIZZAZIONE'!C4","v":0},{"$f":"'2 - QUADRO LOCALIZZAZIONE'!M4","v":0},null,null,{"$f":"IF(J4=0,0,J4/$AB4)","v":0},null,null,{"$f":"IF(M4=0,0,M4/$AB4)","v":0},null,null,{"$f":"IF(P4=0,0,P4/$AB4)","v":0},null,null,{"$f":"IF(S4=0,0,S4/$AB4)","v":0},null,null,{"$f":"IF(V4=0,0,V4/$AB4)","v":0},null,null,{"$f":"IF(Y4=0,0,Y4/$AB4)","v":0},{"$f":"CEILING(IF(H4=\"AZIONE_2\",F4/10000*400,F4/10000*1600),1)","v":0},{"$f":"IF(H4<>0,SUM(J4,M4,P4,S4,V4,Y4),0)","v":0},{"$f":"IF(AND(H4<>0,COUNTA(I4,L4,O4,R4,U4,X4)<1),\"Indicare almeno una specie\",COUNTA(I4,L4,O4,R4,U4,X4))","v":0},null,null,null,null,"AZIONE_2","Acero minore","Acero minore","Albero di Giuda"]
[{"$f":"'1 - ANAGRAFICA'!$B$6","v":0},3,{"$f":"'2 - QUADRO LOCALIZZAZIONE'!E5","v":0},{"$f":"'2 - QUADRO LOCALIZZAZIONE'!F5","v":0},{"$f":"'2 - QUADRO LOCALIZZAZIONE'!G5","v":0},{"$f":"'2 - QUADRO LOCALIZZAZIONE'!I5","v":0},{"$f":"'2 - QUADRO LOCALIZZAZIONE'!C5","v":0},{"$f":"'2 - QUADRO LOCALIZZAZIONE'!M5","v":0},null,null,0,null,null,0,null,null,0,null,null,0,null,null,0,null,null,0,0,0,0,null,null,null,null,"AZIONE_3","Acero opalo","Acero montano","Carrubo"]
[{"$f":"'1 - ANAGRAFICA'!$B$6","v":0},4,{"$f":"'2 - QUADRO LOCALIZZAZIONE'!E6","v":0},{"$f":"'2 - QUADRO LOCALIZZAZIONE'!F6","v":0},{"$f":"'2 - QUADRO LOCALIZZAZIONE'!G6","v":0},{"$f":"'2 - QUADRO LOCALIZZAZIONE'!I6","v":0},{"$f":"'2 - QUADRO LOCALIZZAZIONE'!C6","v":0},{"$f":"'2 - QUADRO LOCALIZZAZIONE'!M6","v":0},null,null,0,null,null,0,null,null,0,null,null,{"$f":"IF(S6=0,0,S6/$AB6)","v":0},null,null,0,null,null,0,0,0,0,null,null,null,null,null,"Agrifoglio","Acero opalo","Castagno"]
[{"$f":"'1 - ANAGRAFICA'!$B$6","v":0},5,{"$f":"'2 - QUADRO LOCALIZZAZIONE'!E7","v":0},{"$f":"'2 - QUADRO LOCALIZZAZIONE'!F7","v":0},{"$f":"'2 - QUADRO LOCALIZZAZIONE'!G7","v":0},{"$f":"'2 - QUADRO LOCALIZZAZIONE'!I7","v":0},{"$f":"'2 - QUADRO LOCALIZZAZIONE'!C7","v":0},{"$f":"'2 - QUADRO LOCALIZZAZIONE'!M7","v":0},null,null,0,null,null,0,null,null,0,null,null,0,null,null,0,null,null,0,0,0,0,null,null,null,null,null,"Alaterno","Agrifoglio","Ciavardello"]
[{"$f":"'1 - ANAGRAFICA'!$B$6","v":0},6,{"$f":"'2 - QUADRO LOCALIZZAZIONE'!E8","v":0},{"$f":"'2 - QUADRO LOCALIZZAZIONE'!F8","v":0},{"$f":"'2 - QUADRO LOCALIZZAZIONE'!G8","v":0},{"$f":"'2 - QUADRO LOCALIZZAZIONE'!I8","v":0},{"$f":"'2 - QUADRO LOCALIZZAZIONE'!C8","v":0},{"$f":"'2 - QUADRO LOCALIZZAZIONE'!M8","v":0},null,null,0,null,null,0,null,null,0,null,null,0,null,null,0,null,null,0,0,0,0,null,null,null,null,null,"Albero di Giuda","Alaterno","Ciliegio"]
[{"$f":"'1 - ANAGRAFICA'!$B$6","v":0},7,{"$f":"'2 - QUADRO LOCALIZZAZIONE'!E9","v":0},{"$f":"'2 - QUADRO LOCALIZZAZIONE'!F9","v":0},{"$f":"'2 - QUADRO LOCALIZZAZIONE'!G9","v":0},{"$f":"'2 - QUADRO LOCALIZZAZIONE'!I9","v":0},{"$f":"'2 - QUADRO LOCALIZZAZIONE'!C9","v":0},{"$f":"'2 - QUADRO LOCALIZZAZIONE'!M9","v":0},null,null,0,null,null,0,null,null,0,null,null,0,null,null,0,null,null,0,0,0,0,null,null,null,null,null,"Alloro","Albero di Giuda","Ciliegio canino"]
[{"$f":"'1 - ANAGRAFICA'!$B$6","v":0},8,{"$f":"'2 - QUADRO LOCALIZZAZIONE'!E10","v":0},{"$f":"'2 - QUADRO LOCALIZZAZIONE'!F10","v":0},{"$f":"'2 - QUADRO LOCALIZZAZIONE'!G10","v":0},{"$f":"'2 - QUADRO LOCALIZZAZIONE'!I10","v":0},{"$f":"'2 - QUADRO LOCALIZZAZIONE'!C10","v":0},{"$f":"'2 - QUADRO LOCALIZZAZIONE'!M10","v":0},null,null,0,null,null,0,null,null,0,null,null,0,null,null,0,null,null,0,0,0,0,null,null,null,null,null,"Biancospino ","Alloro","Farnia"]
[{"$f":"'1 - ANAGRAFICA'!$B$6","v":0},9,{"$f":"'2 - QUADRO LOCALIZZAZIONE'!E11","v":0},{"$f":"'2 - QUADRO LOCALIZZAZIONE'!F11","v":0},{"$f":"'2 - QUADRO LOCALIZZAZIONE'!G11","v":0},{"$f":"'2 - QUADRO LOCALIZZAZIONE'!I11","v":0},{"$f":"'2 - QUADRO LOCALIZZAZIONE'!C11","v":0},{"$f":"'2 - QUADRO LOCALIZZAZIONE'!M11","v":0},null,null,0,null,null,0,null,null,0,null,null,0,null,null,0,null,null,0,0,0,0,null,null,null,null,null,"Carpinella","Biancospino ","Frassino maggiore"]
[{"$f":"'1 - ANAGRAFICA'!$B$6","v":0},10,{"$f":"'2 - QUADRO LOCALIZZAZIONE'!E12","v":0},{"$f":"'2 - QUADRO LOCALIZZAZIONE'!F12","v":0},{"$f":"'2 - QUADRO LOCALIZZAZIONE'!G12","v":0},{"$f":"'2 - QUADRO LOCALIZZAZIONE'!I12","v":0},{"$f":"'2 - QUADRO LOCALIZZAZIONE'!C12","v":0},{"$f":"'2 - QUADRO LOCALIZZAZIONE'!M12","v":0},null,null,0,null,null,0,null,null,0,null,null,0,null,null,0,null,null,0,0,0,0,null,null,null,null,null,"Carpino bianco","Carpinella","Frassino meridionale/oxyphilla"]
[{"$f":"'1 - ANAGRAFICA'!$B$6","v":0},11,{"$f":"'2 - QUADRO LOCALIZZAZIONE'!E13","v":0},{"$f":"'2 - QUADRO LOCALIZZAZIONE'!F13","v":0},{"$f":"'2 - QUADRO LOCALIZZAZIONE'!G13","v":0},{"$f":"'2 - QUADRO LOCALIZZAZIONE'!I13","v":0},{"$f":"'2 - QUADRO LOCALIZZAZIONE'!C13","v":0},{"$f":"'2 - QUADRO LOCALIZZAZIONE'!M13","v":0},null,null,0,null,null,0,null,null,0,null,null,0,null,null,0,null,null,0,0,0,0,null,null,null,null,null,"Carpino nero","Carpino bianco","Frassino meridionale/oxycarpa"]
[{"$f":"'1 - ANAGRAFICA'!$B$6","v":0},12,{"$f":"'2 - QUADRO LOCALIZZAZIONE'!E14","v":0},{"$f":"'2 - QUADRO LOCALIZZAZIONE'!F14","v":0},{"$f":"'2 - QUADRO LOCALIZZAZIONE'!G14","v":0},{"$f":"'2 - QUADRO LOCALIZZAZIONE'!I14","v":0},{"$f":"'2 - QUADRO LOCALIZZAZIONE'!C14","v":0},{"$f":"'2 - QUADRO LOCALIZZAZIONE'!M14","v":0},null,null,0,null,null,0,null,null,0,null,null,0,null,null,0,null,null,0,0,0,0,null,null,null,null,null,"Carrubo","Carpino nero","Olmo minore"]
[{"$f":"'1 - ANAGRAFICA'!$B$6","v":0},13,{"$f":"'2 - QUADRO LOCALIZZAZIONE'!E15","v":0},{"$f":"'2 - QUADRO LOCALIZZAZIONE'!F15","v":0},{"$f":"'2 - QUADRO LOCALIZZAZIONE'!G15","v":0},{"$f":"'2 - QUADRO LOCALIZZAZIONE'!I15","v":0},{"$f":"'2 - QUADRO LOCALIZZAZIONE'!C15","v":0},{"$f":"'2 - QUADRO LOCALIZZAZIONE'!M15","v":0},null,null,0,null,null,0,null,null,0,null,null,0,null,null,0,null,null,0,0,0,0,null,null,null,null,null,"Cerro","Carrubo","Ontano napoletano"]
[{"$f":"'1 - ANAGRAFICA'!$B$6","v":0},14,{"$f":"'2 - QUADRO LOCALIZZAZIONE'!E16","v":0},{"$f":"'2 - QUADRO LOCALIZZAZIONE'!F16","v":0},{"$f":"'2 - QUADRO LOCALIZZAZIONE'!G16","v":0},{"$f":"'2 - QUADRO LOCALIZZAZIONE'!I16","v":0},{"$f":"'2 - QUADRO LOCALIZZAZIONE'!C16","v":0},{"$f":"'2 - QUADRO LOCALIZZAZIONE'!M16","v":0},null,null,0,null,null,0,null,null,0,null,null,0,null,null,0,null,null,0,0,0,0,null,null,null,null,null,"Ciavardello","Castagno","Ontano nero"]
[{"$f":"'1 - ANAGRAFICA'!$B$6","v":0},15,{"$f":"'2 - QUADRO LOCALIZZAZIONE'!E17","v":0},{"$f":"'2 - QUADRO LOCALIZZAZIONE'!F17","v":0},{"$f":"'2 - QUADRO LOCALIZZAZIONE'!G17","v":0},{"$f":"'2 - QUADRO LOCALIZZAZIONE'!I17","v":0},{"$f":"'2 - QUADRO LOCALIZZAZIONE'!C17","v":0},{"$f":"'2 - QUADRO LOCALIZZAZIONE'!M17","v":0},null,null,0,null,null,0,null,null,0,null,null,0,null,null,0,null,null,0,0,0,0,null,null,null,null,null,"Cisto rosso","Cerro","Orniello"]
[{"$f":"'1 - ANAGRAFICA'!$B$6","v":0},16,{"$f":"'2 - QUADRO LOCALIZZAZIONE'!E18","v":0},{"$f":"'2 - QUADRO LOCALIZZAZIONE'!F18","v":0},{"$f":"'2 - QUADRO LOCALIZZAZIONE'!G18","v":0},{"$f":"'2 - QUADRO LOCALIZZAZIONE'!I18","v":0},{"$f":"'2 - QUADRO LOCALIZZAZIONE'!C18","v":0},{"$f":"'2 - QUADRO LOCALIZZAZIONE'!M18","v":0},null,null,0,null,null,0,null,null,0,null,null,0,null,null,0,null,null,0,0,0,0,null,null,null,null,null,"Cisto salvifoglio","Ciavardello","Pino d’Aleppo"]
[{"$f":"'1 - ANAGRAFICA'!$B$6","v":0},17,{"$f":"'2 - QUADRO LOCALIZZAZIONE'!E19","v":0},{"$f":"'2 - QUADRO LOCALIZZAZIONE'!F19","v":0},{"$f":"'2 - QUADRO LOCALIZZAZIONE'!G19","v":0},{"$f":"'2 - QUADRO LOCALIZZAZIONE'!I19","v":0},{"$f":"'2 - QUADRO LOCALIZZAZIONE'!C19","v":0},{"$f":"'2 - QUADRO LOCALIZZAZIONE'!M19","v":0},null,null,0,null,null,0,null,null,0,null,null,0,null,null,0,null,null,0,0,0,0,null,null,null,null,null,"Corbezzolo  ","Ciliegio","Pino domestico"]
[{"$f":"'1 - ANAGRAFICA'!$B$6","v":0},18,{"$f":"'2 - QUADRO LOCALIZZAZIONE'!E20","v":0},{"$f":"'2 - QUADRO LOCALIZZAZIONE'!F20","v":0},{"$f":"'2 - QUADRO LOCALIZZAZIONE'!G20","v":0},{"$f":"'2 - QUADRO LOCALIZZAZIONE'!I20","v":0},{"$f":"'2 - QUADRO LOCALIZZAZIONE'!C20","v":0},{"$f":"'2 - QUADRO LOCALIZZAZIONE'!M20","v":0},null,null,0,null,null,0,null,null,0,null,null,0,null,null,0,null,null,0,0,0,0,null,null,null,null,null,"Corniolo","Ciliegio canino","Pino marittimo"]
[{"$f":"'1 - ANAGRAFICA'!$B$6","v":0},19,{"$f":"'2 - QUADRO LOCALIZZAZIONE'!E21","v":0},{"$f":"'2 - QUADRO LOCALIZZAZIONE'!F21","v":0},{"$f":"'2 - QUADRO LOCALIZZAZIONE'!G21","v":0},{"$f":"'2 - QUADRO LOCALIZZAZIONE'!I21","v":0},{"$f":"'2 - QUADRO LOCALIZZAZIONE'!C21","v":0},{"$f":"'2 - QUADRO LOCALIZZAZIONE'!M21","v":0},null,null,0,null,null,0,null,null,0,null,null,0,null,null,0,null,null,0,0,0,0,null,null,null,null,null,"Coronilla","Cisto rosso","Pioppo nero"]
[{"$f":"'1 - ANAGRAFICA'!$B$6","v":0},20,{"$f":"'2 - QUADRO LOCALIZZAZIONE'!E22","v":0},{"$f":"'2 - QUADRO LOCALIZZAZIONE'!F22","v":0},{"$f":"'2 - QUADRO LOCALIZZAZIONE'!G22","v":0},{"$f":"'2 - QUADRO LOCALIZZAZIONE'!I22","v":0},{"$f":"'2 - QUADRO LOCALIZZAZIONE'!C22","v":0},{"$f":"'2 - QUADRO LOCALIZZAZIONE'!M22","v":0},null,null,0,null,null,0,null,null,0,null,null,0,null,null,0,null,null,0,0,0,0,null,null,null,null,null,"Erica","Cisto salvifoglio","Salice bianco"]
[{"$f":"'1 - ANAGRAFICA'!$B$6","v":0},21,{"$f":"'2 - QUADRO LOCALIZZAZIONE'!E23","v":0},{"$f":"'2 - QUADRO LOCALIZZAZIONE'!F23","v":0},{"$f":"'2 - QUADRO LOCALIZZAZIONE'!G23","v":0},{"$f":"'2 - QUADRO LOCALIZZAZIONE'!I23","v":0},{"$f":"'2 - QUADRO LOCALIZZAZIONE'!C23","v":0},{"$f":"'2 - QUADRO LOCALIZZAZIONE'!M23","v":0},null,null,0,null,null,0,null,null,0,null,null,0,null,null,0,null,null,0,0,0,0,null,null,null,null,null,"Faggio","Corbezzolo  ","Tiglio nostrale"]
[{"$f":"'1 - ANAGRAFICA'!$B$6","v":0},22,{"$f":"'2 - QUADRO LOCALIZZAZIONE'!E24","v":0},{"$f":"'2 - QUADRO LOCALIZZAZIONE'!F24","v":0},{"$f":"'2 - QUADRO LOCALIZZAZIONE'!G24","v":0},{"$f":"'2 - QUADRO LOCALIZZAZIONE'!I24","v":0},{"$f":"'2 - QUADRO LOCALIZZAZIONE'!C24","v":0},{"$f":"'2 - QUADRO LOCALIZZAZIONE'!M24","v":0},null,null,0,null,null,0,null,null,0,null,null,0,null,null,0,null,null,0,0,0,0,null,null,null,null,null,"Farnetto","Corniolo","Tiglio selvatico"]
[{"$f":"'1 - ANAGRAFICA'!$B$6","v":0},23,{"$f":"'2 - QUADRO LOCALIZZAZIONE'!E25","v":0},{"$f":"'2 - QUADRO LOCALIZZAZIONE'!F25","v":0},{"$f":"'2 - QUADRO LOCALIZZAZIONE'!G25","v":0},{"$f":"'2 - QUADRO LOCALIZZAZIONE'!I25","v":0},{"$f":"'2 - QUADRO LOCALIZZAZIONE'!C25","v":0},{"$f":"'2 - QUADRO LOCALIZZAZIONE'!M25","v":0},null,null,0,null,null,0,null,null,0,null,null,0,null,null,0,null,null,0,0,0,0,null,null,null,null,null,"Fillirea","Coronilla"]
[{"$f":"'1 - ANAGRAFICA'!$B$6","v":0},24,{"$f":"'2 - QUADRO LOCALIZZAZIONE'!E26","v":0},{"$f":"'2 - QUADRO LOCALIZZAZIONE'!F26","v":0},{"$f":"'2 - QUADRO LOCALIZZAZIONE'!G26","v":0},{"$f":"'2 - QUADRO LOCALIZZAZIONE'!I26","v":0},{"$f":"'2 - QUADRO LOCALIZZAZIONE'!C26","v":0},{"$f":"'2 - QUADRO LOCALIZZAZIONE'!M26","v":0},null,null,0,null,null,0,null,null,0,null,null,0,null,null,0,null,null,0,0,0,0,null,null,null,null,null,"Fragno","Erica"]
[{"$f":"'1 - ANAGRAFICA'!$B$6","v":0},25,{"$f":"'2 - QUADRO LOCALIZZAZIONE'!E27","v":0},{"$f":"'2 - QUADRO LOCALIZZAZIONE'!F27","v":0},{"$f":"'2 - QUADRO LOCALIZZAZIONE'!G27","v":0},{"$f":"'2 - QUADRO LOCALIZZAZIONE'!I27","v":0},{"$f":"'2 - QUADRO LOCALIZZAZIONE'!C27","v":0},{"$f":"'2 - QUADRO LOCALIZZAZIONE'!M27","v":0},null,null,0,null,null,0,null,null,0,null,null,0,null,null,0,null,null,0,0,0,0,null,null,null,null,null,"Frassino maggiore","Faggio"]
[{"$f":"'1 - ANAGRAFICA'!$B$6","v":0},26,{"$f":"'2 - QUADRO LOCALIZZAZIONE'!E28","v":0},{"$f":"'2 - QUADRO LOCALIZZAZIONE'!F28","v":0},{"$f":"'2 - QUADRO LOCALIZZAZIONE'!G28","v":0},{"$f":"'2 - QUADRO LOCALIZZAZIONE'!I28","v":0},{"$f":"'2 - QUADRO LOCALIZZAZIONE'!C28","v":0},{"$f":"'2 - QUADRO LOCALIZZAZIONE'!M28","v":0},null,null,0,null,null,0,null,null,0,null,null,0,null,null,0,null,null,0,0,0,0,null,null,null,null,null,"Frassino meridionale/oxycarpa","Farnetto"]
[{"$f":"'1 - ANAGRAFICA'!$B$6","v":0},27,{"$f":"'2 - QUADRO LOCALIZZAZIONE'!E29","v":0},{"$f":"'2 - QUADRO LOCALIZZAZIONE'!F29","v":0},{"$f":"'2 - QUADRO LOCALIZZAZIONE'!G29","v":0},{"$f":"'2 - QUADRO LOCALIZZAZIONE'!I29","v":0},{"$f":"'2 - QUADRO LOCALIZZAZIONE'!C29","v":0},{"$f":"'2 - QUADRO LOCALIZZAZIONE'!M29","v":0},null,null,0,null,null,0,null,null,0,null,null,0,null,null,0,null,null,0,0,0,0,null,null,null,null,null,"Fusaggine o Berretta da prete","Farnia"]
[{"$f":"'1 - ANAGRAFICA'!$B$6","v":0},28,{"$f":"'2 - QUADRO LOCALIZZAZIONE'!E30","v":0},{"$f":"'2 - QUADRO LOCALIZZAZIONE'!F30","v":0},{"$f":"'2 - QUADRO LOCALIZZAZIONE'!G30","v":0},{"$f":"'2 - QUADRO LOCALIZZAZIONE'!I30","v":0},{"$f":"'2 - QUADRO LOCALIZZAZIONE'!C30","v":0},{"$f":"'2 - QUADRO LOCALIZZAZIONE'!M30","v":0},null,null,0,null,null,0,null,null,0,null,null,0,null,null,0,null,null,0,0,0,0,null,null,null,null,null,"Ginepro coccolone","Fillirea"]
[{"$f":"'1 - ANAGRAFICA'!$B$6","v":0},29,{"$f":"'2 - QUADRO LOCALIZZAZIONE'!E31","v":0},{"$f":"'2 - QUADRO LOCALIZZAZIONE'!F31","v":0},{"$f":"'2 - QUADRO LOCALIZZAZIONE'!G31","v":0},{"$f":"'2 - QUADRO LOCALIZZAZIONE'!I31","v":0},{"$f":"'2 - QUADRO LOCALIZZAZIONE'!C31","v":0},{"$f":"'2 - QUADRO LOCALIZZAZIONE'!M31","v":0},null,null,0,null,null,0,null,null,0,null,null,0,null,null,0,null,null,0,0,0,0,null,null,null,null,null,"Ginepro comune","Fragno"]
[{"$f":"'1 - ANAGRAFICA'!$B$6","v":0},30,{"$f":"'2 - QUADRO LOCALIZZAZIONE'!E32","v":0},{"$f":"'2 - QUADRO LOCALIZZAZIONE'!F32","v":0},{"$f":"'2 - QUADRO LOCALIZZAZIONE'!G32","v":0},{"$f":"'2 - QUADRO LOCALIZZAZIONE'!I32","v":0},{"$f":"'2 - QUADRO LOCALIZZAZIONE'!C32","v":0},{"$f":"'2 - QUADRO LOCALIZZAZIONE'!M32","v":0},null,null,0,null,null,0,null,null,0,null,null,0,null,null,0,null,null,0,0,0,0,null,null,null,null,null,"Ginepro fenicio","Frassino maggiore"]
[{"$f":"'1 - ANAGRAFICA'!$B$6","v":0},31,{"$f":"'2 - QUADRO LOCALIZZAZIONE'!E33","v":0},{"$f":"'2 - QUADRO LOCALIZZAZIONE'!F33","v":0},{"$f":"'2 - QUADRO LOCALIZZAZIONE'!G33","v":0},{"$f":"'2 - QUADRO LOCALIZZAZIONE'!I33","v":0},{"$f":"'2 - QUADRO LOCALIZZAZIONE'!C33","v":0},{"$f":"'2 - QUADRO LOCALIZZAZIONE'!M33","v":0},null,null,0,null,null,0,null,null,0,null,null,0,null,null,0,null,null,0,0,0,0,null,null,null,null,null,"Leccio","Frassino meridionale"]
[{"$f":"'1 - ANAGRAFICA'!$B$6","v":0},32,{"$f":"'2 - QUADRO LOCALIZZAZIONE'!E34","v":0},{"$f":"'2 - QUADRO LOCALIZZAZIONE'!F34","v":0},{"$f":"'2 - QUADRO LOCALIZZAZIONE'!G34","v":0},{"$f":"'2 - QUADRO LOCALIZZAZIONE'!I34","v":0},{"$f":"'2 - QUADRO LOCALIZZAZIONE'!C34","v":0},{"$f":"'2 - QUADRO LOCALIZZAZIONE'!M34","v":0},null,null,0,null,null,0,null,null,0,null,null,0,null,null,0,null,null,0,0,0,0,null,null,null,null,null,"Lentisco","Frassino meridionale/oxyphilla"]
[{"$f":"'1 - ANAGRAFICA'!$B$6","v":0},33,{"$f":"'2 - QUADRO LOCALIZZAZIONE'!E35","v":0},{"$f":"'2 - QUADRO LOCALIZZAZIONE'!F35","v":0},{"$f":"'2 - QUADRO LOCALIZZAZIONE'!G35","v":0},{"$f":"'2 - QUADRO LOCALIZZAZIONE'!I35","v":0},{"$f":"'2 - QUADRO LOCALIZZAZIONE'!C35","v":0},{"$f":"'2 - QUADRO LOCALIZZAZIONE'!M35","v":0},null,null,0,null,null,0,null,null,0,null,null,0,null,null,0,null,null,0,0,0,0,null,null,null,null,null,"Ligustro","Fusaggine o Berretta da prete"]
[{"$f":"'1 - ANAGRAFICA'!$B$6","v":0},34,{"$f":"'2 - QUADRO LOCALIZZAZIONE'!E36","v":0},{"$f":"'2 - QUADRO LOCALIZZAZIONE'!F36","v":0},{"$f":"'2 - QUADRO LOCALIZZAZIONE'!G36","v":0},{"$f":"'2 - QUADRO LOCALIZZAZIONE'!I36","v":0},{"$f":"'2 - QUADRO LOCALIZZAZIONE'!C36","v":0},{"$f":"'2 - QUADRO LOCALIZZAZIONE'!M36","v":0},null,null,0,null,null,0,null,null,0,null,null,0,null,null,0,null,null,0,0,0,0,null,null,null,null,null,"Mirto","Ginepro coccolone"]
[{"$f":"'1 - ANAGRAFICA'!$B$6","v":0},35,{"$f":"'2 - QUADRO LOCALIZZAZIONE'!E37","v":0},{"$f":"'2 - QUADRO LOCALIZZAZIONE'!F37","v":0},{"$f":"'2 - QUADRO LOCALIZZAZIONE'!G37","v":0},{"$f":"'2 - QUADRO LOCALIZZAZIONE'!I37","v":0},{"$f":"'2 - QUADRO LOCALIZZAZIONE'!C37","v":0},{"$f":"'2 - QUADRO LOCALIZZAZIONE'!M37","v":0},null,null,0,null,null,0,null,null,0,null,null,0,null,null,0,null,null,0,0,0,0,null,null,null,null,null,"Nocciolo","Ginepro comune"]
[{"$f":"'1 - ANAGRAFICA'!$B$6","v":0},36,{"$f":"'2 - QUADRO LOCALIZZAZIONE'!E38","v":0},{"$f":"'2 - QUADRO LOCALIZZAZIONE'!F38","v":0},{"$f":"'2 - QUADRO LOCALIZZAZIONE'!G38","v":0},{"$f":"'2 - QUADRO LOCALIZZAZIONE'!I38","v":0},{"$f":"'2 - QUADRO LOCALIZZAZIONE'!C38","v":0},{"$f":"'2 - QUADRO LOCALIZZAZIONE'!M38","v":0},null,null,0,null,null,0,null,null,0,null,null,{"$f":"IF(S38=0,0,S38/$AB38)","v":0},null,null,0,null,null,0,0,0,0,null,null,null,null,null,"Olmo minore","Ginepro fenicio"]
[{"$f":"'1 - ANAGRAFICA'!$B$6","v":0},37,{"$f":"'2 - QUADRO LOCALIZZAZIONE'!E39","v":0},{"$f":"'2 - QUADRO LOCALIZZAZIONE'!F39","v":0},{"$f":"'2 - QUADRO LOCALIZZAZIONE'!G39","v":0},{"$f":"'2 - QUADRO LOCALIZZAZIONE'!I39","v":0},{"$f":"'2 - QUADRO LOCALIZZAZIONE'!C39","v":0},{"$f":"'2 - QUADRO LOCALIZZAZIONE'!M39","v":0},null,null,0,null,null,0,null,null,0,null,null,0,null,null,0,null,null,0,0,0,0,null,null,null,null,null,"Orniello","Leccio"]
[{"$f":"'1 - ANAGRAFICA'!$B$6","v":0},38,{"$f":"'2 - QUADRO LOCALIZZAZIONE'!E40","v":0},{"$f":"'2 - QUADRO LOCALIZZAZIONE'!F40","v":0},{"$f":"'2 - QUADRO LOCALIZZAZIONE'!G40","v":0},{"$f":"'2 - QUADRO LOCALIZZAZIONE'!I40","v":0},{"$f":"'2 - QUADRO LOCALIZZAZIONE'!C40","v":0},{"$f":"'2 - QUADRO LOCALIZZAZIONE'!M40","v":0},null,null,0,null,null,0,null,null,0,null,null,0,null,null,0,null,null,0,0,0,0,null,null,null,null,null,"Pino d’Aleppo","Lentisco"]
[{"$f":"'1 - ANAGRAFICA'!$B$6","v":0},39,{"$f":"'2 - QUADRO LOCALIZZAZIONE'!E41","v":0},{"$f":"'2 - QUADRO LOCALIZZAZIONE'!F41","v":0},{"$f":"'2 - QUADRO LOCALIZZAZIONE'!G41","v":0},{"$f":"'2 - QUADRO LOCALIZZAZIONE'!I41","v":0},{"$f":"'2 - QUADRO LOCALIZZAZIONE'!C41","v":0},{"$f":"'2 - QUADRO LOCALIZZAZIONE'!M41","v":0},null,null,0,null,null,0,null,null,0,null,null,0,null,null,0,null,null,0,0,0,0,null,null,null,null,null,"Prugnolo o Strozzapreti","Ligustro"]
[{"$f":"'1 - ANAGRAFICA'!$B$6","v":0},40,{"$f":"'2 - QUADRO LOCALIZZAZIONE'!E42","v":0},{"$f":"'2 - QUADRO LOCALIZZAZIONE'!F42","v":0},{"$f":"'2 - QUADRO LOCALIZZAZIONE'!G42","v":0},{"$f":"'2 - QUADRO LOCALIZZAZIONE'!I42","v":0},{"$f":"'2 - QUADRO LOCALIZZAZIONE'!C42","v":0},{"$f":"'2 - QUADRO LOCALIZZAZIONE'!M42","v":0},null,null,0,null,null,0,null,null,0,null,null,0,null,null,0,null,null,0,0,0,0,null,null,null,null,null,"Pungitopo","Mirto"]
[{"$f":"'1 - ANAGRAFICA'!$B$6","v":0},41,{"$f":"'2 - QUADRO LOCALIZZAZIONE'!E43","v":0},{"$f":"'2 - QUADRO LOCALIZZAZIONE'!F43","v":0},{"$f":"'2 - QUADRO LOCALIZZAZIONE'!G43","v":0},{"$f":"'2 - QUADRO LOCALIZZAZIONE'!I43","v":0},{"$f":"'2 - QUADRO LOCALIZZAZIONE'!C43","v":0},{"$f":"'2 - QUADRO LOCALIZZAZIONE'!M43","v":0},null,null,0,null,null,0,null,null,0,null,null,0,null,null,0,null,null,0,0,0,0,null,null,null,null,null,"Quercia spinosa","Nocciolo"]
[{"$f":"'1 - ANAGRAFICA'!$B$6","v":0},42,{"$f":"'2 - QUADRO LOCALIZZAZIONE'!E44","v":0},{"$f":"'2 - QUADRO LOCALIZZAZIONE'!F44","v":0},{"$f":"'2 - QUADRO LOCALIZZAZIONE'!G44","v":0},{"$f":"'2 - QUADRO LOCALIZZAZIONE'!I44","v":0},{"$f":"'2 - QUADRO LOCALIZZAZIONE'!C44","v":0},{"$f":"'2 - QUADRO LOCALIZZAZIONE'!M44","v":0},null,null,0,null,null,0,null,null,0,null,null,0,null,null,0,null,null,0,0,0,0,null,null,null,null,null,"Rosa selvatica","Noce comune"]
[{"$f":"'1 - ANAGRAFICA'!$B$6","v":0},43,{"$f":"'2 - QUADRO LOCALIZZAZIONE'!E45","v":0},{"$f":"'2 - QUADRO LOCALIZZAZIONE'!F45","v":0},{"$f":"'2 - QUADRO LOCALIZZAZIONE'!G45","v":0},{"$f":"'2 - QUADRO LOCALIZZAZIONE'!I45","v":0},{"$f":"'2 - QUADRO LOCALIZZAZIONE'!C45","v":0},{"$f":"'2 - QUADRO LOCALIZZAZIONE'!M45","v":0},null,null,0,null,null,0,null,null,0,null,null,0,null,null,0,null,null,0,0,0,0,null,null,null,null,null,"Roverella","Olmo minore"]
[{"$f":"'1 - ANAGRAFICA'!$B$6","v":0},44,{"$f":"'2 - QUADRO LOCALIZZAZIONE'!E46","v":0},{"$f":"'2 - QUADRO LOCALIZZAZIONE'!F46","v":0},{"$f":"'2 - QUADRO LOCALIZZAZIONE'!G46","v":0},{"$f":"'2 - QUADRO LOCALIZZAZIONE'!I46","v":0},{"$f":"'2 - QUADRO LOCALIZZAZIONE'!C46","v":0},{"$f":"'2 - QUADRO LOCALIZZAZIONE'!M46","v":0},null,null,0,null,null,0,null,null,0,null,null,0,null,null,0,null,null,0,0,0,0,null,null,null,null,null,"Salice bianco","Ontano napoletano"]
[{"$f":"'1 - ANAGRAFICA'!$B$6","v":0},45,{"$f":"'2 - QUADRO LOCALIZZAZIONE'!E47","v":0},{"$f":"'2 - QUADRO LOCALIZZAZIONE'!F47","v":0},{"$f":"'2 - QUADRO LOCALIZZAZIONE'!G47","v":0},{"$f":"'2 - QUADRO LOCALIZZAZIONE'!I47","v":0},{"$f":"'2 - QUADRO LOCALIZZAZIONE'!C47","v":0},{"$f":"'2 - QUADRO LOCALIZZAZIONE'!M47","v":0},null,null,0,null,null,0,null,null,0,null,null,0,null,null,0,null,null,0,0,0,0,null,null,null,null,null,"Sambuco nero","Ontano nero"]
[{"$f":"'1 - ANAGRAFICA'!$B$6","v":0},46,{"$f":"'2 - QUADRO LOCALIZZAZIONE'!E48","v":0},{"$f":"'2 - QUADRO LOCALIZZAZIONE'!F48","v":0},{"$f":"'2 - QUADRO LOCALIZZAZIONE'!G48","v":0},{"$f":"'2 - QUADRO LOCALIZZAZIONE'!I48","v":0},{"$f":"'2 - QUADRO LOCALIZZAZIONE'!C48","v":0},{"$f":"'2 - QUADRO LOCALIZZAZIONE'!M48","v":0},null,null,0,null,null,0,null,null,0,null,null,0,null,null,0,null,null,0,0,0,0,null,null,null,null,null,"Sanguinello ","Orniello"]
[{"$f":"'1 - ANAGRAFICA'!$B$6","v":0},47,{"$f":"'2 - QUADRO LOCALIZZAZIONE'!E49","v":0},{"$f":"'2 - QUADRO LOCALIZZAZIONE'!F49","v":0},{"$f":"'2 - QUADRO LOCALIZZAZIONE'!G49","v":0},{"$f":"'2 - QUADRO LOCALIZZAZIONE'!I49","v":0},{"$f":"'2 - QUADRO LOCALIZZAZIONE'!C49","v":0},{"$f":"'2 - QUADRO LOCALIZZAZIONE'!M49","v":0},null,null,0,null,null,0,null,null,0,null,null,0,null,null,0,null,null,0,0,0,0,null,null,null,null,null,"Sorbo domestico","Pino d’Aleppo"]
[{"$f":"'1 - ANAGRAFICA'!$B$6","v":0},48,{"$f":"'2 - QUADRO LOCALIZZAZIONE'!E50","v":0},{"$f":"'2 - QUADRO LOCALIZZAZIONE'!F50","v":0},{"$f":"'2 - QUADRO LOCALIZZAZIONE'!G50","v":0},{"$f":"'2 - QUADRO LOCALIZZAZIONE'!I50","v":0},{"$f":"'2 - QUADRO LOCALIZZAZIONE'!C50","v":0},{"$f":"'2 - QUADRO LOCALIZZAZIONE'!M50","v":0},null,null,0,null,null,0,null,null,0,null,null,0,null,null,0,null,null,0,0,0,0,null,null,null,null,null,"Sughera","Pino domestico"]
[{"$f":"'1 - ANAGRAFICA'!$B$6","v":0},49,{"$f":"'2 - QUADRO LOCALIZZAZIONE'!E51","v":0},{"$f":"'2 - QUADRO LOCALIZZAZIONE'!F51","v":0},{"$f":"'2 - QUADRO LOCALIZZAZIONE'!G51","v":0},{"$f":"'2 - QUADRO LOCALIZZAZIONE'!I51","v":0},{"$f":"'2 - QUADRO LOCALIZZAZIONE'!C51","v":0},{"$f":"'2 - QUADRO LOCALIZZAZIONE'!M51","v":0},null,null,0,null,null,0,null,null,0,null,null,0,null,null,0,null,null,0,0,0,0,null,null,null,null,null,"Terebinto","Pino marittimo"]
[{"$f":"'1 - ANAGRAFICA'!$B$6","v":0},50,{"$f":"'2 - QUADRO LOCALIZZAZIONE'!E52","v":0},{"$f":"'2 - QUADRO LOCALIZZAZIONE'!F52","v":0},{"$f":"'2 - QUADRO LOCALIZZAZIONE'!G52","v":0},{"$f":"'2 - QUADRO LOCALIZZAZIONE'!I52","v":0},{"$f":"'2 - QUADRO LOCALIZZAZIONE'!C52","v":0},{"$f":"'2 - QUADRO LOCALIZZAZIONE'!M52","v":0},null,null,0,null,null,0,null,null,0,null,null,0,null,null,0,null,null,0,0,0,0,null,null,null,null,null,"Tiglio nostrale","Pioppo nero"]
[{"$f":"'1 - ANAGRAFICA'!$B$6","v":0},51,{"$f":"'2 - QUADRO LOCALIZZAZIONE'!E53","v":0},{"$f":"'2 - QUADRO LOCALIZZAZIONE'!F53","v":0},{"$f":"'2 - QUADRO LOCALIZZAZIONE'!G53","v":0},{"$f":"'2 - QUADRO LOCALIZZAZIONE'!I53","v":0},{"$f":"'2 - QUADRO LOCALIZZAZIONE'!C53","v":0},{"$f":"'2 - QUADRO LOCALIZZAZIONE'!M53","v":0},null,null,0,null,null,0,null,null,0,null,null,0,null,null,0,null,null,0,0,0,0,null,null,null,null,null,"Tiglio selvatico","Prugnolo o Strozzapreti"]
[{"$f":"'1 - ANAGRAFICA'!$B$6","v":0},52,{"$f":"'2 - QUADRO LOCALIZZAZIONE'!E54","v":0},{"$f":"'2 - QUADRO LOCALIZZAZIONE'!F54","v":0},{"$f":"'2 - QUADRO LOCALIZZAZIONE'!G54","v":0},{"$f":"'2 - QUADRO LOCALIZZAZIONE'!I54","v":0},{"$f":"'2 - QUADRO LOCALIZZAZIONE'!C54","v":0},{"$f":"'2 - QUADRO LOCALIZZAZIONE'!M54","v":0},null,null,0,null,null,0,null,null,0,null,null,0,null,null,0,null,null,0,0,0,0,null,null,null,null,null,"Vallonea","Pungitopo"]
[{"$f":"'1 - ANAGRAFICA'!$B$6","v":0},53,{"$f":"'2 - QUADRO LOCALIZZAZIONE'!E55","v":0},{"$f":"'2 - QUADRO LOCALIZZAZIONE'!F55","v":0},{"$f":"'2 - QUADRO LOCALIZZAZIONE'!G55","v":0},{"$f":"'2 - QUADRO LOCALIZZAZIONE'!I55","v":0},{"$f":"'2 - QUADRO LOCALIZZAZIONE'!C55","v":0},{"$f":"'2 - QUADRO LOCALIZZAZIONE'!M55","v":0},null,null,0,null,null,0,null,null,0,null,null,0,null,null,0,null,null,0,0,0,0,null,null,null,null,null,"Viburno","Quercia spinosa"]
[{"$f":"'1 - ANAGRAFICA'!$B$6","v":0},54,{"$f":"'2 - QUADRO LOCALIZZAZIONE'!E56","v":0},{"$f":"'2 - QUADRO LOCALIZZAZIONE'!F56","v":0},{"$f":"'2 - QUADRO LOCALIZZAZIONE'!G56","v":0},{"$f":"'2 - QUADRO LOCALIZZAZIONE'!I56","v":0},{"$f":"'2 - QUADRO LOCALIZZAZIONE'!C56","v":0},{"$f":"'2 - QUADRO LOCALIZZAZIONE'!M56","v":0},null,null,0,null,null,0,null,null,0,null,null,0,null,null,0,null,null,0,0,0,0,null,null,null,null,null,null,"Rosa selvatica"]
[{"$f":"'1 - ANAGRAFICA'!$B$6","v":0},55,{"$f":"'2 - QUADRO LOCALIZZAZIONE'!E57","v":0},{"$f":"'2 - QUADRO LOCALIZZAZIONE'!F57","v":0},{"$f":"'2 - QUADRO LOCALIZZAZIONE'!G57","v":0},{"$f":"'2 - QUADRO LOCALIZZAZIONE'!I57","v":0},{"$f":"'2 - QUADRO LOCALIZZAZIONE'!C57","v":0},{"$f":"'2 - QUADRO LOCALIZZAZIONE'!M57","v":0},null,null,0,null,null,0,null,null,0,null,null,0,null,null,0,null,null,0,0,0,0,null,null,null,null,null,null,"Roverella"]
[{"$f":"'1 - ANAGRAFICA'!$B$6","v":0},56,{"$f":"'2 - QUADRO LOCALIZZAZIONE'!E58","v":0},{"$f":"'2 - QUADRO LOCALIZZAZIONE'!F58","v":0},{"$f":"'2 - QUADRO LOCALIZZAZIONE'!G58","v":0},{"$f":"'2 - QUADRO LOCALIZZAZIONE'!I58","v":0},{"$f":"'2 - QUADRO LOCALIZZAZIONE'!C58","v":0},{"$f":"'2 - QUADRO LOCALIZZAZIONE'!M58","v":0},null,null,0,null,null,0,null,null,0,null,null,0,null,null,0,null,null,0,0,0,0,null,null,null,null,null,null,"Salice bianco"]
[{"$f":"'1 - ANAGRAFICA'!$B$6","v":0},57,{"$f":"'2 - QUADRO LOCALIZZAZIONE'!E59","v":0},{"$f":"'2 - QUADRO LOCALIZZAZIONE'!F59","v":0},{"$f":"'2 - QUADRO LOCALIZZAZIONE'!G59","v":0},{"$f":"'2 - QUADRO LOCALIZZAZIONE'!I59","v":0},{"$f":"'2 - QUADRO LOCALIZZAZIONE'!C59","v":0},{"$f":"'2 - QUADRO LOCALIZZAZIONE'!M59","v":0},null,null,0,null,null,0,null,null,0,null,null,0,null,null,0,null,null,0,0,0,0,null,null,null,null,null,null,"Sambuco nero"]
[{"$f":"'1 - ANAGRAFICA'!$B$6","v":0},58,{"$f":"'2 - QUADRO LOCALIZZAZIONE'!E60","v":0},{"$f":"'2 - QUADRO LOCALIZZAZIONE'!F60","v":0},{"$f":"'2 - QUADRO LOCALIZZAZIONE'!G60","v":0},{"$f":"'2 - QUADRO LOCALIZZAZIONE'!I60","v":0},{"$f":"'2 - QUADRO LOCALIZZAZIONE'!C60","v":0},{"$f":"'2 - QUADRO LOCALIZZAZIONE'!M60","v":0},null,null,0,null,null,0,null,null,0,null,null,0,null,null,0,null,null,0,0,0,0,null,null,null,null,null,null,"Sanguinello "]
[{"$f":"'1 - ANAGRAFICA'!$B$6","v":0},59,{"$f":"'2 - QUADRO LOCALIZZAZIONE'!E61","v":0},{"$f":"'2 - QUADRO LOCALIZZAZIONE'!F61","v":0},{"$f":"'2 - QUADRO LOCALIZZAZIONE'!G61","v":0},{"$f":"'2 - QUADRO LOCALIZZAZIONE'!I61","v":0},{"$f":"'2 - QUADRO LOCALIZZAZIONE'!C61","v":0},{"$f":"'2 - QUADRO LOCALIZZAZIONE'!M61","v":0},null,null,0,null,null,0,null,null,0,null,null,0,null,null,0,null,null,0,0,0,0,null,null,null,null,null,null,"Sorbo domestico"]
[{"$f":"'1 - ANAGRAFICA'!$B$6","v":0},60,{"$f":"'2 - QUADRO LOCALIZZAZIONE'!E62","v":0},{"$f":"'2 - QUADRO LOCALIZZAZIONE'!F62","v":0},{"$f":"'2 - QUADRO LOCALIZZAZIONE'!G62","v":0},{"$f":"'2 - QUADRO LOCALIZZAZIONE'!I62","v":0},{"$f":"'2 - QUADRO LOCALIZZAZIONE'!C62","v":0},{"$f":"'2 - QUADRO LOCALIZZAZIONE'!M62","v":0},null,null,0,null,null,0,null,null,0,null,null,0,null,null,0,null,null,0,0,0,0,null,null,null,null,null,null,"Sughera"]
[{"$f":"'1 - ANAGRAFICA'!$B$6","v":0},61,{"$f":"'2 - QUADRO LOCALIZZAZIONE'!E63","v":0},{"$f":"'2 - QUADRO LOCALIZZAZIONE'!F63","v":0},{"$f":"'2 - QUADRO LOCALIZZAZIONE'!G63","v":0},{"$f":"'2 - QUADRO LOCALIZZAZIONE'!I63","v":0},{"$f":"'2 - QUADRO LOCALIZZAZIONE'!C63","v":0},{"$f":"'2 - QUADRO LOCALIZZAZIONE'!M63","v":0},null,null,0,null,null,0,null,null,0,null,null,0,null,null,0,null,null,0,0,0,0,null,null,null,null,null,null,"Terebinto"]
[{"$f":"'1 - ANAGRAFICA'!$B$6","v":0},62,{"$f":"'2 - QUADRO LOCALIZZAZIONE'!E64","v":0},{"$f":"'2 - QUADRO LOCALIZZAZIONE'!F64","v":0},{"$f":"'2 - QUADRO LOCALIZZAZIONE'!G64","v":0},{"$f":"'2 - QUADRO LOCALIZZAZIONE'!I64","v":0},{"$f":"'2 - QUADRO LOCALIZZAZIONE'!C64","v":0},{"$f":"'2 - QUADRO LOCALIZZAZIONE'!M64","v":0},null,null,0,null,null,0,null,null,0,null,null,0,null,null,0,null,null,0,0,0,0,null,null,null,null,null,null,"Tiglio nostrale"]
[{"$f":"'1 - ANAGRAFICA'!$B$6","v":0},63,{"$f":"'2 - QUADRO LOCALIZZAZIONE'!E65","v":0},{"$f":"'2 - QUADRO LOCALIZZAZIONE'!F65","v":0},{"$f":"'2 - QUADRO LOCALIZZAZIONE'!G65","v":0},{"$f":"'2 - QUADRO LOCALIZZAZIONE'!I65","v":0},{"$f":"'2 - QUADRO LOCALIZZAZIONE'!C65","v":0},{"$f":"'2 - QUADRO LOCALIZZAZIONE'!M65","v":0},null,null,0,null,null,0,null,null,0,null,null,0,null,null,0,null,null,0,0,0,0,null,null,null,null,null,null,"Tiglio nostrano"]
[{"$f":"'1 - ANAGRAFICA'!$B$6","v":0},64,{"$f":"'2 - QUADRO LOCALIZZAZIONE'!E66","v":0},{"$f":"'2 - QUADRO LOCALIZZAZIONE'!F66","v":0},{"$f":"'2 - QUADRO LOCALIZZAZIONE'!G66","v":0},{"$f":"'2 - QUADRO LOCALIZZAZIONE'!I66","v":0},{"$f":"'2 - QUADRO LOCALIZZAZIONE'!C66","v":0},{"$f":"'2 - QUADRO LOCALIZZAZIONE'!M66","v":0},null,null,0,null,null,0,null,null,0,null,null,0,null,null,0,null,null,0,0,0,0,null,null,null,null,null,null,"Tiglio selvatico"]
[{"$f":"'1 - ANAGRAFICA'!$B$6","v":0},65,{"$f":"'2 - QUADRO LOCALIZZAZIONE'!E67","v":0},{"$f":"'2 - QUADRO LOCALIZZAZIONE'!F67","v":0},{"$f":"'2 - QUADRO LOCALIZZAZIONE'!G67","v":0},{"$f":"'2 - QUADRO LOCALIZZAZIONE'!I67","v":0},{"$f":"'2 - QUADRO LOCALIZZAZIONE'!C67","v":0},{"$f":"'2 - QUADRO LOCALIZZAZIONE'!M67","v":0},null,null,0,null,null,0,null,null,0,null,null,0,null,null,0,null,null,0,0,0,0,null,null,null,null,null,null,"Vallonea"]
[{"$f":"'1 - ANAGRAFICA'!$B$6","v":0},66,{"$f":"'2 - QUADRO LOCALIZZAZIONE'!E68","v":0},{"$f":"'2 - QUADRO LOCALIZZAZIONE'!F68","v":0},{"$f":"'2 - QUADRO LOCALIZZAZIONE'!G68","v":0},{"$f":"'2 - QUADRO LOCALIZZAZIONE'!I68","v":0},{"$f":"'2 - QUADRO LOCALIZZAZIONE'!C68","v":0},{"$f":"'2 - QUADRO LOCALIZZAZIONE'!M68","v":0},null,null,{"$f":"IF(J68=0,0,J68/$AB68)","v":0},null,null,{"$f":"IF(M68=0,0,M68/$AB68)","v":0},null,null,{"$f":"IF(P68=0,0,P68/$AB68)","v":0},null,null,0,null,null,{"$f":"IF(V68=0,0,V68/$AB68)","v":0},null,null,{"$f":"IF(Y68=0,0,Y68/$AB68)","v":0},{"$f":"CEILING(IF(H68=\"AZIONE_2\",F68/10000*400,F68/10000*1600),1)","v":0},{"$f":"IF(H68<>0,SUM(J68,M68,P68,S68,V68,Y68),0)","v":0},{"$f":"IF(AND(H68<>0,COUNTA(I68,L68,O68,R68,U68,X68)<1),\"Indicare almeno una specie\",COUNTA(I68,L68,O68,R68,U68,X68))","v":0},null,null,null,null,null,null,"Viburno"]
[{"$f":"'1 - ANAGRAFICA'!$B$6","v":0},67,{"$f":"'2 - QUADRO LOCALIZZAZIONE'!E69","v":0},{"$f":"'2 - QUADRO LOCALIZZAZIONE'!F69","v":0},{"$f":"'2 - QUADRO LOCALIZZAZIONE'!G69","v":0},{"$f":"'2 - QUADRO LOCALIZZAZIONE'!I69","v":0},{"$f":"'2 - QUADRO LOCALIZZAZIONE'!C69","v":0},{"$f":"'2 - QUADRO LOCALIZZAZIONE'!M69","v":0},null,null,0,null,null,0,null,null,0,null,null,0,null,null,0,null,null,0,0,0,0]
[{"$f":"'1 - ANAGRAFICA'!$B$6","v":0},68,{"$f":"'2 - QUADRO LOCALIZZAZIONE'!E70","v":0},{"$f":"'2 - QUADRO LOCALIZZAZIONE'!F70","v":0},{"$f":"'2 - QUADRO LOCALIZZAZIONE'!G70","v":0},{"$f":"'2 - QUADRO LOCALIZZAZIONE'!I70","v":0},{"$f":"'2 - QUADRO LOCALIZZAZIONE'!C70","v":0},{"$f":"'2 - QUADRO LOCALIZZAZIONE'!M70","v":0},null,null,0,null,null,0,null,null,0,null,null,{"$f":"IF(S70=0,0,S70/$AB70)","v":0},null,null,0,null,null,0,0,0,0]
[{"$f":"'1 - ANAGRAFICA'!$B$6","v":0},69,{"$f":"'2 - QUADRO LOCALIZZAZIONE'!E71","v":0},{"$f":"'2 - QUADRO LOCALIZZAZIONE'!F71","v":0},{"$f":"'2 - QUADRO LOCALIZZAZIONE'!G71","v":0},{"$f":"'2 - QUADRO LOCALIZZAZIONE'!I71","v":0},{"$f":"'2 - QUADRO LOCALIZZAZIONE'!C71","v":0},{"$f":"'2 - QUADRO LOCALIZZAZIONE'!M71","v":0},null,null,0,null,null,0,null,null,0,null,null,0,null,null,0,null,null,0,0,0,0]
[{"$f":"'1 - ANAGRAFICA'!$B$6","v":0},70,{"$f":"'2 - QUADRO LOCALIZZAZIONE'!E72","v":0},{"$f":"'2 - QUADRO LOCALIZZAZIONE'!F72","v":0},{"$f":"'2 - QUADRO LOCALIZZAZIONE'!G72","v":0},{"$f":"'2 - QUADRO LOCALIZZAZIONE'!I72","v":0},{"$f":"'2 - QUADRO LOCALIZZAZIONE'!C72","v":0},{"$f":"'2 - QUADRO LOCALIZZAZIONE'!M72","v":0},null,null,0,null,null,0,null,null,0,null,null,0,null,null,0,null,null,0,0,0,0]
[{"$f":"'1 - ANAGRAFICA'!$B$6","v":0},71,{"$f":"'2 - QUADRO LOCALIZZAZIONE'!E73","v":0},{"$f":"'2 - QUADRO LOCALIZZAZIONE'!F73","v":0},{"$f":"'2 - QUADRO LOCALIZZAZIONE'!G73","v":0},{"$f":"'2 - QUADRO LOCALIZZAZIONE'!I73","v":0},{"$f":"'2 - QUADRO LOCALIZZAZIONE'!C73","v":0},{"$f":"'2 - QUADRO LOCALIZZAZIONE'!M73","v":0},null,null,0,null,null,0,null,null,0,null,null,0,null,null,0,null,null,0,0,0,0]
[{"$f":"'1 - ANAGRAFICA'!$B$6","v":0},72,{"$f":"'2 - QUADRO LOCALIZZAZIONE'!E74","v":0},{"$f":"'2 - QUADRO LOCALIZZAZIONE'!F74","v":0},{"$f":"'2 - QUADRO LOCALIZZAZIONE'!G74","v":0},{"$f":"'2 - QUADRO LOCALIZZAZIONE'!I74","v":0},{"$f":"'2 - QUADRO LOCALIZZAZIONE'!C74","v":0},{"$f":"'2 - QUADRO LOCALIZZAZIONE'!M74","v":0},null,null,0,null,null,0,null,null,0,null,null,0,null,null,0,null,null,0,0,0,0]
[{"$f":"'1 - ANAGRAFICA'!$B$6","v":0},73,{"$f":"'2 - QUADRO LOCALIZZAZIONE'!E75","v":0},{"$f":"'2 - QUADRO LOCALIZZAZIONE'!F75","v":0},{"$f":"'2 - QUADRO LOCALIZZAZIONE'!G75","v":0},{"$f":"'2 - QUADRO LOCALIZZAZIONE'!I75","v":0},{"$f":"'2 - QUADRO LOCALIZZAZIONE'!C75","v":0},{"$f":"'2 - QUADRO LOCALIZZAZIONE'!M75","v":0},null,null,0,null,null,0,null,null,0,null,null,0,null,null,0,null,null,0,0,0,0]
[{"$f":"'1 - ANAGRAFICA'!$B$6","v":0},74,{"$f":"'2 - QUADRO LOCALIZZAZIONE'!E76","v":0},{"$f":"'2 - QUADRO LOCALIZZAZIONE'!F76","v":0},{"$f":"'2 - QUADRO LOCALIZZAZIONE'!G76","v":0},{"$f":"'2 - QUADRO LOCALIZZAZIONE'!I76","v":0},{"$f":"'2 - QUADRO LOCALIZZAZIONE'!C76","v":0},{"$f":"'2 - QUADRO LOCALIZZAZIONE'!M76","v":0},null,null,0,null,null,0,null,null,0,null,null,0,null,null,0,null,null,0,0,0,0]
[{"$f":"'1 - ANAGRAFICA'!$B$6","v":0},75,{"$f":"'2 - QUADRO LOCALIZZAZIONE'!E77","v":0},{"$f":"'2 - QUADRO LOCALIZZAZIONE'!F77","v":0},{"$f":"'2 - QUADRO LOCALIZZAZIONE'!G77","v":0},{"$f":"'2 - QUADRO LOCALIZZAZIONE'!I77","v":0},{"$f":"'2 - QUADRO LOCALIZZAZIONE'!C77","v":0},{"$f":"'2 - QUADRO LOCALIZZAZIONE'!M77","v":0},null,null,0,null,null,0,null,null,0,null,null,0,null,null,0,null,null,0,0,0,0]
[{"$f":"'1 - ANAGRAFICA'!$B$6","v":0},76,{"$f":"'2 - QUADRO LOCALIZZAZIONE'!E78","v":0},{"$f":"'2 - QUADRO LOCALIZZAZIONE'!F78","v":0},{"$f":"'2 - QUADRO LOCALIZZAZIONE'!G78","v":0},{"$f":"'2 - QUADRO LOCALIZZAZIONE'!I78","v":0},{"$f":"'2 - QUADRO LOCALIZZAZIONE'!C78","v":0},{"$f":"'2 - QUADRO LOCALIZZAZIONE'!M78","v":0},null,null,0,null,null,0,null,null,0,null,null,0,null,null,0,null,null,0,0,0,0]
[{"$f":"'1 - ANAGRAFICA'!$B$6","v":0},77,{"$f":"'2 - QUADRO LOCALIZZAZIONE'!E79","v":0},{"$f":"'2 - QUADRO LOCALIZZAZIONE'!F79","v":0},{"$f":"'2 - QUADRO LOCALIZZAZIONE'!G79","v":0},{"$f":"'2 - QUADRO LOCALIZZAZIONE'!I79","v":0},{"$f":"'2 - QUADRO LOCALIZZAZIONE'!C79","v":0},{"$f":"'2 - QUADRO LOCALIZZAZIONE'!M79","v":0},null,null,0,null,null,0,null,null,0,null,null,0,null,null,0,null,null,0,0,0,0]
[{"$f":"'1 - ANAGRAFICA'!$B$6","v":0},78,{"$f":"'2 - QUADRO LOCALIZZAZIONE'!E80","v":0},{"$f":"'2 - QUADRO LOCALIZZAZIONE'!F80","v":0},{"$f":"'2 - QUADRO LOCALIZZAZIONE'!G80","v":0},{"$f":"'2 - QUADRO LOCALIZZAZIONE'!I80","v":0},{"$f":"'2 - QUADRO LOCALIZZAZIONE'!C80","v":0},{"$f":"'2 - QUADRO LOCALIZZAZIONE'!M80","v":0},null,null,0,null,null,0,null,null,0,null,null,0,null,null,0,null,null,0,0,0,0]
[{"$f":"'1 - ANAGRAFICA'!$B$6","v":0},79,{"$f":"'2 - QUADRO LOCALIZZAZIONE'!E81","v":0},{"$f":"'2 - QUADRO LOCALIZZAZIONE'!F81","v":0},{"$f":"'2 - QUADRO LOCALIZZAZIONE'!G81","v":0},{"$f":"'2 - QUADRO LOCALIZZAZIONE'!I81","v":0},{"$f":"'2 - QUADRO LOCALIZZAZIONE'!C81","v":0},{"$f":"'2 - QUADRO LOCALIZZAZIONE'!M81","v":0},null,null,0,null,null,0,null,null,0,null,null,0,null,null,0,null,null,0,0,0,0]
[{"$f":"'1 - ANAGRAFICA'!$B$6","v":0},80,{"$f":"'2 - QUADRO LOCALIZZAZIONE'!E82","v":0},{"$f":"'2 - QUADRO LOCALIZZAZIONE'!F82","v":0},{"$f":"'2 - QUADRO LOCALIZZAZIONE'!G82","v":0},{"$f":"'2 - QUADRO LOCALIZZAZIONE'!I82","v":0},{"$f":"'2 - QUADRO LOCALIZZAZIONE'!C82","v":0},{"$f":"'2 - QUADRO LOCALIZZAZIONE'!M82","v":0},null,null,0,null,null,0,null,null,0,null,null,0,null,null,0,null,null,0,0,0,0]
[{"$f":"'1 - ANAGRAFICA'!$B$6","v":0},81,{"$f":"'2 - QUADRO LOCALIZZAZIONE'!E83","v":0},{"$f":"'2 - QUADRO LOCALIZZAZIONE'!F83","v":0},{"$f":"'2 - QUADRO LOCALIZZAZIONE'!G83","v":0},{"$f":"'2 - QUADRO LOCALIZZAZIONE'!I83","v":0},{"$f":"'2 - QUADRO LOCALIZZAZIONE'!C83","v":0},{"$f":"'2 - QUADRO LOCALIZZAZIONE'!M83","v":0},null,null,0,null,null,0,null,null,0,null,null,0,null,null,0,null,null,0,0,0,0]
[{"$f":"'1 - ANAGRAFICA'!$B$6","v":0},82,{"$f":"'2 - QUADRO LOCALIZZAZIONE'!E84","v":0},{"$f":"'2 - QUADRO LOCALIZZAZIONE'!F84","v":0},{"$f":"'2 - QUADRO LOCALIZZAZIONE'!G84","v":0},{"$f":"'2 - QUADRO LOCALIZZAZIONE'!I84","v":0},{"$f":"'2 - QUADRO LOCALIZZAZIONE'!C84","v":0},{"$f":"'2 - QUADRO LOCALIZZAZIONE'!M84","v":0},null,null,0,null,null,0,null,null,0,null,null,0,null,null,0,null,null,0,0,0,0]
[{"$f":"'1 - ANAGRAFICA'!$B$6","v":0},83,{"$f":"'2 - QUADRO LOCALIZZAZIONE'!E85","v":0},{"$f":"'2 - QUADRO LOCALIZZAZIONE'!F85","v":0},{"$f":"'2 - QUADRO LOCALIZZAZIONE'!G85","v":0},{"$f":"'2 - QUADRO LOCALIZZAZIONE'!I85","v":0},{"$f":"'2 - QUADRO LOCALIZZAZIONE'!C85","v":0},{"$f":"'2 - QUADRO LOCALIZZAZIONE'!M85","v":0},null,null,0,null,null,0,null,null,0,null,null,0,null,null,0,null,null,0,0,0,0]
[{"$f":"'1 - ANAGRAFICA'!$B$6","v":0},84,{"$f":"'2 - QUADRO LOCALIZZAZIONE'!E86","v":0},{"$f":"'2 - QUADRO LOCALIZZAZIONE'!F86","v":0},{"$f":"'2 - QUADRO LOCALIZZAZIONE'!G86","v":0},{"$f":"'2 - QUADRO LOCALIZZAZIONE'!I86","v":0},{"$f":"'2 - QUADRO LOCALIZZAZIONE'!C86","v":0},{"$f":"'2 - QUADRO LOCALIZZAZIONE'!M86","v":0},null,null,0,null,null,0,null,null,0,null,null,0,null,null,0,null,null,0,0,0,0]
[{"$f":"'1 - ANAGRAFICA'!$B$6","v":0},85,{"$f":"'2 - QUADRO LOCALIZZAZIONE'!E87","v":0},{"$f":"'2 - QUADRO LOCALIZZAZIONE'!F87","v":0},{"$f":"'2 - QUADRO LOCALIZZAZIONE'!G87","v":0},{"$f":"'2 - QUADRO LOCALIZZAZIONE'!I87","v":0},{"$f":"'2 - QUADRO LOCALIZZAZIONE'!C87","v":0},{"$f":"'2 - QUADRO LOCALIZZAZIONE'!M87","v":0},null,null,0,null,null,0,null,null,0,null,null,0,null,null,0,null,null,0,0,0,0]
[{"$f":"'1 - ANAGRAFICA'!$B$6","v":0},86,{"$f":"'2 - QUADRO LOCALIZZAZIONE'!E88","v":0},{"$f":"'2 - QUADRO LOCALIZZAZIONE'!F88","v":0},{"$f":"'2 - QUADRO LOCALIZZAZIONE'!G88","v":0},{"$f":"'2 - QUADRO LOCALIZZAZIONE'!I88","v":0},{"$f":"'2 - QUADRO LOCALIZZAZIONE'!C88","v":0},{"$f":"'2 - QUADRO LOCALIZZAZIONE'!M88","v":0},null,null,0,null,null,0,null,null,0,null,null,0,null,null,0,null,null,0,0,0,0]
[{"$f":"'1 - ANAGRAFICA'!$B$6","v":0},87,{"$f":"'2 - QUADRO LOCALIZZAZIONE'!E89","v":0},{"$f":"'2 - QUADRO LOCALIZZAZIONE'!F89","v":0},{"$f":"'2 - QUADRO LOCALIZZAZIONE'!G89","v":0},{"$f":"'2 - QUADRO LOCALIZZAZIONE'!I89","v":0},{"$f":"'2 - QUADRO LOCALIZZAZIONE'!C89","v":0},{"$f":"'2 - QUADRO LOCALIZZAZIONE'!M89","v":0},null,null,0,null,null,0,null,null,0,null,null,0,null,null,0,null,null,0,0,0,0]
[{"$f":"'1 - ANAGRAFICA'!$B$6","v":0},88,{"$f":"'2 - QUADRO LOCALIZZAZIONE'!E90","v":0},{"$f":"'2 - QUADRO LOCALIZZAZIONE'!F90","v":0},{"$f":"'2 - QUADRO LOCALIZZAZIONE'!G90","v":0},{"$f":"'2 - QUADRO LOCALIZZAZIONE'!I90","v":0},{"$f":"'2 - QUADRO LOCALIZZAZIONE'!C90","v":0},{"$f":"'2 - QUADRO LOCALIZZAZIONE'!M90","v":0},null,null,0,null,null,0,null,null,0,null,null,0,null,null,0,null,null,0,0,0,0]
[{"$f":"'1 - ANAGRAFICA'!$B$6","v":0},89,{"$f":"'2 - QUADRO LOCALIZZAZIONE'!E91","v":0},{"$f":"'2 - QUADRO LOCALIZZAZIONE'!F91","v":0},{"$f":"'2 - QUADRO LOCALIZZAZIONE'!G91","v":0},{"$f":"'2 - QUADRO LOCALIZZAZIONE'!I91","v":0},{"$f":"'2 - QUADRO LOCALIZZAZIONE'!C91","v":0},{"$f":"'2 - QUADRO LOCALIZZAZIONE'!M91","v":0},null,null,0,null,null,0,null,null,0,null,null,0,null,null,0,null,null,0,0,0,0]
[{"$f":"'1 - ANAGRAFICA'!$B$6","v":0},90,{"$f":"'2 - QUADRO LOCALIZZAZIONE'!E92","v":0},{"$f":"'2 - QUADRO LOCALIZZAZIONE'!F92","v":0},{"$f":"'2 - QUADRO LOCALIZZAZIONE'!G92","v":0},{"$f":"'2 - QUADRO LOCALIZZAZIONE'!I92","v":0},{"$f":"'2 - QUADRO LOCALIZZAZIONE'!C92","v":0},{"$f":"'2 - QUADRO LOCALIZZAZIONE'!M92","v":0},null,null,0,null,null,0,null,null,0,null,null,0,null,null,0,null,null,0,0,0,0]
[{"$f":"'1 - ANAGRAFICA'!$B$6","v":0},91,{"$f":"'2 - QUADRO LOCALIZZAZIONE'!E93","v":0},{"$f":"'2 - QUADRO LOCALIZZAZIONE'!F93","v":0},{"$f":"'2 - QUADRO LOCALIZZAZIONE'!G93","v":0},{"$f":"'2 - QUADRO LOCALIZZAZIONE'!I93","v":0},{"$f":"'2 - QUADRO LOCALIZZAZIONE'!C93","v":0},{"$f":"'2 - QUADRO LOCALIZZAZIONE'!M93","v":0},null,null,0,null,null,0,null,null,0,null,null,0,null,null,0,null,null,0,0,0,0]
[{"$f":"'1 - ANAGRAFICA'!$B$6","v":0},92,{"$f":"'2 - QUADRO LOCALIZZAZIONE'!E94","v":0},{"$f":"'2 - QUADRO LOCALIZZAZIONE'!F94","v":0},{"$f":"'2 - QUADRO LOCALIZZAZIONE'!G94","v":0},{"$f":"'2 - QUADRO LOCALIZZAZIONE'!I94","v":0},{"$f":"'2 - QUADRO LOCALIZZAZIONE'!C94","v":0},{"$f":"'2 - QUADRO LOCALIZZAZIONE'!M94","v":0},null,null,0,null,null,0,null,null,0,null,null,0,null,null,0,null,null,0,0,0,0]
[{"$f":"'1 - ANAGRAFICA'!$B$6","v":0},93,{"$f":"'2 - QUADRO LOCALIZZAZIONE'!E95","v":0},{"$f":"'2 - QUADRO LOCALIZZAZIONE'!F95","v":0},{"$f":"'2 - QUADRO LOCALIZZAZIONE'!G95","v":0},{"$f":"'2 - QUADRO LOCALIZZAZIONE'!I95","v":0},{"$f":"'2 - QUADRO LOCALIZZAZIONE'!C95","v":0},{"$f":"'2 - QUADRO LOCALIZZAZIONE'!M95","v":0},null,null,0,null,null,0,null,null,0,null,null,0,null,null,0,null,null,0,0,0,0]
[{"$f":"'1 - ANAGRAFICA'!$B$6","v":0},94,{"$f":"'2 - QUADRO LOCALIZZAZIONE'!E96","v":0},{"$f":"'2 - QUADRO LOCALIZZAZIONE'!F96","v":0},{"$f":"'2 - QUADRO LOCALIZZAZIONE'!G96","v":0},{"$f":"'2 - QUADRO LOCALIZZAZIONE'!I96","v":0},{"$f":"'2 - QUADRO LOCALIZZAZIONE'!C96","v":0},{"$f":"'2 - QUADRO LOCALIZZAZIONE'!M96","v":0},null,null,0,null,null,0,null,null,0,null,null,0,null,null,0,null,null,0,0,0,0]
[{"$f":"'1 - ANAGRAFICA'!$B$6","v":0},95,{"$f":"'2 - QUADRO LOCALIZZAZIONE'!E97","v":0},{"$f":"'2 - QUADRO LOCALIZZAZIONE'!F97","v":0},{"$f":"'2 - QUADRO LOCALIZZAZIONE'!G97","v":0},{"$f":"'2 - QUADRO LOCALIZZAZIONE'!I97","v":0},{"$f":"'2 - QUADRO LOCALIZZAZIONE'!C97","v":0},{"$f":"'2 - QUADRO LOCALIZZAZIONE'!M97","v":0},null,null,0,null,null,0,null,null,0,null,null,0,null,null,0,null,null,0,0,0,0]
[{"$f":"'1 - ANAGRAFICA'!$B$6","v":0},96,{"$f":"'2 - QUADRO LOCALIZZAZIONE'!E98","v":0},{"$f":"'2 - QUADRO LOCALIZZAZIONE'!F98","v":0},{"$f":"'2 - QUADRO LOCALIZZAZIONE'!G98","v":0},{"$f":"'2 - QUADRO LOCALIZZAZIONE'!I98","v":0},{"$f":"'2 - QUADRO LOCALIZZAZIONE'!C98","v":0},{"$f":"'2 - QUADRO LOCALIZZAZIONE'!M98","v":0},null,null,0,null,null,0,null,null,0,null,null,0,null,null,0,null,null,0,0,0,0]
[{"$f":"'1 - ANAGRAFICA'!$B$6","v":0},97,{"$f":"'2 - QUADRO LOCALIZZAZIONE'!E99","v":0},{"$f":"'2 - QUADRO LOCALIZZAZIONE'!F99","v":0},{"$f":"'2 - QUADRO LOCALIZZAZIONE'!G99","v":0},{"$f":"'2 - QUADRO LOCALIZZAZIONE'!I99","v":0},{"$f":"'2 - QUADRO LOCALIZZAZIONE'!C99","v":0},{"$f":"'2 - QUADRO LOCALIZZAZIONE'!M99","v":0},null,null,0,null,null,0,null,null,0,null,null,0,null,null,0,null,null,0,0,0,0]
[{"$f":"'1 - ANAGRAFICA'!$B$6","v":0},98,{"$f":"'2 - QUADRO LOCALIZZAZIONE'!E100","v":0},{"$f":"'2 - QUADRO LOCALIZZAZIONE'!F100","v":0},{"$f":"'2 - QUADRO LOCALIZZAZIONE'!G100","v":0},{"$f":"'2 - QUADRO LOCALIZZAZIONE'!I100","v":0},{"$f":"'2 - QUADRO LOCALIZZAZIONE'!C100","v":0},{"$f":"'2 - QUADRO LOCALIZZAZIONE'!M100","v":0},null,null,0,null,null,0,null,null,0,null,null,0,null,null,0,null,null,0,0,0,0]
[{"$f":"'1 - ANAGRAFICA'!$B$6","v":0},99,{"$f":"'2 - QUADRO LOCALIZZAZIONE'!E101","v":0},{"$f":"'2 - QUADRO LOCALIZZAZIONE'!F101","v":0},{"$f":"'2 - QUADRO LOCALIZZAZIONE'!G101","v":0},{"$f":"'2 - QUADRO LOCALIZZAZIONE'!I101","v":0},{"$f":"'2 - QUADRO LOCALIZZAZIONE'!C101","v":0},{"$f":"'2 - QUADRO LOCALIZZAZIONE'!M101","v":0},null,null,0,null,null,0,null,null,0,null,null,0,null,null,0,null,null,0,0,0,0]
[{"$f":"'1 - ANAGRAFICA'!$B$6","v":0},100,{"$f":"'2 - QUADRO LOCALIZZAZIONE'!E102","v":0},{"$f":"'2 - QUADRO LOCALIZZAZIONE'!F102","v":0},{"$f":"'2 - QUADRO LOCALIZZAZIONE'!G102","v":0},{"$f":"'2 - QUADRO LOCALIZZAZIONE'!I102","v":0},{"$f":"'2 - QUADRO LOCALIZZAZIONE'!C102","v":0},{"$f":"'2 - QUADRO LOCALIZZAZIONE'!M102","v":0},null,null,0,null,null,0,null,null,0,null,null,{"$f":"IF(S102=0,0,S102/$AB102)","v":0},null,null,0,null,null,0,0,0,0]

{"sheet":"4 - RIEPILOGHI E PUNTEGGIO","index":3,"n_rows":6,"n_cols":9,"rows_kept":6,"cut":false,"hidden":false,"merged":[[5,1,7,3],[1,7,3,7],[1,8,3,8],[1,5,3,5],[5,4,7,4]]}
[null,"AZIONI","SOMMA SUPERFICI\nm2","DI CUI SUPERFICIE NON AGRICOLA","N. PIANTE PREVISTE","PUNTEGGIO PONDERATO\nPER AMBITO TERRITORIALE","IMPORTI DI PROGETTO","PUNTEGGIO PONDERATO PER TIPOLOGIA DI OPERAZIONE\n","PUNTEGGIO PONDERATO COMPLESSIVO"]
[{"$f":"'1 - ANAGRAFICA'!$B$8","v":7},"AZIONE_1\n(16 punti)",{"$f":"SUMIF('2 - QUADRO LOCALIZZAZIONE'!M$3:M$102,\"AZIONE_1\",'2 - QUADRO LOCALIZZAZIONE'!I$3:I$102)","v":0},{"$f":"SUMIF('2 - QUADRO LOCALIZZAZIONE'!M$3:M$22,\"AZIONE_1\",'2 - QUADRO LOCALIZZAZIONE'!AM$3:AM$22)","v":0},{"$f":"FLOOR(SUMIF('3 - SPECIE DA IMPIANTARE'!H$3:H$102,\"AZIONE_1\",'3 - SPECIE DA IMPIANTARE'!AB$3:UA$102),1)","v":0},{"$f":"SUM('2 - QUADRO LOCALIZZAZIONE'!AB3:AB102)/C5","v":{"$error":"#DIV/0!"}},{"$f":"C2*1.05","v":0},{"$f":"IF(G2/SUM(G2:G4)>=0.8,16,IF(G3/SUM(G2:G4)>=0.8,12,IF(G4/SUM(G2:G4)>=0.8,2,(C2*16+C3*12+C4*2)/SUM(C2:C4))))","v":{"$error":"#DIV/0!"}},{"$f":"F2+H2","v":{"$error":"#DIV/0!"}}]
[{"$f":"'1 - ANAGRAFICA'!$B$8","v":7},"AZIONE_2\n(12 punti)",{"$f":"SUMIF('2 - QUADRO LOCALIZZAZIONE'!M$3:M$102,\"AZIONE_2\",'2 - QUADRO LOCALIZZAZIONE'!I$3:I$102)","v":0},{"$f":"SUMIF('2 - QUADRO LOCALIZZAZIONE'!M$3:M$22,\"AZIONE_2\",'2 - QUADRO LOCALIZZAZIONE'!AM$3:AM$22)","v":0},{"$f":"FLOOR(SUMIF('3 - SPECIE DA IMPIANTARE'!H$3:H$102,\"AZIONE_2\",'3 - SPECIE DA IMPIANTARE'!AB$3:AB$102),1)","v":0},null,{"$f":"C3*0.6","v":0}]
[{"$f":"'1 - ANAGRAFICA'!$B$8","v":7},"AZIONE_3\n(2 punti)",{"$f":"SUMIF('2 - QUADRO LOCALIZZAZIONE'!M$3:M$102,\"AZIONE_3\",'2 - QUADRO LOCALIZZAZIONE'!I$3:I$102)","v":0},{"$f":"SUMIF('2 - QUADRO LOCALIZZAZIONE'!M$3:M$22,\"AZIONE_3\",'2 - QUADRO LOCALIZZAZIONE'!AM$3:AM$22)","v":0},{"$f":"FLOOR(SUMIF('3 - SPECIE DA IMPIANTARE'!H$3:H$102,\"AZIONE_3\",'3 - SPECIE DA IMPIANTARE'!AB$3:AB$102),1)","v":0},null,{"$f":"C4*1.05","v":0}]
[{"$f":"'1 - ANAGRAFICA'!$B$8","v":7},"TOTALE",{"$f":"SUM(C2:C4)","v":0},{"$f":"SUM(D2:D4)","v":0},{"$f":"SUM(E2:E4)","v":0},null,{"$f":"SUM(G2:G4)","v":0}]
[null,{"$f":"IF(C5<>SUM('1 - ANAGRAFICA'!E12,'1 - ANAGRAFICA'!L12,'1 - ANAGRAFICA'!S12),\"SUPERFICIE DICHIARATA IN QUADRO LOCALIZZAZIONE DIVERSA DA QUELLA DICHIARATA IN ANAGRAFICA\",IF(C5<2000,\"SUPERFICIE DICHIARATA INFERIORE A 2000 M2\",\"\"))","v":"SUPERFICIE DICHIARATA INFERIORE A 2000 M2"},null,null,{"$f":"IF('VERIFICA AZ. 1'!AA2>0,\"Indicare almeno tre specie per ogni unità d'imboschimento dell'AZIONE_1\",IF('VERIFICA AZ. 2'!AA2>0,\"Indicare almeno due specie per ogni unità d'imboschimento dell'AZIONE_2\",IF('VERIFICA AZ. 3'!AA2>0,\"Indicare almeno due specie per ogni unità d'imboschimento dell'AZIONE_3\",\"-\")))","v":"-"}]

{"sheet":"5 - QUADRO INTERVENTI AZ 1","index":4,"n_rows":51,"n_cols":11,"rows_kept":51,"cut":false,"hidden":false,"merged":[[41,1,41,4],[41,5,41,6],[47,5,47,7],[46,5,46,7],[45,5,45,7],[37,1,37,4],[9,5,9,6],[12,5,12,6],[0,1,0,8],[9,1,9,4],[12,1,12,4],[18,5,18,6],[24,5,24,6],[18,1,18,4],[24,1,24,4],[31,1,31,4],[34,1,34,4],[48,5,48,7],[31,5,31,6],[34,5,34,6],[37,5,37,6],[43,5,43,7],[44,5,44,7]]}
[null,"INVESTIMENTO RICHIESTO"]
[null,"N. prog","Codice","TIPOLOGIA PRINCIPALE (P) O SECONDARIA (S)","Descrizione della voce di costo","Costo unitario","Unità di misura","Quantità ","Costo",null,"Fornitore scelto (denominazione)"]
[{"$f":"'1 - ANAGRAFICA'!$B$8","v":7},1,"A preventivo","S","Analisi chimico-fisiche del suolo",0,"cad.",null,{"$f":"F3*H3","v":0}]
[{"$f":"'1 - ANAGRAFICA'!$B$8","v":7},2,"OF 01.01","S","Ripulitura di materiale arbustivo/erbaceo su terreno non boscato, eseguito a mano o con l'ausilio di attrezzature meccaniche (decespugliatore portato a spalla) comprese le operazioni di raccolta, asportazione e distruzione del materiale di risulta. Da eseguirsi solo quando la vegetazione esistente, per densità e consistenza, non possa essere eliminata contestualmente alle successive lavorazioni del terreno previste in progetto.  Terreno scarsamente infestato (meno del 50% della superficie)",741,"ha",null,{"$f":"F4*H4","v":0}]
[{"$f":"'1 - ANAGRAFICA'!$B$8","v":7},3,"OF 01.02","S","Ripulitura come alla voce precedente ma su terreno infestato (oltre il 50%)",1067,"ha",null,0]
[{"$f":"'1 - ANAGRAFICA'!$B$8","v":7},4,"OF 01.03","S","Ripulitura, come alla voce precedente, ma eseguita con criterio selettivo con rilascio di rinnovazione o materiale vegetale di interesse forestale (maggiorazione del 20%). Terreno scarsamente infestato (meno del 50% della superficie)",890.3,"ha",null,0]
[{"$f":"'1 - ANAGRAFICA'!$B$8","v":7},5,"OF 01.04","S","Ripulitura, come alla voce precedente, ma eseguita con criterio selettivo con rilascio di rinnovazione o materiale vegetale di interesse forestale (maggiorazione del 20%). Terreno infestato (oltre il 50% della superficie)",1282.5999999999999,"ha",null,0]
[{"$f":"'1 - ANAGRAFICA'!$B$8","v":7},6,"OF 01.05","S","Ripulitura di materiale arbustivo/erbaceo su terreno non boscato, mediante taglio, amminutamento e spargimento sul terreno del materiale vegetale, eseguito con mezzi meccanici (decespugliatore portato da trattrice) comprese eventuali operazioni accessorie. Terreno poco accidentato.",435.74,"ha",null,0]
[{"$f":"'1 - ANAGRAFICA'!$B$8","v":7},7,"OF 01.06","S","Ripulitura, come alla voce precedente, ma eseguita su terreno mediamente accidentato",670.9,"ha",null,0]
[{"$f":"'1 - ANAGRAFICA'!$B$8","v":7},"RIPULITURA DEL TERRENO \n(Solo per terreni non agricoli)",null,null,null,{"$f":"IF(H10>'4 - RIEPILOGHI E PUNTEGGIO'!D2/10000,\"IMPUTARE SOLO LA SUPERFICIE PER TERRENI NON AGRICOLI\",\"SUBTOTALE\")","v":"SUBTOTALE"},null,{"$f":"SUM(H4:H9)","v":0},{"$f":"SUM(I4:I9)","v":0}]
[{"$f":"'1 - ANAGRAFICA'!$B$8","v":7},8,"OF 01.07","S","Interramento di materiale organico locale o trasportato (eseguito con fresa o altro attrezzo equivalente)",252.45,"ha",null,0]
[{"$f":"'1 - ANAGRAFICA'!$B$8","v":7},9,"OF 01.08","S","Fornitura e spandimento di ammendante organico (3kg/mq) da eseguirsi tra l'aratura e la finitura superficiale",905.52,"ha",null,0]
[{"$f":"'1 - ANAGRAFICA'!$B$8","v":7},"CONCIMAZIONE ORGANICA",null,null,null,{"$f":"IF(H13>'4 - RIEPILOGHI E PUNTEGGIO'!$C2/10000,\"SUPERATA SUPERFICIE DICHIARATA IN QUADRO LOCALIZZAZIONE\",\"SUBTOTALE\")","v":"SUBTOTALE"},null,{"$f":"SUM(H11:H12)","v":0},{"$f":"SUM(I11:I12)","v":0}]
[{"$f":"'1 - ANAGRAFICA'!$B$8","v":7},10,"OF 01.09","P","Lavorazione andante del terreno in prima classe di pendenza (0-20%), eseguita con mezzo meccanico di adeguata potenza attrezzato con aratro da scasso di tipo forestale o con ripper a tre ancore (a seconda della natura del terreno), alla profondità non inferiore a 60 cm, compreso eventuale amminutamento del terreno ed ogni altro onere.  Su terreno agricolo o ex agricolo",807.84,"ha",null,{"$f":"F14*H14","v":0}]
[{"$f":"'1 - ANAGRAFICA'!$B$8","v":7},11,"OF 01.10","P","Lavorazione come sopra, su terreno tenace ed in presenza di matrice rocciosa suscettibile di rottura",1262.25,"ha",null,{"$f":"F15*H15","v":0}]
[{"$f":"'1 - ANAGRAFICA'!$B$8","v":7},12,"OF 01.11","P","Lavorazione del terreno eseguita a strisce della larghezza non inferiore a 100 cm, profondità  di  m  0,5-0,7  compresi  amminutamento  ed  ogni  altro  onere. Superficie effettivamente lavorata (superficie ragguagliata).  Su terreno agricolo o ex agricolo",0.2,"m",null,0]
[{"$f":"'1 - ANAGRAFICA'!$B$8","v":7},13,"OF 01.12","P","Lavorazione  come  sopra,  su  terreno  tenace  ed  in  presenza  di  matrice  rocciosa suscettibile di rottura",0.45,"m",null,0]
[{"$f":"'1 - ANAGRAFICA'!$B$8","v":7},14,"OF 01.13","P","Lavorazione andante del terreno alla profondità non inferiore a 60 cm in prima e seconda classe di pendenza, eseguita a macchina mediante scarificatura ripetuta in croce su terreno con matrice rocciosa suscettibile di rottura.  Superficie effettivamente lavorata (superficie ragguagliata)",1767.15,"ha",null,0]
[{"$f":"'1 - ANAGRAFICA'!$B$8","v":7},"PREPARAZIONE E LAVORAZIONE DEL TERRENO",null,null,null,{"$f":"IF(H19>'4 - RIEPILOGHI E PUNTEGGIO'!$C2/10000,\"SUPERATA SUPERFICIE DICHIARATA IN QUADRO LOCALIZZAZIONE\",IF(H19<'4 - RIEPILOGHI E PUNTEGGIO'!$C2/10000,\"NON RAGGIUNTA SUPERFICIE DICHIARATA IN QUADRO LOCALIZZAZIONE\",\"SUBTOTALE\"))","v":"SUBTOTALE"},null,{"$f":"SUM(H14:H15,H18)+SUM(H16,H17)/10000","v":0},{"$f":"SUM(I14:I18)","v":0}]
[{"$f":"'1 - ANAGRAFICA'!$B$8","v":7},15,"OF 01.14","S","Formazione di gradoncini e/o banchette della larghezza non inferiore ad 80 cm eseguiti a mano lungo le curve di livello con il decespugliamento, profilatura in contropendenza e regolarizzazione delle scarpate a monte e a valle, compresa la lavorazione del terreno ad una profondità, misurata a monte, non inferiore a 30 cm. Prima classe di pendenza (0-20%) (analisi per 100 ml)",6.16,"ml",null,0]
[{"$f":"'1 - ANAGRAFICA'!$B$8","v":7},16,"OF 01.15","S","Lavorazione come sopra, su terreno in seconda classe di pendenza (20-40%)",7.97,"ml",null,0]
[{"$f":"'1 - ANAGRAFICA'!$B$8","v":7},17,"OF 01.16","S","Formazione di finti gradoni (assolcatura) della larghezza non inferiore ad 80 cm in prima e seconda classe di pendenza, eseguita lungo le curve di livello, a due o più passaggi, con mezzo meccanico attrezzato con aratro monovomere, aratro ripuntatore e/o ripper modificato, compresa profilatura in contropendenza e regolarizzazione, ove necessario, delle scarpate a monte e a valle ed ogni altro onere.  (analisi per 100 ml) ",1.28,"ml",null,0]
[{"$f":"'1 - ANAGRAFICA'!$B$8","v":7},18,"OF 01.17","S","Formazione di terrazzi della larghezza media di 3 m, eseguiti a macchina, compresa lavorazione del terreno in piano ad una profondità non inferiore a 60 cm, regolarizzazione della scarpata a monte ed a valle ed ogni altro onere. Su terreno in prima  classe di pendenza (0-20%) (analisi per 100 ml)",4.24,"ml",null,0]
[{"$f":"'1 - ANAGRAFICA'!$B$8","v":7},19,"OF 01.18","S","Lavorazione come sopra, su terreno in seconda classe di pendenza (20-40%) (Analisi per 100 ml)",5.7,"ml",null,0]
[{"$f":"'1 - ANAGRAFICA'!$B$8","v":7},"SISTEMAZIONI IDRAULICO AGRARIE",null,null,null,"SUBTOTALE",null,{"$f":"SUM(H20:H24)","v":0},{"$f":"SUM(I20:I24)","v":0}]
[{"$f":"'1 - ANAGRAFICA'!$B$8","v":7},20,"A preventivo","S","Squadratura, tracciamento filari"]
[{"$f":"'1 - ANAGRAFICA'!$B$8","v":7},21,"OF 01.20","P","Apertura manuale di buche in terreno precedentemente lavorato, cm 40x40x40",1.19,"cad.",null,0]
[{"$f":"'1 - ANAGRAFICA'!$B$8","v":7},22,"OF 01.21","P","Apertura manuale di buche in terreno compatto.",2.67,"cad.",null,0]
[{"$f":"'1 - ANAGRAFICA'!$B$8","v":7},23,"OF 01.22","P","Apertura buca con trivella meccanica (diametro cm 40, profondità cm 40)",1.8,"cad.",null,0]
[{"$f":"'1 - ANAGRAFICA'!$B$8","v":7},24,"OF 01.23","P","Apertura di buche, con trivella meccanica,  in terreno di qualsiasi natura e consistenza, compreso ogni altro onere ed accessorio.",2.2400000000000002,"cad.",null,0]
[{"$f":"'1 - ANAGRAFICA'!$B$8","v":7},25,"OF 01.24","P","Apertura di buche delle dimensioni minime cm. 50x50x50, eseguita con mezzo meccanico (scavatore a cucchiaio), su terreno di qualsiasi natura e consistenza compreso ogni altro onere ed accessorio.",2.86,"cad.",null,0]
[{"$f":"'1 - ANAGRAFICA'!$B$8","v":7},"APERTURA BUCHE",null,null,null,{"$f":"IF(H32>'4 - RIEPILOGHI E PUNTEGGIO'!$E2,\"QUANTITA' BUCHE MAGGIORE PIANTE PREVISTE\",IF(H32<'4 - RIEPILOGHI E PUNTEGGIO'!E2,\"QUANTITA' BUCHE MINORE DELLE PIANTE PREVISTE\",\"SUBTOTALE\"))","v":"SUBTOTALE"},null,{"$f":"SUM(H27:H31)","v":0},{"$f":"SUM(I27:I31)","v":0}]
[{"$f":"'1 - ANAGRAFICA'!$B$8","v":7},26,"OF 01.25","P","Collocamento a dimora di piantina resinosa e latifoglia a radice nuda, comprese la ricolmatura con compressione del terreno adiacente le radici delle piante, la razionale posa in tagliola, l'imbozzimatura, la spuntatura delle radici ed ogni altra operazione necessaria a dare l'opera eseguita a regola d'arte (escluso la fornitura della pianta)",1.29,"cad.",null,0]
[{"$f":"'1 - ANAGRAFICA'!$B$8","v":7},27,"OF 01.26","P","Collocamento a dimora di latifoglia in contenitore, compresa la ricolmatura con compressione del terreno (escluso la fornitura della pianta)",1.62,"cad.",null,0]
[{"$f":"'1 - ANAGRAFICA'!$B$8","v":7},"MESSA A DIMORA",null,null,null,{"$f":"IF(H35>'4 - RIEPILOGHI E PUNTEGGIO'!$E$2,\"QUANTITA' PIANTE MAGGIORE PIANTE PREVISTE\",IF(H35<'4 - RIEPILOGHI E PUNTEGGIO'!E$2,\"QUANTITA' PIANTE MINORE DELLE PIANTE PREVISTE\",\"SUBTOTALE\"))","v":"SUBTOTALE"},null,{"$f":"SUM(H33:H34)","v":0},{"$f":"SUM(I33:I34)","v":0}]
[{"$f":"'1 - ANAGRAFICA'!$B$8","v":7},28,"OF 01.27","P","Fornitura di piantina di latifoglia o conifera a radice nuda",0.88,"cad.",null,0]
[{"$f":"'1 - ANAGRAFICA'!$B$8","v":7},29,"OF 01.28","P","Fornitura di piantina di latifoglia o conifera in fitocella",1.98,"cad.",null,0]
[{"$f":"'1 - ANAGRAFICA'!$B$8","v":7},"FORNITURA PIANTE",null,null,null,{"$f":"IF(H38>'4 - RIEPILOGHI E PUNTEGGIO'!$E$2,\"QUANTITA' PIANTE MAGGIORE PIANTE PREVISTE\",IF(H38<'4 - RIEPILOGHI E PUNTEGGIO'!E$2,\"QUANTITA' PIANTE MINORE DELLE PIANTE PREVISTE\",\"SUBTOTALE\"))","v":"SUBTOTALE"},null,{"$f":"SUM(H36:H37)","v":0},{"$f":"SUM(I36:I37)","v":0}]
[{"$f":"'1 - ANAGRAFICA'!$B$8","v":7},30,"OF 01.19","S","Pacciamatura localizzata con dischi o quadretti in materiale ligno-cellulosico biodegradabile, di dimensioni  minime cm 40x40, compreso acquisto, fornitura posa ed ancoraggio con picchetti. (analisi per 100 ml)",2.33,"cad.",null,{"$f":"H39*F39","v":0}]
[{"$f":"'1 - ANAGRAFICA'!$B$8","v":7},31,"OF 01.31","S","Formazione di siepe mediante la posa in opera di arbusti di specie varie di altezza variabile (cm 20-50) consistente nell'apertura di trincea di cm 40x40 in terreno precedentemente lavorato e posa in opera delle piante alla distanza di cm 25, compreso ogni onere (escluso la fornitura della piante)",5.26,"ml",null,{"$f":"F40*H40","v":0}]
[{"$f":"'1 - ANAGRAFICA'!$B$8","v":7},32,"OF 04.08","S","Chiudenda a 5 ordini di filo spinato a 3 fili e 4 punte, zincato, sorretto o tenuto in tensione da pali di castagno o di robinia della lunghezza di m 1,80 e diametro di cm 8, posti ad una distanza di m 2 l'uno dall'altro, compresi i puntoni ed i tiranti nelle deviazioni. (Analisi per 100 ml)",14.68,"ml",null,0]
[{"$f":"'1 - ANAGRAFICA'!$B$8","v":7},"SIEPI E CHIUDENDE",null,null,null,"SUBTOTALE",null,{"$f":"SUM(H40:H41)","v":0},{"$f":"SUM(I40:I41)","v":0}]
[{"$f":"'1 - ANAGRAFICA'!$B$8","v":7},33,"OF. 03.07","S","Irrigazione di soccorso, compreso l'approvigionamento idrico a qualsiasi distanza e qualunque quantità, distrubuzione dell'acqua con qualsiasi mezzo o modo per ciascun intervento e piantina (quantità 20 l). Analisi riferita a 400 piante",0.59,"cad.",null,0]
[{"$f":"'1 - ANAGRAFICA'!$B$8","v":7},34,"A preventivo","S","Trattamenti fitosanitari"]
[{"$f":"'1 - ANAGRAFICA'!$B$8","v":7},35,"A preventivo","P","Spese generali"]
[{"$f":"'1 - ANAGRAFICA'!$B$8","v":7},null,null,null,"A = (∑ 1: 34)","TOTALE SPESE MATERIALI",null,null,{"$f":"SUM(I3,I10,I13,I19,I25,I26,I32,I35,I38,I39,I42,I43,I44)","v":0}]
[{"$f":"'1 - ANAGRAFICA'!$B$8","v":7},null,null,null,"B = MAX (A x 0,12)","SPESE GENERALI: AMMISSIBILI SU DICHIARATO",null,null,{"$f":"IF(I45<=I46*0.12,I45,I46*0.12)","v":0}]
[{"$f":"'1 - ANAGRAFICA'!$B$8","v":7},null,null,null,"C = (A+B)","TOTALE SPESA RICHIESTA AMMISSIBILE",null,null,{"$f":"I46+I47","v":0}]
[{"$f":"'1 - ANAGRAFICA'!$B$8","v":7},null,null,null,"D = (ha Az.1 x 11.760)","SPESA MASSIMA AMMISSIBILE",null,null,{"$f":"11760*'4 - RIEPILOGHI E PUNTEGGIO'!C2/10000","v":0}]
[null,"Note: ","I costi si intendono IVA esclusa"]
[null,null,"Il valore D spesa massima ammissibile rappresenta il limite in base ai dati imputati"]

{"sheet":"5 - QUADRO INTERVENTI AZ 2","index":5,"n_rows":48,"n_cols":11,"rows_kept":48,"cut":false,"hidden":false,"merged":[[5,5,5,6],[0,1,0,8],[11,5,11,6],[11,2,11,4],[5,2,5,4],[24,5,24,6],[27,5,27,6],[24,1,24,4],[27,2,27,4],[17,2,17,4],[17,5,17,6],[18,5,18,7],[31,1,31,4],[37,1,37,4],[37,5,37,6],[44,5,44,7],[45,5,45,7],[31,5,31,6],[42,5,42,7],[43,5,43,7],[40,5,40,7],[41,5,41,7]]}
[null,"INVESTIMENTO RICHIESTO"]
[null,"N. prog","Codice","TIPOLOGIA PRINCIPALE (P) O SECONDARIA (S)","Descrizione della voce di costo","Costo unitario","Unità di misura","Quantità ","Costo",null,"Fornitore scelto (denominazione)"]
[{"$f":"'1 - ANAGRAFICA'!$B$8","v":7},1,"A preventivo","P","Analisi chimico-fisiche del suolo",0,{"$f":"IF(I3=0,\"INSERIRE COSTO ANALISI-OBBLIGATORIO\",\"Cad.\")","v":"INSERIRE COSTO ANALISI-OBBLIGATORIO"},null,{"$f":"F3*H3","v":0}]
[{"$f":"'1 - ANAGRAFICA'!$B$8","v":7},2,"OF 01.07","P","Interramento di materiale organico locale o trasportato (eseguito con fresa o altro attrezzo equivalente)",252.45,"ha",null,{"$f":"F4*H4","v":0}]
[{"$f":"'1 - ANAGRAFICA'!$B$8","v":7},3,"OF 01.08","P","Fornitura e spandimento di ammendante organico (3kg/mq) da eseguirsi tra l'aratura e la finitura superficiale",905.52,"ha",null,0]
[{"$f":"'1 - ANAGRAFICA'!$B$8","v":7},null,"CONCIMAZIONE ORGANICA",null,null,{"$f":"IF(H6>'4 - RIEPILOGHI E PUNTEGGIO'!$C$3/10000,\"SUPERATA SUPERFICIE DICHIARATA IN QUADRO LOCALIZZAZIONE\",IF(H6<'4 - RIEPILOGHI E PUNTEGGIO'!$C$3/10000,\"INTERVENTO OBBLIGATORIO SU TUTTA LA SUPERFICIE\",\"SUBTOTALE\"))","v":"SUBTOTALE"},null,{"$f":"SUM(H4:H5)","v":0},{"$f":"SUM(I4:I5)","v":0}]
[{"$f":"'1 - ANAGRAFICA'!$B$8","v":7},4,"OF 01.09","P","Lavorazione andante del terreno in prima classe di pendenza (0-20%), eseguita con mezzo meccanico di adeguata potenza attrezzato con aratro da scasso di tipo forestale o con ripper a tre ancore (a seconda della natura del terreno), alla profondità non inferiore a 60 cm, compreso eventuale amminutamento del terreno ed ogni altro onere.  Su terreno agricolo o ex agricolo",807.84,"ha",null,{"$f":"F7*H7","v":0}]
[{"$f":"'1 - ANAGRAFICA'!$B$8","v":7},5,"OF 01.10","P","Lavorazione come sopra, su terreno tenace ed in presenza di matrice rocciosa suscettibile di rottura",1262.25,"ha",null,{"$f":"F8*H8","v":0}]
[{"$f":"'1 - ANAGRAFICA'!$B$8","v":7},6,"OF 01.11","P","Lavorazione del terreno eseguita a strisce della larghezza non inferiore a 100 cm, profondità  di  m  0,5-0,7  compresi  amminutamento  ed  ogni  altro  onere. Superficie effettivamente lavorata (superficie ragguagliata).  Su terreno agricolo o ex agricolo",0.2,"m",null,0]
[{"$f":"'1 - ANAGRAFICA'!$B$8","v":7},7,"OF 01.12","P","Lavorazione  come  sopra,  su  terreno  tenace  ed  in  presenza  di  matrice  rocciosa suscettibile di rottura",0.45,"m",null,0]
[{"$f":"'1 - ANAGRAFICA'!$B$8","v":7},8,"OF 01.13","P","Lavorazione andante del terreno alla profondità non inferiore a 60 cm in prima e seconda classe di pendenza, eseguita a macchina mediante scarificatura ripetuta in croce su terreno con matrice rocciosa suscettibile di rottura.  Superficie effettivamente lavorata (superficie ragguagliata)",1767.15,"ha",null,0]
[{"$f":"'1 - ANAGRAFICA'!$B$8","v":7},null,"PREPARAZIONE E LAVORAZIONE DEL TERRENO",null,null,{"$f":"IF(H12>'4 - RIEPILOGHI E PUNTEGGIO'!$C$3/10000,\"SUPERATA SUPERFICIE DICHIARATA IN QUADRO LOCALIZZAZIONE\",IF(H12<'4 - RIEPILOGHI E PUNTEGGIO'!$C$3/10000,\"NON RAGGIUNTA SUPERFICIE DICHIARATA IN QUADRO LOCALIZZAZIONE\",\"SUBTOTALE\"))","v":"SUBTOTALE"},null,{"$f":"SUM(H7:H8,H11)+SUM(H9,H10)/10000","v":0},{"$f":"SUM(I7:I11)","v":0}]
[{"$f":"'1 - ANAGRAFICA'!$B$8","v":7},9,"OF 01.14","S","Formazione di gradoncini e/o banchette della larghezza non inferiore ad 80 cm eseguiti a mano lungo le curve di livello con il decespugliamento, profilatura in contropendenza e regolarizzazione delle scarpate a monte e a valle, compresa la lavorazione del terreno ad una profondità, misurata a monte, non inferiore a 30 cm. Prima classe di pendenza (0-20%) (analisi per 100 ml)",6.16,"ml",null,0]
[{"$f":"'1 - ANAGRAFICA'!$B$8","v":7},10,"OF 01.15","S","Lavorazione come sopra, su terreno in seconda classe di pendenza (20-40%)",7.97,"ml",null,0]
[{"$f":"'1 - ANAGRAFICA'!$B$8","v":7},11,"OF 01.16","S","Formazione di finti gradoni (assolcatura) della larghezza non inferiore ad 80 cm in prima e seconda classe di pendenza, eseguita lungo le curve di livello, a due o più passaggi, con mezzo meccanico attrezzato con aratro monovomere, aratro ripuntatore e/o ripper modificato, compresa profilatura in contropendenza e regolarizzazione, ove necessario, delle scarpate a monte e a valle ed ogni altro onere.  (analisi per 100 ml) ",1.28,"ml",null,0]
[{"$f":"'1 - ANAGRAFICA'!$B$8","v":7},12,"OF 01.17","S","Formazione di terrazzi della larghezza media di 3 m, eseguiti a macchina, compresa lavorazione del terreno in piano ad una profondità non inferiore a 60 cm, regolarizzazione della scarpata a monte ed a valle ed ogni altro onere. Su terreno in prima  classe di pendenza (0-20%) (analisi per 100 ml)",4.24,"ml",null,0]
[{"$f":"'1 - ANAGRAFICA'!$B$8","v":7},13,"OF 01.18","S","Lavorazione come sopra, su terreno in seconda classe di pendenza (20-40%) (Analisi per 100 ml)",5.7,"ml",null,0]
[{"$f":"'1 - ANAGRAFICA'!$B$8","v":7},null,"SISTEMAZIONI IDRAULICO AGRARIE",null,null,"SUBTOTALE",null,{"$f":"SUM(H13:H17)","v":0},{"$f":"SUM(I13:I17)","v":0}]
[{"$f":"'1 - ANAGRAFICA'!$B$8","v":7},14,"A preventivo","S","Squadratura, tracciamento filari"]
[{"$f":"'1 - ANAGRAFICA'!$B$8","v":7},15,"OF 01.20","P","Apertura manuale di buche in terreno precedentemente lavorato, cm 40x40x40",1.19,"cad.",null,0]
[{"$f":"'1 - ANAGRAFICA'!$B$8","v":7},16,"OF 01.21","P","Apertura manuale di buche in terreno compatto.",2.67,"cad.",null,0]
[{"$f":"'1 - ANAGRAFICA'!$B$8","v":7},17,"OF 01.22","P","Apertura buca con trivella meccanica (diametro cm 40, profondità cm 40)",1.8,"cad.",null,0]
[{"$f":"'1 - ANAGRAFICA'!$B$8","v":7},18,"OF 01.23","P","Apertura di buche, con trivella meccanica,  in terreno di qualsiasi natura e consistenza, compreso ogni altro onere ed accessorio.",2.2400000000000002,"cad.",null,0]
[{"$f":"'1 - ANAGRAFICA'!$B$8","v":7},19,"OF 01.24","P","Apertura di buche delle dimensioni minime cm. 50x50x50, eseguita con mezzo meccanico (scavatore a cucchiaio), su terreno di qualsiasi natura e consistenza compreso ogni altro onere ed accessorio.",2.86,"cad.",null,0]
[{"$f":"'1 - ANAGRAFICA'!$B$8","v":7},"APERTURA BUCHE",null,null,null,{"$f":"IF(H25>'4 - RIEPILOGHI E PUNTEGGIO'!$E$3,\"QUANTITA' BUCHE MAGGIORE PIANTE PREVISTE\",IF(H25<'4 - RIEPILOGHI E PUNTEGGIO'!E$3,\"QUANTITA' BUCHE MINORE DELLE PIANTE PREVISTE\",\"SUBTOTALE\"))","v":"SUBTOTALE"},null,{"$f":"SUM(H20:H24)","v":0},{"$f":"SUM(I20:I24)","v":0}]
[{"$f":"'1 - ANAGRAFICA'!$B$8","v":7},20,"OF 01.25","P","Collocamento a dimora di piantina resinosa e latifoglia a radice nuda, comprese la ricolmatura con compressione del terreno adiacente le radici delle piante, la razionale posa in tagliola, l'imbozzimatura, la spuntatura delle radici ed ogni altra operazione necessaria a dare l'opera eseguita a regola d'arte (escluso la fornitura della pianta)",1.29,"cad.",null,0]
[{"$f":"'1 - ANAGRAFICA'!$B$8","v":7},21,"OF 01.26","P","Collocamento a dimora di latifoglia in contenitore, compresa la ricolmatura con compressione del terreno (escluso la fornitura della pianta)",1.62,"cad.",null,0]
[{"$f":"'1 - ANAGRAFICA'!$B$8","v":7},null,"MESSA A DIMORA",null,null,{"$f":"IF(H28>'4 - RIEPILOGHI E PUNTEGGIO'!$E$3,\"QUANTITA' PIANTE MAGGIORE PIANTE PREVISTE\",IF(H28<'4 - RIEPILOGHI E PUNTEGGIO'!E$3,\"QUANTITA' PIANTE MINORE DELLE PIANTE PREVISTE\",\"SUBTOTALE\"))","v":"SUBTOTALE"},null,{"$f":"SUM(H26:H27)","v":0},{"$f":"SUM(I26:I27)","v":0}]
[{"$f":"'1 - ANAGRAFICA'!$B$8","v":7},22,"OF 01.27","P","Fornitura di piantina di latifoglia o conifera a radice nuda",0.88,"cad.",null,0]
[{"$f":"'1 - ANAGRAFICA'!$B$8","v":7},23,"OF 01.28","P","Fornitura di piantina di latifoglia o conifera in fitocella",1.98,"cad.",null,0]
[{"$f":"'1 - ANAGRAFICA'!$B$8","v":7},24,"OF 01.29","P","Fornitura di piantine di pregio per arboricoltura da legno (Noce, Ciliegio, ecc.)",2.75,"cad.",null,0]
[{"$f":"'1 - ANAGRAFICA'!$B$8","v":7},"FORNITURA PIANTE",null,null,null,{"$f":"IF(H32>'4 - RIEPILOGHI E PUNTEGGIO'!$E$3,\"QUANTITA' PIANTE MAGGIORE PIANTE PREVISTE\",IF(H32<'4 - RIEPILOGHI E PUNTEGGIO'!E$3,\"QUANTITA' PIANTE MINORE DELLE PIANTE PREVISTE\",\"SUBTOTALE\"))","v":"SUBTOTALE"},null,{"$f":"SUM(H29:H31)","v":0},{"$f":"SUM(I29:I30)","v":0}]
[{"$f":"'1 - ANAGRAFICA'!$B$8","v":7},25,"OF 01.19","S/P","Pacciamatura localizzata con dischi o quadretti in materiale ligno-cellulosico biodegradabile, di dimensioni  minime cm 40x40, compreso acquisto, fornitura posa ed ancoraggio con picchetti. (analisi per 100 ml)",2.33,"cad.",null,{"$f":"H33*F33","v":0}]
[{"$f":"'1 - ANAGRAFICA'!$B$8","v":7},26,"OF 01.30","S","Fornitura in opera di paletti tutori in legno (h non minore di 1,80 m e D in punta non minore di 3 cm), comprese operazioni di carico/scarico e trasporto ed ogni altro onere (solo per impianti da arboricoltura da legno e latifoglie di pregio).",4.5199999999999996,"cad.",null,{"$f":"F34*H34","v":0}]
[{"$f":"'1 - ANAGRAFICA'!$B$8","v":7},27,"OF 01.31","S","Formazione di siepe mediante la posa in opera di arbusti di specie varie di altezza variabile (cm 20-50) consistente nell'apertura di trincea di cm 40x40 in terreno precedentemente lavorato e posa in opera delle piante alla distanza di cm 25, compreso ogni onere (escluso la fornitura della piante)",5.26,"ml",null,0]
[{"$f":"'1 - ANAGRAFICA'!$B$8","v":7},28,"OF 01.32","S","Fornitura e messa in opera di un cilindro protettivo in rete per piantine (tree shelter) per la protezione della piantina dagli ungulati.",2.16,"cad.",null,0]
[{"$f":"'1 - ANAGRAFICA'!$B$8","v":7},29,"OF 04.08","S","Chiudenda a 5 ordini di filo spinato a 3 fili e 4 punte, zincato, sorretto o tenuto in tensione da pali di castagno o di robinia della lunghezza di m 1,80 e diametro di cm 8, posti ad una distanza di m 2 l'uno dall'altro, compresi i puntoni ed i tiranti nelle deviazioni. (Analisi per 100 ml)",14.68,"ml",null,0]
[{"$f":"'1 - ANAGRAFICA'!$B$8","v":7},"SIEPI E CHIUDENDE",null,null,null,"SUBTOTALE",null,null,{"$f":"SUM(I34:I37)","v":0}]
[{"$f":"'1 - ANAGRAFICA'!$B$8","v":7},30,"OF. 03.07","S","Irrigazione di soccorso, compreso l'approvigionamento idrico a qualsiasi distanza e qualunque quantità, distrubuzione dell'acqua con qualsiasi mezzo o modo per ciascun intervento e piantina (quantità 20 l). Analisi riferita a 400 piante",0.59,"cad.",null,0]
[{"$f":"'1 - ANAGRAFICA'!$B$8","v":7},31,"A preventivo","P","Impianto irriguo",800,{"$f":"IF(H40='4 - RIEPILOGHI E PUNTEGGIO'!C3/10000,\"ha\",\"SUPERFICIE DIVERSA DA QUELLA INDICATA PER L'AZIONE 2\")","v":"ha"},null,{"$f":"F40*H40","v":0}]
[{"$f":"'1 - ANAGRAFICA'!$B$8","v":7},32,"A preventivo","S","Trattamenti fitosanitari",null,null,null,0]
[{"$f":"'1 - ANAGRAFICA'!$B$8","v":7},33,"A preventivo","P","Spese generali"]
[{"$f":"'1 - ANAGRAFICA'!$B$8","v":7},null,null,null,"A = (∑ 1: 32)","TOTALE SPESE MATERIALI",null,null,{"$f":"SUM(I3,I6,I12,I18,I19,I25,I28,I32,I33,I38,I39,I40,I41)","v":0}]
[{"$f":"'1 - ANAGRAFICA'!$B$8","v":7},null,null,null,"B = MAX (A x 0,12)","SPESE GENERALI: AMMISSIBILI SU DICHIARATO",null,null,{"$f":"IF(I42<=I43*0.12,I42,I43*0.12)","v":0}]
[{"$f":"'1 - ANAGRAFICA'!$B$8","v":7},null,null,null,"C = (A+B)","TOTALE SPESA RICHIESTA AMMISSIBILE",null,null,{"$f":"I43+I44","v":0}]
[{"$f":"'1 - ANAGRAFICA'!$B$8","v":7},null,null,null,"D = (ha AZ.2 x 6.720)","SPESA MASSIMA AMMISSIBILE",null,null,{"$f":"0.672*'4 - RIEPILOGHI E PUNTEGGIO'!C3","v":0}]
[null,"Note: ","I costi si intendono IVA esclusa"]
[null,null,"Il valore D spesa massima ammissibile rappresenta il limite in base ai dati imputati"]

{"sheet":"5 - QUADRO INTERVENTI AZ 3","index":6,"n_rows":45,"n_cols":11,"rows_kept":45,"cut":false,"hidden":false,"merged":[[31,5,31,6],[31,1,31,4],[27,1,27,4],[0,1,0,8],[5,5,5,6],[11,5,11,6],[24,5,24,6],[27,5,27,6],[17,5,17,6],[5,1,5,4],[11,1,11,4],[17,1,17,4],[24,1,24,4],[42,5,42,7],[40,5,40,7],[41,5,41,7],[35,1,35,4],[39,5,39,7],[35,5,35,7],[37,5,37,7],[38,5,38,7]]}
[null,"INVESTIMENTO RICHIESTO"]
[null,"N. prog","Codice","TIPOLOGIA PRINCIPALE (P) O SECONDARIA (S)","Descrizione della voce di costo","Costo unitario","Unità di misura","Quantità ","Costo",null,"Fornitore scelto (denominazione)"]
[{"$f":"'1 - ANAGRAFICA'!$B$8","v":7},1,"A preventivo","P","Analisi chimico-fisiche del suolo",0,{"$f":"IF(I3=0,\"INSERIRE COSTO ANALISI-OBBLIGATORIO\",\"Cad.\")","v":"INSERIRE COSTO ANALISI-OBBLIGATORIO"},null,{"$f":"F3*H3","v":0}]
[{"$f":"'1 - ANAGRAFICA'!$B$8","v":7},2,"OF 01.07","P","Interramento di materiale organico locale o trasportato (eseguito con fresa o altro attrezzo equivalente)",252.45,"ha",null,{"$f":"F4*H4","v":0}]
[{"$f":"'1 - ANAGRAFICA'!$B$8","v":7},3,"OF 01.08","P","Fornitura e spandimento di ammendante organico (3kg/mq) da eseguirsi tra l'aratura e la finitura superficiale",905.52,"ha",null,0]
[{"$f":"'1 - ANAGRAFICA'!$B$8","v":7},"CONCIMAZIONE ORGANICA",null,null,null,{"$f":"IF(H6>'4 - RIEPILOGHI E PUNTEGGIO'!$C$4/10000,\"SUPERATA SUPERFICIE DICHIARATA IN QUADRO LOCALIZZAZIONE\",IF(H6<'4 - RIEPILOGHI E PUNTEGGIO'!$C$4/10000,\"INTERVENTO OBBLIGATORIO SU TUTTA LA SUPERFICIE\",\"SUBTOTALE\"))","v":"SUBTOTALE"},null,{"$f":"SUM(H4:H5)","v":0},{"$f":"SUM(I4:I5)","v":0}]
[{"$f":"'1 - ANAGRAFICA'!$B$8","v":7},4,"OF 01.09","P","Lavorazione andante del terreno in prima classe di pendenza (0-20%), eseguita con mezzo meccanico di adeguata potenza attrezzato con aratro da scasso di tipo forestale o con ripper a tre ancore (a seconda della natura del terreno), alla profondità non inferiore a 60 cm, compreso eventuale amminutamento del terreno ed ogni altro onere.  Su terreno agricolo o ex agricolo",807.84,"ha",null,{"$f":"F7*H7","v":0}]
[{"$f":"'1 - ANAGRAFICA'!$B$8","v":7},5,"OF 01.10","P","Lavorazione come sopra, su terreno tenace ed in presenza di matrice rocciosa suscettibile di rottura",1262.25,"ha",null,{"$f":"F8*H8","v":0}]
[{"$f":"'1 - ANAGRAFICA'!$B$8","v":7},6,"OF 01.11","P","Lavorazione del terreno eseguita a strisce della larghezza non inferiore a 100 cm, profondità  di  m  0,5-0,7  compresi  amminutamento  ed  ogni  altro  onere. Superficie effettivamente lavorata (superficie ragguagliata).  Su terreno agricolo o ex agricolo",0.2,"m",null,0]
[{"$f":"'1 - ANAGRAFICA'!$B$8","v":7},7,"OF 01.12","P","Lavorazione  come  sopra,  su  terreno  tenace  ed  in  presenza  di  matrice  rocciosa suscettibile di rottura",0.45,"m",null,0]
[{"$f":"'1 - ANAGRAFICA'!$B$8","v":7},8,"OF 01.13","P","Lavorazione andante del terreno alla profondità non inferiore a 60 cm in prima e seconda classe di pendenza, eseguita a macchina mediante scarificatura ripetuta in croce su terreno con matrice rocciosa suscettibile di rottura.  Superficie effettivamente lavorata (superficie ragguagliata)",1767.15,"ha",null,0]
[{"$f":"'1 - ANAGRAFICA'!$B$8","v":7},"PREPARAZIONE E LAVORAZIONE DEL TERRENO",null,null,null,{"$f":"IF(H12>'4 - RIEPILOGHI E PUNTEGGIO'!$C$4/10000,\"SUPERATA SUPERFICIE DICHIARATA IN QUADRO LOCALIZZAZIONE\",IF(H12<'4 - RIEPILOGHI E PUNTEGGIO'!$C$4/10000,\"NON RAGGIUNTA SUPERFICIE DICHIARATA IN QUADRO LOCALIZZAZIONE\",\"SUBTOTALE\"))","v":"SUBTOTALE"},null,{"$f":"SUM(H7:H8,H11)+SUM(H9,H10)/10000","v":0},{"$f":"SUM(I7:I11)","v":0}]
[{"$f":"'1 - ANAGRAFICA'!$B$8","v":7},9,"OF 01.14","S","Formazione di gradoncini e/o banchette della larghezza non inferiore ad 80 cm eseguiti a mano lungo le curve di livello con il decespugliamento, profilatura in contropendenza e regolarizzazione delle scarpate a monte e a valle, compresa la lavorazione del terreno ad una profondità, misurata a monte, non inferiore a 30 cm. Prima classe di pendenza (0-20%) (analisi per 100 ml)",6.16,"ml",null,0]
[{"$f":"'1 - ANAGRAFICA'!$B$8","v":7},10,"OF 01.15","S","Lavorazione come sopra, su terreno in seconda classe di pendenza (20-40%)",7.97,"ml",null,0]
[{"$f":"'1 - ANAGRAFICA'!$B$8","v":7},11,"OF 01.16","S","Formazione di finti gradoni (assolcatura) della larghezza non inferiore ad 80 cm in prima e seconda classe di pendenza, eseguita lungo le curve di livello, a due o più passaggi, con mezzo meccanico attrezzato con aratro monovomere, aratro ripuntatore e/o ripper modificato, compresa profilatura in contropendenza e regolarizzazione, ove necessario, delle scarpate a monte e a valle ed ogni altro onere.  (analisi per 100 ml) ",1.28,"ml",null,0]
[{"$f":"'1 - ANAGRAFICA'!$B$8","v":7},12,"OF 01.17","S","Formazione di terrazzi della larghezza media di 3 m, eseguiti a macchina, compresa lavorazione del terreno in piano ad una profondità non inferiore a 60 cm, regolarizzazione della scarpata a monte ed a valle ed ogni altro onere. Su terreno in prima  classe di pendenza (0-20%) (analisi per 100 ml)",4.24,"ml",null,0]
[{"$f":"'1 - ANAGRAFICA'!$B$8","v":7},13,"OF 01.18","S","Lavorazione come sopra, su terreno in seconda classe di pendenza (20-40%) (Analisi per 100 ml)",5.7,"ml",null,0]
[{"$f":"'1 - ANAGRAFICA'!$B$8","v":7},"SISTEMAZIONI IDRAULICO AGRARIE",null,null,null,"SUBTOTALE",null,{"$f":"SUM(H13:H17)","v":0},{"$f":"SUM(I13:I17)","v":0}]
[{"$f":"'1 - ANAGRAFICA'!$B$8","v":7},14,"A preventivo",null,"Squadratura, tracciamento filari"]
[{"$f":"'1 - ANAGRAFICA'!$B$8","v":7},15,"OF 01.20","P","Apertura manuale di buche in terreno precedentemente lavorato, cm 40x40x40",1.19,"cad.",null,0]
[{"$f":"'1 - ANAGRAFICA'!$B$8","v":7},16,"OF 01.21","P","Apertura manuale di buche in terreno compatto.",2.67,"cad.",null,0]
[{"$f":"'1 - ANAGRAFICA'!$B$8","v":7},17,"OF 01.22","P","Apertura buca con trivella meccanica (diametro cm 40, profondità cm 40)",1.8,"cad.",null,0]
[{"$f":"'1 - ANAGRAFICA'!$B$8","v":7},18,"OF 01.23","P","Apertura di buche, con trivella meccanica,  in terreno di qualsiasi natura e consistenza, compreso ogni altro onere ed accessorio.",2.2400000000000002,"cad.",null,0]
[{"$f":"'1 - ANAGRAFICA'!$B$8","v":7},19,"OF 01.24","P","Apertura di buche delle dimensioni minime cm. 50x50x50, eseguita con mezzo meccanico (scavatore a cucchiaio), su terreno di qualsiasi natura e consistenza compreso ogni altro onere ed accessorio.",2.86,"cad.",null,0]
[{"$f":"'1 - ANAGRAFICA'!$B$8","v":7},"APERTURA BUCHE",null,null,null,{"$f":"IF(H25>'4 - RIEPILOGHI E PUNTEGGIO'!$E$4,\"QUANTITA' BUCHE MAGGIORE PIANTE PREVISTE\",IF(H25<'4 - RIEPILOGHI E PUNTEGGIO'!E$4,\"QUANTITA' BUCHE MINORE DELLE PIANTE PREVISTE\",\"SUBTOTALE\"))","v":"SUBTOTALE"},null,{"$f":"SUM(H20:H24)","v":0},{"$f":"SUM(I20:I24)","v":0}]
[{"$f":"'1 - ANAGRAFICA'!$B$8","v":7},20,"OF 01.25","P","Collocamento a dimora di piantina resinosa e latifoglia a radice nuda, comprese la ricolmatura con compressione del terreno adiacente le radici delle piante, la razionale posa in tagliola, l'imbozzimatura, la spuntatura delle radici ed ogni altra operazione necessaria a dare l'opera eseguita a regola d'arte (escluso la fornitura della pianta)",1.29,"cad.",null,0]
[{"$f":"'1 - ANAGRAFICA'!$B$8","v":7},21,"OF 01.26","P","Collocamento a dimora di latifoglia in contenitore, compresa la ricolmatura con compressione del terreno (escluso la fornitura della pianta)",1.62,"cad.",null,0]
[{"$f":"'1 - ANAGRAFICA'!$B$8","v":7},"MESSA A DIMORA",null,null,null,{"$f":"IF(H28>'4 - RIEPILOGHI E PUNTEGGIO'!$E$4,\"QUANTITA' PIANTE MAGGIORE PIANTE PREVISTE\",IF(H28<'4 - RIEPILOGHI E PUNTEGGIO'!E$4,\"QUANTITA' PIANTE MINORE DELLE PIANTE PREVISTE\",\"SUBTOTALE\"))","v":"SUBTOTALE"},null,{"$f":"SUM(H26:H27)","v":0},{"$f":"SUM(I26:I27)","v":0}]
[{"$f":"'1 - ANAGRAFICA'!$B$8","v":7},22,"OF 01.27","P","Fornitura di piantina di latifoglia o conifera a radice nuda",0.88,"cad.",null,0]
[{"$f":"'1 - ANAGRAFICA'!$B$8","v":7},23,"OF 01.28","P","Fornitura di piantina di latifoglia o conifera in fitocella",1.98,"cad.",null,0]
[{"$f":"'1 - ANAGRAFICA'!$B$8","v":7},24,"OF 01.29","P","Fornitura di piantine di pregio per arboricoltura da legno (Noce, Ciliegio, ecc.)",2.75,"cad.",null,0]
[{"$f":"'1 - ANAGRAFICA'!$B$8","v":7},"FORNITURA PIANTE",null,null,null,{"$f":"IF(H32>'4 - RIEPILOGHI E PUNTEGGIO'!$E$4,\"QUANTITA' PIANTE MAGGIORE PIANTE PREVISTE\",IF(H32<'4 - RIEPILOGHI E PUNTEGGIO'!E$4,\"QUANTITA' PIANTE MINORE DELLE PIANTE PREVISTE\",\"SUBTOTALE\"))","v":"SUBTOTALE"},null,{"$f":"SUM(H29:H31)","v":0},{"$f":"SUM(I29:I30)","v":0}]
[{"$f":"'1 - ANAGRAFICA'!$B$8","v":7},26,"OF 01.19","S","Pacciamatura localizzata con dischi o quadretti in materiale ligno-cellulosico biodegradabile, di dimensioni  minime cm 40x40, compreso acquisto, fornitura posa ed ancoraggio con picchetti. (analisi per 100 ml)",2.33,"cad.",null,{"$f":"H33*F33","v":0}]
[{"$f":"'1 - ANAGRAFICA'!$B$8","v":7},27,"OF 01.31","S","Formazione di siepe mediante la posa in opera di arbusti di specie varie di altezza variabile (cm 20-50) consistente nell'apertura di trincea di cm 40x40 in terreno precedentemente lavorato e posa in opera delle piante alla distanza di cm 25, compreso ogni onere (escluso la fornitura della piante)",5.26,"ml",null,{"$f":"F34*H34","v":0}]
[{"$f":"'1 - ANAGRAFICA'!$B$8","v":7},28,"OF 04.08","S","Chiudenda a 5 ordini di filo spinato a 3 fili e 4 punte, zincato, sorretto o tenuto in tensione da pali di castagno o di robinia della lunghezza di m 1,80 e diametro di cm 8, posti ad una distanza di m 2 l'uno dall'altro, compresi i puntoni ed i tiranti nelle deviazioni. (Analisi per 100 ml)",14.68,"ml",null,{"$f":"F35*H35","v":0}]
[{"$f":"'1 - ANAGRAFICA'!$B$8","v":7},"SIEPI E CHIUDENDE",null,null,null,null,null,null,{"$f":"SUM(I34:I35)","v":0}]
[{"$f":"'1 - ANAGRAFICA'!$B$8","v":7},29,"OF. 03.07","S","Irrigazione di soccorso, compreso l'approvigionamento idrico a qualsiasi distanza e qualunque quantità, distrubuzione dell'acqua con qualsiasi mezzo o modo per ciascun intervento e piantina (quantità 20 l). Analisi riferita a 400 piante",0.59,"cad.",null,0]
[{"$f":"'1 - ANAGRAFICA'!$B$8","v":7},30,"A preventivo","S","Trattamenti fitosanitari"]
[{"$f":"'1 - ANAGRAFICA'!$B$8","v":7},31,"A preventivo","P","Spese generali"]
[{"$f":"'1 - ANAGRAFICA'!$B$8","v":7},null,null,null,"A = (∑ 1: 30)","TOTALE SPESE MATERIALI",null,null,{"$f":"SUM(I3,I6,I12,I18,I19,I25,I28,I32,I33,I36,I37,I38)","v":0}]
[{"$f":"'1 - ANAGRAFICA'!$B$8","v":7},null,null,null,"B = MAX (A x 0,12)","SPESE GENERALI: AMMISSIBILI SU DICHIARATO",null,null,{"$f":"IF(I39<=I40*0.12,I39,I40*0.12)","v":0}]
[{"$f":"'1 - ANAGRAFICA'!$B$8","v":7},null,null,null,"C = (A+B)","TOTALE SPESA RICHIESTA AMMISSIBILE",null,null,{"$f":"I40+I41","v":0}]
[{"$f":"'1 - ANAGRAFICA'!$B$8","v":7},null,null,null,"D = (ha AZ.3 x 11.760)","SPESA MASSIMA AMMISSIBILE",null,null,{"$f":"1.176*'4 - RIEPILOGHI E PUNTEGGIO'!C4","v":0}]
[null,"Note: ","I costi si intendono IVA esclusa"]
[null,null,"Il valore D spesa massima ammissibile rappresenta il limite in base ai dati imputati"]

{"sheet":"6 - RIEPILOGO DI SPESA","index":7,"n_rows":10,"n_cols":9,"rows_kept":10,"cut":false,"hidden":false,"merged":[[10,7,11,7],[1,1,2,1],[10,5,11,5],[9,1,9,3],[10,1,11,3]]}
[]
[null,"AZIONE","SUPERFICIE INTERVENTO \n(ha)","TOTALE SPESA RICHIESTA AMMISSIBILE","SPESE MATERIALI MASSIME AMMISSIBILI","SPESE GENERALI MASSIME AMMISSIBILI","SPESA MASSIMA AMMISSIBILE","SPESA TOTALE AMMISSIBILE"]
[null,null,"(a)","(b)","az.1-3 (c)=(a)*10.500\naz.2 (c)=(a)*6.000","(d)= valore < tra (c)*0,12 e spese materiali dichiarate (cfr. quadro 5 lett. A)*0,12 ","(e)= (c)+(d)","(f)= valore < tra (b) ed (e)"]
[{"$f":"'1 - ANAGRAFICA'!$B$8","v":7},"AZIONE_1",{"$f":"'4 - RIEPILOGHI E PUNTEGGIO'!C2/10000","v":0},{"$f":"IF(C4>0,'5 - QUADRO INTERVENTI AZ 1'!I48,0)","v":0},{"$f":"C4*10500","v":0},{"$f":"IF(C4>0,IF((E4*0.12)<'5 - QUADRO INTERVENTI AZ 1'!I47,(E4*0.12),'5 - QUADRO INTERVENTI AZ 1'!I47),0)","v":0},{"$f":"E4+F4","v":0},{"$f":"IF((E4+F4)>D4,D4,IF((E4+F4)>200000,200000,(E4+F4)))","v":0}]
[{"$f":"'1 - ANAGRAFICA'!$B$8","v":7},"AZIONE_2",{"$f":"'4 - RIEPILOGHI E PUNTEGGIO'!C3/10000","v":0},{"$f":"IF(C5>0,'5 - QUADRO INTERVENTI AZ 2'!I45,0)","v":0},{"$f":"C5*6000","v":0},{"$f":"IF(C5>0,IF((E5*0.12)<'5 - QUADRO INTERVENTI AZ 2'!I44,(E5*0.12),'5 - QUADRO INTERVENTI AZ 2'!I44),0)","v":0},{"$f":"E5+F5","v":0},{"$f":"IF((E5+F5)>D5,D5,IF((E5+F5)>200000,200000,(E5+F5)))","v":0}]
[{"$f":"'1 - ANAGRAFICA'!$B$8","v":7},"AZIONE_3",{"$f":"'4 - RIEPILOGHI E PUNTEGGIO'!C4/10000","v":0},{"$f":"IF(C6>0,'5 - QUADRO INTERVENTI AZ 3'!I42,0)","v":0},{"$f":"C6*10500","v":0},{"$f":"IF(C6>0,IF((E6*0.12)<'5 - QUADRO INTERVENTI AZ 3'!I41,(E6*0.12),'5 - QUADRO INTERVENTI AZ 3'!I41),0)","v":0},0,0]
[{"$f":"'1 - ANAGRAFICA'!$B$8","v":7},"TOTALE",{"$f":"SUM(C4:C6)","v":0},{"$f":"SUM(D4:D6)","v":0},{"$f":"SUM(E4:E6)","v":0},{"$f":"SUM(F4:F6)","v":0},0,{"$f":"IF(SUM(H4:H6)<200000,SUM(H4:H6),200000)","v":0},{"$f":"IF(SUM(H4:H6)>200000,\"ATTENZIONE SUPERATO IL LIMITE MASSIMO DEL SOSTEGNO DI 200.000 €. LA PARTE ECCEDENTE E' A CARICO DEL BENEFICIARIO\",\"\")","v":""}]
[null,null,null,null,null,null,null,{"$f":"IF(AND(C4>0,D4=0),\"QUADRO 5 Az 1 - NON COMPILATO\",IF(AND(C5>0,D5=0),\"QUADRO 5 Az 2 - NON COMPILATO\",IF(AND(C6>0,D6=0),\"QUADRO 5 Az 3 - NON COMPILATO\",\"-\")))","v":"-"}]
[]
[null,"LUOGO E DATA",null,null,null,"FIRMA DEL RICHIEDENTE",null,"FIRMA E TIMBRO DEL TECNICO"]

{"sheet":"7 - DICHIARAZIONI","index":8,"n_rows":47,"n_cols":3,"rows_kept":47,"cut":false,"hidden":false,"merged":[[6,2,7,2]]}
[]
[null,"Il sottoscritto:"]
[null,"(Denominazione Richiedente)"]
[null,"in qualità di titolare/legale rappresentante della DdS a valere sul PSR Puglia 2014 - 2020 Sottomisura 8.1"]
[null,"E"]
[null,"Il tecnico incaricato:"]
[null,"(Cognome e Nome)","SI/Non Pertinente"]
[null,"DICHIARANO"]
[null,"Ai sensi degli artt. 46 e 47, D.P.R. 28 Dicembre 2000 n.445, consapevole delle sanzioni penali nel caso di dichiarazioni non veritiere, di formazione o uso di atti falsi, richiamate dall’art. 76 del D.P.R. medesimo."]
["1)","Che le Superfici agricole oggetto di imboschimento possiedono i requisiti di ammissibilità previsti dal paragrafo 9.1 dell’Avviso Pubblico per la presentazione delle DdS;"]
["2)","Che il Progetto di Imboschimento proposto ai sensi della Sottomisura 8.1 possiede i requisiti di ammissibilità previsti dal paragrafo 9.2 del dell'Avviso Pubblico per la presentazione delle DdS;"]
["3)","Che le superfici oggetto di DdS sono in possesso dei requisiti per l'attribuzione dei punteggi previsti per le Aree Periurbane, in caso di richiesta di tale punteggio;"]
["4)","Che le superfici oggetto di DdS sono in possesso dei requisiti per l'attribuzione dei punteggi previsti per le superfici contigue ad interventi selvicolturali o di rimboschimento precedentemente, in caso di richiesta di tale punteggio;"]
["5)","Di essere in possesso di un Piano di Gestione Forestale o Strumento Equivalente per le fattispecie di cui di cui alla lettera d) paragrafo 9.1 dell'Avviso Pubblico per la presentazione delle DdS;"]
["6)","La veridicità delle informazioni e dei dati riportati nel Formulario degli Interventi e la loro corrispondenza alla effettiva situazione aziendale personalmente rilevata con sopralluogo preliminare alla redazione del Formulario, nonché mediante consultazione degli atti relativi;"]
["7)","La piena corrispondenza fra quanto riportato nel foglio di lavoro 2 quadro di localizzazione degli interventi con quanto presente nel Fascicolo aziendale del soggetto richiedente;"]
["8)","Di essere a conoscenza di quanto previsto dall'Avviso Pubblico per la presentazione delle DdS della sottomisura 8.1 del PSR Puglia 2014-2020."]
[]
[null,"Inoltre, nei casi di Enti Pubblici e Privati o Consorzi:"]
["9)","Che il Soggetto richiedente non è in stato di dissesto finanziario o di amministrazione controllata o in liquidazione, né sono in corso procedimenti per la dichiarazione di una di tali condizioni;"]
["10)","Che sono stati preventivamente emessi gli atti amministrativi previsti dal paragrafo 13 dell'Avviso Pubblico per la presentazione delle DdS sottomisura 8.1 del PSR Puglia 2014-2020."]
[null,"DICHIARANO, INOLTRE DI IMPEGNARSI A:"]
["a)","Acquisire, per le particelle non in proprietà, qualora non possedute, contratto di conduzione delle stesse, conforme al bando, per l'intero periodo di durata dell'impegno (10 anni dalla data di pubblicazione del bando), nonché consenso del proprietario/comproprietario ad eseguire le opere e riscuotere il relativo contributo pubblico ed assumere i conseguenti impegni, qualora non già riportato nello stesso contratto;"]
["b)","Mantenere i Requisiti di Ammissibilità di cui al paragrafo 9 per tutta la durata della concessione;"]
["c)","Rispettare i termini e le modalità di esecuzione degli interventi stabiliti nell'Avviso Pubblico, nonché nel provvedimento di concessione e da eventuali atti correlati, e nel rispetto della normativa urbanistica, ambientale, paesaggistica vigente e dei vincoli di altra natura eventualmente esistenti;"]
["d)","Osservare le modalità di rendicontazione delle spese relative agli investimenti ammissibili dalla Sottomisura 8.1 secondo quanto previsto dal provvedimento di concessione e da eventuali atti correlati;"]
["e)","Rispettare i requisiti minimi in materia ambientale [art. 6 Reg. (UE) n. 807/2014];"]
["f)","Attivare, prima dell'avvio degli interventi ammessi ai benefici o della presentazione della prima DdP, un conto corrente dedicato intestato al soggetto beneficiario. Su tale conto dovranno transitare tutte le risorse finanziarie necessarie per la completa realizzazione dell'investimento, sia di natura pubblica (contributo in conto capitale/conto interesse) che privata (mezzi propri o derivanti da linee di finanziamento bancario). Il conto corrente dedicato dovrà restare attivo per l'intera durata dell'investimento e di erogazione dei relativi aiuti. Sullo stesso conto non potranno risultare operazioni non riferibili agli interventi ammessi all'aiuto pubblico. Le entrate del conto saranno costituite esclusivamente dal contributo pubblico erogato dall'OP AGEA, dai mezzi propri immessi dal beneficiario e dall'eventuale finanziamento bancario; le uscite saranno costituite solo dal pagamento delle spese sostenute per l'esecuzione degli interventi ammessi ai benefici dalla Sottomisura 8.1;"]
["g)","Non richiedere, per gli interventi ammessi a finanziamento, altri contributi pubblici;"]
["h)","Nel caso in cui, successivamente alla presentazione della DdS, si ottenga la concessione/assegnazione di un altro contributo pubblico per lo stesso intervento previsto dalla DdS sottomisura 8.1, comunicare di aver rinunciato all’altro contributo concesso oppure di rinunciare totalmente o in parte alle richieste di contributo contenute nella DdS della sottomisura 8.1;"]
["i)","Impiegare materiale di propagazione di specie autoctone, compatibili con le condizioni pedoclimatiche dell'area interessata, secondo le prescrizioni previste dalla normativa europea in materia di commercializzazione di semi o piante forestali e ai sensi e per gli effetti del D. lvo 386/2003. Per la normativa regionale si fa riferimento alle Determine Dirigenziali del Settore Foreste della Regione Puglia del 07.07.2006 n. 889, del 21.12.2009 n.757, del 16.12.2009 n. 2461, e del 26.03.2010 n. 65;"]
["j)","Presentare, alla conclusione del progetto di imboschimento, l'istanza di cambio di destinazione d'uso a \"bosco\", nel caso di boschi misti a ciclo illimitato;"]
["k)","Nei casi in cui, in seguito all'imboschimento si superi una superficie boscata accorpata di 50 ha, in allegato alla DdP del saldo dell'investimento, presentare un PGF o Strumento Equivalente;"]
["l)","Proseguire gli impegni previsti dalla sottomisura 8.1, per la presentazione delle DdS e DdP per la manutenzione ed i mancati redditi, secondo quanto stabilito nel provvedimento di concessione e da eventuali atti correlati."]
["m)","Presentare documentazione di cantierabilità, che attesti la conformità degli interventi proposti in progetto alle norme in materia paesaggistica, ambientale e di difesa del suolo ed ai vincoli presenti nell'ambito di intervento entro 180 gg dal provvedimento di ammissibilità agli aiuti di cui al paragrafo 16 dell'Avviso Pubblico per la presentazione delle DdS;"]
["n)","Attivare le procedure di gara, ove pertinente, entro 30 gg dall'ottenimento di tutti i titoli abilitativi, e concludere la stessa, fino all'assegnazione definitiva dei lavori all'impresa aggiudicataria, entro i successivi 150 gg;"]
["o)","Presentare il progetto definitivo con la documentazione richiesta in allegato conformemente a quanto previsto dal paragrafo 16 dell'Avviso Pubblico per la presentazione delle DdS;"]
["p)","Rispettare le Disposizioni Generali di cui al paragrafo 23 dell'Avviso Pubblico per la presentazione delle DdS;"]
["q)","Rispettare ulteriori disposizioni connesse all'attivazione del bando per la sottomisura 8.1, alla concessione degli aiuti e dagli atti conseguenti."]
["r)","Acconsentire all'utilizzo dei dati riportati nel Formulario ai fini dei procedimenti previsti dall'Avviso Pubblico."]
[]
[null,"Fatto a_______________________, il_________"]
[]
[null,"Firma titolare/Legale Rappresentante"]
[]
[]
[null,"Timbro e Firma del tecnico"]

{"sheet":"VERIFICA AZ. 1","index":9,"n_rows":1100,"n_cols":27,"rows_kept":1100,"cut":false,"hidden":true,"merged":[]}
["gruppo sp","AZIONE","UNITA' 1","SPECIE ","CONTROLLO_1","UNITA' 2","SPECIE","CONTROLLO_2","UNITA' 3","SPECIE","CONTROLLO_3","UNITA' 4","SPECIE","CONTROLLO_4","UNITA' 5","SPECIE","CONTROLLO_5","UNITA' 6","SPECIE","CONTROLLO_6","ESITO CONTROLLO_1","ESITO CONTROLLO_2","ESITO CONTROLLO_3","ESITO CONTROLLO_4","ESITO CONTROLLO_5","ESITO CONTROLLO_6","ESITO FINALE"]
[1,{"$f":"IF('3 - SPECIE DA IMPIANTARE'!$H3=\"AZIONE_1\",'3 - SPECIE DA IMPIANTARE'!$H3,\"\")","v":""},{"$f":"IF('3 - SPECIE DA IMPIANTARE'!$G3=1,'3 - SPECIE DA IMPIANTARE'!$G3,\"\")","v":""},{"$f":"IF(AND($B2=\"AZIONE_1\",C2=1),'3 - SPECIE DA IMPIANTARE'!$I3,\"\")","v":""},{"$f":"SUM(IF(FREQUENCY(IF(LEN(D2:D1000)>1,MATCH(D2:D1000,D2:D1000,0),\"\"), IF(LEN(D2:D1000)>1,MATCH(D2:D1000,D2:D1000,0),\"\"))>0,1))","v":0},{"$f":"IF('3 - SPECIE DA IMPIANTARE'!$G3=2,'3 - SPECIE DA IMPIANTARE'!$G3,\"\")","v":""},{"$f":"IF(AND($B2=\"AZIONE_1\",F2=2),'3 - SPECIE DA IMPIANTARE'!$I3,\"\")","v":""},{"$f":"SUM(IF(FREQUENCY(IF(LEN(G2:G1000)>1,MATCH(G2:G1000,G2:G1000,0),\"\"), IF(LEN(G2:G1000)>1,MATCH(G2:G1000,G2:G1000,0),\"\"))>0,1))","v":0},{"$f":"IF('3 - SPECIE DA IMPIANTARE'!$G3=3,'3 - SPECIE DA IMPIANTARE'!$G3,\"\")","v":""},{"$f":"IF(AND($B2=\"AZIONE_1\",$I2=3),'3 - SPECIE DA IMPIANTARE'!$I3,\"\")","v":""},{"$f":"SUM(IF(FREQUENCY(IF(LEN(J2:J1000)>1,MATCH(J2:J1000,J2:J1000,0),\"\"), IF(LEN(J2:J1000)>1,MATCH(J2:J1000,J2:J1000,0),\"\"))>0,1))","v":0},{"$f":"IF('3 - SPECIE DA IMPIANTARE'!$G3=4,'3 - SPECIE DA IMPIANTARE'!$G3,\"\")","v":""},{"$f":"IF(AND($B2=\"AZIONE_1\",$L2=4),'3 - SPECIE DA IMPIANTARE'!$I3,\"\")","v":""},{"$f":"SUM(IF(FREQUENCY(IF(LEN(M2:M1000)>1,MATCH(M2:M1000,M2:M1000,0),\"\"), IF(LEN(M2:M1000)>1,MATCH(M2:M1000,M2:M1000,0),\"\"))>0,1))","v":0},{"$f":"IF('3 - SPECIE DA IMPIANTARE'!$G3=5,'3 - SPECIE DA IMPIANTARE'!$G3,\"\")","v":""},{"$f":"IF(AND($B2=\"AZIONE_1\",$O2=5),'3 - SPECIE DA IMPIANTARE'!$I3,\"\")","v":""},{"$f":"SUM(IF(FREQUENCY(IF(LEN(P2:P1000)>1,MATCH(P2:P1000,P2:P1000,0),\"\"), IF(LEN(P2:P1000)>1,MATCH(P2:P1000,P2:P1000,0),\"\"))>0,1))","v":0},{"$f":"IF('3 - SPECIE DA IMPIANTARE'!$G3=6,'3 - SPECIE DA IMPIANTARE'!$G3,\"\")","v":""},{"$f":"IF(AND($B2=\"AZIONE_1\",$R2=6),'3 - SPECIE DA IMPIANTARE'!$I3,\"\")","v":""},{"$f":"SUM(IF(FREQUENCY(IF(LEN(S2:S1000)>1,MATCH(S2:S1000,S2:S1000,0),\"\"), IF(LEN(S2:S1000)>1,MATCH(S2:S1000,S2:S1000,0),\"\"))>0,1))","v":0},{"$f":"IF(E2=0,\"POSITIVO\",IF(E2<3,\"NEGATIVO\",\"POSITIVO\"))","v":"POSITIVO"},{"$f":"IF(H2=0,\"POSITIVO\",IF(H2<3,\"NEGATIVO\",\"POSITIVO\"))","v":"POSITIVO"},{"$f":"IF(K2=0,\"POSITIVO\",IF(K2<3,\"NEGATIVO\",\"POSITIVO\"))","v":"POSITIVO"},{"$f":"IF(N2=0,\"POSITIVO\",IF(N2<3,\"NEGATIVO\",\"POSITIVO\"))","v":"POSITIVO"},{"$f":"IF(Q2=0,\"POSITIVO\",IF(Q2<3,\"NEGATIVO\",\"POSITIVO\"))","v":"POSITIVO"},{"$f":"IF(T2=0,\"POSITIVO\",IF(T2<3,\"NEGATIVO\",\"POSITIVO\"))","v":"POSITIVO"},{"$f":"COUNTIF(U2:Z2,\"NEGATIVO\")","v":0}]
[1,{"$f":"IF('3 - SPECIE DA IMPIANTARE'!$H4=\"AZIONE_1\",'3 - SPECIE DA IMPIANTARE'!$H4,\"\")","v":""},{"$f":"IF('3 - SPECIE DA IMPIANTARE'!$G4=1,'3 - SPECIE DA IMPIANTARE'!$G4,\"\")","v":""},{"$f":"IF(AND($B3=\"AZIONE_1\",C3=1),'3 - SPECIE DA IMPIANTARE'!$I4,\"\")","v":""},null,{"$f":"IF('3 - SPECIE DA IMPIANTARE'!$G4=2,'3 - SPECIE DA IMPIANTARE'!$G4,\"\")","v":""},{"$f":"IF(AND($B3=\"AZIONE_1\",F3=2),'3 - SPECIE DA IMPIANTARE'!$I4,\"\")","v":""},null,{"$f":"IF('3 - SPECIE DA IMPIANTARE'!$G4=3,'3 - SPECIE DA IMPIANTARE'!$G4,\"\")","v":""},{"$f":"IF(AND($B3=\"AZIONE_1\",$I3=3),'3 - SPECIE DA IMPIANTARE'!$I4,\"\")","v":""},null,{"$f":"IF('3 - SPECIE DA IMPIANTARE'!$G4=4,'3 - SPECIE DA IMPIANTARE'!$G4,\"\")","v":""},{"$f":"IF(AND($B3=\"AZIONE_1\",$L3=4),'3 - SPECIE DA IMPIANTARE'!$I4,\"\")","v":""},null,{"$f":"IF('3 - SPECIE DA IMPIANTARE'!$G4=5,'3 - SPECIE DA IMPIANTARE'!$G4,\"\")","v":""},{"$f":"IF(AND($B3=\"AZIONE_1\",$O3=5),'3 - SPECIE DA IMPIANTARE'!$I4,\"\")","v":""},null,{"$f":"IF('3 - SPECIE DA IMPIANTARE'!$G4=6,'3 - SPECIE DA IMPIANTARE'!$G4,\"\")","v":""},{"$f":"IF(AND($B3=\"AZIONE_1\",$R3=6),'3 - SPECIE DA IMPIANTARE'!$I4,\"\")","v":""}]
[1,{"$f":"IF('3 - SPECIE DA IMPIANTARE'!$H5=\"AZIONE_1\",'3 - SPECIE DA IMPIANTARE'!$H5,\"\")","v":""},{"$f":"IF('3 - SPECIE DA IMPIANTARE'!$G5=1,'3 - SPECIE DA IMPIANTARE'!$G5,\"\")","v":""},{"$f":"IF(AND($B4=\"AZIONE_1\",C4=1),'3 - SPECIE DA IMPIANTARE'!$I5,\"\")","v":""},null,{"$f":"IF('3 - SPECIE DA IMPIANTARE'!$G5=2,'3 - SPECIE DA IMPIANTARE'!$G5,\"\")","v":""},{"$f":"IF(AND($B4=\"AZIONE_1\",F4=2),'3 - SPECIE DA IMPIANTARE'!$I5,\"\")","v":""},null,{"$f":"IF('3 - SPECIE DA IMPIANTARE'!$G5=3,'3 - SPECIE DA IMPIANTARE'!$G5,\"\")","v":""},{"$f":"IF(AND($B4=\"AZIONE_1\",$I4=3),'3 - SPECIE DA IMPIANTARE'!$I5,\"\")","v":""},null,{"$f":"IF('3 - SPECIE DA IMPIANTARE'!$G5=4,'3 - SPECIE DA IMPIANTARE'!$G5,\"\")","v":""},{"$f":"IF(AND($B4=\"AZIONE_1\",$L4=4),'3 - SPECIE DA IMPIANTARE'!$I5,\"\")","v":""},null,{"$f":"IF('3 - SPECIE DA IMPIANTARE'!$G5=5,'3 - SPECIE DA IMPIANTARE'!$G5,\"\")","v":""},{"$f":"IF(AND($B4=\"AZIONE_1\",$O4=5),'3 - SPECIE DA IMPIANTARE'!$I5,\"\")","v":""},null,{"$f":"IF('3 - SPECIE DA IMPIANTARE'!$G5=6,'3 - SPECIE DA IMPIANTARE'!$G5,\"\")","v":""},{"$f":"IF(AND($B4=\"AZIONE_1\",$R4=6),'3 - SPECIE DA IMPIANTARE'!$I5,\"\")","v":""}]
[1,{"$f":"IF('3 - SPECIE DA IMPIANTARE'!$H6=\"AZIONE_1\",'3 - SPECIE DA IMPIANTARE'!$H6,\"\")","v":""},{"$f":"IF('3 - SPECIE DA IMPIANTARE'!$G6=1,'3 - SPECIE DA IMPIANTARE'!$G6,\"\")","v":""},{"$f":"IF(AND($B5=\"AZIONE_1\",C5=1),'3 - SPECIE DA IMPIANTARE'!$I6,\"\")","v":""},null,{"$f":"IF('3 - SPECIE DA IMPIANTARE'!$G6=2,'3 - SPECIE DA IMPIANTARE'!$G6,\"\")","v":""},{"$f":"IF(AND($B5=\"AZIONE_1\",F5=2),'3 - SPECIE DA IMPIANTARE'!$I6,\"\")","v":""},null,{"$f":"IF('3 - SPECIE DA IMPIANTARE'!$G6=3,'3 - SPECIE DA IMPIANTARE'!$G6,\"\")","v":""},{"$f":"IF(AND($B5=\"AZIONE_1\",$I5=3),'3 - SPECIE DA IMPIANTARE'!$I6,\"\")","v":""},null,{"$f":"IF('3 - SPECIE DA IMPIANTARE'!$G6=4,'3 - SPECIE DA IMPIANTARE'!$G6,\"\")","v":""},{"$f":"IF(AND($B5=\"AZIONE_1\",$L5=4),'3 - SPECIE DA IMPIANTARE'!$I6,\"\")","v":""},null,{"$f":"IF('3 - SPECIE DA IMPIANTARE'!$G6=5,'3 - SPECIE DA IMPIANTARE'!$G6,\"\")","v":""},{"$f":"IF(AND($B5=\"AZIONE_1\",$O5=5),'3 - SPECIE DA IMPIANTARE'!$I6,\"\")","v":""},null,{"$f":"IF('3 - SPECIE DA IMPIANTARE'!$G6=6,'3 - SPECIE DA IMPIANTARE'!$G6,\"\")","v":""},{"$f":"IF(AND($B5=\"AZIONE_1\",$R5=6),'3 - SPECIE DA IMPIANTARE'!$I6,\"\")","v":""}]
[1,{"$f":"IF('3 - SPECIE DA IMPIANTARE'!$H7=\"AZIONE_1\",'3 - SPECIE DA IMPIANTARE'!$H7,\"\")","v":""},{"$f":"IF('3 - SPECIE DA IMPIANTARE'!$G7=1,'3 - SPECIE DA IMPIANTARE'!$G7,\"\")","v":""},{"$f":"IF(AND($B6=\"AZIONE_1\",C6=1),'3 - SPECIE DA IMPIANTARE'!$I7,\"\")","v":""},null,{"$f":"IF('3 - SPECIE DA IMPIANTARE'!$G7=2,'3 - SPECIE DA IMPIANTARE'!$G7,\"\")","v":""},{"$f":"IF(AND($B6=\"AZIONE_1\",F6=2),'3 - SPECIE DA IMPIANTARE'!$I7,\"\")","v":""},null,{"$f":"IF('3 - SPECIE DA IMPIANTARE'!$G7=3,'3 - SPECIE DA IMPIANTARE'!$G7,\"\")","v":""},{"$f":"IF(AND($B6=\"AZIONE_1\",$I6=3),'3 - SPECIE DA IMPIANTARE'!$I7,\"\")","v":""},null,{"$f":"IF('3 - SPECIE DA IMPIANTARE'!$G7=4,'3 - SPECIE DA IMPIANTARE'!$G7,\"\")","v":""},{"$f":"IF(AND($B6=\"AZIONE_1\",$L6=4),'3 - SPECIE DA IMPIANTARE'!$I7,\"\")","v":""},null,{"$f":"IF('3 - SPECIE DA IMPIANTARE'!$G7=5,'3 - SPECIE DA IMPIANTARE'!$G7,\"\")","v":""},{"$f":"IF(AND($B6=\"AZIONE_1\",$O6=5),'3 - SPECIE DA IMPIANTARE'!$I7,\"\")","v":""},null,{"$f":"IF('3 - SPECIE DA IMPIANTARE'!$G7=6,'3 - SPECIE DA IMPIANTARE'!$G7,\"\")","v":""},{"$f":"IF(AND($B6=\"AZIONE_1\",$R6=6),'3 - SPECIE DA IMPIANTARE'!$I7,\"\")","v":""}]
[1,{"$f":"IF('3 - SPECIE DA IMPIANTARE'!$H8=\"AZIONE_1\",'3 - SPECIE DA IMPIANTARE'!$H8,\"\")","v":""},{"$f":"IF('3 - SPECIE DA IMPIANTARE'!$G8=1,'3 - SPECIE DA IMPIANTARE'!$G8,\"\")","v":""},{"$f":"IF(AND($B7=\"AZIONE_1\",C7=1),'3 - SPECIE DA IMPIANTARE'!$I8,\"\")","v":""},null,{"$f":"IF('3 - SPECIE DA IMPIANTARE'!$G8=2,'3 - SPECIE DA IMPIANTARE'!$G8,\"\")","v":""},{"$f":"IF(AND($B7=\"AZIONE_1\",F7=2),'3 - SPECIE DA IMPIANTARE'!$I8,\"\")","v":""},null,{"$f":"IF('3 - SPECIE DA IMPIANTARE'!$G8=3,'3 - SPECIE DA IMPIANTARE'!$G8,\"\")","v":""},{"$f":"IF(AND($B7=\"AZIONE_1\",$I7=3),'3 - SPECIE DA IMPIANTARE'!$I8,\"\")","v":""},null,{"$f":"IF('3 - SPECIE DA IMPIANTARE'!$G8=4,'3 - SPECIE DA IMPIANTARE'!$G8,\"\")","v":""},{"$f":"IF(AND($B7=\"AZIONE_1\",$L7=4),'3 - SPECIE DA IMPIANTARE'!$I8,\"\")","v":""},null,{"$f":"IF('3 - SPECIE DA IMPIANTARE'!$G8=5,'3 - SPECIE DA IMPIANTARE'!$G8,\"\")","v":""},{"$f":"IF(AND($B7=\"AZIONE_1\",$O7=5),'3 - SPECIE DA IMPIANTARE'!$I8,\"\")","v":""},null,{"$f":"IF('3 - SPECIE DA IMPIANTARE'!$G8=6,'3 - SPECIE DA IMPIANTARE'!$G8,\"\")","v":""},{"$f":"IF(AND($B7=\"AZIONE_1\",$R7=6),'3 - SPECIE DA IMPIANTARE'!$I8,\"\")","v":""}]
[1,{"$f":"IF('3 - SPECIE DA IMPIANTARE'!$H9=\"AZIONE_1\",'3 - SPECIE DA IMPIANTARE'!$H9,\"\")","v":""},{"$f":"IF('3 - SPECIE DA IMPIANTARE'!$G9=1,'3 - SPECIE DA IMPIANTARE'!$G9,\"\")","v":""},{"$f":"IF(AND($B8=\"AZIONE_1\",C8=1),'3 - SPECIE DA IMPIANTARE'!$I9,\"\")","v":""},null,{"$f":"IF('3 - SPECIE DA IMPIANTARE'!$G9=2,'3 - SPECIE DA IMPIANTARE'!$G9,\"\")","v":""},{"$f":"IF(AND($B8=\"AZIONE_1\",F8=2),'3 - SPECIE DA IMPIANTARE'!$I9,\"\")","v":""},null,{"$f":"IF('3 - SPECIE DA IMPIANTARE'!$G9=3,'3 - SPECIE DA IMPIANTARE'!$G9,\"\")","v":""},{"$f":"IF(AND($B8=\"AZIONE_1\",$I8=3),'3 - SPECIE DA IMPIANTARE'!$I9,\"\")","v":""},null,{"$f":"IF('3 - SPECIE DA IMPIANTARE'!$G9=4,'3 - SPECIE DA IMPIANTARE'!$G9,\"\")","v":""},{"$f":"IF(AND($B8=\"AZIONE_1\",$L8=4),'3 - SPECIE DA IMPIANTARE'!$I9,\"\")","v":""},null,{"$f":"IF('3 - SPECIE DA IMPIANTARE'!$G9=5,'3 - SPECIE DA IMPIANTARE'!$G9,\"\")","v":""},{"$f":"IF(AND($B8=\"AZIONE_1\",$O8=5),'3 - SPECIE DA IMPIANTARE'!$I9,\"\")","v":""},null,{"$f":"IF('3 - SPECIE DA IMPIANTARE'!$G9=6,'3 - SPECIE DA IMPIANTARE'!$G9,\"\")","v":""},{"$f":"IF(AND($B8=\"AZIONE_1\",$R8=6),'3 - SPECIE DA IMPIANTARE'!$I9,\"\")","v":""}]
[1,{"$f":"IF('3 - SPECIE DA IMPIANTARE'!$H10=\"AZIONE_1\",'3 - SPECIE DA IMPIANTARE'!$H10,\"\")","v":""},{"$f":"IF('3 - SPECIE DA IMPIANTARE'!$G10=1,'3 - SPECIE DA IMPIANTARE'!$G10,\"\")","v":""},{"$f":"IF(AND($B9=\"AZIONE_1\",C9=1),'3 - SPECIE DA IMPIANTARE'!$I10,\"\")","v":""},null,{"$f":"IF('3 - SPECIE DA IMPIANTARE'!$G10=2,'3 - SPECIE DA IMPIANTARE'!$G10,\"\")","v":""},{"$f":"IF(AND($B9=\"AZIONE_1\",F9=2),'3 - SPECIE DA IMPIANTARE'!$I10,\"\")","v":""},null,{"$f":"IF('3 - SPECIE DA IMPIANTARE'!$G10=3,'3 - SPECIE DA IMPIANTARE'!$G10,\"\")","v":""},{"$f":"IF(AND($B9=\"AZIONE_1\",$I9=3),'3 - SPECIE DA IMPIANTARE'!$I10,\"\")","v":""},null,{"$f":"IF('3 - SPECIE DA IMPIANTARE'!$G10=4,'3 - SPECIE DA IMPIANTARE'!$G10,\"\")","v":""},{"$f":"IF(AND($B9=\"AZIONE_1\",$L9=4),'3 - SPECIE DA IMPIANTARE'!$I10,\"\")","v":""},null,{"$f":"IF('3 - SPECIE DA IMPIANTARE'!$G10=5,'3 - SPECIE DA IMPIANTARE'!$G10,\"\")","v":""},{"$f":"IF(AND($B9=\"AZIONE_1\",$O9=5),'3 - SPECIE DA IMPIANTARE'!$I10,\"\")","v":""},null,{"$f":"IF('3 - SPECIE DA IMPIANTARE'!$G10=6,'3 - SPECIE DA IMPIANTARE'!$G10,\"\")","v":""},{"$f":"IF(AND($B9=\"AZIONE_1\",$R9=6),'3 - SPECIE DA IMPIANTARE'!$I10,\"\")","v":""}]
[1,{"$f":"IF('3 - SPECIE DA IMPIANTARE'!$H11=\"AZIONE_1\",'3 - SPECIE DA IMPIANTARE'!$H11,\"\")","v":""},{"$f":"IF('3 - SPECIE DA IMPIANTARE'!$G11=1,'3 - SPECIE DA IMPIANTARE'!$G11,\"\")","v":""},{"$f":"IF(AND($B10=\"AZIONE_1\",C10=1),'3 - SPECIE DA IMPIANTARE'!$I11,\"\")","v":""},null,{"$f":"IF('3 - SPECIE DA IMPIANTARE'!$G11=2,'3 - SPECIE DA IMPIANTARE'!$G11,\"\")","v":""},{"$f":"IF(AND($B10=\"AZIONE_1\",F10=2),'3 - SPECIE DA IMPIANTARE'!$I11,\"\")","v":""},null,{"$f":"IF('3 - SPECIE DA IMPIANTARE'!$G11=3,'3 - SPECIE DA IMPIANTARE'!$G11,\"\")","v":""},{"$f":"IF(AND($B10=\"AZIONE_1\",$I10=3),'3 - SPECIE DA IMPIANTARE'!$I11,\"\")","v":""},null,{"$f":"IF('3 - SPECIE DA IMPIANTARE'!$G11=4,'3 - SPECIE DA IMPIANTARE'!$G11,\"\")","v":""},{"$f":"IF(AND($B10=\"AZIONE_1\",$L10=4),'3 - SPECIE DA IMPIANTARE'!$I11,\"\")","v":""},null,{"$f":"IF('3 - SPECIE DA IMPIANTARE'!$G11=5,'3 - SPECIE DA IMPIANTARE'!$G11,\"\")","v":""},{"$f":"IF(AND($B10=\"AZIONE_1\",$O10=5),'3 - SPECIE DA IMPIANTARE'!$I11,\"\")","v":""},null,{"$f":"IF('3 - SPECIE DA IMPIANTARE'!$G11=6,'3 - SPECIE DA IMPIANTARE'!$G11,\"\")","v":""},{"$f":"IF(AND($B10=\"AZIONE_1\",$R10=6),'3 - SPECIE DA IMPIANTARE'!$I11,\"\")","v":""}]
[1,{"$f":"IF('3 - SPECIE DA IMPIANTARE'!$H12=\"AZIONE_1\",'3 - SPECIE DA IMPIANTARE'!$H12,\"\")","v":""},{"$f":"IF('3 - SPECIE DA IMPIANTARE'!$G12=1,'3 - SPECIE DA IMPIANTARE'!$G12,\"\")","v":""},{"$f":"IF(AND($B11=\"AZIONE_1\",C11=1),'3 - SPECIE DA IMPIANTARE'!$I12,\"\")","v":""},null,{"$f":"IF('3 - SPECIE DA IMPIANTARE'!$G12=2,'3 - SPECIE DA IMPIANTARE'!$G12,\"\")","v":""},{"$f":"IF(AND($B11=\"AZIONE_1\",F11=2),'3 - SPECIE DA IMPIANTARE'!$I12,\"\")","v":""},null,{"$f":"IF('3 - SPECIE DA IMPIANTARE'!$G12=3,'3 - SPECIE DA IMPIANTARE'!$G12,\"\")","v":""},{"$f":"IF(AND($B11=\"AZIONE_1\",$I11=3),'3 - SPECIE DA IMPIANTARE'!$I12,\"\")","v":""},null,{"$f":"IF('3 - SPECIE DA IMPIANTARE'!$G12=4,'3 - SPECIE DA IMPIANTARE'!$G12,\"\")","v":""},{"$f":"IF(AND($B11=\"AZIONE_1\",$L11=4),'3 - SPECIE DA IMPIANTARE'!$I12,\"\")","v":""},null,{"$f":"IF('3 - SPECIE DA IMPIANTARE'!$G12=5,'3 - SPECIE DA IMPIANTARE'!$G12,\"\")","v":""},{"$f":"IF(AND($B11=\"AZIONE_1\",$O11=5),'3 - SPECIE DA IMPIANTARE'!$I12,\"\")","v":""},null,{"$f":"IF('3 - SPECIE DA IMPIANTARE'!$G12=6,'3 - SPECIE DA IMPIANTARE'!$G12,\"\")","v":""},{"$f":"IF(AND($B11=\"AZIONE_1\",$R11=6),'3 - SPECIE DA IMPIANTARE'!$I12,\"\")","v":""}]
[1,{"$f":"IF('3 - SPECIE DA IMPIANTARE'!$H13=\"AZIONE_1\",'3 - SPECIE DA IMPIANTARE'!$H13,\"\")","v":""},{"$f":"IF('3 - SPECIE DA IMPIANTARE'!$G13=1,'3 - SPECIE DA IMPIANTARE'!$G13,\"\")","v":""},{"$f":"IF(AND($B12=\"AZIONE_1\",C12=1),'3 - SPECIE DA IMPIANTARE'!$I13,\"\")","v":""},null,{"$f":"IF('3 - SPECIE DA IMPIANTARE'!$G13=2,'3 - SPECIE DA IMPIANTARE'!$G13,\"\")","v":""},{"$f":"IF(AND($B12=\"AZIONE_1\",F12=2),'3 - SPECIE DA IMPIANTARE'!$I13,\"\")","v":""},null,{"$f":"IF('3 - SPECIE DA IMPIANTARE'!$G13=3,'3 - SPECIE DA IMPIANTARE'!$G13,\"\")","v":""},{"$f":"IF(AND($B12=\"AZIONE_1\",$I12=3),'3 - SPECIE DA IMPIANTARE'!$I13,\"\")","v":""},null,{"$f":"IF('3 - SPECIE DA IMPIANTARE'!$G13=4,'3 - SPECIE DA IMPIANTARE'!$G13,\"\")","v":""},{"$f":"IF(AND($B12=\"AZIONE_1\",$L12=4),'3 - SPECIE DA IMPIANTARE'!$I13,\"\")","v":""},null,{"$f":"IF('3 - SPECIE DA IMPIANTARE'!$G13=5,'3 - SPECIE DA IMPIANTARE'!$G13,\"\")","v":""},{"$f":"IF(AND($B12=\"AZIONE_1\",$O12=5),'3 - SPECIE DA IMPIANTARE'!$I13,\"\")","v":""},null,{"$f":"IF('3 - SPECIE DA IMPIANTARE'!$G13=6,'3 - SPECIE DA IMPIANTARE'!$G13,\"\")","v":""},{"$f":"IF(AND($B12=\"AZIONE_1\",$R12=6),'3 - SPECIE DA IMPIANTARE'!$I13,\"\")","v":""}]
[1,{"$f":"IF('3 - SPECIE DA IMPIANTARE'!$H14=\"AZIONE_1\",'3 - SPECIE DA IMPIANTARE'!$H14,\"\")","v":""},{"$f":"IF('3 - SPECIE DA IMPIANTARE'!$G14=1,'3 - SPECIE DA IMPIANTARE'!$G14,\"\")","v":""},{"$f":"IF(AND($B13=\"AZIONE_1\",C13=1),'3 - SPECIE DA IMPIANTARE'!$I14,\"\")","v":""},null,{"$f":"IF('3 - SPECIE DA IMPIANTARE'!$G14=2,'3 - SPECIE DA IMPIANTARE'!$G14,\"\")","v":""},{"$f":"IF(AND($B13=\"AZIONE_1\",F13=2),'3 - SPECIE DA IMPIANTARE'!$I14,\"\")","v":""},null,{"$f":"IF('3 - SPECIE DA IMPIANTARE'!$G14=3,'3 - SPECIE DA IMPIANTARE'!$G14,\"\")","v":""},{"$f":"IF(AND($B13=\"AZIONE_1\",$I13=3),'3 - SPECIE DA IMPIANTARE'!$I14,\"\")","v":""},null,{"$f":"IF('3 - SPECIE DA IMPIANTARE'!$G14=4,'3 - SPECIE DA IMPIANTARE'!$G14,\"\")","v":""},{"$f":"IF(AND($B13=\"AZIONE_1\",$L13=4),'3 - SPECIE DA IMPIANTARE'!$I14,\"\")","v":""},null,{"$f":"IF('3 - SPECIE DA IMPIANTARE'!$G14=5,'3 - SPECIE DA IMPIANTARE'!$G14,\"\")","v":""},{"$f":"IF(AND($B13=\"AZIONE_1\",$O13=5),'3 - SPECIE DA IMPIANTARE'!$I14,\"\")","v":""},null,{"$f":"IF('3 - SPECIE DA IMPIANTARE'!$G14=6,'3 - SPECIE DA IMPIANTARE'!$G14,\"\")","v":""},{"$f":"IF(AND($B13=\"AZIONE_1\",$R13=6),'3 - SPECIE DA IMPIANTARE'!$I14,\"\")","v":""}]
[1,{"$f":"IF('3 - SPECIE DA IMPIANTARE'!$H15=\"AZIONE_1\",'3 - SPECIE DA IMPIANTARE'!$H15,\"\")","v":""},{"$f":"IF('3 - SPECIE DA IMPIANTARE'!$G15=1,'3 - SPECIE DA IMPIANTARE'!$G15,\"\")","v":""},{"$f":"IF(AND($B14=\"AZIONE_1\",C14=1),'3 - SPECIE DA IMPIANTARE'!$I15,\"\")","v":""},null,{"$f":"IF('3 - SPECIE DA IMPIANTARE'!$G15=2,'3 - SPECIE DA IMPIANTARE'!$G15,\"\")","v":""},{"$f":"IF(AND($B14=\"AZIONE_1\",F14=2),'3 - SPECIE DA IMPIANTARE'!$I15,\"\")","v":""},null,{"$f":"IF('3 - SPECIE DA IMPIANTARE'!$G15=3,'3 - SPECIE DA IMPIANTARE'!$G15,\"\")","v":""},{"$f":"IF(AND($B14=\"AZIONE_1\",$I14=3),'3 - SPECIE DA IMPIANTARE'!$I15,\"\")","v":""},null,{"$f":"IF('3 - SPECIE DA IMPIANTARE'!$G15=4,'3 - SPECIE DA IMPIANTARE'!$G15,\"\")","v":""},{"$f":"IF(AND($B14=\"AZIONE_1\",$L14=4),'3 - SPECIE DA IMPIANTARE'!$I15,\"\")","v":""},null,{"$f":"IF('3 - SPECIE DA IMPIANTARE'!$G15=5,'3 - SPECIE DA IMPIANTARE'!$G15,\"\")","v":""},{"$f":"IF(AND($B14=\"AZIONE_1\",$O14=5),'3 - SPECIE DA IMPIANTARE'!$I15,\"\")","v":""},null,{"$f":"IF('3 - SPECIE DA IMPIANTARE'!$G15=6,'3 - SPECIE DA IMPIANTARE'!$G15,\"\")","v":""},{"$f":"IF(AND($B14=\"AZIONE_1\",$R14=6),'3 - SPECIE DA IMPIANTARE'!$I15,\"\")","v":""}]
[1,{"$f":"IF('3 - SPECIE DA IMPIANTARE'!$H16=\"AZIONE_1\",'3 - SPECIE DA IMPIANTARE'!$H16,\"\")","v":""},{"$f":"IF('3 - SPECIE DA IMPIANTARE'!$G16=1,'3 - SPECIE DA IMPIANTARE'!$G16,\"\")","v":""},{"$f":"IF(AND($B15=\"AZIONE_1\",C15=1),'3 - SPECIE DA IMPIANTARE'!$I16,\"\")","v":""},null,{"$f":"IF('3 - SPECIE DA IMPIANTARE'!$G16=2,'3 - SPECIE DA IMPIANTARE'!$G16,\"\")","v":""},{"$f":"IF(AND($B15=\"AZIONE_1\",F15=2),'3 - SPECIE DA IMPIANTARE'!$I16,\"\")","v":""},null,{"$f":"IF('3 - SPECIE DA IMPIANTARE'!$G16=3,'3 - SPECIE DA IMPIANTARE'!$G16,\"\")","v":""},{"$f":"IF(AND($B15=\"AZIONE_1\",$I15=3),'3 - SPECIE DA IMPIANTARE'!$I16,\"\")","v":""},null,{"$f":"IF('3 - SPECIE DA IMPIANTARE'!$G16=4,'3 - SPECIE DA IMPIANTARE'!$G16,\"\")","v":""},{"$f":"IF(AND($B15=\"AZIONE_1\",$L15=4),'3 - SPECIE DA IMPIANTARE'!$I16,\"\")","v":""},null,{"$f":"IF('3 - SPECIE DA IMPIANTARE'!$G16=5,'3 - SPECIE DA IMPIANTARE'!$G16,\"\")","v":""},{"$f":"IF(AND($B15=\"AZIONE_1\",$O15=5),'3 - SPECIE DA IMPIANTARE'!$I16,\"\")","v":""},null,{"$f":"IF('3 - SPECIE DA IMPIANTARE'!$G16=6,'3 - SPECIE DA IMPIANTARE'!$G16,\"\")","v":""},{"$f":"IF(AND($B15=\"AZIONE_1\",$R15=6),'3 - SPECIE DA IMPIANTARE'!$I16,\"\")","v":""}]
[1,{"$f":"IF('3 - SPECIE DA IMPIANTARE'!$H17=\"AZIONE_1\",'3 - SPECIE DA IMPIANTARE'!$H17,\"\")","v":""},{"$f":"IF('3 - SPECIE DA IMPIANTARE'!$G17=1,'3 - SPECIE DA IMPIANTARE'!$G17,\"\")","v":""},{"$f":"IF(AND($B16=\"AZIONE_1\",C16=1),'3 - SPECIE DA IMPIANTARE'!$I17,\"\")","v":""},null,{"$f":"IF('3 - SPECIE DA IMPIANTARE'!$G17=2,'3 - SPECIE DA IMPIANTARE'!$G17,\"\")","v":""},{"$f":"IF(AND($B16=\"AZIONE_1\",F16=2),'3 - SPECIE DA IMPIANTARE'!$I17,\"\")","v":""},null,{"$f":"IF('3 - SPECIE DA IMPIANTARE'!$G17=3,'3 - SPECIE DA IMPIANTARE'!$G17,\"\")","v":""},{"$f":"IF(AND($B16=\"AZIONE_1\",$I16=3),'3 - SPECIE DA IMPIANTARE'!$I17,\"\")","v":""},null,{"$f":"IF('3 - SPECIE DA IMPIANTARE'!$G17=4,'3 - SPECIE DA IMPIANTARE'!$G17,\"\")","v":""},{"$f":"IF(AND($B16=\"AZIONE_1\",$L16=4),'3 - SPECIE DA IMPIANTARE'!$I17,\"\")","v":""},null,{"$f":"IF('3 - SPECIE DA IMPIANTARE'!$G17=5,'3 - SPECIE DA IMPIANTARE'!$G17,\"\")","v":""},{"$f":"IF(AND($B16=\"AZIONE_1\",$O16=5),'3 - SPECIE DA IMPIANTARE'!$I17,\"\")","v":""},null,{"$f":"IF('3 - SPECIE DA IMPIANTARE'!$G17=6,'3 - SPECIE DA IMPIANTARE'!$G17,\"\")","v":""},{"$f":"IF(AND($B16=\"AZIONE_1\",$R16=6),'3 - SPECIE DA IMPIANTARE'!$I17,\"\")","v":""}]
[1,{"$f":"IF('3 - SPECIE DA IMPIANTARE'!$H18=\"AZIONE_1\",'3 - SPECIE DA IMPIANTARE'!$H18,\"\")","v":""},{"$f":"IF('3 - SPECIE DA IMPIANTARE'!$G18=1,'3 - SPECIE DA IMPIANTARE'!$G18,\"\")","v":""},{"$f":"IF(AND($B17=\"AZIONE_1\",C17=1),'3 - SPECIE DA IMPIANTARE'!$I18,\"\")","v":""},null,{"$f":"IF('3 - SPECIE DA IMPIANTARE'!$G18=2,'3 - SPECIE DA IMPIANTARE'!$G18,\"\")","v":""},{"$f":"IF(AND($B17=\"AZIONE_1\",F17=2),'3 - SPECIE DA IMPIANTARE'!$I18,\"\")","v":""},null,{"$f":"IF('3 - SPECIE DA IMPIANTARE'!$G18=3,'3 - SPECIE DA IMPIANTARE'!$G18,\"\")","v":""},{"$f":"IF(AND($B17=\"AZIONE_1\",$I17=3),'3 - SPECIE DA IMPIANTARE'!$I18,\"\")","v":""},null,{"$f":"IF('3 - SPECIE DA IMPIANTARE'!$G18=4,'3 - SPECIE DA IMPIANTARE'!$G18,\"\")","v":""},{"$f":"IF(AND($B17=\"AZIONE_1\",$L17=4),'3 - SPECIE DA IMPIANTARE'!$I18,\"\")","v":""},null,{"$f":"IF('3 - SPECIE DA IMPIANTARE'!$G18=5,'3 - SPECIE DA IMPIANTARE'!$G18,\"\")","v":""},{"$f":"IF(AND($B17=\"AZIONE_1\",$O17=5),'3 - SPECIE DA IMPIANTARE'!$I18,\"\")","v":""},null,{"$f":"IF('3 - SPECIE DA IMPIANTARE'!$G18=6,'3 - SPECIE DA IMPIANTARE'!$G18,\"\")","v":""},{"$f":"IF(AND($B17=\"AZIONE_1\",$R17=6),'3 - SPECIE DA IMPIANTARE'!$I18,\"\")","v":""}]
[1,{"$f":"IF('3 - SPECIE DA IMPIANTARE'!$H19=\"AZIONE_1\",'3 - SPECIE DA IMPIANTARE'!$H19,\"\")","v":""},{"$f":"IF('3 - SPECIE DA IMPIANTARE'!$G19=1,'3 - SPECIE DA IMPIANTARE'!$G19,\"\")","v":""},{"$f":"IF(AND($B18=\"AZIONE_1\",C18=1),'3 - SPECIE DA IMPIANTARE'!$I19,\"\")","v":""},null,{"$f":"IF('3 - SPECIE DA IMPIANTARE'!$G19=2,'3 - SPECIE DA IMPIANTARE'!$G19,\"\")","v":""},{"$f":"IF(AND($B18=\"AZIONE_1\",F18=2),'3 - SPECIE DA IMPIANTARE'!$I19,\"\")","v":""},null,{"$f":"IF('3 - SPECIE DA IMPIANTARE'!$G19=3,'3 - SPECIE DA IMPIANTARE'!$G19,\"\")","v":""},{"$f":"IF(AND($B18=\"AZIONE_1\",$I18=3),'3 - SPECIE DA IMPIANTARE'!$I19,\"\")","v":""},null,{"$f":"IF('3 - SPECIE DA IMPIANTARE'!$G19=4,'3 - SPECIE DA IMPIANTARE'!$G19,\"\")","v":""},{"$f":"IF(AND($B18=\"AZIONE_1\",$L18=4),'3 - SPECIE DA IMPIANTARE'!$I19,\"\")","v":""},null,{"$f":"IF('3 - SPECIE DA IMPIANTARE'!$G19=5,'3 - SPECIE DA IMPIANTARE'!$G19,\"\")","v":""},{"$f":"IF(AND($B18=\"AZIONE_1\",$O18=5),'3 - SPECIE DA IMPIANTARE'!$I19,\"\")","v":""},null,{"$f":"IF('3 - SPECIE DA IMPIANTARE'!$G19=6,'3 - SPECIE DA IMPIANTARE'!$G19,\"\")","v":""},{"$f":"IF(AND($B18=\"AZIONE_1\",$R18=6),'3 - SPECIE DA IMPIANTARE'!$I19,\"\")","v":""}]
[1,{"$f":"IF('3 - SPECIE DA IMPIANTARE'!$H20=\"AZIONE_1\",'3 - SPECIE DA IMPIANTARE'!$H20,\"\")","v":""},{"$f":"IF('3 - SPECIE DA IMPIANTARE'!$G20=1,'3 - SPECIE DA IMPIANTARE'!$G20,\"\")","v":""},{"$f":"IF(AND($B19=\"AZIONE_1\",C19=1),'3 - SPECIE DA IMPIANTARE'!$I20,\"\")","v":""},null,{"$f":"IF('3 - SPECIE DA IMPIANTARE'!$G20=2,'3 - SPECIE DA IMPIANTARE'!$G20,\"\")","v":""},{"$f":"IF(AND($B19=\"AZIONE_1\",F19=2),'3 - SPECIE DA IMPIANTARE'!$I20,\"\")","v":""},null,{"$f":"IF('3 - SPECIE DA IMPIANTARE'!$G20=3,'3 - SPECIE DA IMPIANTARE'!$G20,\"\")","v":""},{"$f":"IF(AND($B19=\"AZIONE_1\",$I19=3),'3 - SPECIE DA IMPIANTARE'!$I20,\"\")","v":""},null,{"$f":"IF('3 - SPECIE DA IMPIANTARE'!$G20=4,'3 - SPECIE DA IMPIANTARE'!$G20,\"\")","v":""},{"$f":"IF(AND($B19=\"AZIONE_1\",$L19=4),'3 - SPECIE DA IMPIANTARE'!$I20,\"\")","v":""},null,{"$f":"IF('3 - SPECIE DA IMPIANTARE'!$G20=5,'3 - SPECIE DA IMPIANTARE'!$G20,\"\")","v":""},{"$f":"IF(AND($B19=\"AZIONE_1\",$O19=5),'3 - SPECIE DA IMPIANTARE'!$I20,\"\")","v":""},null,{"$f":"IF('3 - SPECIE DA IMPIANTARE'!$G20=6,'3 - SPECIE DA IMPIANTARE'!$G20,\"\")","v":""},{"$f":"IF(AND($B19=\"AZIONE_1\",$R19=6),'3 - SPECIE DA IMPIANTARE'!$I20,\"\")","v":""}]
[1,{"$f":"IF('3 - SPECIE DA IMPIANTARE'!$H21=\"AZIONE_1\",'3 - SPECIE DA IMPIANTARE'!$H21,\"\")","v":""},{"$f":"IF('3 - SPECIE DA IMPIANTARE'!$G21=1,'3 - SPECIE DA IMPIANTARE'!$G21,\"\")","v":""},{"$f":"IF(AND($B20=\"AZIONE_1\",C20=1),'3 - SPECIE DA IMPIANTARE'!$I21,\"\")","v":""},null,{"$f":"IF('3 - SPECIE DA IMPIANTARE'!$G21=2,'3 - SPECIE DA IMPIANTARE'!$G21,\"\")","v":""},{"$f":"IF(AND($B20=\"AZIONE_1\",F20=2),'3 - SPECIE DA IMPIANTARE'!$I21,\"\")","v":""},null,{"$f":"IF('3 - SPECIE DA IMPIANTARE'!$G21=3,'3 - SPECIE DA IMPIANTARE'!$G21,\"\")","v":""},{"$f":"IF(AND($B20=\"AZIONE_1\",$I20=3),'3 - SPECIE DA IMPIANTARE'!$I21,\"\")","v":""},null,{"$f":"IF('3 - SPECIE DA IMPIANTARE'!$G21=4,'3 - SPECIE DA IMPIANTARE'!$G21,\"\")","v":""},{"$f":"IF(AND($B20=\"AZIONE_1\",$L20=4),'3 - SPECIE DA IMPIANTARE'!$I21,\"\")","v":""},null,{"$f":"IF('3 - SPECIE DA IMPIANTARE'!$G21=5,'3 - SPECIE DA IMPIANTARE'!$G21,\"\")","v":""},{"$f":"IF(AND($B20=\"AZIONE_1\",$O20=5),'3 - SPECIE DA IMPIANTARE'!$I21,\"\")","v":""},null,{"$f":"IF('3 - SPECIE DA IMPIANTARE'!$G21=6,'3 - SPECIE DA IMPIANTARE'!$G21,\"\")","v":""},{"$f":"IF(AND($B20=\"AZIONE_1\",$R20=6),'3 - SPECIE DA IMPIANTARE'!$I21,\"\")","v":""}]
[1,{"$f":"IF('3 - SPECIE DA IMPIANTARE'!$H22=\"AZIONE_1\",'3 - SPECIE DA IMPIANTARE'!$H22,\"\")","v":""},{"$f":"IF('3 - SPECIE DA IMPIANTARE'!$G22=1,'3 - SPECIE DA IMPIANTARE'!$G22,\"\")","v":""},{"$f":"IF(AND($B21=\"AZIONE_1\",C21=1),'3 - SPECIE DA IMPIANTARE'!$I22,\"\")","v":""},null,{"$f":"IF('3 - SPECIE DA IMPIANTARE'!$G22=2,'3 - SPECIE DA IMPIANTARE'!$G22,\"\")","v":""},{"$f":"IF(AND($B21=\"AZIONE_1\",F21=2),'3 - SPECIE DA IMPIANTARE'!$I22,\"\")","v":""},null,{"$f":"IF('3 - SPECIE DA IMPIANTARE'!$G22=3,'3 - SPECIE DA IMPIANTARE'!$G22,\"\")","v":""},{"$f":"IF(AND($B21=\"AZIONE_1\",$I21=3),'3 - SPECIE DA IMPIANTARE'!$I22,\"\")","v":""},null,{"$f":"IF('3 - SPECIE DA IMPIANTARE'!$G22=4,'3 - SPECIE DA IMPIANTARE'!$G22,\"\")","v":""},{"$f":"IF(AND($B21=\"AZIONE_1\",$L21=4),'3 - SPECIE DA IMPIANTARE'!$I22,\"\")","v":""},null,{"$f":"IF('3 - SPECIE DA IMPIANTARE'!$G22=5,'3 - SPECIE DA IMPIANTARE'!$G22,\"\")","v":""},{"$f":"IF(AND($B21=\"AZIONE_1\",$O21=5),'3 - SPECIE DA IMPIANTARE'!$I22,\"\")","v":""},null,{"$f":"IF('3 - SPECIE DA IMPIANTARE'!$G22=6,'3 - SPECIE DA IMPIANTARE'!$G22,\"\")","v":""},{"$f":"IF(AND($B21=\"AZIONE_1\",$R21=6),'3 - SPECIE DA IMPIANTARE'!$I22,\"\")","v":""}]
[1,{"$f":"IF('3 - SPECIE DA IMPIANTARE'!$H23=\"AZIONE_1\",'3 - SPECIE DA IMPIANTARE'!$H23,\"\")","v":""},{"$f":"IF('3 - SPECIE DA IMPIANTARE'!$G23=1,'3 - SPECIE DA IMPIANTARE'!$G23,\"\")","v":""},{"$f":"IF(AND($B22=\"AZIONE_1\",C22=1),'3 - SPECIE DA IMPIANTARE'!$I23,\"\")","v":""},null,{"$f":"IF('3 - SPECIE DA IMPIANTARE'!$G23=2,'3 - SPECIE DA IMPIANTARE'!$G23,\"\")","v":""},{"$f":"IF(AND($B22=\"AZIONE_1\",F22=2),'3 - SPECIE DA IMPIANTARE'!$I23,\"\")","v":""},null,{"$f":"IF('3 - SPECIE DA IMPIANTARE'!$G23=3,'3 - SPECIE DA IMPIANTARE'!$G23,\"\")","v":""},{"$f":"IF(AND($B22=\"AZIONE_1\",$I22=3),'3 - SPECIE DA IMPIANTARE'!$I23,\"\")","v":""},null,{"$f":"IF('3 - SPECIE DA IMPIANTARE'!$G23=4,'3 - SPECIE DA IMPIANTARE'!$G23,\"\")","v":""},{"$f":"IF(AND($B22=\"AZIONE_1\",$L22=4),'3 - SPECIE DA IMPIANTARE'!$I23,\"\")","v":""},null,{"$f":"IF('3 - SPECIE DA IMPIANTARE'!$G23=5,'3 - SPECIE DA IMPIANTARE'!$G23,\"\")","v":""},{"$f":"IF(AND($B22=\"AZIONE_1\",$O22=5),'3 - SPECIE DA IMPIANTARE'!$I23,\"\")","v":""},null,{"$f":"IF('3 - SPECIE DA IMPIANTARE'!$G23=6,'3 - SPECIE DA IMPIANTARE'!$G23,\"\")","v":""},{"$f":"IF(AND($B22=\"AZIONE_1\",$R22=6),'3 - SPECIE DA IMPIANTARE'!$I23,\"\")","v":""}]
[1,{"$f":"IF('3 - SPECIE DA IMPIANTARE'!$H24=\"AZIONE_1\",'3 - SPECIE DA IMPIANTARE'!$H24,\"\")","v":""},{"$f":"IF('3 - SPECIE DA IMPIANTARE'!$G24=1,'3 - SPECIE DA IMPIANTARE'!$G24,\"\")","v":""},{"$f":"IF(AND($B23=\"AZIONE_1\",C23=1),'3 - SPECIE DA IMPIANTARE'!$I24,\"\")","v":""},null,{"$f":"IF('3 - SPECIE DA IMPIANTARE'!$G24=2,'3 - SPECIE DA IMPIANTARE'!$G24,\"\")","v":""},{"$f":"IF(AND($B23=\"AZIONE_1\",F23=2),'3 - SPECIE DA IMPIANTARE'!$I24,\"\")","v":""},null,{"$f":"IF('3 - SPECIE DA IMPIANTARE'!$G24=3,'3 - SPECIE DA IMPIANTARE'!$G24,\"\")","v":""},{"$f":"IF(AND($B23=\"AZIONE_1\",$I23=3),'3 - SPECIE DA IMPIANTARE'!$I24,\"\")","v":""},null,{"$f":"IF('3 - SPECIE DA IMPIANTARE'!$G24=4,'3 - SPECIE DA IMPIANTARE'!$G24,\"\")","v":""},{"$f":"IF(AND($B23=\"AZIONE_1\",$L23=4),'3 - SPECIE DA IMPIANTARE'!$I24,\"\")","v":""},null,{"$f":"IF('3 - SPECIE DA IMPIANTARE'!$G24=5,'3 - SPECIE DA IMPIANTARE'!$G24,\"\")","v":""},{"$f":"IF(AND($B23=\"AZIONE_1\",$O23=5),'3 - SPECIE DA IMPIANTARE'!$I24,\"\")","v":""},null,{"$f":"IF('3 - SPECIE DA IMPIANTARE'!$G24=6,'3 - SPECIE DA IMPIANTARE'!$G24,\"\")","v":""},{"$f":"IF(AND($B23=\"AZIONE_1\",$R23=6),'3 - SPECIE DA IMPIANTARE'!$I24,\"\")","v":""}]
[1,{"$f":"IF('3 - SPECIE DA IMPIANTARE'!$H25=\"AZIONE_1\",'3 - SPECIE DA IMPIANTARE'!$H25,\"\")","v":""},{"$f":"IF('3 - SPECIE DA IMPIANTARE'!$G25=1,'3 - SPECIE DA IMPIANTARE'!$G25,\"\")","v":""},{"$f":"IF(AND($B24=\"AZIONE_1\",C24=1),'3 - SPECIE DA IMPIANTARE'!$I25,\"\")","v":""},null,{"$f":"IF('3 - SPECIE DA IMPIANTARE'!$G25=2,'3 - SPECIE DA IMPIANTARE'!$G25,\"\")","v":""},{"$f":"IF(AND($B24=\"AZIONE_1\",F24=2),'3 - SPECIE DA IMPIANTARE'!$I25,\"\")","v":""},null,{"$f":"IF('3 - SPECIE DA IMPIANTARE'!$G25=3,'3 - SPECIE DA IMPIANTARE'!$G25,\"\")","v":""},{"$f":"IF(AND($B24=\"AZIONE_1\",$I24=3),'3 - SPECIE DA IMPIANTARE'!$I25,\"\")","v":""},null,{"$f":"IF('3 - SPECIE DA IMPIANTARE'!$G25=4,'3 - SPECIE DA IMPIANTARE'!$G25,\"\")","v":""},{"$f":"IF(AND($B24=\"AZIONE_1\",$L24=4),'3 - SPECIE DA IMPIANTARE'!$I25,\"\")","v":""},null,{"$f":"IF('3 - SPECIE DA IMPIANTARE'!$G25=5,'3 - SPECIE DA IMPIANTARE'!$G25,\"\")","v":""},{"$f":"IF(AND($B24=\"AZIONE_1\",$O24=5),'3 - SPECIE DA IMPIANTARE'!$I25,\"\")","v":""},null,{"$f":"IF('3 - SPECIE DA IMPIANTARE'!$G25=6,'3 - SPECIE DA IMPIANTARE'!$G25,\"\")","v":""},{"$f":"IF(AND($B24=\"AZIONE_1\",$R24=6),'3 - SPECIE DA IMPIANTARE'!$I25,\"\")","v":""}]
[1,{"$f":"IF('3 - SPECIE DA IMPIANTARE'!$H26=\"AZIONE_1\",'3 - SPECIE DA IMPIANTARE'!$H26,\"\")","v":""},{"$f":"IF('3 - SPECIE DA IMPIANTARE'!$G26=1,'3 - SPECIE DA IMPIANTARE'!$G26,\"\")","v":""},{"$f":"IF(AND($B25=\"AZIONE_1\",C25=1),'3 - SPECIE DA IMPIANTARE'!$I26,\"\")","v":""},null,{"$f":"IF('3 - SPECIE DA IMPIANTARE'!$G26=2,'3 - SPECIE DA IMPIANTARE'!$G26,\"\")","v":""},{"$f":"IF(AND($B25=\"AZIONE_1\",F25=2),'3 - SPECIE DA IMPIANTARE'!$I26,\"\")","v":""},null,{"$f":"IF('3 - SPECIE DA IMPIANTARE'!$G26=3,'3 - SPECIE DA IMPIANTARE'!$G26,\"\")","v":""},{"$f":"IF(AND($B25=\"AZIONE_1\",$I25=3),'3 - SPECIE DA IMPIANTARE'!$I26,\"\")","v":""},null,{"$f":"IF('3 - SPECIE DA IMPIANTARE'!$G26=4,'3 - SPECIE DA IMPIANTARE'!$G26,\"\")","v":""},{"$f":"IF(AND($B25=\"AZIONE_1\",$L25=4),'3 - SPECIE DA IMPIANTARE'!$I26,\"\")","v":""},null,{"$f":"IF('3 - SPECIE DA IMPIANTARE'!$G26=5,'3 - SPECIE DA IMPIANTARE'!$G26,\"\")","v":""},{"$f":"IF(AND($B25=\"AZIONE_1\",$O25=5),'3 - SPECIE DA IMPIANTARE'!$I26,\"\")","v":""},null,{"$f":"IF('3 - SPECIE DA IMPIANTARE'!$G26=6,'3 - SPECIE DA IMPIANTARE'!$G26,\"\")","v":""},{"$f":"IF(AND($B25=\"AZIONE_1\",$R25=6),'3 - SPECIE DA IMPIANTARE'!$I26,\"\")","v":""}]
[1,{"$f":"IF('3 - SPECIE DA IMPIANTARE'!$H27=\"AZIONE_1\",'3 - SPECIE DA IMPIANTARE'!$H27,\"\")","v":""},{"$f":"IF('3 - SPECIE DA IMPIANTARE'!$G27=1,'3 - SPECIE DA IMPIANTARE'!$G27,\"\")","v":""},{"$f":"IF(AND($B26=\"AZIONE_1\",C26=1),'3 - SPECIE DA IMPIANTARE'!$I27,\"\")","v":""},null,{"$f":"IF('3 - SPECIE DA IMPIANTARE'!$G27=2,'3 - SPECIE DA IMPIANTARE'!$G27,\"\")","v":""},{"$f":"IF(AND($B26=\"AZIONE_1\",F26=2),'3 - SPECIE DA IMPIANTARE'!$I27,\"\")","v":""},null,{"$f":"IF('3 - SPECIE DA IMPIANTARE'!$G27=3,'3 - SPECIE DA IMPIANTARE'!$G27,\"\")","v":""},{"$f":"IF(AND($B26=\"AZIONE_1\",$I26=3),'3 - SPECIE DA IMPIANTARE'!$I27,\"\")","v":""},null,{"$f":"IF('3 - SPECIE DA IMPIANTARE'!$G27=4,'3 - SPECIE DA IMPIANTARE'!$G27,\"\")","v":""},{"$f":"IF(AND($B26=\"AZIONE_1\",$L26=4),'3 - SPECIE DA IMPIANTARE'!$I27,\"\")","v":""},null,{"$f":"IF('3 - SPECIE DA IMPIANTARE'!$G27=5,'3 - SPECIE DA IMPIANTARE'!$G27,\"\")","v":""},{"$f":"IF(AND($B26=\"AZIONE_1\",$O26=5),'3 - SPECIE DA IMPIANTARE'!$I27,\"\")","v":""},null,{"$f":"IF('3 - SPECIE DA IMPIANTARE'!$G27=6,'3 - SPECIE DA IMPIANTARE'!$G27,\"\")","v":""},{"$f":"IF(AND($B26=\"AZIONE_1\",$R26=6),'3 - SPECIE DA IMPIANTARE'!$I27,\"\")","v":""}]
[1,{"$f":"IF('3 - SPECIE DA IMPIANTARE'!$H28=\"AZIONE_1\",'3 - SPECIE DA IMPIANTARE'!$H28,\"\")","v":""},{"$f":"IF('3 - SPECIE DA IMPIANTARE'!$G28=1,'3 - SPECIE DA IMPIANTARE'!$G28,\"\")","v":""},{"$f":"IF(AND($B27=\"AZIONE_1\",C27=1),'3 - SPECIE DA IMPIANTARE'!$I28,\"\")","v":""},null,{"$f":"IF('3 - SPECIE DA IMPIANTARE'!$G28=2,'3 - SPECIE DA IMPIANTARE'!$G28,\"\")","v":""},{"$f":"IF(AND($B27=\"AZIONE_1\",F27=2),'3 - SPECIE DA IMPIANTARE'!$I28,\"\")","v":""},null,{"$f":"IF('3 - SPECIE DA IMPIANTARE'!$G28=3,'3 - SPECIE DA IMPIANTARE'!$G28,\"\")","v":""},{"$f":"IF(AND($B27=\"AZIONE_1\",$I27=3),'3 - SPECIE DA IMPIANTARE'!$I28,\"\")","v":""},null,{"$f":"IF('3 - SPECIE DA IMPIANTARE'!$G28=4,'3 - SPECIE DA IMPIANTARE'!$G28,\"\")","v":""},{"$f":"IF(AND($B27=\"AZIONE_1\",$L27=4),'3 - SPECIE DA IMPIANTARE'!$I28,\"\")","v":""},null,{"$f":"IF('3 - SPECIE DA IMPIANTARE'!$G28=5,'3 - SPECIE DA IMPIANTARE'!$G28,\"\")","v":""},{"$f":"IF(AND($B27=\"AZIONE_1\",$O27=5),'3 - SPECIE DA IMPIANTARE'!$I28,\"\")","v":""},null,{"$f":"IF('3 - SPECIE DA IMPIANTARE'!$G28=6,'3 - SPECIE DA IMPIANTARE'!$G28,\"\")","v":""},{"$f":"IF(AND($B27=\"AZIONE_1\",$R27=6),'3 - SPECIE DA IMPIANTARE'!$I28,\"\")","v":""}]
[1,{"$f":"IF('3 - SPECIE DA IMPIANTARE'!$H29=\"AZIONE_1\",'3 - SPECIE DA IMPIANTARE'!$H29,\"\")","v":""},{"$f":"IF('3 - SPECIE DA IMPIANTARE'!$G29=1,'3 - SPECIE DA IMPIANTARE'!$G29,\"\")","v":""},{"$f":"IF(AND($B28=\"AZIONE_1\",C28=1),'3 - SPECIE DA IMPIANTARE'!$I29,\"\")","v":""},null,{"$f":"IF('3 - SPECIE DA IMPIANTARE'!$G29=2,'3 - SPECIE DA IMPIANTARE'!$G29,\"\")","v":""},{"$f":"IF(AND($B28=\"AZIONE_1\",F28=2),'3 - SPECIE DA IMPIANTARE'!$I29,\"\")","v":""},null,{"$f":"IF('3 - SPECIE DA IMPIANTARE'!$G29=3,'3 - SPECIE DA IMPIANTARE'!$G29,\"\")","v":""},{"$f":"IF(AND($B28=\"AZIONE_1\",$I28=3),'3 - SPECIE DA IMPIANTARE'!$I29,\"\")","v":""},null,{"$f":"IF('3 - SPECIE DA IMPIANTARE'!$G29=4,'3 - SPECIE DA IMPIANTARE'!$G29,\"\")","v":""},{"$f":"IF(AND($B28=\"AZIONE_1\",$L28=4),'3 - SPECIE DA IMPIANTARE'!$I29,\"\")","v":""},null,{"$f":"IF('3 - SPECIE DA IMPIANTARE'!$G29=5,'3 - SPECIE DA IMPIANTARE'!$G29,\"\")","v":""},{"$f":"IF(AND($B28=\"AZIONE_1\",$O28=5),'3 - SPECIE DA IMPIANTARE'!$I29,\"\")","v":""},null,{"$f":"IF('3 - SPECIE DA IMPIANTARE'!$G29=6,'3 - SPECIE DA IMPIANTARE'!$G29,\"\")","v":""},{"$f":"IF(AND($B28=\"AZIONE_1\",$R28=6),'3 - SPECIE DA IMPIANTARE'!$I29,\"\")","v":""}]
[1,{"$f":"IF('3 - SPECIE DA IMPIANTARE'!$H30=\"AZIONE_1\",'3 - SPECIE DA IMPIANTARE'!$H30,\"\")","v":""},{"$f":"IF('3 - SPECIE DA IMPIANTARE'!$G30=1,'3 - SPECIE DA IMPIANTARE'!$G30,\"\")","v":""},{"$f":"IF(AND($B29=\"AZIONE_1\",C29=1),'3 - SPECIE DA IMPIANTARE'!$I30,\"\")","v":""},null,{"$f":"IF('3 - SPECIE DA IMPIANTARE'!$G30=2,'3 - SPECIE DA IMPIANTARE'!$G30,\"\")","v":""},{"$f":"IF(AND($B29=\"AZIONE_1\",F29=2),'3 - SPECIE DA IMPIANTARE'!$I30,\"\")","v":""},null,{"$f":"IF('3 - SPECIE DA IMPIANTARE'!$G30=3,'3 - SPECIE DA IMPIANTARE'!$G30,\"\")","v":""},{"$f":"IF(AND($B29=\"AZIONE_1\",$I29=3),'3 - SPECIE DA IMPIANTARE'!$I30,\"\")","v":""},null,{"$f":"IF('3 - SPECIE DA IMPIANTARE'!$G30=4,'3 - SPECIE DA IMPIANTARE'!$G30,\"\")","v":""},{"$f":"IF(AND($B29=\"AZIONE_1\",$L29=4),'3 - SPECIE DA IMPIANTARE'!$I30,\"\")","v":""},null,{"$f":"IF('3 - SPECIE DA IMPIANTARE'!$G30=5,'3 - SPECIE DA IMPIANTARE'!$G30,\"\")","v":""},{"$f":"IF(AND($B29=\"AZIONE_1\",$O29=5),'3 - SPECIE DA IMPIANTARE'!$I30,\"\")","v":""},null,{"$f":"IF('3 - SPECIE DA IMPIANTARE'!$G30=6,'3 - SPECIE DA IMPIANTARE'!$G30,\"\")","v":""},{"$f":"IF(AND($B29=\"AZIONE_1\",$R29=6),'3 - SPECIE DA IMPIANTARE'!$I30,\"\")","v":""}]
[1,{"$f":"IF('3 - SPECIE DA IMPIANTARE'!$H31=\"AZIONE_1\",'3 - SPECIE DA IMPIANTARE'!$H31,\"\")","v":""},{"$f":"IF('3 - SPECIE DA IMPIANTARE'!$G31=1,'3 - SPECIE DA IMPIANTARE'!$G31,\"\")","v":""},{"$f":"IF(AND($B30=\"AZIONE_1\",C30=1),'3 - SPECIE DA IMPIANTARE'!$I31,\"\")","v":""},null,{"$f":"IF('3 - SPECIE DA IMPIANTARE'!$G31=2,'3 - SPECIE DA IMPIANTARE'!$G31,\"\")","v":""},{"$f":"IF(AND($B30=\"AZIONE_1\",F30=2),'3 - SPECIE DA IMPIANTARE'!$I31,\"\")","v":""},null,{"$f":"IF('3 - SPECIE DA IMPIANTARE'!$G31=3,'3 - SPECIE DA IMPIANTARE'!$G31,\"\")","v":""},{"$f":"IF(AND($B30=\"AZIONE_1\",$I30=3),'3 - SPECIE DA IMPIANTARE'!$I31,\"\")","v":""},null,{"$f":"IF('3 - SPECIE DA IMPIANTARE'!$G31=4,'3 - SPECIE DA IMPIANTARE'!$G31,\"\")","v":""},{"$f":"IF(AND($B30=\"AZIONE_1\",$L30=4),'3 - SPECIE DA IMPIANTARE'!$I31,\"\")","v":""},null,{"$f":"IF('3 - SPECIE DA IMPIANTARE'!$G31=5,'3 - SPECIE DA IMPIANTARE'!$G31,\"\")","v":""},{"$f":"IF(AND($B30=\"AZIONE_1\",$O30=5),'3 - SPECIE DA IMPIANTARE'!$I31,\"\")","v":""},null,{"$f":"IF('3 - SPECIE DA IMPIANTARE'!$G31=6,'3 - SPECIE DA IMPIANTARE'!$G31,\"\")","v":""},{"$f":"IF(AND($B30=\"AZIONE_1\",$R30=6),'3 - SPECIE DA IMPIANTARE'!$I31,\"\")","v":""}]
[1,{"$f":"IF('3 - SPECIE DA IMPIANTARE'!$H32=\"AZIONE_1\",'3 - SPECIE DA IMPIANTARE'!$H32,\"\")","v":""},{"$f":"IF('3 - SPECIE DA IMPIANTARE'!$G32=1,'3 - SPECIE DA IMPIANTARE'!$G32,\"\")","v":""},{"$f":"IF(AND($B31=\"AZIONE_1\",C31=1),'3 - SPECIE DA IMPIANTARE'!$I32,\"\")","v":""},null,{"$f":"IF('3 - SPECIE DA IMPIANTARE'!$G32=2,'3 - SPECIE DA IMPIANTARE'!$G32,\"\")","v":""},{"$f":"IF(AND($B31=\"AZIONE_1\",F31=2),'3 - SPECIE DA IMPIANTARE'!$I32,\"\")","v":""},null,{"$f":"IF('3 - SPECIE DA IMPIANTARE'!$G32=3,'3 - SPECIE DA IMPIANTARE'!$G32,\"\")","v":""},{"$f":"IF(AND($B31=\"AZIONE_1\",$I31=3),'3 - SPECIE DA IMPIANTARE'!$I32,\"\")","v":""},null,{"$f":"IF('3 - SPECIE DA IMPIANTARE'!$G32=4,'3 - SPECIE DA IMPIANTARE'!$G32,\"\")","v":""},{"$f":"IF(AND($B31=\"AZIONE_1\",$L31=4),'3 - SPECIE DA IMPIANTARE'!$I32,\"\")","v":""},null,{"$f":"IF('3 - SPECIE DA IMPIANTARE'!$G32=5,'3 - SPECIE DA IMPIANTARE'!$G32,\"\")","v":""},{"$f":"IF(AND($B31=\"AZIONE_1\",$O31=5),'3 - SPECIE DA IMPIANTARE'!$I32,\"\")","v":""},null,{"$f":"IF('3 - SPECIE DA IMPIANTARE'!$G32=6,'3 - SPECIE DA IMPIANTARE'!$G32,\"\")","v":""},{"$f":"IF(AND($B31=\"AZIONE_1\",$R31=6),'3 - SPECIE DA IMPIANTARE'!$I32,\"\")","v":""}]
[1,{"$f":"IF('3 - SPECIE DA IMPIANTARE'!$H33=\"AZIONE_1\",'3 - SPECIE DA IMPIANTARE'!$H33,\"\")","v":""},{"$f":"IF('3 - SPECIE DA IMPIANTARE'!$G33=1,'3 - SPECIE DA IMPIANTARE'!$G33,\"\")","v":""},{"$f":"IF(AND($B32=\"AZIONE_1\",C32=1),'3 - SPECIE DA IMPIANTARE'!$I33,\"\")","v":""},null,{"$f":"IF('3 - SPECIE DA IMPIANTARE'!$G33=2,'3 - SPECIE DA IMPIANTARE'!$G33,\"\")","v":""},{"$f":"IF(AND($B32=\"AZIONE_1\",F32=2),'3 - SPECIE DA IMPIANTARE'!$I33,\"\")","v":""},null,{"$f":"IF('3 - SPECIE DA IMPIANTARE'!$G33=3,'3 - SPECIE DA IMPIANTARE'!$G33,\"\")","v":""},{"$f":"IF(AND($B32=\"AZIONE_1\",$I32=3),'3 - SPECIE DA IMPIANTARE'!$I33,\"\")","v":""},null,{"$f":"IF('3 - SPECIE DA IMPIANTARE'!$G33=4,'3 - SPECIE DA IMPIANTARE'!$G33,\"\")","v":""},{"$f":"IF(AND($B32=\"AZIONE_1\",$L32=4),'3 - SPECIE DA IMPIANTARE'!$I33,\"\")","v":""},null,{"$f":"IF('3 - SPECIE DA IMPIANTARE'!$G33=5,'3 - SPECIE DA IMPIANTARE'!$G33,\"\")","v":""},{"$f":"IF(AND($B32=\"AZIONE_1\",$O32=5),'3 - SPECIE DA IMPIANTARE'!$I33,\"\")","v":""},null,{"$f":"IF('3 - SPECIE DA IMPIANTARE'!$G33=6,'3 - SPECIE DA IMPIANTARE'!$G33,\"\")","v":""},{"$f":"IF(AND($B32=\"AZIONE_1\",$R32=6),'3 - SPECIE DA IMPIANTARE'!$I33,\"\")","v":""}]
[1,{"$f":"IF('3 - SPECIE DA IMPIANTARE'!$H34=\"AZIONE_1\",'3 - SPECIE DA IMPIANTARE'!$H34,\"\")","v":""},{"$f":"IF('3 - SPECIE DA IMPIANTARE'!$G34=1,'3 - SPECIE DA IMPIANTARE'!$G34,\"\")","v":""},{"$f":"IF(AND($B33=\"AZIONE_1\",C33=1),'3 - SPECIE DA IMPIANTARE'!$I34,\"\")","v":""},null,{"$f":"IF('3 - SPECIE DA IMPIANTARE'!$G34=2,'3 - SPECIE DA IMPIANTARE'!$G34,\"\")","v":""},{"$f":"IF(AND($B33=\"AZIONE_1\",F33=2),'3 - SPECIE DA IMPIANTARE'!$I34,\"\")","v":""},null,{"$f":"IF('3 - SPECIE DA IMPIANTARE'!$G34=3,'3 - SPECIE DA IMPIANTARE'!$G34,\"\")","v":""},{"$f":"IF(AND($B33=\"AZIONE_1\",$I33=3),'3 - SPECIE DA IMPIANTARE'!$I34,\"\")","v":""},null,{"$f":"IF('3 - SPECIE DA IMPIANTARE'!$G34=4,'3 - SPECIE DA IMPIANTARE'!$G34,\"\")","v":""},{"$f":"IF(AND($B33=\"AZIONE_1\",$L33=4),'3 - SPECIE DA IMPIANTARE'!$I34,\"\")","v":""},null,{"$f":"IF('3 - SPECIE DA IMPIANTARE'!$G34=5,'3 - SPECIE DA IMPIANTARE'!$G34,\"\")","v":""},{"$f":"IF(AND($B33=\"AZIONE_1\",$O33=5),'3 - SPECIE DA IMPIANTARE'!$I34,\"\")","v":""},null,{"$f":"IF('3 - SPECIE DA IMPIANTARE'!$G34=6,'3 - SPECIE DA IMPIANTARE'!$G34,\"\")","v":""},{"$f":"IF(AND($B33=\"AZIONE_1\",$R33=6),'3 - SPECIE DA IMPIANTARE'!$I34,\"\")","v":""}]
[1,{"$f":"IF('3 - SPECIE DA IMPIANTARE'!$H35=\"AZIONE_1\",'3 - SPECIE DA IMPIANTARE'!$H35,\"\")","v":""},{"$f":"IF('3 - SPECIE DA IMPIANTARE'!$G35=1,'3 - SPECIE DA IMPIANTARE'!$G35,\"\")","v":""},{"$f":"IF(AND($B34=\"AZIONE_1\",C34=1),'3 - SPECIE DA IMPIANTARE'!$I35,\"\")","v":""},null,{"$f":"IF('3 - SPECIE DA IMPIANTARE'!$G35=2,'3 - SPECIE DA IMPIANTARE'!$G35,\"\")","v":""},{"$f":"IF(AND($B34=\"AZIONE_1\",F34=2),'3 - SPECIE DA IMPIANTARE'!$I35,\"\")","v":""},null,{"$f":"IF('3 - SPECIE DA IMPIANTARE'!$G35=3,'3 - SPECIE DA IMPIANTARE'!$G35,\"\")","v":""},{"$f":"IF(AND($B34=\"AZIONE_1\",$I34=3),'3 - SPECIE DA IMPIANTARE'!$I35,\"\")","v":""},null,{"$f":"IF('3 - SPECIE DA IMPIANTARE'!$G35=4,'3 - SPECIE DA IMPIANTARE'!$G35,\"\")","v":""},{"$f":"IF(AND($B34=\"AZIONE_1\",$L34=4),'3 - SPECIE DA IMPIANTARE'!$I35,\"\")","v":""},null,{"$f":"IF('3 - SPECIE DA IMPIANTARE'!$G35=5,'3 - SPECIE DA IMPIANTARE'!$G35,\"\")","v":""},{"$f":"IF(AND($B34=\"AZIONE_1\",$O34=5),'3 - SPECIE DA IMPIANTARE'!$I35,\"\")","v":""},null,{"$f":"IF('3 - SPECIE DA IMPIANTARE'!$G35=6,'3 - SPECIE DA IMPIANTARE'!$G35,\"\")","v":""},{"$f":"IF(AND($B34=\"AZIONE_1\",$R34=6),'3 - SPECIE DA IMPIANTARE'!$I35,\"\")","v":""}]
[1,{"$f":"IF('3 - SPECIE DA IMPIANTARE'!$H36=\"AZIONE_1\",'3 - SPECIE DA IMPIANTARE'!$H36,\"\")","v":""},{"$f":"IF('3 - SPECIE DA IMPIANTARE'!$G36=1,'3 - SPECIE DA IMPIANTARE'!$G36,\"\")","v":""},{"$f":"IF(AND($B35=\"AZIONE_1\",C35=1),'3 - SPECIE DA IMPIANTARE'!$I36,\"\")","v":""},null,{"$f":"IF('3 - SPECIE DA IMPIANTARE'!$G36=2,'3 - SPECIE DA IMPIANTARE'!$G36,\"\")","v":""},{"$f":"IF(AND($B35=\"AZIONE_1\",F35=2),'3 - SPECIE DA IMPIANTARE'!$I36,\"\")","v":""},null,{"$f":"IF('3 - SPECIE DA IMPIANTARE'!$G36=3,'3 - SPECIE DA IMPIANTARE'!$G36,\"\")","v":""},{"$f":"IF(AND($B35=\"AZIONE_1\",$I35=3),'3 - SPECIE DA IMPIANTARE'!$I36,\"\")","v":""},null,{"$f":"IF('3 - SPECIE DA IMPIANTARE'!$G36=4,'3 - SPECIE DA IMPIANTARE'!$G36,\"\")","v":""},{"$f":"IF(AND($B35=\"AZIONE_1\",$L35=4),'3 - SPECIE DA IMPIANTARE'!$I36,\"\")","v":""},null,{"$f":"IF('3 - SPECIE DA IMPIANTARE'!$G36=5,'3 - SPECIE DA IMPIANTARE'!$G36,\"\")","v":""},{"$f":"IF(AND($B35=\"AZIONE_1\",$O35=5),'3 - SPECIE DA IMPIANTARE'!$I36,\"\")","v":""},null,{"$f":"IF('3 - SPECIE DA IMPIANTARE'!$G36=6,'3 - SPECIE DA IMPIANTARE'!$G36,\"\")","v":""},{"$f":"IF(AND($B35=\"AZIONE_1\",$R35=6),'3 - SPECIE DA IMPIANTARE'!$I36,\"\")","v":""}]
[1,{"$f":"IF('3 - SPECIE DA IMPIANTARE'!$H37=\"AZIONE_1\",'3 - SPECIE DA IMPIANTARE'!$H37,\"\")","v":""},{"$f":"IF('3 - SPECIE DA IMPIANTARE'!$G37=1,'3 - SPECIE DA IMPIANTARE'!$G37,\"\")","v":""},{"$f":"IF(AND($B36=\"AZIONE_1\",C36=1),'3 - SPECIE DA IMPIANTARE'!$I37,\"\")","v":""},null,{"$f":"IF('3 - SPECIE DA IMPIANTARE'!$G37=2,'3 - SPECIE DA IMPIANTARE'!$G37,\"\")","v":""},{"$f":"IF(AND($B36=\"AZIONE_1\",F36=2),'3 - SPECIE DA IMPIANTARE'!$I37,\"\")","v":""},null,{"$f":"IF('3 - SPECIE DA IMPIANTARE'!$G37=3,'3 - SPECIE DA IMPIANTARE'!$G37,\"\")","v":""},{"$f":"IF(AND($B36=\"AZIONE_1\",$I36=3),'3 - SPECIE DA IMPIANTARE'!$I37,\"\")","v":""},null,{"$f":"IF('3 - SPECIE DA IMPIANTARE'!$G37=4,'3 - SPECIE DA IMPIANTARE'!$G37,\"\")","v":""},{"$f":"IF(AND($B36=\"AZIONE_1\",$L36=4),'3 - SPECIE DA IMPIANTARE'!$I37,\"\")","v":""},null,{"$f":"IF('3 - SPECIE DA IMPIANTARE'!$G37=5,'3 - SPECIE DA IMPIANTARE'!$G37,\"\")","v":""},{"$f":"IF(AND($B36=\"AZIONE_1\",$O36=5),'3 - SPECIE DA IMPIANTARE'!$I37,\"\")","v":""},null,{"$f":"IF('3 - SPECIE DA IMPIANTARE'!$G37=6,'3 - SPECIE DA IMPIANTARE'!$G37,\"\")","v":""},{"$f":"IF(AND($B36=\"AZIONE_1\",$R36=6),'3 - SPECIE DA IMPIANTARE'!$I37,\"\")","v":""}]
[1,{"$f":"IF('3 - SPECIE DA IMPIANTARE'!$H38=\"AZIONE_1\",'3 - SPECIE DA IMPIANTARE'!$H38,\"\")","v":""},{"$f":"IF('3 - SPECIE DA IMPIANTARE'!$G38=1,'3 - SPECIE DA IMPIANTARE'!$G38,\"\")","v":""},{"$f":"IF(AND($B37=\"AZIONE_1\",C37=1),'3 - SPECIE DA IMPIANTARE'!$I38,\"\")","v":""},null,{"$f":"IF('3 - SPECIE DA IMPIANTARE'!$G38=2,'3 - SPECIE DA IMPIANTARE'!$G38,\"\")","v":""},{"$f":"IF(AND($B37=\"AZIONE_1\",F37=2),'3 - SPECIE DA IMPIANTARE'!$I38,\"\")","v":""},null,{"$f":"IF('3 - SPECIE DA IMPIANTARE'!$G38=3,'3 - SPECIE DA IMPIANTARE'!$G38,\"\")","v":""},{"$f":"IF(AND($B37=\"AZIONE_1\",$I37=3),'3 - SPECIE DA IMPIANTARE'!$I38,\"\")","v":""},null,{"$f":"IF('3 - SPECIE DA IMPIANTARE'!$G38=4,'3 - SPECIE DA IMPIANTARE'!$G38,\"\")","v":""},{"$f":"IF(AND($B37=\"AZIONE_1\",$L37=4),'3 - SPECIE DA IMPIANTARE'!$I38,\"\")","v":""},null,{"$f":"IF('3 - SPECIE DA IMPIANTARE'!$G38=5,'3 - SPECIE DA IMPIANTARE'!$G38,\"\")","v":""},{"$f":"IF(AND($B37=\"AZIONE_1\",$O37=5),'3 - SPECIE DA IMPIANTARE'!$I38,\"\")","v":""},null,{"$f":"IF('3 - SPECIE DA IMPIANTARE'!$G38=6,'3 - SPECIE DA IMPIANTARE'!$G38,\"\")","v":""},{"$f":"IF(AND($B37=\"AZIONE_1\",$R37=6),'3 - SPECIE DA IMPIANTARE'!$I38,\"\")","v":""}]
[1,{"$f":"IF('3 - SPECIE DA IMPIANTARE'!$H39=\"AZIONE_1\",'3 - SPECIE DA IMPIANTARE'!$H39,\"\")","v":""},{"$f":"IF('3 - SPECIE DA IMPIANTARE'!$G39=1,'3 - SPECIE DA IMPIANTARE'!$G39,\"\")","v":""},{"$f":"IF(AND($B38=\"AZIONE_1\",C38=1),'3 - SPECIE DA IMPIANTARE'!$I39,\"\")","v":""},null,{"$f":"IF('3 - SPECIE DA IMPIANTARE'!$G39=2,'3 - SPECIE DA IMPIANTARE'!$G39,\"\")","v":""},{"$f":"IF(AND($B38=\"AZIONE_1\",F38=2),'3 - SPECIE DA IMPIANTARE'!$I39,\"\")","v":""},null,{"$f":"IF('3 - SPECIE DA IMPIANTARE'!$G39=3,'3 - SPECIE DA IMPIANTARE'!$G39,\"\")","v":""},{"$f":"IF(AND($B38=\"AZIONE_1\",$I38=3),'3 - SPECIE DA IMPIANTARE'!$I39,\"\")","v":""},null,{"$f":"IF('3 - SPECIE DA IMPIANTARE'!$G39=4,'3 - SPECIE DA IMPIANTARE'!$G39,\"\")","v":""},{"$f":"IF(AND($B38=\"AZIONE_1\",$L38=4),'3 - SPECIE DA IMPIANTARE'!$I39,\"\")","v":""},null,{"$f":"IF('3 - SPECIE DA IMPIANTARE'!$G39=5,'3 - SPECIE DA IMPIANTARE'!$G39,\"\")","v":""},{"$f":"IF(AND($B38=\"AZIONE_1\",$O38=5),'3 - SPECIE DA IMPIANTARE'!$I39,\"\")","v":""},null,{"$f":"IF('3 - SPECIE DA IMPIANTARE'!$G39=6,'3 - SPECIE DA IMPIANTARE'!$G39,\"\")","v":""},{"$f":"IF(AND($B38=\"AZIONE_1\",$R38=6),'3 - SPECIE DA IMPIANTARE'!$I39,\"\")","v":""}]
[1,{"$f":"IF('3 - SPECIE DA IMPIANTARE'!$H40=\"AZIONE_1\",'3 - SPECIE DA IMPIANTARE'!$H40,\"\")","v":""},{"$f":"IF('3 - SPECIE DA IMPIANTARE'!$G40=1,'3 - SPECIE DA IMPIANTARE'!$G40,\"\")","v":""},{"$f":"IF(AND($B39=\"AZIONE_1\",C39=1),'3 - SPECIE DA IMPIANTARE'!$I40,\"\")","v":""},null,{"$f":"IF('3 - SPECIE DA IMPIANTARE'!$G40=2,'3 - SPECIE DA IMPIANTARE'!$G40,\"\")","v":""},{"$f":"IF(AND($B39=\"AZIONE_1\",F39=2),'3 - SPECIE DA IMPIANTARE'!$I40,\"\")","v":""},null,{"$f":"IF('3 - SPECIE DA IMPIANTARE'!$G40=3,'3 - SPECIE DA IMPIANTARE'!$G40,\"\")","v":""},{"$f":"IF(AND($B39=\"AZIONE_1\",$I39=3),'3 - SPECIE DA IMPIANTARE'!$I40,\"\")","v":""},null,{"$f":"IF('3 - SPECIE DA IMPIANTARE'!$G40=4,'3 - SPECIE DA IMPIANTARE'!$G40,\"\")","v":""},{"$f":"IF(AND($B39=\"AZIONE_1\",$L39=4),'3 - SPECIE DA IMPIANTARE'!$I40,\"\")","v":""},null,{"$f":"IF('3 - SPECIE DA IMPIANTARE'!$G40=5,'3 - SPECIE DA IMPIANTARE'!$G40,\"\")","v":""},{"$f":"IF(AND($B39=\"AZIONE_1\",$O39=5),'3 - SPECIE DA IMPIANTARE'!$I40,\"\")","v":""},null,{"$f":"IF('3 - SPECIE DA IMPIANTARE'!$G40=6,'3 - SPECIE DA IMPIANTARE'!$G40,\"\")","v":""},{"$f":"IF(AND($B39=\"AZIONE_1\",$R39=6),'3 - SPECIE DA IMPIANTARE'!$I40,\"\")","v":""}]
[1,{"$f":"IF('3 - SPECIE DA IMPIANTARE'!$H41=\"AZIONE_1\",'3 - SPECIE DA IMPIANTARE'!$H41,\"\")","v":""},{"$f":"IF('3 - SPECIE DA IMPIANTARE'!$G41=1,'3 - SPECIE DA IMPIANTARE'!$G41,\"\")","v":""},{"$f":"IF(AND($B40=\"AZIONE_1\",C40=1),'3 - SPECIE DA IMPIANTARE'!$I41,\"\")","v":""},null,{"$f":"IF('3 - SPECIE DA IMPIANTARE'!$G41=2,'3 - SPECIE DA IMPIANTARE'!$G41,\"\")","v":""},{"$f":"IF(AND($B40=\"AZIONE_1\",F40=2),'3 - SPECIE DA IMPIANTARE'!$I41,\"\")","v":""},null,{"$f":"IF('3 - SPECIE DA IMPIANTARE'!$G41=3,'3 - SPECIE DA IMPIANTARE'!$G41,\"\")","v":""},{"$f":"IF(AND($B40=\"AZIONE_1\",$I40=3),'3 - SPECIE DA IMPIANTARE'!$I41,\"\")","v":""},null,{"$f":"IF('3 - SPECIE DA IMPIANTARE'!$G41=4,'3 - SPECIE DA IMPIANTARE'!$G41,\"\")","v":""},{"$f":"IF(AND($B40=\"AZIONE_1\",$L40=4),'3 - SPECIE DA IMPIANTARE'!$I41,\"\")","v":""},null,{"$f":"IF('3 - SPECIE DA IMPIANTARE'!$G41=5,'3 - SPECIE DA IMPIANTARE'!$G41,\"\")","v":""},{"$f":"IF(AND($B40=\"AZIONE_1\",$O40=5),'3 - SPECIE DA IMPIANTARE'!$I41,\"\")","v":""},null,{"$f":"IF('3 - SPECIE DA IMPIANTARE'!$G41=6,'3 - SPECIE DA IMPIANTARE'!$G41,\"\")","v":""},{"$f":"IF(AND($B40=\"AZIONE_1\",$R40=6),'3 - SPECIE DA IMPIANTARE'!$I41,\"\")","v":""}]
[1,{"$f":"IF('3 - SPECIE DA IMPIANTARE'!$H42=\"AZIONE_1\",'3 - SPECIE DA IMPIANTARE'!$H42,\"\")","v":""},{"$f":"IF('3 - SPECIE DA IMPIANTARE'!$G42=1,'3 - SPECIE DA IMPIANTARE'!$G42,\"\")","v":""},{"$f":"IF(AND($B41=\"AZIONE_1\",C41=1),'3 - SPECIE DA IMPIANTARE'!$I42,\"\")","v":""},null,{"$f":"IF('3 - SPECIE DA IMPIANTARE'!$G42=2,'3 - SPECIE DA IMPIANTARE'!$G42,\"\")","v":""},{"$f":"IF(AND($B41=\"AZIONE_1\",F41=2),'3 - SPECIE DA IMPIANTARE'!$I42,\"\")","v":""},null,{"$f":"IF('3 - SPECIE DA IMPIANTARE'!$G42=3,'3 - SPECIE DA IMPIANTARE'!$G42,\"\")","v":""},{"$f":"IF(AND($B41=\"AZIONE_1\",$I41=3),'3 - SPECIE DA IMPIANTARE'!$I42,\"\")","v":""},null,{"$f":"IF('3 - SPECIE DA IMPIANTARE'!$G42=4,'3 - SPECIE DA IMPIANTARE'!$G42,\"\")","v":""},{"$f":"IF(AND($B41=\"AZIONE_1\",$L41=4),'3 - SPECIE DA IMPIANTARE'!$I42,\"\")","v":""},null,{"$f":"IF('3 - SPECIE DA IMPIANTARE'!$G42=5,'3 - SPECIE DA IMPIANTARE'!$G42,\"\")","v":""},{"$f":"IF(AND($B41=\"AZIONE_1\",$O41=5),'3 - SPECIE DA IMPIANTARE'!$I42,\"\")","v":""},null,{"$f":"IF('3 - SPECIE DA IMPIANTARE'!$G42=6,'3 - SPECIE DA IMPIANTARE'!$G42,\"\")","v":""},{"$f":"IF(AND($B41=\"AZIONE_1\",$R41=6),'3 - SPECIE DA IMPIANTARE'!$I42,\"\")","v":""}]
[1,{"$f":"IF('3 - SPECIE DA IMPIANTARE'!$H43=\"AZIONE_1\",'3 - SPECIE DA IMPIANTARE'!$H43,\"\")","v":""},{"$f":"IF('3 - SPECIE DA IMPIANTARE'!$G43=1,'3 - SPECIE DA IMPIANTARE'!$G43,\"\")","v":""},{"$f":"IF(AND($B42=\"AZIONE_1\",C42=1),'3 - SPECIE DA IMPIANTARE'!$I43,\"\")","v":""},null,{"$f":"IF('3 - SPECIE DA IMPIANTARE'!$G43=2,'3 - SPECIE DA IMPIANTARE'!$G43,\"\")","v":""},{"$f":"IF(AND($B42=\"AZIONE_1\",F42=2),'3 - SPECIE DA IMPIANTARE'!$I43,\"\")","v":""},null,{"$f":"IF('3 - SPECIE DA IMPIANTARE'!$G43=3,'3 - SPECIE DA IMPIANTARE'!$G43,\"\")","v":""},{"$f":"IF(AND($B42=\"AZIONE_1\",$I42=3),'3 - SPECIE DA IMPIANTARE'!$I43,\"\")","v":""},null,{"$f":"IF('3 - SPECIE DA IMPIANTARE'!$G43=4,'3 - SPECIE DA IMPIANTARE'!$G43,\"\")","v":""},{"$f":"IF(AND($B42=\"AZIONE_1\",$L42=4),'3 - SPECIE DA IMPIANTARE'!$I43,\"\")","v":""},null,{"$f":"IF('3 - SPECIE DA IMPIANTARE'!$G43=5,'3 - SPECIE DA IMPIANTARE'!$G43,\"\")","v":""},{"$f":"IF(AND($B42=\"AZIONE_1\",$O42=5),'3 - SPECIE DA IMPIANTARE'!$I43,\"\")","v":""},null,{"$f":"IF('3 - SPECIE DA IMPIANTARE'!$G43=6,'3 - SPECIE DA IMPIANTARE'!$G43,\"\")","v":""},{"$f":"IF(AND($B42=\"AZIONE_1\",$R42=6),'3 - SPECIE DA IMPIANTARE'!$I43,\"\")","v":""}]
[1,{"$f":"IF('3 - SPECIE DA IMPIANTARE'!$H44=\"AZIONE_1\",'3 - SPECIE DA IMPIANTARE'!$H44,\"\")","v":""},{"$f":"IF('3 - SPECIE DA IMPIANTARE'!$G44=1,'3 - SPECIE DA IMPIANTARE'!$G44,\"\")","v":""},{"$f":"IF(AND($B43=\"AZIONE_1\",C43=1),'3 - SPECIE DA IMPIANTARE'!$I44,\"\")","v":""},null,{"$f":"IF('3 - SPECIE DA IMPIANTARE'!$G44=2,'3 - SPECIE DA IMPIANTARE'!$G44,\"\")","v":""},{"$f":"IF(AND($B43=\"AZIONE_1\",F43=2),'3 - SPECIE DA IMPIANTARE'!$I44,\"\")","v":""},null,{"$f":"IF('3 - SPECIE DA IMPIANTARE'!$G44=3,'3 - SPECIE DA IMPIANTARE'!$G44,\"\")","v":""},{"$f":"IF(AND($B43=\"AZIONE_1\",$I43=3),'3 - SPECIE DA IMPIANTARE'!$I44,\"\")","v":""},null,{"$f":"IF('3 - SPECIE DA IMPIANTARE'!$G44=4,'3 - SPECIE DA IMPIANTARE'!$G44,\"\")","v":""},{"$f":"IF(AND($B43=\"AZIONE_1\",$L43=4),'3 - SPECIE DA IMPIANTARE'!$I44,\"\")","v":""},null,{"$f":"IF('3 - SPECIE DA IMPIANTARE'!$G44=5,'3 - SPECIE DA IMPIANTARE'!$G44,\"\")","v":""},{"$f":"IF(AND($B43=\"AZIONE_1\",$O43=5),'3 - SPECIE DA IMPIANTARE'!$I44,\"\")","v":""},null,{"$f":"IF('3 - SPECIE DA IMPIANTARE'!$G44=6,'3 - SPECIE DA IMPIANTARE'!$G44,\"\")","v":""},{"$f":"IF(AND($B43=\"AZIONE_1\",$R43=6),'3 - SPECIE DA IMPIANTARE'!$I44,\"\")","v":""}]
[1,{"$f":"IF('3 - SPECIE DA IMPIANTARE'!$H45=\"AZIONE_1\",'3 - SPECIE DA IMPIANTARE'!$H45,\"\")","v":""},{"$f":"IF('3 - SPECIE DA IMPIANTARE'!$G45=1,'3 - SPECIE DA IMPIANTARE'!$G45,\"\")","v":""},{"$f":"IF(AND($B44=\"AZIONE_1\",C44=1),'3 - SPECIE DA IMPIANTARE'!$I45,\"\")","v":""},null,{"$f":"IF('3 - SPECIE DA IMPIANTARE'!$G45=2,'3 - SPECIE DA IMPIANTARE'!$G45,\"\")","v":""},{"$f":"IF(AND($B44=\"AZIONE_1\",F44=2),'3 - SPECIE DA IMPIANTARE'!$I45,\"\")","v":""},null,{"$f":"IF('3 - SPECIE DA IMPIANTARE'!$G45=3,'3 - SPECIE DA IMPIANTARE'!$G45,\"\")","v":""},{"$f":"IF(AND($B44=\"AZIONE_1\",$I44=3),'3 - SPECIE DA IMPIANTARE'!$I45,\"\")","v":""},null,{"$f":"IF('3 - SPECIE DA IMPIANTARE'!$G45=4,'3 - SPECIE DA IMPIANTARE'!$G45,\"\")","v":""},{"$f":"IF(AND($B44=\"AZIONE_1\",$L44=4),'3 - SPECIE DA IMPIANTARE'!$I45,\"\")","v":""},null,{"$f":"IF('3 - SPECIE DA IMPIANTARE'!$G45=5,'3 - SPECIE DA IMPIANTARE'!$G45,\"\")","v":""},{"$f":"IF(AND($B44=\"AZIONE_1\",$O44=5),'3 - SPECIE DA IMPIANTARE'!$I45,\"\")","v":""},null,{"$f":"IF('3 - SPECIE DA IMPIANTARE'!$G45=6,'3 - SPECIE DA IMPIANTARE'!$G45,\"\")","v":""},{"$f":"IF(AND($B44=\"AZIONE_1\",$R44=6),'3 - SPECIE DA IMPIANTARE'!$I45,\"\")","v":""}]
[1,{"$f":"IF('3 - SPECIE DA IMPIANTARE'!$H46=\"AZIONE_1\",'3 - SPECIE DA IMPIANTARE'!$H46,\"\")","v":""},{"$f":"IF('3 - SPECIE DA IMPIANTARE'!$G46=1,'3 - SPECIE DA IMPIANTARE'!$G46,\"\")","v":""},{"$f":"IF(AND($B45=\"AZIONE_1\",C45=1),'3 - SPECIE DA IMPIANTARE'!$I46,\"\")","v":""},null,{"$f":"IF('3 - SPECIE DA IMPIANTARE'!$G46=2,'3 - SPECIE DA IMPIANTARE'!$G46,\"\")","v":""},{"$f":"IF(AND($B45=\"AZIONE_1\",F45=2),'3 - SPECIE DA IMPIANTARE'!$I46,\"\")","v":""},null,{"$f":"IF('3 - SPECIE DA IMPIANTARE'!$G46=3,'3 - SPECIE DA IMPIANTARE'!$G46,\"\")","v":""},{"$f":"IF(AND($B45=\"AZIONE_1\",$I45=3),'3 - SPECIE DA IMPIANTARE'!$I46,\"\")","v":""},null,{"$f":"IF('3 - SPECIE DA IMPIANTARE'!$G46=4,'3 - SPECIE DA IMPIANTARE'!$G46,\"\")","v":""},{"$f":"IF(AND($B45=\"AZIONE_1\",$L45=4),'3 - SPECIE DA IMPIANTARE'!$I46,\"\")","v":""},null,{"$f":"IF('3 - SPECIE DA IMPIANTARE'!$G46=5,'3 - SPECIE DA IMPIANTARE'!$G46,\"\")","v":""},{"$f":"IF(AND($B45=\"AZIONE_1\",$O45=5),'3 - SPECIE DA IMPIANTARE'!$I46,\"\")","v":""},null,{"$f":"IF('3 - SPECIE DA IMPIANTARE'!$G46=6,'3 - SPECIE DA IMPIANTARE'!$G46,\"\")","v":""},{"$f":"IF(AND($B45=\"AZIONE_1\",$R45=6),'3 - SPECIE DA IMPIANTARE'!$I46,\"\")","v":""}]
[1,{"$f":"IF('3 - SPECIE DA IMPIANTARE'!$H47=\"AZIONE_1\",'3 - SPECIE DA IMPIANTARE'!$H47,\"\")","v":""},{"$f":"IF('3 - SPECIE DA IMPIANTARE'!$G47=1,'3 - SPECIE DA IMPIANTARE'!$G47,\"\")","v":""},{"$f":"IF(AND($B46=\"AZIONE_1\",C46=1),'3 - SPECIE DA IMPIANTARE'!$I47,\"\")","v":""},null,{"$f":"IF('3 - SPECIE DA IMPIANTARE'!$G47=2,'3 - SPECIE DA IMPIANTARE'!$G47,\"\")","v":""},{"$f":"IF(AND($B46=\"AZIONE_1\",F46=2),'3 - SPECIE DA IMPIANTARE'!$I47,\"\")","v":""},null,{"$f":"IF('3 - SPECIE DA IMPIANTARE'!$G47=3,'3 - SPECIE DA IMPIANTARE'!$G47,\"\")","v":""},{"$f":"IF(AND($B46=\"AZIONE_1\",$I46=3),'3 - SPECIE DA IMPIANTARE'!$I47,\"\")","v":""},null,{"$f":"IF('3 - SPECIE DA IMPIANTARE'!$G47=4,'3 - SPECIE DA IMPIANTARE'!$G47,\"\")","v":""},{"$f":"IF(AND($B46=\"AZIONE_1\",$L46=4),'3 - SPECIE DA IMPIANTARE'!$I47,\"\")","v":""},null,{"$f":"IF('3 - SPECIE DA IMPIANTARE'!$G47=5,'3 - SPECIE DA IMPIANTARE'!$G47,\"\")","v":""},{"$f":"IF(AND($B46=\"AZIONE_1\",$O46=5),'3 - SPECIE DA IMPIANTARE'!$I47,\"\")","v":""},null,{"$f":"IF('3 - SPECIE DA IMPIANTARE'!$G47=6,'3 - SPECIE DA IMPIANTARE'!$G47,\"\")","v":""},{"$f":"IF(AND($B46=\"AZIONE_1\",$R46=6),'3 - SPECIE DA IMPIANTARE'!$I47,\"\")","v":""}]
[1,{"$f":"IF('3 - SPECIE DA IMPIANTARE'!$H48=\"AZIONE_1\",'3 - SPECIE DA IMPIANTARE'!$H48,\"\")","v":""},{"$f":"IF('3 - SPECIE DA IMPIANTARE'!$G48=1,'3 - SPECIE DA IMPIANTARE'!$G48,\"\")","v":""},{"$f":"IF(AND($B47=\"AZIONE_1\",C47=1),'3 - SPECIE DA IMPIANTARE'!$I48,\"\")","v":""},null,{"$f":"IF('3 - SPECIE DA IMPIANTARE'!$G48=2,'3 - SPECIE DA IMPIANTARE'!$G48,\"\")","v":""},{"$f":"IF(AND($B47=\"AZIONE_1\",F47=2),'3 - SPECIE DA IMPIANTARE'!$I48,\"\")","v":""},null,{"$f":"IF('3 - SPECIE DA IMPIANTARE'!$G48=3,'3 - SPECIE DA IMPIANTARE'!$G48,\"\")","v":""},{"$f":"IF(AND($B47=\"AZIONE_1\",$I47=3),'3 - SPECIE DA IMPIANTARE'!$I48,\"\")","v":""},null,{"$f":"IF('3 - SPECIE DA IMPIANTARE'!$G48=4,'3 - SPECIE DA IMPIANTARE'!$G48,\"\")","v":""},{"$f":"IF(AND($B47=\"AZIONE_1\",$L47=4),'3 - SPECIE DA IMPIANTARE'!$I48,\"\")","v":""},null,{"$f":"IF('3 - SPECIE DA IMPIANTARE'!$G48=5,'3 - SPECIE DA IMPIANTARE'!$G48,\"\")","v":""},{"$f":"IF(AND($B47=\"AZIONE_1\",$O47=5),'3 - SPECIE DA IMPIANTARE'!$I48,\"\")","v":""},null,{"$f":"IF('3 - SPECIE DA IMPIANTARE'!$G48=6,'3 - SPECIE DA IMPIANTARE'!$G48,\"\")","v":""},{"$f":"IF(AND($B47=\"AZIONE_1\",$R47=6),'3 - SPECIE DA IMPIANTARE'!$I48,\"\")","v":""}]
[1,{"$f":"IF('3 - SPECIE DA IMPIANTARE'!$H49=\"AZIONE_1\",'3 - SPECIE DA IMPIANTARE'!$H49,\"\")","v":""},{"$f":"IF('3 - SPECIE DA IMPIANTARE'!$G49=1,'3 - SPECIE DA IMPIANTARE'!$G49,\"\")","v":""},{"$f":"IF(AND($B48=\"AZIONE_1\",C48=1),'3 - SPECIE DA IMPIANTARE'!$I49,\"\")","v":""},null,{"$f":"IF('3 - SPECIE DA IMPIANTARE'!$G49=2,'3 - SPECIE DA IMPIANTARE'!$G49,\"\")","v":""},{"$f":"IF(AND($B48=\"AZIONE_1\",F48=2),'3 - SPECIE DA IMPIANTARE'!$I49,\"\")","v":""},null,{"$f":"IF('3 - SPECIE DA IMPIANTARE'!$G49=3,'3 - SPECIE DA IMPIANTARE'!$G49,\"\")","v":""},{"$f":"IF(AND($B48=\"AZIONE_1\",$I48=3),'3 - SPECIE DA IMPIANTARE'!$I49,\"\")","v":""},null,{"$f":"IF('3 - SPECIE DA IMPIANTARE'!$G49=4,'3 - SPECIE DA IMPIANTARE'!$G49,\"\")","v":""},{"$f":"IF(AND($B48=\"AZIONE_1\",$L48=4),'3 - SPECIE DA IMPIANTARE'!$I49,\"\")","v":""},null,{"$f":"IF('3 - SPECIE DA IMPIANTARE'!$G49=5,'3 - SPECIE DA IMPIANTARE'!$G49,\"\")","v":""},{"$f":"IF(AND($B48=\"AZIONE_1\",$O48=5),'3 - SPECIE DA IMPIANTARE'!$I49,\"\")","v":""},null,{"$f":"IF('3 - SPECIE DA IMPIANTARE'!$G49=6,'3 - SPECIE DA IMPIANTARE'!$G49,\"\")","v":""},{"$f":"IF(AND($B48=\"AZIONE_1\",$R48=6),'3 - SPECIE DA IMPIANTARE'!$I49,\"\")","v":""}]
[1,{"$f":"IF('3 - SPECIE DA IMPIANTARE'!$H50=\"AZIONE_1\",'3 - SPECIE DA IMPIANTARE'!$H50,\"\")","v":""},{"$f":"IF('3 - SPECIE DA IMPIANTARE'!$G50=1,'3 - SPECIE DA IMPIANTARE'!$G50,\"\")","v":""},{"$f":"IF(AND($B49=\"AZIONE_1\",C49=1),'3 - SPECIE DA IMPIANTARE'!$I50,\"\")","v":""},null,{"$f":"IF('3 - SPECIE DA IMPIANTARE'!$G50=2,'3 - SPECIE DA IMPIANTARE'!$G50,\"\")","v":""},{"$f":"IF(AND($B49=\"AZIONE_1\",F49=2),'3 - SPECIE DA IMPIANTARE'!$I50,\"\")","v":""},null,{"$f":"IF('3 - SPECIE DA IMPIANTARE'!$G50=3,'3 - SPECIE DA IMPIANTARE'!$G50,\"\")","v":""},{"$f":"IF(AND($B49=\"AZIONE_1\",$I49=3),'3 - SPECIE DA IMPIANTARE'!$I50,\"\")","v":""},null,{"$f":"IF('3 - SPECIE DA IMPIANTARE'!$G50=4,'3 - SPECIE DA IMPIANTARE'!$G50,\"\")","v":""},{"$f":"IF(AND($B49=\"AZIONE_1\",$L49=4),'3 - SPECIE DA IMPIANTARE'!$I50,\"\")","v":""},null,{"$f":"IF('3 - SPECIE DA IMPIANTARE'!$G50=5,'3 - SPECIE DA IMPIANTARE'!$G50,\"\")","v":""},{"$f":"IF(AND($B49=\"AZIONE_1\",$O49=5),'3 - SPECIE DA IMPIANTARE'!$I50,\"\")","v":""},null,{"$f":"IF('3 - SPECIE DA IMPIANTARE'!$G50=6,'3 - SPECIE DA IMPIANTARE'!$G50,\"\")","v":""},{"$f":"IF(AND($B49=\"AZIONE_1\",$R49=6),'3 - SPECIE DA IMPIANTARE'!$I50,\"\")","v":""}]
[1,{"$f":"IF('3 - SPECIE DA IMPIANTARE'!$H51=\"AZIONE_1\",'3 - SPECIE DA IMPIANTARE'!$H51,\"\")","v":""},{"$f":"IF('3 - SPECIE DA IMPIANTARE'!$G51=1,'3 - SPECIE DA IMPIANTARE'!$G51,\"\")","v":""},{"$f":"IF(AND($B50=\"AZIONE_1\",C50=1),'3 - SPECIE DA IMPIANTARE'!$I51,\"\")","v":""},null,{"$f":"IF('3 - SPECIE DA IMPIANTARE'!$G51=2,'3 - SPECIE DA IMPIANTARE'!$G51,\"\")","v":""},{"$f":"IF(AND($B50=\"AZIONE_1\",F50=2),'3 - SPECIE DA IMPIANTARE'!$I51,\"\")","v":""},null,{"$f":"IF('3 - SPECIE DA IMPIANTARE'!$G51=3,'3 - SPECIE DA IMPIANTARE'!$G51,\"\")","v":""},{"$f":"IF(AND($B50=\"AZIONE_1\",$I50=3),'3 - SPECIE DA IMPIANTARE'!$I51,\"\")","v":""},null,{"$f":"IF('3 - SPECIE DA IMPIANTARE'!$G51=4,'3 - SPECIE DA IMPIANTARE'!$G51,\"\")","v":""},{"$f":"IF(AND($B50=\"AZIONE_1\",$L50=4),'3 - SPECIE DA IMPIANTARE'!$I51,\"\")","v":""},null,{"$f":"IF('3 - SPECIE DA IMPIANTARE'!$G51=5,'3 - SPECIE DA IMPIANTARE'!$G51,\"\")","v":""},{"$f":"IF(AND($B50=\"AZIONE_1\",$O50=5),'3 - SPECIE DA IMPIANTARE'!$I51,\"\")","v":""},null,{"$f":"IF('3 - SPECIE DA IMPIANTARE'!$G51=6,'3 - SPECIE DA IMPIANTARE'!$G51,\"\")","v":""},{"$f":"IF(AND($B50=\"AZIONE_1\",$R50=6),'3 - SPECIE DA IMPIANTARE'!$I51,\"\")","v":""}]
[1,{"$f":"IF('3 - SPECIE DA IMPIANTARE'!$H52=\"AZIONE_1\",'3 - SPECIE DA IMPIANTARE'!$H52,\"\")","v":""},{"$f":"IF('3 - SPECIE DA IMPIANTARE'!$G52=1,'3 - SPECIE DA IMPIANTARE'!$G52,\"\")","v":""},{"$f":"IF(AND($B51=\"AZIONE_1\",C51=1),'3 - SPECIE DA IMPIANTARE'!$I52,\"\")","v":""},null,{"$f":"IF('3 - SPECIE DA IMPIANTARE'!$G52=2,'3 - SPECIE DA IMPIANTARE'!$G52,\"\")","v":""},{"$f":"IF(AND($B51=\"AZIONE_1\",F51=2),'3 - SPECIE DA IMPIANTARE'!$I52,\"\")","v":""},null,{"$f":"IF('3 - SPECIE DA IMPIANTARE'!$G52=3,'3 - SPECIE DA IMPIANTARE'!$G52,\"\")","v":""},{"$f":"IF(AND($B51=\"AZIONE_1\",$I51=3),'3 - SPECIE DA IMPIANTARE'!$I52,\"\")","v":""},null,{"$f":"IF('3 - SPECIE DA IMPIANTARE'!$G52=4,'3 - SPECIE DA IMPIANTARE'!$G52,\"\")","v":""},{"$f":"IF(AND($B51=\"AZIONE_1\",$L51=4),'3 - SPECIE DA IMPIANTARE'!$I52,\"\")","v":""},null,{"$f":"IF('3 - SPECIE DA IMPIANTARE'!$G52=5,'3 - SPECIE DA IMPIANTARE'!$G52,\"\")","v":""},{"$f":"IF(AND($B51=\"AZIONE_1\",$O51=5),'3 - SPECIE DA IMPIANTARE'!$I52,\"\")","v":""},null,{"$f":"IF('3 - SPECIE DA IMPIANTARE'!$G52=6,'3 - SPECIE DA IMPIANTARE'!$G52,\"\")","v":""},{"$f":"IF(AND($B51=\"AZIONE_1\",$R51=6),'3 - SPECIE DA IMPIANTARE'!$I52,\"\")","v":""}]
[1,{"$f":"IF('3 - SPECIE DA IMPIANTARE'!$H53=\"AZIONE_1\",'3 - SPECIE DA IMPIANTARE'!$H53,\"\")","v":""},{"$f":"IF('3 - SPECIE DA IMPIANTARE'!$G53=1,'3 - SPECIE DA IMPIANTARE'!$G53,\"\")","v":""},{"$f":"IF(AND($B52=\"AZIONE_1\",C52=1),'3 - SPECIE DA IMPIANTARE'!$I53,\"\")","v":""},null,{"$f":"IF('3 - SPECIE DA IMPIANTARE'!$G53=2,'3 - SPECIE DA IMPIANTARE'!$G53,\"\")","v":""},{"$f":"IF(AND($B52=\"AZIONE_1\",F52=2),'3 - SPECIE DA IMPIANTARE'!$I53,\"\")","v":""},null,{"$f":"IF('3 - SPECIE DA IMPIANTARE'!$G53=3,'3 - SPECIE DA IMPIANTARE'!$G53,\"\")","v":""},{"$f":"IF(AND($B52=\"AZIONE_1\",$I52=3),'3 - SPECIE DA IMPIANTARE'!$I53,\"\")","v":""},null,{"$f":"IF('3 - SPECIE DA IMPIANTARE'!$G53=4,'3 - SPECIE DA IMPIANTARE'!$G53,\"\")","v":""},{"$f":"IF(AND($B52=\"AZIONE_1\",$L52=4),'3 - SPECIE DA IMPIANTARE'!$I53,\"\")","v":""},null,{"$f":"IF('3 - SPECIE DA IMPIANTARE'!$G53=5,'3 - SPECIE DA IMPIANTARE'!$G53,\"\")","v":""},{"$f":"IF(AND($B52=\"AZIONE_1\",$O52=5),'3 - SPECIE DA IMPIANTARE'!$I53,\"\")","v":""},null,{"$f":"IF('3 - SPECIE DA IMPIANTARE'!$G53=6,'3 - SPECIE DA IMPIANTARE'!$G53,\"\")","v":""},{"$f":"IF(AND($B52=\"AZIONE_1\",$R52=6),'3 - SPECIE DA IMPIANTARE'!$I53,\"\")","v":""}]
[1,{"$f":"IF('3 - SPECIE DA IMPIANTARE'!$H54=\"AZIONE_1\",'3 - SPECIE DA IMPIANTARE'!$H54,\"\")","v":""},{"$f":"IF('3 - SPECIE DA IMPIANTARE'!$G54=1,'3 - SPECIE DA IMPIANTARE'!$G54,\"\")","v":""},{"$f":"IF(AND($B53=\"AZIONE_1\",C53=1),'3 - SPECIE DA IMPIANTARE'!$I54,\"\")","v":""},null,{"$f":"IF('3 - SPECIE DA IMPIANTARE'!$G54=2,'3 - SPECIE DA IMPIANTARE'!$G54,\"\")","v":""},{"$f":"IF(AND($B53=\"AZIONE_1\",F53=2),'3 - SPECIE DA IMPIANTARE'!$I54,\"\")","v":""},null,{"$f":"IF('3 - SPECIE DA IMPIANTARE'!$G54=3,'3 - SPECIE DA IMPIANTARE'!$G54,\"\")","v":""},{"$f":"IF(AND($B53=\"AZIONE_1\",$I53=3),'3 - SPECIE DA IMPIANTARE'!$I54,\"\")","v":""},null,{"$f":"IF('3 - SPECIE DA IMPIANTARE'!$G54=4,'3 - SPECIE DA IMPIANTARE'!$G54,\"\")","v":""},{"$f":"IF(AND($B53=\"AZIONE_1\",$L53=4),'3 - SPECIE DA IMPIANTARE'!$I54,\"\")","v":""},null,{"$f":"IF('3 - SPECIE DA IMPIANTARE'!$G54=5,'3 - SPECIE DA IMPIANTARE'!$G54,\"\")","v":""},{"$f":"IF(AND($B53=\"AZIONE_1\",$O53=5),'3 - SPECIE DA IMPIANTARE'!$I54,\"\")","v":""},null,{"$f":"IF('3 - SPECIE DA IMPIANTARE'!$G54=6,'3 - SPECIE DA IMPIANTARE'!$G54,\"\")","v":""},{"$f":"IF(AND($B53=\"AZIONE_1\",$R53=6),'3 - SPECIE DA IMPIANTARE'!$I54,\"\")","v":""}]
[1,{"$f":"IF('3 - SPECIE DA IMPIANTARE'!$H55=\"AZIONE_1\",'3 - SPECIE DA IMPIANTARE'!$H55,\"\")","v":""},{"$f":"IF('3 - SPECIE DA IMPIANTARE'!$G55=1,'3 - SPECIE DA IMPIANTARE'!$G55,\"\")","v":""},{"$f":"IF(AND($B54=\"AZIONE_1\",C54=1),'3 - SPECIE DA IMPIANTARE'!$I55,\"\")","v":""},null,{"$f":"IF('3 - SPECIE DA IMPIANTARE'!$G55=2,'3 - SPECIE DA IMPIANTARE'!$G55,\"\")","v":""},{"$f":"IF(AND($B54=\"AZIONE_1\",F54=2),'3 - SPECIE DA IMPIANTARE'!$I55,\"\")","v":""},null,{"$f":"IF('3 - SPECIE DA IMPIANTARE'!$G55=3,'3 - SPECIE DA IMPIANTARE'!$G55,\"\")","v":""},{"$f":"IF(AND($B54=\"AZIONE_1\",$I54=3),'3 - SPECIE DA IMPIANTARE'!$I55,\"\")","v":""},null,{"$f":"IF('3 - SPECIE DA IMPIANTARE'!$G55=4,'3 - SPECIE DA IMPIANTARE'!$G55,\"\")","v":""},{"$f":"IF(AND($B54=\"AZIONE_1\",$L54=4),'3 - SPECIE DA IMPIANTARE'!$I55,\"\")","v":""},null,{"$f":"IF('3 - SPECIE DA IMPIANTARE'!$G55=5,'3 - SPECIE DA IMPIANTARE'!$G55,\"\")","v":""},{"$f":"IF(AND($B54=\"AZIONE_1\",$O54=5),'3 - SPECIE DA IMPIANTARE'!$I55,\"\")","v":""},null,{"$f":"IF('3 - SPECIE DA IMPIANTARE'!$G55=6,'3 - SPECIE DA IMPIANTARE'!$G55,\"\")","v":""},{"$f":"IF(AND($B54=\"AZIONE_1\",$R54=6),'3 - SPECIE DA IMPIANTARE'!$I55,\"\")","v":""}]
[1,{"$f":"IF('3 - SPECIE DA IMPIANTARE'!$H56=\"AZIONE_1\",'3 - SPECIE DA IMPIANTARE'!$H56,\"\")","v":""},{"$f":"IF('3 - SPECIE DA IMPIANTARE'!$G56=1,'3 - SPECIE DA IMPIANTARE'!$G56,\"\")","v":""},{"$f":"IF(AND($B55=\"AZIONE_1\",C55=1),'3 - SPECIE DA IMPIANTARE'!$I56,\"\")","v":""},null,{"$f":"IF('3 - SPECIE DA IMPIANTARE'!$G56=2,'3 - SPECIE DA IMPIANTARE'!$G56,\"\")","v":""},{"$f":"IF(AND($B55=\"AZIONE_1\",F55=2),'3 - SPECIE DA IMPIANTARE'!$I56,\"\")","v":""},null,{"$f":"IF('3 - SPECIE DA IMPIANTARE'!$G56=3,'3 - SPECIE DA IMPIANTARE'!$G56,\"\")","v":""},{"$f":"IF(AND($B55=\"AZIONE_1\",$I55=3),'3 - SPECIE DA IMPIANTARE'!$I56,\"\")","v":""},null,{"$f":"IF('3 - SPECIE DA IMPIANTARE'!$G56=4,'3 - SPECIE DA IMPIANTARE'!$G56,\"\")","v":""},{"$f":"IF(AND($B55=\"AZIONE_1\",$L55=4),'3 - SPECIE DA IMPIANTARE'!$I56,\"\")","v":""},null,{"$f":"IF('3 - SPECIE DA IMPIANTARE'!$G56=5,'3 - SPECIE DA IMPIANTARE'!$G56,\"\")","v":""},{"$f":"IF(AND($B55=\"AZIONE_1\",$O55=5),'3 - SPECIE DA IMPIANTARE'!$I56,\"\")","v":""},null,{"$f":"IF('3 - SPECIE DA IMPIANTARE'!$G56=6,'3 - SPECIE DA IMPIANTARE'!$G56,\"\")","v":""},{"$f":"IF(AND($B55=\"AZIONE_1\",$R55=6),'3 - SPECIE DA IMPIANTARE'!$I56,\"\")","v":""}]
[1,{"$f":"IF('3 - SPECIE DA IMPIANTARE'!$H57=\"AZIONE_1\",'3 - SPECIE DA IMPIANTARE'!$H57,\"\")","v":""},{"$f":"IF('3 - SPECIE DA IMPIANTARE'!$G57=1,'3 - SPECIE DA IMPIANTARE'!$G57,\"\")","v":""},{"$f":"IF(AND($B56=\"AZIONE_1\",C56=1),'3 - SPECIE DA IMPIANTARE'!$I57,\"\")","v":""},null,{"$f":"IF('3 - SPECIE DA IMPIANTARE'!$G57=2,'3 - SPECIE DA IMPIANTARE'!$G57,\"\")","v":""},{"$f":"IF(AND($B56=\"AZIONE_1\",F56=2),'3 - SPECIE DA IMPIANTARE'!$I57,\"\")","v":""},null,{"$f":"IF('3 - SPECIE DA IMPIANTARE'!$G57=3,'3 - SPECIE DA IMPIANTARE'!$G57,\"\")","v":""},{"$f":"IF(AND($B56=\"AZIONE_1\",$I56=3),'3 - SPECIE DA IMPIANTARE'!$I57,\"\")","v":""},null,{"$f":"IF('3 - SPECIE DA IMPIANTARE'!$G57=4,'3 - SPECIE DA IMPIANTARE'!$G57,\"\")","v":""},{"$f":"IF(AND($B56=\"AZIONE_1\",$L56=4),'3 - SPECIE DA IMPIANTARE'!$I57,\"\")","v":""},null,{"$f":"IF('3 - SPECIE DA IMPIANTARE'!$G57=5,'3 - SPECIE DA IMPIANTARE'!$G57,\"\")","v":""},{"$f":"IF(AND($B56=\"AZIONE_1\",$O56=5),'3 - SPECIE DA IMPIANTARE'!$I57,\"\")","v":""},null,{"$f":"IF('3 - SPECIE DA IMPIANTARE'!$G57=6,'3 - SPECIE DA IMPIANTARE'!$G57,\"\")","v":""},{"$f":"IF(AND($B56=\"AZIONE_1\",$R56=6),'3 - SPECIE DA IMPIANTARE'!$I57,\"\")","v":""}]
[1,{"$f":"IF('3 - SPECIE DA IMPIANTARE'!$H58=\"AZIONE_1\",'3 - SPECIE DA IMPIANTARE'!$H58,\"\")","v":""},{"$f":"IF('3 - SPECIE DA IMPIANTARE'!$G58=1,'3 - SPECIE DA IMPIANTARE'!$G58,\"\")","v":""},{"$f":"IF(AND($B57=\"AZIONE_1\",C57=1),'3 - SPECIE DA IMPIANTARE'!$I58,\"\")","v":""},null,{"$f":"IF('3 - SPECIE DA IMPIANTARE'!$G58=2,'3 - SPECIE DA IMPIANTARE'!$G58,\"\")","v":""},{"$f":"IF(AND($B57=\"AZIONE_1\",F57=2),'3 - SPECIE DA IMPIANTARE'!$I58,\"\")","v":""},null,{"$f":"IF('3 - SPECIE DA IMPIANTARE'!$G58=3,'3 - SPECIE DA IMPIANTARE'!$G58,\"\")","v":""},{"$f":"IF(AND($B57=\"AZIONE_1\",$I57=3),'3 - SPECIE DA IMPIANTARE'!$I58,\"\")","v":""},null,{"$f":"IF('3 - SPECIE DA IMPIANTARE'!$G58=4,'3 - SPECIE DA IMPIANTARE'!$G58,\"\")","v":""},{"$f":"IF(AND($B57=\"AZIONE_1\",$L57=4),'3 - SPECIE DA IMPIANTARE'!$I58,\"\")","v":""},null,{"$f":"IF('3 - SPECIE DA IMPIANTARE'!$G58=5,'3 - SPECIE DA IMPIANTARE'!$G58,\"\")","v":""},{"$f":"IF(AND($B57=\"AZIONE_1\",$O57=5),'3 - SPECIE DA IMPIANTARE'!$I58,\"\")","v":""},null,{"$f":"IF('3 - SPECIE DA IMPIANTARE'!$G58=6,'3 - SPECIE DA IMPIANTARE'!$G58,\"\")","v":""},{"$f":"IF(AND($B57=\"AZIONE_1\",$R57=6),'3 - SPECIE DA IMPIANTARE'!$I58,\"\")","v":""}]
[1,{"$f":"IF('3 - SPECIE DA IMPIANTARE'!$H59=\"AZIONE_1\",'3 - SPECIE DA IMPIANTARE'!$H59,\"\")","v":""},{"$f":"IF('3 - SPECIE DA IMPIANTARE'!$G59=1,'3 - SPECIE DA IMPIANTARE'!$G59,\"\")","v":""},{"$f":"IF(AND($B58=\"AZIONE_1\",C58=1),'3 - SPECIE DA IMPIANTARE'!$I59,\"\")","v":""},null,{"$f":"IF('3 - SPECIE DA IMPIANTARE'!$G59=2,'3 - SPECIE DA IMPIANTARE'!$G59,\"\")","v":""},{"$f":"IF(AND($B58=\"AZIONE_1\",F58=2),'3 - SPECIE DA IMPIANTARE'!$I59,\"\")","v":""},null,{"$f":"IF('3 - SPECIE DA IMPIANTARE'!$G59=3,'3 - SPECIE DA IMPIANTARE'!$G59,\"\")","v":""},{"$f":"IF(AND($B58=\"AZIONE_1\",$I58=3),'3 - SPECIE DA IMPIANTARE'!$I59,\"\")","v":""},null,{"$f":"IF('3 - SPECIE DA IMPIANTARE'!$G59=4,'3 - SPECIE DA IMPIANTARE'!$G59,\"\")","v":""},{"$f":"IF(AND($B58=\"AZIONE_1\",$L58=4),'3 - SPECIE DA IMPIANTARE'!$I59,\"\")","v":""},null,{"$f":"IF('3 - SPECIE DA IMPIANTARE'!$G59=5,'3 - SPECIE DA IMPIANTARE'!$G59,\"\")","v":""},{"$f":"IF(AND($B58=\"AZIONE_1\",$O58=5),'3 - SPECIE DA IMPIANTARE'!$I59,\"\")","v":""},null,{"$f":"IF('3 - SPECIE DA IMPIANTARE'!$G59=6,'3 - SPECIE DA IMPIANTARE'!$G59,\"\")","v":""},{"$f":"IF(AND($B58=\"AZIONE_1\",$R58=6),'3 - SPECIE DA IMPIANTARE'!$I59,\"\")","v":""}]
[1,{"$f":"IF('3 - SPECIE DA IMPIANTARE'!$H60=\"AZIONE_1\",'3 - SPECIE DA IMPIANTARE'!$H60,\"\")","v":""},{"$f":"IF('3 - SPECIE DA IMPIANTARE'!$G60=1,'3 - SPECIE DA IMPIANTARE'!$G60,\"\")","v":""},{"$f":"IF(AND($B59=\"AZIONE_1\",C59=1),'3 - SPECIE DA IMPIANTARE'!$I60,\"\")","v":""},null,{"$f":"IF('3 - SPECIE DA IMPIANTARE'!$G60=2,'3 - SPECIE DA IMPIANTARE'!$G60,\"\")","v":""},{"$f":"IF(AND($B59=\"AZIONE_1\",F59=2),'3 - SPECIE DA IMPIANTARE'!$I60,\"\")","v":""},null,{"$f":"IF('3 - SPECIE DA IMPIANTARE'!$G60=3,'3 - SPECIE DA IMPIANTARE'!$G60,\"\")","v":""},{"$f":"IF(AND($B59=\"AZIONE_1\",$I59=3),'3 - SPECIE DA IMPIANTARE'!$I60,\"\")","v":""},null,{"$f":"IF('3 - SPECIE DA IMPIANTARE'!$G60=4,'3 - SPECIE DA IMPIANTARE'!$G60,\"\")","v":""},{"$f":"IF(AND($B59=\"AZIONE_1\",$L59=4),'3 - SPECIE DA IMPIANTARE'!$I60,\"\")","v":""},null,{"$f":"IF('3 - SPECIE DA IMPIANTARE'!$G60=5,'3 - SPECIE DA IMPIANTARE'!$G60,\"\")","v":""},{"$f":"IF(AND($B59=\"AZIONE_1\",$O59=5),'3 - SPECIE DA IMPIANTARE'!$I60,\"\")","v":""},null,{"$f":"IF('3 - SPECIE DA IMPIANTARE'!$G60=6,'3 - SPECIE DA IMPIANTARE'!$G60,\"\")","v":""},{"$f":"IF(AND($B59=\"AZIONE_1\",$R59=6),'3 - SPECIE DA IMPIANTARE'!$I60,\"\")","v":""}]
[1,{"$f":"IF('3 - SPECIE DA IMPIANTARE'!$H61=\"AZIONE_1\",'3 - SPECIE DA IMPIANTARE'!$H61,\"\")","v":""},{"$f":"IF('3 - SPECIE DA IMPIANTARE'!$G61=1,'3 - SPECIE DA IMPIANTARE'!$G61,\"\")","v":""},{"$f":"IF(AND($B60=\"AZIONE_1\",C60=1),'3 - SPECIE DA IMPIANTARE'!$I61,\"\")","v":""},null,{"$f":"IF('3 - SPECIE DA IMPIANTARE'!$G61=2,'3 - SPECIE DA IMPIANTARE'!$G61,\"\")","v":""},{"$f":"IF(AND($B60=\"AZIONE_1\",F60=2),'3 - SPECIE DA IMPIANTARE'!$I61,\"\")","v":""},null,{"$f":"IF('3 - SPECIE DA IMPIANTARE'!$G61=3,'3 - SPECIE DA IMPIANTARE'!$G61,\"\")","v":""},{"$f":"IF(AND($B60=\"AZIONE_1\",$I60=3),'3 - SPECIE DA IMPIANTARE'!$I61,\"\")","v":""},null,{"$f":"IF('3 - SPECIE DA IMPIANTARE'!$G61=4,'3 - SPECIE DA IMPIANTARE'!$G61,\"\")","v":""},{"$f":"IF(AND($B60=\"AZIONE_1\",$L60=4),'3 - SPECIE DA IMPIANTARE'!$I61,\"\")","v":""},null,{"$f":"IF('3 - SPECIE DA IMPIANTARE'!$G61=5,'3 - SPECIE DA IMPIANTARE'!$G61,\"\")","v":""},{"$f":"IF(AND($B60=\"AZIONE_1\",$O60=5),'3 - SPECIE DA IMPIANTARE'!$I61,\"\")","v":""},null,{"$f":"IF('3 - SPECIE DA IMPIANTARE'!$G61=6,'3 - SPECIE DA IMPIANTARE'!$G61,\"\")","v":""},{"$f":"IF(AND($B60=\"AZIONE_1\",$R60=6),'3 - SPECIE DA IMPIANTARE'!$I61,\"\")","v":""}]
[1,{"$f":"IF('3 - SPECIE DA IMPIANTARE'!$H62=\"AZIONE_1\",'3 - SPECIE DA IMPIANTARE'!$H62,\"\")","v":""},{"$f":"IF('3 - SPECIE DA IMPIANTARE'!$G62=1,'3 - SPECIE DA IMPIANTARE'!$G62,\"\")","v":""},{"$f":"IF(AND($B61=\"AZIONE_1\",C61=1),'3 - SPECIE DA IMPIANTARE'!$I62,\"\")","v":""},null,{"$f":"IF('3 - SPECIE DA IMPIANTARE'!$G62=2,'3 - SPECIE DA IMPIANTARE'!$G62,\"\")","v":""},{"$f":"IF(AND($B61=\"AZIONE_1\",F61=2),'3 - SPECIE DA IMPIANTARE'!$I62,\"\")","v":""},null,{"$f":"IF('3 - SPECIE DA IMPIANTARE'!$G62=3,'3 - SPECIE DA IMPIANTARE'!$G62,\"\")","v":""},{"$f":"IF(AND($B61=\"AZIONE_1\",$I61=3),'3 - SPECIE DA IMPIANTARE'!$I62,\"\")","v":""},null,{"$f":"IF('3 - SPECIE DA IMPIANTARE'!$G62=4,'3 - SPECIE DA IMPIANTARE'!$G62,\"\")","v":""},{"$f":"IF(AND($B61=\"AZIONE_1\",$L61=4),'3 - SPECIE DA IMPIANTARE'!$I62,\"\")","v":""},null,{"$f":"IF('3 - SPECIE DA IMPIANTARE'!$G62=5,'3 - SPECIE DA IMPIANTARE'!$G62,\"\")","v":""},{"$f":"IF(AND($B61=\"AZIONE_1\",$O61=5),'3 - SPECIE DA IMPIANTARE'!$I62,\"\")","v":""},null,{"$f":"IF('3 - SPECIE DA IMPIANTARE'!$G62=6,'3 - SPECIE DA IMPIANTARE'!$G62,\"\")","v":""},{"$f":"IF(AND($B61=\"AZIONE_1\",$R61=6),'3 - SPECIE DA IMPIANTARE'!$I62,\"\")","v":""}]
[1,{"$f":"IF('3 - SPECIE DA IMPIANTARE'!$H63=\"AZIONE_1\",'3 - SPECIE DA IMPIANTARE'!$H63,\"\")","v":""},{"$f":"IF('3 - SPECIE DA IMPIANTARE'!$G63=1,'3 - SPECIE DA IMPIANTARE'!$G63,\"\")","v":""},{"$f":"IF(AND($B62=\"AZIONE_1\",C62=1),'3 - SPECIE DA IMPIANTARE'!$I63,\"\")","v":""},null,{"$f":"IF('3 - SPECIE DA IMPIANTARE'!$G63=2,'3 - SPECIE DA IMPIANTARE'!$G63,\"\")","v":""},{"$f":"IF(AND($B62=\"AZIONE_1\",F62=2),'3 - SPECIE DA IMPIANTARE'!$I63,\"\")","v":""},null,{"$f":"IF('3 - SPECIE DA IMPIANTARE'!$G63=3,'3 - SPECIE DA IMPIANTARE'!$G63,\"\")","v":""},{"$f":"IF(AND($B62=\"AZIONE_1\",$I62=3),'3 - SPECIE DA IMPIANTARE'!$I63,\"\")","v":""},null,{"$f":"IF('3 - SPECIE DA IMPIANTARE'!$G63=4,'3 - SPECIE DA IMPIANTARE'!$G63,\"\")","v":""},{"$f":"IF(AND($B62=\"AZIONE_1\",$L62=4),'3 - SPECIE DA IMPIANTARE'!$I63,\"\")","v":""},null,{"$f":"IF('3 - SPECIE DA IMPIANTARE'!$G63=5,'3 - SPECIE DA IMPIANTARE'!$G63,\"\")","v":""},{"$f":"IF(AND($B62=\"AZIONE_1\",$O62=5),'3 - SPECIE DA IMPIANTARE'!$I63,\"\")","v":""},null,{"$f":"IF('3 - SPECIE DA IMPIANTARE'!$G63=6,'3 - SPECIE DA IMPIANTARE'!$G63,\"\")","v":""},{"$f":"IF(AND($B62=\"AZIONE_1\",$R62=6),'3 - SPECIE DA IMPIANTARE'!$I63,\"\")","v":""}]
[1,{"$f":"IF('3 - SPECIE DA IMPIANTARE'!$H64=\"AZIONE_1\",'3 - SPECIE DA IMPIANTARE'!$H64,\"\")","v":""},{"$f":"IF('3 - SPECIE DA IMPIANTARE'!$G64=1,'3 - SPECIE DA IMPIANTARE'!$G64,\"\")","v":""},{"$f":"IF(AND($B63=\"AZIONE_1\",C63=1),'3 - SPECIE DA IMPIANTARE'!$I64,\"\")","v":""},null,{"$f":"IF('3 - SPECIE DA IMPIANTARE'!$G64=2,'3 - SPECIE DA IMPIANTARE'!$G64,\"\")","v":""},{"$f":"IF(AND($B63=\"AZIONE_1\",F63=2),'3 - SPECIE DA IMPIANTARE'!$I64,\"\")","v":""},null,{"$f":"IF('3 - SPECIE DA IMPIANTARE'!$G64=3,'3 - SPECIE DA IMPIANTARE'!$G64,\"\")","v":""},{"$f":"IF(AND($B63=\"AZIONE_1\",$I63=3),'3 - SPECIE DA IMPIANTARE'!$I64,\"\")","v":""},null,{"$f":"IF('3 - SPECIE DA IMPIANTARE'!$G64=4,'3 - SPECIE DA IMPIANTARE'!$G64,\"\")","v":""},{"$f":"IF(AND($B63=\"AZIONE_1\",$L63=4),'3 - SPECIE DA IMPIANTARE'!$I64,\"\")","v":""},null,{"$f":"IF('3 - SPECIE DA IMPIANTARE'!$G64=5,'3 - SPECIE DA IMPIANTARE'!$G64,\"\")","v":""},{"$f":"IF(AND($B63=\"AZIONE_1\",$O63=5),'3 - SPECIE DA IMPIANTARE'!$I64,\"\")","v":""},null,{"$f":"IF('3 - SPECIE DA IMPIANTARE'!$G64=6,'3 - SPECIE DA IMPIANTARE'!$G64,\"\")","v":""},{"$f":"IF(AND($B63=\"AZIONE_1\",$R63=6),'3 - SPECIE DA IMPIANTARE'!$I64,\"\")","v":""}]
[1,{"$f":"IF('3 - SPECIE DA IMPIANTARE'!$H65=\"AZIONE_1\",'3 - SPECIE DA IMPIANTARE'!$H65,\"\")","v":""},{"$f":"IF('3 - SPECIE DA IMPIANTARE'!$G65=1,'3 - SPECIE DA IMPIANTARE'!$G65,\"\")","v":""},{"$f":"IF(AND($B64=\"AZIONE_1\",C64=1),'3 - SPECIE DA IMPIANTARE'!$I65,\"\")","v":""},null,{"$f":"IF('3 - SPECIE DA IMPIANTARE'!$G65=2,'3 - SPECIE DA IMPIANTARE'!$G65,\"\")","v":""},{"$f":"IF(AND($B64=\"AZIONE_1\",F64=2),'3 - SPECIE DA IMPIANTARE'!$I65,\"\")","v":""},null,{"$f":"IF('3 - SPECIE DA IMPIANTARE'!$G65=3,'3 - SPECIE DA IMPIANTARE'!$G65,\"\")","v":""},{"$f":"IF(AND($B64=\"AZIONE_1\",$I64=3),'3 - SPECIE DA IMPIANTARE'!$I65,\"\")","v":""},null,{"$f":"IF('3 - SPECIE DA IMPIANTARE'!$G65=4,'3 - SPECIE DA IMPIANTARE'!$G65,\"\")","v":""},{"$f":"IF(AND($B64=\"AZIONE_1\",$L64=4),'3 - SPECIE DA IMPIANTARE'!$I65,\"\")","v":""},null,{"$f":"IF('3 - SPECIE DA IMPIANTARE'!$G65=5,'3 - SPECIE DA IMPIANTARE'!$G65,\"\")","v":""},{"$f":"IF(AND($B64=\"AZIONE_1\",$O64=5),'3 - SPECIE DA IMPIANTARE'!$I65,\"\")","v":""},null,{"$f":"IF('3 - SPECIE DA IMPIANTARE'!$G65=6,'3 - SPECIE DA IMPIANTARE'!$G65,\"\")","v":""},{"$f":"IF(AND($B64=\"AZIONE_1\",$R64=6),'3 - SPECIE DA IMPIANTARE'!$I65,\"\")","v":""}]
[1,{"$f":"IF('3 - SPECIE DA IMPIANTARE'!$H66=\"AZIONE_1\",'3 - SPECIE DA IMPIANTARE'!$H66,\"\")","v":""},{"$f":"IF('3 - SPECIE DA IMPIANTARE'!$G66=1,'3 - SPECIE DA IMPIANTARE'!$G66,\"\")","v":""},{"$f":"IF(AND($B65=\"AZIONE_1\",C65=1),'3 - SPECIE DA IMPIANTARE'!$I66,\"\")","v":""},null,{"$f":"IF('3 - SPECIE DA IMPIANTARE'!$G66=2,'3 - SPECIE DA IMPIANTARE'!$G66,\"\")","v":""},{"$f":"IF(AND($B65=\"AZIONE_1\",F65=2),'3 - SPECIE DA IMPIANTARE'!$I66,\"\")","v":""},null,{"$f":"IF('3 - SPECIE DA IMPIANTARE'!$G66=3,'3 - SPECIE DA IMPIANTARE'!$G66,\"\")","v":""},{"$f":"IF(AND($B65=\"AZIONE_1\",$I65=3),'3 - SPECIE DA IMPIANTARE'!$I66,\"\")","v":""},null,{"$f":"IF('3 - SPECIE DA IMPIANTARE'!$G66=4,'3 - SPECIE DA IMPIANTARE'!$G66,\"\")","v":""},{"$f":"IF(AND($B65=\"AZIONE_1\",$L65=4),'3 - SPECIE DA IMPIANTARE'!$I66,\"\")","v":""},null,{"$f":"IF('3 - SPECIE DA IMPIANTARE'!$G66=5,'3 - SPECIE DA IMPIANTARE'!$G66,\"\")","v":""},{"$f":"IF(AND($B65=\"AZIONE_1\",$O65=5),'3 - SPECIE DA IMPIANTARE'!$I66,\"\")","v":""},null,{"$f":"IF('3 - SPECIE DA IMPIANTARE'!$G66=6,'3 - SPECIE DA IMPIANTARE'!$G66,\"\")","v":""},{"$f":"IF(AND($B65=\"AZIONE_1\",$R65=6),'3 - SPECIE DA IMPIANTARE'!$I66,\"\")","v":""}]
[1,{"$f":"IF('3 - SPECIE DA IMPIANTARE'!$H67=\"AZIONE_1\",'3 - SPECIE DA IMPIANTARE'!$H67,\"\")","v":""},{"$f":"IF('3 - SPECIE DA IMPIANTARE'!$G67=1,'3 - SPECIE DA IMPIANTARE'!$G67,\"\")","v":""},{"$f":"IF(AND($B66=\"AZIONE_1\",C66=1),'3 - SPECIE DA IMPIANTARE'!$I67,\"\")","v":""},null,{"$f":"IF('3 - SPECIE DA IMPIANTARE'!$G67=2,'3 - SPECIE DA IMPIANTARE'!$G67,\"\")","v":""},{"$f":"IF(AND($B66=\"AZIONE_1\",F66=2),'3 - SPECIE DA IMPIANTARE'!$I67,\"\")","v":""},null,{"$f":"IF('3 - SPECIE DA IMPIANTARE'!$G67=3,'3 - SPECIE DA IMPIANTARE'!$G67,\"\")","v":""},{"$f":"IF(AND($B66=\"AZIONE_1\",$I66=3),'3 - SPECIE DA IMPIANTARE'!$I67,\"\")","v":""},null,{"$f":"IF('3 - SPECIE DA IMPIANTARE'!$G67=4,'3 - SPECIE DA IMPIANTARE'!$G67,\"\")","v":""},{"$f":"IF(AND($B66=\"AZIONE_1\",$L66=4),'3 - SPECIE DA IMPIANTARE'!$I67,\"\")","v":""},null,{"$f":"IF('3 - SPECIE DA IMPIANTARE'!$G67=5,'3 - SPECIE DA IMPIANTARE'!$G67,\"\")","v":""},{"$f":"IF(AND($B66=\"AZIONE_1\",$O66=5),'3 - SPECIE DA IMPIANTARE'!$I67,\"\")","v":""},null,{"$f":"IF('3 - SPECIE DA IMPIANTARE'!$G67=6,'3 - SPECIE DA IMPIANTARE'!$G67,\"\")","v":""},{"$f":"IF(AND($B66=\"AZIONE_1\",$R66=6),'3 - SPECIE DA IMPIANTARE'!$I67,\"\")","v":""}]
[1,{"$f":"IF('3 - SPECIE DA IMPIANTARE'!$H68=\"AZIONE_1\",'3 - SPECIE DA IMPIANTARE'!$H68,\"\")","v":""},{"$f":"IF('3 - SPECIE DA IMPIANTARE'!$G68=1,'3 - SPECIE DA IMPIANTARE'!$G68,\"\")","v":""},{"$f":"IF(AND($B67=\"AZIONE_1\",C67=1),'3 - SPECIE DA IMPIANTARE'!$I68,\"\")","v":""},null,{"$f":"IF('3 - SPECIE DA IMPIANTARE'!$G68=2,'3 - SPECIE DA IMPIANTARE'!$G68,\"\")","v":""},{"$f":"IF(AND($B67=\"AZIONE_1\",F67=2),'3 - SPECIE DA IMPIANTARE'!$I68,\"\")","v":""},null,{"$f":"IF('3 - SPECIE DA IMPIANTARE'!$G68=3,'3 - SPECIE DA IMPIANTARE'!$G68,\"\")","v":""},{"$f":"IF(AND($B67=\"AZIONE_1\",$I67=3),'3 - SPECIE DA IMPIANTARE'!$I68,\"\")","v":""},null,{"$f":"IF('3 - SPECIE DA IMPIANTARE'!$G68=4,'3 - SPECIE DA IMPIANTARE'!$G68,\"\")","v":""},{"$f":"IF(AND($B67=\"AZIONE_1\",$L67=4),'3 - SPECIE DA IMPIANTARE'!$I68,\"\")","v":""},null,{"$f":"IF('3 - SPECIE DA IMPIANTARE'!$G68=5,'3 - SPECIE DA IMPIANTARE'!$G68,\"\")","v":""},{"$f":"IF(AND($B67=\"AZIONE_1\",$O67=5),'3 - SPECIE DA IMPIANTARE'!$I68,\"\")","v":""},null,{"$f":"IF('3 - SPECIE DA IMPIANTARE'!$G68=6,'3 - SPECIE DA IMPIANTARE'!$G68,\"\")","v":""},{"$f":"IF(AND($B67=\"AZIONE_1\",$R67=6),'3 - SPECIE DA IMPIANTARE'!$I68,\"\")","v":""}]
[1,{"$f":"IF('3 - SPECIE DA IMPIANTARE'!$H69=\"AZIONE_1\",'3 - SPECIE DA IMPIANTARE'!$H69,\"\")","v":""},{"$f":"IF('3 - SPECIE DA IMPIANTARE'!$G69=1,'3 - SPECIE DA IMPIANTARE'!$G69,\"\")","v":""},{"$f":"IF(AND($B68=\"AZIONE_1\",C68=1),'3 - SPECIE DA IMPIANTARE'!$I69,\"\")","v":""},null,{"$f":"IF('3 - SPECIE DA IMPIANTARE'!$G69=2,'3 - SPECIE DA IMPIANTARE'!$G69,\"\")","v":""},{"$f":"IF(AND($B68=\"AZIONE_1\",F68=2),'3 - SPECIE DA IMPIANTARE'!$I69,\"\")","v":""},null,{"$f":"IF('3 - SPECIE DA IMPIANTARE'!$G69=3,'3 - SPECIE DA IMPIANTARE'!$G69,\"\")","v":""},{"$f":"IF(AND($B68=\"AZIONE_1\",$I68=3),'3 - SPECIE DA IMPIANTARE'!$I69,\"\")","v":""},null,{"$f":"IF('3 - SPECIE DA IMPIANTARE'!$G69=4,'3 - SPECIE DA IMPIANTARE'!$G69,\"\")","v":""},{"$f":"IF(AND($B68=\"AZIONE_1\",$L68=4),'3 - SPECIE DA IMPIANTARE'!$I69,\"\")","v":""},null,{"$f":"IF('3 - SPECIE DA IMPIANTARE'!$G69=5,'3 - SPECIE DA IMPIANTARE'!$G69,\"\")","v":""},{"$f":"IF(AND($B68=\"AZIONE_1\",$O68=5),'3 - SPECIE DA IMPIANTARE'!$I69,\"\")","v":""},null,{"$f":"IF('3 - SPECIE DA IMPIANTARE'!$G69=6,'3 - SPECIE DA IMPIANTARE'!$G69,\"\")","v":""},{"$f":"IF(AND($B68=\"AZIONE_1\",$R68=6),'3 - SPECIE DA IMPIANTARE'!$I69,\"\")","v":""}]
[1,{"$f":"IF('3 - SPECIE DA IMPIANTARE'!$H70=\"AZIONE_1\",'3 - SPECIE DA IMPIANTARE'!$H70,\"\")","v":""},{"$f":"IF('3 - SPECIE DA IMPIANTARE'!$G70=1,'3 - SPECIE DA IMPIANTARE'!$G70,\"\")","v":""},{"$f":"IF(AND($B69=\"AZIONE_1\",C69=1),'3 - SPECIE DA IMPIANTARE'!$I70,\"\")","v":""},null,{"$f":"IF('3 - SPECIE DA IMPIANTARE'!$G70=2,'3 - SPECIE DA IMPIANTARE'!$G70,\"\")","v":""},{"$f":"IF(AND($B69=\"AZIONE_1\",F69=2),'3 - SPECIE DA IMPIANTARE'!$I70,\"\")","v":""},null,{"$f":"IF('3 - SPECIE DA IMPIANTARE'!$G70=3,'3 - SPECIE DA IMPIANTARE'!$G70,\"\")","v":""},{"$f":"IF(AND($B69=\"AZIONE_1\",$I69=3),'3 - SPECIE DA IMPIANTARE'!$I70,\"\")","v":""},null,{"$f":"IF('3 - SPECIE DA IMPIANTARE'!$G70=4,'3 - SPECIE DA IMPIANTARE'!$G70,\"\")","v":""},{"$f":"IF(AND($B69=\"AZIONE_1\",$L69=4),'3 - SPECIE DA IMPIANTARE'!$I70,\"\")","v":""},null,{"$f":"IF('3 - SPECIE DA IMPIANTARE'!$G70=5,'3 - SPECIE DA IMPIANTARE'!$G70,\"\")","v":""},{"$f":"IF(AND($B69=\"AZIONE_1\",$O69=5),'3 - SPECIE DA IMPIANTARE'!$I70,\"\")","v":""},null,{"$f":"IF('3 - SPECIE DA IMPIANTARE'!$G70=6,'3 - SPECIE DA IMPIANTARE'!$G70,\"\")","v":""},{"$f":"IF(AND($B69=\"AZIONE_1\",$R69=6),'3 - SPECIE DA IMPIANTARE'!$I70,\"\")","v":""}]
[1,{"$f":"IF('3 - SPECIE DA IMPIANTARE'!$H71=\"AZIONE_1\",'3 - SPECIE DA IMPIANTARE'!$H71,\"\")","v":""},{"$f":"IF('3 - SPECIE DA IMPIANTARE'!$G71=1,'3 - SPECIE DA IMPIANTARE'!$G71,\"\")","v":""},{"$f":"IF(AND($B70=\"AZIONE_1\",C70=1),'3 - SPECIE DA IMPIANTARE'!$I71,\"\")","v":""},null,{"$f":"IF('3 - SPECIE DA IMPIANTARE'!$G71=2,'3 - SPECIE DA IMPIANTARE'!$G71,\"\")","v":""},{"$f":"IF(AND($B70=\"AZIONE_1\",F70=2),'3 - SPECIE DA IMPIANTARE'!$I71,\"\")","v":""},null,{"$f":"IF('3 - SPECIE DA IMPIANTARE'!$G71=3,'3 - SPECIE DA IMPIANTARE'!$G71,\"\")","v":""},{"$f":"IF(AND($B70=\"AZIONE_1\",$I70=3),'3 - SPECIE DA IMPIANTARE'!$I71,\"\")","v":""},null,{"$f":"IF('3 - SPECIE DA IMPIANTARE'!$G71=4,'3 - SPECIE DA IMPIANTARE'!$G71,\"\")","v":""},{"$f":"IF(AND($B70=\"AZIONE_1\",$L70=4),'3 - SPECIE DA IMPIANTARE'!$I71,\"\")","v":""},null,{"$f":"IF('3 - SPECIE DA IMPIANTARE'!$G71=5,'3 - SPECIE DA IMPIANTARE'!$G71,\"\")","v":""},{"$f":"IF(AND($B70=\"AZIONE_1\",$O70=5),'3 - SPECIE DA IMPIANTARE'!$I71,\"\")","v":""},null,{"$f":"IF('3 - SPECIE DA IMPIANTARE'!$G71=6,'3 - SPECIE DA IMPIANTARE'!$G71,\"\")","v":""},{"$f":"IF(AND($B70=\"AZIONE_1\",$R70=6),'3 - SPECIE DA IMPIANTARE'!$I71,\"\")","v":""}]
[1,{"$f":"IF('3 - SPECIE DA IMPIANTARE'!$H72=\"AZIONE_1\",'3 - SPECIE DA IMPIANTARE'!$H72,\"\")","v":""},{"$f":"IF('3 - SPECIE DA IMPIANTARE'!$G72=1,'3 - SPECIE DA IMPIANTARE'!$G72,\"\")","v":""},{"$f":"IF(AND($B71=\"AZIONE_1\",C71=1),'3 - SPECIE DA IMPIANTARE'!$I72,\"\")","v":""},null,{"$f":"IF('3 - SPECIE DA IMPIANTARE'!$G72=2,'3 - SPECIE DA IMPIANTARE'!$G72,\"\")","v":""},{"$f":"IF(AND($B71=\"AZIONE_1\",F71=2),'3 - SPECIE DA IMPIANTARE'!$I72,\"\")","v":""},null,{"$f":"IF('3 - SPECIE DA IMPIANTARE'!$G72=3,'3 - SPECIE DA IMPIANTARE'!$G72,\"\")","v":""},{"$f":"IF(AND($B71=\"AZIONE_1\",$I71=3),'3 - SPECIE DA IMPIANTARE'!$I72,\"\")","v":""},null,{"$f":"IF('3 - SPECIE DA IMPIANTARE'!$G72=4,'3 - SPECIE DA IMPIANTARE'!$G72,\"\")","v":""},{"$f":"IF(AND($B71=\"AZIONE_1\",$L71=4),'3 - SPECIE DA IMPIANTARE'!$I72,\"\")","v":""},null,{"$f":"IF('3 - SPECIE DA IMPIANTARE'!$G72=5,'3 - SPECIE DA IMPIANTARE'!$G72,\"\")","v":""},{"$f":"IF(AND($B71=\"AZIONE_1\",$O71=5),'3 - SPECIE DA IMPIANTARE'!$I72,\"\")","v":""},null,{"$f":"IF('3 - SPECIE DA IMPIANTARE'!$G72=6,'3 - SPECIE DA IMPIANTARE'!$G72,\"\")","v":""},{"$f":"IF(AND($B71=\"AZIONE_1\",$R71=6),'3 - SPECIE DA IMPIANTARE'!$I72,\"\")","v":""}]
[1,{"$f":"IF('3 - SPECIE DA IMPIANTARE'!$H73=\"AZIONE_1\",'3 - SPECIE DA IMPIANTARE'!$H73,\"\")","v":""},{"$f":"IF('3 - SPECIE DA IMPIANTARE'!$G73=1,'3 - SPECIE DA IMPIANTARE'!$G73,\"\")","v":""},{"$f":"IF(AND($B72=\"AZIONE_1\",C72=1),'3 - SPECIE DA IMPIANTARE'!$I73,\"\")","v":""},null,{"$f":"IF('3 - SPECIE DA IMPIANTARE'!$G73=2,'3 - SPECIE DA IMPIANTARE'!$G73,\"\")","v":""},{"$f":"IF(AND($B72=\"AZIONE_1\",F72=2),'3 - SPECIE DA IMPIANTARE'!$I73,\"\")","v":""},null,{"$f":"IF('3 - SPECIE DA IMPIANTARE'!$G73=3,'3 - SPECIE DA IMPIANTARE'!$G73,\"\")","v":""},{"$f":"IF(AND($B72=\"AZIONE_1\",$I72=3),'3 - SPECIE DA IMPIANTARE'!$I73,\"\")","v":""},null,{"$f":"IF('3 - SPECIE DA IMPIANTARE'!$G73=4,'3 - SPECIE DA IMPIANTARE'!$G73,\"\")","v":""},{"$f":"IF(AND($B72=\"AZIONE_1\",$L72=4),'3 - SPECIE DA IMPIANTARE'!$I73,\"\")","v":""},null,{"$f":"IF('3 - SPECIE DA IMPIANTARE'!$G73=5,'3 - SPECIE DA IMPIANTARE'!$G73,\"\")","v":""},{"$f":"IF(AND($B72=\"AZIONE_1\",$O72=5),'3 - SPECIE DA IMPIANTARE'!$I73,\"\")","v":""},null,{"$f":"IF('3 - SPECIE DA IMPIANTARE'!$G73=6,'3 - SPECIE DA IMPIANTARE'!$G73,\"\")","v":""},{"$f":"IF(AND($B72=\"AZIONE_1\",$R72=6),'3 - SPECIE DA IMPIANTARE'!$I73,\"\")","v":""}]
[1,{"$f":"IF('3 - SPECIE DA IMPIANTARE'!$H74=\"AZIONE_1\",'3 - SPECIE DA IMPIANTARE'!$H74,\"\")","v":""},{"$f":"IF('3 - SPECIE DA IMPIANTARE'!$G74=1,'3 - SPECIE DA IMPIANTARE'!$G74,\"\")","v":""},{"$f":"IF(AND($B73=\"AZIONE_1\",C73=1),'3 - SPECIE DA IMPIANTARE'!$I74,\"\")","v":""},null,{"$f":"IF('3 - SPECIE DA IMPIANTARE'!$G74=2,'3 - SPECIE DA IMPIANTARE'!$G74,\"\")","v":""},{"$f":"IF(AND($B73=\"AZIONE_1\",F73=2),'3 - SPECIE DA IMPIANTARE'!$I74,\"\")","v":""},null,{"$f":"IF('3 - SPECIE DA IMPIANTARE'!$G74=3,'3 - SPECIE DA IMPIANTARE'!$G74,\"\")","v":""},{"$f":"IF(AND($B73=\"AZIONE_1\",$I73=3),'3 - SPECIE DA IMPIANTARE'!$I74,\"\")","v":""},null,{"$f":"IF('3 - SPECIE DA IMPIANTARE'!$G74=4,'3 - SPECIE DA IMPIANTARE'!$G74,\"\")","v":""},{"$f":"IF(AND($B73=\"AZIONE_1\",$L73=4),'3 - SPECIE DA IMPIANTARE'!$I74,\"\")","v":""},null,{"$f":"IF('3 - SPECIE DA IMPIANTARE'!$G74=5,'3 - SPECIE DA IMPIANTARE'!$G74,\"\")","v":""},{"$f":"IF(AND($B73=\"AZIONE_1\",$O73=5),'3 - SPECIE DA IMPIANTARE'!$I74,\"\")","v":""},null,{"$f":"IF('3 - SPECIE DA IMPIANTARE'!$G74=6,'3 - SPECIE DA IMPIANTARE'!$G74,\"\")","v":""},{"$f":"IF(AND($B73=\"AZIONE_1\",$R73=6),'3 - SPECIE DA IMPIANTARE'!$I74,\"\")","v":""}]
[1,{"$f":"IF('3 - SPECIE DA IMPIANTARE'!$H75=\"AZIONE_1\",'3 - SPECIE DA IMPIANTARE'!$H75,\"\")","v":""},{"$f":"IF('3 - SPECIE DA IMPIANTARE'!$G75=1,'3 - SPECIE DA IMPIANTARE'!$G75,\"\")","v":""},{"$f":"IF(AND($B74=\"AZIONE_1\",C74=1),'3 - SPECIE DA IMPIANTARE'!$I75,\"\")","v":""},null,{"$f":"IF('3 - SPECIE DA IMPIANTARE'!$G75=2,'3 - SPECIE DA IMPIANTARE'!$G75,\"\")","v":""},{"$f":"IF(AND($B74=\"AZIONE_1\",F74=2),'3 - SPECIE DA IMPIANTARE'!$I75,\"\")","v":""},null,{"$f":"IF('3 - SPECIE DA IMPIANTARE'!$G75=3,'3 - SPECIE DA IMPIANTARE'!$G75,\"\")","v":""},{"$f":"IF(AND($B74=\"AZIONE_1\",$I74=3),'3 - SPECIE DA IMPIANTARE'!$I75,\"\")","v":""},null,{"$f":"IF('3 - SPECIE DA IMPIANTARE'!$G75=4,'3 - SPECIE DA IMPIANTARE'!$G75,\"\")","v":""},{"$f":"IF(AND($B74=\"AZIONE_1\",$L74=4),'3 - SPECIE DA IMPIANTARE'!$I75,\"\")","v":""},null,{"$f":"IF('3 - SPECIE DA IMPIANTARE'!$G75=5,'3 - SPECIE DA IMPIANTARE'!$G75,\"\")","v":""},{"$f":"IF(AND($B74=\"AZIONE_1\",$O74=5),'3 - SPECIE DA IMPIANTARE'!$I75,\"\")","v":""},null,{"$f":"IF('3 - SPECIE DA IMPIANTARE'!$G75=6,'3 - SPECIE DA IMPIANTARE'!$G75,\"\")","v":""},{"$f":"IF(AND($B74=\"AZIONE_1\",$R74=6),'3 - SPECIE DA IMPIANTARE'!$I75,\"\")","v":""}]
[1,{"$f":"IF('3 - SPECIE DA IMPIANTARE'!$H76=\"AZIONE_1\",'3 - SPECIE DA IMPIANTARE'!$H76,\"\")","v":""},{"$f":"IF('3 - SPECIE DA IMPIANTARE'!$G76=1,'3 - SPECIE DA IMPIANTARE'!$G76,\"\")","v":""},{"$f":"IF(AND($B75=\"AZIONE_1\",C75=1),'3 - SPECIE DA IMPIANTARE'!$I76,\"\")","v":""},null,{"$f":"IF('3 - SPECIE DA IMPIANTARE'!$G76=2,'3 - SPECIE DA IMPIANTARE'!$G76,\"\")","v":""},{"$f":"IF(AND($B75=\"AZIONE_1\",F75=2),'3 - SPECIE DA IMPIANTARE'!$I76,\"\")","v":""},null,{"$f":"IF('3 - SPECIE DA IMPIANTARE'!$G76=3,'3 - SPECIE DA IMPIANTARE'!$G76,\"\")","v":""},{"$f":"IF(AND($B75=\"AZIONE_1\",$I75=3),'3 - SPECIE DA IMPIANTARE'!$I76,\"\")","v":""},null,{"$f":"IF('3 - SPECIE DA IMPIANTARE'!$G76=4,'3 - SPECIE DA IMPIANTARE'!$G76,\"\")","v":""},{"$f":"IF(AND($B75=\"AZIONE_1\",$L75=4),'3 - SPECIE DA IMPIANTARE'!$I76,\"\")","v":""},null,{"$f":"IF('3 - SPECIE DA IMPIANTARE'!$G76=5,'3 - SPECIE DA IMPIANTARE'!$G76,\"\")","v":""},{"$f":"IF(AND($B75=\"AZIONE_1\",$O75=5),'3 - SPECIE DA IMPIANTARE'!$I76,\"\")","v":""},null,{"$f":"IF('3 - SPECIE DA IMPIANTARE'!$G76=6,'3 - SPECIE DA IMPIANTARE'!$G76,\"\")","v":""},{"$f":"IF(AND($B75=\"AZIONE_1\",$R75=6),'3 - SPECIE DA IMPIANTARE'!$I76,\"\")","v":""}]
[1,{"$f":"IF('3 - SPECIE DA IMPIANTARE'!$H77=\"AZIONE_1\",'3 - SPECIE DA IMPIANTARE'!$H77,\"\")","v":""},{"$f":"IF('3 - SPECIE DA IMPIANTARE'!$G77=1,'3 - SPECIE DA IMPIANTARE'!$G77,\"\")","v":""},{"$f":"IF(AND($B76=\"AZIONE_1\",C76=1),'3 - SPECIE DA IMPIANTARE'!$I77,\"\")","v":""},null,{"$f":"IF('3 - SPECIE DA IMPIANTARE'!$G77=2,'3 - SPECIE DA IMPIANTARE'!$G77,\"\")","v":""},{"$f":"IF(AND($B76=\"AZIONE_1\",F76=2),'3 - SPECIE DA IMPIANTARE'!$I77,\"\")","v":""},null,{"$f":"IF('3 - SPECIE DA IMPIANTARE'!$G77=3,'3 - SPECIE DA IMPIANTARE'!$G77,\"\")","v":""},{"$f":"IF(AND($B76=\"AZIONE_1\",$I76=3),'3 - SPECIE DA IMPIANTARE'!$I77,\"\")","v":""},null,{"$f":"IF('3 - SPECIE DA IMPIANTARE'!$G77=4,'3 - SPECIE DA IMPIANTARE'!$G77,\"\")","v":""},{"$f":"IF(AND($B76=\"AZIONE_1\",$L76=4),'3 - SPECIE DA IMPIANTARE'!$I77,\"\")","v":""},null,{"$f":"IF('3 - SPECIE DA IMPIANTARE'!$G77=5,'3 - SPECIE DA IMPIANTARE'!$G77,\"\")","v":""},{"$f":"IF(AND($B76=\"AZIONE_1\",$O76=5),'3 - SPECIE DA IMPIANTARE'!$I77,\"\")","v":""},null,{"$f":"IF('3 - SPECIE DA IMPIANTARE'!$G77=6,'3 - SPECIE DA IMPIANTARE'!$G77,\"\")","v":""},{"$f":"IF(AND($B76=\"AZIONE_1\",$R76=6),'3 - SPECIE DA IMPIANTARE'!$I77,\"\")","v":""}]
[1,{"$f":"IF('3 - SPECIE DA IMPIANTARE'!$H78=\"AZIONE_1\",'3 - SPECIE DA IMPIANTARE'!$H78,\"\")","v":""},{"$f":"IF('3 - SPECIE DA IMPIANTARE'!$G78=1,'3 - SPECIE DA IMPIANTARE'!$G78,\"\")","v":""},{"$f":"IF(AND($B77=\"AZIONE_1\",C77=1),'3 - SPECIE DA IMPIANTARE'!$I78,\"\")","v":""},null,{"$f":"IF('3 - SPECIE DA IMPIANTARE'!$G78=2,'3 - SPECIE DA IMPIANTARE'!$G78,\"\")","v":""},{"$f":"IF(AND($B77=\"AZIONE_1\",F77=2),'3 - SPECIE DA IMPIANTARE'!$I78,\"\")","v":""},null,{"$f":"IF('3 - SPECIE DA IMPIANTARE'!$G78=3,'3 - SPECIE DA IMPIANTARE'!$G78,\"\")","v":""},{"$f":"IF(AND($B77=\"AZIONE_1\",$I77=3),'3 - SPECIE DA IMPIANTARE'!$I78,\"\")","v":""},null,{"$f":"IF('3 - SPECIE DA IMPIANTARE'!$G78=4,'3 - SPECIE DA IMPIANTARE'!$G78,\"\")","v":""},{"$f":"IF(AND($B77=\"AZIONE_1\",$L77=4),'3 - SPECIE DA IMPIANTARE'!$I78,\"\")","v":""},null,{"$f":"IF('3 - SPECIE DA IMPIANTARE'!$G78=5,'3 - SPECIE DA IMPIANTARE'!$G78,\"\")","v":""},{"$f":"IF(AND($B77=\"AZIONE_1\",$O77=5),'3 - SPECIE DA IMPIANTARE'!$I78,\"\")","v":""},null,{"$f":"IF('3 - SPECIE DA IMPIANTARE'!$G78=6,'3 - SPECIE DA IMPIANTARE'!$G78,\"\")","v":""},{"$f":"IF(AND($B77=\"AZIONE_1\",$R77=6),'3 - SPECIE DA IMPIANTARE'!$I78,\"\")","v":""}]
[1,{"$f":"IF('3 - SPECIE DA IMPIANTARE'!$H79=\"AZIONE_1\",'3 - SPECIE DA IMPIANTARE'!$H79,\"\")","v":""},{"$f":"IF('3 - SPECIE DA IMPIANTARE'!$G79=1,'3 - SPECIE DA IMPIANTARE'!$G79,\"\")","v":""},{"$f":"IF(AND($B78=\"AZIONE_1\",C78=1),'3 - SPECIE DA IMPIANTARE'!$I79,\"\")","v":""},null,{"$f":"IF('3 - SPECIE DA IMPIANTARE'!$G79=2,'3 - SPECIE DA IMPIANTARE'!$G79,\"\")","v":""},{"$f":"IF(AND($B78=\"AZIONE_1\",F78=2),'3 - SPECIE DA IMPIANTARE'!$I79,\"\")","v":""},null,{"$f":"IF('3 - SPECIE DA IMPIANTARE'!$G79=3,'3 - SPECIE DA IMPIANTARE'!$G79,\"\")","v":""},{"$f":"IF(AND($B78=\"AZIONE_1\",$I78=3),'3 - SPECIE DA IMPIANTARE'!$I79,\"\")","v":""},null,{"$f":"IF('3 - SPECIE DA IMPIANTARE'!$G79=4,'3 - SPECIE DA IMPIANTARE'!$G79,\"\")","v":""},{"$f":"IF(AND($B78=\"AZIONE_1\",$L78=4),'3 - SPECIE DA IMPIANTARE'!$I79,\"\")","v":""},null,{"$f":"IF('3 - SPECIE DA IMPIANTARE'!$G79=5,'3 - SPECIE DA IMPIANTARE'!$G79,\"\")","v":""},{"$f":"IF(AND($B78=\"AZIONE_1\",$O78=5),'3 - SPECIE DA IMPIANTARE'!$I79,\"\")","v":""},null,{"$f":"IF('3 - SPECIE DA IMPIANTARE'!$G79=6,'3 - SPECIE DA IMPIANTARE'!$G79,\"\")","v":""},{"$f":"IF(AND($B78=\"AZIONE_1\",$R78=6),'3 - SPECIE DA IMPIANTARE'!$I79,\"\")","v":""}]
[1,{"$f":"IF('3 - SPECIE DA IMPIANTARE'!$H80=\"AZIONE_1\",'3 - SPECIE DA IMPIANTARE'!$H80,\"\")","v":""},{"$f":"IF('3 - SPECIE DA IMPIANTARE'!$G80=1,'3 - SPECIE DA IMPIANTARE'!$G80,\"\")","v":""},{"$f":"IF(AND($B79=\"AZIONE_1\",C79=1),'3 - SPECIE DA IMPIANTARE'!$I80,\"\")","v":""},null,{"$f":"IF('3 - SPECIE DA IMPIANTARE'!$G80=2,'3 - SPECIE DA IMPIANTARE'!$G80,\"\")","v":""},{"$f":"IF(AND($B79=\"AZIONE_1\",F79=2),'3 - SPECIE DA IMPIANTARE'!$I80,\"\")","v":""},null,{"$f":"IF('3 - SPECIE DA IMPIANTARE'!$G80=3,'3 - SPECIE DA IMPIANTARE'!$G80,\"\")","v":""},{"$f":"IF(AND($B79=\"AZIONE_1\",$I79=3),'3 - SPECIE DA IMPIANTARE'!$I80,\"\")","v":""},null,{"$f":"IF('3 - SPECIE DA IMPIANTARE'!$G80=4,'3 - SPECIE DA IMPIANTARE'!$G80,\"\")","v":""},{"$f":"IF(AND($B79=\"AZIONE_1\",$L79=4),'3 - SPECIE DA IMPIANTARE'!$I80,\"\")","v":""},null,{"$f":"IF('3 - SPECIE DA IMPIANTARE'!$G80=5,'3 - SPECIE DA IMPIANTARE'!$G80,\"\")","v":""},{"$f":"IF(AND($B79=\"AZIONE_1\",$O79=5),'3 - SPECIE DA IMPIANTARE'!$I80,\"\")","v":""},null,{"$f":"IF('3 - SPECIE DA IMPIANTARE'!$G80=6,'3 - SPECIE DA IMPIANTARE'!$G80,\"\")","v":""},{"$f":"IF(AND($B79=\"AZIONE_1\",$R79=6),'3 - SPECIE DA IMPIANTARE'!$I80,\"\")","v":""}]
[1,{"$f":"IF('3 - SPECIE DA IMPIANTARE'!$H81=\"AZIONE_1\",'3 - SPECIE DA IMPIANTARE'!$H81,\"\")","v":""},{"$f":"IF('3 - SPECIE DA IMPIANTARE'!$G81=1,'3 - SPECIE DA IMPIANTARE'!$G81,\"\")","v":""},{"$f":"IF(AND($B80=\"AZIONE_1\",C80=1),'3 - SPECIE DA IMPIANTARE'!$I81,\"\")","v":""},null,{"$f":"IF('3 - SPECIE DA IMPIANTARE'!$G81=2,'3 - SPECIE DA IMPIANTARE'!$G81,\"\")","v":""},{"$f":"IF(AND($B80=\"AZIONE_1\",F80=2),'3 - SPECIE DA IMPIANTARE'!$I81,\"\")","v":""},null,{"$f":"IF('3 - SPECIE DA IMPIANTARE'!$G81=3,'3 - SPECIE DA IMPIANTARE'!$G81,\"\")","v":""},{"$f":"IF(AND($B80=\"AZIONE_1\",$I80=3),'3 - SPECIE DA IMPIANTARE'!$I81,\"\")","v":""},null,{"$f":"IF('3 - SPECIE DA IMPIANTARE'!$G81=4,'3 - SPECIE DA IMPIANTARE'!$G81,\"\")","v":""},{"$f":"IF(AND($B80=\"AZIONE_1\",$L80=4),'3 - SPECIE DA IMPIANTARE'!$I81,\"\")","v":""},null,{"$f":"IF('3 - SPECIE DA IMPIANTARE'!$G81=5,'3 - SPECIE DA IMPIANTARE'!$G81,\"\")","v":""},{"$f":"IF(AND($B80=\"AZIONE_1\",$O80=5),'3 - SPECIE DA IMPIANTARE'!$I81,\"\")","v":""},null,{"$f":"IF('3 - SPECIE DA IMPIANTARE'!$G81=6,'3 - SPECIE DA IMPIANTARE'!$G81,\"\")","v":""},{"$f":"IF(AND($B80=\"AZIONE_1\",$R80=6),'3 - SPECIE DA IMPIANTARE'!$I81,\"\")","v":""}]
[1,{"$f":"IF('3 - SPECIE DA IMPIANTARE'!$H82=\"AZIONE_1\",'3 - SPECIE DA IMPIANTARE'!$H82,\"\")","v":""},{"$f":"IF('3 - SPECIE DA IMPIANTARE'!$G82=1,'3 - SPECIE DA IMPIANTARE'!$G82,\"\")","v":""},{"$f":"IF(AND($B81=\"AZIONE_1\",C81=1),'3 - SPECIE DA IMPIANTARE'!$I82,\"\")","v":""},null,{"$f":"IF('3 - SPECIE DA IMPIANTARE'!$G82=2,'3 - SPECIE DA IMPIANTARE'!$G82,\"\")","v":""},{"$f":"IF(AND($B81=\"AZIONE_1\",F81=2),'3 - SPECIE DA IMPIANTARE'!$I82,\"\")","v":""},null,{"$f":"IF('3 - SPECIE DA IMPIANTARE'!$G82=3,'3 - SPECIE DA IMPIANTARE'!$G82,\"\")","v":""},{"$f":"IF(AND($B81=\"AZIONE_1\",$I81=3),'3 - SPECIE DA IMPIANTARE'!$I82,\"\")","v":""},null,{"$f":"IF('3 - SPECIE DA IMPIANTARE'!$G82=4,'3 - SPECIE DA IMPIANTARE'!$G82,\"\")","v":""},{"$f":"IF(AND($B81=\"AZIONE_1\",$L81=4),'3 - SPECIE DA IMPIANTARE'!$I82,\"\")","v":""},null,{"$f":"IF('3 - SPECIE DA IMPIANTARE'!$G82=5,'3 - SPECIE DA IMPIANTARE'!$G82,\"\")","v":""},{"$f":"IF(AND($B81=\"AZIONE_1\",$O81=5),'3 - SPECIE DA IMPIANTARE'!$I82,\"\")","v":""},null,{"$f":"IF('3 - SPECIE DA IMPIANTARE'!$G82=6,'3 - SPECIE DA IMPIANTARE'!$G82,\"\")","v":""},{"$f":"IF(AND($B81=\"AZIONE_1\",$R81=6),'3 - SPECIE DA IMPIANTARE'!$I82,\"\")","v":""}]
[1,{"$f":"IF('3 - SPECIE DA IMPIANTARE'!$H83=\"AZIONE_1\",'3 - SPECIE DA IMPIANTARE'!$H83,\"\")","v":""},{"$f":"IF('3 - SPECIE DA IMPIANTARE'!$G83=1,'3 - SPECIE DA IMPIANTARE'!$G83,\"\")","v":""},{"$f":"IF(AND($B82=\"AZIONE_1\",C82=1),'3 - SPECIE DA IMPIANTARE'!$I83,\"\")","v":""},null,{"$f":"IF('3 - SPECIE DA IMPIANTARE'!$G83=2,'3 - SPECIE DA IMPIANTARE'!$G83,\"\")","v":""},{"$f":"IF(AND($B82=\"AZIONE_1\",F82=2),'3 - SPECIE DA IMPIANTARE'!$I83,\"\")","v":""},null,{"$f":"IF('3 - SPECIE DA IMPIANTARE'!$G83=3,'3 - SPECIE DA IMPIANTARE'!$G83,\"\")","v":""},{"$f":"IF(AND($B82=\"AZIONE_1\",$I82=3),'3 - SPECIE DA IMPIANTARE'!$I83,\"\")","v":""},null,{"$f":"IF('3 - SPECIE DA IMPIANTARE'!$G83=4,'3 - SPECIE DA IMPIANTARE'!$G83,\"\")","v":""},{"$f":"IF(AND($B82=\"AZIONE_1\",$L82=4),'3 - SPECIE DA IMPIANTARE'!$I83,\"\")","v":""},null,{"$f":"IF('3 - SPECIE DA IMPIANTARE'!$G83=5,'3 - SPECIE DA IMPIANTARE'!$G83,\"\")","v":""},{"$f":"IF(AND($B82=\"AZIONE_1\",$O82=5),'3 - SPECIE DA IMPIANTARE'!$I83,\"\")","v":""},null,{"$f":"IF('3 - SPECIE DA IMPIANTARE'!$G83=6,'3 - SPECIE DA IMPIANTARE'!$G83,\"\")","v":""},{"$f":"IF(AND($B82=\"AZIONE_1\",$R82=6),'3 - SPECIE DA IMPIANTARE'!$I83,\"\")","v":""}]
[1,{"$f":"IF('3 - SPECIE DA IMPIANTARE'!$H84=\"AZIONE_1\",'3 - SPECIE DA IMPIANTARE'!$H84,\"\")","v":""},{"$f":"IF('3 - SPECIE DA IMPIANTARE'!$G84=1,'3 - SPECIE DA IMPIANTARE'!$G84,\"\")","v":""},{"$f":"IF(AND($B83=\"AZIONE_1\",C83=1),'3 - SPECIE DA IMPIANTARE'!$I84,\"\")","v":""},null,{"$f":"IF('3 - SPECIE DA IMPIANTARE'!$G84=2,'3 - SPECIE DA IMPIANTARE'!$G84,\"\")","v":""},{"$f":"IF(AND($B83=\"AZIONE_1\",F83=2),'3 - SPECIE DA IMPIANTARE'!$I84,\"\")","v":""},null,{"$f":"IF('3 - SPECIE DA IMPIANTARE'!$G84=3,'3 - SPECIE DA IMPIANTARE'!$G84,\"\")","v":""},{"$f":"IF(AND($B83=\"AZIONE_1\",$I83=3),'3 - SPECIE DA IMPIANTARE'!$I84,\"\")","v":""},null,{"$f":"IF('3 - SPECIE DA IMPIANTARE'!$G84=4,'3 - SPECIE DA IMPIANTARE'!$G84,\"\")","v":""},{"$f":"IF(AND($B83=\"AZIONE_1\",$L83=4),'3 - SPECIE DA IMPIANTARE'!$I84,\"\")","v":""},null,{"$f":"IF('3 - SPECIE DA IMPIANTARE'!$G84=5,'3 - SPECIE DA IMPIANTARE'!$G84,\"\")","v":""},{"$f":"IF(AND($B83=\"AZIONE_1\",$O83=5),'3 - SPECIE DA IMPIANTARE'!$I84,\"\")","v":""},null,{"$f":"IF('3 - SPECIE DA IMPIANTARE'!$G84=6,'3 - SPECIE DA IMPIANTARE'!$G84,\"\")","v":""},{"$f":"IF(AND($B83=\"AZIONE_1\",$R83=6),'3 - SPECIE DA IMPIANTARE'!$I84,\"\")","v":""}]
[1,{"$f":"IF('3 - SPECIE DA IMPIANTARE'!$H85=\"AZIONE_1\",'3 - SPECIE DA IMPIANTARE'!$H85,\"\")","v":""},{"$f":"IF('3 - SPECIE DA IMPIANTARE'!$G85=1,'3 - SPECIE DA IMPIANTARE'!$G85,\"\")","v":""},{"$f":"IF(AND($B84=\"AZIONE_1\",C84=1),'3 - SPECIE DA IMPIANTARE'!$I85,\"\")","v":""},null,{"$f":"IF('3 - SPECIE DA IMPIANTARE'!$G85=2,'3 - SPECIE DA IMPIANTARE'!$G85,\"\")","v":""},{"$f":"IF(AND($B84=\"AZIONE_1\",F84=2),'3 - SPECIE DA IMPIANTARE'!$I85,\"\")","v":""},null,{"$f":"IF('3 - SPECIE DA IMPIANTARE'!$G85=3,'3 - SPECIE DA IMPIANTARE'!$G85,\"\")","v":""},{"$f":"IF(AND($B84=\"AZIONE_1\",$I84=3),'3 - SPECIE DA IMPIANTARE'!$I85,\"\")","v":""},null,{"$f":"IF('3 - SPECIE DA IMPIANTARE'!$G85=4,'3 - SPECIE DA IMPIANTARE'!$G85,\"\")","v":""},{"$f":"IF(AND($B84=\"AZIONE_1\",$L84=4),'3 - SPECIE DA IMPIANTARE'!$I85,\"\")","v":""},null,{"$f":"IF('3 - SPECIE DA IMPIANTARE'!$G85=5,'3 - SPECIE DA IMPIANTARE'!$G85,\"\")","v":""},{"$f":"IF(AND($B84=\"AZIONE_1\",$O84=5),'3 - SPECIE DA IMPIANTARE'!$I85,\"\")","v":""},null,{"$f":"IF('3 - SPECIE DA IMPIANTARE'!$G85=6,'3 - SPECIE DA IMPIANTARE'!$G85,\"\")","v":""},{"$f":"IF(AND($B84=\"AZIONE_1\",$R84=6),'3 - SPECIE DA IMPIANTARE'!$I85,\"\")","v":""}]
[1,{"$f":"IF('3 - SPECIE DA IMPIANTARE'!$H86=\"AZIONE_1\",'3 - SPECIE DA IMPIANTARE'!$H86,\"\")","v":""},{"$f":"IF('3 - SPECIE DA IMPIANTARE'!$G86=1,'3 - SPECIE DA IMPIANTARE'!$G86,\"\")","v":""},{"$f":"IF(AND($B85=\"AZIONE_1\",C85=1),'3 - SPECIE DA IMPIANTARE'!$I86,\"\")","v":""},null,{"$f":"IF('3 - SPECIE DA IMPIANTARE'!$G86=2,'3 - SPECIE DA IMPIANTARE'!$G86,\"\")","v":""},{"$f":"IF(AND($B85=\"AZIONE_1\",F85=2),'3 - SPECIE DA IMPIANTARE'!$I86,\"\")","v":""},null,{"$f":"IF('3 - SPECIE DA IMPIANTARE'!$G86=3,'3 - SPECIE DA IMPIANTARE'!$G86,\"\")","v":""},{"$f":"IF(AND($B85=\"AZIONE_1\",$I85=3),'3 - SPECIE DA IMPIANTARE'!$I86,\"\")","v":""},null,{"$f":"IF('3 - SPECIE DA IMPIANTARE'!$G86=4,'3 - SPECIE DA IMPIANTARE'!$G86,\"\")","v":""},{"$f":"IF(AND($B85=\"AZIONE_1\",$L85=4),'3 - SPECIE DA IMPIANTARE'!$I86,\"\")","v":""},null,{"$f":"IF('3 - SPECIE DA IMPIANTARE'!$G86=5,'3 - SPECIE DA IMPIANTARE'!$G86,\"\")","v":""},{"$f":"IF(AND($B85=\"AZIONE_1\",$O85=5),'3 - SPECIE DA IMPIANTARE'!$I86,\"\")","v":""},null,{"$f":"IF('3 - SPECIE DA IMPIANTARE'!$G86=6,'3 - SPECIE DA IMPIANTARE'!$G86,\"\")","v":""},{"$f":"IF(AND($B85=\"AZIONE_1\",$R85=6),'3 - SPECIE DA IMPIANTARE'!$I86,\"\")","v":""}]
[1,{"$f":"IF('3 - SPECIE DA IMPIANTARE'!$H87=\"AZIONE_1\",'3 - SPECIE DA IMPIANTARE'!$H87,\"\")","v":""},{"$f":"IF('3 - SPECIE DA IMPIANTARE'!$G87=1,'3 - SPECIE DA IMPIANTARE'!$G87,\"\")","v":""},{"$f":"IF(AND($B86=\"AZIONE_1\",C86=1),'3 - SPECIE DA IMPIANTARE'!$I87,\"\")","v":""},null,{"$f":"IF('3 - SPECIE DA IMPIANTARE'!$G87=2,'3 - SPECIE DA IMPIANTARE'!$G87,\"\")","v":""},{"$f":"IF(AND($B86=\"AZIONE_1\",F86=2),'3 - SPECIE DA IMPIANTARE'!$I87,\"\")","v":""},null,{"$f":"IF('3 - SPECIE DA IMPIANTARE'!$G87=3,'3 - SPECIE DA IMPIANTARE'!$G87,\"\")","v":""},{"$f":"IF(AND($B86=\"AZIONE_1\",$I86=3),'3 - SPECIE DA IMPIANTARE'!$I87,\"\")","v":""},null,{"$f":"IF('3 - SPECIE DA IMPIANTARE'!$G87=4,'3 - SPECIE DA IMPIANTARE'!$G87,\"\")","v":""},{"$f":"IF(AND($B86=\"AZIONE_1\",$L86=4),'3 - SPECIE DA IMPIANTARE'!$I87,\"\")","v":""},null,{"$f":"IF('3 - SPECIE DA IMPIANTARE'!$G87=5,'3 - SPECIE DA IMPIANTARE'!$G87,\"\")","v":""},{"$f":"IF(AND($B86=\"AZIONE_1\",$O86=5),'3 - SPECIE DA IMPIANTARE'!$I87,\"\")","v":""},null,{"$f":"IF('3 - SPECIE DA IMPIANTARE'!$G87=6,'3 - SPECIE DA IMPIANTARE'!$G87,\"\")","v":""},{"$f":"IF(AND($B86=\"AZIONE_1\",$R86=6),'3 - SPECIE DA IMPIANTARE'!$I87,\"\")","v":""}]
[1,{"$f":"IF('3 - SPECIE DA IMPIANTARE'!$H88=\"AZIONE_1\",'3 - SPECIE DA IMPIANTARE'!$H88,\"\")","v":""},{"$f":"IF('3 - SPECIE DA IMPIANTARE'!$G88=1,'3 - SPECIE DA IMPIANTARE'!$G88,\"\")","v":""},{"$f":"IF(AND($B87=\"AZIONE_1\",C87=1),'3 - SPECIE DA IMPIANTARE'!$I88,\"\")","v":""},null,{"$f":"IF('3 - SPECIE DA IMPIANTARE'!$G88=2,'3 - SPECIE DA IMPIANTARE'!$G88,\"\")","v":""},{"$f":"IF(AND($B87=\"AZIONE_1\",F87=2),'3 - SPECIE DA IMPIANTARE'!$I88,\"\")","v":""},null,{"$f":"IF('3 - SPECIE DA IMPIANTARE'!$G88=3,'3 - SPECIE DA IMPIANTARE'!$G88,\"\")","v":""},{"$f":"IF(AND($B87=\"AZIONE_1\",$I87=3),'3 - SPECIE DA IMPIANTARE'!$I88,\"\")","v":""},null,{"$f":"IF('3 - SPECIE DA IMPIANTARE'!$G88=4,'3 - SPECIE DA IMPIANTARE'!$G88,\"\")","v":""},{"$f":"IF(AND($B87=\"AZIONE_1\",$L87=4),'3 - SPECIE DA IMPIANTARE'!$I88,\"\")","v":""},null,{"$f":"IF('3 - SPECIE DA IMPIANTARE'!$G88=5,'3 - SPECIE DA IMPIANTARE'!$G88,\"\")","v":""},{"$f":"IF(AND($B87=\"AZIONE_1\",$O87=5),'3 - SPECIE DA IMPIANTARE'!$I88,\"\")","v":""},null,{"$f":"IF('3 - SPECIE DA IMPIANTARE'!$G88=6,'3 - SPECIE DA IMPIANTARE'!$G88,\"\")","v":""},{"$f":"IF(AND($B87=\"AZIONE_1\",$R87=6),'3 - SPECIE DA IMPIANTARE'!$I88,\"\")","v":""}]
[1,{"$f":"IF('3 - SPECIE DA IMPIANTARE'!$H89=\"AZIONE_1\",'3 - SPECIE DA IMPIANTARE'!$H89,\"\")","v":""},{"$f":"IF('3 - SPECIE DA IMPIANTARE'!$G89=1,'3 - SPECIE DA IMPIANTARE'!$G89,\"\")","v":""},{"$f":"IF(AND($B88=\"AZIONE_1\",C88=1),'3 - SPECIE DA IMPIANTARE'!$I89,\"\")","v":""},null,{"$f":"IF('3 - SPECIE DA IMPIANTARE'!$G89=2,'3 - SPECIE DA IMPIANTARE'!$G89,\"\")","v":""},{"$f":"IF(AND($B88=\"AZIONE_1\",F88=2),'3 - SPECIE DA IMPIANTARE'!$I89,\"\")","v":""},null,{"$f":"IF('3 - SPECIE DA IMPIANTARE'!$G89=3,'3 - SPECIE DA IMPIANTARE'!$G89,\"\")","v":""},{"$f":"IF(AND($B88=\"AZIONE_1\",$I88=3),'3 - SPECIE DA IMPIANTARE'!$I89,\"\")","v":""},null,{"$f":"IF('3 - SPECIE DA IMPIANTARE'!$G89=4,'3 - SPECIE DA IMPIANTARE'!$G89,\"\")","v":""},{"$f":"IF(AND($B88=\"AZIONE_1\",$L88=4),'3 - SPECIE DA IMPIANTARE'!$I89,\"\")","v":""},null,{"$f":"IF('3 - SPECIE DA IMPIANTARE'!$G89=5,'3 - SPECIE DA IMPIANTARE'!$G89,\"\")","v":""},{"$f":"IF(AND($B88=\"AZIONE_1\",$O88=5),'3 - SPECIE DA IMPIANTARE'!$I89,\"\")","v":""},null,{"$f":"IF('3 - SPECIE DA IMPIANTARE'!$G89=6,'3 - SPECIE DA IMPIANTARE'!$G89,\"\")","v":""},{"$f":"IF(AND($B88=\"AZIONE_1\",$R88=6),'3 - SPECIE DA IMPIANTARE'!$I89,\"\")","v":""}]
[1,{"$f":"IF('3 - SPECIE DA IMPIANTARE'!$H90=\"AZIONE_1\",'3 - SPECIE DA IMPIANTARE'!$H90,\"\")","v":""},{"$f":"IF('3 - SPECIE DA IMPIANTARE'!$G90=1,'3 - SPECIE DA IMPIANTARE'!$G90,\"\")","v":""},{"$f":"IF(AND($B89=\"AZIONE_1\",C89=1),'3 - SPECIE DA IMPIANTARE'!$I90,\"\")","v":""},null,{"$f":"IF('3 - SPECIE DA IMPIANTARE'!$G90=2,'3 - SPECIE DA IMPIANTARE'!$G90,\"\")","v":""},{"$f":"IF(AND($B89=\"AZIONE_1\",F89=2),'3 - SPECIE DA IMPIANTARE'!$I90,\"\")","v":""},null,{"$f":"IF('3 - SPECIE DA IMPIANTARE'!$G90=3,'3 - SPECIE DA IMPIANTARE'!$G90,\"\")","v":""},{"$f":"IF(AND($B89=\"AZIONE_1\",$I89=3),'3 - SPECIE DA IMPIANTARE'!$I90,\"\")","v":""},null,{"$f":"IF('3 - SPECIE DA IMPIANTARE'!$G90=4,'3 - SPECIE DA IMPIANTARE'!$G90,\"\")","v":""},{"$f":"IF(AND($B89=\"AZIONE_1\",$L89=4),'3 - SPECIE DA IMPIANTARE'!$I90,\"\")","v":""},null,{"$f":"IF('3 - SPECIE DA IMPIANTARE'!$G90=5,'3 - SPECIE DA IMPIANTARE'!$G90,\"\")","v":""},{"$f":"IF(AND($B89=\"AZIONE_1\",$O89=5),'3 - SPECIE DA IMPIANTARE'!$I90,\"\")","v":""},null,{"$f":"IF('3 - SPECIE DA IMPIANTARE'!$G90=6,'3 - SPECIE DA IMPIANTARE'!$G90,\"\")","v":""},{"$f":"IF(AND($B89=\"AZIONE_1\",$R89=6),'3 - SPECIE DA IMPIANTARE'!$I90,\"\")","v":""}]
[1,{"$f":"IF('3 - SPECIE DA IMPIANTARE'!$H91=\"AZIONE_1\",'3 - SPECIE DA IMPIANTARE'!$H91,\"\")","v":""},{"$f":"IF('3 - SPECIE DA IMPIANTARE'!$G91=1,'3 - SPECIE DA IMPIANTARE'!$G91,\"\")","v":""},{"$f":"IF(AND($B90=\"AZIONE_1\",C90=1),'3 - SPECIE DA IMPIANTARE'!$I91,\"\")","v":""},null,{"$f":"IF('3 - SPECIE DA IMPIANTARE'!$G91=2,'3 - SPECIE DA IMPIANTARE'!$G91,\"\")","v":""},{"$f":"IF(AND($B90=\"AZIONE_1\",F90=2),'3 - SPECIE DA IMPIANTARE'!$I91,\"\")","v":""},null,{"$f":"IF('3 - SPECIE DA IMPIANTARE'!$G91=3,'3 - SPECIE DA IMPIANTARE'!$G91,\"\")","v":""},{"$f":"IF(AND($B90=\"AZIONE_1\",$I90=3),'3 - SPECIE DA IMPIANTARE'!$I91,\"\")","v":""},null,{"$f":"IF('3 - SPECIE DA IMPIANTARE'!$G91=4,'3 - SPECIE DA IMPIANTARE'!$G91,\"\")","v":""},{"$f":"IF(AND($B90=\"AZIONE_1\",$L90=4),'3 - SPECIE DA IMPIANTARE'!$I91,\"\")","v":""},null,{"$f":"IF('3 - SPECIE DA IMPIANTARE'!$G91=5,'3 - SPECIE DA IMPIANTARE'!$G91,\"\")","v":""},{"$f":"IF(AND($B90=\"AZIONE_1\",$O90=5),'3 - SPECIE DA IMPIANTARE'!$I91,\"\")","v":""},null,{"$f":"IF('3 - SPECIE DA IMPIANTARE'!$G91=6,'3 - SPECIE DA IMPIANTARE'!$G91,\"\")","v":""},{"$f":"IF(AND($B90=\"AZIONE_1\",$R90=6),'3 - SPECIE DA IMPIANTARE'!$I91,\"\")","v":""}]
[1,{"$f":"IF('3 - SPECIE DA IMPIANTARE'!$H92=\"AZIONE_1\",'3 - SPECIE DA IMPIANTARE'!$H92,\"\")","v":""},{"$f":"IF('3 - SPECIE DA IMPIANTARE'!$G92=1,'3 - SPECIE DA IMPIANTARE'!$G92,\"\")","v":""},{"$f":"IF(AND($B91=\"AZIONE_1\",C91=1),'3 - SPECIE DA IMPIANTARE'!$I92,\"\")","v":""},null,{"$f":"IF('3 - SPECIE DA IMPIANTARE'!$G92=2,'3 - SPECIE DA IMPIANTARE'!$G92,\"\")","v":""},{"$f":"IF(AND($B91=\"AZIONE_1\",F91=2),'3 - SPECIE DA IMPIANTARE'!$I92,\"\")","v":""},null,{"$f":"IF('3 - SPECIE DA IMPIANTARE'!$G92=3,'3 - SPECIE DA IMPIANTARE'!$G92,\"\")","v":""},{"$f":"IF(AND($B91=\"AZIONE_1\",$I91=3),'3 - SPECIE DA IMPIANTARE'!$I92,\"\")","v":""},null,{"$f":"IF('3 - SPECIE DA IMPIANTARE'!$G92=4,'3 - SPECIE DA IMPIANTARE'!$G92,\"\")","v":""},{"$f":"IF(AND($B91=\"AZIONE_1\",$L91=4),'3 - SPECIE DA IMPIANTARE'!$I92,\"\")","v":""},null,{"$f":"IF('3 - SPECIE DA IMPIANTARE'!$G92=5,'3 - SPECIE DA IMPIANTARE'!$G92,\"\")","v":""},{"$f":"IF(AND($B91=\"AZIONE_1\",$O91=5),'3 - SPECIE DA IMPIANTARE'!$I92,\"\")","v":""},null,{"$f":"IF('3 - SPECIE DA IMPIANTARE'!$G92=6,'3 - SPECIE DA IMPIANTARE'!$G92,\"\")","v":""},{"$f":"IF(AND($B91=\"AZIONE_1\",$R91=6),'3 - SPECIE DA IMPIANTARE'!$I92,\"\")","v":""}]
[1,{"$f":"IF('3 - SPECIE DA IMPIANTARE'!$H93=\"AZIONE_1\",'3 - SPECIE DA IMPIANTARE'!$H93,\"\")","v":""},{"$f":"IF('3 - SPECIE DA IMPIANTARE'!$G93=1,'3 - SPECIE DA IMPIANTARE'!$G93,\"\")","v":""},{"$f":"IF(AND($B92=\"AZIONE_1\",C92=1),'3 - SPECIE DA IMPIANTARE'!$I93,\"\")","v":""},null,{"$f":"IF('3 - SPECIE DA IMPIANTARE'!$G93=2,'3 - SPECIE DA IMPIANTARE'!$G93,\"\")","v":""},{"$f":"IF(AND($B92=\"AZIONE_1\",F92=2),'3 - SPECIE DA IMPIANTARE'!$I93,\"\")","v":""},null,{"$f":"IF('3 - SPECIE DA IMPIANTARE'!$G93=3,'3 - SPECIE DA IMPIANTARE'!$G93,\"\")","v":""},{"$f":"IF(AND($B92=\"AZIONE_1\",$I92=3),'3 - SPECIE DA IMPIANTARE'!$I93,\"\")","v":""},null,{"$f":"IF('3 - SPECIE DA IMPIANTARE'!$G93=4,'3 - SPECIE DA IMPIANTARE'!$G93,\"\")","v":""},{"$f":"IF(AND($B92=\"AZIONE_1\",$L92=4),'3 - SPECIE DA IMPIANTARE'!$I93,\"\")","v":""},null,{"$f":"IF('3 - SPECIE DA IMPIANTARE'!$G93=5,'3 - SPECIE DA IMPIANTARE'!$G93,\"\")","v":""},{"$f":"IF(AND($B92=\"AZIONE_1\",$O92=5),'3 - SPECIE DA IMPIANTARE'!$I93,\"\")","v":""},null,{"$f":"IF('3 - SPECIE DA IMPIANTARE'!$G93=6,'3 - SPECIE DA IMPIANTARE'!$G93,\"\")","v":""},{"$f":"IF(AND($B92=\"AZIONE_1\",$R92=6),'3 - SPECIE DA IMPIANTARE'!$I93,\"\")","v":""}]
[1,{"$f":"IF('3 - SPECIE DA IMPIANTARE'!$H94=\"AZIONE_1\",'3 - SPECIE DA IMPIANTARE'!$H94,\"\")","v":""},{"$f":"IF('3 - SPECIE DA IMPIANTARE'!$G94=1,'3 - SPECIE DA IMPIANTARE'!$G94,\"\")","v":""},{"$f":"IF(AND($B93=\"AZIONE_1\",C93=1),'3 - SPECIE DA IMPIANTARE'!$I94,\"\")","v":""},null,{"$f":"IF('3 - SPECIE DA IMPIANTARE'!$G94=2,'3 - SPECIE DA IMPIANTARE'!$G94,\"\")","v":""},{"$f":"IF(AND($B93=\"AZIONE_1\",F93=2),'3 - SPECIE DA IMPIANTARE'!$I94,\"\")","v":""},null,{"$f":"IF('3 - SPECIE DA IMPIANTARE'!$G94=3,'3 - SPECIE DA IMPIANTARE'!$G94,\"\")","v":""},{"$f":"IF(AND($B93=\"AZIONE_1\",$I93=3),'3 - SPECIE DA IMPIANTARE'!$I94,\"\")","v":""},null,{"$f":"IF('3 - SPECIE DA IMPIANTARE'!$G94=4,'3 - SPECIE DA IMPIANTARE'!$G94,\"\")","v":""},{"$f":"IF(AND($B93=\"AZIONE_1\",$L93=4),'3 - SPECIE DA IMPIANTARE'!$I94,\"\")","v":""},null,{"$f":"IF('3 - SPECIE DA IMPIANTARE'!$G94=5,'3 - SPECIE DA IMPIANTARE'!$G94,\"\")","v":""},{"$f":"IF(AND($B93=\"AZIONE_1\",$O93=5),'3 - SPECIE DA IMPIANTARE'!$I94,\"\")","v":""},null,{"$f":"IF('3 - SPECIE DA IMPIANTARE'!$G94=6,'3 - SPECIE DA IMPIANTARE'!$G94,\"\")","v":""},{"$f":"IF(AND($B93=\"AZIONE_1\",$R93=6),'3 - SPECIE DA IMPIANTARE'!$I94,\"\")","v":""}]
[1,{"$f":"IF('3 - SPECIE DA IMPIANTARE'!$H95=\"AZIONE_1\",'3 - SPECIE DA IMPIANTARE'!$H95,\"\")","v":""},{"$f":"IF('3 - SPECIE DA IMPIANTARE'!$G95=1,'3 - SPECIE DA IMPIANTARE'!$G95,\"\")","v":""},{"$f":"IF(AND($B94=\"AZIONE_1\",C94=1),'3 - SPECIE DA IMPIANTARE'!$I95,\"\")","v":""},null,{"$f":"IF('3 - SPECIE DA IMPIANTARE'!$G95=2,'3 - SPECIE DA IMPIANTARE'!$G95,\"\")","v":""},{"$f":"IF(AND($B94=\"AZIONE_1\",F94=2),'3 - SPECIE DA IMPIANTARE'!$I95,\"\")","v":""},null,{"$f":"IF('3 - SPECIE DA IMPIANTARE'!$G95=3,'3 - SPECIE DA IMPIANTARE'!$G95,\"\")","v":""},{"$f":"IF(AND($B94=\"AZIONE_1\",$I94=3),'3 - SPECIE DA IMPIANTARE'!$I95,\"\")","v":""},null,{"$f":"IF('3 - SPECIE DA IMPIANTARE'!$G95=4,'3 - SPECIE DA IMPIANTARE'!$G95,\"\")","v":""},{"$f":"IF(AND($B94=\"AZIONE_1\",$L94=4),'3 - SPECIE DA IMPIANTARE'!$I95,\"\")","v":""},null,{"$f":"IF('3 - SPECIE DA IMPIANTARE'!$G95=5,'3 - SPECIE DA IMPIANTARE'!$G95,\"\")","v":""},{"$f":"IF(AND($B94=\"AZIONE_1\",$O94=5),'3 - SPECIE DA IMPIANTARE'!$I95,\"\")","v":""},null,{"$f":"IF('3 - SPECIE DA IMPIANTARE'!$G95=6,'3 - SPECIE DA IMPIANTARE'!$G95,\"\")","v":""},{"$f":"IF(AND($B94=\"AZIONE_1\",$R94=6),'3 - SPECIE DA IMPIANTARE'!$I95,\"\")","v":""}]
[1,{"$f":"IF('3 - SPECIE DA IMPIANTARE'!$H96=\"AZIONE_1\",'3 - SPECIE DA IMPIANTARE'!$H96,\"\")","v":""},{"$f":"IF('3 - SPECIE DA IMPIANTARE'!$G96=1,'3 - SPECIE DA IMPIANTARE'!$G96,\"\")","v":""},{"$f":"IF(AND($B95=\"AZIONE_1\",C95=1),'3 - SPECIE DA IMPIANTARE'!$I96,\"\")","v":""},null,{"$f":"IF('3 - SPECIE DA IMPIANTARE'!$G96=2,'3 - SPECIE DA IMPIANTARE'!$G96,\"\")","v":""},{"$f":"IF(AND($B95=\"AZIONE_1\",F95=2),'3 - SPECIE DA IMPIANTARE'!$I96,\"\")","v":""},null,{"$f":"IF('3 - SPECIE DA IMPIANTARE'!$G96=3,'3 - SPECIE DA IMPIANTARE'!$G96,\"\")","v":""},{"$f":"IF(AND($B95=\"AZIONE_1\",$I95=3),'3 - SPECIE DA IMPIANTARE'!$I96,\"\")","v":""},null,{"$f":"IF('3 - SPECIE DA IMPIANTARE'!$G96=4,'3 - SPECIE DA IMPIANTARE'!$G96,\"\")","v":""},{"$f":"IF(AND($B95=\"AZIONE_1\",$L95=4),'3 - SPECIE DA IMPIANTARE'!$I96,\"\")","v":""},null,{"$f":"IF('3 - SPECIE DA IMPIANTARE'!$G96=5,'3 - SPECIE DA IMPIANTARE'!$G96,\"\")","v":""},{"$f":"IF(AND($B95=\"AZIONE_1\",$O95=5),'3 - SPECIE DA IMPIANTARE'!$I96,\"\")","v":""},null,{"$f":"IF('3 - SPECIE DA IMPIANTARE'!$G96=6,'3 - SPECIE DA IMPIANTARE'!$G96,\"\")","v":""},{"$f":"IF(AND($B95=\"AZIONE_1\",$R95=6),'3 - SPECIE DA IMPIANTARE'!$I96,\"\")","v":""}]
[1,{"$f":"IF('3 - SPECIE DA IMPIANTARE'!$H97=\"AZIONE_1\",'3 - SPECIE DA IMPIANTARE'!$H97,\"\")","v":""},{"$f":"IF('3 - SPECIE DA IMPIANTARE'!$G97=1,'3 - SPECIE DA IMPIANTARE'!$G97,\"\")","v":""},{"$f":"IF(AND($B96=\"AZIONE_1\",C96=1),'3 - SPECIE DA IMPIANTARE'!$I97,\"\")","v":""},null,{"$f":"IF('3 - SPECIE DA IMPIANTARE'!$G97=2,'3 - SPECIE DA IMPIANTARE'!$G97,\"\")","v":""},{"$f":"IF(AND($B96=\"AZIONE_1\",F96=2),'3 - SPECIE DA IMPIANTARE'!$I97,\"\")","v":""},null,{"$f":"IF('3 - SPECIE DA IMPIANTARE'!$G97=3,'3 - SPECIE DA IMPIANTARE'!$G97,\"\")","v":""},{"$f":"IF(AND($B96=\"AZIONE_1\",$I96=3),'3 - SPECIE DA IMPIANTARE'!$I97,\"\")","v":""},null,{"$f":"IF('3 - SPECIE DA IMPIANTARE'!$G97=4,'3 - SPECIE DA IMPIANTARE'!$G97,\"\")","v":""},{"$f":"IF(AND($B96=\"AZIONE_1\",$L96=4),'3 - SPECIE DA IMPIANTARE'!$I97,\"\")","v":""},null,{"$f":"IF('3 - SPECIE DA IMPIANTARE'!$G97=5,'3 - SPECIE DA IMPIANTARE'!$G97,\"\")","v":""},{"$f":"IF(AND($B96=\"AZIONE_1\",$O96=5),'3 - SPECIE DA IMPIANTARE'!$I97,\"\")","v":""},null,{"$f":"IF('3 - SPECIE DA IMPIANTARE'!$G97=6,'3 - SPECIE DA IMPIANTARE'!$G97,\"\")","v":""},{"$f":"IF(AND($B96=\"AZIONE_1\",$R96=6),'3 - SPECIE DA IMPIANTARE'!$I97,\"\")","v":""}]
[1,{"$f":"IF('3 - SPECIE DA IMPIANTARE'!$H98=\"AZIONE_1\",'3 - SPECIE DA IMPIANTARE'!$H98,\"\")","v":""},{"$f":"IF('3 - SPECIE DA IMPIANTARE'!$G98=1,'3 - SPECIE DA IMPIANTARE'!$G98,\"\")","v":""},{"$f":"IF(AND($B97=\"AZIONE_1\",C97=1),'3 - SPECIE DA IMPIANTARE'!$I98,\"\")","v":""},null,{"$f":"IF('3 - SPECIE DA IMPIANTARE'!$G98=2,'3 - SPECIE DA IMPIANTARE'!$G98,\"\")","v":""},{"$f":"IF(AND($B97=\"AZIONE_1\",F97=2),'3 - SPECIE DA IMPIANTARE'!$I98,\"\")","v":""},null,{"$f":"IF('3 - SPECIE DA IMPIANTARE'!$G98=3,'3 - SPECIE DA IMPIANTARE'!$G98,\"\")","v":""},{"$f":"IF(AND($B97=\"AZIONE_1\",$I97=3),'3 - SPECIE DA IMPIANTARE'!$I98,\"\")","v":""},null,{"$f":"IF('3 - SPECIE DA IMPIANTARE'!$G98=4,'3 - SPECIE DA IMPIANTARE'!$G98,\"\")","v":""},{"$f":"IF(AND($B97=\"AZIONE_1\",$L97=4),'3 - SPECIE DA IMPIANTARE'!$I98,\"\")","v":""},null,{"$f":"IF('3 - SPECIE DA IMPIANTARE'!$G98=5,'3 - SPECIE DA IMPIANTARE'!$G98,\"\")","v":""},{"$f":"IF(AND($B97=\"AZIONE_1\",$O97=5),'3 - SPECIE DA IMPIANTARE'!$I98,\"\")","v":""},null,{"$f":"IF('3 - SPECIE DA IMPIANTARE'!$G98=6,'3 - SPECIE DA IMPIANTARE'!$G98,\"\")","v":""},{"$f":"IF(AND($B97=\"AZIONE_1\",$R97=6),'3 - SPECIE DA IMPIANTARE'!$I98,\"\")","v":""}]
[1,{"$f":"IF('3 - SPECIE DA IMPIANTARE'!$H99=\"AZIONE_1\",'3 - SPECIE DA IMPIANTARE'!$H99,\"\")","v":""},{"$f":"IF('3 - SPECIE DA IMPIANTARE'!$G99=1,'3 - SPECIE DA IMPIANTARE'!$G99,\"\")","v":""},{"$f":"IF(AND($B98=\"AZIONE_1\",C98=1),'3 - SPECIE DA IMPIANTARE'!$I99,\"\")","v":""},null,{"$f":"IF('3 - SPECIE DA IMPIANTARE'!$G99=2,'3 - SPECIE DA IMPIANTARE'!$G99,\"\")","v":""},{"$f":"IF(AND($B98=\"AZIONE_1\",F98=2),'3 - SPECIE DA IMPIANTARE'!$I99,\"\")","v":""},null,{"$f":"IF('3 - SPECIE DA IMPIANTARE'!$G99=3,'3 - SPECIE DA IMPIANTARE'!$G99,\"\")","v":""},{"$f":"IF(AND($B98=\"AZIONE_1\",$I98=3),'3 - SPECIE DA IMPIANTARE'!$I99,\"\")","v":""},null,{"$f":"IF('3 - SPECIE DA IMPIANTARE'!$G99=4,'3 - SPECIE DA IMPIANTARE'!$G99,\"\")","v":""},{"$f":"IF(AND($B98=\"AZIONE_1\",$L98=4),'3 - SPECIE DA IMPIANTARE'!$I99,\"\")","v":""},null,{"$f":"IF('3 - SPECIE DA IMPIANTARE'!$G99=5,'3 - SPECIE DA IMPIANTARE'!$G99,\"\")","v":""},{"$f":"IF(AND($B98=\"AZIONE_1\",$O98=5),'3 - SPECIE DA IMPIANTARE'!$I99,\"\")","v":""},null,{"$f":"IF('3 - SPECIE DA IMPIANTARE'!$G99=6,'3 - SPECIE DA IMPIANTARE'!$G99,\"\")","v":""},{"$f":"IF(AND($B98=\"AZIONE_1\",$R98=6),'3 - SPECIE DA IMPIANTARE'!$I99,\"\")","v":""}]
[1,{"$f":"IF('3 - SPECIE DA IMPIANTARE'!$H100=\"AZIONE_1\",'3 - SPECIE DA IMPIANTARE'!$H100,\"\")","v":""},{"$f":"IF('3 - SPECIE DA IMPIANTARE'!$G100=1,'3 - SPECIE DA IMPIANTARE'!$G100,\"\")","v":""},{"$f":"IF(AND($B99=\"AZIONE_1\",C99=1),'3 - SPECIE DA IMPIANTARE'!$I100,\"\")","v":""},null,{"$f":"IF('3 - SPECIE DA IMPIANTARE'!$G100=2,'3 - SPECIE DA IMPIANTARE'!$G100,\"\")","v":""},{"$f":"IF(AND($B99=\"AZIONE_1\",F99=2),'3 - SPECIE DA IMPIANTARE'!$I100,\"\")","v":""},null,{"$f":"IF('3 - SPECIE DA IMPIANTARE'!$G100=3,'3 - SPECIE DA IMPIANTARE'!$G100,\"\")","v":""},{"$f":"IF(AND($B99=\"AZIONE_1\",$I99=3),'3 - SPECIE DA IMPIANTARE'!$I100,\"\")","v":""},null,{"$f":"IF('3 - SPECIE DA IMPIANTARE'!$G100=4,'3 - SPECIE DA IMPIANTARE'!$G100,\"\")","v":""},{"$f":"IF(AND($B99=\"AZIONE_1\",$L99=4),'3 - SPECIE DA IMPIANTARE'!$I100,\"\")","v":""},null,{"$f":"IF('3 - SPECIE DA IMPIANTARE'!$G100=5,'3 - SPECIE DA IMPIANTARE'!$G100,\"\")","v":""},{"$f":"IF(AND($B99=\"AZIONE_1\",$O99=5),'3 - SPECIE DA IMPIANTARE'!$I100,\"\")","v":""},null,{"$f":"IF('3 - SPECIE DA IMPIANTARE'!$G100=6,'3 - SPECIE DA IMPIANTARE'!$G100,\"\")","v":""},{"$f":"IF(AND($B99=\"AZIONE_1\",$R99=6),'3 - SPECIE DA IMPIANTARE'!$I100,\"\")","v":""}]
[1,{"$f":"IF('3 - SPECIE DA IMPIANTARE'!$H101=\"AZIONE_1\",'3 - SPECIE DA IMPIANTARE'!$H101,\"\")","v":""},{"$f":"IF('3 - SPECIE DA IMPIANTARE'!$G101=1,'3 - SPECIE DA IMPIANTARE'!$G101,\"\")","v":""},{"$f":"IF(AND($B100=\"AZIONE_1\",C100=1),'3 - SPECIE DA IMPIANTARE'!$I101,\"\")","v":""},null,{"$f":"IF('3 - SPECIE DA IMPIANTARE'!$G101=2,'3 - SPECIE DA IMPIANTARE'!$G101,\"\")","v":""},{"$f":"IF(AND($B100=\"AZIONE_1\",F100=2),'3 - SPECIE DA IMPIANTARE'!$I101,\"\")","v":""},null,{"$f":"IF('3 - SPECIE DA IMPIANTARE'!$G101=3,'3 - SPECIE DA IMPIANTARE'!$G101,\"\")","v":""},{"$f":"IF(AND($B100=\"AZIONE_1\",$I100=3),'3 - SPECIE DA IMPIANTARE'!$I101,\"\")","v":""},null,{"$f":"IF('3 - SPECIE DA IMPIANTARE'!$G101=4,'3 - SPECIE DA IMPIANTARE'!$G101,\"\")","v":""},{"$f":"IF(AND($B100=\"AZIONE_1\",$L100=4),'3 - SPECIE DA IMPIANTARE'!$I101,\"\")","v":""},null,{"$f":"IF('3 - SPECIE DA IMPIANTARE'!$G101=5,'3 - SPECIE DA IMPIANTARE'!$G101,\"\")","v":""},{"$f":"IF(AND($B100=\"AZIONE_1\",$O100=5),'3 - SPECIE DA IMPIANTARE'!$I101,\"\")","v":""},null,{"$f":"IF('3 - SPECIE DA IMPIANTARE'!$G101=6,'3 - SPECIE DA IMPIANTARE'!$G101,\"\")","v":""},{"$f":"IF(AND($B100=\"AZIONE_1\",$R100=6),'3 - SPECIE DA IMPIANTARE'!$I101,\"\")","v":""}]
[1,{"$f":"IF('3 - SPECIE DA IMPIANTARE'!$H102=\"AZIONE_1\",'3 - SPECIE DA IMPIANTARE'!$H102,\"\")","v":""},{"$f":"IF('3 - SPECIE DA IMPIANTARE'!$G102=1,'3 - SPECIE DA IMPIANTARE'!$G102,\"\")","v":""},{"$f":"IF(AND($B101=\"AZIONE_1\",C101=1),'3 - SPECIE DA IMPIANTARE'!$I102,\"\")","v":""},null,{"$f":"IF('3 - SPECIE DA IMPIANTARE'!$G102=2,'3 - SPECIE DA IMPIANTARE'!$G102,\"\")","v":""},{"$f":"IF(AND($B101=\"AZIONE_1\",F101=2),'3 - SPECIE DA IMPIANTARE'!$I102,\"\")","v":""},null,{"$f":"IF('3 - SPECIE DA IMPIANTARE'!$G102=3,'3 - SPECIE DA IMPIANTARE'!$G102,\"\")","v":""},{"$f":"IF(AND($B101=\"AZIONE_1\",$I101=3),'3 - SPECIE DA IMPIANTARE'!$I102,\"\")","v":""},null,{"$f":"IF('3 - SPECIE DA IMPIANTARE'!$G102=4,'3 - SPECIE DA IMPIANTARE'!$G102,\"\")","v":""},{"$f":"IF(AND($B101=\"AZIONE_1\",$L101=4),'3 - SPECIE DA IMPIANTARE'!$I102,\"\")","v":""},null,{"$f":"IF('3 - SPECIE DA IMPIANTARE'!$G102=5,'3 - SPECIE DA IMPIANTARE'!$G102,\"\")","v":""},{"$f":"IF(AND($B101=\"AZIONE_1\",$O101=5),'3 - SPECIE DA IMPIANTARE'!$I102,\"\")","v":""},null,{"$f":"IF('3 - SPECIE DA IMPIANTARE'!$G102=6,'3 - SPECIE DA IMPIANTARE'!$G102,\"\")","v":""},{"$f":"IF(AND($B101=\"AZIONE_1\",$R101=6),'3 - SPECIE DA IMPIANTARE'!$I102,\"\")","v":""}]
[2,{"$f":"B2","v":""},{"$f":"C2","v":""},{"$f":"IF(AND($B102=\"AZIONE_1\",C102=1),'3 - SPECIE DA IMPIANTARE'!$L3,\"\")","v":""},null,{"$f":"F2","v":""},{"$f":"IF(AND($B102=\"AZIONE_1\",F102=2),'3 - SPECIE DA IMPIANTARE'!$L3,\"\")","v":""},null,{"$f":"I2","v":""},{"$f":"IF(AND($B102=\"AZIONE_1\",$I102=3),'3 - SPECIE DA IMPIANTARE'!$L3,\"\")","v":""},null,{"$f":"L2","v":""},{"$f":"IF(AND($B102=\"AZIONE_1\",$L102=4),'3 - SPECIE DA IMPIANTARE'!$L3,\"\")","v":""},null,{"$f":"O2","v":""},{"$f":"IF(AND($B102=\"AZIONE_1\",$O102=5),'3 - SPECIE DA IMPIANTARE'!$L3,\"\")","v":""},null,{"$f":"R2","v":""},{"$f":"IF(AND($B102=\"AZIONE_1\",$R102=6),'3 - SPECIE DA IMPIANTARE'!$L3,\"\")","v":""}]
[2,{"$f":"B3","v":""},"",{"$f":"IF(AND($B103=\"AZIONE_1\",C103=1),'3 - SPECIE DA IMPIANTARE'!$L4,\"\")","v":""},null,{"$f":"F3","v":""},{"$f":"IF(AND($B103=\"AZIONE_1\",F103=2),'3 - SPECIE DA IMPIANTARE'!$L4,\"\")","v":""},null,{"$f":"I3","v":""},{"$f":"IF(AND($B103=\"AZIONE_1\",$I103=3),'3 - SPECIE DA IMPIANTARE'!$L4,\"\")","v":""},null,{"$f":"L3","v":""},{"$f":"IF(AND($B103=\"AZIONE_1\",$L103=4),'3 - SPECIE DA IMPIANTARE'!$L4,\"\")","v":""},null,{"$f":"O3","v":""},{"$f":"IF(AND($B103=\"AZIONE_1\",$O103=5),'3 - SPECIE DA IMPIANTARE'!$L4,\"\")","v":""},null,{"$f":"R3","v":""},{"$f":"IF(AND($B103=\"AZIONE_1\",$R103=6),'3 - SPECIE DA IMPIANTARE'!$L4,\"\")","v":""}]
[2,{"$f":"B4","v":""},"",{"$f":"IF(AND($B104=\"AZIONE_1\",C104=1),'3 - SPECIE DA IMPIANTARE'!$L5,\"\")","v":""},null,{"$f":"F4","v":""},{"$f":"IF(AND($B104=\"AZIONE_1\",F104=2),'3 - SPECIE DA IMPIANTARE'!$L5,\"\")","v":""},null,"",{"$f":"IF(AND($B104=\"AZIONE_1\",$I104=3),'3 - SPECIE DA IMPIANTARE'!$L5,\"\")","v":""},null,"",{"$f":"IF(AND($B104=\"AZIONE_1\",$L104=4),'3 - SPECIE DA IMPIANTARE'!$L5,\"\")","v":""},null,"",{"$f":"IF(AND($B104=\"AZIONE_1\",$O104=5),'3 - SPECIE DA IMPIANTARE'!$L5,\"\")","v":""},null,"",{"$f":"IF(AND($B104=\"AZIONE_1\",$R104=6),'3 - SPECIE DA IMPIANTARE'!$L5,\"\")","v":""}]
[2,{"$f":"B5","v":""},"",{"$f":"IF(AND($B105=\"AZIONE_1\",C105=1),'3 - SPECIE DA IMPIANTARE'!$L6,\"\")","v":""},null,{"$f":"F5","v":""},{"$f":"IF(AND($B105=\"AZIONE_1\",F105=2),'3 - SPECIE DA IMPIANTARE'!$L6,\"\")","v":""},null,"",{"$f":"IF(AND($B105=\"AZIONE_1\",$I105=3),'3 - SPECIE DA IMPIANTARE'!$L6,\"\")","v":""},null,"",{"$f":"IF(AND($B105=\"AZIONE_1\",$L105=4),'3 - SPECIE DA IMPIANTARE'!$L6,\"\")","v":""},null,"",{"$f":"IF(AND($B105=\"AZIONE_1\",$O105=5),'3 - SPECIE DA IMPIANTARE'!$L6,\"\")","v":""},null,"",{"$f":"IF(AND($B105=\"AZIONE_1\",$R105=6),'3 - SPECIE DA IMPIANTARE'!$L6,\"\")","v":""}]
[2,{"$f":"B6","v":""},"",{"$f":"IF(AND($B106=\"AZIONE_1\",C106=1),'3 - SPECIE DA IMPIANTARE'!$L7,\"\")","v":""},null,{"$f":"F6","v":""},{"$f":"IF(AND($B106=\"AZIONE_1\",F106=2),'3 - SPECIE DA IMPIANTARE'!$L7,\"\")","v":""},null,"",{"$f":"IF(AND($B106=\"AZIONE_1\",$I106=3),'3 - SPECIE DA IMPIANTARE'!$L7,\"\")","v":""},null,"",{"$f":"IF(AND($B106=\"AZIONE_1\",$L106=4),'3 - SPECIE DA IMPIANTARE'!$L7,\"\")","v":""},null,"",{"$f":"IF(AND($B106=\"AZIONE_1\",$O106=5),'3 - SPECIE DA IMPIANTARE'!$L7,\"\")","v":""},null,"",{"$f":"IF(AND($B106=\"AZIONE_1\",$R106=6),'3 - SPECIE DA IMPIANTARE'!$L7,\"\")","v":""}]
[2,{"$f":"B7","v":""},"",{"$f":"IF(AND($B107=\"AZIONE_1\",C107=1),'3 - SPECIE DA IMPIANTARE'!$L8,\"\")","v":""},null,{"$f":"F7","v":""},{"$f":"IF(AND($B107=\"AZIONE_1\",F107=2),'3 - SPECIE DA IMPIANTARE'!$L8,\"\")","v":""},null,"",{"$f":"IF(AND($B107=\"AZIONE_1\",$I107=3),'3 - SPECIE DA IMPIANTARE'!$L8,\"\")","v":""},null,"",{"$f":"IF(AND($B107=\"AZIONE_1\",$L107=4),'3 - SPECIE DA IMPIANTARE'!$L8,\"\")","v":""},null,"",{"$f":"IF(AND($B107=\"AZIONE_1\",$O107=5),'3 - SPECIE DA IMPIANTARE'!$L8,\"\")","v":""},null,"",{"$f":"IF(AND($B107=\"AZIONE_1\",$R107=6),'3 - SPECIE DA IMPIANTARE'!$L8,\"\")","v":""}]
[2,{"$f":"B8","v":""},"",{"$f":"IF(AND($B108=\"AZIONE_1\",C108=1),'3 - SPECIE DA IMPIANTARE'!$L9,\"\")","v":""},null,{"$f":"F8","v":""},{"$f":"IF(AND($B108=\"AZIONE_1\",F108=2),'3 - SPECIE DA IMPIANTARE'!$L9,\"\")","v":""},null,"",{"$f":"IF(AND($B108=\"AZIONE_1\",$I108=3),'3 - SPECIE DA IMPIANTARE'!$L9,\"\")","v":""},null,"",{"$f":"IF(AND($B108=\"AZIONE_1\",$L108=4),'3 - SPECIE DA IMPIANTARE'!$L9,\"\")","v":""},null,"",{"$f":"IF(AND($B108=\"AZIONE_1\",$O108=5),'3 - SPECIE DA IMPIANTARE'!$L9,\"\")","v":""},null,"",{"$f":"IF(AND($B108=\"AZIONE_1\",$R108=6),'3 - SPECIE DA IMPIANTARE'!$L9,\"\")","v":""}]
[2,{"$f":"B9","v":""},"",{"$f":"IF(AND($B109=\"AZIONE_1\",C109=1),'3 - SPECIE DA IMPIANTARE'!$L10,\"\")","v":""},null,{"$f":"F9","v":""},{"$f":"IF(AND($B109=\"AZIONE_1\",F109=2),'3 - SPECIE DA IMPIANTARE'!$L10,\"\")","v":""},null,"",{"$f":"IF(AND($B109=\"AZIONE_1\",$I109=3),'3 - SPECIE DA IMPIANTARE'!$L10,\"\")","v":""},null,"",{"$f":"IF(AND($B109=\"AZIONE_1\",$L109=4),'3 - SPECIE DA IMPIANTARE'!$L10,\"\")","v":""},null,"",{"$f":"IF(AND($B109=\"AZIONE_1\",$O109=5),'3 - SPECIE DA IMPIANTARE'!$L10,\"\")","v":""},null,"",{"$f":"IF(AND($B109=\"AZIONE_1\",$R109=6),'3 - SPECIE DA IMPIANTARE'!$L10,\"\")","v":""}]
[2,{"$f":"B10","v":""},"",{"$f":"IF(AND($B110=\"AZIONE_1\",C110=1),'3 - SPECIE DA IMPIANTARE'!$L11,\"\")","v":""},null,{"$f":"F10","v":""},{"$f":"IF(AND($B110=\"AZIONE_1\",F110=2),'3 - SPECIE DA IMPIANTARE'!$L11,\"\")","v":""},null,"",{"$f":"IF(AND($B110=\"AZIONE_1\",$I110=3),'3 - SPECIE DA IMPIANTARE'!$L11,\"\")","v":""},null,"",{"$f":"IF(AND($B110=\"AZIONE_1\",$L110=4),'3 - SPECIE DA IMPIANTARE'!$L11,\"\")","v":""},null,"",{"$f":"IF(AND($B110=\"AZIONE_1\",$O110=5),'3 - SPECIE DA IMPIANTARE'!$L11,\"\")","v":""},null,"",{"$f":"IF(AND($B110=\"AZIONE_1\",$R110=6),'3 - SPECIE DA IMPIANTARE'!$L11,\"\")","v":""}]
[2,{"$f":"B11","v":""},"",{"$f":"IF(AND($B111=\"AZIONE_1\",C111=1),'3 - SPECIE DA IMPIANTARE'!$L12,\"\")","v":""},null,{"$f":"F11","v":""},{"$f":"IF(AND($B111=\"AZIONE_1\",F111=2),'3 - SPECIE DA IMPIANTARE'!$L12,\"\")","v":""},null,"",{"$f":"IF(AND($B111=\"AZIONE_1\",$I111=3),'3 - SPECIE DA IMPIANTARE'!$L12,\"\")","v":""},null,"",{"$f":"IF(AND($B111=\"AZIONE_1\",$L111=4),'3 - SPECIE DA IMPIANTARE'!$L12,\"\")","v":""},null,"",{"$f":"IF(AND($B111=\"AZIONE_1\",$O111=5),'3 - SPECIE DA IMPIANTARE'!$L12,\"\")","v":""},null,"",{"$f":"IF(AND($B111=\"AZIONE_1\",$R111=6),'3 - SPECIE DA IMPIANTARE'!$L12,\"\")","v":""}]
[2,{"$f":"B12","v":""},"",{"$f":"IF(AND($B112=\"AZIONE_1\",C112=1),'3 - SPECIE DA IMPIANTARE'!$L13,\"\")","v":""},null,{"$f":"F12","v":""},{"$f":"IF(AND($B112=\"AZIONE_1\",F112=2),'3 - SPECIE DA IMPIANTARE'!$L13,\"\")","v":""},null,"",{"$f":"IF(AND($B112=\"AZIONE_1\",$I112=3),'3 - SPECIE DA IMPIANTARE'!$L13,\"\")","v":""},null,"",{"$f":"IF(AND($B112=\"AZIONE_1\",$L112=4),'3 - SPECIE DA IMPIANTARE'!$L13,\"\")","v":""},null,"",{"$f":"IF(AND($B112=\"AZIONE_1\",$O112=5),'3 - SPECIE DA IMPIANTARE'!$L13,\"\")","v":""},null,"",{"$f":"IF(AND($B112=\"AZIONE_1\",$R112=6),'3 - SPECIE DA IMPIANTARE'!$L13,\"\")","v":""}]
[2,{"$f":"B13","v":""},"",{"$f":"IF(AND($B113=\"AZIONE_1\",C113=1),'3 - SPECIE DA IMPIANTARE'!$L14,\"\")","v":""},null,{"$f":"F13","v":""},{"$f":"IF(AND($B113=\"AZIONE_1\",F113=2),'3 - SPECIE DA IMPIANTARE'!$L14,\"\")","v":""},null,"",{"$f":"IF(AND($B113=\"AZIONE_1\",$I113=3),'3 - SPECIE DA IMPIANTARE'!$L14,\"\")","v":""},null,"",{"$f":"IF(AND($B113=\"AZIONE_1\",$L113=4),'3 - SPECIE DA IMPIANTARE'!$L14,\"\")","v":""},null,"",{"$f":"IF(AND($B113=\"AZIONE_1\",$O113=5),'3 - SPECIE DA IMPIANTARE'!$L14,\"\")","v":""},null,"",{"$f":"IF(AND($B113=\"AZIONE_1\",$R113=6),'3 - SPECIE DA IMPIANTARE'!$L14,\"\")","v":""}]
[2,{"$f":"B14","v":""},"",{"$f":"IF(AND($B114=\"AZIONE_1\",C114=1),'3 - SPECIE DA IMPIANTARE'!$L15,\"\")","v":""},null,{"$f":"F14","v":""},{"$f":"IF(AND($B114=\"AZIONE_1\",F114=2),'3 - SPECIE DA IMPIANTARE'!$L15,\"\")","v":""},null,"",{"$f":"IF(AND($B114=\"AZIONE_1\",$I114=3),'3 - SPECIE DA IMPIANTARE'!$L15,\"\")","v":""},null,"",{"$f":"IF(AND($B114=\"AZIONE_1\",$L114=4),'3 - SPECIE DA IMPIANTARE'!$L15,\"\")","v":""},null,"",{"$f":"IF(AND($B114=\"AZIONE_1\",$O114=5),'3 - SPECIE DA IMPIANTARE'!$L15,\"\")","v":""},null,"",{"$f":"IF(AND($B114=\"AZIONE_1\",$R114=6),'3 - SPECIE DA IMPIANTARE'!$L15,\"\")","v":""}]
[2,{"$f":"B15","v":""},"",{"$f":"IF(AND($B115=\"AZIONE_1\",C115=1),'3 - SPECIE DA IMPIANTARE'!$L16,\"\")","v":""},null,{"$f":"F15","v":""},{"$f":"IF(AND($B115=\"AZIONE_1\",F115=2),'3 - SPECIE DA IMPIANTARE'!$L16,\"\")","v":""},null,"",{"$f":"IF(AND($B115=\"AZIONE_1\",$I115=3),'3 - SPECIE DA IMPIANTARE'!$L16,\"\")","v":""},null,"",{"$f":"IF(AND($B115=\"AZIONE_1\",$L115=4),'3 - SPECIE DA IMPIANTARE'!$L16,\"\")","v":""},null,"",{"$f":"IF(AND($B115=\"AZIONE_1\",$O115=5),'3 - SPECIE DA IMPIANTARE'!$L16,\"\")","v":""},null,"",{"$f":"IF(AND($B115=\"AZIONE_1\",$R115=6),'3 - SPECIE DA IMPIANTARE'!$L16,\"\")","v":""}]
[2,{"$f":"B16","v":""},"",{"$f":"IF(AND($B116=\"AZIONE_1\",C116=1),'3 - SPECIE DA IMPIANTARE'!$L17,\"\")","v":""},null,{"$f":"F16","v":""},{"$f":"IF(AND($B116=\"AZIONE_1\",F116=2),'3 - SPECIE DA IMPIANTARE'!$L17,\"\")","v":""},null,"",{"$f":"IF(AND($B116=\"AZIONE_1\",$I116=3),'3 - SPECIE DA IMPIANTARE'!$L17,\"\")","v":""},null,"",{"$f":"IF(AND($B116=\"AZIONE_1\",$L116=4),'3 - SPECIE DA IMPIANTARE'!$L17,\"\")","v":""},null,"",{"$f":"IF(AND($B116=\"AZIONE_1\",$O116=5),'3 - SPECIE DA IMPIANTARE'!$L17,\"\")","v":""},null,"",{"$f":"IF(AND($B116=\"AZIONE_1\",$R116=6),'3 - SPECIE DA IMPIANTARE'!$L17,\"\")","v":""}]
[2,{"$f":"B17","v":""},"",{"$f":"IF(AND($B117=\"AZIONE_1\",C117=1),'3 - SPECIE DA IMPIANTARE'!$L18,\"\")","v":""},null,{"$f":"F17","v":""},{"$f":"IF(AND($B117=\"AZIONE_1\",F117=2),'3 - SPECIE DA IMPIANTARE'!$L18,\"\")","v":""},null,"",{"$f":"IF(AND($B117=\"AZIONE_1\",$I117=3),'3 - SPECIE DA IMPIANTARE'!$L18,\"\")","v":""},null,"",{"$f":"IF(AND($B117=\"AZIONE_1\",$L117=4),'3 - SPECIE DA IMPIANTARE'!$L18,\"\")","v":""},null,"",{"$f":"IF(AND($B117=\"AZIONE_1\",$O117=5),'3 - SPECIE DA IMPIANTARE'!$L18,\"\")","v":""},null,"",{"$f":"IF(AND($B117=\"AZIONE_1\",$R117=6),'3 - SPECIE DA IMPIANTARE'!$L18,\"\")","v":""}]
[2,{"$f":"B18","v":""},"",{"$f":"IF(AND($B118=\"AZIONE_1\",C118=1),'3 - SPECIE DA IMPIANTARE'!$L19,\"\")","v":""},null,{"$f":"F18","v":""},{"$f":"IF(AND($B118=\"AZIONE_1\",F118=2),'3 - SPECIE DA IMPIANTARE'!$L19,\"\")","v":""},null,"",{"$f":"IF(AND($B118=\"AZIONE_1\",$I118=3),'3 - SPECIE DA IMPIANTARE'!$L19,\"\")","v":""},null,"",{"$f":"IF(AND($B118=\"AZIONE_1\",$L118=4),'3 - SPECIE DA IMPIANTARE'!$L19,\"\")","v":""},null,"",{"$f":"IF(AND($B118=\"AZIONE_1\",$O118=5),'3 - SPECIE DA IMPIANTARE'!$L19,\"\")","v":""},null,"",{"$f":"IF(AND($B118=\"AZIONE_1\",$R118=6),'3 - SPECIE DA IMPIANTARE'!$L19,\"\")","v":""}]
[2,{"$f":"B19","v":""},"",{"$f":"IF(AND($B119=\"AZIONE_1\",C119=1),'3 - SPECIE DA IMPIANTARE'!$L20,\"\")","v":""},null,{"$f":"F19","v":""},{"$f":"IF(AND($B119=\"AZIONE_1\",F119=2),'3 - SPECIE DA IMPIANTARE'!$L20,\"\")","v":""},null,"",{"$f":"IF(AND($B119=\"AZIONE_1\",$I119=3),'3 - SPECIE DA IMPIANTARE'!$L20,\"\")","v":""},null,"",{"$f":"IF(AND($B119=\"AZIONE_1\",$L119=4),'3 - SPECIE DA IMPIANTARE'!$L20,\"\")","v":""},null,"",{"$f":"IF(AND($B119=\"AZIONE_1\",$O119=5),'3 - SPECIE DA IMPIANTARE'!$L20,\"\")","v":""},null,"",{"$f":"IF(AND($B119=\"AZIONE_1\",$R119=6),'3 - SPECIE DA IMPIANTARE'!$L20,\"\")","v":""}]
[2,{"$f":"B20","v":""},"",{"$f":"IF(AND($B120=\"AZIONE_1\",C120=1),'3 - SPECIE DA IMPIANTARE'!$L21,\"\")","v":""},null,{"$f":"F20","v":""},{"$f":"IF(AND($B120=\"AZIONE_1\",F120=2),'3 - SPECIE DA IMPIANTARE'!$L21,\"\")","v":""},null,"",{"$f":"IF(AND($B120=\"AZIONE_1\",$I120=3),'3 - SPECIE DA IMPIANTARE'!$L21,\"\")","v":""},null,"",{"$f":"IF(AND($B120=\"AZIONE_1\",$L120=4),'3 - SPECIE DA IMPIANTARE'!$L21,\"\")","v":""},null,"",{"$f":"IF(AND($B120=\"AZIONE_1\",$O120=5),'3 - SPECIE DA IMPIANTARE'!$L21,\"\")","v":""},null,"",{"$f":"IF(AND($B120=\"AZIONE_1\",$R120=6),'3 - SPECIE DA IMPIANTARE'!$L21,\"\")","v":""}]
[2,{"$f":"B21","v":""},"",{"$f":"IF(AND($B121=\"AZIONE_1\",C121=1),'3 - SPECIE DA IMPIANTARE'!$L22,\"\")","v":""},null,{"$f":"F21","v":""},{"$f":"IF(AND($B121=\"AZIONE_1\",F121=2),'3 - SPECIE DA IMPIANTARE'!$L22,\"\")","v":""},null,"",{"$f":"IF(AND($B121=\"AZIONE_1\",$I121=3),'3 - SPECIE DA IMPIANTARE'!$L22,\"\")","v":""},null,"",{"$f":"IF(AND($B121=\"AZIONE_1\",$L121=4),'3 - SPECIE DA IMPIANTARE'!$L22,\"\")","v":""},null,"",{"$f":"IF(AND($B121=\"AZIONE_1\",$O121=5),'3 - SPECIE DA IMPIANTARE'!$L22,\"\")","v":""},null,"",{"$f":"IF(AND($B121=\"AZIONE_1\",$R121=6),'3 - SPECIE DA IMPIANTARE'!$L22,\"\")","v":""}]
[2,{"$f":"B22","v":""},"",{"$f":"IF(AND($B122=\"AZIONE_1\",C122=1),'3 - SPECIE DA IMPIANTARE'!$L23,\"\")","v":""},null,{"$f":"F22","v":""},{"$f":"IF(AND($B122=\"AZIONE_1\",F122=2),'3 - SPECIE DA IMPIANTARE'!$L23,\"\")","v":""},null,"",{"$f":"IF(AND($B122=\"AZIONE_1\",$I122=3),'3 - SPECIE DA IMPIANTARE'!$L23,\"\")","v":""},null,"",{"$f":"IF(AND($B122=\"AZIONE_1\",$L122=4),'3 - SPECIE DA IMPIANTARE'!$L23,\"\")","v":""},null,"",{"$f":"IF(AND($B122=\"AZIONE_1\",$O122=5),'3 - SPECIE DA IMPIANTARE'!$L23,\"\")","v":""},null,"",{"$f":"IF(AND($B122=\"AZIONE_1\",$R122=6),'3 - SPECIE DA IMPIANTARE'!$L23,\"\")","v":""}]
[2,{"$f":"B23","v":""},"",{"$f":"IF(AND($B123=\"AZIONE_1\",C123=1),'3 - SPECIE DA IMPIANTARE'!$L24,\"\")","v":""},null,{"$f":"F23","v":""},{"$f":"IF(AND($B123=\"AZIONE_1\",F123=2),'3 - SPECIE DA IMPIANTARE'!$L24,\"\")","v":""},null,"",{"$f":"IF(AND($B123=\"AZIONE_1\",$I123=3),'3 - SPECIE DA IMPIANTARE'!$L24,\"\")","v":""},null,"",{"$f":"IF(AND($B123=\"AZIONE_1\",$L123=4),'3 - SPECIE DA IMPIANTARE'!$L24,\"\")","v":""},null,"",{"$f":"IF(AND($B123=\"AZIONE_1\",$O123=5),'3 - SPECIE DA IMPIANTARE'!$L24,\"\")","v":""},null,"",{"$f":"IF(AND($B123=\"AZIONE_1\",$R123=6),'3 - SPECIE DA IMPIANTARE'!$L24,\"\")","v":""}]
[2,{"$f":"B24","v":""},"",{"$f":"IF(AND($B124=\"AZIONE_1\",C124=1),'3 - SPECIE DA IMPIANTARE'!$L25,\"\")","v":""},null,{"$f":"F24","v":""},{"$f":"IF(AND($B124=\"AZIONE_1\",F124=2),'3 - SPECIE DA IMPIANTARE'!$L25,\"\")","v":""},null,"",{"$f":"IF(AND($B124=\"AZIONE_1\",$I124=3),'3 - SPECIE DA IMPIANTARE'!$L25,\"\")","v":""},null,"",{"$f":"IF(AND($B124=\"AZIONE_1\",$L124=4),'3 - SPECIE DA IMPIANTARE'!$L25,\"\")","v":""},null,"",{"$f":"IF(AND($B124=\"AZIONE_1\",$O124=5),'3 - SPECIE DA IMPIANTARE'!$L25,\"\")","v":""},null,"",{"$f":"IF(AND($B124=\"AZIONE_1\",$R124=6),'3 - SPECIE DA IMPIANTARE'!$L25,\"\")","v":""}]
[2,{"$f":"B25","v":""},"",{"$f":"IF(AND($B125=\"AZIONE_1\",C125=1),'3 - SPECIE DA IMPIANTARE'!$L26,\"\")","v":""},null,{"$f":"F25","v":""},{"$f":"IF(AND($B125=\"AZIONE_1\",F125=2),'3 - SPECIE DA IMPIANTARE'!$L26,\"\")","v":""},null,"",{"$f":"IF(AND($B125=\"AZIONE_1\",$I125=3),'3 - SPECIE DA IMPIANTARE'!$L26,\"\")","v":""},null,"",{"$f":"IF(AND($B125=\"AZIONE_1\",$L125=4),'3 - SPECIE DA IMPIANTARE'!$L26,\"\")","v":""},null,"",{"$f":"IF(AND($B125=\"AZIONE_1\",$O125=5),'3 - SPECIE DA IMPIANTARE'!$L26,\"\")","v":""},null,"",{"$f":"IF(AND($B125=\"AZIONE_1\",$R125=6),'3 - SPECIE DA IMPIANTARE'!$L26,\"\")","v":""}]
[2,{"$f":"B26","v":""},"",{"$f":"IF(AND($B126=\"AZIONE_1\",C126=1),'3 - SPECIE DA IMPIANTARE'!$L27,\"\")","v":""},null,{"$f":"F26","v":""},{"$f":"IF(AND($B126=\"AZIONE_1\",F126=2),'3 - SPECIE DA IMPIANTARE'!$L27,\"\")","v":""},null,"",{"$f":"IF(AND($B126=\"AZIONE_1\",$I126=3),'3 - SPECIE DA IMPIANTARE'!$L27,\"\")","v":""},null,"",{"$f":"IF(AND($B126=\"AZIONE_1\",$L126=4),'3 - SPECIE DA IMPIANTARE'!$L27,\"\")","v":""},null,"",{"$f":"IF(AND($B126=\"AZIONE_1\",$O126=5),'3 - SPECIE DA IMPIANTARE'!$L27,\"\")","v":""},null,"",{"$f":"IF(AND($B126=\"AZIONE_1\",$R126=6),'3 - SPECIE DA IMPIANTARE'!$L27,\"\")","v":""}]
[2,{"$f":"B27","v":""},"",{"$f":"IF(AND($B127=\"AZIONE_1\",C127=1),'3 - SPECIE DA IMPIANTARE'!$L28,\"\")","v":""},null,{"$f":"F27","v":""},{"$f":"IF(AND($B127=\"AZIONE_1\",F127=2),'3 - SPECIE DA IMPIANTARE'!$L28,\"\")","v":""},null,"",{"$f":"IF(AND($B127=\"AZIONE_1\",$I127=3),'3 - SPECIE DA IMPIANTARE'!$L28,\"\")","v":""},null,"",{"$f":"IF(AND($B127=\"AZIONE_1\",$L127=4),'3 - SPECIE DA IMPIANTARE'!$L28,\"\")","v":""},null,"",{"$f":"IF(AND($B127=\"AZIONE_1\",$O127=5),'3 - SPECIE DA IMPIANTARE'!$L28,\"\")","v":""},null,"",{"$f":"IF(AND($B127=\"AZIONE_1\",$R127=6),'3 - SPECIE DA IMPIANTARE'!$L28,\"\")","v":""}]
[2,{"$f":"B28","v":""},"",{"$f":"IF(AND($B128=\"AZIONE_1\",C128=1),'3 - SPECIE DA IMPIANTARE'!$L29,\"\")","v":""},null,{"$f":"F28","v":""},{"$f":"IF(AND($B128=\"AZIONE_1\",F128=2),'3 - SPECIE DA IMPIANTARE'!$L29,\"\")","v":""},null,"",{"$f":"IF(AND($B128=\"AZIONE_1\",$I128=3),'3 - SPECIE DA IMPIANTARE'!$L29,\"\")","v":""},null,"",{"$f":"IF(AND($B128=\"AZIONE_1\",$L128=4),'3 - SPECIE DA IMPIANTARE'!$L29,\"\")","v":""},null,"",{"$f":"IF(AND($B128=\"AZIONE_1\",$O128=5),'3 - SPECIE DA IMPIANTARE'!$L29,\"\")","v":""},null,"",{"$f":"IF(AND($B128=\"AZIONE_1\",$R128=6),'3 - SPECIE DA IMPIANTARE'!$L29,\"\")","v":""}]
[2,{"$f":"B29","v":""},"",{"$f":"IF(AND($B129=\"AZIONE_1\",C129=1),'3 - SPECIE DA IMPIANTARE'!$L30,\"\")","v":""},null,{"$f":"F29","v":""},{"$f":"IF(AND($B129=\"AZIONE_1\",F129=2),'3 - SPECIE DA IMPIANTARE'!$L30,\"\")","v":""},null,"",{"$f":"IF(AND($B129=\"AZIONE_1\",$I129=3),'3 - SPECIE DA IMPIANTARE'!$L30,\"\")","v":""},null,"",{"$f":"IF(AND($B129=\"AZIONE_1\",$L129=4),'3 - SPECIE DA IMPIANTARE'!$L30,\"\")","v":""},null,"",{"$f":"IF(AND($B129=\"AZIONE_1\",$O129=5),'3 - SPECIE DA IMPIANTARE'!$L30,\"\")","v":""},null,"",{"$f":"IF(AND($B129=\"AZIONE_1\",$R129=6),'3 - SPECIE DA IMPIANTARE'!$L30,\"\")","v":""}]
[2,{"$f":"B30","v":""},"",{"$f":"IF(AND($B130=\"AZIONE_1\",C130=1),'3 - SPECIE DA IMPIANTARE'!$L31,\"\")","v":""},null,{"$f":"F30","v":""},{"$f":"IF(AND($B130=\"AZIONE_1\",F130=2),'3 - SPECIE DA IMPIANTARE'!$L31,\"\")","v":""},null,"",{"$f":"IF(AND($B130=\"AZIONE_1\",$I130=3),'3 - SPECIE DA IMPIANTARE'!$L31,\"\")","v":""},null,"",{"$f":"IF(AND($B130=\"AZIONE_1\",$L130=4),'3 - SPECIE DA IMPIANTARE'!$L31,\"\")","v":""},null,"",{"$f":"IF(AND($B130=\"AZIONE_1\",$O130=5),'3 - SPECIE DA IMPIANTARE'!$L31,\"\")","v":""},null,"",{"$f":"IF(AND($B130=\"AZIONE_1\",$R130=6),'3 - SPECIE DA IMPIANTARE'!$L31,\"\")","v":""}]
[2,{"$f":"B31","v":""},"",{"$f":"IF(AND($B131=\"AZIONE_1\",C131=1),'3 - SPECIE DA IMPIANTARE'!$L32,\"\")","v":""},null,{"$f":"F31","v":""},{"$f":"IF(AND($B131=\"AZIONE_1\",F131=2),'3 - SPECIE DA IMPIANTARE'!$L32,\"\")","v":""},null,"",{"$f":"IF(AND($B131=\"AZIONE_1\",$I131=3),'3 - SPECIE DA IMPIANTARE'!$L32,\"\")","v":""},null,"",{"$f":"IF(AND($B131=\"AZIONE_1\",$L131=4),'3 - SPECIE DA IMPIANTARE'!$L32,\"\")","v":""},null,"",{"$f":"IF(AND($B131=\"AZIONE_1\",$O131=5),'3 - SPECIE DA IMPIANTARE'!$L32,\"\")","v":""},null,"",{"$f":"IF(AND($B131=\"AZIONE_1\",$R131=6),'3 - SPECIE DA IMPIANTARE'!$L32,\"\")","v":""}]
[2,{"$f":"B32","v":""},"",{"$f":"IF(AND($B132=\"AZIONE_1\",C132=1),'3 - SPECIE DA IMPIANTARE'!$L33,\"\")","v":""},null,{"$f":"F32","v":""},{"$f":"IF(AND($B132=\"AZIONE_1\",F132=2),'3 - SPECIE DA IMPIANTARE'!$L33,\"\")","v":""},null,"",{"$f":"IF(AND($B132=\"AZIONE_1\",$I132=3),'3 - SPECIE DA IMPIANTARE'!$L33,\"\")","v":""},null,"",{"$f":"IF(AND($B132=\"AZIONE_1\",$L132=4),'3 - SPECIE DA IMPIANTARE'!$L33,\"\")","v":""},null,"",{"$f":"IF(AND($B132=\"AZIONE_1\",$O132=5),'3 - SPECIE DA IMPIANTARE'!$L33,\"\")","v":""},null,"",{"$f":"IF(AND($B132=\"AZIONE_1\",$R132=6),'3 - SPECIE DA IMPIANTARE'!$L33,\"\")","v":""}]
[2,{"$f":"B33","v":""},"",{"$f":"IF(AND($B133=\"AZIONE_1\",C133=1),'3 - SPECIE DA IMPIANTARE'!$L34,\"\")","v":""},null,{"$f":"F33","v":""},{"$f":"IF(AND($B133=\"AZIONE_1\",F133=2),'3 - SPECIE DA IMPIANTARE'!$L34,\"\")","v":""},null,"",{"$f":"IF(AND($B133=\"AZIONE_1\",$I133=3),'3 - SPECIE DA IMPIANTARE'!$L34,\"\")","v":""},null,"",{"$f":"IF(AND($B133=\"AZIONE_1\",$L133=4),'3 - SPECIE DA IMPIANTARE'!$L34,\"\")","v":""},null,"",{"$f":"IF(AND($B133=\"AZIONE_1\",$O133=5),'3 - SPECIE DA IMPIANTARE'!$L34,\"\")","v":""},null,"",{"$f":"IF(AND($B133=\"AZIONE_1\",$R133=6),'3 - SPECIE DA IMPIANTARE'!$L34,\"\")","v":""}]
[2,{"$f":"B34","v":""},"",{"$f":"IF(AND($B134=\"AZIONE_1\",C134=1),'3 - SPECIE DA IMPIANTARE'!$L35,\"\")","v":""},null,{"$f":"F34","v":""},{"$f":"IF(AND($B134=\"AZIONE_1\",F134=2),'3 - SPECIE DA IMPIANTARE'!$L35,\"\")","v":""},null,"",{"$f":"IF(AND($B134=\"AZIONE_1\",$I134=3),'3 - SPECIE DA IMPIANTARE'!$L35,\"\")","v":""},null,"",{"$f":"IF(AND($B134=\"AZIONE_1\",$L134=4),'3 - SPECIE DA IMPIANTARE'!$L35,\"\")","v":""},null,"",{"$f":"IF(AND($B134=\"AZIONE_1\",$O134=5),'3 - SPECIE DA IMPIANTARE'!$L35,\"\")","v":""},null,"",{"$f":"IF(AND($B134=\"AZIONE_1\",$R134=6),'3 - SPECIE DA IMPIANTARE'!$L35,\"\")","v":""}]
[2,{"$f":"B35","v":""},"",{"$f":"IF(AND($B135=\"AZIONE_1\",C135=1),'3 - SPECIE DA IMPIANTARE'!$L36,\"\")","v":""},null,{"$f":"F35","v":""},{"$f":"IF(AND($B135=\"AZIONE_1\",F135=2),'3 - SPECIE DA IMPIANTARE'!$L36,\"\")","v":""},null,"",{"$f":"IF(AND($B135=\"AZIONE_1\",$I135=3),'3 - SPECIE DA IMPIANTARE'!$L36,\"\")","v":""},null,"",{"$f":"IF(AND($B135=\"AZIONE_1\",$L135=4),'3 - SPECIE DA IMPIANTARE'!$L36,\"\")","v":""},null,"",{"$f":"IF(AND($B135=\"AZIONE_1\",$O135=5),'3 - SPECIE DA IMPIANTARE'!$L36,\"\")","v":""},null,"",{"$f":"IF(AND($B135=\"AZIONE_1\",$R135=6),'3 - SPECIE DA IMPIANTARE'!$L36,\"\")","v":""}]
[2,{"$f":"B36","v":""},"",{"$f":"IF(AND($B136=\"AZIONE_1\",C136=1),'3 - SPECIE DA IMPIANTARE'!$L37,\"\")","v":""},null,{"$f":"F36","v":""},{"$f":"IF(AND($B136=\"AZIONE_1\",F136=2),'3 - SPECIE DA IMPIANTARE'!$L37,\"\")","v":""},null,"",{"$f":"IF(AND($B136=\"AZIONE_1\",$I136=3),'3 - SPECIE DA IMPIANTARE'!$L37,\"\")","v":""},null,"",{"$f":"IF(AND($B136=\"AZIONE_1\",$L136=4),'3 - SPECIE DA IMPIANTARE'!$L37,\"\")","v":""},null,"",{"$f":"IF(AND($B136=\"AZIONE_1\",$O136=5),'3 - SPECIE DA IMPIANTARE'!$L37,\"\")","v":""},null,"",{"$f":"IF(AND($B136=\"AZIONE_1\",$R136=6),'3 - SPECIE DA IMPIANTARE'!$L37,\"\")","v":""}]
[2,{"$f":"B37","v":""},"",{"$f":"IF(AND($B137=\"AZIONE_1\",C137=1),'3 - SPECIE DA IMPIANTARE'!$L38,\"\")","v":""},null,{"$f":"F37","v":""},{"$f":"IF(AND($B137=\"AZIONE_1\",F137=2),'3 - SPECIE DA IMPIANTARE'!$L38,\"\")","v":""},null,"",{"$f":"IF(AND($B137=\"AZIONE_1\",$I137=3),'3 - SPECIE DA IMPIANTARE'!$L38,\"\")","v":""},null,"",{"$f":"IF(AND($B137=\"AZIONE_1\",$L137=4),'3 - SPECIE DA IMPIANTARE'!$L38,\"\")","v":""},null,"",{"$f":"IF(AND($B137=\"AZIONE_1\",$O137=5),'3 - SPECIE DA IMPIANTARE'!$L38,\"\")","v":""},null,"",{"$f":"IF(AND($B137=\"AZIONE_1\",$R137=6),'3 - SPECIE DA IMPIANTARE'!$L38,\"\")","v":""}]
[2,{"$f":"B38","v":""},"",{"$f":"IF(AND($B138=\"AZIONE_1\",C138=1),'3 - SPECIE DA IMPIANTARE'!$L39,\"\")","v":""},null,{"$f":"F38","v":""},{"$f":"IF(AND($B138=\"AZIONE_1\",F138=2),'3 - SPECIE DA IMPIANTARE'!$L39,\"\")","v":""},null,"",{"$f":"IF(AND($B138=\"AZIONE_1\",$I138=3),'3 - SPECIE DA IMPIANTARE'!$L39,\"\")","v":""},null,"",{"$f":"IF(AND($B138=\"AZIONE_1\",$L138=4),'3 - SPECIE DA IMPIANTARE'!$L39,\"\")","v":""},null,"",{"$f":"IF(AND($B138=\"AZIONE_1\",$O138=5),'3 - SPECIE DA IMPIANTARE'!$L39,\"\")","v":""},null,"",{"$f":"IF(AND($B138=\"AZIONE_1\",$R138=6),'3 - SPECIE DA IMPIANTARE'!$L39,\"\")","v":""}]
[2,{"$f":"B39","v":""},"",{"$f":"IF(AND($B139=\"AZIONE_1\",C139=1),'3 - SPECIE DA IMPIANTARE'!$L40,\"\")","v":""},null,{"$f":"F39","v":""},{"$f":"IF(AND($B139=\"AZIONE_1\",F139=2),'3 - SPECIE DA IMPIANTARE'!$L40,\"\")","v":""},null,"",{"$f":"IF(AND($B139=\"AZIONE_1\",$I139=3),'3 - SPECIE DA IMPIANTARE'!$L40,\"\")","v":""},null,"",{"$f":"IF(AND($B139=\"AZIONE_1\",$L139=4),'3 - SPECIE DA IMPIANTARE'!$L40,\"\")","v":""},null,"",{"$f":"IF(AND($B139=\"AZIONE_1\",$O139=5),'3 - SPECIE DA IMPIANTARE'!$L40,\"\")","v":""},null,"",{"$f":"IF(AND($B139=\"AZIONE_1\",$R139=6),'3 - SPECIE DA IMPIANTARE'!$L40,\"\")","v":""}]
[2,{"$f":"B40","v":""},"",{"$f":"IF(AND($B140=\"AZIONE_1\",C140=1),'3 - SPECIE DA IMPIANTARE'!$L41,\"\")","v":""},null,{"$f":"F40","v":""},{"$f":"IF(AND($B140=\"AZIONE_1\",F140=2),'3 - SPECIE DA IMPIANTARE'!$L41,\"\")","v":""},null,"",{"$f":"IF(AND($B140=\"AZIONE_1\",$I140=3),'3 - SPECIE DA IMPIANTARE'!$L41,\"\")","v":""},null,"",{"$f":"IF(AND($B140=\"AZIONE_1\",$L140=4),'3 - SPECIE DA IMPIANTARE'!$L41,\"\")","v":""},null,"",{"$f":"IF(AND($B140=\"AZIONE_1\",$O140=5),'3 - SPECIE DA IMPIANTARE'!$L41,\"\")","v":""},null,"",{"$f":"IF(AND($B140=\"AZIONE_1\",$R140=6),'3 - SPECIE DA IMPIANTARE'!$L41,\"\")","v":""}]
[2,{"$f":"B41","v":""},"",{"$f":"IF(AND($B141=\"AZIONE_1\",C141=1),'3 - SPECIE DA IMPIANTARE'!$L42,\"\")","v":""},null,{"$f":"F41","v":""},{"$f":"IF(AND($B141=\"AZIONE_1\",F141=2),'3 - SPECIE DA IMPIANTARE'!$L42,\"\")","v":""},null,"",{"$f":"IF(AND($B141=\"AZIONE_1\",$I141=3),'3 - SPECIE DA IMPIANTARE'!$L42,\"\")","v":""},null,"",{"$f":"IF(AND($B141=\"AZIONE_1\",$L141=4),'3 - SPECIE DA IMPIANTARE'!$L42,\"\")","v":""},null,"",{"$f":"IF(AND($B141=\"AZIONE_1\",$O141=5),'3 - SPECIE DA IMPIANTARE'!$L42,\"\")","v":""},null,"",{"$f":"IF(AND($B141=\"AZIONE_1\",$R141=6),'3 - SPECIE DA IMPIANTARE'!$L42,\"\")","v":""}]
[2,{"$f":"B42","v":""},"",{"$f":"IF(AND($B142=\"AZIONE_1\",C142=1),'3 - SPECIE DA IMPIANTARE'!$L43,\"\")","v":""},null,{"$f":"F42","v":""},{"$f":"IF(AND($B142=\"AZIONE_1\",F142=2),'3 - SPECIE DA IMPIANTARE'!$L43,\"\")","v":""},null,"",{"$f":"IF(AND($B142=\"AZIONE_1\",$I142=3),'3 - SPECIE DA IMPIANTARE'!$L43,\"\")","v":""},null,"",{"$f":"IF(AND($B142=\"AZIONE_1\",$L142=4),'3 - SPECIE DA IMPIANTARE'!$L43,\"\")","v":""},null,"",{"$f":"IF(AND($B142=\"AZIONE_1\",$O142=5),'3 - SPECIE DA IMPIANTARE'!$L43,\"\")","v":""},null,"",{"$f":"IF(AND($B142=\"AZIONE_1\",$R142=6),'3 - SPECIE DA IMPIANTARE'!$L43,\"\")","v":""}]
[2,{"$f":"B43","v":""},"",{"$f":"IF(AND($B143=\"AZIONE_1\",C143=1),'3 - SPECIE DA IMPIANTARE'!$L44,\"\")","v":""},null,{"$f":"F43","v":""},{"$f":"IF(AND($B143=\"AZIONE_1\",F143=2),'3 - SPECIE DA IMPIANTARE'!$L44,\"\")","v":""},null,"",{"$f":"IF(AND($B143=\"AZIONE_1\",$I143=3),'3 - SPECIE DA IMPIANTARE'!$L44,\"\")","v":""},null,"",{"$f":"IF(AND($B143=\"AZIONE_1\",$L143=4),'3 - SPECIE DA IMPIANTARE'!$L44,\"\")","v":""},null,"",{"$f":"IF(AND($B143=\"AZIONE_1\",$O143=5),'3 - SPECIE DA IMPIANTARE'!$L44,\"\")","v":""},null,"",{"$f":"IF(AND($B143=\"AZIONE_1\",$R143=6),'3 - SPECIE DA IMPIANTARE'!$L44,\"\")","v":""}]
[2,{"$f":"B44","v":""},"",{"$f":"IF(AND($B144=\"AZIONE_1\",C144=1),'3 - SPECIE DA IMPIANTARE'!$L45,\"\")","v":""},null,{"$f":"F44","v":""},{"$f":"IF(AND($B144=\"AZIONE_1\",F144=2),'3 - SPECIE DA IMPIANTARE'!$L45,\"\")","v":""},null,"",{"$f":"IF(AND($B144=\"AZIONE_1\",$I144=3),'3 - SPECIE DA IMPIANTARE'!$L45,\"\")","v":""},null,"",{"$f":"IF(AND($B144=\"AZIONE_1\",$L144=4),'3 - SPECIE DA IMPIANTARE'!$L45,\"\")","v":""},null,"",{"$f":"IF(AND($B144=\"AZIONE_1\",$O144=5),'3 - SPECIE DA IMPIANTARE'!$L45,\"\")","v":""},null,"",{"$f":"IF(AND($B144=\"AZIONE_1\",$R144=6),'3 - SPECIE DA IMPIANTARE'!$L45,\"\")","v":""}]
[2,{"$f":"B45","v":""},"",{"$f":"IF(AND($B145=\"AZIONE_1\",C145=1),'3 - SPECIE DA IMPIANTARE'!$L46,\"\")","v":""},null,{"$f":"F45","v":""},{"$f":"IF(AND($B145=\"AZIONE_1\",F145=2),'3 - SPECIE DA IMPIANTARE'!$L46,\"\")","v":""},null,"",{"$f":"IF(AND($B145=\"AZIONE_1\",$I145=3),'3 - SPECIE DA IMPIANTARE'!$L46,\"\")","v":""},null,"",{"$f":"IF(AND($B145=\"AZIONE_1\",$L145=4),'3 - SPECIE DA IMPIANTARE'!$L46,\"\")","v":""},null,"",{"$f":"IF(AND($B145=\"AZIONE_1\",$O145=5),'3 - SPECIE DA IMPIANTARE'!$L46,\"\")","v":""},null,"",{"$f":"IF(AND($B145=\"AZIONE_1\",$R145=6),'3 - SPECIE DA IMPIANTARE'!$L46,\"\")","v":""}]
[2,{"$f":"B46","v":""},"",{"$f":"IF(AND($B146=\"AZIONE_1\",C146=1),'3 - SPECIE DA IMPIANTARE'!$L47,\"\")","v":""},null,{"$f":"F46","v":""},{"$f":"IF(AND($B146=\"AZIONE_1\",F146=2),'3 - SPECIE DA IMPIANTARE'!$L47,\"\")","v":""},null,"",{"$f":"IF(AND($B146=\"AZIONE_1\",$I146=3),'3 - SPECIE DA IMPIANTARE'!$L47,\"\")","v":""},null,"",{"$f":"IF(AND($B146=\"AZIONE_1\",$L146=4),'3 - SPECIE DA IMPIANTARE'!$L47,\"\")","v":""},null,"",{"$f":"IF(AND($B146=\"AZIONE_1\",$O146=5),'3 - SPECIE DA IMPIANTARE'!$L47,\"\")","v":""},null,"",{"$f":"IF(AND($B146=\"AZIONE_1\",$R146=6),'3 - SPECIE DA IMPIANTARE'!$L47,\"\")","v":""}]
[2,{"$f":"B47","v":""},"",{"$f":"IF(AND($B147=\"AZIONE_1\",C147=1),'3 - SPECIE DA IMPIANTARE'!$L48,\"\")","v":""},null,{"$f":"F47","v":""},{"$f":"IF(AND($B147=\"AZIONE_1\",F147=2),'3 - SPECIE DA IMPIANTARE'!$L48,\"\")","v":""},null,"",{"$f":"IF(AND($B147=\"AZIONE_1\",$I147=3),'3 - SPECIE DA IMPIANTARE'!$L48,\"\")","v":""},null,"",{"$f":"IF(AND($B147=\"AZIONE_1\",$L147=4),'3 - SPECIE DA IMPIANTARE'!$L48,\"\")","v":""},null,"",{"$f":"IF(AND($B147=\"AZIONE_1\",$O147=5),'3 - SPECIE DA IMPIANTARE'!$L48,\"\")","v":""},null,"",{"$f":"IF(AND($B147=\"AZIONE_1\",$R147=6),'3 - SPECIE DA IMPIANTARE'!$L48,\"\")","v":""}]
[2,{"$f":"B48","v":""},"",{"$f":"IF(AND($B148=\"AZIONE_1\",C148=1),'3 - SPECIE DA IMPIANTARE'!$L49,\"\")","v":""},null,{"$f":"F48","v":""},{"$f":"IF(AND($B148=\"AZIONE_1\",F148=2),'3 - SPECIE DA IMPIANTARE'!$L49,\"\")","v":""},null,"",{"$f":"IF(AND($B148=\"AZIONE_1\",$I148=3),'3 - SPECIE DA IMPIANTARE'!$L49,\"\")","v":""},null,"",{"$f":"IF(AND($B148=\"AZIONE_1\",$L148=4),'3 - SPECIE DA IMPIANTARE'!$L49,\"\")","v":""},null,"",{"$f":"IF(AND($B148=\"AZIONE_1\",$O148=5),'3 - SPECIE DA IMPIANTARE'!$L49,\"\")","v":""},null,"",{"$f":"IF(AND($B148=\"AZIONE_1\",$R148=6),'3 - SPECIE DA IMPIANTARE'!$L49,\"\")","v":""}]
[2,{"$f":"B49","v":""},"",{"$f":"IF(AND($B149=\"AZIONE_1\",C149=1),'3 - SPECIE DA IMPIANTARE'!$L50,\"\")","v":""},null,{"$f":"F49","v":""},{"$f":"IF(AND($B149=\"AZIONE_1\",F149=2),'3 - SPECIE DA IMPIANTARE'!$L50,\"\")","v":""},null,"",{"$f":"IF(AND($B149=\"AZIONE_1\",$I149=3),'3 - SPECIE DA IMPIANTARE'!$L50,\"\")","v":""},null,"",{"$f":"IF(AND($B149=\"AZIONE_1\",$L149=4),'3 - SPECIE DA IMPIANTARE'!$L50,\"\")","v":""},null,"",{"$f":"IF(AND($B149=\"AZIONE_1\",$O149=5),'3 - SPECIE DA IMPIANTARE'!$L50,\"\")","v":""},null,"",{"$f":"IF(AND($B149=\"AZIONE_1\",$R149=6),'3 - SPECIE DA IMPIANTARE'!$L50,\"\")","v":""}]
[2,{"$f":"B50","v":""},"",{"$f":"IF(AND($B150=\"AZIONE_1\",C150=1),'3 - SPECIE DA IMPIANTARE'!$L51,\"\")","v":""},null,{"$f":"F50","v":""},{"$f":"IF(AND($B150=\"AZIONE_1\",F150=2),'3 - SPECIE DA IMPIANTARE'!$L51,\"\")","v":""},null,"",{"$f":"IF(AND($B150=\"AZIONE_1\",$I150=3),'3 - SPECIE DA IMPIANTARE'!$L51,\"\")","v":""},null,"",{"$f":"IF(AND($B150=\"AZIONE_1\",$L150=4),'3 - SPECIE DA IMPIANTARE'!$L51,\"\")","v":""},null,"",{"$f":"IF(AND($B150=\"AZIONE_1\",$O150=5),'3 - SPECIE DA IMPIANTARE'!$L51,\"\")","v":""},null,"",{"$f":"IF(AND($B150=\"AZIONE_1\",$R150=6),'3 - SPECIE DA IMPIANTARE'!$L51,\"\")","v":""}]
[2,{"$f":"B51","v":""},"",{"$f":"IF(AND($B151=\"AZIONE_1\",C151=1),'3 - SPECIE DA IMPIANTARE'!$L52,\"\")","v":""},null,{"$f":"F51","v":""},{"$f":"IF(AND($B151=\"AZIONE_1\",F151=2),'3 - SPECIE DA IMPIANTARE'!$L52,\"\")","v":""},null,"",{"$f":"IF(AND($B151=\"AZIONE_1\",$I151=3),'3 - SPECIE DA IMPIANTARE'!$L52,\"\")","v":""},null,"",{"$f":"IF(AND($B151=\"AZIONE_1\",$L151=4),'3 - SPECIE DA IMPIANTARE'!$L52,\"\")","v":""},null,"",{"$f":"IF(AND($B151=\"AZIONE_1\",$O151=5),'3 - SPECIE DA IMPIANTARE'!$L52,\"\")","v":""},null,"",{"$f":"IF(AND($B151=\"AZIONE_1\",$R151=6),'3 - SPECIE DA IMPIANTARE'!$L52,\"\")","v":""}]
[2,{"$f":"B52","v":""},"",{"$f":"IF(AND($B152=\"AZIONE_1\",C152=1),'3 - SPECIE DA IMPIANTARE'!$L53,\"\")","v":""},null,{"$f":"F52","v":""},{"$f":"IF(AND($B152=\"AZIONE_1\",F152=2),'3 - SPECIE DA IMPIANTARE'!$L53,\"\")","v":""},null,"",{"$f":"IF(AND($B152=\"AZIONE_1\",$I152=3),'3 - SPECIE DA IMPIANTARE'!$L53,\"\")","v":""},null,"",{"$f":"IF(AND($B152=\"AZIONE_1\",$L152=4),'3 - SPECIE DA IMPIANTARE'!$L53,\"\")","v":""},null,"",{"$f":"IF(AND($B152=\"AZIONE_1\",$O152=5),'3 - SPECIE DA IMPIANTARE'!$L53,\"\")","v":""},null,"",{"$f":"IF(AND($B152=\"AZIONE_1\",$R152=6),'3 - SPECIE DA IMPIANTARE'!$L53,\"\")","v":""}]
[2,{"$f":"B53","v":""},"",{"$f":"IF(AND($B153=\"AZIONE_1\",C153=1),'3 - SPECIE DA IMPIANTARE'!$L54,\"\")","v":""},null,{"$f":"F53","v":""},{"$f":"IF(AND($B153=\"AZIONE_1\",F153=2),'3 - SPECIE DA IMPIANTARE'!$L54,\"\")","v":""},null,"",{"$f":"IF(AND($B153=\"AZIONE_1\",$I153=3),'3 - SPECIE DA IMPIANTARE'!$L54,\"\")","v":""},null,"",{"$f":"IF(AND($B153=\"AZIONE_1\",$L153=4),'3 - SPECIE DA IMPIANTARE'!$L54,\"\")","v":""},null,"",{"$f":"IF(AND($B153=\"AZIONE_1\",$O153=5),'3 - SPECIE DA IMPIANTARE'!$L54,\"\")","v":""},null,"",{"$f":"IF(AND($B153=\"AZIONE_1\",$R153=6),'3 - SPECIE DA IMPIANTARE'!$L54,\"\")","v":""}]
[2,{"$f":"B54","v":""},"",{"$f":"IF(AND($B154=\"AZIONE_1\",C154=1),'3 - SPECIE DA IMPIANTARE'!$L55,\"\")","v":""},null,{"$f":"F54","v":""},{"$f":"IF(AND($B154=\"AZIONE_1\",F154=2),'3 - SPECIE DA IMPIANTARE'!$L55,\"\")","v":""},null,"",{"$f":"IF(AND($B154=\"AZIONE_1\",$I154=3),'3 - SPECIE DA IMPIANTARE'!$L55,\"\")","v":""},null,"",{"$f":"IF(AND($B154=\"AZIONE_1\",$L154=4),'3 - SPECIE DA IMPIANTARE'!$L55,\"\")","v":""},null,"",{"$f":"IF(AND($B154=\"AZIONE_1\",$O154=5),'3 - SPECIE DA IMPIANTARE'!$L55,\"\")","v":""},null,"",{"$f":"IF(AND($B154=\"AZIONE_1\",$R154=6),'3 - SPECIE DA IMPIANTARE'!$L55,\"\")","v":""}]
[2,{"$f":"B55","v":""},"",{"$f":"IF(AND($B155=\"AZIONE_1\",C155=1),'3 - SPECIE DA IMPIANTARE'!$L56,\"\")","v":""},null,{"$f":"F55","v":""},{"$f":"IF(AND($B155=\"AZIONE_1\",F155=2),'3 - SPECIE DA IMPIANTARE'!$L56,\"\")","v":""},null,"",{"$f":"IF(AND($B155=\"AZIONE_1\",$I155=3),'3 - SPECIE DA IMPIANTARE'!$L56,\"\")","v":""},null,"",{"$f":"IF(AND($B155=\"AZIONE_1\",$L155=4),'3 - SPECIE DA IMPIANTARE'!$L56,\"\")","v":""},null,"",{"$f":"IF(AND($B155=\"AZIONE_1\",$O155=5),'3 - SPECIE DA IMPIANTARE'!$L56,\"\")","v":""},null,"",{"$f":"IF(AND($B155=\"AZIONE_1\",$R155=6),'3 - SPECIE DA IMPIANTARE'!$L56,\"\")","v":""}]
[2,{"$f":"B56","v":""},"",{"$f":"IF(AND($B156=\"AZIONE_1\",C156=1),'3 - SPECIE DA IMPIANTARE'!$L57,\"\")","v":""},null,{"$f":"F56","v":""},{"$f":"IF(AND($B156=\"AZIONE_1\",F156=2),'3 - SPECIE DA IMPIANTARE'!$L57,\"\")","v":""},null,"",{"$f":"IF(AND($B156=\"AZIONE_1\",$I156=3),'3 - SPECIE DA IMPIANTARE'!$L57,\"\")","v":""},null,"",{"$f":"IF(AND($B156=\"AZIONE_1\",$L156=4),'3 - SPECIE DA IMPIANTARE'!$L57,\"\")","v":""},null,"",{"$f":"IF(AND($B156=\"AZIONE_1\",$O156=5),'3 - SPECIE DA IMPIANTARE'!$L57,\"\")","v":""},null,"",{"$f":"IF(AND($B156=\"AZIONE_1\",$R156=6),'3 - SPECIE DA IMPIANTARE'!$L57,\"\")","v":""}]
[2,{"$f":"B57","v":""},"",{"$f":"IF(AND($B157=\"AZIONE_1\",C157=1),'3 - SPECIE DA IMPIANTARE'!$L58,\"\")","v":""},null,{"$f":"F57","v":""},{"$f":"IF(AND($B157=\"AZIONE_1\",F157=2),'3 - SPECIE DA IMPIANTARE'!$L58,\"\")","v":""},null,"",{"$f":"IF(AND($B157=\"AZIONE_1\",$I157=3),'3 - SPECIE DA IMPIANTARE'!$L58,\"\")","v":""},null,"",{"$f":"IF(AND($B157=\"AZIONE_1\",$L157=4),'3 - SPECIE DA IMPIANTARE'!$L58,\"\")","v":""},null,"",{"$f":"IF(AND($B157=\"AZIONE_1\",$O157=5),'3 - SPECIE DA IMPIANTARE'!$L58,\"\")","v":""},null,"",{"$f":"IF(AND($B157=\"AZIONE_1\",$R157=6),'3 - SPECIE DA IMPIANTARE'!$L58,\"\")","v":""}]
[2,{"$f":"B58","v":""},"",{"$f":"IF(AND($B158=\"AZIONE_1\",C158=1),'3 - SPECIE DA IMPIANTARE'!$L59,\"\")","v":""},null,{"$f":"F58","v":""},{"$f":"IF(AND($B158=\"AZIONE_1\",F158=2),'3 - SPECIE DA IMPIANTARE'!$L59,\"\")","v":""},null,"",{"$f":"IF(AND($B158=\"AZIONE_1\",$I158=3),'3 - SPECIE DA IMPIANTARE'!$L59,\"\")","v":""},null,"",{"$f":"IF(AND($B158=\"AZIONE_1\",$L158=4),'3 - SPECIE DA IMPIANTARE'!$L59,\"\")","v":""},null,"",{"$f":"IF(AND($B158=\"AZIONE_1\",$O158=5),'3 - SPECIE DA IMPIANTARE'!$L59,\"\")","v":""},null,"",{"$f":"IF(AND($B158=\"AZIONE_1\",$R158=6),'3 - SPECIE DA IMPIANTARE'!$L59,\"\")","v":""}]
[2,{"$f":"B59","v":""},"",{"$f":"IF(AND($B159=\"AZIONE_1\",C159=1),'3 - SPECIE DA IMPIANTARE'!$L60,\"\")","v":""},null,{"$f":"F59","v":""},{"$f":"IF(AND($B159=\"AZIONE_1\",F159=2),'3 - SPECIE DA IMPIANTARE'!$L60,\"\")","v":""},null,"",{"$f":"IF(AND($B159=\"AZIONE_1\",$I159=3),'3 - SPECIE DA IMPIANTARE'!$L60,\"\")","v":""},null,"",{"$f":"IF(AND($B159=\"AZIONE_1\",$L159=4),'3 - SPECIE DA IMPIANTARE'!$L60,\"\")","v":""},null,"",{"$f":"IF(AND($B159=\"AZIONE_1\",$O159=5),'3 - SPECIE DA IMPIANTARE'!$L60,\"\")","v":""},null,"",{"$f":"IF(AND($B159=\"AZIONE_1\",$R159=6),'3 - SPECIE DA IMPIANTARE'!$L60,\"\")","v":""}]
[2,{"$f":"B60","v":""},"",{"$f":"IF(AND($B160=\"AZIONE_1\",C160=1),'3 - SPECIE DA IMPIANTARE'!$L61,\"\")","v":""},null,{"$f":"F60","v":""},{"$f":"IF(AND($B160=\"AZIONE_1\",F160=2),'3 - SPECIE DA IMPIANTARE'!$L61,\"\")","v":""},null,"",{"$f":"IF(AND($B160=\"AZIONE_1\",$I160=3),'3 - SPECIE DA IMPIANTARE'!$L61,\"\")","v":""},null,"",{"$f":"IF(AND($B160=\"AZIONE_1\",$L160=4),'3 - SPECIE DA IMPIANTARE'!$L61,\"\")","v":""},null,"",{"$f":"IF(AND($B160=\"AZIONE_1\",$O160=5),'3 - SPECIE DA IMPIANTARE'!$L61,\"\")","v":""},null,"",{"$f":"IF(AND($B160=\"AZIONE_1\",$R160=6),'3 - SPECIE DA IMPIANTARE'!$L61,\"\")","v":""}]
[2,{"$f":"B61","v":""},"",{"$f":"IF(AND($B161=\"AZIONE_1\",C161=1),'3 - SPECIE DA IMPIANTARE'!$L62,\"\")","v":""},null,{"$f":"F61","v":""},{"$f":"IF(AND($B161=\"AZIONE_1\",F161=2),'3 - SPECIE DA IMPIANTARE'!$L62,\"\")","v":""},null,"",{"$f":"IF(AND($B161=\"AZIONE_1\",$I161=3),'3 - SPECIE DA IMPIANTARE'!$L62,\"\")","v":""},null,"",{"$f":"IF(AND($B161=\"AZIONE_1\",$L161=4),'3 - SPECIE DA IMPIANTARE'!$L62,\"\")","v":""},null,"",{"$f":"IF(AND($B161=\"AZIONE_1\",$O161=5),'3 - SPECIE DA IMPIANTARE'!$L62,\"\")","v":""},null,"",{"$f":"IF(AND($B161=\"AZIONE_1\",$R161=6),'3 - SPECIE DA IMPIANTARE'!$L62,\"\")","v":""}]
[2,{"$f":"B62","v":""},"",{"$f":"IF(AND($B162=\"AZIONE_1\",C162=1),'3 - SPECIE DA IMPIANTARE'!$L63,\"\")","v":""},null,{"$f":"F62","v":""},{"$f":"IF(AND($B162=\"AZIONE_1\",F162=2),'3 - SPECIE DA IMPIANTARE'!$L63,\"\")","v":""},null,"",{"$f":"IF(AND($B162=\"AZIONE_1\",$I162=3),'3 - SPECIE DA IMPIANTARE'!$L63,\"\")","v":""},null,"",{"$f":"IF(AND($B162=\"AZIONE_1\",$L162=4),'3 - SPECIE DA IMPIANTARE'!$L63,\"\")","v":""},null,"",{"$f":"IF(AND($B162=\"AZIONE_1\",$O162=5),'3 - SPECIE DA IMPIANTARE'!$L63,\"\")","v":""},null,"",{"$f":"IF(AND($B162=\"AZIONE_1\",$R162=6),'3 - SPECIE DA IMPIANTARE'!$L63,\"\")","v":""}]
[2,{"$f":"B63","v":""},"",{"$f":"IF(AND($B163=\"AZIONE_1\",C163=1),'3 - SPECIE DA IMPIANTARE'!$L64,\"\")","v":""},null,{"$f":"F63","v":""},{"$f":"IF(AND($B163=\"AZIONE_1\",F163=2),'3 - SPECIE DA IMPIANTARE'!$L64,\"\")","v":""},null,"",{"$f":"IF(AND($B163=\"AZIONE_1\",$I163=3),'3 - SPECIE DA IMPIANTARE'!$L64,\"\")","v":""},null,"",{"$f":"IF(AND($B163=\"AZIONE_1\",$L163=4),'3 - SPECIE DA IMPIANTARE'!$L64,\"\")","v":""},null,"",{"$f":"IF(AND($B163=\"AZIONE_1\",$O163=5),'3 - SPECIE DA IMPIANTARE'!$L64,\"\")","v":""},null,"",{"$f":"IF(AND($B163=\"AZIONE_1\",$R163=6),'3 - SPECIE DA IMPIANTARE'!$L64,\"\")","v":""}]
[2,{"$f":"B64","v":""},"",{"$f":"IF(AND($B164=\"AZIONE_1\",C164=1),'3 - SPECIE DA IMPIANTARE'!$L65,\"\")","v":""},null,{"$f":"F64","v":""},{"$f":"IF(AND($B164=\"AZIONE_1\",F164=2),'3 - SPECIE DA IMPIANTARE'!$L65,\"\")","v":""},null,"",{"$f":"IF(AND($B164=\"AZIONE_1\",$I164=3),'3 - SPECIE DA IMPIANTARE'!$L65,\"\")","v":""},null,"",{"$f":"IF(AND($B164=\"AZIONE_1\",$L164=4),'3 - SPECIE DA IMPIANTARE'!$L65,\"\")","v":""},null,"",{"$f":"IF(AND($B164=\"AZIONE_1\",$O164=5),'3 - SPECIE DA IMPIANTARE'!$L65,\"\")","v":""},null,"",{"$f":"IF(AND($B164=\"AZIONE_1\",$R164=6),'3 - SPECIE DA IMPIANTARE'!$L65,\"\")","v":""}]
[2,{"$f":"B65","v":""},"",{"$f":"IF(AND($B165=\"AZIONE_1\",C165=1),'3 - SPECIE DA IMPIANTARE'!$L66,\"\")","v":""},null,{"$f":"F65","v":""},{"$f":"IF(AND($B165=\"AZIONE_1\",F165=2),'3 - SPECIE DA IMPIANTARE'!$L66,\"\")","v":""},null,"",{"$f":"IF(AND($B165=\"AZIONE_1\",$I165=3),'3 - SPECIE DA IMPIANTARE'!$L66,\"\")","v":""},null,"",{"$f":"IF(AND($B165=\"AZIONE_1\",$L165=4),'3 - SPECIE DA IMPIANTARE'!$L66,\"\")","v":""},null,"",{"$f":"IF(AND($B165=\"AZIONE_1\",$O165=5),'3 - SPECIE DA IMPIANTARE'!$L66,\"\")","v":""},null,"",{"$f":"IF(AND($B165=\"AZIONE_1\",$R165=6),'3 - SPECIE DA IMPIANTARE'!$L66,\"\")","v":""}]
[2,{"$f":"B66","v":""},"",{"$f":"IF(AND($B166=\"AZIONE_1\",C166=1),'3 - SPECIE DA IMPIANTARE'!$L67,\"\")","v":""},null,{"$f":"F66","v":""},{"$f":"IF(AND($B166=\"AZIONE_1\",F166=2),'3 - SPECIE DA IMPIANTARE'!$L67,\"\")","v":""},null,"",{"$f":"IF(AND($B166=\"AZIONE_1\",$I166=3),'3 - SPECIE DA IMPIANTARE'!$L67,\"\")","v":""},null,"",{"$f":"IF(AND($B166=\"AZIONE_1\",$L166=4),'3 - SPECIE DA IMPIANTARE'!$L67,\"\")","v":""},null,"",{"$f":"IF(AND($B166=\"AZIONE_1\",$O166=5),'3 - SPECIE DA IMPIANTARE'!$L67,\"\")","v":""},null,"",{"$f":"IF(AND($B166=\"AZIONE_1\",$R166=6),'3 - SPECIE DA IMPIANTARE'!$L67,\"\")","v":""}]
[2,{"$f":"B67","v":""},"",{"$f":"IF(AND($B167=\"AZIONE_1\",C167=1),'3 - SPECIE DA IMPIANTARE'!$L68,\"\")","v":""},null,{"$f":"F67","v":""},{"$f":"IF(AND($B167=\"AZIONE_1\",F167=2),'3 - SPECIE DA IMPIANTARE'!$L68,\"\")","v":""},null,{"$f":"I67","v":""},{"$f":"IF(AND($B167=\"AZIONE_1\",$I167=3),'3 - SPECIE DA IMPIANTARE'!$L68,\"\")","v":""},null,{"$f":"L67","v":""},{"$f":"IF(AND($B167=\"AZIONE_1\",$L167=4),'3 - SPECIE DA IMPIANTARE'!$L68,\"\")","v":""},null,{"$f":"O67","v":""},{"$f":"IF(AND($B167=\"AZIONE_1\",$O167=5),'3 - SPECIE DA IMPIANTARE'!$L68,\"\")","v":""},null,{"$f":"R67","v":""},{"$f":"IF(AND($B167=\"AZIONE_1\",$R167=6),'3 - SPECIE DA IMPIANTARE'!$L68,\"\")","v":""}]
[2,{"$f":"B68","v":""},"",{"$f":"IF(AND($B168=\"AZIONE_1\",C168=1),'3 - SPECIE DA IMPIANTARE'!$L69,\"\")","v":""},null,{"$f":"F68","v":""},{"$f":"IF(AND($B168=\"AZIONE_1\",F168=2),'3 - SPECIE DA IMPIANTARE'!$L69,\"\")","v":""},null,"",{"$f":"IF(AND($B168=\"AZIONE_1\",$I168=3),'3 - SPECIE DA IMPIANTARE'!$L69,\"\")","v":""},null,"",{"$f":"IF(AND($B168=\"AZIONE_1\",$L168=4),'3 - SPECIE DA IMPIANTARE'!$L69,\"\")","v":""},null,"",{"$f":"IF(AND($B168=\"AZIONE_1\",$O168=5),'3 - SPECIE DA IMPIANTARE'!$L69,\"\")","v":""},null,"",{"$f":"IF(AND($B168=\"AZIONE_1\",$R168=6),'3 - SPECIE DA IMPIANTARE'!$L69,\"\")","v":""}]
[2,{"$f":"B69","v":""},"",{"$f":"IF(AND($B169=\"AZIONE_1\",C169=1),'3 - SPECIE DA IMPIANTARE'!$L70,\"\")","v":""},null,{"$f":"F69","v":""},{"$f":"IF(AND($B169=\"AZIONE_1\",F169=2),'3 - SPECIE DA IMPIANTARE'!$L70,\"\")","v":""},null,"",{"$f":"IF(AND($B169=\"AZIONE_1\",$I169=3),'3 - SPECIE DA IMPIANTARE'!$L70,\"\")","v":""},null,"",{"$f":"IF(AND($B169=\"AZIONE_1\",$L169=4),'3 - SPECIE DA IMPIANTARE'!$L70,\"\")","v":""},null,"",{"$f":"IF(AND($B169=\"AZIONE_1\",$O169=5),'3 - SPECIE DA IMPIANTARE'!$L70,\"\")","v":""},null,"",{"$f":"IF(AND($B169=\"AZIONE_1\",$R169=6),'3 - SPECIE DA IMPIANTARE'!$L70,\"\")","v":""}]
[2,{"$f":"B70","v":""},"",{"$f":"IF(AND($B170=\"AZIONE_1\",C170=1),'3 - SPECIE DA IMPIANTARE'!$L71,\"\")","v":""},null,{"$f":"F70","v":""},{"$f":"IF(AND($B170=\"AZIONE_1\",F170=2),'3 - SPECIE DA IMPIANTARE'!$L71,\"\")","v":""},null,"",{"$f":"IF(AND($B170=\"AZIONE_1\",$I170=3),'3 - SPECIE DA IMPIANTARE'!$L71,\"\")","v":""},null,"",{"$f":"IF(AND($B170=\"AZIONE_1\",$L170=4),'3 - SPECIE DA IMPIANTARE'!$L71,\"\")","v":""},null,"",{"$f":"IF(AND($B170=\"AZIONE_1\",$O170=5),'3 - SPECIE DA IMPIANTARE'!$L71,\"\")","v":""},null,"",{"$f":"IF(AND($B170=\"AZIONE_1\",$R170=6),'3 - SPECIE DA IMPIANTARE'!$L71,\"\")","v":""}]
[2,{"$f":"B71","v":""},"",{"$f":"IF(AND($B171=\"AZIONE_1\",C171=1),'3 - SPECIE DA IMPIANTARE'!$L72,\"\")","v":""},null,{"$f":"F71","v":""},{"$f":"IF(AND($B171=\"AZIONE_1\",F171=2),'3 - SPECIE DA IMPIANTARE'!$L72,\"\")","v":""},null,"",{"$f":"IF(AND($B171=\"AZIONE_1\",$I171=3),'3 - SPECIE DA IMPIANTARE'!$L72,\"\")","v":""},null,"",{"$f":"IF(AND($B171=\"AZIONE_1\",$L171=4),'3 - SPECIE DA IMPIANTARE'!$L72,\"\")","v":""},null,"",{"$f":"IF(AND($B171=\"AZIONE_1\",$O171=5),'3 - SPECIE DA IMPIANTARE'!$L72,\"\")","v":""},null,"",{"$f":"IF(AND($B171=\"AZIONE_1\",$R171=6),'3 - SPECIE DA IMPIANTARE'!$L72,\"\")","v":""}]
[2,{"$f":"B72","v":""},"",{"$f":"IF(AND($B172=\"AZIONE_1\",C172=1),'3 - SPECIE DA IMPIANTARE'!$L73,\"\")","v":""},null,{"$f":"F72","v":""},{"$f":"IF(AND($B172=\"AZIONE_1\",F172=2),'3 - SPECIE DA IMPIANTARE'!$L73,\"\")","v":""},null,"",{"$f":"IF(AND($B172=\"AZIONE_1\",$I172=3),'3 - SPECIE DA IMPIANTARE'!$L73,\"\")","v":""},null,"",{"$f":"IF(AND($B172=\"AZIONE_1\",$L172=4),'3 - SPECIE DA IMPIANTARE'!$L73,\"\")","v":""},null,"",{"$f":"IF(AND($B172=\"AZIONE_1\",$O172=5),'3 - SPECIE DA IMPIANTARE'!$L73,\"\")","v":""},null,"",{"$f":"IF(AND($B172=\"AZIONE_1\",$R172=6),'3 - SPECIE DA IMPIANTARE'!$L73,\"\")","v":""}]
[2,{"$f":"B73","v":""},"",{"$f":"IF(AND($B173=\"AZIONE_1\",C173=1),'3 - SPECIE DA IMPIANTARE'!$L74,\"\")","v":""},null,{"$f":"F73","v":""},{"$f":"IF(AND($B173=\"AZIONE_1\",F173=2),'3 - SPECIE DA IMPIANTARE'!$L74,\"\")","v":""},null,"",{"$f":"IF(AND($B173=\"AZIONE_1\",$I173=3),'3 - SPECIE DA IMPIANTARE'!$L74,\"\")","v":""},null,"",{"$f":"IF(AND($B173=\"AZIONE_1\",$L173=4),'3 - SPECIE DA IMPIANTARE'!$L74,\"\")","v":""},null,"",{"$f":"IF(AND($B173=\"AZIONE_1\",$O173=5),'3 - SPECIE DA IMPIANTARE'!$L74,\"\")","v":""},null,"",{"$f":"IF(AND($B173=\"AZIONE_1\",$R173=6),'3 - SPECIE DA IMPIANTARE'!$L74,\"\")","v":""}]
[2,{"$f":"B74","v":""},"",{"$f":"IF(AND($B174=\"AZIONE_1\",C174=1),'3 - SPECIE DA IMPIANTARE'!$L75,\"\")","v":""},null,{"$f":"F74","v":""},{"$f":"IF(AND($B174=\"AZIONE_1\",F174=2),'3 - SPECIE DA IMPIANTARE'!$L75,\"\")","v":""},null,"",{"$f":"IF(AND($B174=\"AZIONE_1\",$I174=3),'3 - SPECIE DA IMPIANTARE'!$L75,\"\")","v":""},null,"",{"$f":"IF(AND($B174=\"AZIONE_1\",$L174=4),'3 - SPECIE DA IMPIANTARE'!$L75,\"\")","v":""},null,"",{"$f":"IF(AND($B174=\"AZIONE_1\",$O174=5),'3 - SPECIE DA IMPIANTARE'!$L75,\"\")","v":""},null,"",{"$f":"IF(AND($B174=\"AZIONE_1\",$R174=6),'3 - SPECIE DA IMPIANTARE'!$L75,\"\")","v":""}]
[2,{"$f":"B75","v":""},"",{"$f":"IF(AND($B175=\"AZIONE_1\",C175=1),'3 - SPECIE DA IMPIANTARE'!$L76,\"\")","v":""},null,{"$f":"F75","v":""},{"$f":"IF(AND($B175=\"AZIONE_1\",F175=2),'3 - SPECIE DA IMPIANTARE'!$L76,\"\")","v":""},null,"",{"$f":"IF(AND($B175=\"AZIONE_1\",$I175=3),'3 - SPECIE DA IMPIANTARE'!$L76,\"\")","v":""},null,"",{"$f":"IF(AND($B175=\"AZIONE_1\",$L175=4),'3 - SPECIE DA IMPIANTARE'!$L76,\"\")","v":""},null,"",{"$f":"IF(AND($B175=\"AZIONE_1\",$O175=5),'3 - SPECIE DA IMPIANTARE'!$L76,\"\")","v":""},null,"",{"$f":"IF(AND($B175=\"AZIONE_1\",$R175=6),'3 - SPECIE DA IMPIANTARE'!$L76,\"\")","v":""}]
[2,{"$f":"B76","v":""},"",{"$f":"IF(AND($B176=\"AZIONE_1\",C176=1),'3 - SPECIE DA IMPIANTARE'!$L77,\"\")","v":""},null,{"$f":"F76","v":""},{"$f":"IF(AND($B176=\"AZIONE_1\",F176=2),'3 - SPECIE DA IMPIANTARE'!$L77,\"\")","v":""},null,"",{"$f":"IF(AND($B176=\"AZIONE_1\",$I176=3),'3 - SPECIE DA IMPIANTARE'!$L77,\"\")","v":""},null,"",{"$f":"IF(AND($B176=\"AZIONE_1\",$L176=4),'3 - SPECIE DA IMPIANTARE'!$L77,\"\")","v":""},null,"",{"$f":"IF(AND($B176=\"AZIONE_1\",$O176=5),'3 - SPECIE DA IMPIANTARE'!$L77,\"\")","v":""},null,"",{"$f":"IF(AND($B176=\"AZIONE_1\",$R176=6),'3 - SPECIE DA IMPIANTARE'!$L77,\"\")","v":""}]
[2,{"$f":"B77","v":""},"",{"$f":"IF(AND($B177=\"AZIONE_1\",C177=1),'3 - SPECIE DA IMPIANTARE'!$L78,\"\")","v":""},null,{"$f":"F77","v":""},{"$f":"IF(AND($B177=\"AZIONE_1\",F177=2),'3 - SPECIE DA IMPIANTARE'!$L78,\"\")","v":""},null,"",{"$f":"IF(AND($B177=\"AZIONE_1\",$I177=3),'3 - SPECIE DA IMPIANTARE'!$L78,\"\")","v":""},null,"",{"$f":"IF(AND($B177=\"AZIONE_1\",$L177=4),'3 - SPECIE DA IMPIANTARE'!$L78,\"\")","v":""},null,"",{"$f":"IF(AND($B177=\"AZIONE_1\",$O177=5),'3 - SPECIE DA IMPIANTARE'!$L78,\"\")","v":""},null,"",{"$f":"IF(AND($B177=\"AZIONE_1\",$R177=6),'3 - SPECIE DA IMPIANTARE'!$L78,\"\")","v":""}]
[2,{"$f":"B78","v":""},"",{"$f":"IF(AND($B178=\"AZIONE_1\",C178=1),'3 - SPECIE DA IMPIANTARE'!$L79,\"\")","v":""},null,{"$f":"F78","v":""},{"$f":"IF(AND($B178=\"AZIONE_1\",F178=2),'3 - SPECIE DA IMPIANTARE'!$L79,\"\")","v":""},null,"",{"$f":"IF(AND($B178=\"AZIONE_1\",$I178=3),'3 - SPECIE DA IMPIANTARE'!$L79,\"\")","v":""},null,"",{"$f":"IF(AND($B178=\"AZIONE_1\",$L178=4),'3 - SPECIE DA IMPIANTARE'!$L79,\"\")","v":""},null,"",{"$f":"IF(AND($B178=\"AZIONE_1\",$O178=5),'3 - SPECIE DA IMPIANTARE'!$L79,\"\")","v":""},null,"",{"$f":"IF(AND($B178=\"AZIONE_1\",$R178=6),'3 - SPECIE DA IMPIANTARE'!$L79,\"\")","v":""}]
[2,{"$f":"B79","v":""},"",{"$f":"IF(AND($B179=\"AZIONE_1\",C179=1),'3 - SPECIE DA IMPIANTARE'!$L80,\"\")","v":""},null,{"$f":"F79","v":""},{"$f":"IF(AND($B179=\"AZIONE_1\",F179=2),'3 - SPECIE DA IMPIANTARE'!$L80,\"\")","v":""},null,"",{"$f":"IF(AND($B179=\"AZIONE_1\",$I179=3),'3 - SPECIE DA IMPIANTARE'!$L80,\"\")","v":""},null,"",{"$f":"IF(AND($B179=\"AZIONE_1\",$L179=4),'3 - SPECIE DA IMPIANTARE'!$L80,\"\")","v":""},null,"",{"$f":"IF(AND($B179=\"AZIONE_1\",$O179=5),'3 - SPECIE DA IMPIANTARE'!$L80,\"\")","v":""},null,"",{"$f":"IF(AND($B179=\"AZIONE_1\",$R179=6),'3 - SPECIE DA IMPIANTARE'!$L80,\"\")","v":""}]
[2,{"$f":"B80","v":""},"",{"$f":"IF(AND($B180=\"AZIONE_1\",C180=1),'3 - SPECIE DA IMPIANTARE'!$L81,\"\")","v":""},null,{"$f":"F80","v":""},{"$f":"IF(AND($B180=\"AZIONE_1\",F180=2),'3 - SPECIE DA IMPIANTARE'!$L81,\"\")","v":""},null,"",{"$f":"IF(AND($B180=\"AZIONE_1\",$I180=3),'3 - SPECIE DA IMPIANTARE'!$L81,\"\")","v":""},null,"",{"$f":"IF(AND($B180=\"AZIONE_1\",$L180=4),'3 - SPECIE DA IMPIANTARE'!$L81,\"\")","v":""},null,"",{"$f":"IF(AND($B180=\"AZIONE_1\",$O180=5),'3 - SPECIE DA IMPIANTARE'!$L81,\"\")","v":""},null,"",{"$f":"IF(AND($B180=\"AZIONE_1\",$R180=6),'3 - SPECIE DA IMPIANTARE'!$L81,\"\")","v":""}]
[2,{"$f":"B81","v":""},"",{"$f":"IF(AND($B181=\"AZIONE_1\",C181=1),'3 - SPECIE DA IMPIANTARE'!$L82,\"\")","v":""},null,{"$f":"F81","v":""},{"$f":"IF(AND($B181=\"AZIONE_1\",F181=2),'3 - SPECIE DA IMPIANTARE'!$L82,\"\")","v":""},null,"",{"$f":"IF(AND($B181=\"AZIONE_1\",$I181=3),'3 - SPECIE DA IMPIANTARE'!$L82,\"\")","v":""},null,"",{"$f":"IF(AND($B181=\"AZIONE_1\",$L181=4),'3 - SPECIE DA IMPIANTARE'!$L82,\"\")","v":""},null,"",{"$f":"IF(AND($B181=\"AZIONE_1\",$O181=5),'3 - SPECIE DA IMPIANTARE'!$L82,\"\")","v":""},null,"",{"$f":"IF(AND($B181=\"AZIONE_1\",$R181=6),'3 - SPECIE DA IMPIANTARE'!$L82,\"\")","v":""}]
[2,{"$f":"B82","v":""},"",{"$f":"IF(AND($B182=\"AZIONE_1\",C182=1),'3 - SPECIE DA IMPIANTARE'!$L83,\"\")","v":""},null,{"$f":"F82","v":""},{"$f":"IF(AND($B182=\"AZIONE_1\",F182=2),'3 - SPECIE DA IMPIANTARE'!$L83,\"\")","v":""},null,"",{"$f":"IF(AND($B182=\"AZIONE_1\",$I182=3),'3 - SPECIE DA IMPIANTARE'!$L83,\"\")","v":""},null,"",{"$f":"IF(AND($B182=\"AZIONE_1\",$L182=4),'3 - SPECIE DA IMPIANTARE'!$L83,\"\")","v":""},null,"",{"$f":"IF(AND($B182=\"AZIONE_1\",$O182=5),'3 - SPECIE DA IMPIANTARE'!$L83,\"\")","v":""},null,"",{"$f":"IF(AND($B182=\"AZIONE_1\",$R182=6),'3 - SPECIE DA IMPIANTARE'!$L83,\"\")","v":""}]
[2,{"$f":"B83","v":""},"",{"$f":"IF(AND($B183=\"AZIONE_1\",C183=1),'3 - SPECIE DA IMPIANTARE'!$L84,\"\")","v":""},null,{"$f":"F83","v":""},{"$f":"IF(AND($B183=\"AZIONE_1\",F183=2),'3 - SPECIE DA IMPIANTARE'!$L84,\"\")","v":""},null,"",{"$f":"IF(AND($B183=\"AZIONE_1\",$I183=3),'3 - SPECIE DA IMPIANTARE'!$L84,\"\")","v":""},null,"",{"$f":"IF(AND($B183=\"AZIONE_1\",$L183=4),'3 - SPECIE DA IMPIANTARE'!$L84,\"\")","v":""},null,"",{"$f":"IF(AND($B183=\"AZIONE_1\",$O183=5),'3 - SPECIE DA IMPIANTARE'!$L84,\"\")","v":""},null,"",{"$f":"IF(AND($B183=\"AZIONE_1\",$R183=6),'3 - SPECIE DA IMPIANTARE'!$L84,\"\")","v":""}]
[2,{"$f":"B84","v":""},"",{"$f":"IF(AND($B184=\"AZIONE_1\",C184=1),'3 - SPECIE DA IMPIANTARE'!$L85,\"\")","v":""},null,{"$f":"F84","v":""},{"$f":"IF(AND($B184=\"AZIONE_1\",F184=2),'3 - SPECIE DA IMPIANTARE'!$L85,\"\")","v":""},null,"",{"$f":"IF(AND($B184=\"AZIONE_1\",$I184=3),'3 - SPECIE DA IMPIANTARE'!$L85,\"\")","v":""},null,"",{"$f":"IF(AND($B184=\"AZIONE_1\",$L184=4),'3 - SPECIE DA IMPIANTARE'!$L85,\"\")","v":""},null,"",{"$f":"IF(AND($B184=\"AZIONE_1\",$O184=5),'3 - SPECIE DA IMPIANTARE'!$L85,\"\")","v":""},null,"",{"$f":"IF(AND($B184=\"AZIONE_1\",$R184=6),'3 - SPECIE DA IMPIANTARE'!$L85,\"\")","v":""}]
[2,{"$f":"B85","v":""},"",{"$f":"IF(AND($B185=\"AZIONE_1\",C185=1),'3 - SPECIE DA IMPIANTARE'!$L86,\"\")","v":""},null,{"$f":"F85","v":""},{"$f":"IF(AND($B185=\"AZIONE_1\",F185=2),'3 - SPECIE DA IMPIANTARE'!$L86,\"\")","v":""},null,"",{"$f":"IF(AND($B185=\"AZIONE_1\",$I185=3),'3 - SPECIE DA IMPIANTARE'!$L86,\"\")","v":""},null,"",{"$f":"IF(AND($B185=\"AZIONE_1\",$L185=4),'3 - SPECIE DA IMPIANTARE'!$L86,\"\")","v":""},null,"",{"$f":"IF(AND($B185=\"AZIONE_1\",$O185=5),'3 - SPECIE DA IMPIANTARE'!$L86,\"\")","v":""},null,"",{"$f":"IF(AND($B185=\"AZIONE_1\",$R185=6),'3 - SPECIE DA IMPIANTARE'!$L86,\"\")","v":""}]
[2,{"$f":"B86","v":""},"",{"$f":"IF(AND($B186=\"AZIONE_1\",C186=1),'3 - SPECIE DA IMPIANTARE'!$L87,\"\")","v":""},null,{"$f":"F86","v":""},{"$f":"IF(AND($B186=\"AZIONE_1\",F186=2),'3 - SPECIE DA IMPIANTARE'!$L87,\"\")","v":""},null,"",{"$f":"IF(AND($B186=\"AZIONE_1\",$I186=3),'3 - SPECIE DA IMPIANTARE'!$L87,\"\")","v":""},null,"",{"$f":"IF(AND($B186=\"AZIONE_1\",$L186=4),'3 - SPECIE DA IMPIANTARE'!$L87,\"\")","v":""},null,"",{"$f":"IF(AND($B186=\"AZIONE_1\",$O186=5),'3 - SPECIE DA IMPIANTARE'!$L87,\"\")","v":""},null,"",{"$f":"IF(AND($B186=\"AZIONE_1\",$R186=6),'3 - SPECIE DA IMPIANTARE'!$L87,\"\")","v":""}]
[2,{"$f":"B87","v":""},"",{"$f":"IF(AND($B187=\"AZIONE_1\",C187=1),'3 - SPECIE DA IMPIANTARE'!$L88,\"\")","v":""},null,{"$f":"F87","v":""},{"$f":"IF(AND($B187=\"AZIONE_1\",F187=2),'3 - SPECIE DA IMPIANTARE'!$L88,\"\")","v":""},null,"",{"$f":"IF(AND($B187=\"AZIONE_1\",$I187=3),'3 - SPECIE DA IMPIANTARE'!$L88,\"\")","v":""},null,"",{"$f":"IF(AND($B187=\"AZIONE_1\",$L187=4),'3 - SPECIE DA IMPIANTARE'!$L88,\"\")","v":""},null,"",{"$f":"IF(AND($B187=\"AZIONE_1\",$O187=5),'3 - SPECIE DA IMPIANTARE'!$L88,\"\")","v":""},null,"",{"$f":"IF(AND($B187=\"AZIONE_1\",$R187=6),'3 - SPECIE DA IMPIANTARE'!$L88,\"\")","v":""}]
[2,{"$f":"B88","v":""},"",{"$f":"IF(AND($B188=\"AZIONE_1\",C188=1),'3 - SPECIE DA IMPIANTARE'!$L89,\"\")","v":""},null,{"$f":"F88","v":""},{"$f":"IF(AND($B188=\"AZIONE_1\",F188=2),'3 - SPECIE DA IMPIANTARE'!$L89,\"\")","v":""},null,"",{"$f":"IF(AND($B188=\"AZIONE_1\",$I188=3),'3 - SPECIE DA IMPIANTARE'!$L89,\"\")","v":""},null,"",{"$f":"IF(AND($B188=\"AZIONE_1\",$L188=4),'3 - SPECIE DA IMPIANTARE'!$L89,\"\")","v":""},null,"",{"$f":"IF(AND($B188=\"AZIONE_1\",$O188=5),'3 - SPECIE DA IMPIANTARE'!$L89,\"\")","v":""},null,"",{"$f":"IF(AND($B188=\"AZIONE_1\",$R188=6),'3 - SPECIE DA IMPIANTARE'!$L89,\"\")","v":""}]
[2,{"$f":"B89","v":""},"",{"$f":"IF(AND($B189=\"AZIONE_1\",C189=1),'3 - SPECIE DA IMPIANTARE'!$L90,\"\")","v":""},null,{"$f":"F89","v":""},{"$f":"IF(AND($B189=\"AZIONE_1\",F189=2),'3 - SPECIE DA IMPIANTARE'!$L90,\"\")","v":""},null,"",{"$f":"IF(AND($B189=\"AZIONE_1\",$I189=3),'3 - SPECIE DA IMPIANTARE'!$L90,\"\")","v":""},null,"",{"$f":"IF(AND($B189=\"AZIONE_1\",$L189=4),'3 - SPECIE DA IMPIANTARE'!$L90,\"\")","v":""},null,"",{"$f":"IF(AND($B189=\"AZIONE_1\",$O189=5),'3 - SPECIE DA IMPIANTARE'!$L90,\"\")","v":""},null,"",{"$f":"IF(AND($B189=\"AZIONE_1\",$R189=6),'3 - SPECIE DA IMPIANTARE'!$L90,\"\")","v":""}]
[2,{"$f":"B90","v":""},"",{"$f":"IF(AND($B190=\"AZIONE_1\",C190=1),'3 - SPECIE DA IMPIANTARE'!$L91,\"\")","v":""},null,{"$f":"F90","v":""},{"$f":"IF(AND($B190=\"AZIONE_1\",F190=2),'3 - SPECIE DA IMPIANTARE'!$L91,\"\")","v":""},null,"",{"$f":"IF(AND($B190=\"AZIONE_1\",$I190=3),'3 - SPECIE DA IMPIANTARE'!$L91,\"\")","v":""},null,"",{"$f":"IF(AND($B190=\"AZIONE_1\",$L190=4),'3 - SPECIE DA IMPIANTARE'!$L91,\"\")","v":""},null,"",{"$f":"IF(AND($B190=\"AZIONE_1\",$O190=5),'3 - SPECIE DA IMPIANTARE'!$L91,\"\")","v":""},null,"",{"$f":"IF(AND($B190=\"AZIONE_1\",$R190=6),'3 - SPECIE DA IMPIANTARE'!$L91,\"\")","v":""}]
[2,{"$f":"B91","v":""},"",{"$f":"IF(AND($B191=\"AZIONE_1\",C191=1),'3 - SPECIE DA IMPIANTARE'!$L92,\"\")","v":""},null,{"$f":"F91","v":""},{"$f":"IF(AND($B191=\"AZIONE_1\",F191=2),'3 - SPECIE DA IMPIANTARE'!$L92,\"\")","v":""},null,"",{"$f":"IF(AND($B191=\"AZIONE_1\",$I191=3),'3 - SPECIE DA IMPIANTARE'!$L92,\"\")","v":""},null,"",{"$f":"IF(AND($B191=\"AZIONE_1\",$L191=4),'3 - SPECIE DA IMPIANTARE'!$L92,\"\")","v":""},null,"",{"$f":"IF(AND($B191=\"AZIONE_1\",$O191=5),'3 - SPECIE DA IMPIANTARE'!$L92,\"\")","v":""},null,"",{"$f":"IF(AND($B191=\"AZIONE_1\",$R191=6),'3 - SPECIE DA IMPIANTARE'!$L92,\"\")","v":""}]
[2,{"$f":"B92","v":""},"",{"$f":"IF(AND($B192=\"AZIONE_1\",C192=1),'3 - SPECIE DA IMPIANTARE'!$L93,\"\")","v":""},null,{"$f":"F92","v":""},{"$f":"IF(AND($B192=\"AZIONE_1\",F192=2),'3 - SPECIE DA IMPIANTARE'!$L93,\"\")","v":""},null,"",{"$f":"IF(AND($B192=\"AZIONE_1\",$I192=3),'3 - SPECIE DA IMPIANTARE'!$L93,\"\")","v":""},null,"",{"$f":"IF(AND($B192=\"AZIONE_1\",$L192=4),'3 - SPECIE DA IMPIANTARE'!$L93,\"\")","v":""},null,"",{"$f":"IF(AND($B192=\"AZIONE_1\",$O192=5),'3 - SPECIE DA IMPIANTARE'!$L93,\"\")","v":""},null,"",{"$f":"IF(AND($B192=\"AZIONE_1\",$R192=6),'3 - SPECIE DA IMPIANTARE'!$L93,\"\")","v":""}]
[2,{"$f":"B93","v":""},"",{"$f":"IF(AND($B193=\"AZIONE_1\",C193=1),'3 - SPECIE DA IMPIANTARE'!$L94,\"\")","v":""},null,{"$f":"F93","v":""},{"$f":"IF(AND($B193=\"AZIONE_1\",F193=2),'3 - SPECIE DA IMPIANTARE'!$L94,\"\")","v":""},null,"",{"$f":"IF(AND($B193=\"AZIONE_1\",$I193=3),'3 - SPECIE DA IMPIANTARE'!$L94,\"\")","v":""},null,"",{"$f":"IF(AND($B193=\"AZIONE_1\",$L193=4),'3 - SPECIE DA IMPIANTARE'!$L94,\"\")","v":""},null,"",{"$f":"IF(AND($B193=\"AZIONE_1\",$O193=5),'3 - SPECIE DA IMPIANTARE'!$L94,\"\")","v":""},null,"",{"$f":"IF(AND($B193=\"AZIONE_1\",$R193=6),'3 - SPECIE DA IMPIANTARE'!$L94,\"\")","v":""}]
[2,{"$f":"B94","v":""},"",{"$f":"IF(AND($B194=\"AZIONE_1\",C194=1),'3 - SPECIE DA IMPIANTARE'!$L95,\"\")","v":""},null,{"$f":"F94","v":""},{"$f":"IF(AND($B194=\"AZIONE_1\",F194=2),'3 - SPECIE DA IMPIANTARE'!$L95,\"\")","v":""},null,"",{"$f":"IF(AND($B194=\"AZIONE_1\",$I194=3),'3 - SPECIE DA IMPIANTARE'!$L95,\"\")","v":""},null,"",{"$f":"IF(AND($B194=\"AZIONE_1\",$L194=4),'3 - SPECIE DA IMPIANTARE'!$L95,\"\")","v":""},null,"",{"$f":"IF(AND($B194=\"AZIONE_1\",$O194=5),'3 - SPECIE DA IMPIANTARE'!$L95,\"\")","v":""},null,"",{"$f":"IF(AND($B194=\"AZIONE_1\",$R194=6),'3 - SPECIE DA IMPIANTARE'!$L95,\"\")","v":""}]
[2,{"$f":"B95","v":""},"",{"$f":"IF(AND($B195=\"AZIONE_1\",C195=1),'3 - SPECIE DA IMPIANTARE'!$L96,\"\")","v":""},null,{"$f":"F95","v":""},{"$f":"IF(AND($B195=\"AZIONE_1\",F195=2),'3 - SPECIE DA IMPIANTARE'!$L96,\"\")","v":""},null,"",{"$f":"IF(AND($B195=\"AZIONE_1\",$I195=3),'3 - SPECIE DA IMPIANTARE'!$L96,\"\")","v":""},null,"",{"$f":"IF(AND($B195=\"AZIONE_1\",$L195=4),'3 - SPECIE DA IMPIANTARE'!$L96,\"\")","v":""},null,"",{"$f":"IF(AND($B195=\"AZIONE_1\",$O195=5),'3 - SPECIE DA IMPIANTARE'!$L96,\"\")","v":""},null,"",{"$f":"IF(AND($B195=\"AZIONE_1\",$R195=6),'3 - SPECIE DA IMPIANTARE'!$L96,\"\")","v":""}]
[2,{"$f":"B96","v":""},"",{"$f":"IF(AND($B196=\"AZIONE_1\",C196=1),'3 - SPECIE DA IMPIANTARE'!$L97,\"\")","v":""},null,{"$f":"F96","v":""},{"$f":"IF(AND($B196=\"AZIONE_1\",F196=2),'3 - SPECIE DA IMPIANTARE'!$L97,\"\")","v":""},null,"",{"$f":"IF(AND($B196=\"AZIONE_1\",$I196=3),'3 - SPECIE DA IMPIANTARE'!$L97,\"\")","v":""},null,"",{"$f":"IF(AND($B196=\"AZIONE_1\",$L196=4),'3 - SPECIE DA IMPIANTARE'!$L97,\"\")","v":""},null,"",{"$f":"IF(AND($B196=\"AZIONE_1\",$O196=5),'3 - SPECIE DA IMPIANTARE'!$L97,\"\")","v":""},null,"",{"$f":"IF(AND($B196=\"AZIONE_1\",$R196=6),'3 - SPECIE DA IMPIANTARE'!$L97,\"\")","v":""}]
[2,{"$f":"B97","v":""},"",{"$f":"IF(AND($B197=\"AZIONE_1\",C197=1),'3 - SPECIE DA IMPIANTARE'!$L98,\"\")","v":""},null,{"$f":"F97","v":""},{"$f":"IF(AND($B197=\"AZIONE_1\",F197=2),'3 - SPECIE DA IMPIANTARE'!$L98,\"\")","v":""},null,"",{"$f":"IF(AND($B197=\"AZIONE_1\",$I197=3),'3 - SPECIE DA IMPIANTARE'!$L98,\"\")","v":""},null,"",{"$f":"IF(AND($B197=\"AZIONE_1\",$L197=4),'3 - SPECIE DA IMPIANTARE'!$L98,\"\")","v":""},null,"",{"$f":"IF(AND($B197=\"AZIONE_1\",$O197=5),'3 - SPECIE DA IMPIANTARE'!$L98,\"\")","v":""},null,"",{"$f":"IF(AND($B197=\"AZIONE_1\",$R197=6),'3 - SPECIE DA IMPIANTARE'!$L98,\"\")","v":""}]
[2,{"$f":"B98","v":""},"",{"$f":"IF(AND($B198=\"AZIONE_1\",C198=1),'3 - SPECIE DA IMPIANTARE'!$L99,\"\")","v":""},null,{"$f":"F98","v":""},{"$f":"IF(AND($B198=\"AZIONE_1\",F198=2),'3 - SPECIE DA IMPIANTARE'!$L99,\"\")","v":""},null,"",{"$f":"IF(AND($B198=\"AZIONE_1\",$I198=3),'3 - SPECIE DA IMPIANTARE'!$L99,\"\")","v":""},null,"",{"$f":"IF(AND($B198=\"AZIONE_1\",$L198=4),'3 - SPECIE DA IMPIANTARE'!$L99,\"\")","v":""},null,"",{"$f":"IF(AND($B198=\"AZIONE_1\",$O198=5),'3 - SPECIE DA IMPIANTARE'!$L99,\"\")","v":""},null,"",{"$f":"IF(AND($B198=\"AZIONE_1\",$R198=6),'3 - SPECIE DA IMPIANTARE'!$L99,\"\")","v":""}]
[2,{"$f":"B99","v":""},"",{"$f":"IF(AND($B199=\"AZIONE_1\",C199=1),'3 - SPECIE DA IMPIANTARE'!$L100,\"\")","v":""},null,{"$f":"F99","v":""},{"$f":"IF(AND($B199=\"AZIONE_1\",F199=2),'3 - SPECIE DA IMPIANTARE'!$L100,\"\")","v":""},null,"",{"$f":"IF(AND($B199=\"AZIONE_1\",$I199=3),'3 - SPECIE DA IMPIANTARE'!$L100,\"\")","v":""},null,"",{"$f":"IF(AND($B199=\"AZIONE_1\",$L199=4),'3 - SPECIE DA IMPIANTARE'!$L100,\"\")","v":""},null,"",{"$f":"IF(AND($B199=\"AZIONE_1\",$O199=5),'3 - SPECIE DA IMPIANTARE'!$L100,\"\")","v":""},null,"",{"$f":"IF(AND($B199=\"AZIONE_1\",$R199=6),'3 - SPECIE DA IMPIANTARE'!$L100,\"\")","v":""}]
[2,{"$f":"B100","v":""},"",{"$f":"IF(AND($B200=\"AZIONE_1\",C200=1),'3 - SPECIE DA IMPIANTARE'!$L101,\"\")","v":""},null,{"$f":"F100","v":""},{"$f":"IF(AND($B200=\"AZIONE_1\",F200=2),'3 - SPECIE DA IMPIANTARE'!$L101,\"\")","v":""},null,"",{"$f":"IF(AND($B200=\"AZIONE_1\",$I200=3),'3 - SPECIE DA IMPIANTARE'!$L101,\"\")","v":""},null,"",{"$f":"IF(AND($B200=\"AZIONE_1\",$L200=4),'3 - SPECIE DA IMPIANTARE'!$L101,\"\")","v":""},null,"",{"$f":"IF(AND($B200=\"AZIONE_1\",$O200=5),'3 - SPECIE DA IMPIANTARE'!$L101,\"\")","v":""},null,"",{"$f":"IF(AND($B200=\"AZIONE_1\",$R200=6),'3 - SPECIE DA IMPIANTARE'!$L101,\"\")","v":""}]
[2,{"$f":"B101","v":""},"",{"$f":"IF(AND($B201=\"AZIONE_1\",C201=1),'3 - SPECIE DA IMPIANTARE'!$L102,\"\")","v":""},null,{"$f":"F101","v":""},{"$f":"IF(AND($B201=\"AZIONE_1\",F201=2),'3 - SPECIE DA IMPIANTARE'!$L102,\"\")","v":""},null,"",{"$f":"IF(AND($B201=\"AZIONE_1\",$I201=3),'3 - SPECIE DA IMPIANTARE'!$L102,\"\")","v":""},null,"",{"$f":"IF(AND($B201=\"AZIONE_1\",$L201=4),'3 - SPECIE DA IMPIANTARE'!$L102,\"\")","v":""},null,"",{"$f":"IF(AND($B201=\"AZIONE_1\",$O201=5),'3 - SPECIE DA IMPIANTARE'!$L102,\"\")","v":""},null,"",{"$f":"IF(AND($B201=\"AZIONE_1\",$R201=6),'3 - SPECIE DA IMPIANTARE'!$L102,\"\")","v":""}]
[3,{"$f":"B102","v":""},"",{"$f":"IF(AND($B202=\"AZIONE_1\",C202=1),'3 - SPECIE DA IMPIANTARE'!$O3,\"\")","v":""},null,{"$f":"F102","v":""},{"$f":"IF(AND($B202=\"AZIONE_1\",F202=2),'3 - SPECIE DA IMPIANTARE'!$O3,\"\")","v":""},null,"",{"$f":"IF(AND($B202=\"AZIONE_1\",$I202=3),'3 - SPECIE DA IMPIANTARE'!$O3,\"\")","v":""},null,"",{"$f":"IF(AND($B202=\"AZIONE_1\",$L202=4),'3 - SPECIE DA IMPIANTARE'!$O3,\"\")","v":""},null,"",{"$f":"IF(AND($B202=\"AZIONE_1\",$O202=5),'3 - SPECIE DA IMPIANTARE'!$O3,\"\")","v":""},null,"",{"$f":"IF(AND($B202=\"AZIONE_1\",$R202=6),'3 - SPECIE DA IMPIANTARE'!$O3,\"\")","v":""}]
[3,{"$f":"B103","v":""},"",{"$f":"IF(AND($B203=\"AZIONE_1\",C203=1),'3 - SPECIE DA IMPIANTARE'!$O4,\"\")","v":""},null,{"$f":"F103","v":""},{"$f":"IF(AND($B203=\"AZIONE_1\",F203=2),'3 - SPECIE DA IMPIANTARE'!$O4,\"\")","v":""},null,"",{"$f":"IF(AND($B203=\"AZIONE_1\",$I203=3),'3 - SPECIE DA IMPIANTARE'!$O4,\"\")","v":""},null,"",{"$f":"IF(AND($B203=\"AZIONE_1\",$L203=4),'3 - SPECIE DA IMPIANTARE'!$O4,\"\")","v":""},null,"",{"$f":"IF(AND($B203=\"AZIONE_1\",$O203=5),'3 - SPECIE DA IMPIANTARE'!$O4,\"\")","v":""},null,"",{"$f":"IF(AND($B203=\"AZIONE_1\",$R203=6),'3 - SPECIE DA IMPIANTARE'!$O4,\"\")","v":""}]
[3,{"$f":"B104","v":""},"",{"$f":"IF(AND($B204=\"AZIONE_1\",C204=1),'3 - SPECIE DA IMPIANTARE'!$O5,\"\")","v":""},null,{"$f":"F104","v":""},{"$f":"IF(AND($B204=\"AZIONE_1\",F204=2),'3 - SPECIE DA IMPIANTARE'!$O5,\"\")","v":""},null,"",{"$f":"IF(AND($B204=\"AZIONE_1\",$I204=3),'3 - SPECIE DA IMPIANTARE'!$O5,\"\")","v":""},null,"",{"$f":"IF(AND($B204=\"AZIONE_1\",$L204=4),'3 - SPECIE DA IMPIANTARE'!$O5,\"\")","v":""},null,"",{"$f":"IF(AND($B204=\"AZIONE_1\",$O204=5),'3 - SPECIE DA IMPIANTARE'!$O5,\"\")","v":""},null,"",{"$f":"IF(AND($B204=\"AZIONE_1\",$R204=6),'3 - SPECIE DA IMPIANTARE'!$O5,\"\")","v":""}]
[3,{"$f":"B105","v":""},"",{"$f":"IF(AND($B205=\"AZIONE_1\",C205=1),'3 - SPECIE DA IMPIANTARE'!$O6,\"\")","v":""},null,{"$f":"F105","v":""},{"$f":"IF(AND($B205=\"AZIONE_1\",F205=2),'3 - SPECIE DA IMPIANTARE'!$O6,\"\")","v":""},null,"",{"$f":"IF(AND($B205=\"AZIONE_1\",$I205=3),'3 - SPECIE DA IMPIANTARE'!$O6,\"\")","v":""},null,"",{"$f":"IF(AND($B205=\"AZIONE_1\",$L205=4),'3 - SPECIE DA IMPIANTARE'!$O6,\"\")","v":""},null,"",{"$f":"IF(AND($B205=\"AZIONE_1\",$O205=5),'3 - SPECIE DA IMPIANTARE'!$O6,\"\")","v":""},null,"",{"$f":"IF(AND($B205=\"AZIONE_1\",$R205=6),'3 - SPECIE DA IMPIANTARE'!$O6,\"\")","v":""}]
[3,{"$f":"B106","v":""},"",{"$f":"IF(AND($B206=\"AZIONE_1\",C206=1),'3 - SPECIE DA IMPIANTARE'!$O7,\"\")","v":""},null,{"$f":"F106","v":""},{"$f":"IF(AND($B206=\"AZIONE_1\",F206=2),'3 - SPECIE DA IMPIANTARE'!$O7,\"\")","v":""},null,"",{"$f":"IF(AND($B206=\"AZIONE_1\",$I206=3),'3 - SPECIE DA IMPIANTARE'!$O7,\"\")","v":""},null,"",{"$f":"IF(AND($B206=\"AZIONE_1\",$L206=4),'3 - SPECIE DA IMPIANTARE'!$O7,\"\")","v":""},null,"",{"$f":"IF(AND($B206=\"AZIONE_1\",$O206=5),'3 - SPECIE DA IMPIANTARE'!$O7,\"\")","v":""},null,"",{"$f":"IF(AND($B206=\"AZIONE_1\",$R206=6),'3 - SPECIE DA IMPIANTARE'!$O7,\"\")","v":""}]
[3,{"$f":"B107","v":""},"",{"$f":"IF(AND($B207=\"AZIONE_1\",C207=1),'3 - SPECIE DA IMPIANTARE'!$O8,\"\")","v":""},null,{"$f":"F107","v":""},{"$f":"IF(AND($B207=\"AZIONE_1\",F207=2),'3 - SPECIE DA IMPIANTARE'!$O8,\"\")","v":""},null,"",{"$f":"IF(AND($B207=\"AZIONE_1\",$I207=3),'3 - SPECIE DA IMPIANTARE'!$O8,\"\")","v":""},null,"",{"$f":"IF(AND($B207=\"AZIONE_1\",$L207=4),'3 - SPECIE DA IMPIANTARE'!$O8,\"\")","v":""},null,"",{"$f":"IF(AND($B207=\"AZIONE_1\",$O207=5),'3 - SPECIE DA IMPIANTARE'!$O8,\"\")","v":""},null,"",{"$f":"IF(AND($B207=\"AZIONE_1\",$R207=6),'3 - SPECIE DA IMPIANTARE'!$O8,\"\")","v":""}]
[3,{"$f":"B108","v":""},"",{"$f":"IF(AND($B208=\"AZIONE_1\",C208=1),'3 - SPECIE DA IMPIANTARE'!$O9,\"\")","v":""},null,{"$f":"F108","v":""},{"$f":"IF(AND($B208=\"AZIONE_1\",F208=2),'3 - SPECIE DA IMPIANTARE'!$O9,\"\")","v":""},null,"",{"$f":"IF(AND($B208=\"AZIONE_1\",$I208=3),'3 - SPECIE DA IMPIANTARE'!$O9,\"\")","v":""},null,"",{"$f":"IF(AND($B208=\"AZIONE_1\",$L208=4),'3 - SPECIE DA IMPIANTARE'!$O9,\"\")","v":""},null,"",{"$f":"IF(AND($B208=\"AZIONE_1\",$O208=5),'3 - SPECIE DA IMPIANTARE'!$O9,\"\")","v":""},null,"",{"$f":"IF(AND($B208=\"AZIONE_1\",$R208=6),'3 - SPECIE DA IMPIANTARE'!$O9,\"\")","v":""}]
[3,{"$f":"B109","v":""},"",{"$f":"IF(AND($B209=\"AZIONE_1\",C209=1),'3 - SPECIE DA IMPIANTARE'!$O10,\"\")","v":""},null,{"$f":"F109","v":""},{"$f":"IF(AND($B209=\"AZIONE_1\",F209=2),'3 - SPECIE DA IMPIANTARE'!$O10,\"\")","v":""},null,"",{"$f":"IF(AND($B209=\"AZIONE_1\",$I209=3),'3 - SPECIE DA IMPIANTARE'!$O10,\"\")","v":""},null,"",{"$f":"IF(AND($B209=\"AZIONE_1\",$L209=4),'3 - SPECIE DA IMPIANTARE'!$O10,\"\")","v":""},null,"",{"$f":"IF(AND($B209=\"AZIONE_1\",$O209=5),'3 - SPECIE DA IMPIANTARE'!$O10,\"\")","v":""},null,"",{"$f":"IF(AND($B209=\"AZIONE_1\",$R209=6),'3 - SPECIE DA IMPIANTARE'!$O10,\"\")","v":""}]
[3,{"$f":"B110","v":""},"",{"$f":"IF(AND($B210=\"AZIONE_1\",C210=1),'3 - SPECIE DA IMPIANTARE'!$O11,\"\")","v":""},null,{"$f":"F110","v":""},{"$f":"IF(AND($B210=\"AZIONE_1\",F210=2),'3 - SPECIE DA IMPIANTARE'!$O11,\"\")","v":""},null,"",{"$f":"IF(AND($B210=\"AZIONE_1\",$I210=3),'3 - SPECIE DA IMPIANTARE'!$O11,\"\")","v":""},null,"",{"$f":"IF(AND($B210=\"AZIONE_1\",$L210=4),'3 - SPECIE DA IMPIANTARE'!$O11,\"\")","v":""},null,"",{"$f":"IF(AND($B210=\"AZIONE_1\",$O210=5),'3 - SPECIE DA IMPIANTARE'!$O11,\"\")","v":""},null,"",{"$f":"IF(AND($B210=\"AZIONE_1\",$R210=6),'3 - SPECIE DA IMPIANTARE'!$O11,\"\")","v":""}]
[3,{"$f":"B111","v":""},"",{"$f":"IF(AND($B211=\"AZIONE_1\",C211=1),'3 - SPECIE DA IMPIANTARE'!$O12,\"\")","v":""},null,{"$f":"F111","v":""},{"$f":"IF(AND($B211=\"AZIONE_1\",F211=2),'3 - SPECIE DA IMPIANTARE'!$O12,\"\")","v":""},null,"",{"$f":"IF(AND($B211=\"AZIONE_1\",$I211=3),'3 - SPECIE DA IMPIANTARE'!$O12,\"\")","v":""},null,"",{"$f":"IF(AND($B211=\"AZIONE_1\",$L211=4),'3 - SPECIE DA IMPIANTARE'!$O12,\"\")","v":""},null,"",{"$f":"IF(AND($B211=\"AZIONE_1\",$O211=5),'3 - SPECIE DA IMPIANTARE'!$O12,\"\")","v":""},null,"",{"$f":"IF(AND($B211=\"AZIONE_1\",$R211=6),'3 - SPECIE DA IMPIANTARE'!$O12,\"\")","v":""}]
[3,{"$f":"B112","v":""},"",{"$f":"IF(AND($B212=\"AZIONE_1\",C212=1),'3 - SPECIE DA IMPIANTARE'!$O13,\"\")","v":""},null,{"$f":"F112","v":""},{"$f":"IF(AND($B212=\"AZIONE_1\",F212=2),'3 - SPECIE DA IMPIANTARE'!$O13,\"\")","v":""},null,"",{"$f":"IF(AND($B212=\"AZIONE_1\",$I212=3),'3 - SPECIE DA IMPIANTARE'!$O13,\"\")","v":""},null,"",{"$f":"IF(AND($B212=\"AZIONE_1\",$L212=4),'3 - SPECIE DA IMPIANTARE'!$O13,\"\")","v":""},null,"",{"$f":"IF(AND($B212=\"AZIONE_1\",$O212=5),'3 - SPECIE DA IMPIANTARE'!$O13,\"\")","v":""},null,"",{"$f":"IF(AND($B212=\"AZIONE_1\",$R212=6),'3 - SPECIE DA IMPIANTARE'!$O13,\"\")","v":""}]
[3,{"$f":"B113","v":""},"",{"$f":"IF(AND($B213=\"AZIONE_1\",C213=1),'3 - SPECIE DA IMPIANTARE'!$O14,\"\")","v":""},null,{"$f":"F113","v":""},{"$f":"IF(AND($B213=\"AZIONE_1\",F213=2),'3 - SPECIE DA IMPIANTARE'!$O14,\"\")","v":""},null,"",{"$f":"IF(AND($B213=\"AZIONE_1\",$I213=3),'3 - SPECIE DA IMPIANTARE'!$O14,\"\")","v":""},null,"",{"$f":"IF(AND($B213=\"AZIONE_1\",$L213=4),'3 - SPECIE DA IMPIANTARE'!$O14,\"\")","v":""},null,"",{"$f":"IF(AND($B213=\"AZIONE_1\",$O213=5),'3 - SPECIE DA IMPIANTARE'!$O14,\"\")","v":""},null,"",{"$f":"IF(AND($B213=\"AZIONE_1\",$R213=6),'3 - SPECIE DA IMPIANTARE'!$O14,\"\")","v":""}]
[3,{"$f":"B114","v":""},"",{"$f":"IF(AND($B214=\"AZIONE_1\",C214=1),'3 - SPECIE DA IMPIANTARE'!$O15,\"\")","v":""},null,{"$f":"F114","v":""},{"$f":"IF(AND($B214=\"AZIONE_1\",F214=2),'3 - SPECIE DA IMPIANTARE'!$O15,\"\")","v":""},null,"",{"$f":"IF(AND($B214=\"AZIONE_1\",$I214=3),'3 - SPECIE DA IMPIANTARE'!$O15,\"\")","v":""},null,"",{"$f":"IF(AND($B214=\"AZIONE_1\",$L214=4),'3 - SPECIE DA IMPIANTARE'!$O15,\"\")","v":""},null,"",{"$f":"IF(AND($B214=\"AZIONE_1\",$O214=5),'3 - SPECIE DA IMPIANTARE'!$O15,\"\")","v":""},null,"",{"$f":"IF(AND($B214=\"AZIONE_1\",$R214=6),'3 - SPECIE DA IMPIANTARE'!$O15,\"\")","v":""}]
[3,{"$f":"B115","v":""},"",{"$f":"IF(AND($B215=\"AZIONE_1\",C215=1),'3 - SPECIE DA IMPIANTARE'!$O16,\"\")","v":""},null,{"$f":"F115","v":""},{"$f":"IF(AND($B215=\"AZIONE_1\",F215=2),'3 - SPECIE DA IMPIANTARE'!$O16,\"\")","v":""},null,"",{"$f":"IF(AND($B215=\"AZIONE_1\",$I215=3),'3 - SPECIE DA IMPIANTARE'!$O16,\"\")","v":""},null,"",{"$f":"IF(AND($B215=\"AZIONE_1\",$L215=4),'3 - SPECIE DA IMPIANTARE'!$O16,\"\")","v":""},null,"",{"$f":"IF(AND($B215=\"AZIONE_1\",$O215=5),'3 - SPECIE DA IMPIANTARE'!$O16,\"\")","v":""},null,"",{"$f":"IF(AND($B215=\"AZIONE_1\",$R215=6),'3 - SPECIE DA IMPIANTARE'!$O16,\"\")","v":""}]
[3,{"$f":"B116","v":""},"",{"$f":"IF(AND($B216=\"AZIONE_1\",C216=1),'3 - SPECIE DA IMPIANTARE'!$O17,\"\")","v":""},null,{"$f":"F116","v":""},{"$f":"IF(AND($B216=\"AZIONE_1\",F216=2),'3 - SPECIE DA IMPIANTARE'!$O17,\"\")","v":""},null,"",{"$f":"IF(AND($B216=\"AZIONE_1\",$I216=3),'3 - SPECIE DA IMPIANTARE'!$O17,\"\")","v":""},null,"",{"$f":"IF(AND($B216=\"AZIONE_1\",$L216=4),'3 - SPECIE DA IMPIANTARE'!$O17,\"\")","v":""},null,"",{"$f":"IF(AND($B216=\"AZIONE_1\",$O216=5),'3 - SPECIE DA IMPIANTARE'!$O17,\"\")","v":""},null,"",{"$f":"IF(AND($B216=\"AZIONE_1\",$R216=6),'3 - SPECIE DA IMPIANTARE'!$O17,\"\")","v":""}]
[3,{"$f":"B117","v":""},"",{"$f":"IF(AND($B217=\"AZIONE_1\",C217=1),'3 - SPECIE DA IMPIANTARE'!$O18,\"\")","v":""},null,{"$f":"F117","v":""},{"$f":"IF(AND($B217=\"AZIONE_1\",F217=2),'3 - SPECIE DA IMPIANTARE'!$O18,\"\")","v":""},null,"",{"$f":"IF(AND($B217=\"AZIONE_1\",$I217=3),'3 - SPECIE DA IMPIANTARE'!$O18,\"\")","v":""},null,"",{"$f":"IF(AND($B217=\"AZIONE_1\",$L217=4),'3 - SPECIE DA IMPIANTARE'!$O18,\"\")","v":""},null,"",{"$f":"IF(AND($B217=\"AZIONE_1\",$O217=5),'3 - SPECIE DA IMPIANTARE'!$O18,\"\")","v":""},null,"",{"$f":"IF(AND($B217=\"AZIONE_1\",$R217=6),'3 - SPECIE DA IMPIANTARE'!$O18,\"\")","v":""}]
[3,{"$f":"B118","v":""},"",{"$f":"IF(AND($B218=\"AZIONE_1\",C218=1),'3 - SPECIE DA IMPIANTARE'!$O19,\"\")","v":""},null,{"$f":"F118","v":""},{"$f":"IF(AND($B218=\"AZIONE_1\",F218=2),'3 - SPECIE DA IMPIANTARE'!$O19,\"\")","v":""},null,"",{"$f":"IF(AND($B218=\"AZIONE_1\",$I218=3),'3 - SPECIE DA IMPIANTARE'!$O19,\"\")","v":""},null,"",{"$f":"IF(AND($B218=\"AZIONE_1\",$L218=4),'3 - SPECIE DA IMPIANTARE'!$O19,\"\")","v":""},null,"",{"$f":"IF(AND($B218=\"AZIONE_1\",$O218=5),'3 - SPECIE DA IMPIANTARE'!$O19,\"\")","v":""},null,"",{"$f":"IF(AND($B218=\"AZIONE_1\",$R218=6),'3 - SPECIE DA IMPIANTARE'!$O19,\"\")","v":""}]
[3,{"$f":"B119","v":""},"",{"$f":"IF(AND($B219=\"AZIONE_1\",C219=1),'3 - SPECIE DA IMPIANTARE'!$O20,\"\")","v":""},null,{"$f":"F119","v":""},{"$f":"IF(AND($B219=\"AZIONE_1\",F219=2),'3 - SPECIE DA IMPIANTARE'!$O20,\"\")","v":""},null,"",{"$f":"IF(AND($B219=\"AZIONE_1\",$I219=3),'3 - SPECIE DA IMPIANTARE'!$O20,\"\")","v":""},null,"",{"$f":"IF(AND($B219=\"AZIONE_1\",$L219=4),'3 - SPECIE DA IMPIANTARE'!$O20,\"\")","v":""},null,"",{"$f":"IF(AND($B219=\"AZIONE_1\",$O219=5),'3 - SPECIE DA IMPIANTARE'!$O20,\"\")","v":""},null,"",{"$f":"IF(AND($B219=\"AZIONE_1\",$R219=6),'3 - SPECIE DA IMPIANTARE'!$O20,\"\")","v":""}]
[3,{"$f":"B120","v":""},"",{"$f":"IF(AND($B220=\"AZIONE_1\",C220=1),'3 - SPECIE DA IMPIANTARE'!$O21,\"\")","v":""},null,{"$f":"F120","v":""},{"$f":"IF(AND($B220=\"AZIONE_1\",F220=2),'3 - SPECIE DA IMPIANTARE'!$O21,\"\")","v":""},null,"",{"$f":"IF(AND($B220=\"AZIONE_1\",$I220=3),'3 - SPECIE DA IMPIANTARE'!$O21,\"\")","v":""},null,"",{"$f":"IF(AND($B220=\"AZIONE_1\",$L220=4),'3 - SPECIE DA IMPIANTARE'!$O21,\"\")","v":""},null,"",{"$f":"IF(AND($B220=\"AZIONE_1\",$O220=5),'3 - SPECIE DA IMPIANTARE'!$O21,\"\")","v":""},null,"",{"$f":"IF(AND($B220=\"AZIONE_1\",$R220=6),'3 - SPECIE DA IMPIANTARE'!$O21,\"\")","v":""}]
[3,{"$f":"B121","v":""},"",{"$f":"IF(AND($B221=\"AZIONE_1\",C221=1),'3 - SPECIE DA IMPIANTARE'!$O22,\"\")","v":""},null,{"$f":"F121","v":""},{"$f":"IF(AND($B221=\"AZIONE_1\",F221=2),'3 - SPECIE DA IMPIANTARE'!$O22,\"\")","v":""},null,"",{"$f":"IF(AND($B221=\"AZIONE_1\",$I221=3),'3 - SPECIE DA IMPIANTARE'!$O22,\"\")","v":""},null,"",{"$f":"IF(AND($B221=\"AZIONE_1\",$L221=4),'3 - SPECIE DA IMPIANTARE'!$O22,\"\")","v":""},null,"",{"$f":"IF(AND($B221=\"AZIONE_1\",$O221=5),'3 - SPECIE DA IMPIANTARE'!$O22,\"\")","v":""},null,"",{"$f":"IF(AND($B221=\"AZIONE_1\",$R221=6),'3 - SPECIE DA IMPIANTARE'!$O22,\"\")","v":""}]
[3,{"$f":"B122","v":""},"",{"$f":"IF(AND($B222=\"AZIONE_1\",C222=1),'3 - SPECIE DA IMPIANTARE'!$O23,\"\")","v":""},null,{"$f":"F122","v":""},{"$f":"IF(AND($B222=\"AZIONE_1\",F222=2),'3 - SPECIE DA IMPIANTARE'!$O23,\"\")","v":""},null,"",{"$f":"IF(AND($B222=\"AZIONE_1\",$I222=3),'3 - SPECIE DA IMPIANTARE'!$O23,\"\")","v":""},null,"",{"$f":"IF(AND($B222=\"AZIONE_1\",$L222=4),'3 - SPECIE DA IMPIANTARE'!$O23,\"\")","v":""},null,"",{"$f":"IF(AND($B222=\"AZIONE_1\",$O222=5),'3 - SPECIE DA IMPIANTARE'!$O23,\"\")","v":""},null,"",{"$f":"IF(AND($B222=\"AZIONE_1\",$R222=6),'3 - SPECIE DA IMPIANTARE'!$O23,\"\")","v":""}]
[3,{"$f":"B123","v":""},"",{"$f":"IF(AND($B223=\"AZIONE_1\",C223=1),'3 - SPECIE DA IMPIANTARE'!$O24,\"\")","v":""},null,{"$f":"F123","v":""},{"$f":"IF(AND($B223=\"AZIONE_1\",F223=2),'3 - SPECIE DA IMPIANTARE'!$O24,\"\")","v":""},null,"",{"$f":"IF(AND($B223=\"AZIONE_1\",$I223=3),'3 - SPECIE DA IMPIANTARE'!$O24,\"\")","v":""},null,"",{"$f":"IF(AND($B223=\"AZIONE_1\",$L223=4),'3 - SPECIE DA IMPIANTARE'!$O24,\"\")","v":""},null,"",{"$f":"IF(AND($B223=\"AZIONE_1\",$O223=5),'3 - SPECIE DA IMPIANTARE'!$O24,\"\")","v":""},null,"",{"$f":"IF(AND($B223=\"AZIONE_1\",$R223=6),'3 - SPECIE DA IMPIANTARE'!$O24,\"\")","v":""}]
[3,{"$f":"B124","v":""},"",{"$f":"IF(AND($B224=\"AZIONE_1\",C224=1),'3 - SPECIE DA IMPIANTARE'!$O25,\"\")","v":""},null,{"$f":"F124","v":""},{"$f":"IF(AND($B224=\"AZIONE_1\",F224=2),'3 - SPECIE DA IMPIANTARE'!$O25,\"\")","v":""},null,"",{"$f":"IF(AND($B224=\"AZIONE_1\",$I224=3),'3 - SPECIE DA IMPIANTARE'!$O25,\"\")","v":""},null,"",{"$f":"IF(AND($B224=\"AZIONE_1\",$L224=4),'3 - SPECIE DA IMPIANTARE'!$O25,\"\")","v":""},null,"",{"$f":"IF(AND($B224=\"AZIONE_1\",$O224=5),'3 - SPECIE DA IMPIANTARE'!$O25,\"\")","v":""},null,"",{"$f":"IF(AND($B224=\"AZIONE_1\",$R224=6),'3 - SPECIE DA IMPIANTARE'!$O25,\"\")","v":""}]
[3,{"$f":"B125","v":""},"",{"$f":"IF(AND($B225=\"AZIONE_1\",C225=1),'3 - SPECIE DA IMPIANTARE'!$O26,\"\")","v":""},null,{"$f":"F125","v":""},{"$f":"IF(AND($B225=\"AZIONE_1\",F225=2),'3 - SPECIE DA IMPIANTARE'!$O26,\"\")","v":""},null,"",{"$f":"IF(AND($B225=\"AZIONE_1\",$I225=3),'3 - SPECIE DA IMPIANTARE'!$O26,\"\")","v":""},null,"",{"$f":"IF(AND($B225=\"AZIONE_1\",$L225=4),'3 - SPECIE DA IMPIANTARE'!$O26,\"\")","v":""},null,"",{"$f":"IF(AND($B225=\"AZIONE_1\",$O225=5),'3 - SPECIE DA IMPIANTARE'!$O26,\"\")","v":""},null,"",{"$f":"IF(AND($B225=\"AZIONE_1\",$R225=6),'3 - SPECIE DA IMPIANTARE'!$O26,\"\")","v":""}]
[3,{"$f":"B126","v":""},"",{"$f":"IF(AND($B226=\"AZIONE_1\",C226=1),'3 - SPECIE DA IMPIANTARE'!$O27,\"\")","v":""},null,{"$f":"F126","v":""},{"$f":"IF(AND($B226=\"AZIONE_1\",F226=2),'3 - SPECIE DA IMPIANTARE'!$O27,\"\")","v":""},null,"",{"$f":"IF(AND($B226=\"AZIONE_1\",$I226=3),'3 - SPECIE DA IMPIANTARE'!$O27,\"\")","v":""},null,"",{"$f":"IF(AND($B226=\"AZIONE_1\",$L226=4),'3 - SPECIE DA IMPIANTARE'!$O27,\"\")","v":""},null,"",{"$f":"IF(AND($B226=\"AZIONE_1\",$O226=5),'3 - SPECIE DA IMPIANTARE'!$O27,\"\")","v":""},null,"",{"$f":"IF(AND($B226=\"AZIONE_1\",$R226=6),'3 - SPECIE DA IMPIANTARE'!$O27,\"\")","v":""}]
[3,{"$f":"B127","v":""},"",{"$f":"IF(AND($B227=\"AZIONE_1\",C227=1),'3 - SPECIE DA IMPIANTARE'!$O28,\"\")","v":""},null,{"$f":"F127","v":""},{"$f":"IF(AND($B227=\"AZIONE_1\",F227=2),'3 - SPECIE DA IMPIANTARE'!$O28,\"\")","v":""},null,"",{"$f":"IF(AND($B227=\"AZIONE_1\",$I227=3),'3 - SPECIE DA IMPIANTARE'!$O28,\"\")","v":""},null,"",{"$f":"IF(AND($B227=\"AZIONE_1\",$L227=4),'3 - SPECIE DA IMPIANTARE'!$O28,\"\")","v":""},null,"",{"$f":"IF(AND($B227=\"AZIONE_1\",$O227=5),'3 - SPECIE DA IMPIANTARE'!$O28,\"\")","v":""},null,"",{"$f":"IF(AND($B227=\"AZIONE_1\",$R227=6),'3 - SPECIE DA IMPIANTARE'!$O28,\"\")","v":""}]
[3,{"$f":"B128","v":""},"",{"$f":"IF(AND($B228=\"AZIONE_1\",C228=1),'3 - SPECIE DA IMPIANTARE'!$O29,\"\")","v":""},null,{"$f":"F128","v":""},{"$f":"IF(AND($B228=\"AZIONE_1\",F228=2),'3 - SPECIE DA IMPIANTARE'!$O29,\"\")","v":""},null,"",{"$f":"IF(AND($B228=\"AZIONE_1\",$I228=3),'3 - SPECIE DA IMPIANTARE'!$O29,\"\")","v":""},null,"",{"$f":"IF(AND($B228=\"AZIONE_1\",$L228=4),'3 - SPECIE DA IMPIANTARE'!$O29,\"\")","v":""},null,"",{"$f":"IF(AND($B228=\"AZIONE_1\",$O228=5),'3 - SPECIE DA IMPIANTARE'!$O29,\"\")","v":""},null,"",{"$f":"IF(AND($B228=\"AZIONE_1\",$R228=6),'3 - SPECIE DA IMPIANTARE'!$O29,\"\")","v":""}]
[3,{"$f":"B129","v":""},"",{"$f":"IF(AND($B229=\"AZIONE_1\",C229=1),'3 - SPECIE DA IMPIANTARE'!$O30,\"\")","v":""},null,{"$f":"F129","v":""},{"$f":"IF(AND($B229=\"AZIONE_1\",F229=2),'3 - SPECIE DA IMPIANTARE'!$O30,\"\")","v":""},null,"",{"$f":"IF(AND($B229=\"AZIONE_1\",$I229=3),'3 - SPECIE DA IMPIANTARE'!$O30,\"\")","v":""},null,"",{"$f":"IF(AND($B229=\"AZIONE_1\",$L229=4),'3 - SPECIE DA IMPIANTARE'!$O30,\"\")","v":""},null,"",{"$f":"IF(AND($B229=\"AZIONE_1\",$O229=5),'3 - SPECIE DA IMPIANTARE'!$O30,\"\")","v":""},null,"",{"$f":"IF(AND($B229=\"AZIONE_1\",$R229=6),'3 - SPECIE DA IMPIANTARE'!$O30,\"\")","v":""}]
[3,{"$f":"B130","v":""},"",{"$f":"IF(AND($B230=\"AZIONE_1\",C230=1),'3 - SPECIE DA IMPIANTARE'!$O31,\"\")","v":""},null,{"$f":"F130","v":""},{"$f":"IF(AND($B230=\"AZIONE_1\",F230=2),'3 - SPECIE DA IMPIANTARE'!$O31,\"\")","v":""},null,"",{"$f":"IF(AND($B230=\"AZIONE_1\",$I230=3),'3 - SPECIE DA IMPIANTARE'!$O31,\"\")","v":""},null,"",{"$f":"IF(AND($B230=\"AZIONE_1\",$L230=4),'3 - SPECIE DA IMPIANTARE'!$O31,\"\")","v":""},null,"",{"$f":"IF(AND($B230=\"AZIONE_1\",$O230=5),'3 - SPECIE DA IMPIANTARE'!$O31,\"\")","v":""},null,"",{"$f":"IF(AND($B230=\"AZIONE_1\",$R230=6),'3 - SPECIE DA IMPIANTARE'!$O31,\"\")","v":""}]
[3,{"$f":"B131","v":""},"",{"$f":"IF(AND($B231=\"AZIONE_1\",C231=1),'3 - SPECIE DA IMPIANTARE'!$O32,\"\")","v":""},null,{"$f":"F131","v":""},{"$f":"IF(AND($B231=\"AZIONE_1\",F231=2),'3 - SPECIE DA IMPIANTARE'!$O32,\"\")","v":""},null,{"$f":"I131","v":""},{"$f":"IF(AND($B231=\"AZIONE_1\",$I231=3),'3 - SPECIE DA IMPIANTARE'!$O32,\"\")","v":""},null,{"$f":"L131","v":""},{"$f":"IF(AND($B231=\"AZIONE_1\",$L231=4),'3 - SPECIE DA IMPIANTARE'!$O32,\"\")","v":""},null,{"$f":"O131","v":""},{"$f":"IF(AND($B231=\"AZIONE_1\",$O231=5),'3 - SPECIE DA IMPIANTARE'!$O32,\"\")","v":""},null,{"$f":"R131","v":""},{"$f":"IF(AND($B231=\"AZIONE_1\",$R231=6),'3 - SPECIE DA IMPIANTARE'!$O32,\"\")","v":""}]
[3,{"$f":"B132","v":""},"",{"$f":"IF(AND($B232=\"AZIONE_1\",C232=1),'3 - SPECIE DA IMPIANTARE'!$O33,\"\")","v":""},null,{"$f":"F132","v":""},{"$f":"IF(AND($B232=\"AZIONE_1\",F232=2),'3 - SPECIE DA IMPIANTARE'!$O33,\"\")","v":""},null,"",{"$f":"IF(AND($B232=\"AZIONE_1\",$I232=3),'3 - SPECIE DA IMPIANTARE'!$O33,\"\")","v":""},null,"",{"$f":"IF(AND($B232=\"AZIONE_1\",$L232=4),'3 - SPECIE DA IMPIANTARE'!$O33,\"\")","v":""},null,"",{"$f":"IF(AND($B232=\"AZIONE_1\",$O232=5),'3 - SPECIE DA IMPIANTARE'!$O33,\"\")","v":""},null,"",{"$f":"IF(AND($B232=\"AZIONE_1\",$R232=6),'3 - SPECIE DA IMPIANTARE'!$O33,\"\")","v":""}]
[3,{"$f":"B133","v":""},"",{"$f":"IF(AND($B233=\"AZIONE_1\",C233=1),'3 - SPECIE DA IMPIANTARE'!$O34,\"\")","v":""},null,{"$f":"F133","v":""},{"$f":"IF(AND($B233=\"AZIONE_1\",F233=2),'3 - SPECIE DA IMPIANTARE'!$O34,\"\")","v":""},null,"",{"$f":"IF(AND($B233=\"AZIONE_1\",$I233=3),'3 - SPECIE DA IMPIANTARE'!$O34,\"\")","v":""},null,"",{"$f":"IF(AND($B233=\"AZIONE_1\",$L233=4),'3 - SPECIE DA IMPIANTARE'!$O34,\"\")","v":""},null,"",{"$f":"IF(AND($B233=\"AZIONE_1\",$O233=5),'3 - SPECIE DA IMPIANTARE'!$O34,\"\")","v":""},null,"",{"$f":"IF(AND($B233=\"AZIONE_1\",$R233=6),'3 - SPECIE DA IMPIANTARE'!$O34,\"\")","v":""}]
[3,{"$f":"B134","v":""},"",{"$f":"IF(AND($B234=\"AZIONE_1\",C234=1),'3 - SPECIE DA IMPIANTARE'!$O35,\"\")","v":""},null,{"$f":"F134","v":""},{"$f":"IF(AND($B234=\"AZIONE_1\",F234=2),'3 - SPECIE DA IMPIANTARE'!$O35,\"\")","v":""},null,"",{"$f":"IF(AND($B234=\"AZIONE_1\",$I234=3),'3 - SPECIE DA IMPIANTARE'!$O35,\"\")","v":""},null,"",{"$f":"IF(AND($B234=\"AZIONE_1\",$L234=4),'3 - SPECIE DA IMPIANTARE'!$O35,\"\")","v":""},null,"",{"$f":"IF(AND($B234=\"AZIONE_1\",$O234=5),'3 - SPECIE DA IMPIANTARE'!$O35,\"\")","v":""},null,"",{"$f":"IF(AND($B234=\"AZIONE_1\",$R234=6),'3 - SPECIE DA IMPIANTARE'!$O35,\"\")","v":""}]
[3,{"$f":"B135","v":""},"",{"$f":"IF(AND($B235=\"AZIONE_1\",C235=1),'3 - SPECIE DA IMPIANTARE'!$O36,\"\")","v":""},null,{"$f":"F135","v":""},{"$f":"IF(AND($B235=\"AZIONE_1\",F235=2),'3 - SPECIE DA IMPIANTARE'!$O36,\"\")","v":""},null,"",{"$f":"IF(AND($B235=\"AZIONE_1\",$I235=3),'3 - SPECIE DA IMPIANTARE'!$O36,\"\")","v":""},null,"",{"$f":"IF(AND($B235=\"AZIONE_1\",$L235=4),'3 - SPECIE DA IMPIANTARE'!$O36,\"\")","v":""},null,"",{"$f":"IF(AND($B235=\"AZIONE_1\",$O235=5),'3 - SPECIE DA IMPIANTARE'!$O36,\"\")","v":""},null,"",{"$f":"IF(AND($B235=\"AZIONE_1\",$R235=6),'3 - SPECIE DA IMPIANTARE'!$O36,\"\")","v":""}]
[3,{"$f":"B136","v":""},"",{"$f":"IF(AND($B236=\"AZIONE_1\",C236=1),'3 - SPECIE DA IMPIANTARE'!$O37,\"\")","v":""},null,{"$f":"F136","v":""},{"$f":"IF(AND($B236=\"AZIONE_1\",F236=2),'3 - SPECIE DA IMPIANTARE'!$O37,\"\")","v":""},null,"",{"$f":"IF(AND($B236=\"AZIONE_1\",$I236=3),'3 - SPECIE DA IMPIANTARE'!$O37,\"\")","v":""},null,"",{"$f":"IF(AND($B236=\"AZIONE_1\",$L236=4),'3 - SPECIE DA IMPIANTARE'!$O37,\"\")","v":""},null,"",{"$f":"IF(AND($B236=\"AZIONE_1\",$O236=5),'3 - SPECIE DA IMPIANTARE'!$O37,\"\")","v":""},null,"",{"$f":"IF(AND($B236=\"AZIONE_1\",$R236=6),'3 - SPECIE DA IMPIANTARE'!$O37,\"\")","v":""}]
[3,{"$f":"B137","v":""},"",{"$f":"IF(AND($B237=\"AZIONE_1\",C237=1),'3 - SPECIE DA IMPIANTARE'!$O38,\"\")","v":""},null,{"$f":"F137","v":""},{"$f":"IF(AND($B237=\"AZIONE_1\",F237=2),'3 - SPECIE DA IMPIANTARE'!$O38,\"\")","v":""},null,"",{"$f":"IF(AND($B237=\"AZIONE_1\",$I237=3),'3 - SPECIE DA IMPIANTARE'!$O38,\"\")","v":""},null,"",{"$f":"IF(AND($B237=\"AZIONE_1\",$L237=4),'3 - SPECIE DA IMPIANTARE'!$O38,\"\")","v":""},null,"",{"$f":"IF(AND($B237=\"AZIONE_1\",$O237=5),'3 - SPECIE DA IMPIANTARE'!$O38,\"\")","v":""},null,"",{"$f":"IF(AND($B237=\"AZIONE_1\",$R237=6),'3 - SPECIE DA IMPIANTARE'!$O38,\"\")","v":""}]
[3,{"$f":"B138","v":""},"",{"$f":"IF(AND($B238=\"AZIONE_1\",C238=1),'3 - SPECIE DA IMPIANTARE'!$O39,\"\")","v":""},null,{"$f":"F138","v":""},{"$f":"IF(AND($B238=\"AZIONE_1\",F238=2),'3 - SPECIE DA IMPIANTARE'!$O39,\"\")","v":""},null,"",{"$f":"IF(AND($B238=\"AZIONE_1\",$I238=3),'3 - SPECIE DA IMPIANTARE'!$O39,\"\")","v":""},null,"",{"$f":"IF(AND($B238=\"AZIONE_1\",$L238=4),'3 - SPECIE DA IMPIANTARE'!$O39,\"\")","v":""},null,"",{"$f":"IF(AND($B238=\"AZIONE_1\",$O238=5),'3 - SPECIE DA IMPIANTARE'!$O39,\"\")","v":""},null,"",{"$f":"IF(AND($B238=\"AZIONE_1\",$R238=6),'3 - SPECIE DA IMPIANTARE'!$O39,\"\")","v":""}]
[3,{"$f":"B139","v":""},"",{"$f":"IF(AND($B239=\"AZIONE_1\",C239=1),'3 - SPECIE DA IMPIANTARE'!$O40,\"\")","v":""},null,{"$f":"F139","v":""},{"$f":"IF(AND($B239=\"AZIONE_1\",F239=2),'3 - SPECIE DA IMPIANTARE'!$O40,\"\")","v":""},null,"",{"$f":"IF(AND($B239=\"AZIONE_1\",$I239=3),'3 - SPECIE DA IMPIANTARE'!$O40,\"\")","v":""},null,"",{"$f":"IF(AND($B239=\"AZIONE_1\",$L239=4),'3 - SPECIE DA IMPIANTARE'!$O40,\"\")","v":""},null,"",{"$f":"IF(AND($B239=\"AZIONE_1\",$O239=5),'3 - SPECIE DA IMPIANTARE'!$O40,\"\")","v":""},null,"",{"$f":"IF(AND($B239=\"AZIONE_1\",$R239=6),'3 - SPECIE DA IMPIANTARE'!$O40,\"\")","v":""}]
[3,{"$f":"B140","v":""},"",{"$f":"IF(AND($B240=\"AZIONE_1\",C240=1),'3 - SPECIE DA IMPIANTARE'!$O41,\"\")","v":""},null,{"$f":"F140","v":""},{"$f":"IF(AND($B240=\"AZIONE_1\",F240=2),'3 - SPECIE DA IMPIANTARE'!$O41,\"\")","v":""},null,"",{"$f":"IF(AND($B240=\"AZIONE_1\",$I240=3),'3 - SPECIE DA IMPIANTARE'!$O41,\"\")","v":""},null,"",{"$f":"IF(AND($B240=\"AZIONE_1\",$L240=4),'3 - SPECIE DA IMPIANTARE'!$O41,\"\")","v":""},null,"",{"$f":"IF(AND($B240=\"AZIONE_1\",$O240=5),'3 - SPECIE DA IMPIANTARE'!$O41,\"\")","v":""},null,"",{"$f":"IF(AND($B240=\"AZIONE_1\",$R240=6),'3 - SPECIE DA IMPIANTARE'!$O41,\"\")","v":""}]
[3,{"$f":"B141","v":""},"",{"$f":"IF(AND($B241=\"AZIONE_1\",C241=1),'3 - SPECIE DA IMPIANTARE'!$O42,\"\")","v":""},null,{"$f":"F141","v":""},{"$f":"IF(AND($B241=\"AZIONE_1\",F241=2),'3 - SPECIE DA IMPIANTARE'!$O42,\"\")","v":""},null,"",{"$f":"IF(AND($B241=\"AZIONE_1\",$I241=3),'3 - SPECIE DA IMPIANTARE'!$O42,\"\")","v":""},null,"",{"$f":"IF(AND($B241=\"AZIONE_1\",$L241=4),'3 - SPECIE DA IMPIANTARE'!$O42,\"\")","v":""},null,"",{"$f":"IF(AND($B241=\"AZIONE_1\",$O241=5),'3 - SPECIE DA IMPIANTARE'!$O42,\"\")","v":""},null,"",{"$f":"IF(AND($B241=\"AZIONE_1\",$R241=6),'3 - SPECIE DA IMPIANTARE'!$O42,\"\")","v":""}]
[3,{"$f":"B142","v":""},"",{"$f":"IF(AND($B242=\"AZIONE_1\",C242=1),'3 - SPECIE DA IMPIANTARE'!$O43,\"\")","v":""},null,{"$f":"F142","v":""},{"$f":"IF(AND($B242=\"AZIONE_1\",F242=2),'3 - SPECIE DA IMPIANTARE'!$O43,\"\")","v":""},null,"",{"$f":"IF(AND($B242=\"AZIONE_1\",$I242=3),'3 - SPECIE DA IMPIANTARE'!$O43,\"\")","v":""},null,"",{"$f":"IF(AND($B242=\"AZIONE_1\",$L242=4),'3 - SPECIE DA IMPIANTARE'!$O43,\"\")","v":""},null,"",{"$f":"IF(AND($B242=\"AZIONE_1\",$O242=5),'3 - SPECIE DA IMPIANTARE'!$O43,\"\")","v":""},null,"",{"$f":"IF(AND($B242=\"AZIONE_1\",$R242=6),'3 - SPECIE DA IMPIANTARE'!$O43,\"\")","v":""}]
[3,{"$f":"B143","v":""},"",{"$f":"IF(AND($B243=\"AZIONE_1\",C243=1),'3 - SPECIE DA IMPIANTARE'!$O44,\"\")","v":""},null,{"$f":"F143","v":""},{"$f":"IF(AND($B243=\"AZIONE_1\",F243=2),'3 - SPECIE DA IMPIANTARE'!$O44,\"\")","v":""},null,"",{"$f":"IF(AND($B243=\"AZIONE_1\",$I243=3),'3 - SPECIE DA IMPIANTARE'!$O44,\"\")","v":""},null,"",{"$f":"IF(AND($B243=\"AZIONE_1\",$L243=4),'3 - SPECIE DA IMPIANTARE'!$O44,\"\")","v":""},null,"",{"$f":"IF(AND($B243=\"AZIONE_1\",$O243=5),'3 - SPECIE DA IMPIANTARE'!$O44,\"\")","v":""},null,"",{"$f":"IF(AND($B243=\"AZIONE_1\",$R243=6),'3 - SPECIE DA IMPIANTARE'!$O44,\"\")","v":""}]
[3,{"$f":"B144","v":""},"",{"$f":"IF(AND($B244=\"AZIONE_1\",C244=1),'3 - SPECIE DA IMPIANTARE'!$O45,\"\")","v":""},null,{"$f":"F144","v":""},{"$f":"IF(AND($B244=\"AZIONE_1\",F244=2),'3 - SPECIE DA IMPIANTARE'!$O45,\"\")","v":""},null,"",{"$f":"IF(AND($B244=\"AZIONE_1\",$I244=3),'3 - SPECIE DA IMPIANTARE'!$O45,\"\")","v":""},null,"",{"$f":"IF(AND($B244=\"AZIONE_1\",$L244=4),'3 - SPECIE DA IMPIANTARE'!$O45,\"\")","v":""},null,"",{"$f":"IF(AND($B244=\"AZIONE_1\",$O244=5),'3 - SPECIE DA IMPIANTARE'!$O45,\"\")","v":""},null,"",{"$f":"IF(AND($B244=\"AZIONE_1\",$R244=6),'3 - SPECIE DA IMPIANTARE'!$O45,\"\")","v":""}]
[3,{"$f":"B145","v":""},"",{"$f":"IF(AND($B245=\"AZIONE_1\",C245=1),'3 - SPECIE DA IMPIANTARE'!$O46,\"\")","v":""},null,{"$f":"F145","v":""},{"$f":"IF(AND($B245=\"AZIONE_1\",F245=2),'3 - SPECIE DA IMPIANTARE'!$O46,\"\")","v":""},null,"",{"$f":"IF(AND($B245=\"AZIONE_1\",$I245=3),'3 - SPECIE DA IMPIANTARE'!$O46,\"\")","v":""},null,"",{"$f":"IF(AND($B245=\"AZIONE_1\",$L245=4),'3 - SPECIE DA IMPIANTARE'!$O46,\"\")","v":""},null,"",{"$f":"IF(AND($B245=\"AZIONE_1\",$O245=5),'3 - SPECIE DA IMPIANTARE'!$O46,\"\")","v":""},null,"",{"$f":"IF(AND($B245=\"AZIONE_1\",$R245=6),'3 - SPECIE DA IMPIANTARE'!$O46,\"\")","v":""}]
[3,{"$f":"B146","v":""},"",{"$f":"IF(AND($B246=\"AZIONE_1\",C246=1),'3 - SPECIE DA IMPIANTARE'!$O47,\"\")","v":""},null,{"$f":"F146","v":""},{"$f":"IF(AND($B246=\"AZIONE_1\",F246=2),'3 - SPECIE DA IMPIANTARE'!$O47,\"\")","v":""},null,"",{"$f":"IF(AND($B246=\"AZIONE_1\",$I246=3),'3 - SPECIE DA IMPIANTARE'!$O47,\"\")","v":""},null,"",{"$f":"IF(AND($B246=\"AZIONE_1\",$L246=4),'3 - SPECIE DA IMPIANTARE'!$O47,\"\")","v":""},null,"",{"$f":"IF(AND($B246=\"AZIONE_1\",$O246=5),'3 - SPECIE DA IMPIANTARE'!$O47,\"\")","v":""},null,"",{"$f":"IF(AND($B246=\"AZIONE_1\",$R246=6),'3 - SPECIE DA IMPIANTARE'!$O47,\"\")","v":""}]
[3,{"$f":"B147","v":""},"",{"$f":"IF(AND($B247=\"AZIONE_1\",C247=1),'3 - SPECIE DA IMPIANTARE'!$O48,\"\")","v":""},null,{"$f":"F147","v":""},{"$f":"IF(AND($B247=\"AZIONE_1\",F247=2),'3 - SPECIE DA IMPIANTARE'!$O48,\"\")","v":""},null,"",{"$f":"IF(AND($B247=\"AZIONE_1\",$I247=3),'3 - SPECIE DA IMPIANTARE'!$O48,\"\")","v":""},null,"",{"$f":"IF(AND($B247=\"AZIONE_1\",$L247=4),'3 - SPECIE DA IMPIANTARE'!$O48,\"\")","v":""},null,"",{"$f":"IF(AND($B247=\"AZIONE_1\",$O247=5),'3 - SPECIE DA IMPIANTARE'!$O48,\"\")","v":""},null,"",{"$f":"IF(AND($B247=\"AZIONE_1\",$R247=6),'3 - SPECIE DA IMPIANTARE'!$O48,\"\")","v":""}]
[3,{"$f":"B148","v":""},"",{"$f":"IF(AND($B248=\"AZIONE_1\",C248=1),'3 - SPECIE DA IMPIANTARE'!$O49,\"\")","v":""},null,{"$f":"F148","v":""},{"$f":"IF(AND($B248=\"AZIONE_1\",F248=2),'3 - SPECIE DA IMPIANTARE'!$O49,\"\")","v":""},null,"",{"$f":"IF(AND($B248=\"AZIONE_1\",$I248=3),'3 - SPECIE DA IMPIANTARE'!$O49,\"\")","v":""},null,"",{"$f":"IF(AND($B248=\"AZIONE_1\",$L248=4),'3 - SPECIE DA IMPIANTARE'!$O49,\"\")","v":""},null,"",{"$f":"IF(AND($B248=\"AZIONE_1\",$O248=5),'3 - SPECIE DA IMPIANTARE'!$O49,\"\")","v":""},null,"",{"$f":"IF(AND($B248=\"AZIONE_1\",$R248=6),'3 - SPECIE DA IMPIANTARE'!$O49,\"\")","v":""}]
[3,{"$f":"B149","v":""},"",{"$f":"IF(AND($B249=\"AZIONE_1\",C249=1),'3 - SPECIE DA IMPIANTARE'!$O50,\"\")","v":""},null,{"$f":"F149","v":""},{"$f":"IF(AND($B249=\"AZIONE_1\",F249=2),'3 - SPECIE DA IMPIANTARE'!$O50,\"\")","v":""},null,"",{"$f":"IF(AND($B249=\"AZIONE_1\",$I249=3),'3 - SPECIE DA IMPIANTARE'!$O50,\"\")","v":""},null,"",{"$f":"IF(AND($B249=\"AZIONE_1\",$L249=4),'3 - SPECIE DA IMPIANTARE'!$O50,\"\")","v":""},null,"",{"$f":"IF(AND($B249=\"AZIONE_1\",$O249=5),'3 - SPECIE DA IMPIANTARE'!$O50,\"\")","v":""},null,"",{"$f":"IF(AND($B249=\"AZIONE_1\",$R249=6),'3 - SPECIE DA IMPIANTARE'!$O50,\"\")","v":""}]
[3,{"$f":"B150","v":""},"",{"$f":"IF(AND($B250=\"AZIONE_1\",C250=1),'3 - SPECIE DA IMPIANTARE'!$O51,\"\")","v":""},null,{"$f":"F150","v":""},{"$f":"IF(AND($B250=\"AZIONE_1\",F250=2),'3 - SPECIE DA IMPIANTARE'!$O51,\"\")","v":""},null,"",{"$f":"IF(AND($B250=\"AZIONE_1\",$I250=3),'3 - SPECIE DA IMPIANTARE'!$O51,\"\")","v":""},null,"",{"$f":"IF(AND($B250=\"AZIONE_1\",$L250=4),'3 - SPECIE DA IMPIANTARE'!$O51,\"\")","v":""},null,"",{"$f":"IF(AND($B250=\"AZIONE_1\",$O250=5),'3 - SPECIE DA IMPIANTARE'!$O51,\"\")","v":""},null,"",{"$f":"IF(AND($B250=\"AZIONE_1\",$R250=6),'3 - SPECIE DA IMPIANTARE'!$O51,\"\")","v":""}]
[3,{"$f":"B151","v":""},"",{"$f":"IF(AND($B251=\"AZIONE_1\",C251=1),'3 - SPECIE DA IMPIANTARE'!$O52,\"\")","v":""},null,{"$f":"F151","v":""},{"$f":"IF(AND($B251=\"AZIONE_1\",F251=2),'3 - SPECIE DA IMPIANTARE'!$O52,\"\")","v":""},null,"",{"$f":"IF(AND($B251=\"AZIONE_1\",$I251=3),'3 - SPECIE DA IMPIANTARE'!$O52,\"\")","v":""},null,"",{"$f":"IF(AND($B251=\"AZIONE_1\",$L251=4),'3 - SPECIE DA IMPIANTARE'!$O52,\"\")","v":""},null,"",{"$f":"IF(AND($B251=\"AZIONE_1\",$O251=5),'3 - SPECIE DA IMPIANTARE'!$O52,\"\")","v":""},null,"",{"$f":"IF(AND($B251=\"AZIONE_1\",$R251=6),'3 - SPECIE DA IMPIANTARE'!$O52,\"\")","v":""}]
[3,{"$f":"B152","v":""},"",{"$f":"IF(AND($B252=\"AZIONE_1\",C252=1),'3 - SPECIE DA IMPIANTARE'!$O53,\"\")","v":""},null,{"$f":"F152","v":""},{"$f":"IF(AND($B252=\"AZIONE_1\",F252=2),'3 - SPECIE DA IMPIANTARE'!$O53,\"\")","v":""},null,"",{"$f":"IF(AND($B252=\"AZIONE_1\",$I252=3),'3 - SPECIE DA IMPIANTARE'!$O53,\"\")","v":""},null,"",{"$f":"IF(AND($B252=\"AZIONE_1\",$L252=4),'3 - SPECIE DA IMPIANTARE'!$O53,\"\")","v":""},null,"",{"$f":"IF(AND($B252=\"AZIONE_1\",$O252=5),'3 - SPECIE DA IMPIANTARE'!$O53,\"\")","v":""},null,"",{"$f":"IF(AND($B252=\"AZIONE_1\",$R252=6),'3 - SPECIE DA IMPIANTARE'!$O53,\"\")","v":""}]
[3,{"$f":"B153","v":""},"",{"$f":"IF(AND($B253=\"AZIONE_1\",C253=1),'3 - SPECIE DA IMPIANTARE'!$O54,\"\")","v":""},null,{"$f":"F153","v":""},{"$f":"IF(AND($B253=\"AZIONE_1\",F253=2),'3 - SPECIE DA IMPIANTARE'!$O54,\"\")","v":""},null,"",{"$f":"IF(AND($B253=\"AZIONE_1\",$I253=3),'3 - SPECIE DA IMPIANTARE'!$O54,\"\")","v":""},null,"",{"$f":"IF(AND($B253=\"AZIONE_1\",$L253=4),'3 - SPECIE DA IMPIANTARE'!$O54,\"\")","v":""},null,"",{"$f":"IF(AND($B253=\"AZIONE_1\",$O253=5),'3 - SPECIE DA IMPIANTARE'!$O54,\"\")","v":""},null,"",{"$f":"IF(AND($B253=\"AZIONE_1\",$R253=6),'3 - SPECIE DA IMPIANTARE'!$O54,\"\")","v":""}]
[3,{"$f":"B154","v":""},"",{"$f":"IF(AND($B254=\"AZIONE_1\",C254=1),'3 - SPECIE DA IMPIANTARE'!$O55,\"\")","v":""},null,{"$f":"F154","v":""},{"$f":"IF(AND($B254=\"AZIONE_1\",F254=2),'3 - SPECIE DA IMPIANTARE'!$O55,\"\")","v":""},null,"",{"$f":"IF(AND($B254=\"AZIONE_1\",$I254=3),'3 - SPECIE DA IMPIANTARE'!$O55,\"\")","v":""},null,"",{"$f":"IF(AND($B254=\"AZIONE_1\",$L254=4),'3 - SPECIE DA IMPIANTARE'!$O55,\"\")","v":""},null,"",{"$f":"IF(AND($B254=\"AZIONE_1\",$O254=5),'3 - SPECIE DA IMPIANTARE'!$O55,\"\")","v":""},null,"",{"$f":"IF(AND($B254=\"AZIONE_1\",$R254=6),'3 - SPECIE DA IMPIANTARE'!$O55,\"\")","v":""}]
[3,{"$f":"B155","v":""},"",{"$f":"IF(AND($B255=\"AZIONE_1\",C255=1),'3 - SPECIE DA IMPIANTARE'!$O56,\"\")","v":""},null,{"$f":"F155","v":""},{"$f":"IF(AND($B255=\"AZIONE_1\",F255=2),'3 - SPECIE DA IMPIANTARE'!$O56,\"\")","v":""},null,"",{"$f":"IF(AND($B255=\"AZIONE_1\",$I255=3),'3 - SPECIE DA IMPIANTARE'!$O56,\"\")","v":""},null,"",{"$f":"IF(AND($B255=\"AZIONE_1\",$L255=4),'3 - SPECIE DA IMPIANTARE'!$O56,\"\")","v":""},null,"",{"$f":"IF(AND($B255=\"AZIONE_1\",$O255=5),'3 - SPECIE DA IMPIANTARE'!$O56,\"\")","v":""},null,"",{"$f":"IF(AND($B255=\"AZIONE_1\",$R255=6),'3 - SPECIE DA IMPIANTARE'!$O56,\"\")","v":""}]
[3,{"$f":"B156","v":""},"",{"$f":"IF(AND($B256=\"AZIONE_1\",C256=1),'3 - SPECIE DA IMPIANTARE'!$O57,\"\")","v":""},null,{"$f":"F156","v":""},{"$f":"IF(AND($B256=\"AZIONE_1\",F256=2),'3 - SPECIE DA IMPIANTARE'!$O57,\"\")","v":""},null,"",{"$f":"IF(AND($B256=\"AZIONE_1\",$I256=3),'3 - SPECIE DA IMPIANTARE'!$O57,\"\")","v":""},null,"",{"$f":"IF(AND($B256=\"AZIONE_1\",$L256=4),'3 - SPECIE DA IMPIANTARE'!$O57,\"\")","v":""},null,"",{"$f":"IF(AND($B256=\"AZIONE_1\",$O256=5),'3 - SPECIE DA IMPIANTARE'!$O57,\"\")","v":""},null,"",{"$f":"IF(AND($B256=\"AZIONE_1\",$R256=6),'3 - SPECIE DA IMPIANTARE'!$O57,\"\")","v":""}]
[3,{"$f":"B157","v":""},"",{"$f":"IF(AND($B257=\"AZIONE_1\",C257=1),'3 - SPECIE DA IMPIANTARE'!$O58,\"\")","v":""},null,{"$f":"F157","v":""},{"$f":"IF(AND($B257=\"AZIONE_1\",F257=2),'3 - SPECIE DA IMPIANTARE'!$O58,\"\")","v":""},null,"",{"$f":"IF(AND($B257=\"AZIONE_1\",$I257=3),'3 - SPECIE DA IMPIANTARE'!$O58,\"\")","v":""},null,"",{"$f":"IF(AND($B257=\"AZIONE_1\",$L257=4),'3 - SPECIE DA IMPIANTARE'!$O58,\"\")","v":""},null,"",{"$f":"IF(AND($B257=\"AZIONE_1\",$O257=5),'3 - SPECIE DA IMPIANTARE'!$O58,\"\")","v":""},null,"",{"$f":"IF(AND($B257=\"AZIONE_1\",$R257=6),'3 - SPECIE DA IMPIANTARE'!$O58,\"\")","v":""}]
[3,{"$f":"B158","v":""},"",{"$f":"IF(AND($B258=\"AZIONE_1\",C258=1),'3 - SPECIE DA IMPIANTARE'!$O59,\"\")","v":""},null,{"$f":"F158","v":""},{"$f":"IF(AND($B258=\"AZIONE_1\",F258=2),'3 - SPECIE DA IMPIANTARE'!$O59,\"\")","v":""},null,"",{"$f":"IF(AND($B258=\"AZIONE_1\",$I258=3),'3 - SPECIE DA IMPIANTARE'!$O59,\"\")","v":""},null,"",{"$f":"IF(AND($B258=\"AZIONE_1\",$L258=4),'3 - SPECIE DA IMPIANTARE'!$O59,\"\")","v":""},null,"",{"$f":"IF(AND($B258=\"AZIONE_1\",$O258=5),'3 - SPECIE DA IMPIANTARE'!$O59,\"\")","v":""},null,"",{"$f":"IF(AND($B258=\"AZIONE_1\",$R258=6),'3 - SPECIE DA IMPIANTARE'!$O59,\"\")","v":""}]
[3,{"$f":"B159","v":""},"",{"$f":"IF(AND($B259=\"AZIONE_1\",C259=1),'3 - SPECIE DA IMPIANTARE'!$O60,\"\")","v":""},null,{"$f":"F159","v":""},{"$f":"IF(AND($B259=\"AZIONE_1\",F259=2),'3 - SPECIE DA IMPIANTARE'!$O60,\"\")","v":""},null,"",{"$f":"IF(AND($B259=\"AZIONE_1\",$I259=3),'3 - SPECIE DA IMPIANTARE'!$O60,\"\")","v":""},null,"",{"$f":"IF(AND($B259=\"AZIONE_1\",$L259=4),'3 - SPECIE DA IMPIANTARE'!$O60,\"\")","v":""},null,"",{"$f":"IF(AND($B259=\"AZIONE_1\",$O259=5),'3 - SPECIE DA IMPIANTARE'!$O60,\"\")","v":""},null,"",{"$f":"IF(AND($B259=\"AZIONE_1\",$R259=6),'3 - SPECIE DA IMPIANTARE'!$O60,\"\")","v":""}]
[3,{"$f":"B160","v":""},"",{"$f":"IF(AND($B260=\"AZIONE_1\",C260=1),'3 - SPECIE DA IMPIANTARE'!$O61,\"\")","v":""},null,{"$f":"F160","v":""},{"$f":"IF(AND($B260=\"AZIONE_1\",F260=2),'3 - SPECIE DA IMPIANTARE'!$O61,\"\")","v":""},null,"",{"$f":"IF(AND($B260=\"AZIONE_1\",$I260=3),'3 - SPECIE DA IMPIANTARE'!$O61,\"\")","v":""},null,"",{"$f":"IF(AND($B260=\"AZIONE_1\",$L260=4),'3 - SPECIE DA IMPIANTARE'!$O61,\"\")","v":""},null,"",{"$f":"IF(AND($B260=\"AZIONE_1\",$O260=5),'3 - SPECIE DA IMPIANTARE'!$O61,\"\")","v":""},null,"",{"$f":"IF(AND($B260=\"AZIONE_1\",$R260=6),'3 - SPECIE DA IMPIANTARE'!$O61,\"\")","v":""}]
[3,{"$f":"B161","v":""},"",{"$f":"IF(AND($B261=\"AZIONE_1\",C261=1),'3 - SPECIE DA IMPIANTARE'!$O62,\"\")","v":""},null,{"$f":"F161","v":""},{"$f":"IF(AND($B261=\"AZIONE_1\",F261=2),'3 - SPECIE DA IMPIANTARE'!$O62,\"\")","v":""},null,"",{"$f":"IF(AND($B261=\"AZIONE_1\",$I261=3),'3 - SPECIE DA IMPIANTARE'!$O62,\"\")","v":""},null,"",{"$f":"IF(AND($B261=\"AZIONE_1\",$L261=4),'3 - SPECIE DA IMPIANTARE'!$O62,\"\")","v":""},null,"",{"$f":"IF(AND($B261=\"AZIONE_1\",$O261=5),'3 - SPECIE DA IMPIANTARE'!$O62,\"\")","v":""},null,"",{"$f":"IF(AND($B261=\"AZIONE_1\",$R261=6),'3 - SPECIE DA IMPIANTARE'!$O62,\"\")","v":""}]
[3,{"$f":"B162","v":""},"",{"$f":"IF(AND($B262=\"AZIONE_1\",C262=1),'3 - SPECIE DA IMPIANTARE'!$O63,\"\")","v":""},null,{"$f":"F162","v":""},{"$f":"IF(AND($B262=\"AZIONE_1\",F262=2),'3 - SPECIE DA IMPIANTARE'!$O63,\"\")","v":""},null,"",{"$f":"IF(AND($B262=\"AZIONE_1\",$I262=3),'3 - SPECIE DA IMPIANTARE'!$O63,\"\")","v":""},null,"",{"$f":"IF(AND($B262=\"AZIONE_1\",$L262=4),'3 - SPECIE DA IMPIANTARE'!$O63,\"\")","v":""},null,"",{"$f":"IF(AND($B262=\"AZIONE_1\",$O262=5),'3 - SPECIE DA IMPIANTARE'!$O63,\"\")","v":""},null,"",{"$f":"IF(AND($B262=\"AZIONE_1\",$R262=6),'3 - SPECIE DA IMPIANTARE'!$O63,\"\")","v":""}]
[3,{"$f":"B163","v":""},"",{"$f":"IF(AND($B263=\"AZIONE_1\",C263=1),'3 - SPECIE DA IMPIANTARE'!$O64,\"\")","v":""},null,{"$f":"F163","v":""},{"$f":"IF(AND($B263=\"AZIONE_1\",F263=2),'3 - SPECIE DA IMPIANTARE'!$O64,\"\")","v":""},null,"",{"$f":"IF(AND($B263=\"AZIONE_1\",$I263=3),'3 - SPECIE DA IMPIANTARE'!$O64,\"\")","v":""},null,"",{"$f":"IF(AND($B263=\"AZIONE_1\",$L263=4),'3 - SPECIE DA IMPIANTARE'!$O64,\"\")","v":""},null,"",{"$f":"IF(AND($B263=\"AZIONE_1\",$O263=5),'3 - SPECIE DA IMPIANTARE'!$O64,\"\")","v":""},null,"",{"$f":"IF(AND($B263=\"AZIONE_1\",$R263=6),'3 - SPECIE DA IMPIANTARE'!$O64,\"\")","v":""}]
[3,{"$f":"B164","v":""},"",{"$f":"IF(AND($B264=\"AZIONE_1\",C264=1),'3 - SPECIE DA IMPIANTARE'!$O65,\"\")","v":""},null,{"$f":"F164","v":""},{"$f":"IF(AND($B264=\"AZIONE_1\",F264=2),'3 - SPECIE DA IMPIANTARE'!$O65,\"\")","v":""},null,"",{"$f":"IF(AND($B264=\"AZIONE_1\",$I264=3),'3 - SPECIE DA IMPIANTARE'!$O65,\"\")","v":""},null,"",{"$f":"IF(AND($B264=\"AZIONE_1\",$L264=4),'3 - SPECIE DA IMPIANTARE'!$O65,\"\")","v":""},null,"",{"$f":"IF(AND($B264=\"AZIONE_1\",$O264=5),'3 - SPECIE DA IMPIANTARE'!$O65,\"\")","v":""},null,"",{"$f":"IF(AND($B264=\"AZIONE_1\",$R264=6),'3 - SPECIE DA IMPIANTARE'!$O65,\"\")","v":""}]
[3,{"$f":"B165","v":""},"",{"$f":"IF(AND($B265=\"AZIONE_1\",C265=1),'3 - SPECIE DA IMPIANTARE'!$O66,\"\")","v":""},null,{"$f":"F165","v":""},{"$f":"IF(AND($B265=\"AZIONE_1\",F265=2),'3 - SPECIE DA IMPIANTARE'!$O66,\"\")","v":""},null,"",{"$f":"IF(AND($B265=\"AZIONE_1\",$I265=3),'3 - SPECIE DA IMPIANTARE'!$O66,\"\")","v":""},null,"",{"$f":"IF(AND($B265=\"AZIONE_1\",$L265=4),'3 - SPECIE DA IMPIANTARE'!$O66,\"\")","v":""},null,"",{"$f":"IF(AND($B265=\"AZIONE_1\",$O265=5),'3 - SPECIE DA IMPIANTARE'!$O66,\"\")","v":""},null,"",{"$f":"IF(AND($B265=\"AZIONE_1\",$R265=6),'3 - SPECIE DA IMPIANTARE'!$O66,\"\")","v":""}]
[3,{"$f":"B166","v":""},"",{"$f":"IF(AND($B266=\"AZIONE_1\",C266=1),'3 - SPECIE DA IMPIANTARE'!$O67,\"\")","v":""},null,{"$f":"F166","v":""},{"$f":"IF(AND($B266=\"AZIONE_1\",F266=2),'3 - SPECIE DA IMPIANTARE'!$O67,\"\")","v":""},null,"",{"$f":"IF(AND($B266=\"AZIONE_1\",$I266=3),'3 - SPECIE DA IMPIANTARE'!$O67,\"\")","v":""},null,"",{"$f":"IF(AND($B266=\"AZIONE_1\",$L266=4),'3 - SPECIE DA IMPIANTARE'!$O67,\"\")","v":""},null,"",{"$f":"IF(AND($B266=\"AZIONE_1\",$O266=5),'3 - SPECIE DA IMPIANTARE'!$O67,\"\")","v":""},null,"",{"$f":"IF(AND($B266=\"AZIONE_1\",$R266=6),'3 - SPECIE DA IMPIANTARE'!$O67,\"\")","v":""}]
[3,{"$f":"B167","v":""},"",{"$f":"IF(AND($B267=\"AZIONE_1\",C267=1),'3 - SPECIE DA IMPIANTARE'!$O68,\"\")","v":""},null,{"$f":"F167","v":""},{"$f":"IF(AND($B267=\"AZIONE_1\",F267=2),'3 - SPECIE DA IMPIANTARE'!$O68,\"\")","v":""},null,"",{"$f":"IF(AND($B267=\"AZIONE_1\",$I267=3),'3 - SPECIE DA IMPIANTARE'!$O68,\"\")","v":""},null,"",{"$f":"IF(AND($B267=\"AZIONE_1\",$L267=4),'3 - SPECIE DA IMPIANTARE'!$O68,\"\")","v":""},null,"",{"$f":"IF(AND($B267=\"AZIONE_1\",$O267=5),'3 - SPECIE DA IMPIANTARE'!$O68,\"\")","v":""},null,"",{"$f":"IF(AND($B267=\"AZIONE_1\",$R267=6),'3 - SPECIE DA IMPIANTARE'!$O68,\"\")","v":""}]
[3,{"$f":"B168","v":""},"",{"$f":"IF(AND($B268=\"AZIONE_1\",C268=1),'3 - SPECIE DA IMPIANTARE'!$O69,\"\")","v":""},null,{"$f":"F168","v":""},{"$f":"IF(AND($B268=\"AZIONE_1\",F268=2),'3 - SPECIE DA IMPIANTARE'!$O69,\"\")","v":""},null,"",{"$f":"IF(AND($B268=\"AZIONE_1\",$I268=3),'3 - SPECIE DA IMPIANTARE'!$O69,\"\")","v":""},null,"",{"$f":"IF(AND($B268=\"AZIONE_1\",$L268=4),'3 - SPECIE DA IMPIANTARE'!$O69,\"\")","v":""},null,"",{"$f":"IF(AND($B268=\"AZIONE_1\",$O268=5),'3 - SPECIE DA IMPIANTARE'!$O69,\"\")","v":""},null,"",{"$f":"IF(AND($B268=\"AZIONE_1\",$R268=6),'3 - SPECIE DA IMPIANTARE'!$O69,\"\")","v":""}]
[3,{"$f":"B169","v":""},"",{"$f":"IF(AND($B269=\"AZIONE_1\",C269=1),'3 - SPECIE DA IMPIANTARE'!$O70,\"\")","v":""},null,{"$f":"F169","v":""},{"$f":"IF(AND($B269=\"AZIONE_1\",F269=2),'3 - SPECIE DA IMPIANTARE'!$O70,\"\")","v":""},null,"",{"$f":"IF(AND($B269=\"AZIONE_1\",$I269=3),'3 - SPECIE DA IMPIANTARE'!$O70,\"\")","v":""},null,"",{"$f":"IF(AND($B269=\"AZIONE_1\",$L269=4),'3 - SPECIE DA IMPIANTARE'!$O70,\"\")","v":""},null,"",{"$f":"IF(AND($B269=\"AZIONE_1\",$O269=5),'3 - SPECIE DA IMPIANTARE'!$O70,\"\")","v":""},null,"",{"$f":"IF(AND($B269=\"AZIONE_1\",$R269=6),'3 - SPECIE DA IMPIANTARE'!$O70,\"\")","v":""}]
[3,{"$f":"B170","v":""},"",{"$f":"IF(AND($B270=\"AZIONE_1\",C270=1),'3 - SPECIE DA IMPIANTARE'!$O71,\"\")","v":""},null,{"$f":"F170","v":""},{"$f":"IF(AND($B270=\"AZIONE_1\",F270=2),'3 - SPECIE DA IMPIANTARE'!$O71,\"\")","v":""},null,"",{"$f":"IF(AND($B270=\"AZIONE_1\",$I270=3),'3 - SPECIE DA IMPIANTARE'!$O71,\"\")","v":""},null,"",{"$f":"IF(AND($B270=\"AZIONE_1\",$L270=4),'3 - SPECIE DA IMPIANTARE'!$O71,\"\")","v":""},null,"",{"$f":"IF(AND($B270=\"AZIONE_1\",$O270=5),'3 - SPECIE DA IMPIANTARE'!$O71,\"\")","v":""},null,"",{"$f":"IF(AND($B270=\"AZIONE_1\",$R270=6),'3 - SPECIE DA IMPIANTARE'!$O71,\"\")","v":""}]
[3,{"$f":"B171","v":""},"",{"$f":"IF(AND($B271=\"AZIONE_1\",C271=1),'3 - SPECIE DA IMPIANTARE'!$O72,\"\")","v":""},null,{"$f":"F171","v":""},{"$f":"IF(AND($B271=\"AZIONE_1\",F271=2),'3 - SPECIE DA IMPIANTARE'!$O72,\"\")","v":""},null,"",{"$f":"IF(AND($B271=\"AZIONE_1\",$I271=3),'3 - SPECIE DA IMPIANTARE'!$O72,\"\")","v":""},null,"",{"$f":"IF(AND($B271=\"AZIONE_1\",$L271=4),'3 - SPECIE DA IMPIANTARE'!$O72,\"\")","v":""},null,"",{"$f":"IF(AND($B271=\"AZIONE_1\",$O271=5),'3 - SPECIE DA IMPIANTARE'!$O72,\"\")","v":""},null,"",{"$f":"IF(AND($B271=\"AZIONE_1\",$R271=6),'3 - SPECIE DA IMPIANTARE'!$O72,\"\")","v":""}]
[3,{"$f":"B172","v":""},"",{"$f":"IF(AND($B272=\"AZIONE_1\",C272=1),'3 - SPECIE DA IMPIANTARE'!$O73,\"\")","v":""},null,{"$f":"F172","v":""},{"$f":"IF(AND($B272=\"AZIONE_1\",F272=2),'3 - SPECIE DA IMPIANTARE'!$O73,\"\")","v":""},null,"",{"$f":"IF(AND($B272=\"AZIONE_1\",$I272=3),'3 - SPECIE DA IMPIANTARE'!$O73,\"\")","v":""},null,"",{"$f":"IF(AND($B272=\"AZIONE_1\",$L272=4),'3 - SPECIE DA IMPIANTARE'!$O73,\"\")","v":""},null,"",{"$f":"IF(AND($B272=\"AZIONE_1\",$O272=5),'3 - SPECIE DA IMPIANTARE'!$O73,\"\")","v":""},null,"",{"$f":"IF(AND($B272=\"AZIONE_1\",$R272=6),'3 - SPECIE DA IMPIANTARE'!$O73,\"\")","v":""}]
[3,{"$f":"B173","v":""},"",{"$f":"IF(AND($B273=\"AZIONE_1\",C273=1),'3 - SPECIE DA IMPIANTARE'!$O74,\"\")","v":""},null,{"$f":"F173","v":""},{"$f":"IF(AND($B273=\"AZIONE_1\",F273=2),'3 - SPECIE DA IMPIANTARE'!$O74,\"\")","v":""},null,"",{"$f":"IF(AND($B273=\"AZIONE_1\",$I273=3),'3 - SPECIE DA IMPIANTARE'!$O74,\"\")","v":""},null,"",{"$f":"IF(AND($B273=\"AZIONE_1\",$L273=4),'3 - SPECIE DA IMPIANTARE'!$O74,\"\")","v":""},null,"",{"$f":"IF(AND($B273=\"AZIONE_1\",$O273=5),'3 - SPECIE DA IMPIANTARE'!$O74,\"\")","v":""},null,"",{"$f":"IF(AND($B273=\"AZIONE_1\",$R273=6),'3 - SPECIE DA IMPIANTARE'!$O74,\"\")","v":""}]
[3,{"$f":"B174","v":""},"",{"$f":"IF(AND($B274=\"AZIONE_1\",C274=1),'3 - SPECIE DA IMPIANTARE'!$O75,\"\")","v":""},null,{"$f":"F174","v":""},{"$f":"IF(AND($B274=\"AZIONE_1\",F274=2),'3 - SPECIE DA IMPIANTARE'!$O75,\"\")","v":""},null,"",{"$f":"IF(AND($B274=\"AZIONE_1\",$I274=3),'3 - SPECIE DA IMPIANTARE'!$O75,\"\")","v":""},null,"",{"$f":"IF(AND($B274=\"AZIONE_1\",$L274=4),'3 - SPECIE DA IMPIANTARE'!$O75,\"\")","v":""},null,"",{"$f":"IF(AND($B274=\"AZIONE_1\",$O274=5),'3 - SPECIE DA IMPIANTARE'!$O75,\"\")","v":""},null,"",{"$f":"IF(AND($B274=\"AZIONE_1\",$R274=6),'3 - SPECIE DA IMPIANTARE'!$O75,\"\")","v":""}]
[3,{"$f":"B175","v":""},"",{"$f":"IF(AND($B275=\"AZIONE_1\",C275=1),'3 - SPECIE DA IMPIANTARE'!$O76,\"\")","v":""},null,{"$f":"F175","v":""},{"$f":"IF(AND($B275=\"AZIONE_1\",F275=2),'3 - SPECIE DA IMPIANTARE'!$O76,\"\")","v":""},null,"",{"$f":"IF(AND($B275=\"AZIONE_1\",$I275=3),'3 - SPECIE DA IMPIANTARE'!$O76,\"\")","v":""},null,"",{"$f":"IF(AND($B275=\"AZIONE_1\",$L275=4),'3 - SPECIE DA IMPIANTARE'!$O76,\"\")","v":""},null,"",{"$f":"IF(AND($B275=\"AZIONE_1\",$O275=5),'3 - SPECIE DA IMPIANTARE'!$O76,\"\")","v":""},null,"",{"$f":"IF(AND($B275=\"AZIONE_1\",$R275=6),'3 - SPECIE DA IMPIANTARE'!$O76,\"\")","v":""}]
[3,{"$f":"B176","v":""},"",{"$f":"IF(AND($B276=\"AZIONE_1\",C276=1),'3 - SPECIE DA IMPIANTARE'!$O77,\"\")","v":""},null,{"$f":"F176","v":""},{"$f":"IF(AND($B276=\"AZIONE_1\",F276=2),'3 - SPECIE DA IMPIANTARE'!$O77,\"\")","v":""},null,"",{"$f":"IF(AND($B276=\"AZIONE_1\",$I276=3),'3 - SPECIE DA IMPIANTARE'!$O77,\"\")","v":""},null,"",{"$f":"IF(AND($B276=\"AZIONE_1\",$L276=4),'3 - SPECIE DA IMPIANTARE'!$O77,\"\")","v":""},null,"",{"$f":"IF(AND($B276=\"AZIONE_1\",$O276=5),'3 - SPECIE DA IMPIANTARE'!$O77,\"\")","v":""},null,"",{"$f":"IF(AND($B276=\"AZIONE_1\",$R276=6),'3 - SPECIE DA IMPIANTARE'!$O77,\"\")","v":""}]
[3,{"$f":"B177","v":""},"",{"$f":"IF(AND($B277=\"AZIONE_1\",C277=1),'3 - SPECIE DA IMPIANTARE'!$O78,\"\")","v":""},null,{"$f":"F177","v":""},{"$f":"IF(AND($B277=\"AZIONE_1\",F277=2),'3 - SPECIE DA IMPIANTARE'!$O78,\"\")","v":""},null,"",{"$f":"IF(AND($B277=\"AZIONE_1\",$I277=3),'3 - SPECIE DA IMPIANTARE'!$O78,\"\")","v":""},null,"",{"$f":"IF(AND($B277=\"AZIONE_1\",$L277=4),'3 - SPECIE DA IMPIANTARE'!$O78,\"\")","v":""},null,"",{"$f":"IF(AND($B277=\"AZIONE_1\",$O277=5),'3 - SPECIE DA IMPIANTARE'!$O78,\"\")","v":""},null,"",{"$f":"IF(AND($B277=\"AZIONE_1\",$R277=6),'3 - SPECIE DA IMPIANTARE'!$O78,\"\")","v":""}]
[3,{"$f":"B178","v":""},"",{"$f":"IF(AND($B278=\"AZIONE_1\",C278=1),'3 - SPECIE DA IMPIANTARE'!$O79,\"\")","v":""},null,{"$f":"F178","v":""},{"$f":"IF(AND($B278=\"AZIONE_1\",F278=2),'3 - SPECIE DA IMPIANTARE'!$O79,\"\")","v":""},null,"",{"$f":"IF(AND($B278=\"AZIONE_1\",$I278=3),'3 - SPECIE DA IMPIANTARE'!$O79,\"\")","v":""},null,"",{"$f":"IF(AND($B278=\"AZIONE_1\",$L278=4),'3 - SPECIE DA IMPIANTARE'!$O79,\"\")","v":""},null,"",{"$f":"IF(AND($B278=\"AZIONE_1\",$O278=5),'3 - SPECIE DA IMPIANTARE'!$O79,\"\")","v":""},null,"",{"$f":"IF(AND($B278=\"AZIONE_1\",$R278=6),'3 - SPECIE DA IMPIANTARE'!$O79,\"\")","v":""}]
[3,{"$f":"B179","v":""},"",{"$f":"IF(AND($B279=\"AZIONE_1\",C279=1),'3 - SPECIE DA IMPIANTARE'!$O80,\"\")","v":""},null,{"$f":"F179","v":""},{"$f":"IF(AND($B279=\"AZIONE_1\",F279=2),'3 - SPECIE DA IMPIANTARE'!$O80,\"\")","v":""},null,"",{"$f":"IF(AND($B279=\"AZIONE_1\",$I279=3),'3 - SPECIE DA IMPIANTARE'!$O80,\"\")","v":""},null,"",{"$f":"IF(AND($B279=\"AZIONE_1\",$L279=4),'3 - SPECIE DA IMPIANTARE'!$O80,\"\")","v":""},null,"",{"$f":"IF(AND($B279=\"AZIONE_1\",$O279=5),'3 - SPECIE DA IMPIANTARE'!$O80,\"\")","v":""},null,"",{"$f":"IF(AND($B279=\"AZIONE_1\",$R279=6),'3 - SPECIE DA IMPIANTARE'!$O80,\"\")","v":""}]
[3,{"$f":"B180","v":""},"",{"$f":"IF(AND($B280=\"AZIONE_1\",C280=1),'3 - SPECIE DA IMPIANTARE'!$O81,\"\")","v":""},null,{"$f":"F180","v":""},{"$f":"IF(AND($B280=\"AZIONE_1\",F280=2),'3 - SPECIE DA IMPIANTARE'!$O81,\"\")","v":""},null,"",{"$f":"IF(AND($B280=\"AZIONE_1\",$I280=3),'3 - SPECIE DA IMPIANTARE'!$O81,\"\")","v":""},null,"",{"$f":"IF(AND($B280=\"AZIONE_1\",$L280=4),'3 - SPECIE DA IMPIANTARE'!$O81,\"\")","v":""},null,"",{"$f":"IF(AND($B280=\"AZIONE_1\",$O280=5),'3 - SPECIE DA IMPIANTARE'!$O81,\"\")","v":""},null,"",{"$f":"IF(AND($B280=\"AZIONE_1\",$R280=6),'3 - SPECIE DA IMPIANTARE'!$O81,\"\")","v":""}]
[3,{"$f":"B181","v":""},"",{"$f":"IF(AND($B281=\"AZIONE_1\",C281=1),'3 - SPECIE DA IMPIANTARE'!$O82,\"\")","v":""},null,{"$f":"F181","v":""},{"$f":"IF(AND($B281=\"AZIONE_1\",F281=2),'3 - SPECIE DA IMPIANTARE'!$O82,\"\")","v":""},null,"",{"$f":"IF(AND($B281=\"AZIONE_1\",$I281=3),'3 - SPECIE DA IMPIANTARE'!$O82,\"\")","v":""},null,"",{"$f":"IF(AND($B281=\"AZIONE_1\",$L281=4),'3 - SPECIE DA IMPIANTARE'!$O82,\"\")","v":""},null,"",{"$f":"IF(AND($B281=\"AZIONE_1\",$O281=5),'3 - SPECIE DA IMPIANTARE'!$O82,\"\")","v":""},null,"",{"$f":"IF(AND($B281=\"AZIONE_1\",$R281=6),'3 - SPECIE DA IMPIANTARE'!$O82,\"\")","v":""}]
[3,{"$f":"B182","v":""},"",{"$f":"IF(AND($B282=\"AZIONE_1\",C282=1),'3 - SPECIE DA IMPIANTARE'!$O83,\"\")","v":""},null,{"$f":"F182","v":""},{"$f":"IF(AND($B282=\"AZIONE_1\",F282=2),'3 - SPECIE DA IMPIANTARE'!$O83,\"\")","v":""},null,"",{"$f":"IF(AND($B282=\"AZIONE_1\",$I282=3),'3 - SPECIE DA IMPIANTARE'!$O83,\"\")","v":""},null,"",{"$f":"IF(AND($B282=\"AZIONE_1\",$L282=4),'3 - SPECIE DA IMPIANTARE'!$O83,\"\")","v":""},null,"",{"$f":"IF(AND($B282=\"AZIONE_1\",$O282=5),'3 - SPECIE DA IMPIANTARE'!$O83,\"\")","v":""},null,"",{"$f":"IF(AND($B282=\"AZIONE_1\",$R282=6),'3 - SPECIE DA IMPIANTARE'!$O83,\"\")","v":""}]
[3,{"$f":"B183","v":""},"",{"$f":"IF(AND($B283=\"AZIONE_1\",C283=1),'3 - SPECIE DA IMPIANTARE'!$O84,\"\")","v":""},null,{"$f":"F183","v":""},{"$f":"IF(AND($B283=\"AZIONE_1\",F283=2),'3 - SPECIE DA IMPIANTARE'!$O84,\"\")","v":""},null,"",{"$f":"IF(AND($B283=\"AZIONE_1\",$I283=3),'3 - SPECIE DA IMPIANTARE'!$O84,\"\")","v":""},null,"",{"$f":"IF(AND($B283=\"AZIONE_1\",$L283=4),'3 - SPECIE DA IMPIANTARE'!$O84,\"\")","v":""},null,"",{"$f":"IF(AND($B283=\"AZIONE_1\",$O283=5),'3 - SPECIE DA IMPIANTARE'!$O84,\"\")","v":""},null,"",{"$f":"IF(AND($B283=\"AZIONE_1\",$R283=6),'3 - SPECIE DA IMPIANTARE'!$O84,\"\")","v":""}]
[3,{"$f":"B184","v":""},"",{"$f":"IF(AND($B284=\"AZIONE_1\",C284=1),'3 - SPECIE DA IMPIANTARE'!$O85,\"\")","v":""},null,{"$f":"F184","v":""},{"$f":"IF(AND($B284=\"AZIONE_1\",F284=2),'3 - SPECIE DA IMPIANTARE'!$O85,\"\")","v":""},null,"",{"$f":"IF(AND($B284=\"AZIONE_1\",$I284=3),'3 - SPECIE DA IMPIANTARE'!$O85,\"\")","v":""},null,"",{"$f":"IF(AND($B284=\"AZIONE_1\",$L284=4),'3 - SPECIE DA IMPIANTARE'!$O85,\"\")","v":""},null,"",{"$f":"IF(AND($B284=\"AZIONE_1\",$O284=5),'3 - SPECIE DA IMPIANTARE'!$O85,\"\")","v":""},null,"",{"$f":"IF(AND($B284=\"AZIONE_1\",$R284=6),'3 - SPECIE DA IMPIANTARE'!$O85,\"\")","v":""}]
[3,{"$f":"B185","v":""},"",{"$f":"IF(AND($B285=\"AZIONE_1\",C285=1),'3 - SPECIE DA IMPIANTARE'!$O86,\"\")","v":""},null,{"$f":"F185","v":""},{"$f":"IF(AND($B285=\"AZIONE_1\",F285=2),'3 - SPECIE DA IMPIANTARE'!$O86,\"\")","v":""},null,"",{"$f":"IF(AND($B285=\"AZIONE_1\",$I285=3),'3 - SPECIE DA IMPIANTARE'!$O86,\"\")","v":""},null,"",{"$f":"IF(AND($B285=\"AZIONE_1\",$L285=4),'3 - SPECIE DA IMPIANTARE'!$O86,\"\")","v":""},null,"",{"$f":"IF(AND($B285=\"AZIONE_1\",$O285=5),'3 - SPECIE DA IMPIANTARE'!$O86,\"\")","v":""},null,"",{"$f":"IF(AND($B285=\"AZIONE_1\",$R285=6),'3 - SPECIE DA IMPIANTARE'!$O86,\"\")","v":""}]
[3,{"$f":"B186","v":""},"",{"$f":"IF(AND($B286=\"AZIONE_1\",C286=1),'3 - SPECIE DA IMPIANTARE'!$O87,\"\")","v":""},null,{"$f":"F186","v":""},{"$f":"IF(AND($B286=\"AZIONE_1\",F286=2),'3 - SPECIE DA IMPIANTARE'!$O87,\"\")","v":""},null,"",{"$f":"IF(AND($B286=\"AZIONE_1\",$I286=3),'3 - SPECIE DA IMPIANTARE'!$O87,\"\")","v":""},null,"",{"$f":"IF(AND($B286=\"AZIONE_1\",$L286=4),'3 - SPECIE DA IMPIANTARE'!$O87,\"\")","v":""},null,"",{"$f":"IF(AND($B286=\"AZIONE_1\",$O286=5),'3 - SPECIE DA IMPIANTARE'!$O87,\"\")","v":""},null,"",{"$f":"IF(AND($B286=\"AZIONE_1\",$R286=6),'3 - SPECIE DA IMPIANTARE'!$O87,\"\")","v":""}]
[3,{"$f":"B187","v":""},"",{"$f":"IF(AND($B287=\"AZIONE_1\",C287=1),'3 - SPECIE DA IMPIANTARE'!$O88,\"\")","v":""},null,{"$f":"F187","v":""},{"$f":"IF(AND($B287=\"AZIONE_1\",F287=2),'3 - SPECIE DA IMPIANTARE'!$O88,\"\")","v":""},null,"",{"$f":"IF(AND($B287=\"AZIONE_1\",$I287=3),'3 - SPECIE DA IMPIANTARE'!$O88,\"\")","v":""},null,"",{"$f":"IF(AND($B287=\"AZIONE_1\",$L287=4),'3 - SPECIE DA IMPIANTARE'!$O88,\"\")","v":""},null,"",{"$f":"IF(AND($B287=\"AZIONE_1\",$O287=5),'3 - SPECIE DA IMPIANTARE'!$O88,\"\")","v":""},null,"",{"$f":"IF(AND($B287=\"AZIONE_1\",$R287=6),'3 - SPECIE DA IMPIANTARE'!$O88,\"\")","v":""}]
[3,{"$f":"B188","v":""},"",{"$f":"IF(AND($B288=\"AZIONE_1\",C288=1),'3 - SPECIE DA IMPIANTARE'!$O89,\"\")","v":""},null,{"$f":"F188","v":""},{"$f":"IF(AND($B288=\"AZIONE_1\",F288=2),'3 - SPECIE DA IMPIANTARE'!$O89,\"\")","v":""},null,"",{"$f":"IF(AND($B288=\"AZIONE_1\",$I288=3),'3 - SPECIE DA IMPIANTARE'!$O89,\"\")","v":""},null,"",{"$f":"IF(AND($B288=\"AZIONE_1\",$L288=4),'3 - SPECIE DA IMPIANTARE'!$O89,\"\")","v":""},null,"",{"$f":"IF(AND($B288=\"AZIONE_1\",$O288=5),'3 - SPECIE DA IMPIANTARE'!$O89,\"\")","v":""},null,"",{"$f":"IF(AND($B288=\"AZIONE_1\",$R288=6),'3 - SPECIE DA IMPIANTARE'!$O89,\"\")","v":""}]
[3,{"$f":"B189","v":""},"",{"$f":"IF(AND($B289=\"AZIONE_1\",C289=1),'3 - SPECIE DA IMPIANTARE'!$O90,\"\")","v":""},null,{"$f":"F189","v":""},{"$f":"IF(AND($B289=\"AZIONE_1\",F289=2),'3 - SPECIE DA IMPIANTARE'!$O90,\"\")","v":""},null,"",{"$f":"IF(AND($B289=\"AZIONE_1\",$I289=3),'3 - SPECIE DA IMPIANTARE'!$O90,\"\")","v":""},null,"",{"$f":"IF(AND($B289=\"AZIONE_1\",$L289=4),'3 - SPECIE DA IMPIANTARE'!$O90,\"\")","v":""},null,"",{"$f":"IF(AND($B289=\"AZIONE_1\",$O289=5),'3 - SPECIE DA IMPIANTARE'!$O90,\"\")","v":""},null,"",{"$f":"IF(AND($B289=\"AZIONE_1\",$R289=6),'3 - SPECIE DA IMPIANTARE'!$O90,\"\")","v":""}]
[3,{"$f":"B190","v":""},"",{"$f":"IF(AND($B290=\"AZIONE_1\",C290=1),'3 - SPECIE DA IMPIANTARE'!$O91,\"\")","v":""},null,{"$f":"F190","v":""},{"$f":"IF(AND($B290=\"AZIONE_1\",F290=2),'3 - SPECIE DA IMPIANTARE'!$O91,\"\")","v":""},null,"",{"$f":"IF(AND($B290=\"AZIONE_1\",$I290=3),'3 - SPECIE DA IMPIANTARE'!$O91,\"\")","v":""},null,"",{"$f":"IF(AND($B290=\"AZIONE_1\",$L290=4),'3 - SPECIE DA IMPIANTARE'!$O91,\"\")","v":""},null,"",{"$f":"IF(AND($B290=\"AZIONE_1\",$O290=5),'3 - SPECIE DA IMPIANTARE'!$O91,\"\")","v":""},null,"",{"$f":"IF(AND($B290=\"AZIONE_1\",$R290=6),'3 - SPECIE DA IMPIANTARE'!$O91,\"\")","v":""}]
[3,{"$f":"B191","v":""},"",{"$f":"IF(AND($B291=\"AZIONE_1\",C291=1),'3 - SPECIE DA IMPIANTARE'!$O92,\"\")","v":""},null,{"$f":"F191","v":""},{"$f":"IF(AND($B291=\"AZIONE_1\",F291=2),'3 - SPECIE DA IMPIANTARE'!$O92,\"\")","v":""},null,"",{"$f":"IF(AND($B291=\"AZIONE_1\",$I291=3),'3 - SPECIE DA IMPIANTARE'!$O92,\"\")","v":""},null,"",{"$f":"IF(AND($B291=\"AZIONE_1\",$L291=4),'3 - SPECIE DA IMPIANTARE'!$O92,\"\")","v":""},null,"",{"$f":"IF(AND($B291=\"AZIONE_1\",$O291=5),'3 - SPECIE DA IMPIANTARE'!$O92,\"\")","v":""},null,"",{"$f":"IF(AND($B291=\"AZIONE_1\",$R291=6),'3 - SPECIE DA IMPIANTARE'!$O92,\"\")","v":""}]
[3,{"$f":"B192","v":""},"",{"$f":"IF(AND($B292=\"AZIONE_1\",C292=1),'3 - SPECIE DA IMPIANTARE'!$O93,\"\")","v":""},null,{"$f":"F192","v":""},{"$f":"IF(AND($B292=\"AZIONE_1\",F292=2),'3 - SPECIE DA IMPIANTARE'!$O93,\"\")","v":""},null,"",{"$f":"IF(AND($B292=\"AZIONE_1\",$I292=3),'3 - SPECIE DA IMPIANTARE'!$O93,\"\")","v":""},null,"",{"$f":"IF(AND($B292=\"AZIONE_1\",$L292=4),'3 - SPECIE DA IMPIANTARE'!$O93,\"\")","v":""},null,"",{"$f":"IF(AND($B292=\"AZIONE_1\",$O292=5),'3 - SPECIE DA IMPIANTARE'!$O93,\"\")","v":""},null,"",{"$f":"IF(AND($B292=\"AZIONE_1\",$R292=6),'3 - SPECIE DA IMPIANTARE'!$O93,\"\")","v":""}]
[3,{"$f":"B193","v":""},"",{"$f":"IF(AND($B293=\"AZIONE_1\",C293=1),'3 - SPECIE DA IMPIANTARE'!$O94,\"\")","v":""},null,{"$f":"F193","v":""},{"$f":"IF(AND($B293=\"AZIONE_1\",F293=2),'3 - SPECIE DA IMPIANTARE'!$O94,\"\")","v":""},null,"",{"$f":"IF(AND($B293=\"AZIONE_1\",$I293=3),'3 - SPECIE DA IMPIANTARE'!$O94,\"\")","v":""},null,"",{"$f":"IF(AND($B293=\"AZIONE_1\",$L293=4),'3 - SPECIE DA IMPIANTARE'!$O94,\"\")","v":""},null,"",{"$f":"IF(AND($B293=\"AZIONE_1\",$O293=5),'3 - SPECIE DA IMPIANTARE'!$O94,\"\")","v":""},null,"",{"$f":"IF(AND($B293=\"AZIONE_1\",$R293=6),'3 - SPECIE DA IMPIANTARE'!$O94,\"\")","v":""}]
[3,{"$f":"B194","v":""},"",{"$f":"IF(AND($B294=\"AZIONE_1\",C294=1),'3 - SPECIE DA IMPIANTARE'!$O95,\"\")","v":""},null,{"$f":"F194","v":""},{"$f":"IF(AND($B294=\"AZIONE_1\",F294=2),'3 - SPECIE DA IMPIANTARE'!$O95,\"\")","v":""},null,"",{"$f":"IF(AND($B294=\"AZIONE_1\",$I294=3),'3 - SPECIE DA IMPIANTARE'!$O95,\"\")","v":""},null,"",{"$f":"IF(AND($B294=\"AZIONE_1\",$L294=4),'3 - SPECIE DA IMPIANTARE'!$O95,\"\")","v":""},null,"",{"$f":"IF(AND($B294=\"AZIONE_1\",$O294=5),'3 - SPECIE DA IMPIANTARE'!$O95,\"\")","v":""},null,"",{"$f":"IF(AND($B294=\"AZIONE_1\",$R294=6),'3 - SPECIE DA IMPIANTARE'!$O95,\"\")","v":""}]
[3,{"$f":"B195","v":""},"",{"$f":"IF(AND($B295=\"AZIONE_1\",C295=1),'3 - SPECIE DA IMPIANTARE'!$O96,\"\")","v":""},null,{"$f":"F195","v":""},{"$f":"IF(AND($B295=\"AZIONE_1\",F295=2),'3 - SPECIE DA IMPIANTARE'!$O96,\"\")","v":""},null,{"$f":"I195","v":""},{"$f":"IF(AND($B295=\"AZIONE_1\",$I295=3),'3 - SPECIE DA IMPIANTARE'!$O96,\"\")","v":""},null,{"$f":"L195","v":""},{"$f":"IF(AND($B295=\"AZIONE_1\",$L295=4),'3 - SPECIE DA IMPIANTARE'!$O96,\"\")","v":""},null,{"$f":"O195","v":""},{"$f":"IF(AND($B295=\"AZIONE_1\",$O295=5),'3 - SPECIE DA IMPIANTARE'!$O96,\"\")","v":""},null,{"$f":"R195","v":""},{"$f":"IF(AND($B295=\"AZIONE_1\",$R295=6),'3 - SPECIE DA IMPIANTARE'!$O96,\"\")","v":""}]
[3,{"$f":"B196","v":""},"",{"$f":"IF(AND($B296=\"AZIONE_1\",C296=1),'3 - SPECIE DA IMPIANTARE'!$O97,\"\")","v":""},null,{"$f":"F196","v":""},{"$f":"IF(AND($B296=\"AZIONE_1\",F296=2),'3 - SPECIE DA IMPIANTARE'!$O97,\"\")","v":""},null,"",{"$f":"IF(AND($B296=\"AZIONE_1\",$I296=3),'3 - SPECIE DA IMPIANTARE'!$O97,\"\")","v":""},null,"",{"$f":"IF(AND($B296=\"AZIONE_1\",$L296=4),'3 - SPECIE DA IMPIANTARE'!$O97,\"\")","v":""},null,"",{"$f":"IF(AND($B296=\"AZIONE_1\",$O296=5),'3 - SPECIE DA IMPIANTARE'!$O97,\"\")","v":""},null,"",{"$f":"IF(AND($B296=\"AZIONE_1\",$R296=6),'3 - SPECIE DA IMPIANTARE'!$O97,\"\")","v":""}]
[3,{"$f":"B197","v":""},"",{"$f":"IF(AND($B297=\"AZIONE_1\",C297=1),'3 - SPECIE DA IMPIANTARE'!$O98,\"\")","v":""},null,{"$f":"F197","v":""},{"$f":"IF(AND($B297=\"AZIONE_1\",F297=2),'3 - SPECIE DA IMPIANTARE'!$O98,\"\")","v":""},null,"",{"$f":"IF(AND($B297=\"AZIONE_1\",$I297=3),'3 - SPECIE DA IMPIANTARE'!$O98,\"\")","v":""},null,"",{"$f":"IF(AND($B297=\"AZIONE_1\",$L297=4),'3 - SPECIE DA IMPIANTARE'!$O98,\"\")","v":""},null,"",{"$f":"IF(AND($B297=\"AZIONE_1\",$O297=5),'3 - SPECIE DA IMPIANTARE'!$O98,\"\")","v":""},null,"",{"$f":"IF(AND($B297=\"AZIONE_1\",$R297=6),'3 - SPECIE DA IMPIANTARE'!$O98,\"\")","v":""}]
[3,{"$f":"B198","v":""},"",{"$f":"IF(AND($B298=\"AZIONE_1\",C298=1),'3 - SPECIE DA IMPIANTARE'!$O99,\"\")","v":""},null,{"$f":"F198","v":""},{"$f":"IF(AND($B298=\"AZIONE_1\",F298=2),'3 - SPECIE DA IMPIANTARE'!$O99,\"\")","v":""},null,"",{"$f":"IF(AND($B298=\"AZIONE_1\",$I298=3),'3 - SPECIE DA IMPIANTARE'!$O99,\"\")","v":""},null,"",{"$f":"IF(AND($B298=\"AZIONE_1\",$L298=4),'3 - SPECIE DA IMPIANTARE'!$O99,\"\")","v":""},null,"",{"$f":"IF(AND($B298=\"AZIONE_1\",$O298=5),'3 - SPECIE DA IMPIANTARE'!$O99,\"\")","v":""},null,"",{"$f":"IF(AND($B298=\"AZIONE_1\",$R298=6),'3 - SPECIE DA IMPIANTARE'!$O99,\"\")","v":""}]
[3,{"$f":"B199","v":""},"",{"$f":"IF(AND($B299=\"AZIONE_1\",C299=1),'3 - SPECIE DA IMPIANTARE'!$O100,\"\")","v":""},null,{"$f":"F199","v":""},{"$f":"IF(AND($B299=\"AZIONE_1\",F299=2),'3 - SPECIE DA IMPIANTARE'!$O100,\"\")","v":""},null,"",{"$f":"IF(AND($B299=\"AZIONE_1\",$I299=3),'3 - SPECIE DA IMPIANTARE'!$O100,\"\")","v":""},null,"",{"$f":"IF(AND($B299=\"AZIONE_1\",$L299=4),'3 - SPECIE DA IMPIANTARE'!$O100,\"\")","v":""},null,"",{"$f":"IF(AND($B299=\"AZIONE_1\",$O299=5),'3 - SPECIE DA IMPIANTARE'!$O100,\"\")","v":""},null,"",{"$f":"IF(AND($B299=\"AZIONE_1\",$R299=6),'3 - SPECIE DA IMPIANTARE'!$O100,\"\")","v":""}]
[3,{"$f":"B200","v":""},"",{"$f":"IF(AND($B300=\"AZIONE_1\",C300=1),'3 - SPECIE DA IMPIANTARE'!$O101,\"\")","v":""},null,{"$f":"F200","v":""},{"$f":"IF(AND($B300=\"AZIONE_1\",F300=2),'3 - SPECIE DA IMPIANTARE'!$O101,\"\")","v":""},null,"",{"$f":"IF(AND($B300=\"AZIONE_1\",$I300=3),'3 - SPECIE DA IMPIANTARE'!$O101,\"\")","v":""},null,"",{"$f":"IF(AND($B300=\"AZIONE_1\",$L300=4),'3 - SPECIE DA IMPIANTARE'!$O101,\"\")","v":""},null,"",{"$f":"IF(AND($B300=\"AZIONE_1\",$O300=5),'3 - SPECIE DA IMPIANTARE'!$O101,\"\")","v":""},null,"",{"$f":"IF(AND($B300=\"AZIONE_1\",$R300=6),'3 - SPECIE DA IMPIANTARE'!$O101,\"\")","v":""}]
[3,{"$f":"B201","v":""},"",{"$f":"IF(AND($B301=\"AZIONE_1\",C301=1),'3 - SPECIE DA IMPIANTARE'!$O102,\"\")","v":""},null,{"$f":"F201","v":""},{"$f":"IF(AND($B301=\"AZIONE_1\",F301=2),'3 - SPECIE DA IMPIANTARE'!$O102,\"\")","v":""},null,"",{"$f":"IF(AND($B301=\"AZIONE_1\",$I301=3),'3 - SPECIE DA IMPIANTARE'!$O102,\"\")","v":""},null,"",{"$f":"IF(AND($B301=\"AZIONE_1\",$L301=4),'3 - SPECIE DA IMPIANTARE'!$O102,\"\")","v":""},null,"",{"$f":"IF(AND($B301=\"AZIONE_1\",$O301=5),'3 - SPECIE DA IMPIANTARE'!$O102,\"\")","v":""},null,"",{"$f":"IF(AND($B301=\"AZIONE_1\",$R301=6),'3 - SPECIE DA IMPIANTARE'!$O102,\"\")","v":""}]
[4,{"$f":"B202","v":""},"",{"$f":"IF(AND($B302=\"AZIONE_1\",C302=1),'3 - SPECIE DA IMPIANTARE'!$R3,\"\")","v":""},null,{"$f":"F202","v":""},{"$f":"IF(AND($B302=\"AZIONE_1\",F302=2),'3 - SPECIE DA IMPIANTARE'!$R3,\"\")","v":""},null,"",{"$f":"IF(AND($B302=\"AZIONE_1\",$I302=3),'3 - SPECIE DA IMPIANTARE'!$R3,\"\")","v":""},null,"",{"$f":"IF(AND($B302=\"AZIONE_1\",$L302=4),'3 - SPECIE DA IMPIANTARE'!$R3,\"\")","v":""},null,"",{"$f":"IF(AND($B302=\"AZIONE_1\",$O302=5),'3 - SPECIE DA IMPIANTARE'!$R3,\"\")","v":""},null,"",{"$f":"IF(AND($B302=\"AZIONE_1\",$R302=6),'3 - SPECIE DA IMPIANTARE'!$R3,\"\")","v":""}]
[4,{"$f":"B203","v":""},"",{"$f":"IF(AND($B303=\"AZIONE_1\",C303=1),'3 - SPECIE DA IMPIANTARE'!$R4,\"\")","v":""},null,{"$f":"F203","v":""},{"$f":"IF(AND($B303=\"AZIONE_1\",F303=2),'3 - SPECIE DA IMPIANTARE'!$R4,\"\")","v":""},null,"",{"$f":"IF(AND($B303=\"AZIONE_1\",$I303=3),'3 - SPECIE DA IMPIANTARE'!$R4,\"\")","v":""},null,"",{"$f":"IF(AND($B303=\"AZIONE_1\",$L303=4),'3 - SPECIE DA IMPIANTARE'!$R4,\"\")","v":""},null,"",{"$f":"IF(AND($B303=\"AZIONE_1\",$O303=5),'3 - SPECIE DA IMPIANTARE'!$R4,\"\")","v":""},null,"",{"$f":"IF(AND($B303=\"AZIONE_1\",$R303=6),'3 - SPECIE DA IMPIANTARE'!$R4,\"\")","v":""}]
[4,{"$f":"B204","v":""},"",{"$f":"IF(AND($B304=\"AZIONE_1\",C304=1),'3 - SPECIE DA IMPIANTARE'!$R5,\"\")","v":""},null,{"$f":"F204","v":""},{"$f":"IF(AND($B304=\"AZIONE_1\",F304=2),'3 - SPECIE DA IMPIANTARE'!$R5,\"\")","v":""},null,"",{"$f":"IF(AND($B304=\"AZIONE_1\",$I304=3),'3 - SPECIE DA IMPIANTARE'!$R5,\"\")","v":""},null,"",{"$f":"IF(AND($B304=\"AZIONE_1\",$L304=4),'3 - SPECIE DA IMPIANTARE'!$R5,\"\")","v":""},null,"",{"$f":"IF(AND($B304=\"AZIONE_1\",$O304=5),'3 - SPECIE DA IMPIANTARE'!$R5,\"\")","v":""},null,"",{"$f":"IF(AND($B304=\"AZIONE_1\",$R304=6),'3 - SPECIE DA IMPIANTARE'!$R5,\"\")","v":""}]
[4,{"$f":"B205","v":""},"",{"$f":"IF(AND($B305=\"AZIONE_1\",C305=1),'3 - SPECIE DA IMPIANTARE'!$R6,\"\")","v":""},null,{"$f":"F205","v":""},{"$f":"IF(AND($B305=\"AZIONE_1\",F305=2),'3 - SPECIE DA IMPIANTARE'!$R6,\"\")","v":""},null,"",{"$f":"IF(AND($B305=\"AZIONE_1\",$I305=3),'3 - SPECIE DA IMPIANTARE'!$R6,\"\")","v":""},null,"",{"$f":"IF(AND($B305=\"AZIONE_1\",$L305=4),'3 - SPECIE DA IMPIANTARE'!$R6,\"\")","v":""},null,"",{"$f":"IF(AND($B305=\"AZIONE_1\",$O305=5),'3 - SPECIE DA IMPIANTARE'!$R6,\"\")","v":""},null,"",{"$f":"IF(AND($B305=\"AZIONE_1\",$R305=6),'3 - SPECIE DA IMPIANTARE'!$R6,\"\")","v":""}]
[4,{"$f":"B206","v":""},"",{"$f":"IF(AND($B306=\"AZIONE_1\",C306=1),'3 - SPECIE DA IMPIANTARE'!$R7,\"\")","v":""},null,{"$f":"F206","v":""},{"$f":"IF(AND($B306=\"AZIONE_1\",F306=2),'3 - SPECIE DA IMPIANTARE'!$R7,\"\")","v":""},null,"",{"$f":"IF(AND($B306=\"AZIONE_1\",$I306=3),'3 - SPECIE DA IMPIANTARE'!$R7,\"\")","v":""},null,"",{"$f":"IF(AND($B306=\"AZIONE_1\",$L306=4),'3 - SPECIE DA IMPIANTARE'!$R7,\"\")","v":""},null,"",{"$f":"IF(AND($B306=\"AZIONE_1\",$O306=5),'3 - SPECIE DA IMPIANTARE'!$R7,\"\")","v":""},null,"",{"$f":"IF(AND($B306=\"AZIONE_1\",$R306=6),'3 - SPECIE DA IMPIANTARE'!$R7,\"\")","v":""}]
[4,{"$f":"B207","v":""},"",{"$f":"IF(AND($B307=\"AZIONE_1\",C307=1),'3 - SPECIE DA IMPIANTARE'!$R8,\"\")","v":""},null,{"$f":"F207","v":""},{"$f":"IF(AND($B307=\"AZIONE_1\",F307=2),'3 - SPECIE DA IMPIANTARE'!$R8,\"\")","v":""},null,"",{"$f":"IF(AND($B307=\"AZIONE_1\",$I307=3),'3 - SPECIE DA IMPIANTARE'!$R8,\"\")","v":""},null,"",{"$f":"IF(AND($B307=\"AZIONE_1\",$L307=4),'3 - SPECIE DA IMPIANTARE'!$R8,\"\")","v":""},null,"",{"$f":"IF(AND($B307=\"AZIONE_1\",$O307=5),'3 - SPECIE DA IMPIANTARE'!$R8,\"\")","v":""},null,"",{"$f":"IF(AND($B307=\"AZIONE_1\",$R307=6),'3 - SPECIE DA IMPIANTARE'!$R8,\"\")","v":""}]
[4,{"$f":"B208","v":""},"",{"$f":"IF(AND($B308=\"AZIONE_1\",C308=1),'3 - SPECIE DA IMPIANTARE'!$R9,\"\")","v":""},null,{"$f":"F208","v":""},{"$f":"IF(AND($B308=\"AZIONE_1\",F308=2),'3 - SPECIE DA IMPIANTARE'!$R9,\"\")","v":""},null,"",{"$f":"IF(AND($B308=\"AZIONE_1\",$I308=3),'3 - SPECIE DA IMPIANTARE'!$R9,\"\")","v":""},null,"",{"$f":"IF(AND($B308=\"AZIONE_1\",$L308=4),'3 - SPECIE DA IMPIANTARE'!$R9,\"\")","v":""},null,"",{"$f":"IF(AND($B308=\"AZIONE_1\",$O308=5),'3 - SPECIE DA IMPIANTARE'!$R9,\"\")","v":""},null,"",{"$f":"IF(AND($B308=\"AZIONE_1\",$R308=6),'3 - SPECIE DA IMPIANTARE'!$R9,\"\")","v":""}]
[4,{"$f":"B209","v":""},"",{"$f":"IF(AND($B309=\"AZIONE_1\",C309=1),'3 - SPECIE DA IMPIANTARE'!$R10,\"\")","v":""},null,{"$f":"F209","v":""},{"$f":"IF(AND($B309=\"AZIONE_1\",F309=2),'3 - SPECIE DA IMPIANTARE'!$R10,\"\")","v":""},null,"",{"$f":"IF(AND($B309=\"AZIONE_1\",$I309=3),'3 - SPECIE DA IMPIANTARE'!$R10,\"\")","v":""},null,"",{"$f":"IF(AND($B309=\"AZIONE_1\",$L309=4),'3 - SPECIE DA IMPIANTARE'!$R10,\"\")","v":""},null,"",{"$f":"IF(AND($B309=\"AZIONE_1\",$O309=5),'3 - SPECIE DA IMPIANTARE'!$R10,\"\")","v":""},null,"",{"$f":"IF(AND($B309=\"AZIONE_1\",$R309=6),'3 - SPECIE DA IMPIANTARE'!$R10,\"\")","v":""}]
[4,{"$f":"B210","v":""},"",{"$f":"IF(AND($B310=\"AZIONE_1\",C310=1),'3 - SPECIE DA IMPIANTARE'!$R11,\"\")","v":""},null,{"$f":"F210","v":""},{"$f":"IF(AND($B310=\"AZIONE_1\",F310=2),'3 - SPECIE DA IMPIANTARE'!$R11,\"\")","v":""},null,"",{"$f":"IF(AND($B310=\"AZIONE_1\",$I310=3),'3 - SPECIE DA IMPIANTARE'!$R11,\"\")","v":""},null,"",{"$f":"IF(AND($B310=\"AZIONE_1\",$L310=4),'3 - SPECIE DA IMPIANTARE'!$R11,\"\")","v":""},null,"",{"$f":"IF(AND($B310=\"AZIONE_1\",$O310=5),'3 - SPECIE DA IMPIANTARE'!$R11,\"\")","v":""},null,"",{"$f":"IF(AND($B310=\"AZIONE_1\",$R310=6),'3 - SPECIE DA IMPIANTARE'!$R11,\"\")","v":""}]
[4,{"$f":"B211","v":""},"",{"$f":"IF(AND($B311=\"AZIONE_1\",C311=1),'3 - SPECIE DA IMPIANTARE'!$R12,\"\")","v":""},null,{"$f":"F211","v":""},{"$f":"IF(AND($B311=\"AZIONE_1\",F311=2),'3 - SPECIE DA IMPIANTARE'!$R12,\"\")","v":""},null,"",{"$f":"IF(AND($B311=\"AZIONE_1\",$I311=3),'3 - SPECIE DA IMPIANTARE'!$R12,\"\")","v":""},null,"",{"$f":"IF(AND($B311=\"AZIONE_1\",$L311=4),'3 - SPECIE DA IMPIANTARE'!$R12,\"\")","v":""},null,"",{"$f":"IF(AND($B311=\"AZIONE_1\",$O311=5),'3 - SPECIE DA IMPIANTARE'!$R12,\"\")","v":""},null,"",{"$f":"IF(AND($B311=\"AZIONE_1\",$R311=6),'3 - SPECIE DA IMPIANTARE'!$R12,\"\")","v":""}]
[4,{"$f":"B212","v":""},"",{"$f":"IF(AND($B312=\"AZIONE_1\",C312=1),'3 - SPECIE DA IMPIANTARE'!$R13,\"\")","v":""},null,{"$f":"F212","v":""},{"$f":"IF(AND($B312=\"AZIONE_1\",F312=2),'3 - SPECIE DA IMPIANTARE'!$R13,\"\")","v":""},null,"",{"$f":"IF(AND($B312=\"AZIONE_1\",$I312=3),'3 - SPECIE DA IMPIANTARE'!$R13,\"\")","v":""},null,"",{"$f":"IF(AND($B312=\"AZIONE_1\",$L312=4),'3 - SPECIE DA IMPIANTARE'!$R13,\"\")","v":""},null,"",{"$f":"IF(AND($B312=\"AZIONE_1\",$O312=5),'3 - SPECIE DA IMPIANTARE'!$R13,\"\")","v":""},null,"",{"$f":"IF(AND($B312=\"AZIONE_1\",$R312=6),'3 - SPECIE DA IMPIANTARE'!$R13,\"\")","v":""}]
[4,{"$f":"B213","v":""},"",{"$f":"IF(AND($B313=\"AZIONE_1\",C313=1),'3 - SPECIE DA IMPIANTARE'!$R14,\"\")","v":""},null,{"$f":"F213","v":""},{"$f":"IF(AND($B313=\"AZIONE_1\",F313=2),'3 - SPECIE DA IMPIANTARE'!$R14,\"\")","v":""},null,"",{"$f":"IF(AND($B313=\"AZIONE_1\",$I313=3),'3 - SPECIE DA IMPIANTARE'!$R14,\"\")","v":""},null,"",{"$f":"IF(AND($B313=\"AZIONE_1\",$L313=4),'3 - SPECIE DA IMPIANTARE'!$R14,\"\")","v":""},null,"",{"$f":"IF(AND($B313=\"AZIONE_1\",$O313=5),'3 - SPECIE DA IMPIANTARE'!$R14,\"\")","v":""},null,"",{"$f":"IF(AND($B313=\"AZIONE_1\",$R313=6),'3 - SPECIE DA IMPIANTARE'!$R14,\"\")","v":""}]
[4,{"$f":"B214","v":""},"",{"$f":"IF(AND($B314=\"AZIONE_1\",C314=1),'3 - SPECIE DA IMPIANTARE'!$R15,\"\")","v":""},null,{"$f":"F214","v":""},{"$f":"IF(AND($B314=\"AZIONE_1\",F314=2),'3 - SPECIE DA IMPIANTARE'!$R15,\"\")","v":""},null,"",{"$f":"IF(AND($B314=\"AZIONE_1\",$I314=3),'3 - SPECIE DA IMPIANTARE'!$R15,\"\")","v":""},null,"",{"$f":"IF(AND($B314=\"AZIONE_1\",$L314=4),'3 - SPECIE DA IMPIANTARE'!$R15,\"\")","v":""},null,"",{"$f":"IF(AND($B314=\"AZIONE_1\",$O314=5),'3 - SPECIE DA IMPIANTARE'!$R15,\"\")","v":""},null,"",{"$f":"IF(AND($B314=\"AZIONE_1\",$R314=6),'3 - SPECIE DA IMPIANTARE'!$R15,\"\")","v":""}]
[4,{"$f":"B215","v":""},"",{"$f":"IF(AND($B315=\"AZIONE_1\",C315=1),'3 - SPECIE DA IMPIANTARE'!$R16,\"\")","v":""},null,{"$f":"F215","v":""},{"$f":"IF(AND($B315=\"AZIONE_1\",F315=2),'3 - SPECIE DA IMPIANTARE'!$R16,\"\")","v":""},null,"",{"$f":"IF(AND($B315=\"AZIONE_1\",$I315=3),'3 - SPECIE DA IMPIANTARE'!$R16,\"\")","v":""},null,"",{"$f":"IF(AND($B315=\"AZIONE_1\",$L315=4),'3 - SPECIE DA IMPIANTARE'!$R16,\"\")","v":""},null,"",{"$f":"IF(AND($B315=\"AZIONE_1\",$O315=5),'3 - SPECIE DA IMPIANTARE'!$R16,\"\")","v":""},null,"",{"$f":"IF(AND($B315=\"AZIONE_1\",$R315=6),'3 - SPECIE DA IMPIANTARE'!$R16,\"\")","v":""}]
[4,{"$f":"B216","v":""},"",{"$f":"IF(AND($B316=\"AZIONE_1\",C316=1),'3 - SPECIE DA IMPIANTARE'!$R17,\"\")","v":""},null,{"$f":"F216","v":""},{"$f":"IF(AND($B316=\"AZIONE_1\",F316=2),'3 - SPECIE DA IMPIANTARE'!$R17,\"\")","v":""},null,"",{"$f":"IF(AND($B316=\"AZIONE_1\",$I316=3),'3 - SPECIE DA IMPIANTARE'!$R17,\"\")","v":""},null,"",{"$f":"IF(AND($B316=\"AZIONE_1\",$L316=4),'3 - SPECIE DA IMPIANTARE'!$R17,\"\")","v":""},null,"",{"$f":"IF(AND($B316=\"AZIONE_1\",$O316=5),'3 - SPECIE DA IMPIANTARE'!$R17,\"\")","v":""},null,"",{"$f":"IF(AND($B316=\"AZIONE_1\",$R316=6),'3 - SPECIE DA IMPIANTARE'!$R17,\"\")","v":""}]
[4,{"$f":"B217","v":""},"",{"$f":"IF(AND($B317=\"AZIONE_1\",C317=1),'3 - SPECIE DA IMPIANTARE'!$R18,\"\")","v":""},null,{"$f":"F217","v":""},{"$f":"IF(AND($B317=\"AZIONE_1\",F317=2),'3 - SPECIE DA IMPIANTARE'!$R18,\"\")","v":""},null,"",{"$f":"IF(AND($B317=\"AZIONE_1\",$I317=3),'3 - SPECIE DA IMPIANTARE'!$R18,\"\")","v":""},null,"",{"$f":"IF(AND($B317=\"AZIONE_1\",$L317=4),'3 - SPECIE DA IMPIANTARE'!$R18,\"\")","v":""},null,"",{"$f":"IF(AND($B317=\"AZIONE_1\",$O317=5),'3 - SPECIE DA IMPIANTARE'!$R18,\"\")","v":""},null,"",{"$f":"IF(AND($B317=\"AZIONE_1\",$R317=6),'3 - SPECIE DA IMPIANTARE'!$R18,\"\")","v":""}]
[4,{"$f":"B218","v":""},"",{"$f":"IF(AND($B318=\"AZIONE_1\",C318=1),'3 - SPECIE DA IMPIANTARE'!$R19,\"\")","v":""},null,{"$f":"F218","v":""},{"$f":"IF(AND($B318=\"AZIONE_1\",F318=2),'3 - SPECIE DA IMPIANTARE'!$R19,\"\")","v":""},null,"",{"$f":"IF(AND($B318=\"AZIONE_1\",$I318=3),'3 - SPECIE DA IMPIANTARE'!$R19,\"\")","v":""},null,"",{"$f":"IF(AND($B318=\"AZIONE_1\",$L318=4),'3 - SPECIE DA IMPIANTARE'!$R19,\"\")","v":""},null,"",{"$f":"IF(AND($B318=\"AZIONE_1\",$O318=5),'3 - SPECIE DA IMPIANTARE'!$R19,\"\")","v":""},null,"",{"$f":"IF(AND($B318=\"AZIONE_1\",$R318=6),'3 - SPECIE DA IMPIANTARE'!$R19,\"\")","v":""}]
[4,{"$f":"B219","v":""},"",{"$f":"IF(AND($B319=\"AZIONE_1\",C319=1),'3 - SPECIE DA IMPIANTARE'!$R20,\"\")","v":""},null,{"$f":"F219","v":""},{"$f":"IF(AND($B319=\"AZIONE_1\",F319=2),'3 - SPECIE DA IMPIANTARE'!$R20,\"\")","v":""},null,"",{"$f":"IF(AND($B319=\"AZIONE_1\",$I319=3),'3 - SPECIE DA IMPIANTARE'!$R20,\"\")","v":""},null,"",{"$f":"IF(AND($B319=\"AZIONE_1\",$L319=4),'3 - SPECIE DA IMPIANTARE'!$R20,\"\")","v":""},null,"",{"$f":"IF(AND($B319=\"AZIONE_1\",$O319=5),'3 - SPECIE DA IMPIANTARE'!$R20,\"\")","v":""},null,"",{"$f":"IF(AND($B319=\"AZIONE_1\",$R319=6),'3 - SPECIE DA IMPIANTARE'!$R20,\"\")","v":""}]
[4,{"$f":"B220","v":""},"",{"$f":"IF(AND($B320=\"AZIONE_1\",C320=1),'3 - SPECIE DA IMPIANTARE'!$R21,\"\")","v":""},null,{"$f":"F220","v":""},{"$f":"IF(AND($B320=\"AZIONE_1\",F320=2),'3 - SPECIE DA IMPIANTARE'!$R21,\"\")","v":""},null,"",{"$f":"IF(AND($B320=\"AZIONE_1\",$I320=3),'3 - SPECIE DA IMPIANTARE'!$R21,\"\")","v":""},null,"",{"$f":"IF(AND($B320=\"AZIONE_1\",$L320=4),'3 - SPECIE DA IMPIANTARE'!$R21,\"\")","v":""},null,"",{"$f":"IF(AND($B320=\"AZIONE_1\",$O320=5),'3 - SPECIE DA IMPIANTARE'!$R21,\"\")","v":""},null,"",{"$f":"IF(AND($B320=\"AZIONE_1\",$R320=6),'3 - SPECIE DA IMPIANTARE'!$R21,\"\")","v":""}]
[4,{"$f":"B221","v":""},"",{"$f":"IF(AND($B321=\"AZIONE_1\",C321=1),'3 - SPECIE DA IMPIANTARE'!$R22,\"\")","v":""},null,{"$f":"F221","v":""},{"$f":"IF(AND($B321=\"AZIONE_1\",F321=2),'3 - SPECIE DA IMPIANTARE'!$R22,\"\")","v":""},null,"",{"$f":"IF(AND($B321=\"AZIONE_1\",$I321=3),'3 - SPECIE DA IMPIANTARE'!$R22,\"\")","v":""},null,"",{"$f":"IF(AND($B321=\"AZIONE_1\",$L321=4),'3 - SPECIE DA IMPIANTARE'!$R22,\"\")","v":""},null,"",{"$f":"IF(AND($B321=\"AZIONE_1\",$O321=5),'3 - SPECIE DA IMPIANTARE'!$R22,\"\")","v":""},null,"",{"$f":"IF(AND($B321=\"AZIONE_1\",$R321=6),'3 - SPECIE DA IMPIANTARE'!$R22,\"\")","v":""}]
[4,{"$f":"B222","v":""},"",{"$f":"IF(AND($B322=\"AZIONE_1\",C322=1),'3 - SPECIE DA IMPIANTARE'!$R23,\"\")","v":""},null,{"$f":"F222","v":""},{"$f":"IF(AND($B322=\"AZIONE_1\",F322=2),'3 - SPECIE DA IMPIANTARE'!$R23,\"\")","v":""},null,"",{"$f":"IF(AND($B322=\"AZIONE_1\",$I322=3),'3 - SPECIE DA IMPIANTARE'!$R23,\"\")","v":""},null,"",{"$f":"IF(AND($B322=\"AZIONE_1\",$L322=4),'3 - SPECIE DA IMPIANTARE'!$R23,\"\")","v":""},null,"",{"$f":"IF(AND($B322=\"AZIONE_1\",$O322=5),'3 - SPECIE DA IMPIANTARE'!$R23,\"\")","v":""},null,"",{"$f":"IF(AND($B322=\"AZIONE_1\",$R322=6),'3 - SPECIE DA IMPIANTARE'!$R23,\"\")","v":""}]
[4,{"$f":"B223","v":""},"",{"$f":"IF(AND($B323=\"AZIONE_1\",C323=1),'3 - SPECIE DA IMPIANTARE'!$R24,\"\")","v":""},null,{"$f":"F223","v":""},{"$f":"IF(AND($B323=\"AZIONE_1\",F323=2),'3 - SPECIE DA IMPIANTARE'!$R24,\"\")","v":""},null,"",{"$f":"IF(AND($B323=\"AZIONE_1\",$I323=3),'3 - SPECIE DA IMPIANTARE'!$R24,\"\")","v":""},null,"",{"$f":"IF(AND($B323=\"AZIONE_1\",$L323=4),'3 - SPECIE DA IMPIANTARE'!$R24,\"\")","v":""},null,"",{"$f":"IF(AND($B323=\"AZIONE_1\",$O323=5),'3 - SPECIE DA IMPIANTARE'!$R24,\"\")","v":""},null,"",{"$f":"IF(AND($B323=\"AZIONE_1\",$R323=6),'3 - SPECIE DA IMPIANTARE'!$R24,\"\")","v":""}]
[4,{"$f":"B224","v":""},"",{"$f":"IF(AND($B324=\"AZIONE_1\",C324=1),'3 - SPECIE DA IMPIANTARE'!$R25,\"\")","v":""},null,{"$f":"F224","v":""},{"$f":"IF(AND($B324=\"AZIONE_1\",F324=2),'3 - SPECIE DA IMPIANTARE'!$R25,\"\")","v":""},null,"",{"$f":"IF(AND($B324=\"AZIONE_1\",$I324=3),'3 - SPECIE DA IMPIANTARE'!$R25,\"\")","v":""},null,"",{"$f":"IF(AND($B324=\"AZIONE_1\",$L324=4),'3 - SPECIE DA IMPIANTARE'!$R25,\"\")","v":""},null,"",{"$f":"IF(AND($B324=\"AZIONE_1\",$O324=5),'3 - SPECIE DA IMPIANTARE'!$R25,\"\")","v":""},null,"",{"$f":"IF(AND($B324=\"AZIONE_1\",$R324=6),'3 - SPECIE DA IMPIANTARE'!$R25,\"\")","v":""}]
[4,{"$f":"B225","v":""},"",{"$f":"IF(AND($B325=\"AZIONE_1\",C325=1),'3 - SPECIE DA IMPIANTARE'!$R26,\"\")","v":""},null,{"$f":"F225","v":""},{"$f":"IF(AND($B325=\"AZIONE_1\",F325=2),'3 - SPECIE DA IMPIANTARE'!$R26,\"\")","v":""},null,"",{"$f":"IF(AND($B325=\"AZIONE_1\",$I325=3),'3 - SPECIE DA IMPIANTARE'!$R26,\"\")","v":""},null,"",{"$f":"IF(AND($B325=\"AZIONE_1\",$L325=4),'3 - SPECIE DA IMPIANTARE'!$R26,\"\")","v":""},null,"",{"$f":"IF(AND($B325=\"AZIONE_1\",$O325=5),'3 - SPECIE DA IMPIANTARE'!$R26,\"\")","v":""},null,"",{"$f":"IF(AND($B325=\"AZIONE_1\",$R325=6),'3 - SPECIE DA IMPIANTARE'!$R26,\"\")","v":""}]
[4,{"$f":"B226","v":""},"",{"$f":"IF(AND($B326=\"AZIONE_1\",C326=1),'3 - SPECIE DA IMPIANTARE'!$R27,\"\")","v":""},null,{"$f":"F226","v":""},{"$f":"IF(AND($B326=\"AZIONE_1\",F326=2),'3 - SPECIE DA IMPIANTARE'!$R27,\"\")","v":""},null,"",{"$f":"IF(AND($B326=\"AZIONE_1\",$I326=3),'3 - SPECIE DA IMPIANTARE'!$R27,\"\")","v":""},null,"",{"$f":"IF(AND($B326=\"AZIONE_1\",$L326=4),'3 - SPECIE DA IMPIANTARE'!$R27,\"\")","v":""},null,"",{"$f":"IF(AND($B326=\"AZIONE_1\",$O326=5),'3 - SPECIE DA IMPIANTARE'!$R27,\"\")","v":""},null,"",{"$f":"IF(AND($B326=\"AZIONE_1\",$R326=6),'3 - SPECIE DA IMPIANTARE'!$R27,\"\")","v":""}]
[4,{"$f":"B227","v":""},"",{"$f":"IF(AND($B327=\"AZIONE_1\",C327=1),'3 - SPECIE DA IMPIANTARE'!$R28,\"\")","v":""},null,{"$f":"F227","v":""},{"$f":"IF(AND($B327=\"AZIONE_1\",F327=2),'3 - SPECIE DA IMPIANTARE'!$R28,\"\")","v":""},null,"",{"$f":"IF(AND($B327=\"AZIONE_1\",$I327=3),'3 - SPECIE DA IMPIANTARE'!$R28,\"\")","v":""},null,"",{"$f":"IF(AND($B327=\"AZIONE_1\",$L327=4),'3 - SPECIE DA IMPIANTARE'!$R28,\"\")","v":""},null,"",{"$f":"IF(AND($B327=\"AZIONE_1\",$O327=5),'3 - SPECIE DA IMPIANTARE'!$R28,\"\")","v":""},null,"",{"$f":"IF(AND($B327=\"AZIONE_1\",$R327=6),'3 - SPECIE DA IMPIANTARE'!$R28,\"\")","v":""}]
[4,{"$f":"B228","v":""},"",{"$f":"IF(AND($B328=\"AZIONE_1\",C328=1),'3 - SPECIE DA IMPIANTARE'!$R29,\"\")","v":""},null,{"$f":"F228","v":""},{"$f":"IF(AND($B328=\"AZIONE_1\",F328=2),'3 - SPECIE DA IMPIANTARE'!$R29,\"\")","v":""},null,"",{"$f":"IF(AND($B328=\"AZIONE_1\",$I328=3),'3 - SPECIE DA IMPIANTARE'!$R29,\"\")","v":""},null,"",{"$f":"IF(AND($B328=\"AZIONE_1\",$L328=4),'3 - SPECIE DA IMPIANTARE'!$R29,\"\")","v":""},null,"",{"$f":"IF(AND($B328=\"AZIONE_1\",$O328=5),'3 - SPECIE DA IMPIANTARE'!$R29,\"\")","v":""},null,"",{"$f":"IF(AND($B328=\"AZIONE_1\",$R328=6),'3 - SPECIE DA IMPIANTARE'!$R29,\"\")","v":""}]
[4,{"$f":"B229","v":""},"",{"$f":"IF(AND($B329=\"AZIONE_1\",C329=1),'3 - SPECIE DA IMPIANTARE'!$R30,\"\")","v":""},null,{"$f":"F229","v":""},{"$f":"IF(AND($B329=\"AZIONE_1\",F329=2),'3 - SPECIE DA IMPIANTARE'!$R30,\"\")","v":""},null,"",{"$f":"IF(AND($B329=\"AZIONE_1\",$I329=3),'3 - SPECIE DA IMPIANTARE'!$R30,\"\")","v":""},null,"",{"$f":"IF(AND($B329=\"AZIONE_1\",$L329=4),'3 - SPECIE DA IMPIANTARE'!$R30,\"\")","v":""},null,"",{"$f":"IF(AND($B329=\"AZIONE_1\",$O329=5),'3 - SPECIE DA IMPIANTARE'!$R30,\"\")","v":""},null,"",{"$f":"IF(AND($B329=\"AZIONE_1\",$R329=6),'3 - SPECIE DA IMPIANTARE'!$R30,\"\")","v":""}]
[4,{"$f":"B230","v":""},"",{"$f":"IF(AND($B330=\"AZIONE_1\",C330=1),'3 - SPECIE DA IMPIANTARE'!$R31,\"\")","v":""},null,{"$f":"F230","v":""},{"$f":"IF(AND($B330=\"AZIONE_1\",F330=2),'3 - SPECIE DA IMPIANTARE'!$R31,\"\")","v":""},null,"",{"$f":"IF(AND($B330=\"AZIONE_1\",$I330=3),'3 - SPECIE DA IMPIANTARE'!$R31,\"\")","v":""},null,"",{"$f":"IF(AND($B330=\"AZIONE_1\",$L330=4),'3 - SPECIE DA IMPIANTARE'!$R31,\"\")","v":""},null,"",{"$f":"IF(AND($B330=\"AZIONE_1\",$O330=5),'3 - SPECIE DA IMPIANTARE'!$R31,\"\")","v":""},null,"",{"$f":"IF(AND($B330=\"AZIONE_1\",$R330=6),'3 - SPECIE DA IMPIANTARE'!$R31,\"\")","v":""}]
[4,{"$f":"B231","v":""},"",{"$f":"IF(AND($B331=\"AZIONE_1\",C331=1),'3 - SPECIE DA IMPIANTARE'!$R32,\"\")","v":""},null,{"$f":"F231","v":""},{"$f":"IF(AND($B331=\"AZIONE_1\",F331=2),'3 - SPECIE DA IMPIANTARE'!$R32,\"\")","v":""},null,"",{"$f":"IF(AND($B331=\"AZIONE_1\",$I331=3),'3 - SPECIE DA IMPIANTARE'!$R32,\"\")","v":""},null,"",{"$f":"IF(AND($B331=\"AZIONE_1\",$L331=4),'3 - SPECIE DA IMPIANTARE'!$R32,\"\")","v":""},null,"",{"$f":"IF(AND($B331=\"AZIONE_1\",$O331=5),'3 - SPECIE DA IMPIANTARE'!$R32,\"\")","v":""},null,"",{"$f":"IF(AND($B331=\"AZIONE_1\",$R331=6),'3 - SPECIE DA IMPIANTARE'!$R32,\"\")","v":""}]
[4,{"$f":"B232","v":""},"",{"$f":"IF(AND($B332=\"AZIONE_1\",C332=1),'3 - SPECIE DA IMPIANTARE'!$R33,\"\")","v":""},null,{"$f":"F232","v":""},{"$f":"IF(AND($B332=\"AZIONE_1\",F332=2),'3 - SPECIE DA IMPIANTARE'!$R33,\"\")","v":""},null,"",{"$f":"IF(AND($B332=\"AZIONE_1\",$I332=3),'3 - SPECIE DA IMPIANTARE'!$R33,\"\")","v":""},null,"",{"$f":"IF(AND($B332=\"AZIONE_1\",$L332=4),'3 - SPECIE DA IMPIANTARE'!$R33,\"\")","v":""},null,"",{"$f":"IF(AND($B332=\"AZIONE_1\",$O332=5),'3 - SPECIE DA IMPIANTARE'!$R33,\"\")","v":""},null,"",{"$f":"IF(AND($B332=\"AZIONE_1\",$R332=6),'3 - SPECIE DA IMPIANTARE'!$R33,\"\")","v":""}]
[4,{"$f":"B233","v":""},"",{"$f":"IF(AND($B333=\"AZIONE_1\",C333=1),'3 - SPECIE DA IMPIANTARE'!$R34,\"\")","v":""},null,{"$f":"F233","v":""},{"$f":"IF(AND($B333=\"AZIONE_1\",F333=2),'3 - SPECIE DA IMPIANTARE'!$R34,\"\")","v":""},null,"",{"$f":"IF(AND($B333=\"AZIONE_1\",$I333=3),'3 - SPECIE DA IMPIANTARE'!$R34,\"\")","v":""},null,"",{"$f":"IF(AND($B333=\"AZIONE_1\",$L333=4),'3 - SPECIE DA IMPIANTARE'!$R34,\"\")","v":""},null,"",{"$f":"IF(AND($B333=\"AZIONE_1\",$O333=5),'3 - SPECIE DA IMPIANTARE'!$R34,\"\")","v":""},null,"",{"$f":"IF(AND($B333=\"AZIONE_1\",$R333=6),'3 - SPECIE DA IMPIANTARE'!$R34,\"\")","v":""}]
[4,{"$f":"B234","v":""},"",{"$f":"IF(AND($B334=\"AZIONE_1\",C334=1),'3 - SPECIE DA IMPIANTARE'!$R35,\"\")","v":""},null,{"$f":"F234","v":""},{"$f":"IF(AND($B334=\"AZIONE_1\",F334=2),'3 - SPECIE DA IMPIANTARE'!$R35,\"\")","v":""},null,"",{"$f":"IF(AND($B334=\"AZIONE_1\",$I334=3),'3 - SPECIE DA IMPIANTARE'!$R35,\"\")","v":""},null,"",{"$f":"IF(AND($B334=\"AZIONE_1\",$L334=4),'3 - SPECIE DA IMPIANTARE'!$R35,\"\")","v":""},null,"",{"$f":"IF(AND($B334=\"AZIONE_1\",$O334=5),'3 - SPECIE DA IMPIANTARE'!$R35,\"\")","v":""},null,"",{"$f":"IF(AND($B334=\"AZIONE_1\",$R334=6),'3 - SPECIE DA IMPIANTARE'!$R35,\"\")","v":""}]
[4,{"$f":"B235","v":""},"",{"$f":"IF(AND($B335=\"AZIONE_1\",C335=1),'3 - SPECIE DA IMPIANTARE'!$R36,\"\")","v":""},null,{"$f":"F235","v":""},{"$f":"IF(AND($B335=\"AZIONE_1\",F335=2),'3 - SPECIE DA IMPIANTARE'!$R36,\"\")","v":""},null,"",{"$f":"IF(AND($B335=\"AZIONE_1\",$I335=3),'3 - SPECIE DA IMPIANTARE'!$R36,\"\")","v":""},null,"",{"$f":"IF(AND($B335=\"AZIONE_1\",$L335=4),'3 - SPECIE DA IMPIANTARE'!$R36,\"\")","v":""},null,"",{"$f":"IF(AND($B335=\"AZIONE_1\",$O335=5),'3 - SPECIE DA IMPIANTARE'!$R36,\"\")","v":""},null,"",{"$f":"IF(AND($B335=\"AZIONE_1\",$R335=6),'3 - SPECIE DA IMPIANTARE'!$R36,\"\")","v":""}]
[4,{"$f":"B236","v":""},"",{"$f":"IF(AND($B336=\"AZIONE_1\",C336=1),'3 - SPECIE DA IMPIANTARE'!$R37,\"\")","v":""},null,{"$f":"F236","v":""},{"$f":"IF(AND($B336=\"AZIONE_1\",F336=2),'3 - SPECIE DA IMPIANTARE'!$R37,\"\")","v":""},null,"",{"$f":"IF(AND($B336=\"AZIONE_1\",$I336=3),'3 - SPECIE DA IMPIANTARE'!$R37,\"\")","v":""},null,"",{"$f":"IF(AND($B336=\"AZIONE_1\",$L336=4),'3 - SPECIE DA IMPIANTARE'!$R37,\"\")","v":""},null,"",{"$f":"IF(AND($B336=\"AZIONE_1\",$O336=5),'3 - SPECIE DA IMPIANTARE'!$R37,\"\")","v":""},null,"",{"$f":"IF(AND($B336=\"AZIONE_1\",$R336=6),'3 - SPECIE DA IMPIANTARE'!$R37,\"\")","v":""}]
[4,{"$f":"B237","v":""},"",{"$f":"IF(AND($B337=\"AZIONE_1\",C337=1),'3 - SPECIE DA IMPIANTARE'!$R38,\"\")","v":""},null,{"$f":"F237","v":""},{"$f":"IF(AND($B337=\"AZIONE_1\",F337=2),'3 - SPECIE DA IMPIANTARE'!$R38,\"\")","v":""},null,"",{"$f":"IF(AND($B337=\"AZIONE_1\",$I337=3),'3 - SPECIE DA IMPIANTARE'!$R38,\"\")","v":""},null,"",{"$f":"IF(AND($B337=\"AZIONE_1\",$L337=4),'3 - SPECIE DA IMPIANTARE'!$R38,\"\")","v":""},null,"",{"$f":"IF(AND($B337=\"AZIONE_1\",$O337=5),'3 - SPECIE DA IMPIANTARE'!$R38,\"\")","v":""},null,"",{"$f":"IF(AND($B337=\"AZIONE_1\",$R337=6),'3 - SPECIE DA IMPIANTARE'!$R38,\"\")","v":""}]
[4,{"$f":"B238","v":""},"",{"$f":"IF(AND($B338=\"AZIONE_1\",C338=1),'3 - SPECIE DA IMPIANTARE'!$R39,\"\")","v":""},null,{"$f":"F238","v":""},{"$f":"IF(AND($B338=\"AZIONE_1\",F338=2),'3 - SPECIE DA IMPIANTARE'!$R39,\"\")","v":""},null,"",{"$f":"IF(AND($B338=\"AZIONE_1\",$I338=3),'3 - SPECIE DA IMPIANTARE'!$R39,\"\")","v":""},null,"",{"$f":"IF(AND($B338=\"AZIONE_1\",$L338=4),'3 - SPECIE DA IMPIANTARE'!$R39,\"\")","v":""},null,"",{"$f":"IF(AND($B338=\"AZIONE_1\",$O338=5),'3 - SPECIE DA IMPIANTARE'!$R39,\"\")","v":""},null,"",{"$f":"IF(AND($B338=\"AZIONE_1\",$R338=6),'3 - SPECIE DA IMPIANTARE'!$R39,\"\")","v":""}]
[4,{"$f":"B239","v":""},"",{"$f":"IF(AND($B339=\"AZIONE_1\",C339=1),'3 - SPECIE DA IMPIANTARE'!$R40,\"\")","v":""},null,{"$f":"F239","v":""},{"$f":"IF(AND($B339=\"AZIONE_1\",F339=2),'3 - SPECIE DA IMPIANTARE'!$R40,\"\")","v":""},null,"",{"$f":"IF(AND($B339=\"AZIONE_1\",$I339=3),'3 - SPECIE DA IMPIANTARE'!$R40,\"\")","v":""},null,"",{"$f":"IF(AND($B339=\"AZIONE_1\",$L339=4),'3 - SPECIE DA IMPIANTARE'!$R40,\"\")","v":""},null,"",{"$f":"IF(AND($B339=\"AZIONE_1\",$O339=5),'3 - SPECIE DA IMPIANTARE'!$R40,\"\")","v":""},null,"",{"$f":"IF(AND($B339=\"AZIONE_1\",$R339=6),'3 - SPECIE DA IMPIANTARE'!$R40,\"\")","v":""}]
[4,{"$f":"B240","v":""},"",{"$f":"IF(AND($B340=\"AZIONE_1\",C340=1),'3 - SPECIE DA IMPIANTARE'!$R41,\"\")","v":""},null,{"$f":"F240","v":""},{"$f":"IF(AND($B340=\"AZIONE_1\",F340=2),'3 - SPECIE DA IMPIANTARE'!$R41,\"\")","v":""},null,"",{"$f":"IF(AND($B340=\"AZIONE_1\",$I340=3),'3 - SPECIE DA IMPIANTARE'!$R41,\"\")","v":""},null,"",{"$f":"IF(AND($B340=\"AZIONE_1\",$L340=4),'3 - SPECIE DA IMPIANTARE'!$R41,\"\")","v":""},null,"",{"$f":"IF(AND($B340=\"AZIONE_1\",$O340=5),'3 - SPECIE DA IMPIANTARE'!$R41,\"\")","v":""},null,"",{"$f":"IF(AND($B340=\"AZIONE_1\",$R340=6),'3 - SPECIE DA IMPIANTARE'!$R41,\"\")","v":""}]
[4,{"$f":"B241","v":""},"",{"$f":"IF(AND($B341=\"AZIONE_1\",C341=1),'3 - SPECIE DA IMPIANTARE'!$R42,\"\")","v":""},null,{"$f":"F241","v":""},{"$f":"IF(AND($B341=\"AZIONE_1\",F341=2),'3 - SPECIE DA IMPIANTARE'!$R42,\"\")","v":""},null,"",{"$f":"IF(AND($B341=\"AZIONE_1\",$I341=3),'3 - SPECIE DA IMPIANTARE'!$R42,\"\")","v":""},null,"",{"$f":"IF(AND($B341=\"AZIONE_1\",$L341=4),'3 - SPECIE DA IMPIANTARE'!$R42,\"\")","v":""},null,"",{"$f":"IF(AND($B341=\"AZIONE_1\",$O341=5),'3 - SPECIE DA IMPIANTARE'!$R42,\"\")","v":""},null,"",{"$f":"IF(AND($B341=\"AZIONE_1\",$R341=6),'3 - SPECIE DA IMPIANTARE'!$R42,\"\")","v":""}]
[4,{"$f":"B242","v":""},"",{"$f":"IF(AND($B342=\"AZIONE_1\",C342=1),'3 - SPECIE DA IMPIANTARE'!$R43,\"\")","v":""},null,{"$f":"F242","v":""},{"$f":"IF(AND($B342=\"AZIONE_1\",F342=2),'3 - SPECIE DA IMPIANTARE'!$R43,\"\")","v":""},null,"",{"$f":"IF(AND($B342=\"AZIONE_1\",$I342=3),'3 - SPECIE DA IMPIANTARE'!$R43,\"\")","v":""},null,"",{"$f":"IF(AND($B342=\"AZIONE_1\",$L342=4),'3 - SPECIE DA IMPIANTARE'!$R43,\"\")","v":""},null,"",{"$f":"IF(AND($B342=\"AZIONE_1\",$O342=5),'3 - SPECIE DA IMPIANTARE'!$R43,\"\")","v":""},null,"",{"$f":"IF(AND($B342=\"AZIONE_1\",$R342=6),'3 - SPECIE DA IMPIANTARE'!$R43,\"\")","v":""}]
[4,{"$f":"B243","v":""},"",{"$f":"IF(AND($B343=\"AZIONE_1\",C343=1),'3 - SPECIE DA IMPIANTARE'!$R44,\"\")","v":""},null,{"$f":"F243","v":""},{"$f":"IF(AND($B343=\"AZIONE_1\",F343=2),'3 - SPECIE DA IMPIANTARE'!$R44,\"\")","v":""},null,"",{"$f":"IF(AND($B343=\"AZIONE_1\",$I343=3),'3 - SPECIE DA IMPIANTARE'!$R44,\"\")","v":""},null,"",{"$f":"IF(AND($B343=\"AZIONE_1\",$L343=4),'3 - SPECIE DA IMPIANTARE'!$R44,\"\")","v":""},null,"",{"$f":"IF(AND($B343=\"AZIONE_1\",$O343=5),'3 - SPECIE DA IMPIANTARE'!$R44,\"\")","v":""},null,"",{"$f":"IF(AND($B343=\"AZIONE_1\",$R343=6),'3 - SPECIE DA IMPIANTARE'!$R44,\"\")","v":""}]
[4,{"$f":"B244","v":""},"",{"$f":"IF(AND($B344=\"AZIONE_1\",C344=1),'3 - SPECIE DA IMPIANTARE'!$R45,\"\")","v":""},null,{"$f":"F244","v":""},{"$f":"IF(AND($B344=\"AZIONE_1\",F344=2),'3 - SPECIE DA IMPIANTARE'!$R45,\"\")","v":""},null,"",{"$f":"IF(AND($B344=\"AZIONE_1\",$I344=3),'3 - SPECIE DA IMPIANTARE'!$R45,\"\")","v":""},null,"",{"$f":"IF(AND($B344=\"AZIONE_1\",$L344=4),'3 - SPECIE DA IMPIANTARE'!$R45,\"\")","v":""},null,"",{"$f":"IF(AND($B344=\"AZIONE_1\",$O344=5),'3 - SPECIE DA IMPIANTARE'!$R45,\"\")","v":""},null,"",{"$f":"IF(AND($B344=\"AZIONE_1\",$R344=6),'3 - SPECIE DA IMPIANTARE'!$R45,\"\")","v":""}]
[4,{"$f":"B245","v":""},"",{"$f":"IF(AND($B345=\"AZIONE_1\",C345=1),'3 - SPECIE DA IMPIANTARE'!$R46,\"\")","v":""},null,{"$f":"F245","v":""},{"$f":"IF(AND($B345=\"AZIONE_1\",F345=2),'3 - SPECIE DA IMPIANTARE'!$R46,\"\")","v":""},null,"",{"$f":"IF(AND($B345=\"AZIONE_1\",$I345=3),'3 - SPECIE DA IMPIANTARE'!$R46,\"\")","v":""},null,"",{"$f":"IF(AND($B345=\"AZIONE_1\",$L345=4),'3 - SPECIE DA IMPIANTARE'!$R46,\"\")","v":""},null,"",{"$f":"IF(AND($B345=\"AZIONE_1\",$O345=5),'3 - SPECIE DA IMPIANTARE'!$R46,\"\")","v":""},null,"",{"$f":"IF(AND($B345=\"AZIONE_1\",$R345=6),'3 - SPECIE DA IMPIANTARE'!$R46,\"\")","v":""}]
[4,{"$f":"B246","v":""},"",{"$f":"IF(AND($B346=\"AZIONE_1\",C346=1),'3 - SPECIE DA IMPIANTARE'!$R47,\"\")","v":""},null,{"$f":"F246","v":""},{"$f":"IF(AND($B346=\"AZIONE_1\",F346=2),'3 - SPECIE DA IMPIANTARE'!$R47,\"\")","v":""},null,"",{"$f":"IF(AND($B346=\"AZIONE_1\",$I346=3),'3 - SPECIE DA IMPIANTARE'!$R47,\"\")","v":""},null,"",{"$f":"IF(AND($B346=\"AZIONE_1\",$L346=4),'3 - SPECIE DA IMPIANTARE'!$R47,\"\")","v":""},null,"",{"$f":"IF(AND($B346=\"AZIONE_1\",$O346=5),'3 - SPECIE DA IMPIANTARE'!$R47,\"\")","v":""},null,"",{"$f":"IF(AND($B346=\"AZIONE_1\",$R346=6),'3 - SPECIE DA IMPIANTARE'!$R47,\"\")","v":""}]
[4,{"$f":"B247","v":""},"",{"$f":"IF(AND($B347=\"AZIONE_1\",C347=1),'3 - SPECIE DA IMPIANTARE'!$R48,\"\")","v":""},null,{"$f":"F247","v":""},{"$f":"IF(AND($B347=\"AZIONE_1\",F347=2),'3 - SPECIE DA IMPIANTARE'!$R48,\"\")","v":""},null,"",{"$f":"IF(AND($B347=\"AZIONE_1\",$I347=3),'3 - SPECIE DA IMPIANTARE'!$R48,\"\")","v":""},null,"",{"$f":"IF(AND($B347=\"AZIONE_1\",$L347=4),'3 - SPECIE DA IMPIANTARE'!$R48,\"\")","v":""},null,"",{"$f":"IF(AND($B347=\"AZIONE_1\",$O347=5),'3 - SPECIE DA IMPIANTARE'!$R48,\"\")","v":""},null,"",{"$f":"IF(AND($B347=\"AZIONE_1\",$R347=6),'3 - SPECIE DA IMPIANTARE'!$R48,\"\")","v":""}]
[4,{"$f":"B248","v":""},"",{"$f":"IF(AND($B348=\"AZIONE_1\",C348=1),'3 - SPECIE DA IMPIANTARE'!$R49,\"\")","v":""},null,{"$f":"F248","v":""},{"$f":"IF(AND($B348=\"AZIONE_1\",F348=2),'3 - SPECIE DA IMPIANTARE'!$R49,\"\")","v":""},null,"",{"$f":"IF(AND($B348=\"AZIONE_1\",$I348=3),'3 - SPECIE DA IMPIANTARE'!$R49,\"\")","v":""},null,"",{"$f":"IF(AND($B348=\"AZIONE_1\",$L348=4),'3 - SPECIE DA IMPIANTARE'!$R49,\"\")","v":""},null,"",{"$f":"IF(AND($B348=\"AZIONE_1\",$O348=5),'3 - SPECIE DA IMPIANTARE'!$R49,\"\")","v":""},null,"",{"$f":"IF(AND($B348=\"AZIONE_1\",$R348=6),'3 - SPECIE DA IMPIANTARE'!$R49,\"\")","v":""}]
[4,{"$f":"B249","v":""},"",{"$f":"IF(AND($B349=\"AZIONE_1\",C349=1),'3 - SPECIE DA IMPIANTARE'!$R50,\"\")","v":""},null,{"$f":"F249","v":""},{"$f":"IF(AND($B349=\"AZIONE_1\",F349=2),'3 - SPECIE DA IMPIANTARE'!$R50,\"\")","v":""},null,"",{"$f":"IF(AND($B349=\"AZIONE_1\",$I349=3),'3 - SPECIE DA IMPIANTARE'!$R50,\"\")","v":""},null,"",{"$f":"IF(AND($B349=\"AZIONE_1\",$L349=4),'3 - SPECIE DA IMPIANTARE'!$R50,\"\")","v":""},null,"",{"$f":"IF(AND($B349=\"AZIONE_1\",$O349=5),'3 - SPECIE DA IMPIANTARE'!$R50,\"\")","v":""},null,"",{"$f":"IF(AND($B349=\"AZIONE_1\",$R349=6),'3 - SPECIE DA IMPIANTARE'!$R50,\"\")","v":""}]
[4,{"$f":"B250","v":""},"",{"$f":"IF(AND($B350=\"AZIONE_1\",C350=1),'3 - SPECIE DA IMPIANTARE'!$R51,\"\")","v":""},null,{"$f":"F250","v":""},{"$f":"IF(AND($B350=\"AZIONE_1\",F350=2),'3 - SPECIE DA IMPIANTARE'!$R51,\"\")","v":""},null,"",{"$f":"IF(AND($B350=\"AZIONE_1\",$I350=3),'3 - SPECIE DA IMPIANTARE'!$R51,\"\")","v":""},null,"",{"$f":"IF(AND($B350=\"AZIONE_1\",$L350=4),'3 - SPECIE DA IMPIANTARE'!$R51,\"\")","v":""},null,"",{"$f":"IF(AND($B350=\"AZIONE_1\",$O350=5),'3 - SPECIE DA IMPIANTARE'!$R51,\"\")","v":""},null,"",{"$f":"IF(AND($B350=\"AZIONE_1\",$R350=6),'3 - SPECIE DA IMPIANTARE'!$R51,\"\")","v":""}]
[4,{"$f":"B251","v":""},"",{"$f":"IF(AND($B351=\"AZIONE_1\",C351=1),'3 - SPECIE DA IMPIANTARE'!$R52,\"\")","v":""},null,{"$f":"F251","v":""},{"$f":"IF(AND($B351=\"AZIONE_1\",F351=2),'3 - SPECIE DA IMPIANTARE'!$R52,\"\")","v":""},null,"",{"$f":"IF(AND($B351=\"AZIONE_1\",$I351=3),'3 - SPECIE DA IMPIANTARE'!$R52,\"\")","v":""},null,"",{"$f":"IF(AND($B351=\"AZIONE_1\",$L351=4),'3 - SPECIE DA IMPIANTARE'!$R52,\"\")","v":""},null,"",{"$f":"IF(AND($B351=\"AZIONE_1\",$O351=5),'3 - SPECIE DA IMPIANTARE'!$R52,\"\")","v":""},null,"",{"$f":"IF(AND($B351=\"AZIONE_1\",$R351=6),'3 - SPECIE DA IMPIANTARE'!$R52,\"\")","v":""}]
[4,{"$f":"B252","v":""},"",{"$f":"IF(AND($B352=\"AZIONE_1\",C352=1),'3 - SPECIE DA IMPIANTARE'!$R53,\"\")","v":""},null,{"$f":"F252","v":""},{"$f":"IF(AND($B352=\"AZIONE_1\",F352=2),'3 - SPECIE DA IMPIANTARE'!$R53,\"\")","v":""},null,"",{"$f":"IF(AND($B352=\"AZIONE_1\",$I352=3),'3 - SPECIE DA IMPIANTARE'!$R53,\"\")","v":""},null,"",{"$f":"IF(AND($B352=\"AZIONE_1\",$L352=4),'3 - SPECIE DA IMPIANTARE'!$R53,\"\")","v":""},null,"",{"$f":"IF(AND($B352=\"AZIONE_1\",$O352=5),'3 - SPECIE DA IMPIANTARE'!$R53,\"\")","v":""},null,"",{"$f":"IF(AND($B352=\"AZIONE_1\",$R352=6),'3 - SPECIE DA IMPIANTARE'!$R53,\"\")","v":""}]
[4,{"$f":"B253","v":""},"",{"$f":"IF(AND($B353=\"AZIONE_1\",C353=1),'3 - SPECIE DA IMPIANTARE'!$R54,\"\")","v":""},null,{"$f":"F253","v":""},{"$f":"IF(AND($B353=\"AZIONE_1\",F353=2),'3 - SPECIE DA IMPIANTARE'!$R54,\"\")","v":""},null,"",{"$f":"IF(AND($B353=\"AZIONE_1\",$I353=3),'3 - SPECIE DA IMPIANTARE'!$R54,\"\")","v":""},null,"",{"$f":"IF(AND($B353=\"AZIONE_1\",$L353=4),'3 - SPECIE DA IMPIANTARE'!$R54,\"\")","v":""},null,"",{"$f":"IF(AND($B353=\"AZIONE_1\",$O353=5),'3 - SPECIE DA IMPIANTARE'!$R54,\"\")","v":""},null,"",{"$f":"IF(AND($B353=\"AZIONE_1\",$R353=6),'3 - SPECIE DA IMPIANTARE'!$R54,\"\")","v":""}]
[4,{"$f":"B254","v":""},"",{"$f":"IF(AND($B354=\"AZIONE_1\",C354=1),'3 - SPECIE DA IMPIANTARE'!$R55,\"\")","v":""},null,{"$f":"F254","v":""},{"$f":"IF(AND($B354=\"AZIONE_1\",F354=2),'3 - SPECIE DA IMPIANTARE'!$R55,\"\")","v":""},null,"",{"$f":"IF(AND($B354=\"AZIONE_1\",$I354=3),'3 - SPECIE DA IMPIANTARE'!$R55,\"\")","v":""},null,"",{"$f":"IF(AND($B354=\"AZIONE_1\",$L354=4),'3 - SPECIE DA IMPIANTARE'!$R55,\"\")","v":""},null,"",{"$f":"IF(AND($B354=\"AZIONE_1\",$O354=5),'3 - SPECIE DA IMPIANTARE'!$R55,\"\")","v":""},null,"",{"$f":"IF(AND($B354=\"AZIONE_1\",$R354=6),'3 - SPECIE DA IMPIANTARE'!$R55,\"\")","v":""}]
[4,{"$f":"B255","v":""},"",{"$f":"IF(AND($B355=\"AZIONE_1\",C355=1),'3 - SPECIE DA IMPIANTARE'!$R56,\"\")","v":""},null,{"$f":"F255","v":""},{"$f":"IF(AND($B355=\"AZIONE_1\",F355=2),'3 - SPECIE DA IMPIANTARE'!$R56,\"\")","v":""},null,"",{"$f":"IF(AND($B355=\"AZIONE_1\",$I355=3),'3 - SPECIE DA IMPIANTARE'!$R56,\"\")","v":""},null,"",{"$f":"IF(AND($B355=\"AZIONE_1\",$L355=4),'3 - SPECIE DA IMPIANTARE'!$R56,\"\")","v":""},null,"",{"$f":"IF(AND($B355=\"AZIONE_1\",$O355=5),'3 - SPECIE DA IMPIANTARE'!$R56,\"\")","v":""},null,"",{"$f":"IF(AND($B355=\"AZIONE_1\",$R355=6),'3 - SPECIE DA IMPIANTARE'!$R56,\"\")","v":""}]
[4,{"$f":"B256","v":""},"",{"$f":"IF(AND($B356=\"AZIONE_1\",C356=1),'3 - SPECIE DA IMPIANTARE'!$R57,\"\")","v":""},null,{"$f":"F256","v":""},{"$f":"IF(AND($B356=\"AZIONE_1\",F356=2),'3 - SPECIE DA IMPIANTARE'!$R57,\"\")","v":""},null,"",{"$f":"IF(AND($B356=\"AZIONE_1\",$I356=3),'3 - SPECIE DA IMPIANTARE'!$R57,\"\")","v":""},null,"",{"$f":"IF(AND($B356=\"AZIONE_1\",$L356=4),'3 - SPECIE DA IMPIANTARE'!$R57,\"\")","v":""},null,"",{"$f":"IF(AND($B356=\"AZIONE_1\",$O356=5),'3 - SPECIE DA IMPIANTARE'!$R57,\"\")","v":""},null,"",{"$f":"IF(AND($B356=\"AZIONE_1\",$R356=6),'3 - SPECIE DA IMPIANTARE'!$R57,\"\")","v":""}]
[4,{"$f":"B257","v":""},"",{"$f":"IF(AND($B357=\"AZIONE_1\",C357=1),'3 - SPECIE DA IMPIANTARE'!$R58,\"\")","v":""},null,{"$f":"F257","v":""},{"$f":"IF(AND($B357=\"AZIONE_1\",F357=2),'3 - SPECIE DA IMPIANTARE'!$R58,\"\")","v":""},null,"",{"$f":"IF(AND($B357=\"AZIONE_1\",$I357=3),'3 - SPECIE DA IMPIANTARE'!$R58,\"\")","v":""},null,"",{"$f":"IF(AND($B357=\"AZIONE_1\",$L357=4),'3 - SPECIE DA IMPIANTARE'!$R58,\"\")","v":""},null,"",{"$f":"IF(AND($B357=\"AZIONE_1\",$O357=5),'3 - SPECIE DA IMPIANTARE'!$R58,\"\")","v":""},null,"",{"$f":"IF(AND($B357=\"AZIONE_1\",$R357=6),'3 - SPECIE DA IMPIANTARE'!$R58,\"\")","v":""}]
[4,{"$f":"B258","v":""},"",{"$f":"IF(AND($B358=\"AZIONE_1\",C358=1),'3 - SPECIE DA IMPIANTARE'!$R59,\"\")","v":""},null,{"$f":"F258","v":""},{"$f":"IF(AND($B358=\"AZIONE_1\",F358=2),'3 - SPECIE DA IMPIANTARE'!$R59,\"\")","v":""},null,"",{"$f":"IF(AND($B358=\"AZIONE_1\",$I358=3),'3 - SPECIE DA IMPIANTARE'!$R59,\"\")","v":""},null,"",{"$f":"IF(AND($B358=\"AZIONE_1\",$L358=4),'3 - SPECIE DA IMPIANTARE'!$R59,\"\")","v":""},null,"",{"$f":"IF(AND($B358=\"AZIONE_1\",$O358=5),'3 - SPECIE DA IMPIANTARE'!$R59,\"\")","v":""},null,"",{"$f":"IF(AND($B358=\"AZIONE_1\",$R358=6),'3 - SPECIE DA IMPIANTARE'!$R59,\"\")","v":""}]
[4,{"$f":"B259","v":""},"",{"$f":"IF(AND($B359=\"AZIONE_1\",C359=1),'3 - SPECIE DA IMPIANTARE'!$R60,\"\")","v":""},null,{"$f":"F259","v":""},{"$f":"IF(AND($B359=\"AZIONE_1\",F359=2),'3 - SPECIE DA IMPIANTARE'!$R60,\"\")","v":""},null,{"$f":"I259","v":""},{"$f":"IF(AND($B359=\"AZIONE_1\",$I359=3),'3 - SPECIE DA IMPIANTARE'!$R60,\"\")","v":""},null,{"$f":"L259","v":""},{"$f":"IF(AND($B359=\"AZIONE_1\",$L359=4),'3 - SPECIE DA IMPIANTARE'!$R60,\"\")","v":""},null,{"$f":"O259","v":""},{"$f":"IF(AND($B359=\"AZIONE_1\",$O359=5),'3 - SPECIE DA IMPIANTARE'!$R60,\"\")","v":""},null,{"$f":"R259","v":""},{"$f":"IF(AND($B359=\"AZIONE_1\",$R359=6),'3 - SPECIE DA IMPIANTARE'!$R60,\"\")","v":""}]
[4,{"$f":"B260","v":""},"",{"$f":"IF(AND($B360=\"AZIONE_1\",C360=1),'3 - SPECIE DA IMPIANTARE'!$R61,\"\")","v":""},null,{"$f":"F260","v":""},{"$f":"IF(AND($B360=\"AZIONE_1\",F360=2),'3 - SPECIE DA IMPIANTARE'!$R61,\"\")","v":""},null,"",{"$f":"IF(AND($B360=\"AZIONE_1\",$I360=3),'3 - SPECIE DA IMPIANTARE'!$R61,\"\")","v":""},null,"",{"$f":"IF(AND($B360=\"AZIONE_1\",$L360=4),'3 - SPECIE DA IMPIANTARE'!$R61,\"\")","v":""},null,"",{"$f":"IF(AND($B360=\"AZIONE_1\",$O360=5),'3 - SPECIE DA IMPIANTARE'!$R61,\"\")","v":""},null,"",{"$f":"IF(AND($B360=\"AZIONE_1\",$R360=6),'3 - SPECIE DA IMPIANTARE'!$R61,\"\")","v":""}]
[4,{"$f":"B261","v":""},"",{"$f":"IF(AND($B361=\"AZIONE_1\",C361=1),'3 - SPECIE DA IMPIANTARE'!$R62,\"\")","v":""},null,{"$f":"F261","v":""},{"$f":"IF(AND($B361=\"AZIONE_1\",F361=2),'3 - SPECIE DA IMPIANTARE'!$R62,\"\")","v":""},null,"",{"$f":"IF(AND($B361=\"AZIONE_1\",$I361=3),'3 - SPECIE DA IMPIANTARE'!$R62,\"\")","v":""},null,"",{"$f":"IF(AND($B361=\"AZIONE_1\",$L361=4),'3 - SPECIE DA IMPIANTARE'!$R62,\"\")","v":""},null,"",{"$f":"IF(AND($B361=\"AZIONE_1\",$O361=5),'3 - SPECIE DA IMPIANTARE'!$R62,\"\")","v":""},null,"",{"$f":"IF(AND($B361=\"AZIONE_1\",$R361=6),'3 - SPECIE DA IMPIANTARE'!$R62,\"\")","v":""}]
[4,{"$f":"B262","v":""},"",{"$f":"IF(AND($B362=\"AZIONE_1\",C362=1),'3 - SPECIE DA IMPIANTARE'!$R63,\"\")","v":""},null,{"$f":"F262","v":""},{"$f":"IF(AND($B362=\"AZIONE_1\",F362=2),'3 - SPECIE DA IMPIANTARE'!$R63,\"\")","v":""},null,"",{"$f":"IF(AND($B362=\"AZIONE_1\",$I362=3),'3 - SPECIE DA IMPIANTARE'!$R63,\"\")","v":""},null,"",{"$f":"IF(AND($B362=\"AZIONE_1\",$L362=4),'3 - SPECIE DA IMPIANTARE'!$R63,\"\")","v":""},null,"",{"$f":"IF(AND($B362=\"AZIONE_1\",$O362=5),'3 - SPECIE DA IMPIANTARE'!$R63,\"\")","v":""},null,"",{"$f":"IF(AND($B362=\"AZIONE_1\",$R362=6),'3 - SPECIE DA IMPIANTARE'!$R63,\"\")","v":""}]
[4,{"$f":"B263","v":""},"",{"$f":"IF(AND($B363=\"AZIONE_1\",C363=1),'3 - SPECIE DA IMPIANTARE'!$R64,\"\")","v":""},null,{"$f":"F263","v":""},{"$f":"IF(AND($B363=\"AZIONE_1\",F363=2),'3 - SPECIE DA IMPIANTARE'!$R64,\"\")","v":""},null,"",{"$f":"IF(AND($B363=\"AZIONE_1\",$I363=3),'3 - SPECIE DA IMPIANTARE'!$R64,\"\")","v":""},null,"",{"$f":"IF(AND($B363=\"AZIONE_1\",$L363=4),'3 - SPECIE DA IMPIANTARE'!$R64,\"\")","v":""},null,"",{"$f":"IF(AND($B363=\"AZIONE_1\",$O363=5),'3 - SPECIE DA IMPIANTARE'!$R64,\"\")","v":""},null,"",{"$f":"IF(AND($B363=\"AZIONE_1\",$R363=6),'3 - SPECIE DA IMPIANTARE'!$R64,\"\")","v":""}]
[4,{"$f":"B264","v":""},"",{"$f":"IF(AND($B364=\"AZIONE_1\",C364=1),'3 - SPECIE DA IMPIANTARE'!$R65,\"\")","v":""},null,{"$f":"F264","v":""},{"$f":"IF(AND($B364=\"AZIONE_1\",F364=2),'3 - SPECIE DA IMPIANTARE'!$R65,\"\")","v":""},null,"",{"$f":"IF(AND($B364=\"AZIONE_1\",$I364=3),'3 - SPECIE DA IMPIANTARE'!$R65,\"\")","v":""},null,"",{"$f":"IF(AND($B364=\"AZIONE_1\",$L364=4),'3 - SPECIE DA IMPIANTARE'!$R65,\"\")","v":""},null,"",{"$f":"IF(AND($B364=\"AZIONE_1\",$O364=5),'3 - SPECIE DA IMPIANTARE'!$R65,\"\")","v":""},null,"",{"$f":"IF(AND($B364=\"AZIONE_1\",$R364=6),'3 - SPECIE DA IMPIANTARE'!$R65,\"\")","v":""}]
[4,{"$f":"B265","v":""},"",{"$f":"IF(AND($B365=\"AZIONE_1\",C365=1),'3 - SPECIE DA IMPIANTARE'!$R66,\"\")","v":""},null,{"$f":"F265","v":""},{"$f":"IF(AND($B365=\"AZIONE_1\",F365=2),'3 - SPECIE DA IMPIANTARE'!$R66,\"\")","v":""},null,"",{"$f":"IF(AND($B365=\"AZIONE_1\",$I365=3),'3 - SPECIE DA IMPIANTARE'!$R66,\"\")","v":""},null,"",{"$f":"IF(AND($B365=\"AZIONE_1\",$L365=4),'3 - SPECIE DA IMPIANTARE'!$R66,\"\")","v":""},null,"",{"$f":"IF(AND($B365=\"AZIONE_1\",$O365=5),'3 - SPECIE DA IMPIANTARE'!$R66,\"\")","v":""},null,"",{"$f":"IF(AND($B365=\"AZIONE_1\",$R365=6),'3 - SPECIE DA IMPIANTARE'!$R66,\"\")","v":""}]
[4,{"$f":"B266","v":""},"",{"$f":"IF(AND($B366=\"AZIONE_1\",C366=1),'3 - SPECIE DA IMPIANTARE'!$R67,\"\")","v":""},null,{"$f":"F266","v":""},{"$f":"IF(AND($B366=\"AZIONE_1\",F366=2),'3 - SPECIE DA IMPIANTARE'!$R67,\"\")","v":""},null,"",{"$f":"IF(AND($B366=\"AZIONE_1\",$I366=3),'3 - SPECIE DA IMPIANTARE'!$R67,\"\")","v":""},null,"",{"$f":"IF(AND($B366=\"AZIONE_1\",$L366=4),'3 - SPECIE DA IMPIANTARE'!$R67,\"\")","v":""},null,"",{"$f":"IF(AND($B366=\"AZIONE_1\",$O366=5),'3 - SPECIE DA IMPIANTARE'!$R67,\"\")","v":""},null,"",{"$f":"IF(AND($B366=\"AZIONE_1\",$R366=6),'3 - SPECIE DA IMPIANTARE'!$R67,\"\")","v":""}]
[4,{"$f":"B267","v":""},"",{"$f":"IF(AND($B367=\"AZIONE_1\",C367=1),'3 - SPECIE DA IMPIANTARE'!$R68,\"\")","v":""},null,{"$f":"F267","v":""},{"$f":"IF(AND($B367=\"AZIONE_1\",F367=2),'3 - SPECIE DA IMPIANTARE'!$R68,\"\")","v":""},null,"",{"$f":"IF(AND($B367=\"AZIONE_1\",$I367=3),'3 - SPECIE DA IMPIANTARE'!$R68,\"\")","v":""},null,"",{"$f":"IF(AND($B367=\"AZIONE_1\",$L367=4),'3 - SPECIE DA IMPIANTARE'!$R68,\"\")","v":""},null,"",{"$f":"IF(AND($B367=\"AZIONE_1\",$O367=5),'3 - SPECIE DA IMPIANTARE'!$R68,\"\")","v":""},null,"",{"$f":"IF(AND($B367=\"AZIONE_1\",$R367=6),'3 - SPECIE DA IMPIANTARE'!$R68,\"\")","v":""}]
[4,{"$f":"B268","v":""},"",{"$f":"IF(AND($B368=\"AZIONE_1\",C368=1),'3 - SPECIE DA IMPIANTARE'!$R69,\"\")","v":""},null,{"$f":"F268","v":""},{"$f":"IF(AND($B368=\"AZIONE_1\",F368=2),'3 - SPECIE DA IMPIANTARE'!$R69,\"\")","v":""},null,"",{"$f":"IF(AND($B368=\"AZIONE_1\",$I368=3),'3 - SPECIE DA IMPIANTARE'!$R69,\"\")","v":""},null,"",{"$f":"IF(AND($B368=\"AZIONE_1\",$L368=4),'3 - SPECIE DA IMPIANTARE'!$R69,\"\")","v":""},null,"",{"$f":"IF(AND($B368=\"AZIONE_1\",$O368=5),'3 - SPECIE DA IMPIANTARE'!$R69,\"\")","v":""},null,"",{"$f":"IF(AND($B368=\"AZIONE_1\",$R368=6),'3 - SPECIE DA IMPIANTARE'!$R69,\"\")","v":""}]
[4,{"$f":"B269","v":""},"",{"$f":"IF(AND($B369=\"AZIONE_1\",C369=1),'3 - SPECIE DA IMPIANTARE'!$R70,\"\")","v":""},null,{"$f":"F269","v":""},{"$f":"IF(AND($B369=\"AZIONE_1\",F369=2),'3 - SPECIE DA IMPIANTARE'!$R70,\"\")","v":""},null,"",{"$f":"IF(AND($B369=\"AZIONE_1\",$I369=3),'3 - SPECIE DA IMPIANTARE'!$R70,\"\")","v":""},null,"",{"$f":"IF(AND($B369=\"AZIONE_1\",$L369=4),'3 - SPECIE DA IMPIANTARE'!$R70,\"\")","v":""},null,"",{"$f":"IF(AND($B369=\"AZIONE_1\",$O369=5),'3 - SPECIE DA IMPIANTARE'!$R70,\"\")","v":""},null,"",{"$f":"IF(AND($B369=\"AZIONE_1\",$R369=6),'3 - SPECIE DA IMPIANTARE'!$R70,\"\")","v":""}]
[4,{"$f":"B270","v":""},"",{"$f":"IF(AND($B370=\"AZIONE_1\",C370=1),'3 - SPECIE DA IMPIANTARE'!$R71,\"\")","v":""},null,{"$f":"F270","v":""},{"$f":"IF(AND($B370=\"AZIONE_1\",F370=2),'3 - SPECIE DA IMPIANTARE'!$R71,\"\")","v":""},null,"",{"$f":"IF(AND($B370=\"AZIONE_1\",$I370=3),'3 - SPECIE DA IMPIANTARE'!$R71,\"\")","v":""},null,"",{"$f":"IF(AND($B370=\"AZIONE_1\",$L370=4),'3 - SPECIE DA IMPIANTARE'!$R71,\"\")","v":""},null,"",{"$f":"IF(AND($B370=\"AZIONE_1\",$O370=5),'3 - SPECIE DA IMPIANTARE'!$R71,\"\")","v":""},null,"",{"$f":"IF(AND($B370=\"AZIONE_1\",$R370=6),'3 - SPECIE DA IMPIANTARE'!$R71,\"\")","v":""}]
[4,{"$f":"B271","v":""},"",{"$f":"IF(AND($B371=\"AZIONE_1\",C371=1),'3 - SPECIE DA IMPIANTARE'!$R72,\"\")","v":""},null,{"$f":"F271","v":""},{"$f":"IF(AND($B371=\"AZIONE_1\",F371=2),'3 - SPECIE DA IMPIANTARE'!$R72,\"\")","v":""},null,"",{"$f":"IF(AND($B371=\"AZIONE_1\",$I371=3),'3 - SPECIE DA IMPIANTARE'!$R72,\"\")","v":""},null,"",{"$f":"IF(AND($B371=\"AZIONE_1\",$L371=4),'3 - SPECIE DA IMPIANTARE'!$R72,\"\")","v":""},null,"",{"$f":"IF(AND($B371=\"AZIONE_1\",$O371=5),'3 - SPECIE DA IMPIANTARE'!$R72,\"\")","v":""},null,"",{"$f":"IF(AND($B371=\"AZIONE_1\",$R371=6),'3 - SPECIE DA IMPIANTARE'!$R72,\"\")","v":""}]
[4,{"$f":"B272","v":""},"",{"$f":"IF(AND($B372=\"AZIONE_1\",C372=1),'3 - SPECIE DA IMPIANTARE'!$R73,\"\")","v":""},null,{"$f":"F272","v":""},{"$f":"IF(AND($B372=\"AZIONE_1\",F372=2),'3 - SPECIE DA IMPIANTARE'!$R73,\"\")","v":""},null,"",{"$f":"IF(AND($B372=\"AZIONE_1\",$I372=3),'3 - SPECIE DA IMPIANTARE'!$R73,\"\")","v":""},null,"",{"$f":"IF(AND($B372=\"AZIONE_1\",$L372=4),'3 - SPECIE DA IMPIANTARE'!$R73,\"\")","v":""},null,"",{"$f":"IF(AND($B372=\"AZIONE_1\",$O372=5),'3 - SPECIE DA IMPIANTARE'!$R73,\"\")","v":""},null,"",{"$f":"IF(AND($B372=\"AZIONE_1\",$R372=6),'3 - SPECIE DA IMPIANTARE'!$R73,\"\")","v":""}]
[4,{"$f":"B273","v":""},"",{"$f":"IF(AND($B373=\"AZIONE_1\",C373=1),'3 - SPECIE DA IMPIANTARE'!$R74,\"\")","v":""},null,{"$f":"F273","v":""},{"$f":"IF(AND($B373=\"AZIONE_1\",F373=2),'3 - SPECIE DA IMPIANTARE'!$R74,\"\")","v":""},null,"",{"$f":"IF(AND($B373=\"AZIONE_1\",$I373=3),'3 - SPECIE DA IMPIANTARE'!$R74,\"\")","v":""},null,"",{"$f":"IF(AND($B373=\"AZIONE_1\",$L373=4),'3 - SPECIE DA IMPIANTARE'!$R74,\"\")","v":""},null,"",{"$f":"IF(AND($B373=\"AZIONE_1\",$O373=5),'3 - SPECIE DA IMPIANTARE'!$R74,\"\")","v":""},null,"",{"$f":"IF(AND($B373=\"AZIONE_1\",$R373=6),'3 - SPECIE DA IMPIANTARE'!$R74,\"\")","v":""}]
[4,{"$f":"B274","v":""},"",{"$f":"IF(AND($B374=\"AZIONE_1\",C374=1),'3 - SPECIE DA IMPIANTARE'!$R75,\"\")","v":""},null,{"$f":"F274","v":""},{"$f":"IF(AND($B374=\"AZIONE_1\",F374=2),'3 - SPECIE DA IMPIANTARE'!$R75,\"\")","v":""},null,"",{"$f":"IF(AND($B374=\"AZIONE_1\",$I374=3),'3 - SPECIE DA IMPIANTARE'!$R75,\"\")","v":""},null,"",{"$f":"IF(AND($B374=\"AZIONE_1\",$L374=4),'3 - SPECIE DA IMPIANTARE'!$R75,\"\")","v":""},null,"",{"$f":"IF(AND($B374=\"AZIONE_1\",$O374=5),'3 - SPECIE DA IMPIANTARE'!$R75,\"\")","v":""},null,"",{"$f":"IF(AND($B374=\"AZIONE_1\",$R374=6),'3 - SPECIE DA IMPIANTARE'!$R75,\"\")","v":""}]
[4,{"$f":"B275","v":""},"",{"$f":"IF(AND($B375=\"AZIONE_1\",C375=1),'3 - SPECIE DA IMPIANTARE'!$R76,\"\")","v":""},null,{"$f":"F275","v":""},{"$f":"IF(AND($B375=\"AZIONE_1\",F375=2),'3 - SPECIE DA IMPIANTARE'!$R76,\"\")","v":""},null,"",{"$f":"IF(AND($B375=\"AZIONE_1\",$I375=3),'3 - SPECIE DA IMPIANTARE'!$R76,\"\")","v":""},null,"",{"$f":"IF(AND($B375=\"AZIONE_1\",$L375=4),'3 - SPECIE DA IMPIANTARE'!$R76,\"\")","v":""},null,"",{"$f":"IF(AND($B375=\"AZIONE_1\",$O375=5),'3 - SPECIE DA IMPIANTARE'!$R76,\"\")","v":""},null,"",{"$f":"IF(AND($B375=\"AZIONE_1\",$R375=6),'3 - SPECIE DA IMPIANTARE'!$R76,\"\")","v":""}]
[4,{"$f":"B276","v":""},"",{"$f":"IF(AND($B376=\"AZIONE_1\",C376=1),'3 - SPECIE DA IMPIANTARE'!$R77,\"\")","v":""},null,{"$f":"F276","v":""},{"$f":"IF(AND($B376=\"AZIONE_1\",F376=2),'3 - SPECIE DA IMPIANTARE'!$R77,\"\")","v":""},null,"",{"$f":"IF(AND($B376=\"AZIONE_1\",$I376=3),'3 - SPECIE DA IMPIANTARE'!$R77,\"\")","v":""},null,"",{"$f":"IF(AND($B376=\"AZIONE_1\",$L376=4),'3 - SPECIE DA IMPIANTARE'!$R77,\"\")","v":""},null,"",{"$f":"IF(AND($B376=\"AZIONE_1\",$O376=5),'3 - SPECIE DA IMPIANTARE'!$R77,\"\")","v":""},null,"",{"$f":"IF(AND($B376=\"AZIONE_1\",$R376=6),'3 - SPECIE DA IMPIANTARE'!$R77,\"\")","v":""}]
[4,{"$f":"B277","v":""},"",{"$f":"IF(AND($B377=\"AZIONE_1\",C377=1),'3 - SPECIE DA IMPIANTARE'!$R78,\"\")","v":""},null,{"$f":"F277","v":""},{"$f":"IF(AND($B377=\"AZIONE_1\",F377=2),'3 - SPECIE DA IMPIANTARE'!$R78,\"\")","v":""},null,"",{"$f":"IF(AND($B377=\"AZIONE_1\",$I377=3),'3 - SPECIE DA IMPIANTARE'!$R78,\"\")","v":""},null,"",{"$f":"IF(AND($B377=\"AZIONE_1\",$L377=4),'3 - SPECIE DA IMPIANTARE'!$R78,\"\")","v":""},null,"",{"$f":"IF(AND($B377=\"AZIONE_1\",$O377=5),'3 - SPECIE DA IMPIANTARE'!$R78,\"\")","v":""},null,"",{"$f":"IF(AND($B377=\"AZIONE_1\",$R377=6),'3 - SPECIE DA IMPIANTARE'!$R78,\"\")","v":""}]
[4,{"$f":"B278","v":""},"",{"$f":"IF(AND($B378=\"AZIONE_1\",C378=1),'3 - SPECIE DA IMPIANTARE'!$R79,\"\")","v":""},null,{"$f":"F278","v":""},{"$f":"IF(AND($B378=\"AZIONE_1\",F378=2),'3 - SPECIE DA IMPIANTARE'!$R79,\"\")","v":""},null,"",{"$f":"IF(AND($B378=\"AZIONE_1\",$I378=3),'3 - SPECIE DA IMPIANTARE'!$R79,\"\")","v":""},null,"",{"$f":"IF(AND($B378=\"AZIONE_1\",$L378=4),'3 - SPECIE DA IMPIANTARE'!$R79,\"\")","v":""},null,"",{"$f":"IF(AND($B378=\"AZIONE_1\",$O378=5),'3 - SPECIE DA IMPIANTARE'!$R79,\"\")","v":""},null,"",{"$f":"IF(AND($B378=\"AZIONE_1\",$R378=6),'3 - SPECIE DA IMPIANTARE'!$R79,\"\")","v":""}]
[4,{"$f":"B279","v":""},"",{"$f":"IF(AND($B379=\"AZIONE_1\",C379=1),'3 - SPECIE DA IMPIANTARE'!$R80,\"\")","v":""},null,{"$f":"F279","v":""},{"$f":"IF(AND($B379=\"AZIONE_1\",F379=2),'3 - SPECIE DA IMPIANTARE'!$R80,\"\")","v":""},null,"",{"$f":"IF(AND($B379=\"AZIONE_1\",$I379=3),'3 - SPECIE DA IMPIANTARE'!$R80,\"\")","v":""},null,"",{"$f":"IF(AND($B379=\"AZIONE_1\",$L379=4),'3 - SPECIE DA IMPIANTARE'!$R80,\"\")","v":""},null,"",{"$f":"IF(AND($B379=\"AZIONE_1\",$O379=5),'3 - SPECIE DA IMPIANTARE'!$R80,\"\")","v":""},null,"",{"$f":"IF(AND($B379=\"AZIONE_1\",$R379=6),'3 - SPECIE DA IMPIANTARE'!$R80,\"\")","v":""}]
[4,{"$f":"B280","v":""},"",{"$f":"IF(AND($B380=\"AZIONE_1\",C380=1),'3 - SPECIE DA IMPIANTARE'!$R81,\"\")","v":""},null,{"$f":"F280","v":""},{"$f":"IF(AND($B380=\"AZIONE_1\",F380=2),'3 - SPECIE DA IMPIANTARE'!$R81,\"\")","v":""},null,"",{"$f":"IF(AND($B380=\"AZIONE_1\",$I380=3),'3 - SPECIE DA IMPIANTARE'!$R81,\"\")","v":""},null,"",{"$f":"IF(AND($B380=\"AZIONE_1\",$L380=4),'3 - SPECIE DA IMPIANTARE'!$R81,\"\")","v":""},null,"",{"$f":"IF(AND($B380=\"AZIONE_1\",$O380=5),'3 - SPECIE DA IMPIANTARE'!$R81,\"\")","v":""},null,"",{"$f":"IF(AND($B380=\"AZIONE_1\",$R380=6),'3 - SPECIE DA IMPIANTARE'!$R81,\"\")","v":""}]
[4,{"$f":"B281","v":""},"",{"$f":"IF(AND($B381=\"AZIONE_1\",C381=1),'3 - SPECIE DA IMPIANTARE'!$R82,\"\")","v":""},null,{"$f":"F281","v":""},{"$f":"IF(AND($B381=\"AZIONE_1\",F381=2),'3 - SPECIE DA IMPIANTARE'!$R82,\"\")","v":""},null,"",{"$f":"IF(AND($B381=\"AZIONE_1\",$I381=3),'3 - SPECIE DA IMPIANTARE'!$R82,\"\")","v":""},null,"",{"$f":"IF(AND($B381=\"AZIONE_1\",$L381=4),'3 - SPECIE DA IMPIANTARE'!$R82,\"\")","v":""},null,"",{"$f":"IF(AND($B381=\"AZIONE_1\",$O381=5),'3 - SPECIE DA IMPIANTARE'!$R82,\"\")","v":""},null,"",{"$f":"IF(AND($B381=\"AZIONE_1\",$R381=6),'3 - SPECIE DA IMPIANTARE'!$R82,\"\")","v":""}]
[4,{"$f":"B282","v":""},"",{"$f":"IF(AND($B382=\"AZIONE_1\",C382=1),'3 - SPECIE DA IMPIANTARE'!$R83,\"\")","v":""},null,{"$f":"F282","v":""},{"$f":"IF(AND($B382=\"AZIONE_1\",F382=2),'3 - SPECIE DA IMPIANTARE'!$R83,\"\")","v":""},null,"",{"$f":"IF(AND($B382=\"AZIONE_1\",$I382=3),'3 - SPECIE DA IMPIANTARE'!$R83,\"\")","v":""},null,"",{"$f":"IF(AND($B382=\"AZIONE_1\",$L382=4),'3 - SPECIE DA IMPIANTARE'!$R83,\"\")","v":""},null,"",{"$f":"IF(AND($B382=\"AZIONE_1\",$O382=5),'3 - SPECIE DA IMPIANTARE'!$R83,\"\")","v":""},null,"",{"$f":"IF(AND($B382=\"AZIONE_1\",$R382=6),'3 - SPECIE DA IMPIANTARE'!$R83,\"\")","v":""}]
[4,{"$f":"B283","v":""},"",{"$f":"IF(AND($B383=\"AZIONE_1\",C383=1),'3 - SPECIE DA IMPIANTARE'!$R84,\"\")","v":""},null,{"$f":"F283","v":""},{"$f":"IF(AND($B383=\"AZIONE_1\",F383=2),'3 - SPECIE DA IMPIANTARE'!$R84,\"\")","v":""},null,"",{"$f":"IF(AND($B383=\"AZIONE_1\",$I383=3),'3 - SPECIE DA IMPIANTARE'!$R84,\"\")","v":""},null,"",{"$f":"IF(AND($B383=\"AZIONE_1\",$L383=4),'3 - SPECIE DA IMPIANTARE'!$R84,\"\")","v":""},null,"",{"$f":"IF(AND($B383=\"AZIONE_1\",$O383=5),'3 - SPECIE DA IMPIANTARE'!$R84,\"\")","v":""},null,"",{"$f":"IF(AND($B383=\"AZIONE_1\",$R383=6),'3 - SPECIE DA IMPIANTARE'!$R84,\"\")","v":""}]
[4,{"$f":"B284","v":""},"",{"$f":"IF(AND($B384=\"AZIONE_1\",C384=1),'3 - SPECIE DA IMPIANTARE'!$R85,\"\")","v":""},null,{"$f":"F284","v":""},{"$f":"IF(AND($B384=\"AZIONE_1\",F384=2),'3 - SPECIE DA IMPIANTARE'!$R85,\"\")","v":""},null,"",{"$f":"IF(AND($B384=\"AZIONE_1\",$I384=3),'3 - SPECIE DA IMPIANTARE'!$R85,\"\")","v":""},null,"",{"$f":"IF(AND($B384=\"AZIONE_1\",$L384=4),'3 - SPECIE DA IMPIANTARE'!$R85,\"\")","v":""},null,"",{"$f":"IF(AND($B384=\"AZIONE_1\",$O384=5),'3 - SPECIE DA IMPIANTARE'!$R85,\"\")","v":""},null,"",{"$f":"IF(AND($B384=\"AZIONE_1\",$R384=6),'3 - SPECIE DA IMPIANTARE'!$R85,\"\")","v":""}]
[4,{"$f":"B285","v":""},"",{"$f":"IF(AND($B385=\"AZIONE_1\",C385=1),'3 - SPECIE DA IMPIANTARE'!$R86,\"\")","v":""},null,{"$f":"F285","v":""},{"$f":"IF(AND($B385=\"AZIONE_1\",F385=2),'3 - SPECIE DA IMPIANTARE'!$R86,\"\")","v":""},null,"",{"$f":"IF(AND($B385=\"AZIONE_1\",$I385=3),'3 - SPECIE DA IMPIANTARE'!$R86,\"\")","v":""},null,"",{"$f":"IF(AND($B385=\"AZIONE_1\",$L385=4),'3 - SPECIE DA IMPIANTARE'!$R86,\"\")","v":""},null,"",{"$f":"IF(AND($B385=\"AZIONE_1\",$O385=5),'3 - SPECIE DA IMPIANTARE'!$R86,\"\")","v":""},null,"",{"$f":"IF(AND($B385=\"AZIONE_1\",$R385=6),'3 - SPECIE DA IMPIANTARE'!$R86,\"\")","v":""}]
[4,{"$f":"B286","v":""},"",{"$f":"IF(AND($B386=\"AZIONE_1\",C386=1),'3 - SPECIE DA IMPIANTARE'!$R87,\"\")","v":""},null,{"$f":"F286","v":""},{"$f":"IF(AND($B386=\"AZIONE_1\",F386=2),'3 - SPECIE DA IMPIANTARE'!$R87,\"\")","v":""},null,"",{"$f":"IF(AND($B386=\"AZIONE_1\",$I386=3),'3 - SPECIE DA IMPIANTARE'!$R87,\"\")","v":""},null,"",{"$f":"IF(AND($B386=\"AZIONE_1\",$L386=4),'3 - SPECIE DA IMPIANTARE'!$R87,\"\")","v":""},null,"",{"$f":"IF(AND($B386=\"AZIONE_1\",$O386=5),'3 - SPECIE DA IMPIANTARE'!$R87,\"\")","v":""},null,"",{"$f":"IF(AND($B386=\"AZIONE_1\",$R386=6),'3 - SPECIE DA IMPIANTARE'!$R87,\"\")","v":""}]
[4,{"$f":"B287","v":""},"",{"$f":"IF(AND($B387=\"AZIONE_1\",C387=1),'3 - SPECIE DA IMPIANTARE'!$R88,\"\")","v":""},null,{"$f":"F287","v":""},{"$f":"IF(AND($B387=\"AZIONE_1\",F387=2),'3 - SPECIE DA IMPIANTARE'!$R88,\"\")","v":""},null,"",{"$f":"IF(AND($B387=\"AZIONE_1\",$I387=3),'3 - SPECIE DA IMPIANTARE'!$R88,\"\")","v":""},null,"",{"$f":"IF(AND($B387=\"AZIONE_1\",$L387=4),'3 - SPECIE DA IMPIANTARE'!$R88,\"\")","v":""},null,"",{"$f":"IF(AND($B387=\"AZIONE_1\",$O387=5),'3 - SPECIE DA IMPIANTARE'!$R88,\"\")","v":""},null,"",{"$f":"IF(AND($B387=\"AZIONE_1\",$R387=6),'3 - SPECIE DA IMPIANTARE'!$R88,\"\")","v":""}]
[4,{"$f":"B288","v":""},"",{"$f":"IF(AND($B388=\"AZIONE_1\",C388=1),'3 - SPECIE DA IMPIANTARE'!$R89,\"\")","v":""},null,{"$f":"F288","v":""},{"$f":"IF(AND($B388=\"AZIONE_1\",F388=2),'3 - SPECIE DA IMPIANTARE'!$R89,\"\")","v":""},null,"",{"$f":"IF(AND($B388=\"AZIONE_1\",$I388=3),'3 - SPECIE DA IMPIANTARE'!$R89,\"\")","v":""},null,"",{"$f":"IF(AND($B388=\"AZIONE_1\",$L388=4),'3 - SPECIE DA IMPIANTARE'!$R89,\"\")","v":""},null,"",{"$f":"IF(AND($B388=\"AZIONE_1\",$O388=5),'3 - SPECIE DA IMPIANTARE'!$R89,\"\")","v":""},null,"",{"$f":"IF(AND($B388=\"AZIONE_1\",$R388=6),'3 - SPECIE DA IMPIANTARE'!$R89,\"\")","v":""}]
[4,{"$f":"B289","v":""},"",{"$f":"IF(AND($B389=\"AZIONE_1\",C389=1),'3 - SPECIE DA IMPIANTARE'!$R90,\"\")","v":""},null,{"$f":"F289","v":""},{"$f":"IF(AND($B389=\"AZIONE_1\",F389=2),'3 - SPECIE DA IMPIANTARE'!$R90,\"\")","v":""},null,"",{"$f":"IF(AND($B389=\"AZIONE_1\",$I389=3),'3 - SPECIE DA IMPIANTARE'!$R90,\"\")","v":""},null,"",{"$f":"IF(AND($B389=\"AZIONE_1\",$L389=4),'3 - SPECIE DA IMPIANTARE'!$R90,\"\")","v":""},null,"",{"$f":"IF(AND($B389=\"AZIONE_1\",$O389=5),'3 - SPECIE DA IMPIANTARE'!$R90,\"\")","v":""},null,"",{"$f":"IF(AND($B389=\"AZIONE_1\",$R389=6),'3 - SPECIE DA IMPIANTARE'!$R90,\"\")","v":""}]
[4,{"$f":"B290","v":""},"",{"$f":"IF(AND($B390=\"AZIONE_1\",C390=1),'3 - SPECIE DA IMPIANTARE'!$R91,\"\")","v":""},null,{"$f":"F290","v":""},{"$f":"IF(AND($B390=\"AZIONE_1\",F390=2),'3 - SPECIE DA IMPIANTARE'!$R91,\"\")","v":""},null,"",{"$f":"IF(AND($B390=\"AZIONE_1\",$I390=3),'3 - SPECIE DA IMPIANTARE'!$R91,\"\")","v":""},null,"",{"$f":"IF(AND($B390=\"AZIONE_1\",$L390=4),'3 - SPECIE DA IMPIANTARE'!$R91,\"\")","v":""},null,"",{"$f":"IF(AND($B390=\"AZIONE_1\",$O390=5),'3 - SPECIE DA IMPIANTARE'!$R91,\"\")","v":""},null,"",{"$f":"IF(AND($B390=\"AZIONE_1\",$R390=6),'3 - SPECIE DA IMPIANTARE'!$R91,\"\")","v":""}]
[4,{"$f":"B291","v":""},"",{"$f":"IF(AND($B391=\"AZIONE_1\",C391=1),'3 - SPECIE DA IMPIANTARE'!$R92,\"\")","v":""},null,{"$f":"F291","v":""},{"$f":"IF(AND($B391=\"AZIONE_1\",F391=2),'3 - SPECIE DA IMPIANTARE'!$R92,\"\")","v":""},null,"",{"$f":"IF(AND($B391=\"AZIONE_1\",$I391=3),'3 - SPECIE DA IMPIANTARE'!$R92,\"\")","v":""},null,"",{"$f":"IF(AND($B391=\"AZIONE_1\",$L391=4),'3 - SPECIE DA IMPIANTARE'!$R92,\"\")","v":""},null,"",{"$f":"IF(AND($B391=\"AZIONE_1\",$O391=5),'3 - SPECIE DA IMPIANTARE'!$R92,\"\")","v":""},null,"",{"$f":"IF(AND($B391=\"AZIONE_1\",$R391=6),'3 - SPECIE DA IMPIANTARE'!$R92,\"\")","v":""}]
[4,{"$f":"B292","v":""},"",{"$f":"IF(AND($B392=\"AZIONE_1\",C392=1),'3 - SPECIE DA IMPIANTARE'!$R93,\"\")","v":""},null,{"$f":"F292","v":""},{"$f":"IF(AND($B392=\"AZIONE_1\",F392=2),'3 - SPECIE DA IMPIANTARE'!$R93,\"\")","v":""},null,"",{"$f":"IF(AND($B392=\"AZIONE_1\",$I392=3),'3 - SPECIE DA IMPIANTARE'!$R93,\"\")","v":""},null,"",{"$f":"IF(AND($B392=\"AZIONE_1\",$L392=4),'3 - SPECIE DA IMPIANTARE'!$R93,\"\")","v":""},null,"",{"$f":"IF(AND($B392=\"AZIONE_1\",$O392=5),'3 - SPECIE DA IMPIANTARE'!$R93,\"\")","v":""},null,"",{"$f":"IF(AND($B392=\"AZIONE_1\",$R392=6),'3 - SPECIE DA IMPIANTARE'!$R93,\"\")","v":""}]
[4,{"$f":"B293","v":""},"",{"$f":"IF(AND($B393=\"AZIONE_1\",C393=1),'3 - SPECIE DA IMPIANTARE'!$R94,\"\")","v":""},null,{"$f":"F293","v":""},{"$f":"IF(AND($B393=\"AZIONE_1\",F393=2),'3 - SPECIE DA IMPIANTARE'!$R94,\"\")","v":""},null,"",{"$f":"IF(AND($B393=\"AZIONE_1\",$I393=3),'3 - SPECIE DA IMPIANTARE'!$R94,\"\")","v":""},null,"",{"$f":"IF(AND($B393=\"AZIONE_1\",$L393=4),'3 - SPECIE DA IMPIANTARE'!$R94,\"\")","v":""},null,"",{"$f":"IF(AND($B393=\"AZIONE_1\",$O393=5),'3 - SPECIE DA IMPIANTARE'!$R94,\"\")","v":""},null,"",{"$f":"IF(AND($B393=\"AZIONE_1\",$R393=6),'3 - SPECIE DA IMPIANTARE'!$R94,\"\")","v":""}]
[4,{"$f":"B294","v":""},"",{"$f":"IF(AND($B394=\"AZIONE_1\",C394=1),'3 - SPECIE DA IMPIANTARE'!$R95,\"\")","v":""},null,{"$f":"F294","v":""},{"$f":"IF(AND($B394=\"AZIONE_1\",F394=2),'3 - SPECIE DA IMPIANTARE'!$R95,\"\")","v":""},null,"",{"$f":"IF(AND($B394=\"AZIONE_1\",$I394=3),'3 - SPECIE DA IMPIANTARE'!$R95,\"\")","v":""},null,"",{"$f":"IF(AND($B394=\"AZIONE_1\",$L394=4),'3 - SPECIE DA IMPIANTARE'!$R95,\"\")","v":""},null,"",{"$f":"IF(AND($B394=\"AZIONE_1\",$O394=5),'3 - SPECIE DA IMPIANTARE'!$R95,\"\")","v":""},null,"",{"$f":"IF(AND($B394=\"AZIONE_1\",$R394=6),'3 - SPECIE DA IMPIANTARE'!$R95,\"\")","v":""}]
[4,{"$f":"B295","v":""},"",{"$f":"IF(AND($B395=\"AZIONE_1\",C395=1),'3 - SPECIE DA IMPIANTARE'!$R96,\"\")","v":""},null,{"$f":"F295","v":""},{"$f":"IF(AND($B395=\"AZIONE_1\",F395=2),'3 - SPECIE DA IMPIANTARE'!$R96,\"\")","v":""},null,"",{"$f":"IF(AND($B395=\"AZIONE_1\",$I395=3),'3 - SPECIE DA IMPIANTARE'!$R96,\"\")","v":""},null,"",{"$f":"IF(AND($B395=\"AZIONE_1\",$L395=4),'3 - SPECIE DA IMPIANTARE'!$R96,\"\")","v":""},null,"",{"$f":"IF(AND($B395=\"AZIONE_1\",$O395=5),'3 - SPECIE DA IMPIANTARE'!$R96,\"\")","v":""},null,"",{"$f":"IF(AND($B395=\"AZIONE_1\",$R395=6),'3 - SPECIE DA IMPIANTARE'!$R96,\"\")","v":""}]
[4,{"$f":"B296","v":""},"",{"$f":"IF(AND($B396=\"AZIONE_1\",C396=1),'3 - SPECIE DA IMPIANTARE'!$R97,\"\")","v":""},null,{"$f":"F296","v":""},{"$f":"IF(AND($B396=\"AZIONE_1\",F396=2),'3 - SPECIE DA IMPIANTARE'!$R97,\"\")","v":""},null,"",{"$f":"IF(AND($B396=\"AZIONE_1\",$I396=3),'3 - SPECIE DA IMPIANTARE'!$R97,\"\")","v":""},null,"",{"$f":"IF(AND($B396=\"AZIONE_1\",$L396=4),'3 - SPECIE DA IMPIANTARE'!$R97,\"\")","v":""},null,"",{"$f":"IF(AND($B396=\"AZIONE_1\",$O396=5),'3 - SPECIE DA IMPIANTARE'!$R97,\"\")","v":""},null,"",{"$f":"IF(AND($B396=\"AZIONE_1\",$R396=6),'3 - SPECIE DA IMPIANTARE'!$R97,\"\")","v":""}]
[4,{"$f":"B297","v":""},"",{"$f":"IF(AND($B397=\"AZIONE_1\",C397=1),'3 - SPECIE DA IMPIANTARE'!$R98,\"\")","v":""},null,{"$f":"F297","v":""},{"$f":"IF(AND($B397=\"AZIONE_1\",F397=2),'3 - SPECIE DA IMPIANTARE'!$R98,\"\")","v":""},null,"",{"$f":"IF(AND($B397=\"AZIONE_1\",$I397=3),'3 - SPECIE DA IMPIANTARE'!$R98,\"\")","v":""},null,"",{"$f":"IF(AND($B397=\"AZIONE_1\",$L397=4),'3 - SPECIE DA IMPIANTARE'!$R98,\"\")","v":""},null,"",{"$f":"IF(AND($B397=\"AZIONE_1\",$O397=5),'3 - SPECIE DA IMPIANTARE'!$R98,\"\")","v":""},null,"",{"$f":"IF(AND($B397=\"AZIONE_1\",$R397=6),'3 - SPECIE DA IMPIANTARE'!$R98,\"\")","v":""}]
[4,{"$f":"B298","v":""},"",{"$f":"IF(AND($B398=\"AZIONE_1\",C398=1),'3 - SPECIE DA IMPIANTARE'!$R99,\"\")","v":""},null,{"$f":"F298","v":""},{"$f":"IF(AND($B398=\"AZIONE_1\",F398=2),'3 - SPECIE DA IMPIANTARE'!$R99,\"\")","v":""},null,"",{"$f":"IF(AND($B398=\"AZIONE_1\",$I398=3),'3 - SPECIE DA IMPIANTARE'!$R99,\"\")","v":""},null,"",{"$f":"IF(AND($B398=\"AZIONE_1\",$L398=4),'3 - SPECIE DA IMPIANTARE'!$R99,\"\")","v":""},null,"",{"$f":"IF(AND($B398=\"AZIONE_1\",$O398=5),'3 - SPECIE DA IMPIANTARE'!$R99,\"\")","v":""},null,"",{"$f":"IF(AND($B398=\"AZIONE_1\",$R398=6),'3 - SPECIE DA IMPIANTARE'!$R99,\"\")","v":""}]
[4,{"$f":"B299","v":""},"",{"$f":"IF(AND($B399=\"AZIONE_1\",C399=1),'3 - SPECIE DA IMPIANTARE'!$R100,\"\")","v":""},null,{"$f":"F299","v":""},{"$f":"IF(AND($B399=\"AZIONE_1\",F399=2),'3 - SPECIE DA IMPIANTARE'!$R100,\"\")","v":""},null,"",{"$f":"IF(AND($B399=\"AZIONE_1\",$I399=3),'3 - SPECIE DA IMPIANTARE'!$R100,\"\")","v":""},null,"",{"$f":"IF(AND($B399=\"AZIONE_1\",$L399=4),'3 - SPECIE DA IMPIANTARE'!$R100,\"\")","v":""},null,"",{"$f":"IF(AND($B399=\"AZIONE_1\",$O399=5),'3 - SPECIE DA IMPIANTARE'!$R100,\"\")","v":""},null,"",{"$f":"IF(AND($B399=\"AZIONE_1\",$R399=6),'3 - SPECIE DA IMPIANTARE'!$R100,\"\")","v":""}]
[4,{"$f":"B300","v":""},"",{"$f":"IF(AND($B400=\"AZIONE_1\",C400=1),'3 - SPECIE DA IMPIANTARE'!$R101,\"\")","v":""},null,{"$f":"F300","v":""},{"$f":"IF(AND($B400=\"AZIONE_1\",F400=2),'3 - SPECIE DA IMPIANTARE'!$R101,\"\")","v":""},null,"",{"$f":"IF(AND($B400=\"AZIONE_1\",$I400=3),'3 - SPECIE DA IMPIANTARE'!$R101,\"\")","v":""},null,"",{"$f":"IF(AND($B400=\"AZIONE_1\",$L400=4),'3 - SPECIE DA IMPIANTARE'!$R101,\"\")","v":""},null,"",{"$f":"IF(AND($B400=\"AZIONE_1\",$O400=5),'3 - SPECIE DA IMPIANTARE'!$R101,\"\")","v":""},null,"",{"$f":"IF(AND($B400=\"AZIONE_1\",$R400=6),'3 - SPECIE DA IMPIANTARE'!$R101,\"\")","v":""}]
[4,{"$f":"B301","v":""},"",{"$f":"IF(AND($B401=\"AZIONE_1\",C401=1),'3 - SPECIE DA IMPIANTARE'!$R102,\"\")","v":""},null,{"$f":"F301","v":""},{"$f":"IF(AND($B401=\"AZIONE_1\",F401=2),'3 - SPECIE DA IMPIANTARE'!$R102,\"\")","v":""},null,"",{"$f":"IF(AND($B401=\"AZIONE_1\",$I401=3),'3 - SPECIE DA IMPIANTARE'!$R102,\"\")","v":""},null,"",{"$f":"IF(AND($B401=\"AZIONE_1\",$L401=4),'3 - SPECIE DA IMPIANTARE'!$R102,\"\")","v":""},null,"",{"$f":"IF(AND($B401=\"AZIONE_1\",$O401=5),'3 - SPECIE DA IMPIANTARE'!$R102,\"\")","v":""},null,"",{"$f":"IF(AND($B401=\"AZIONE_1\",$R401=6),'3 - SPECIE DA IMPIANTARE'!$R102,\"\")","v":""}]
[5,{"$f":"B302","v":""},"",{"$f":"IF(AND($B402=\"AZIONE_1\",C402=1),'3 - SPECIE DA IMPIANTARE'!$U3,\"\")","v":""},null,{"$f":"F302","v":""},{"$f":"IF(AND($B402=\"AZIONE_1\",F402=2),'3 - SPECIE DA IMPIANTARE'!$U3,\"\")","v":""},null,"",{"$f":"IF(AND($B402=\"AZIONE_1\",$I402=3),'3 - SPECIE DA IMPIANTARE'!$U3,\"\")","v":""},null,"",{"$f":"IF(AND($B402=\"AZIONE_1\",$L402=4),'3 - SPECIE DA IMPIANTARE'!$U3,\"\")","v":""},null,"",{"$f":"IF(AND($B402=\"AZIONE_1\",$O402=5),'3 - SPECIE DA IMPIANTARE'!$U3,\"\")","v":""},null,"",{"$f":"IF(AND($B402=\"AZIONE_1\",$R402=6),'3 - SPECIE DA IMPIANTARE'!$U3,\"\")","v":""}]
[5,{"$f":"B303","v":""},"",{"$f":"IF(AND($B403=\"AZIONE_1\",C403=1),'3 - SPECIE DA IMPIANTARE'!$U4,\"\")","v":""},null,{"$f":"F303","v":""},{"$f":"IF(AND($B403=\"AZIONE_1\",F403=2),'3 - SPECIE DA IMPIANTARE'!$U4,\"\")","v":""},null,"",{"$f":"IF(AND($B403=\"AZIONE_1\",$I403=3),'3 - SPECIE DA IMPIANTARE'!$U4,\"\")","v":""},null,"",{"$f":"IF(AND($B403=\"AZIONE_1\",$L403=4),'3 - SPECIE DA IMPIANTARE'!$U4,\"\")","v":""},null,"",{"$f":"IF(AND($B403=\"AZIONE_1\",$O403=5),'3 - SPECIE DA IMPIANTARE'!$U4,\"\")","v":""},null,"",{"$f":"IF(AND($B403=\"AZIONE_1\",$R403=6),'3 - SPECIE DA IMPIANTARE'!$U4,\"\")","v":""}]
[5,{"$f":"B304","v":""},"",{"$f":"IF(AND($B404=\"AZIONE_1\",C404=1),'3 - SPECIE DA IMPIANTARE'!$U5,\"\")","v":""},null,{"$f":"F304","v":""},{"$f":"IF(AND($B404=\"AZIONE_1\",F404=2),'3 - SPECIE DA IMPIANTARE'!$U5,\"\")","v":""},null,"",{"$f":"IF(AND($B404=\"AZIONE_1\",$I404=3),'3 - SPECIE DA IMPIANTARE'!$U5,\"\")","v":""},null,"",{"$f":"IF(AND($B404=\"AZIONE_1\",$L404=4),'3 - SPECIE DA IMPIANTARE'!$U5,\"\")","v":""},null,"",{"$f":"IF(AND($B404=\"AZIONE_1\",$O404=5),'3 - SPECIE DA IMPIANTARE'!$U5,\"\")","v":""},null,"",{"$f":"IF(AND($B404=\"AZIONE_1\",$R404=6),'3 - SPECIE DA IMPIANTARE'!$U5,\"\")","v":""}]
[5,{"$f":"B305","v":""},"",{"$f":"IF(AND($B405=\"AZIONE_1\",C405=1),'3 - SPECIE DA IMPIANTARE'!$U6,\"\")","v":""},null,{"$f":"F305","v":""},{"$f":"IF(AND($B405=\"AZIONE_1\",F405=2),'3 - SPECIE DA IMPIANTARE'!$U6,\"\")","v":""},null,"",{"$f":"IF(AND($B405=\"AZIONE_1\",$I405=3),'3 - SPECIE DA IMPIANTARE'!$U6,\"\")","v":""},null,"",{"$f":"IF(AND($B405=\"AZIONE_1\",$L405=4),'3 - SPECIE DA IMPIANTARE'!$U6,\"\")","v":""},null,"",{"$f":"IF(AND($B405=\"AZIONE_1\",$O405=5),'3 - SPECIE DA IMPIANTARE'!$U6,\"\")","v":""},null,"",{"$f":"IF(AND($B405=\"AZIONE_1\",$R405=6),'3 - SPECIE DA IMPIANTARE'!$U6,\"\")","v":""}]
[5,{"$f":"B306","v":""},"",{"$f":"IF(AND($B406=\"AZIONE_1\",C406=1),'3 - SPECIE DA IMPIANTARE'!$U7,\"\")","v":""},null,{"$f":"F306","v":""},{"$f":"IF(AND($B406=\"AZIONE_1\",F406=2),'3 - SPECIE DA IMPIANTARE'!$U7,\"\")","v":""},null,"",{"$f":"IF(AND($B406=\"AZIONE_1\",$I406=3),'3 - SPECIE DA IMPIANTARE'!$U7,\"\")","v":""},null,"",{"$f":"IF(AND($B406=\"AZIONE_1\",$L406=4),'3 - SPECIE DA IMPIANTARE'!$U7,\"\")","v":""},null,"",{"$f":"IF(AND($B406=\"AZIONE_1\",$O406=5),'3 - SPECIE DA IMPIANTARE'!$U7,\"\")","v":""},null,"",{"$f":"IF(AND($B406=\"AZIONE_1\",$R406=6),'3 - SPECIE DA IMPIANTARE'!$U7,\"\")","v":""}]
[5,{"$f":"B307","v":""},"",{"$f":"IF(AND($B407=\"AZIONE_1\",C407=1),'3 - SPECIE DA IMPIANTARE'!$U8,\"\")","v":""},null,{"$f":"F307","v":""},{"$f":"IF(AND($B407=\"AZIONE_1\",F407=2),'3 - SPECIE DA IMPIANTARE'!$U8,\"\")","v":""},null,"",{"$f":"IF(AND($B407=\"AZIONE_1\",$I407=3),'3 - SPECIE DA IMPIANTARE'!$U8,\"\")","v":""},null,"",{"$f":"IF(AND($B407=\"AZIONE_1\",$L407=4),'3 - SPECIE DA IMPIANTARE'!$U8,\"\")","v":""},null,"",{"$f":"IF(AND($B407=\"AZIONE_1\",$O407=5),'3 - SPECIE DA IMPIANTARE'!$U8,\"\")","v":""},null,"",{"$f":"IF(AND($B407=\"AZIONE_1\",$R407=6),'3 - SPECIE DA IMPIANTARE'!$U8,\"\")","v":""}]
[5,{"$f":"B308","v":""},"",{"$f":"IF(AND($B408=\"AZIONE_1\",C408=1),'3 - SPECIE DA IMPIANTARE'!$U9,\"\")","v":""},null,{"$f":"F308","v":""},{"$f":"IF(AND($B408=\"AZIONE_1\",F408=2),'3 - SPECIE DA IMPIANTARE'!$U9,\"\")","v":""},null,"",{"$f":"IF(AND($B408=\"AZIONE_1\",$I408=3),'3 - SPECIE DA IMPIANTARE'!$U9,\"\")","v":""},null,"",{"$f":"IF(AND($B408=\"AZIONE_1\",$L408=4),'3 - SPECIE DA IMPIANTARE'!$U9,\"\")","v":""},null,"",{"$f":"IF(AND($B408=\"AZIONE_1\",$O408=5),'3 - SPECIE DA IMPIANTARE'!$U9,\"\")","v":""},null,"",{"$f":"IF(AND($B408=\"AZIONE_1\",$R408=6),'3 - SPECIE DA IMPIANTARE'!$U9,\"\")","v":""}]
[5,{"$f":"B309","v":""},"",{"$f":"IF(AND($B409=\"AZIONE_1\",C409=1),'3 - SPECIE DA IMPIANTARE'!$U10,\"\")","v":""},null,{"$f":"F309","v":""},{"$f":"IF(AND($B409=\"AZIONE_1\",F409=2),'3 - SPECIE DA IMPIANTARE'!$U10,\"\")","v":""},null,"",{"$f":"IF(AND($B409=\"AZIONE_1\",$I409=3),'3 - SPECIE DA IMPIANTARE'!$U10,\"\")","v":""},null,"",{"$f":"IF(AND($B409=\"AZIONE_1\",$L409=4),'3 - SPECIE DA IMPIANTARE'!$U10,\"\")","v":""},null,"",{"$f":"IF(AND($B409=\"AZIONE_1\",$O409=5),'3 - SPECIE DA IMPIANTARE'!$U10,\"\")","v":""},null,"",{"$f":"IF(AND($B409=\"AZIONE_1\",$R409=6),'3 - SPECIE DA IMPIANTARE'!$U10,\"\")","v":""}]
[5,{"$f":"B310","v":""},"",{"$f":"IF(AND($B410=\"AZIONE_1\",C410=1),'3 - SPECIE DA IMPIANTARE'!$U11,\"\")","v":""},null,{"$f":"F310","v":""},{"$f":"IF(AND($B410=\"AZIONE_1\",F410=2),'3 - SPECIE DA IMPIANTARE'!$U11,\"\")","v":""},null,"",{"$f":"IF(AND($B410=\"AZIONE_1\",$I410=3),'3 - SPECIE DA IMPIANTARE'!$U11,\"\")","v":""},null,"",{"$f":"IF(AND($B410=\"AZIONE_1\",$L410=4),'3 - SPECIE DA IMPIANTARE'!$U11,\"\")","v":""},null,"",{"$f":"IF(AND($B410=\"AZIONE_1\",$O410=5),'3 - SPECIE DA IMPIANTARE'!$U11,\"\")","v":""},null,"",{"$f":"IF(AND($B410=\"AZIONE_1\",$R410=6),'3 - SPECIE DA IMPIANTARE'!$U11,\"\")","v":""}]
[5,{"$f":"B311","v":""},"",{"$f":"IF(AND($B411=\"AZIONE_1\",C411=1),'3 - SPECIE DA IMPIANTARE'!$U12,\"\")","v":""},null,{"$f":"F311","v":""},{"$f":"IF(AND($B411=\"AZIONE_1\",F411=2),'3 - SPECIE DA IMPIANTARE'!$U12,\"\")","v":""},null,"",{"$f":"IF(AND($B411=\"AZIONE_1\",$I411=3),'3 - SPECIE DA IMPIANTARE'!$U12,\"\")","v":""},null,"",{"$f":"IF(AND($B411=\"AZIONE_1\",$L411=4),'3 - SPECIE DA IMPIANTARE'!$U12,\"\")","v":""},null,"",{"$f":"IF(AND($B411=\"AZIONE_1\",$O411=5),'3 - SPECIE DA IMPIANTARE'!$U12,\"\")","v":""},null,"",{"$f":"IF(AND($B411=\"AZIONE_1\",$R411=6),'3 - SPECIE DA IMPIANTARE'!$U12,\"\")","v":""}]
[5,{"$f":"B312","v":""},"",{"$f":"IF(AND($B412=\"AZIONE_1\",C412=1),'3 - SPECIE DA IMPIANTARE'!$U13,\"\")","v":""},null,{"$f":"F312","v":""},{"$f":"IF(AND($B412=\"AZIONE_1\",F412=2),'3 - SPECIE DA IMPIANTARE'!$U13,\"\")","v":""},null,"",{"$f":"IF(AND($B412=\"AZIONE_1\",$I412=3),'3 - SPECIE DA IMPIANTARE'!$U13,\"\")","v":""},null,"",{"$f":"IF(AND($B412=\"AZIONE_1\",$L412=4),'3 - SPECIE DA IMPIANTARE'!$U13,\"\")","v":""},null,"",{"$f":"IF(AND($B412=\"AZIONE_1\",$O412=5),'3 - SPECIE DA IMPIANTARE'!$U13,\"\")","v":""},null,"",{"$f":"IF(AND($B412=\"AZIONE_1\",$R412=6),'3 - SPECIE DA IMPIANTARE'!$U13,\"\")","v":""}]
[5,{"$f":"B313","v":""},"",{"$f":"IF(AND($B413=\"AZIONE_1\",C413=1),'3 - SPECIE DA IMPIANTARE'!$U14,\"\")","v":""},null,{"$f":"F313","v":""},{"$f":"IF(AND($B413=\"AZIONE_1\",F413=2),'3 - SPECIE DA IMPIANTARE'!$U14,\"\")","v":""},null,"",{"$f":"IF(AND($B413=\"AZIONE_1\",$I413=3),'3 - SPECIE DA IMPIANTARE'!$U14,\"\")","v":""},null,"",{"$f":"IF(AND($B413=\"AZIONE_1\",$L413=4),'3 - SPECIE DA IMPIANTARE'!$U14,\"\")","v":""},null,"",{"$f":"IF(AND($B413=\"AZIONE_1\",$O413=5),'3 - SPECIE DA IMPIANTARE'!$U14,\"\")","v":""},null,"",{"$f":"IF(AND($B413=\"AZIONE_1\",$R413=6),'3 - SPECIE DA IMPIANTARE'!$U14,\"\")","v":""}]
[5,{"$f":"B314","v":""},"",{"$f":"IF(AND($B414=\"AZIONE_1\",C414=1),'3 - SPECIE DA IMPIANTARE'!$U15,\"\")","v":""},null,{"$f":"F314","v":""},{"$f":"IF(AND($B414=\"AZIONE_1\",F414=2),'3 - SPECIE DA IMPIANTARE'!$U15,\"\")","v":""},null,"",{"$f":"IF(AND($B414=\"AZIONE_1\",$I414=3),'3 - SPECIE DA IMPIANTARE'!$U15,\"\")","v":""},null,"",{"$f":"IF(AND($B414=\"AZIONE_1\",$L414=4),'3 - SPECIE DA IMPIANTARE'!$U15,\"\")","v":""},null,"",{"$f":"IF(AND($B414=\"AZIONE_1\",$O414=5),'3 - SPECIE DA IMPIANTARE'!$U15,\"\")","v":""},null,"",{"$f":"IF(AND($B414=\"AZIONE_1\",$R414=6),'3 - SPECIE DA IMPIANTARE'!$U15,\"\")","v":""}]
[5,{"$f":"B315","v":""},"",{"$f":"IF(AND($B415=\"AZIONE_1\",C415=1),'3 - SPECIE DA IMPIANTARE'!$U16,\"\")","v":""},null,{"$f":"F315","v":""},{"$f":"IF(AND($B415=\"AZIONE_1\",F415=2),'3 - SPECIE DA IMPIANTARE'!$U16,\"\")","v":""},null,"",{"$f":"IF(AND($B415=\"AZIONE_1\",$I415=3),'3 - SPECIE DA IMPIANTARE'!$U16,\"\")","v":""},null,"",{"$f":"IF(AND($B415=\"AZIONE_1\",$L415=4),'3 - SPECIE DA IMPIANTARE'!$U16,\"\")","v":""},null,"",{"$f":"IF(AND($B415=\"AZIONE_1\",$O415=5),'3 - SPECIE DA IMPIANTARE'!$U16,\"\")","v":""},null,"",{"$f":"IF(AND($B415=\"AZIONE_1\",$R415=6),'3 - SPECIE DA IMPIANTARE'!$U16,\"\")","v":""}]
[5,{"$f":"B316","v":""},"",{"$f":"IF(AND($B416=\"AZIONE_1\",C416=1),'3 - SPECIE DA IMPIANTARE'!$U17,\"\")","v":""},null,{"$f":"F316","v":""},{"$f":"IF(AND($B416=\"AZIONE_1\",F416=2),'3 - SPECIE DA IMPIANTARE'!$U17,\"\")","v":""},null,"",{"$f":"IF(AND($B416=\"AZIONE_1\",$I416=3),'3 - SPECIE DA IMPIANTARE'!$U17,\"\")","v":""},null,"",{"$f":"IF(AND($B416=\"AZIONE_1\",$L416=4),'3 - SPECIE DA IMPIANTARE'!$U17,\"\")","v":""},null,"",{"$f":"IF(AND($B416=\"AZIONE_1\",$O416=5),'3 - SPECIE DA IMPIANTARE'!$U17,\"\")","v":""},null,"",{"$f":"IF(AND($B416=\"AZIONE_1\",$R416=6),'3 - SPECIE DA IMPIANTARE'!$U17,\"\")","v":""}]
[5,{"$f":"B317","v":""},"",{"$f":"IF(AND($B417=\"AZIONE_1\",C417=1),'3 - SPECIE DA IMPIANTARE'!$U18,\"\")","v":""},null,{"$f":"F317","v":""},{"$f":"IF(AND($B417=\"AZIONE_1\",F417=2),'3 - SPECIE DA IMPIANTARE'!$U18,\"\")","v":""},null,"",{"$f":"IF(AND($B417=\"AZIONE_1\",$I417=3),'3 - SPECIE DA IMPIANTARE'!$U18,\"\")","v":""},null,"",{"$f":"IF(AND($B417=\"AZIONE_1\",$L417=4),'3 - SPECIE DA IMPIANTARE'!$U18,\"\")","v":""},null,"",{"$f":"IF(AND($B417=\"AZIONE_1\",$O417=5),'3 - SPECIE DA IMPIANTARE'!$U18,\"\")","v":""},null,"",{"$f":"IF(AND($B417=\"AZIONE_1\",$R417=6),'3 - SPECIE DA IMPIANTARE'!$U18,\"\")","v":""}]
[5,{"$f":"B318","v":""},"",{"$f":"IF(AND($B418=\"AZIONE_1\",C418=1),'3 - SPECIE DA IMPIANTARE'!$U19,\"\")","v":""},null,{"$f":"F318","v":""},{"$f":"IF(AND($B418=\"AZIONE_1\",F418=2),'3 - SPECIE DA IMPIANTARE'!$U19,\"\")","v":""},null,"",{"$f":"IF(AND($B418=\"AZIONE_1\",$I418=3),'3 - SPECIE DA IMPIANTARE'!$U19,\"\")","v":""},null,"",{"$f":"IF(AND($B418=\"AZIONE_1\",$L418=4),'3 - SPECIE DA IMPIANTARE'!$U19,\"\")","v":""},null,"",{"$f":"IF(AND($B418=\"AZIONE_1\",$O418=5),'3 - SPECIE DA IMPIANTARE'!$U19,\"\")","v":""},null,"",{"$f":"IF(AND($B418=\"AZIONE_1\",$R418=6),'3 - SPECIE DA IMPIANTARE'!$U19,\"\")","v":""}]
[5,{"$f":"B319","v":""},"",{"$f":"IF(AND($B419=\"AZIONE_1\",C419=1),'3 - SPECIE DA IMPIANTARE'!$U20,\"\")","v":""},null,{"$f":"F319","v":""},{"$f":"IF(AND($B419=\"AZIONE_1\",F419=2),'3 - SPECIE DA IMPIANTARE'!$U20,\"\")","v":""},null,"",{"$f":"IF(AND($B419=\"AZIONE_1\",$I419=3),'3 - SPECIE DA IMPIANTARE'!$U20,\"\")","v":""},null,"",{"$f":"IF(AND($B419=\"AZIONE_1\",$L419=4),'3 - SPECIE DA IMPIANTARE'!$U20,\"\")","v":""},null,"",{"$f":"IF(AND($B419=\"AZIONE_1\",$O419=5),'3 - SPECIE DA IMPIANTARE'!$U20,\"\")","v":""},null,"",{"$f":"IF(AND($B419=\"AZIONE_1\",$R419=6),'3 - SPECIE DA IMPIANTARE'!$U20,\"\")","v":""}]
[5,{"$f":"B320","v":""},"",{"$f":"IF(AND($B420=\"AZIONE_1\",C420=1),'3 - SPECIE DA IMPIANTARE'!$U21,\"\")","v":""},null,{"$f":"F320","v":""},{"$f":"IF(AND($B420=\"AZIONE_1\",F420=2),'3 - SPECIE DA IMPIANTARE'!$U21,\"\")","v":""},null,"",{"$f":"IF(AND($B420=\"AZIONE_1\",$I420=3),'3 - SPECIE DA IMPIANTARE'!$U21,\"\")","v":""},null,"",{"$f":"IF(AND($B420=\"AZIONE_1\",$L420=4),'3 - SPECIE DA IMPIANTARE'!$U21,\"\")","v":""},null,"",{"$f":"IF(AND($B420=\"AZIONE_1\",$O420=5),'3 - SPECIE DA IMPIANTARE'!$U21,\"\")","v":""},null,"",{"$f":"IF(AND($B420=\"AZIONE_1\",$R420=6),'3 - SPECIE DA IMPIANTARE'!$U21,\"\")","v":""}]
[5,{"$f":"B321","v":""},"",{"$f":"IF(AND($B421=\"AZIONE_1\",C421=1),'3 - SPECIE DA IMPIANTARE'!$U22,\"\")","v":""},null,{"$f":"F321","v":""},{"$f":"IF(AND($B421=\"AZIONE_1\",F421=2),'3 - SPECIE DA IMPIANTARE'!$U22,\"\")","v":""},null,"",{"$f":"IF(AND($B421=\"AZIONE_1\",$I421=3),'3 - SPECIE DA IMPIANTARE'!$U22,\"\")","v":""},null,"",{"$f":"IF(AND($B421=\"AZIONE_1\",$L421=4),'3 - SPECIE DA IMPIANTARE'!$U22,\"\")","v":""},null,"",{"$f":"IF(AND($B421=\"AZIONE_1\",$O421=5),'3 - SPECIE DA IMPIANTARE'!$U22,\"\")","v":""},null,"",{"$f":"IF(AND($B421=\"AZIONE_1\",$R421=6),'3 - SPECIE DA IMPIANTARE'!$U22,\"\")","v":""}]
[5,{"$f":"B322","v":""},"",{"$f":"IF(AND($B422=\"AZIONE_1\",C422=1),'3 - SPECIE DA IMPIANTARE'!$U23,\"\")","v":""},null,{"$f":"F322","v":""},{"$f":"IF(AND($B422=\"AZIONE_1\",F422=2),'3 - SPECIE DA IMPIANTARE'!$U23,\"\")","v":""},null,"",{"$f":"IF(AND($B422=\"AZIONE_1\",$I422=3),'3 - SPECIE DA IMPIANTARE'!$U23,\"\")","v":""},null,"",{"$f":"IF(AND($B422=\"AZIONE_1\",$L422=4),'3 - SPECIE DA IMPIANTARE'!$U23,\"\")","v":""},null,"",{"$f":"IF(AND($B422=\"AZIONE_1\",$O422=5),'3 - SPECIE DA IMPIANTARE'!$U23,\"\")","v":""},null,"",{"$f":"IF(AND($B422=\"AZIONE_1\",$R422=6),'3 - SPECIE DA IMPIANTARE'!$U23,\"\")","v":""}]
[5,{"$f":"B323","v":""},"",{"$f":"IF(AND($B423=\"AZIONE_1\",C423=1),'3 - SPECIE DA IMPIANTARE'!$U24,\"\")","v":""},null,{"$f":"F323","v":""},{"$f":"IF(AND($B423=\"AZIONE_1\",F423=2),'3 - SPECIE DA IMPIANTARE'!$U24,\"\")","v":""},null,{"$f":"I323","v":""},{"$f":"IF(AND($B423=\"AZIONE_1\",$I423=3),'3 - SPECIE DA IMPIANTARE'!$U24,\"\")","v":""},null,{"$f":"L323","v":""},{"$f":"IF(AND($B423=\"AZIONE_1\",$L423=4),'3 - SPECIE DA IMPIANTARE'!$U24,\"\")","v":""},null,{"$f":"O323","v":""},{"$f":"IF(AND($B423=\"AZIONE_1\",$O423=5),'3 - SPECIE DA IMPIANTARE'!$U24,\"\")","v":""},null,{"$f":"R323","v":""},{"$f":"IF(AND($B423=\"AZIONE_1\",$R423=6),'3 - SPECIE DA IMPIANTARE'!$U24,\"\")","v":""}]
[5,{"$f":"B324","v":""},"",{"$f":"IF(AND($B424=\"AZIONE_1\",C424=1),'3 - SPECIE DA IMPIANTARE'!$U25,\"\")","v":""},null,{"$f":"F324","v":""},{"$f":"IF(AND($B424=\"AZIONE_1\",F424=2),'3 - SPECIE DA IMPIANTARE'!$U25,\"\")","v":""},null,"",{"$f":"IF(AND($B424=\"AZIONE_1\",$I424=3),'3 - SPECIE DA IMPIANTARE'!$U25,\"\")","v":""},null,"",{"$f":"IF(AND($B424=\"AZIONE_1\",$L424=4),'3 - SPECIE DA IMPIANTARE'!$U25,\"\")","v":""},null,"",{"$f":"IF(AND($B424=\"AZIONE_1\",$O424=5),'3 - SPECIE DA IMPIANTARE'!$U25,\"\")","v":""},null,"",{"$f":"IF(AND($B424=\"AZIONE_1\",$R424=6),'3 - SPECIE DA IMPIANTARE'!$U25,\"\")","v":""}]
[5,{"$f":"B325","v":""},"",{"$f":"IF(AND($B425=\"AZIONE_1\",C425=1),'3 - SPECIE DA IMPIANTARE'!$U26,\"\")","v":""},null,{"$f":"F325","v":""},{"$f":"IF(AND($B425=\"AZIONE_1\",F425=2),'3 - SPECIE DA IMPIANTARE'!$U26,\"\")","v":""},null,"",{"$f":"IF(AND($B425=\"AZIONE_1\",$I425=3),'3 - SPECIE DA IMPIANTARE'!$U26,\"\")","v":""},null,"",{"$f":"IF(AND($B425=\"AZIONE_1\",$L425=4),'3 - SPECIE DA IMPIANTARE'!$U26,\"\")","v":""},null,"",{"$f":"IF(AND($B425=\"AZIONE_1\",$O425=5),'3 - SPECIE DA IMPIANTARE'!$U26,\"\")","v":""},null,"",{"$f":"IF(AND($B425=\"AZIONE_1\",$R425=6),'3 - SPECIE DA IMPIANTARE'!$U26,\"\")","v":""}]
[5,{"$f":"B326","v":""},"",{"$f":"IF(AND($B426=\"AZIONE_1\",C426=1),'3 - SPECIE DA IMPIANTARE'!$U27,\"\")","v":""},null,{"$f":"F326","v":""},{"$f":"IF(AND($B426=\"AZIONE_1\",F426=2),'3 - SPECIE DA IMPIANTARE'!$U27,\"\")","v":""},null,"",{"$f":"IF(AND($B426=\"AZIONE_1\",$I426=3),'3 - SPECIE DA IMPIANTARE'!$U27,\"\")","v":""},null,"",{"$f":"IF(AND($B426=\"AZIONE_1\",$L426=4),'3 - SPECIE DA IMPIANTARE'!$U27,\"\")","v":""},null,"",{"$f":"IF(AND($B426=\"AZIONE_1\",$O426=5),'3 - SPECIE DA IMPIANTARE'!$U27,\"\")","v":""},null,"",{"$f":"IF(AND($B426=\"AZIONE_1\",$R426=6),'3 - SPECIE DA IMPIANTARE'!$U27,\"\")","v":""}]
[5,{"$f":"B327","v":""},"",{"$f":"IF(AND($B427=\"AZIONE_1\",C427=1),'3 - SPECIE DA IMPIANTARE'!$U28,\"\")","v":""},null,{"$f":"F327","v":""},{"$f":"IF(AND($B427=\"AZIONE_1\",F427=2),'3 - SPECIE DA IMPIANTARE'!$U28,\"\")","v":""},null,"",{"$f":"IF(AND($B427=\"AZIONE_1\",$I427=3),'3 - SPECIE DA IMPIANTARE'!$U28,\"\")","v":""},null,"",{"$f":"IF(AND($B427=\"AZIONE_1\",$L427=4),'3 - SPECIE DA IMPIANTARE'!$U28,\"\")","v":""},null,"",{"$f":"IF(AND($B427=\"AZIONE_1\",$O427=5),'3 - SPECIE DA IMPIANTARE'!$U28,\"\")","v":""},null,"",{"$f":"IF(AND($B427=\"AZIONE_1\",$R427=6),'3 - SPECIE DA IMPIANTARE'!$U28,\"\")","v":""}]
[5,{"$f":"B328","v":""},"",{"$f":"IF(AND($B428=\"AZIONE_1\",C428=1),'3 - SPECIE DA IMPIANTARE'!$U29,\"\")","v":""},null,{"$f":"F328","v":""},{"$f":"IF(AND($B428=\"AZIONE_1\",F428=2),'3 - SPECIE DA IMPIANTARE'!$U29,\"\")","v":""},null,"",{"$f":"IF(AND($B428=\"AZIONE_1\",$I428=3),'3 - SPECIE DA IMPIANTARE'!$U29,\"\")","v":""},null,"",{"$f":"IF(AND($B428=\"AZIONE_1\",$L428=4),'3 - SPECIE DA IMPIANTARE'!$U29,\"\")","v":""},null,"",{"$f":"IF(AND($B428=\"AZIONE_1\",$O428=5),'3 - SPECIE DA IMPIANTARE'!$U29,\"\")","v":""},null,"",{"$f":"IF(AND($B428=\"AZIONE_1\",$R428=6),'3 - SPECIE DA IMPIANTARE'!$U29,\"\")","v":""}]
[5,{"$f":"B329","v":""},"",{"$f":"IF(AND($B429=\"AZIONE_1\",C429=1),'3 - SPECIE DA IMPIANTARE'!$U30,\"\")","v":""},null,{"$f":"F329","v":""},{"$f":"IF(AND($B429=\"AZIONE_1\",F429=2),'3 - SPECIE DA IMPIANTARE'!$U30,\"\")","v":""},null,"",{"$f":"IF(AND($B429=\"AZIONE_1\",$I429=3),'3 - SPECIE DA IMPIANTARE'!$U30,\"\")","v":""},null,"",{"$f":"IF(AND($B429=\"AZIONE_1\",$L429=4),'3 - SPECIE DA IMPIANTARE'!$U30,\"\")","v":""},null,"",{"$f":"IF(AND($B429=\"AZIONE_1\",$O429=5),'3 - SPECIE DA IMPIANTARE'!$U30,\"\")","v":""},null,"",{"$f":"IF(AND($B429=\"AZIONE_1\",$R429=6),'3 - SPECIE DA IMPIANTARE'!$U30,\"\")","v":""}]
[5,{"$f":"B330","v":""},"",{"$f":"IF(AND($B430=\"AZIONE_1\",C430=1),'3 - SPECIE DA IMPIANTARE'!$U31,\"\")","v":""},null,{"$f":"F330","v":""},{"$f":"IF(AND($B430=\"AZIONE_1\",F430=2),'3 - SPECIE DA IMPIANTARE'!$U31,\"\")","v":""},null,"",{"$f":"IF(AND($B430=\"AZIONE_1\",$I430=3),'3 - SPECIE DA IMPIANTARE'!$U31,\"\")","v":""},null,"",{"$f":"IF(AND($B430=\"AZIONE_1\",$L430=4),'3 - SPECIE DA IMPIANTARE'!$U31,\"\")","v":""},null,"",{"$f":"IF(AND($B430=\"AZIONE_1\",$O430=5),'3 - SPECIE DA IMPIANTARE'!$U31,\"\")","v":""},null,"",{"$f":"IF(AND($B430=\"AZIONE_1\",$R430=6),'3 - SPECIE DA IMPIANTARE'!$U31,\"\")","v":""}]
[5,{"$f":"B331","v":""},"",{"$f":"IF(AND($B431=\"AZIONE_1\",C431=1),'3 - SPECIE DA IMPIANTARE'!$U32,\"\")","v":""},null,{"$f":"F331","v":""},{"$f":"IF(AND($B431=\"AZIONE_1\",F431=2),'3 - SPECIE DA IMPIANTARE'!$U32,\"\")","v":""},null,"",{"$f":"IF(AND($B431=\"AZIONE_1\",$I431=3),'3 - SPECIE DA IMPIANTARE'!$U32,\"\")","v":""},null,"",{"$f":"IF(AND($B431=\"AZIONE_1\",$L431=4),'3 - SPECIE DA IMPIANTARE'!$U32,\"\")","v":""},null,"",{"$f":"IF(AND($B431=\"AZIONE_1\",$O431=5),'3 - SPECIE DA IMPIANTARE'!$U32,\"\")","v":""},null,"",{"$f":"IF(AND($B431=\"AZIONE_1\",$R431=6),'3 - SPECIE DA IMPIANTARE'!$U32,\"\")","v":""}]
[5,{"$f":"B332","v":""},"",{"$f":"IF(AND($B432=\"AZIONE_1\",C432=1),'3 - SPECIE DA IMPIANTARE'!$U33,\"\")","v":""},null,{"$f":"F332","v":""},{"$f":"IF(AND($B432=\"AZIONE_1\",F432=2),'3 - SPECIE DA IMPIANTARE'!$U33,\"\")","v":""},null,"",{"$f":"IF(AND($B432=\"AZIONE_1\",$I432=3),'3 - SPECIE DA IMPIANTARE'!$U33,\"\")","v":""},null,"",{"$f":"IF(AND($B432=\"AZIONE_1\",$L432=4),'3 - SPECIE DA IMPIANTARE'!$U33,\"\")","v":""},null,"",{"$f":"IF(AND($B432=\"AZIONE_1\",$O432=5),'3 - SPECIE DA IMPIANTARE'!$U33,\"\")","v":""},null,"",{"$f":"IF(AND($B432=\"AZIONE_1\",$R432=6),'3 - SPECIE DA IMPIANTARE'!$U33,\"\")","v":""}]
[5,{"$f":"B333","v":""},"",{"$f":"IF(AND($B433=\"AZIONE_1\",C433=1),'3 - SPECIE DA IMPIANTARE'!$U34,\"\")","v":""},null,{"$f":"F333","v":""},{"$f":"IF(AND($B433=\"AZIONE_1\",F433=2),'3 - SPECIE DA IMPIANTARE'!$U34,\"\")","v":""},null,"",{"$f":"IF(AND($B433=\"AZIONE_1\",$I433=3),'3 - SPECIE DA IMPIANTARE'!$U34,\"\")","v":""},null,"",{"$f":"IF(AND($B433=\"AZIONE_1\",$L433=4),'3 - SPECIE DA IMPIANTARE'!$U34,\"\")","v":""},null,"",{"$f":"IF(AND($B433=\"AZIONE_1\",$O433=5),'3 - SPECIE DA IMPIANTARE'!$U34,\"\")","v":""},null,"",{"$f":"IF(AND($B433=\"AZIONE_1\",$R433=6),'3 - SPECIE DA IMPIANTARE'!$U34,\"\")","v":""}]
[5,{"$f":"B334","v":""},"",{"$f":"IF(AND($B434=\"AZIONE_1\",C434=1),'3 - SPECIE DA IMPIANTARE'!$U35,\"\")","v":""},null,{"$f":"F334","v":""},{"$f":"IF(AND($B434=\"AZIONE_1\",F434=2),'3 - SPECIE DA IMPIANTARE'!$U35,\"\")","v":""},null,"",{"$f":"IF(AND($B434=\"AZIONE_1\",$I434=3),'3 - SPECIE DA IMPIANTARE'!$U35,\"\")","v":""},null,"",{"$f":"IF(AND($B434=\"AZIONE_1\",$L434=4),'3 - SPECIE DA IMPIANTARE'!$U35,\"\")","v":""},null,"",{"$f":"IF(AND($B434=\"AZIONE_1\",$O434=5),'3 - SPECIE DA IMPIANTARE'!$U35,\"\")","v":""},null,"",{"$f":"IF(AND($B434=\"AZIONE_1\",$R434=6),'3 - SPECIE DA IMPIANTARE'!$U35,\"\")","v":""}]
[5,{"$f":"B335","v":""},"",{"$f":"IF(AND($B435=\"AZIONE_1\",C435=1),'3 - SPECIE DA IMPIANTARE'!$U36,\"\")","v":""},null,{"$f":"F335","v":""},{"$f":"IF(AND($B435=\"AZIONE_1\",F435=2),'3 - SPECIE DA IMPIANTARE'!$U36,\"\")","v":""},null,"",{"$f":"IF(AND($B435=\"AZIONE_1\",$I435=3),'3 - SPECIE DA IMPIANTARE'!$U36,\"\")","v":""},null,"",{"$f":"IF(AND($B435=\"AZIONE_1\",$L435=4),'3 - SPECIE DA IMPIANTARE'!$U36,\"\")","v":""},null,"",{"$f":"IF(AND($B435=\"AZIONE_1\",$O435=5),'3 - SPECIE DA IMPIANTARE'!$U36,\"\")","v":""},null,"",{"$f":"IF(AND($B435=\"AZIONE_1\",$R435=6),'3 - SPECIE DA IMPIANTARE'!$U36,\"\")","v":""}]
[5,{"$f":"B336","v":""},"",{"$f":"IF(AND($B436=\"AZIONE_1\",C436=1),'3 - SPECIE DA IMPIANTARE'!$U37,\"\")","v":""},null,{"$f":"F336","v":""},{"$f":"IF(AND($B436=\"AZIONE_1\",F436=2),'3 - SPECIE DA IMPIANTARE'!$U37,\"\")","v":""},null,"",{"$f":"IF(AND($B436=\"AZIONE_1\",$I436=3),'3 - SPECIE DA IMPIANTARE'!$U37,\"\")","v":""},null,"",{"$f":"IF(AND($B436=\"AZIONE_1\",$L436=4),'3 - SPECIE DA IMPIANTARE'!$U37,\"\")","v":""},null,"",{"$f":"IF(AND($B436=\"AZIONE_1\",$O436=5),'3 - SPECIE DA IMPIANTARE'!$U37,\"\")","v":""},null,"",{"$f":"IF(AND($B436=\"AZIONE_1\",$R436=6),'3 - SPECIE DA IMPIANTARE'!$U37,\"\")","v":""}]
[5,{"$f":"B337","v":""},"",{"$f":"IF(AND($B437=\"AZIONE_1\",C437=1),'3 - SPECIE DA IMPIANTARE'!$U38,\"\")","v":""},null,{"$f":"F337","v":""},{"$f":"IF(AND($B437=\"AZIONE_1\",F437=2),'3 - SPECIE DA IMPIANTARE'!$U38,\"\")","v":""},null,"",{"$f":"IF(AND($B437=\"AZIONE_1\",$I437=3),'3 - SPECIE DA IMPIANTARE'!$U38,\"\")","v":""},null,"",{"$f":"IF(AND($B437=\"AZIONE_1\",$L437=4),'3 - SPECIE DA IMPIANTARE'!$U38,\"\")","v":""},null,"",{"$f":"IF(AND($B437=\"AZIONE_1\",$O437=5),'3 - SPECIE DA IMPIANTARE'!$U38,\"\")","v":""},null,"",{"$f":"IF(AND($B437=\"AZIONE_1\",$R437=6),'3 - SPECIE DA IMPIANTARE'!$U38,\"\")","v":""}]
[5,{"$f":"B338","v":""},"",{"$f":"IF(AND($B438=\"AZIONE_1\",C438=1),'3 - SPECIE DA IMPIANTARE'!$U39,\"\")","v":""},null,{"$f":"F338","v":""},{"$f":"IF(AND($B438=\"AZIONE_1\",F438=2),'3 - SPECIE DA IMPIANTARE'!$U39,\"\")","v":""},null,"",{"$f":"IF(AND($B438=\"AZIONE_1\",$I438=3),'3 - SPECIE DA IMPIANTARE'!$U39,\"\")","v":""},null,"",{"$f":"IF(AND($B438=\"AZIONE_1\",$L438=4),'3 - SPECIE DA IMPIANTARE'!$U39,\"\")","v":""},null,"",{"$f":"IF(AND($B438=\"AZIONE_1\",$O438=5),'3 - SPECIE DA IMPIANTARE'!$U39,\"\")","v":""},null,"",{"$f":"IF(AND($B438=\"AZIONE_1\",$R438=6),'3 - SPECIE DA IMPIANTARE'!$U39,\"\")","v":""}]
[5,{"$f":"B339","v":""},"",{"$f":"IF(AND($B439=\"AZIONE_1\",C439=1),'3 - SPECIE DA IMPIANTARE'!$U40,\"\")","v":""},null,{"$f":"F339","v":""},{"$f":"IF(AND($B439=\"AZIONE_1\",F439=2),'3 - SPECIE DA IMPIANTARE'!$U40,\"\")","v":""},null,"",{"$f":"IF(AND($B439=\"AZIONE_1\",$I439=3),'3 - SPECIE DA IMPIANTARE'!$U40,\"\")","v":""},null,"",{"$f":"IF(AND($B439=\"AZIONE_1\",$L439=4),'3 - SPECIE DA IMPIANTARE'!$U40,\"\")","v":""},null,"",{"$f":"IF(AND($B439=\"AZIONE_1\",$O439=5),'3 - SPECIE DA IMPIANTARE'!$U40,\"\")","v":""},null,"",{"$f":"IF(AND($B439=\"AZIONE_1\",$R439=6),'3 - SPECIE DA IMPIANTARE'!$U40,\"\")","v":""}]
[5,{"$f":"B340","v":""},"",{"$f":"IF(AND($B440=\"AZIONE_1\",C440=1),'3 - SPECIE DA IMPIANTARE'!$U41,\"\")","v":""},null,{"$f":"F340","v":""},{"$f":"IF(AND($B440=\"AZIONE_1\",F440=2),'3 - SPECIE DA IMPIANTARE'!$U41,\"\")","v":""},null,"",{"$f":"IF(AND($B440=\"AZIONE_1\",$I440=3),'3 - SPECIE DA IMPIANTARE'!$U41,\"\")","v":""},null,"",{"$f":"IF(AND($B440=\"AZIONE_1\",$L440=4),'3 - SPECIE DA IMPIANTARE'!$U41,\"\")","v":""},null,"",{"$f":"IF(AND($B440=\"AZIONE_1\",$O440=5),'3 - SPECIE DA IMPIANTARE'!$U41,\"\")","v":""},null,"",{"$f":"IF(AND($B440=\"AZIONE_1\",$R440=6),'3 - SPECIE DA IMPIANTARE'!$U41,\"\")","v":""}]
[5,{"$f":"B341","v":""},"",{"$f":"IF(AND($B441=\"AZIONE_1\",C441=1),'3 - SPECIE DA IMPIANTARE'!$U42,\"\")","v":""},null,{"$f":"F341","v":""},{"$f":"IF(AND($B441=\"AZIONE_1\",F441=2),'3 - SPECIE DA IMPIANTARE'!$U42,\"\")","v":""},null,"",{"$f":"IF(AND($B441=\"AZIONE_1\",$I441=3),'3 - SPECIE DA IMPIANTARE'!$U42,\"\")","v":""},null,"",{"$f":"IF(AND($B441=\"AZIONE_1\",$L441=4),'3 - SPECIE DA IMPIANTARE'!$U42,\"\")","v":""},null,"",{"$f":"IF(AND($B441=\"AZIONE_1\",$O441=5),'3 - SPECIE DA IMPIANTARE'!$U42,\"\")","v":""},null,"",{"$f":"IF(AND($B441=\"AZIONE_1\",$R441=6),'3 - SPECIE DA IMPIANTARE'!$U42,\"\")","v":""}]
[5,{"$f":"B342","v":""},"",{"$f":"IF(AND($B442=\"AZIONE_1\",C442=1),'3 - SPECIE DA IMPIANTARE'!$U43,\"\")","v":""},null,{"$f":"F342","v":""},{"$f":"IF(AND($B442=\"AZIONE_1\",F442=2),'3 - SPECIE DA IMPIANTARE'!$U43,\"\")","v":""},null,"",{"$f":"IF(AND($B442=\"AZIONE_1\",$I442=3),'3 - SPECIE DA IMPIANTARE'!$U43,\"\")","v":""},null,"",{"$f":"IF(AND($B442=\"AZIONE_1\",$L442=4),'3 - SPECIE DA IMPIANTARE'!$U43,\"\")","v":""},null,"",{"$f":"IF(AND($B442=\"AZIONE_1\",$O442=5),'3 - SPECIE DA IMPIANTARE'!$U43,\"\")","v":""},null,"",{"$f":"IF(AND($B442=\"AZIONE_1\",$R442=6),'3 - SPECIE DA IMPIANTARE'!$U43,\"\")","v":""}]
[5,{"$f":"B343","v":""},"",{"$f":"IF(AND($B443=\"AZIONE_1\",C443=1),'3 - SPECIE DA IMPIANTARE'!$U44,\"\")","v":""},null,{"$f":"F343","v":""},{"$f":"IF(AND($B443=\"AZIONE_1\",F443=2),'3 - SPECIE DA IMPIANTARE'!$U44,\"\")","v":""},null,"",{"$f":"IF(AND($B443=\"AZIONE_1\",$I443=3),'3 - SPECIE DA IMPIANTARE'!$U44,\"\")","v":""},null,"",{"$f":"IF(AND($B443=\"AZIONE_1\",$L443=4),'3 - SPECIE DA IMPIANTARE'!$U44,\"\")","v":""},null,"",{"$f":"IF(AND($B443=\"AZIONE_1\",$O443=5),'3 - SPECIE DA IMPIANTARE'!$U44,\"\")","v":""},null,"",{"$f":"IF(AND($B443=\"AZIONE_1\",$R443=6),'3 - SPECIE DA IMPIANTARE'!$U44,\"\")","v":""}]
[5,{"$f":"B344","v":""},"",{"$f":"IF(AND($B444=\"AZIONE_1\",C444=1),'3 - SPECIE DA IMPIANTARE'!$U45,\"\")","v":""},null,{"$f":"F344","v":""},{"$f":"IF(AND($B444=\"AZIONE_1\",F444=2),'3 - SPECIE DA IMPIANTARE'!$U45,\"\")","v":""},null,"",{"$f":"IF(AND($B444=\"AZIONE_1\",$I444=3),'3 - SPECIE DA IMPIANTARE'!$U45,\"\")","v":""},null,"",{"$f":"IF(AND($B444=\"AZIONE_1\",$L444=4),'3 - SPECIE DA IMPIANTARE'!$U45,\"\")","v":""},null,"",{"$f":"IF(AND($B444=\"AZIONE_1\",$O444=5),'3 - SPECIE DA IMPIANTARE'!$U45,\"\")","v":""},null,"",{"$f":"IF(AND($B444=\"AZIONE_1\",$R444=6),'3 - SPECIE DA IMPIANTARE'!$U45,\"\")","v":""}]
[5,{"$f":"B345","v":""},"",{"$f":"IF(AND($B445=\"AZIONE_1\",C445=1),'3 - SPECIE DA IMPIANTARE'!$U46,\"\")","v":""},null,{"$f":"F345","v":""},{"$f":"IF(AND($B445=\"AZIONE_1\",F445=2),'3 - SPECIE DA IMPIANTARE'!$U46,\"\")","v":""},null,"",{"$f":"IF(AND($B445=\"AZIONE_1\",$I445=3),'3 - SPECIE DA IMPIANTARE'!$U46,\"\")","v":""},null,"",{"$f":"IF(AND($B445=\"AZIONE_1\",$L445=4),'3 - SPECIE DA IMPIANTARE'!$U46,\"\")","v":""},null,"",{"$f":"IF(AND($B445=\"AZIONE_1\",$O445=5),'3 - SPECIE DA IMPIANTARE'!$U46,\"\")","v":""},null,"",{"$f":"IF(AND($B445=\"AZIONE_1\",$R445=6),'3 - SPECIE DA IMPIANTARE'!$U46,\"\")","v":""}]
[5,{"$f":"B346","v":""},"",{"$f":"IF(AND($B446=\"AZIONE_1\",C446=1),'3 - SPECIE DA IMPIANTARE'!$U47,\"\")","v":""},null,{"$f":"F346","v":""},{"$f":"IF(AND($B446=\"AZIONE_1\",F446=2),'3 - SPECIE DA IMPIANTARE'!$U47,\"\")","v":""},null,"",{"$f":"IF(AND($B446=\"AZIONE_1\",$I446=3),'3 - SPECIE DA IMPIANTARE'!$U47,\"\")","v":""},null,"",{"$f":"IF(AND($B446=\"AZIONE_1\",$L446=4),'3 - SPECIE DA IMPIANTARE'!$U47,\"\")","v":""},null,"",{"$f":"IF(AND($B446=\"AZIONE_1\",$O446=5),'3 - SPECIE DA IMPIANTARE'!$U47,\"\")","v":""},null,"",{"$f":"IF(AND($B446=\"AZIONE_1\",$R446=6),'3 - SPECIE DA IMPIANTARE'!$U47,\"\")","v":""}]
[5,{"$f":"B347","v":""},"",{"$f":"IF(AND($B447=\"AZIONE_1\",C447=1),'3 - SPECIE DA IMPIANTARE'!$U48,\"\")","v":""},null,{"$f":"F347","v":""},{"$f":"IF(AND($B447=\"AZIONE_1\",F447=2),'3 - SPECIE DA IMPIANTARE'!$U48,\"\")","v":""},null,"",{"$f":"IF(AND($B447=\"AZIONE_1\",$I447=3),'3 - SPECIE DA IMPIANTARE'!$U48,\"\")","v":""},null,"",{"$f":"IF(AND($B447=\"AZIONE_1\",$L447=4),'3 - SPECIE DA IMPIANTARE'!$U48,\"\")","v":""},null,"",{"$f":"IF(AND($B447=\"AZIONE_1\",$O447=5),'3 - SPECIE DA IMPIANTARE'!$U48,\"\")","v":""},null,"",{"$f":"IF(AND($B447=\"AZIONE_1\",$R447=6),'3 - SPECIE DA IMPIANTARE'!$U48,\"\")","v":""}]
[5,{"$f":"B348","v":""},"",{"$f":"IF(AND($B448=\"AZIONE_1\",C448=1),'3 - SPECIE DA IMPIANTARE'!$U49,\"\")","v":""},null,{"$f":"F348","v":""},{"$f":"IF(AND($B448=\"AZIONE_1\",F448=2),'3 - SPECIE DA IMPIANTARE'!$U49,\"\")","v":""},null,"",{"$f":"IF(AND($B448=\"AZIONE_1\",$I448=3),'3 - SPECIE DA IMPIANTARE'!$U49,\"\")","v":""},null,"",{"$f":"IF(AND($B448=\"AZIONE_1\",$L448=4),'3 - SPECIE DA IMPIANTARE'!$U49,\"\")","v":""},null,"",{"$f":"IF(AND($B448=\"AZIONE_1\",$O448=5),'3 - SPECIE DA IMPIANTARE'!$U49,\"\")","v":""},null,"",{"$f":"IF(AND($B448=\"AZIONE_1\",$R448=6),'3 - SPECIE DA IMPIANTARE'!$U49,\"\")","v":""}]
[5,{"$f":"B349","v":""},"",{"$f":"IF(AND($B449=\"AZIONE_1\",C449=1),'3 - SPECIE DA IMPIANTARE'!$U50,\"\")","v":""},null,{"$f":"F349","v":""},{"$f":"IF(AND($B449=\"AZIONE_1\",F449=2),'3 - SPECIE DA IMPIANTARE'!$U50,\"\")","v":""},null,"",{"$f":"IF(AND($B449=\"AZIONE_1\",$I449=3),'3 - SPECIE DA IMPIANTARE'!$U50,\"\")","v":""},null,"",{"$f":"IF(AND($B449=\"AZIONE_1\",$L449=4),'3 - SPECIE DA IMPIANTARE'!$U50,\"\")","v":""},null,"",{"$f":"IF(AND($B449=\"AZIONE_1\",$O449=5),'3 - SPECIE DA IMPIANTARE'!$U50,\"\")","v":""},null,"",{"$f":"IF(AND($B449=\"AZIONE_1\",$R449=6),'3 - SPECIE DA IMPIANTARE'!$U50,\"\")","v":""}]
[5,{"$f":"B350","v":""},"",{"$f":"IF(AND($B450=\"AZIONE_1\",C450=1),'3 - SPECIE DA IMPIANTARE'!$U51,\"\")","v":""},null,{"$f":"F350","v":""},{"$f":"IF(AND($B450=\"AZIONE_1\",F450=2),'3 - SPECIE DA IMPIANTARE'!$U51,\"\")","v":""},null,"",{"$f":"IF(AND($B450=\"AZIONE_1\",$I450=3),'3 - SPECIE DA IMPIANTARE'!$U51,\"\")","v":""},null,"",{"$f":"IF(AND($B450=\"AZIONE_1\",$L450=4),'3 - SPECIE DA IMPIANTARE'!$U51,\"\")","v":""},null,"",{"$f":"IF(AND($B450=\"AZIONE_1\",$O450=5),'3 - SPECIE DA IMPIANTARE'!$U51,\"\")","v":""},null,"",{"$f":"IF(AND($B450=\"AZIONE_1\",$R450=6),'3 - SPECIE DA IMPIANTARE'!$U51,\"\")","v":""}]
[5,{"$f":"B351","v":""},"",{"$f":"IF(AND($B451=\"AZIONE_1\",C451=1),'3 - SPECIE DA IMPIANTARE'!$U52,\"\")","v":""},null,{"$f":"F351","v":""},{"$f":"IF(AND($B451=\"AZIONE_1\",F451=2),'3 - SPECIE DA IMPIANTARE'!$U52,\"\")","v":""},null,"",{"$f":"IF(AND($B451=\"AZIONE_1\",$I451=3),'3 - SPECIE DA IMPIANTARE'!$U52,\"\")","v":""},null,"",{"$f":"IF(AND($B451=\"AZIONE_1\",$L451=4),'3 - SPECIE DA IMPIANTARE'!$U52,\"\")","v":""},null,"",{"$f":"IF(AND($B451=\"AZIONE_1\",$O451=5),'3 - SPECIE DA IMPIANTARE'!$U52,\"\")","v":""},null,"",{"$f":"IF(AND($B451=\"AZIONE_1\",$R451=6),'3 - SPECIE DA IMPIANTARE'!$U52,\"\")","v":""}]
[5,{"$f":"B352","v":""},"",{"$f":"IF(AND($B452=\"AZIONE_1\",C452=1),'3 - SPECIE DA IMPIANTARE'!$U53,\"\")","v":""},null,{"$f":"F352","v":""},{"$f":"IF(AND($B452=\"AZIONE_1\",F452=2),'3 - SPECIE DA IMPIANTARE'!$U53,\"\")","v":""},null,"",{"$f":"IF(AND($B452=\"AZIONE_1\",$I452=3),'3 - SPECIE DA IMPIANTARE'!$U53,\"\")","v":""},null,"",{"$f":"IF(AND($B452=\"AZIONE_1\",$L452=4),'3 - SPECIE DA IMPIANTARE'!$U53,\"\")","v":""},null,"",{"$f":"IF(AND($B452=\"AZIONE_1\",$O452=5),'3 - SPECIE DA IMPIANTARE'!$U53,\"\")","v":""},null,"",{"$f":"IF(AND($B452=\"AZIONE_1\",$R452=6),'3 - SPECIE DA IMPIANTARE'!$U53,\"\")","v":""}]
[5,{"$f":"B353","v":""},"",{"$f":"IF(AND($B453=\"AZIONE_1\",C453=1),'3 - SPECIE DA IMPIANTARE'!$U54,\"\")","v":""},null,{"$f":"F353","v":""},{"$f":"IF(AND($B453=\"AZIONE_1\",F453=2),'3 - SPECIE DA IMPIANTARE'!$U54,\"\")","v":""},null,"",{"$f":"IF(AND($B453=\"AZIONE_1\",$I453=3),'3 - SPECIE DA IMPIANTARE'!$U54,\"\")","v":""},null,"",{"$f":"IF(AND($B453=\"AZIONE_1\",$L453=4),'3 - SPECIE DA IMPIANTARE'!$U54,\"\")","v":""},null,"",{"$f":"IF(AND($B453=\"AZIONE_1\",$O453=5),'3 - SPECIE DA IMPIANTARE'!$U54,\"\")","v":""},null,"",{"$f":"IF(AND($B453=\"AZIONE_1\",$R453=6),'3 - SPECIE DA IMPIANTARE'!$U54,\"\")","v":""}]
[5,{"$f":"B354","v":""},"",{"$f":"IF(AND($B454=\"AZIONE_1\",C454=1),'3 - SPECIE DA IMPIANTARE'!$U55,\"\")","v":""},null,{"$f":"F354","v":""},{"$f":"IF(AND($B454=\"AZIONE_1\",F454=2),'3 - SPECIE DA IMPIANTARE'!$U55,\"\")","v":""},null,"",{"$f":"IF(AND($B454=\"AZIONE_1\",$I454=3),'3 - SPECIE DA IMPIANTARE'!$U55,\"\")","v":""},null,"",{"$f":"IF(AND($B454=\"AZIONE_1\",$L454=4),'3 - SPECIE DA IMPIANTARE'!$U55,\"\")","v":""},null,"",{"$f":"IF(AND($B454=\"AZIONE_1\",$O454=5),'3 - SPECIE DA IMPIANTARE'!$U55,\"\")","v":""},null,"",{"$f":"IF(AND($B454=\"AZIONE_1\",$R454=6),'3 - SPECIE DA IMPIANTARE'!$U55,\"\")","v":""}]
[5,{"$f":"B355","v":""},"",{"$f":"IF(AND($B455=\"AZIONE_1\",C455=1),'3 - SPECIE DA IMPIANTARE'!$U56,\"\")","v":""},null,{"$f":"F355","v":""},{"$f":"IF(AND($B455=\"AZIONE_1\",F455=2),'3 - SPECIE DA IMPIANTARE'!$U56,\"\")","v":""},null,"",{"$f":"IF(AND($B455=\"AZIONE_1\",$I455=3),'3 - SPECIE DA IMPIANTARE'!$U56,\"\")","v":""},null,"",{"$f":"IF(AND($B455=\"AZIONE_1\",$L455=4),'3 - SPECIE DA IMPIANTARE'!$U56,\"\")","v":""},null,"",{"$f":"IF(AND($B455=\"AZIONE_1\",$O455=5),'3 - SPECIE DA IMPIANTARE'!$U56,\"\")","v":""},null,"",{"$f":"IF(AND($B455=\"AZIONE_1\",$R455=6),'3 - SPECIE DA IMPIANTARE'!$U56,\"\")","v":""}]
[5,{"$f":"B356","v":""},"",{"$f":"IF(AND($B456=\"AZIONE_1\",C456=1),'3 - SPECIE DA IMPIANTARE'!$U57,\"\")","v":""},null,{"$f":"F356","v":""},{"$f":"IF(AND($B456=\"AZIONE_1\",F456=2),'3 - SPECIE DA IMPIANTARE'!$U57,\"\")","v":""},null,"",{"$f":"IF(AND($B456=\"AZIONE_1\",$I456=3),'3 - SPECIE DA IMPIANTARE'!$U57,\"\")","v":""},null,"",{"$f":"IF(AND($B456=\"AZIONE_1\",$L456=4),'3 - SPECIE DA IMPIANTARE'!$U57,\"\")","v":""},null,"",{"$f":"IF(AND($B456=\"AZIONE_1\",$O456=5),'3 - SPECIE DA IMPIANTARE'!$U57,\"\")","v":""},null,"",{"$f":"IF(AND($B456=\"AZIONE_1\",$R456=6),'3 - SPECIE DA IMPIANTARE'!$U57,\"\")","v":""}]
[5,{"$f":"B357","v":""},"",{"$f":"IF(AND($B457=\"AZIONE_1\",C457=1),'3 - SPECIE DA IMPIANTARE'!$U58,\"\")","v":""},null,{"$f":"F357","v":""},{"$f":"IF(AND($B457=\"AZIONE_1\",F457=2),'3 - SPECIE DA IMPIANTARE'!$U58,\"\")","v":""},null,"",{"$f":"IF(AND($B457=\"AZIONE_1\",$I457=3),'3 - SPECIE DA IMPIANTARE'!$U58,\"\")","v":""},null,"",{"$f":"IF(AND($B457=\"AZIONE_1\",$L457=4),'3 - SPECIE DA IMPIANTARE'!$U58,\"\")","v":""},null,"",{"$f":"IF(AND($B457=\"AZIONE_1\",$O457=5),'3 - SPECIE DA IMPIANTARE'!$U58,\"\")","v":""},null,"",{"$f":"IF(AND($B457=\"AZIONE_1\",$R457=6),'3 - SPECIE DA IMPIANTARE'!$U58,\"\")","v":""}]
[5,{"$f":"B358","v":""},"",{"$f":"IF(AND($B458=\"AZIONE_1\",C458=1),'3 - SPECIE DA IMPIANTARE'!$U59,\"\")","v":""},null,{"$f":"F358","v":""},{"$f":"IF(AND($B458=\"AZIONE_1\",F458=2),'3 - SPECIE DA IMPIANTARE'!$U59,\"\")","v":""},null,"",{"$f":"IF(AND($B458=\"AZIONE_1\",$I458=3),'3 - SPECIE DA IMPIANTARE'!$U59,\"\")","v":""},null,"",{"$f":"IF(AND($B458=\"AZIONE_1\",$L458=4),'3 - SPECIE DA IMPIANTARE'!$U59,\"\")","v":""},null,"",{"$f":"IF(AND($B458=\"AZIONE_1\",$O458=5),'3 - SPECIE DA IMPIANTARE'!$U59,\"\")","v":""},null,"",{"$f":"IF(AND($B458=\"AZIONE_1\",$R458=6),'3 - SPECIE DA IMPIANTARE'!$U59,\"\")","v":""}]
[5,{"$f":"B359","v":""},"",{"$f":"IF(AND($B459=\"AZIONE_1\",C459=1),'3 - SPECIE DA IMPIANTARE'!$U60,\"\")","v":""},null,{"$f":"F359","v":""},{"$f":"IF(AND($B459=\"AZIONE_1\",F459=2),'3 - SPECIE DA IMPIANTARE'!$U60,\"\")","v":""},null,"",{"$f":"IF(AND($B459=\"AZIONE_1\",$I459=3),'3 - SPECIE DA IMPIANTARE'!$U60,\"\")","v":""},null,"",{"$f":"IF(AND($B459=\"AZIONE_1\",$L459=4),'3 - SPECIE DA IMPIANTARE'!$U60,\"\")","v":""},null,"",{"$f":"IF(AND($B459=\"AZIONE_1\",$O459=5),'3 - SPECIE DA IMPIANTARE'!$U60,\"\")","v":""},null,"",{"$f":"IF(AND($B459=\"AZIONE_1\",$R459=6),'3 - SPECIE DA IMPIANTARE'!$U60,\"\")","v":""}]
[5,{"$f":"B360","v":""},"",{"$f":"IF(AND($B460=\"AZIONE_1\",C460=1),'3 - SPECIE DA IMPIANTARE'!$U61,\"\")","v":""},null,{"$f":"F360","v":""},{"$f":"IF(AND($B460=\"AZIONE_1\",F460=2),'3 - SPECIE DA IMPIANTARE'!$U61,\"\")","v":""},null,"",{"$f":"IF(AND($B460=\"AZIONE_1\",$I460=3),'3 - SPECIE DA IMPIANTARE'!$U61,\"\")","v":""},null,"",{"$f":"IF(AND($B460=\"AZIONE_1\",$L460=4),'3 - SPECIE DA IMPIANTARE'!$U61,\"\")","v":""},null,"",{"$f":"IF(AND($B460=\"AZIONE_1\",$O460=5),'3 - SPECIE DA IMPIANTARE'!$U61,\"\")","v":""},null,"",{"$f":"IF(AND($B460=\"AZIONE_1\",$R460=6),'3 - SPECIE DA IMPIANTARE'!$U61,\"\")","v":""}]
[5,{"$f":"B361","v":""},"",{"$f":"IF(AND($B461=\"AZIONE_1\",C461=1),'3 - SPECIE DA IMPIANTARE'!$U62,\"\")","v":""},null,{"$f":"F361","v":""},{"$f":"IF(AND($B461=\"AZIONE_1\",F461=2),'3 - SPECIE DA IMPIANTARE'!$U62,\"\")","v":""},null,"",{"$f":"IF(AND($B461=\"AZIONE_1\",$I461=3),'3 - SPECIE DA IMPIANTARE'!$U62,\"\")","v":""},null,"",{"$f":"IF(AND($B461=\"AZIONE_1\",$L461=4),'3 - SPECIE DA IMPIANTARE'!$U62,\"\")","v":""},null,"",{"$f":"IF(AND($B461=\"AZIONE_1\",$O461=5),'3 - SPECIE DA IMPIANTARE'!$U62,\"\")","v":""},null,"",{"$f":"IF(AND($B461=\"AZIONE_1\",$R461=6),'3 - SPECIE DA IMPIANTARE'!$U62,\"\")","v":""}]
[5,{"$f":"B362","v":""},"",{"$f":"IF(AND($B462=\"AZIONE_1\",C462=1),'3 - SPECIE DA IMPIANTARE'!$U63,\"\")","v":""},null,{"$f":"F362","v":""},{"$f":"IF(AND($B462=\"AZIONE_1\",F462=2),'3 - SPECIE DA IMPIANTARE'!$U63,\"\")","v":""},null,"",{"$f":"IF(AND($B462=\"AZIONE_1\",$I462=3),'3 - SPECIE DA IMPIANTARE'!$U63,\"\")","v":""},null,"",{"$f":"IF(AND($B462=\"AZIONE_1\",$L462=4),'3 - SPECIE DA IMPIANTARE'!$U63,\"\")","v":""},null,"",{"$f":"IF(AND($B462=\"AZIONE_1\",$O462=5),'3 - SPECIE DA IMPIANTARE'!$U63,\"\")","v":""},null,"",{"$f":"IF(AND($B462=\"AZIONE_1\",$R462=6),'3 - SPECIE DA IMPIANTARE'!$U63,\"\")","v":""}]
[5,{"$f":"B363","v":""},"",{"$f":"IF(AND($B463=\"AZIONE_1\",C463=1),'3 - SPECIE DA IMPIANTARE'!$U64,\"\")","v":""},null,{"$f":"F363","v":""},{"$f":"IF(AND($B463=\"AZIONE_1\",F463=2),'3 - SPECIE DA IMPIANTARE'!$U64,\"\")","v":""},null,"",{"$f":"IF(AND($B463=\"AZIONE_1\",$I463=3),'3 - SPECIE DA IMPIANTARE'!$U64,\"\")","v":""},null,"",{"$f":"IF(AND($B463=\"AZIONE_1\",$L463=4),'3 - SPECIE DA IMPIANTARE'!$U64,\"\")","v":""},null,"",{"$f":"IF(AND($B463=\"AZIONE_1\",$O463=5),'3 - SPECIE DA IMPIANTARE'!$U64,\"\")","v":""},null,"",{"$f":"IF(AND($B463=\"AZIONE_1\",$R463=6),'3 - SPECIE DA IMPIANTARE'!$U64,\"\")","v":""}]
[5,{"$f":"B364","v":""},"",{"$f":"IF(AND($B464=\"AZIONE_1\",C464=1),'3 - SPECIE DA IMPIANTARE'!$U65,\"\")","v":""},null,{"$f":"F364","v":""},{"$f":"IF(AND($B464=\"AZIONE_1\",F464=2),'3 - SPECIE DA IMPIANTARE'!$U65,\"\")","v":""},null,"",{"$f":"IF(AND($B464=\"AZIONE_1\",$I464=3),'3 - SPECIE DA IMPIANTARE'!$U65,\"\")","v":""},null,"",{"$f":"IF(AND($B464=\"AZIONE_1\",$L464=4),'3 - SPECIE DA IMPIANTARE'!$U65,\"\")","v":""},null,"",{"$f":"IF(AND($B464=\"AZIONE_1\",$O464=5),'3 - SPECIE DA IMPIANTARE'!$U65,\"\")","v":""},null,"",{"$f":"IF(AND($B464=\"AZIONE_1\",$R464=6),'3 - SPECIE DA IMPIANTARE'!$U65,\"\")","v":""}]
[5,{"$f":"B365","v":""},"",{"$f":"IF(AND($B465=\"AZIONE_1\",C465=1),'3 - SPECIE DA IMPIANTARE'!$U66,\"\")","v":""},null,{"$f":"F365","v":""},{"$f":"IF(AND($B465=\"AZIONE_1\",F465=2),'3 - SPECIE DA IMPIANTARE'!$U66,\"\")","v":""},null,"",{"$f":"IF(AND($B465=\"AZIONE_1\",$I465=3),'3 - SPECIE DA IMPIANTARE'!$U66,\"\")","v":""},null,"",{"$f":"IF(AND($B465=\"AZIONE_1\",$L465=4),'3 - SPECIE DA IMPIANTARE'!$U66,\"\")","v":""},null,"",{"$f":"IF(AND($B465=\"AZIONE_1\",$O465=5),'3 - SPECIE DA IMPIANTARE'!$U66,\"\")","v":""},null,"",{"$f":"IF(AND($B465=\"AZIONE_1\",$R465=6),'3 - SPECIE DA IMPIANTARE'!$U66,\"\")","v":""}]
[5,{"$f":"B366","v":""},"",{"$f":"IF(AND($B466=\"AZIONE_1\",C466=1),'3 - SPECIE DA IMPIANTARE'!$U67,\"\")","v":""},null,{"$f":"F366","v":""},{"$f":"IF(AND($B466=\"AZIONE_1\",F466=2),'3 - SPECIE DA IMPIANTARE'!$U67,\"\")","v":""},null,"",{"$f":"IF(AND($B466=\"AZIONE_1\",$I466=3),'3 - SPECIE DA IMPIANTARE'!$U67,\"\")","v":""},null,"",{"$f":"IF(AND($B466=\"AZIONE_1\",$L466=4),'3 - SPECIE DA IMPIANTARE'!$U67,\"\")","v":""},null,"",{"$f":"IF(AND($B466=\"AZIONE_1\",$O466=5),'3 - SPECIE DA IMPIANTARE'!$U67,\"\")","v":""},null,"",{"$f":"IF(AND($B466=\"AZIONE_1\",$R466=6),'3 - SPECIE DA IMPIANTARE'!$U67,\"\")","v":""}]
[5,{"$f":"B367","v":""},"",{"$f":"IF(AND($B467=\"AZIONE_1\",C467=1),'3 - SPECIE DA IMPIANTARE'!$U68,\"\")","v":""},null,{"$f":"F367","v":""},{"$f":"IF(AND($B467=\"AZIONE_1\",F467=2),'3 - SPECIE DA IMPIANTARE'!$U68,\"\")","v":""},null,"",{"$f":"IF(AND($B467=\"AZIONE_1\",$I467=3),'3 - SPECIE DA IMPIANTARE'!$U68,\"\")","v":""},null,"",{"$f":"IF(AND($B467=\"AZIONE_1\",$L467=4),'3 - SPECIE DA IMPIANTARE'!$U68,\"\")","v":""},null,"",{"$f":"IF(AND($B467=\"AZIONE_1\",$O467=5),'3 - SPECIE DA IMPIANTARE'!$U68,\"\")","v":""},null,"",{"$f":"IF(AND($B467=\"AZIONE_1\",$R467=6),'3 - SPECIE DA IMPIANTARE'!$U68,\"\")","v":""}]
[5,{"$f":"B368","v":""},"",{"$f":"IF(AND($B468=\"AZIONE_1\",C468=1),'3 - SPECIE DA IMPIANTARE'!$U69,\"\")","v":""},null,{"$f":"F368","v":""},{"$f":"IF(AND($B468=\"AZIONE_1\",F468=2),'3 - SPECIE DA IMPIANTARE'!$U69,\"\")","v":""},null,"",{"$f":"IF(AND($B468=\"AZIONE_1\",$I468=3),'3 - SPECIE DA IMPIANTARE'!$U69,\"\")","v":""},null,"",{"$f":"IF(AND($B468=\"AZIONE_1\",$L468=4),'3 - SPECIE DA IMPIANTARE'!$U69,\"\")","v":""},null,"",{"$f":"IF(AND($B468=\"AZIONE_1\",$O468=5),'3 - SPECIE DA IMPIANTARE'!$U69,\"\")","v":""},null,"",{"$f":"IF(AND($B468=\"AZIONE_1\",$R468=6),'3 - SPECIE DA IMPIANTARE'!$U69,\"\")","v":""}]
[5,{"$f":"B369","v":""},"",{"$f":"IF(AND($B469=\"AZIONE_1\",C469=1),'3 - SPECIE DA IMPIANTARE'!$U70,\"\")","v":""},null,{"$f":"F369","v":""},{"$f":"IF(AND($B469=\"AZIONE_1\",F469=2),'3 - SPECIE DA IMPIANTARE'!$U70,\"\")","v":""},null,"",{"$f":"IF(AND($B469=\"AZIONE_1\",$I469=3),'3 - SPECIE DA IMPIANTARE'!$U70,\"\")","v":""},null,"",{"$f":"IF(AND($B469=\"AZIONE_1\",$L469=4),'3 - SPECIE DA IMPIANTARE'!$U70,\"\")","v":""},null,"",{"$f":"IF(AND($B469=\"AZIONE_1\",$O469=5),'3 - SPECIE DA IMPIANTARE'!$U70,\"\")","v":""},null,"",{"$f":"IF(AND($B469=\"AZIONE_1\",$R469=6),'3 - SPECIE DA IMPIANTARE'!$U70,\"\")","v":""}]
[5,{"$f":"B370","v":""},"",{"$f":"IF(AND($B470=\"AZIONE_1\",C470=1),'3 - SPECIE DA IMPIANTARE'!$U71,\"\")","v":""},null,{"$f":"F370","v":""},{"$f":"IF(AND($B470=\"AZIONE_1\",F470=2),'3 - SPECIE DA IMPIANTARE'!$U71,\"\")","v":""},null,"",{"$f":"IF(AND($B470=\"AZIONE_1\",$I470=3),'3 - SPECIE DA IMPIANTARE'!$U71,\"\")","v":""},null,"",{"$f":"IF(AND($B470=\"AZIONE_1\",$L470=4),'3 - SPECIE DA IMPIANTARE'!$U71,\"\")","v":""},null,"",{"$f":"IF(AND($B470=\"AZIONE_1\",$O470=5),'3 - SPECIE DA IMPIANTARE'!$U71,\"\")","v":""},null,"",{"$f":"IF(AND($B470=\"AZIONE_1\",$R470=6),'3 - SPECIE DA IMPIANTARE'!$U71,\"\")","v":""}]
[5,{"$f":"B371","v":""},"",{"$f":"IF(AND($B471=\"AZIONE_1\",C471=1),'3 - SPECIE DA IMPIANTARE'!$U72,\"\")","v":""},null,{"$f":"F371","v":""},{"$f":"IF(AND($B471=\"AZIONE_1\",F471=2),'3 - SPECIE DA IMPIANTARE'!$U72,\"\")","v":""},null,"",{"$f":"IF(AND($B471=\"AZIONE_1\",$I471=3),'3 - SPECIE DA IMPIANTARE'!$U72,\"\")","v":""},null,"",{"$f":"IF(AND($B471=\"AZIONE_1\",$L471=4),'3 - SPECIE DA IMPIANTARE'!$U72,\"\")","v":""},null,"",{"$f":"IF(AND($B471=\"AZIONE_1\",$O471=5),'3 - SPECIE DA IMPIANTARE'!$U72,\"\")","v":""},null,"",{"$f":"IF(AND($B471=\"AZIONE_1\",$R471=6),'3 - SPECIE DA IMPIANTARE'!$U72,\"\")","v":""}]
[5,{"$f":"B372","v":""},"",{"$f":"IF(AND($B472=\"AZIONE_1\",C472=1),'3 - SPECIE DA IMPIANTARE'!$U73,\"\")","v":""},null,{"$f":"F372","v":""},{"$f":"IF(AND($B472=\"AZIONE_1\",F472=2),'3 - SPECIE DA IMPIANTARE'!$U73,\"\")","v":""},null,"",{"$f":"IF(AND($B472=\"AZIONE_1\",$I472=3),'3 - SPECIE DA IMPIANTARE'!$U73,\"\")","v":""},null,"",{"$f":"IF(AND($B472=\"AZIONE_1\",$L472=4),'3 - SPECIE DA IMPIANTARE'!$U73,\"\")","v":""},null,"",{"$f":"IF(AND($B472=\"AZIONE_1\",$O472=5),'3 - SPECIE DA IMPIANTARE'!$U73,\"\")","v":""},null,"",{"$f":"IF(AND($B472=\"AZIONE_1\",$R472=6),'3 - SPECIE DA IMPIANTARE'!$U73,\"\")","v":""}]
[5,{"$f":"B373","v":""},"",{"$f":"IF(AND($B473=\"AZIONE_1\",C473=1),'3 - SPECIE DA IMPIANTARE'!$U74,\"\")","v":""},null,{"$f":"F373","v":""},{"$f":"IF(AND($B473=\"AZIONE_1\",F473=2),'3 - SPECIE DA IMPIANTARE'!$U74,\"\")","v":""},null,"",{"$f":"IF(AND($B473=\"AZIONE_1\",$I473=3),'3 - SPECIE DA IMPIANTARE'!$U74,\"\")","v":""},null,"",{"$f":"IF(AND($B473=\"AZIONE_1\",$L473=4),'3 - SPECIE DA IMPIANTARE'!$U74,\"\")","v":""},null,"",{"$f":"IF(AND($B473=\"AZIONE_1\",$O473=5),'3 - SPECIE DA IMPIANTARE'!$U74,\"\")","v":""},null,"",{"$f":"IF(AND($B473=\"AZIONE_1\",$R473=6),'3 - SPECIE DA IMPIANTARE'!$U74,\"\")","v":""}]
[5,{"$f":"B374","v":""},"",{"$f":"IF(AND($B474=\"AZIONE_1\",C474=1),'3 - SPECIE DA IMPIANTARE'!$U75,\"\")","v":""},null,{"$f":"F374","v":""},{"$f":"IF(AND($B474=\"AZIONE_1\",F474=2),'3 - SPECIE DA IMPIANTARE'!$U75,\"\")","v":""},null,"",{"$f":"IF(AND($B474=\"AZIONE_1\",$I474=3),'3 - SPECIE DA IMPIANTARE'!$U75,\"\")","v":""},null,"",{"$f":"IF(AND($B474=\"AZIONE_1\",$L474=4),'3 - SPECIE DA IMPIANTARE'!$U75,\"\")","v":""},null,"",{"$f":"IF(AND($B474=\"AZIONE_1\",$O474=5),'3 - SPECIE DA IMPIANTARE'!$U75,\"\")","v":""},null,"",{"$f":"IF(AND($B474=\"AZIONE_1\",$R474=6),'3 - SPECIE DA IMPIANTARE'!$U75,\"\")","v":""}]
[5,{"$f":"B375","v":""},"",{"$f":"IF(AND($B475=\"AZIONE_1\",C475=1),'3 - SPECIE DA IMPIANTARE'!$U76,\"\")","v":""},null,{"$f":"F375","v":""},{"$f":"IF(AND($B475=\"AZIONE_1\",F475=2),'3 - SPECIE DA IMPIANTARE'!$U76,\"\")","v":""},null,"",{"$f":"IF(AND($B475=\"AZIONE_1\",$I475=3),'3 - SPECIE DA IMPIANTARE'!$U76,\"\")","v":""},null,"",{"$f":"IF(AND($B475=\"AZIONE_1\",$L475=4),'3 - SPECIE DA IMPIANTARE'!$U76,\"\")","v":""},null,"",{"$f":"IF(AND($B475=\"AZIONE_1\",$O475=5),'3 - SPECIE DA IMPIANTARE'!$U76,\"\")","v":""},null,"",{"$f":"IF(AND($B475=\"AZIONE_1\",$R475=6),'3 - SPECIE DA IMPIANTARE'!$U76,\"\")","v":""}]
[5,{"$f":"B376","v":""},"",{"$f":"IF(AND($B476=\"AZIONE_1\",C476=1),'3 - SPECIE DA IMPIANTARE'!$U77,\"\")","v":""},null,{"$f":"F376","v":""},{"$f":"IF(AND($B476=\"AZIONE_1\",F476=2),'3 - SPECIE DA IMPIANTARE'!$U77,\"\")","v":""},null,"",{"$f":"IF(AND($B476=\"AZIONE_1\",$I476=3),'3 - SPECIE DA IMPIANTARE'!$U77,\"\")","v":""},null,"",{"$f":"IF(AND($B476=\"AZIONE_1\",$L476=4),'3 - SPECIE DA IMPIANTARE'!$U77,\"\")","v":""},null,"",{"$f":"IF(AND($B476=\"AZIONE_1\",$O476=5),'3 - SPECIE DA IMPIANTARE'!$U77,\"\")","v":""},null,"",{"$f":"IF(AND($B476=\"AZIONE_1\",$R476=6),'3 - SPECIE DA IMPIANTARE'!$U77,\"\")","v":""}]
[5,{"$f":"B377","v":""},"",{"$f":"IF(AND($B477=\"AZIONE_1\",C477=1),'3 - SPECIE DA IMPIANTARE'!$U78,\"\")","v":""},null,{"$f":"F377","v":""},{"$f":"IF(AND($B477=\"AZIONE_1\",F477=2),'3 - SPECIE DA IMPIANTARE'!$U78,\"\")","v":""},null,"",{"$f":"IF(AND($B477=\"AZIONE_1\",$I477=3),'3 - SPECIE DA IMPIANTARE'!$U78,\"\")","v":""},null,"",{"$f":"IF(AND($B477=\"AZIONE_1\",$L477=4),'3 - SPECIE DA IMPIANTARE'!$U78,\"\")","v":""},null,"",{"$f":"IF(AND($B477=\"AZIONE_1\",$O477=5),'3 - SPECIE DA IMPIANTARE'!$U78,\"\")","v":""},null,"",{"$f":"IF(AND($B477=\"AZIONE_1\",$R477=6),'3 - SPECIE DA IMPIANTARE'!$U78,\"\")","v":""}]
[5,{"$f":"B378","v":""},"",{"$f":"IF(AND($B478=\"AZIONE_1\",C478=1),'3 - SPECIE DA IMPIANTARE'!$U79,\"\")","v":""},null,{"$f":"F378","v":""},{"$f":"IF(AND($B478=\"AZIONE_1\",F478=2),'3 - SPECIE DA IMPIANTARE'!$U79,\"\")","v":""},null,"",{"$f":"IF(AND($B478=\"AZIONE_1\",$I478=3),'3 - SPECIE DA IMPIANTARE'!$U79,\"\")","v":""},null,"",{"$f":"IF(AND($B478=\"AZIONE_1\",$L478=4),'3 - SPECIE DA IMPIANTARE'!$U79,\"\")","v":""},null,"",{"$f":"IF(AND($B478=\"AZIONE_1\",$O478=5),'3 - SPECIE DA IMPIANTARE'!$U79,\"\")","v":""},null,"",{"$f":"IF(AND($B478=\"AZIONE_1\",$R478=6),'3 - SPECIE DA IMPIANTARE'!$U79,\"\")","v":""}]
[5,{"$f":"B379","v":""},"",{"$f":"IF(AND($B479=\"AZIONE_1\",C479=1),'3 - SPECIE DA IMPIANTARE'!$U80,\"\")","v":""},null,{"$f":"F379","v":""},{"$f":"IF(AND($B479=\"AZIONE_1\",F479=2),'3 - SPECIE DA IMPIANTARE'!$U80,\"\")","v":""},null,"",{"$f":"IF(AND($B479=\"AZIONE_1\",$I479=3),'3 - SPECIE DA IMPIANTARE'!$U80,\"\")","v":""},null,"",{"$f":"IF(AND($B479=\"AZIONE_1\",$L479=4),'3 - SPECIE DA IMPIANTARE'!$U80,\"\")","v":""},null,"",{"$f":"IF(AND($B479=\"AZIONE_1\",$O479=5),'3 - SPECIE DA IMPIANTARE'!$U80,\"\")","v":""},null,"",{"$f":"IF(AND($B479=\"AZIONE_1\",$R479=6),'3 - SPECIE DA IMPIANTARE'!$U80,\"\")","v":""}]
[5,{"$f":"B380","v":""},"",{"$f":"IF(AND($B480=\"AZIONE_1\",C480=1),'3 - SPECIE DA IMPIANTARE'!$U81,\"\")","v":""},null,{"$f":"F380","v":""},{"$f":"IF(AND($B480=\"AZIONE_1\",F480=2),'3 - SPECIE DA IMPIANTARE'!$U81,\"\")","v":""},null,"",{"$f":"IF(AND($B480=\"AZIONE_1\",$I480=3),'3 - SPECIE DA IMPIANTARE'!$U81,\"\")","v":""},null,"",{"$f":"IF(AND($B480=\"AZIONE_1\",$L480=4),'3 - SPECIE DA IMPIANTARE'!$U81,\"\")","v":""},null,"",{"$f":"IF(AND($B480=\"AZIONE_1\",$O480=5),'3 - SPECIE DA IMPIANTARE'!$U81,\"\")","v":""},null,"",{"$f":"IF(AND($B480=\"AZIONE_1\",$R480=6),'3 - SPECIE DA IMPIANTARE'!$U81,\"\")","v":""}]
[5,{"$f":"B381","v":""},"",{"$f":"IF(AND($B481=\"AZIONE_1\",C481=1),'3 - SPECIE DA IMPIANTARE'!$U82,\"\")","v":""},null,{"$f":"F381","v":""},{"$f":"IF(AND($B481=\"AZIONE_1\",F481=2),'3 - SPECIE DA IMPIANTARE'!$U82,\"\")","v":""},null,"",{"$f":"IF(AND($B481=\"AZIONE_1\",$I481=3),'3 - SPECIE DA IMPIANTARE'!$U82,\"\")","v":""},null,"",{"$f":"IF(AND($B481=\"AZIONE_1\",$L481=4),'3 - SPECIE DA IMPIANTARE'!$U82,\"\")","v":""},null,"",{"$f":"IF(AND($B481=\"AZIONE_1\",$O481=5),'3 - SPECIE DA IMPIANTARE'!$U82,\"\")","v":""},null,"",{"$f":"IF(AND($B481=\"AZIONE_1\",$R481=6),'3 - SPECIE DA IMPIANTARE'!$U82,\"\")","v":""}]
[5,{"$f":"B382","v":""},"",{"$f":"IF(AND($B482=\"AZIONE_1\",C482=1),'3 - SPECIE DA IMPIANTARE'!$U83,\"\")","v":""},null,{"$f":"F382","v":""},{"$f":"IF(AND($B482=\"AZIONE_1\",F482=2),'3 - SPECIE DA IMPIANTARE'!$U83,\"\")","v":""},null,"",{"$f":"IF(AND($B482=\"AZIONE_1\",$I482=3),'3 - SPECIE DA IMPIANTARE'!$U83,\"\")","v":""},null,"",{"$f":"IF(AND($B482=\"AZIONE_1\",$L482=4),'3 - SPECIE DA IMPIANTARE'!$U83,\"\")","v":""},null,"",{"$f":"IF(AND($B482=\"AZIONE_1\",$O482=5),'3 - SPECIE DA IMPIANTARE'!$U83,\"\")","v":""},null,"",{"$f":"IF(AND($B482=\"AZIONE_1\",$R482=6),'3 - SPECIE DA IMPIANTARE'!$U83,\"\")","v":""}]
[5,{"$f":"B383","v":""},"",{"$f":"IF(AND($B483=\"AZIONE_1\",C483=1),'3 - SPECIE DA IMPIANTARE'!$U84,\"\")","v":""},null,{"$f":"F383","v":""},{"$f":"IF(AND($B483=\"AZIONE_1\",F483=2),'3 - SPECIE DA IMPIANTARE'!$U84,\"\")","v":""},null,"",{"$f":"IF(AND($B483=\"AZIONE_1\",$I483=3),'3 - SPECIE DA IMPIANTARE'!$U84,\"\")","v":""},null,"",{"$f":"IF(AND($B483=\"AZIONE_1\",$L483=4),'3 - SPECIE DA IMPIANTARE'!$U84,\"\")","v":""},null,"",{"$f":"IF(AND($B483=\"AZIONE_1\",$O483=5),'3 - SPECIE DA IMPIANTARE'!$U84,\"\")","v":""},null,"",{"$f":"IF(AND($B483=\"AZIONE_1\",$R483=6),'3 - SPECIE DA IMPIANTARE'!$U84,\"\")","v":""}]
[5,{"$f":"B384","v":""},"",{"$f":"IF(AND($B484=\"AZIONE_1\",C484=1),'3 - SPECIE DA IMPIANTARE'!$U85,\"\")","v":""},null,{"$f":"F384","v":""},{"$f":"IF(AND($B484=\"AZIONE_1\",F484=2),'3 - SPECIE DA IMPIANTARE'!$U85,\"\")","v":""},null,"",{"$f":"IF(AND($B484=\"AZIONE_1\",$I484=3),'3 - SPECIE DA IMPIANTARE'!$U85,\"\")","v":""},null,"",{"$f":"IF(AND($B484=\"AZIONE_1\",$L484=4),'3 - SPECIE DA IMPIANTARE'!$U85,\"\")","v":""},null,"",{"$f":"IF(AND($B484=\"AZIONE_1\",$O484=5),'3 - SPECIE DA IMPIANTARE'!$U85,\"\")","v":""},null,"",{"$f":"IF(AND($B484=\"AZIONE_1\",$R484=6),'3 - SPECIE DA IMPIANTARE'!$U85,\"\")","v":""}]
[5,{"$f":"B385","v":""},"",{"$f":"IF(AND($B485=\"AZIONE_1\",C485=1),'3 - SPECIE DA IMPIANTARE'!$U86,\"\")","v":""},null,{"$f":"F385","v":""},{"$f":"IF(AND($B485=\"AZIONE_1\",F485=2),'3 - SPECIE DA IMPIANTARE'!$U86,\"\")","v":""},null,"",{"$f":"IF(AND($B485=\"AZIONE_1\",$I485=3),'3 - SPECIE DA IMPIANTARE'!$U86,\"\")","v":""},null,"",{"$f":"IF(AND($B485=\"AZIONE_1\",$L485=4),'3 - SPECIE DA IMPIANTARE'!$U86,\"\")","v":""},null,"",{"$f":"IF(AND($B485=\"AZIONE_1\",$O485=5),'3 - SPECIE DA IMPIANTARE'!$U86,\"\")","v":""},null,"",{"$f":"IF(AND($B485=\"AZIONE_1\",$R485=6),'3 - SPECIE DA IMPIANTARE'!$U86,\"\")","v":""}]
[5,{"$f":"B386","v":""},"",{"$f":"IF(AND($B486=\"AZIONE_1\",C486=1),'3 - SPECIE DA IMPIANTARE'!$U87,\"\")","v":""},null,{"$f":"F386","v":""},{"$f":"IF(AND($B486=\"AZIONE_1\",F486=2),'3 - SPECIE DA IMPIANTARE'!$U87,\"\")","v":""},null,"",{"$f":"IF(AND($B486=\"AZIONE_1\",$I486=3),'3 - SPECIE DA IMPIANTARE'!$U87,\"\")","v":""},null,"",{"$f":"IF(AND($B486=\"AZIONE_1\",$L486=4),'3 - SPECIE DA IMPIANTARE'!$U87,\"\")","v":""},null,"",{"$f":"IF(AND($B486=\"AZIONE_1\",$O486=5),'3 - SPECIE DA IMPIANTARE'!$U87,\"\")","v":""},null,"",{"$f":"IF(AND($B486=\"AZIONE_1\",$R486=6),'3 - SPECIE DA IMPIANTARE'!$U87,\"\")","v":""}]
[5,{"$f":"B387","v":""},"",{"$f":"IF(AND($B487=\"AZIONE_1\",C487=1),'3 - SPECIE DA IMPIANTARE'!$U88,\"\")","v":""},null,{"$f":"F387","v":""},{"$f":"IF(AND($B487=\"AZIONE_1\",F487=2),'3 - SPECIE DA IMPIANTARE'!$U88,\"\")","v":""},null,{"$f":"I387","v":""},{"$f":"IF(AND($B487=\"AZIONE_1\",$I487=3),'3 - SPECIE DA IMPIANTARE'!$U88,\"\")","v":""},null,{"$f":"L387","v":""},{"$f":"IF(AND($B487=\"AZIONE_1\",$L487=4),'3 - SPECIE DA IMPIANTARE'!$U88,\"\")","v":""},null,{"$f":"O387","v":""},{"$f":"IF(AND($B487=\"AZIONE_1\",$O487=5),'3 - SPECIE DA IMPIANTARE'!$U88,\"\")","v":""},null,{"$f":"R387","v":""},{"$f":"IF(AND($B487=\"AZIONE_1\",$R487=6),'3 - SPECIE DA IMPIANTARE'!$U88,\"\")","v":""}]
[5,{"$f":"B388","v":""},"",{"$f":"IF(AND($B488=\"AZIONE_1\",C488=1),'3 - SPECIE DA IMPIANTARE'!$U89,\"\")","v":""},null,{"$f":"F388","v":""},{"$f":"IF(AND($B488=\"AZIONE_1\",F488=2),'3 - SPECIE DA IMPIANTARE'!$U89,\"\")","v":""},null,"",{"$f":"IF(AND($B488=\"AZIONE_1\",$I488=3),'3 - SPECIE DA IMPIANTARE'!$U89,\"\")","v":""},null,"",{"$f":"IF(AND($B488=\"AZIONE_1\",$L488=4),'3 - SPECIE DA IMPIANTARE'!$U89,\"\")","v":""},null,"",{"$f":"IF(AND($B488=\"AZIONE_1\",$O488=5),'3 - SPECIE DA IMPIANTARE'!$U89,\"\")","v":""},null,"",{"$f":"IF(AND($B488=\"AZIONE_1\",$R488=6),'3 - SPECIE DA IMPIANTARE'!$U89,\"\")","v":""}]
[5,{"$f":"B389","v":""},"",{"$f":"IF(AND($B489=\"AZIONE_1\",C489=1),'3 - SPECIE DA IMPIANTARE'!$U90,\"\")","v":""},null,{"$f":"F389","v":""},{"$f":"IF(AND($B489=\"AZIONE_1\",F489=2),'3 - SPECIE DA IMPIANTARE'!$U90,\"\")","v":""},null,"",{"$f":"IF(AND($B489=\"AZIONE_1\",$I489=3),'3 - SPECIE DA IMPIANTARE'!$U90,\"\")","v":""},null,"",{"$f":"IF(AND($B489=\"AZIONE_1\",$L489=4),'3 - SPECIE DA IMPIANTARE'!$U90,\"\")","v":""},null,"",{"$f":"IF(AND($B489=\"AZIONE_1\",$O489=5),'3 - SPECIE DA IMPIANTARE'!$U90,\"\")","v":""},null,"",{"$f":"IF(AND($B489=\"AZIONE_1\",$R489=6),'3 - SPECIE DA IMPIANTARE'!$U90,\"\")","v":""}]
[5,{"$f":"B390","v":""},"",{"$f":"IF(AND($B490=\"AZIONE_1\",C490=1),'3 - SPECIE DA IMPIANTARE'!$U91,\"\")","v":""},null,{"$f":"F390","v":""},{"$f":"IF(AND($B490=\"AZIONE_1\",F490=2),'3 - SPECIE DA IMPIANTARE'!$U91,\"\")","v":""},null,"",{"$f":"IF(AND($B490=\"AZIONE_1\",$I490=3),'3 - SPECIE DA IMPIANTARE'!$U91,\"\")","v":""},null,"",{"$f":"IF(AND($B490=\"AZIONE_1\",$L490=4),'3 - SPECIE DA IMPIANTARE'!$U91,\"\")","v":""},null,"",{"$f":"IF(AND($B490=\"AZIONE_1\",$O490=5),'3 - SPECIE DA IMPIANTARE'!$U91,\"\")","v":""},null,"",{"$f":"IF(AND($B490=\"AZIONE_1\",$R490=6),'3 - SPECIE DA IMPIANTARE'!$U91,\"\")","v":""}]
[5,{"$f":"B391","v":""},"",{"$f":"IF(AND($B491=\"AZIONE_1\",C491=1),'3 - SPECIE DA IMPIANTARE'!$U92,\"\")","v":""},null,{"$f":"F391","v":""},{"$f":"IF(AND($B491=\"AZIONE_1\",F491=2),'3 - SPECIE DA IMPIANTARE'!$U92,\"\")","v":""},null,"",{"$f":"IF(AND($B491=\"AZIONE_1\",$I491=3),'3 - SPECIE DA IMPIANTARE'!$U92,\"\")","v":""},null,"",{"$f":"IF(AND($B491=\"AZIONE_1\",$L491=4),'3 - SPECIE DA IMPIANTARE'!$U92,\"\")","v":""},null,"",{"$f":"IF(AND($B491=\"AZIONE_1\",$O491=5),'3 - SPECIE DA IMPIANTARE'!$U92,\"\")","v":""},null,"",{"$f":"IF(AND($B491=\"AZIONE_1\",$R491=6),'3 - SPECIE DA IMPIANTARE'!$U92,\"\")","v":""}]
[5,{"$f":"B392","v":""},"",{"$f":"IF(AND($B492=\"AZIONE_1\",C492=1),'3 - SPECIE DA IMPIANTARE'!$U93,\"\")","v":""},null,{"$f":"F392","v":""},{"$f":"IF(AND($B492=\"AZIONE_1\",F492=2),'3 - SPECIE DA IMPIANTARE'!$U93,\"\")","v":""},null,"",{"$f":"IF(AND($B492=\"AZIONE_1\",$I492=3),'3 - SPECIE DA IMPIANTARE'!$U93,\"\")","v":""},null,"",{"$f":"IF(AND($B492=\"AZIONE_1\",$L492=4),'3 - SPECIE DA IMPIANTARE'!$U93,\"\")","v":""},null,"",{"$f":"IF(AND($B492=\"AZIONE_1\",$O492=5),'3 - SPECIE DA IMPIANTARE'!$U93,\"\")","v":""},null,"",{"$f":"IF(AND($B492=\"AZIONE_1\",$R492=6),'3 - SPECIE DA IMPIANTARE'!$U93,\"\")","v":""}]
[5,{"$f":"B393","v":""},"",{"$f":"IF(AND($B493=\"AZIONE_1\",C493=1),'3 - SPECIE DA IMPIANTARE'!$U94,\"\")","v":""},null,{"$f":"F393","v":""},{"$f":"IF(AND($B493=\"AZIONE_1\",F493=2),'3 - SPECIE DA IMPIANTARE'!$U94,\"\")","v":""},null,"",{"$f":"IF(AND($B493=\"AZIONE_1\",$I493=3),'3 - SPECIE DA IMPIANTARE'!$U94,\"\")","v":""},null,"",{"$f":"IF(AND($B493=\"AZIONE_1\",$L493=4),'3 - SPECIE DA IMPIANTARE'!$U94,\"\")","v":""},null,"",{"$f":"IF(AND($B493=\"AZIONE_1\",$O493=5),'3 - SPECIE DA IMPIANTARE'!$U94,\"\")","v":""},null,"",{"$f":"IF(AND($B493=\"AZIONE_1\",$R493=6),'3 - SPECIE DA IMPIANTARE'!$U94,\"\")","v":""}]
[5,{"$f":"B394","v":""},"",{"$f":"IF(AND($B494=\"AZIONE_1\",C494=1),'3 - SPECIE DA IMPIANTARE'!$U95,\"\")","v":""},null,{"$f":"F394","v":""},{"$f":"IF(AND($B494=\"AZIONE_1\",F494=2),'3 - SPECIE DA IMPIANTARE'!$U95,\"\")","v":""},null,"",{"$f":"IF(AND($B494=\"AZIONE_1\",$I494=3),'3 - SPECIE DA IMPIANTARE'!$U95,\"\")","v":""},null,"",{"$f":"IF(AND($B494=\"AZIONE_1\",$L494=4),'3 - SPECIE DA IMPIANTARE'!$U95,\"\")","v":""},null,"",{"$f":"IF(AND($B494=\"AZIONE_1\",$O494=5),'3 - SPECIE DA IMPIANTARE'!$U95,\"\")","v":""},null,"",{"$f":"IF(AND($B494=\"AZIONE_1\",$R494=6),'3 - SPECIE DA IMPIANTARE'!$U95,\"\")","v":""}]
[5,{"$f":"B395","v":""},"",{"$f":"IF(AND($B495=\"AZIONE_1\",C495=1),'3 - SPECIE DA IMPIANTARE'!$U96,\"\")","v":""},null,{"$f":"F395","v":""},{"$f":"IF(AND($B495=\"AZIONE_1\",F495=2),'3 - SPECIE DA IMPIANTARE'!$U96,\"\")","v":""},null,"",{"$f":"IF(AND($B495=\"AZIONE_1\",$I495=3),'3 - SPECIE DA IMPIANTARE'!$U96,\"\")","v":""},null,"",{"$f":"IF(AND($B495=\"AZIONE_1\",$L495=4),'3 - SPECIE DA IMPIANTARE'!$U96,\"\")","v":""},null,"",{"$f":"IF(AND($B495=\"AZIONE_1\",$O495=5),'3 - SPECIE DA IMPIANTARE'!$U96,\"\")","v":""},null,"",{"$f":"IF(AND($B495=\"AZIONE_1\",$R495=6),'3 - SPECIE DA IMPIANTARE'!$U96,\"\")","v":""}]
[5,{"$f":"B396","v":""},"",{"$f":"IF(AND($B496=\"AZIONE_1\",C496=1),'3 - SPECIE DA IMPIANTARE'!$U97,\"\")","v":""},null,{"$f":"F396","v":""},{"$f":"IF(AND($B496=\"AZIONE_1\",F496=2),'3 - SPECIE DA IMPIANTARE'!$U97,\"\")","v":""},null,"",{"$f":"IF(AND($B496=\"AZIONE_1\",$I496=3),'3 - SPECIE DA IMPIANTARE'!$U97,\"\")","v":""},null,"",{"$f":"IF(AND($B496=\"AZIONE_1\",$L496=4),'3 - SPECIE DA IMPIANTARE'!$U97,\"\")","v":""},null,"",{"$f":"IF(AND($B496=\"AZIONE_1\",$O496=5),'3 - SPECIE DA IMPIANTARE'!$U97,\"\")","v":""},null,"",{"$f":"IF(AND($B496=\"AZIONE_1\",$R496=6),'3 - SPECIE DA IMPIANTARE'!$U97,\"\")","v":""}]
[5,{"$f":"B397","v":""},"",{"$f":"IF(AND($B497=\"AZIONE_1\",C497=1),'3 - SPECIE DA IMPIANTARE'!$U98,\"\")","v":""},null,{"$f":"F397","v":""},{"$f":"IF(AND($B497=\"AZIONE_1\",F497=2),'3 - SPECIE DA IMPIANTARE'!$U98,\"\")","v":""},null,"",{"$f":"IF(AND($B497=\"AZIONE_1\",$I497=3),'3 - SPECIE DA IMPIANTARE'!$U98,\"\")","v":""},null,"",{"$f":"IF(AND($B497=\"AZIONE_1\",$L497=4),'3 - SPECIE DA IMPIANTARE'!$U98,\"\")","v":""},null,"",{"$f":"IF(AND($B497=\"AZIONE_1\",$O497=5),'3 - SPECIE DA IMPIANTARE'!$U98,\"\")","v":""},null,"",{"$f":"IF(AND($B497=\"AZIONE_1\",$R497=6),'3 - SPECIE DA IMPIANTARE'!$U98,\"\")","v":""}]
[5,{"$f":"B398","v":""},"",{"$f":"IF(AND($B498=\"AZIONE_1\",C498=1),'3 - SPECIE DA IMPIANTARE'!$U99,\"\")","v":""},null,{"$f":"F398","v":""},{"$f":"IF(AND($B498=\"AZIONE_1\",F498=2),'3 - SPECIE DA IMPIANTARE'!$U99,\"\")","v":""},null,"",{"$f":"IF(AND($B498=\"AZIONE_1\",$I498=3),'3 - SPECIE DA IMPIANTARE'!$U99,\"\")","v":""},null,"",{"$f":"IF(AND($B498=\"AZIONE_1\",$L498=4),'3 - SPECIE DA IMPIANTARE'!$U99,\"\")","v":""},null,"",{"$f":"IF(AND($B498=\"AZIONE_1\",$O498=5),'3 - SPECIE DA IMPIANTARE'!$U99,\"\")","v":""},null,"",{"$f":"IF(AND($B498=\"AZIONE_1\",$R498=6),'3 - SPECIE DA IMPIANTARE'!$U99,\"\")","v":""}]
[5,{"$f":"B399","v":""},"",{"$f":"IF(AND($B499=\"AZIONE_1\",C499=1),'3 - SPECIE DA IMPIANTARE'!$U100,\"\")","v":""},null,{"$f":"F399","v":""},{"$f":"IF(AND($B499=\"AZIONE_1\",F499=2),'3 - SPECIE DA IMPIANTARE'!$U100,\"\")","v":""},null,"",{"$f":"IF(AND($B499=\"AZIONE_1\",$I499=3),'3 - SPECIE DA IMPIANTARE'!$U100,\"\")","v":""},null,"",{"$f":"IF(AND($B499=\"AZIONE_1\",$L499=4),'3 - SPECIE DA IMPIANTARE'!$U100,\"\")","v":""},null,"",{"$f":"IF(AND($B499=\"AZIONE_1\",$O499=5),'3 - SPECIE DA IMPIANTARE'!$U100,\"\")","v":""},null,"",{"$f":"IF(AND($B499=\"AZIONE_1\",$R499=6),'3 - SPECIE DA IMPIANTARE'!$U100,\"\")","v":""}]
[5,{"$f":"B400","v":""},"",{"$f":"IF(AND($B500=\"AZIONE_1\",C500=1),'3 - SPECIE DA IMPIANTARE'!$U101,\"\")","v":""},null,{"$f":"F400","v":""},{"$f":"IF(AND($B500=\"AZIONE_1\",F500=2),'3 - SPECIE DA IMPIANTARE'!$U101,\"\")","v":""},null,"",{"$f":"IF(AND($B500=\"AZIONE_1\",$I500=3),'3 - SPECIE DA IMPIANTARE'!$U101,\"\")","v":""},null,"",{"$f":"IF(AND($B500=\"AZIONE_1\",$L500=4),'3 - SPECIE DA IMPIANTARE'!$U101,\"\")","v":""},null,"",{"$f":"IF(AND($B500=\"AZIONE_1\",$O500=5),'3 - SPECIE DA IMPIANTARE'!$U101,\"\")","v":""},null,"",{"$f":"IF(AND($B500=\"AZIONE_1\",$R500=6),'3 - SPECIE DA IMPIANTARE'!$U101,\"\")","v":""}]
[5,{"$f":"B401","v":""},"",{"$f":"IF(AND($B501=\"AZIONE_1\",C501=1),'3 - SPECIE DA IMPIANTARE'!$U102,\"\")","v":""},null,{"$f":"F401","v":""},{"$f":"IF(AND($B501=\"AZIONE_1\",F501=2),'3 - SPECIE DA IMPIANTARE'!$U102,\"\")","v":""},null,"",{"$f":"IF(AND($B501=\"AZIONE_1\",$I501=3),'3 - SPECIE DA IMPIANTARE'!$U102,\"\")","v":""},null,"",{"$f":"IF(AND($B501=\"AZIONE_1\",$L501=4),'3 - SPECIE DA IMPIANTARE'!$U102,\"\")","v":""},null,"",{"$f":"IF(AND($B501=\"AZIONE_1\",$O501=5),'3 - SPECIE DA IMPIANTARE'!$U102,\"\")","v":""},null,"",{"$f":"IF(AND($B501=\"AZIONE_1\",$R501=6),'3 - SPECIE DA IMPIANTARE'!$U102,\"\")","v":""}]
[6,{"$f":"B402","v":""},"",{"$f":"IF(AND($B502=\"AZIONE_1\",C502=1),'3 - SPECIE DA IMPIANTARE'!$X3,\"\")","v":""},null,{"$f":"F402","v":""},{"$f":"IF(AND($B502=\"AZIONE_1\",F502=2),'3 - SPECIE DA IMPIANTARE'!$X3,\"\")","v":""},null,"",{"$f":"IF(AND($B502=\"AZIONE_1\",$I502=3),'3 - SPECIE DA IMPIANTARE'!$X3,\"\")","v":""},null,"",{"$f":"IF(AND($B502=\"AZIONE_1\",$L502=4),'3 - SPECIE DA IMPIANTARE'!$X3,\"\")","v":""},null,"",{"$f":"IF(AND($B502=\"AZIONE_1\",$O502=5),'3 - SPECIE DA IMPIANTARE'!$X3,\"\")","v":""},null,"",{"$f":"IF(AND($B502=\"AZIONE_1\",$R502=6),'3 - SPECIE DA IMPIANTARE'!$X3,\"\")","v":""}]
[6,{"$f":"B403","v":""},"",{"$f":"IF(AND($B503=\"AZIONE_1\",C503=1),'3 - SPECIE DA IMPIANTARE'!$X4,\"\")","v":""},null,{"$f":"F403","v":""},{"$f":"IF(AND($B503=\"AZIONE_1\",F503=2),'3 - SPECIE DA IMPIANTARE'!$X4,\"\")","v":""},null,"",{"$f":"IF(AND($B503=\"AZIONE_1\",$I503=3),'3 - SPECIE DA IMPIANTARE'!$X4,\"\")","v":""},null,"",{"$f":"IF(AND($B503=\"AZIONE_1\",$L503=4),'3 - SPECIE DA IMPIANTARE'!$X4,\"\")","v":""},null,"",{"$f":"IF(AND($B503=\"AZIONE_1\",$O503=5),'3 - SPECIE DA IMPIANTARE'!$X4,\"\")","v":""},null,"",{"$f":"IF(AND($B503=\"AZIONE_1\",$R503=6),'3 - SPECIE DA IMPIANTARE'!$X4,\"\")","v":""}]
[6,{"$f":"B404","v":""},"",{"$f":"IF(AND($B504=\"AZIONE_1\",C504=1),'3 - SPECIE DA IMPIANTARE'!$X5,\"\")","v":""},null,{"$f":"F404","v":""},{"$f":"IF(AND($B504=\"AZIONE_1\",F504=2),'3 - SPECIE DA IMPIANTARE'!$X5,\"\")","v":""},null,"",{"$f":"IF(AND($B504=\"AZIONE_1\",$I504=3),'3 - SPECIE DA IMPIANTARE'!$X5,\"\")","v":""},null,"",{"$f":"IF(AND($B504=\"AZIONE_1\",$L504=4),'3 - SPECIE DA IMPIANTARE'!$X5,\"\")","v":""},null,"",{"$f":"IF(AND($B504=\"AZIONE_1\",$O504=5),'3 - SPECIE DA IMPIANTARE'!$X5,\"\")","v":""},null,"",{"$f":"IF(AND($B504=\"AZIONE_1\",$R504=6),'3 - SPECIE DA IMPIANTARE'!$X5,\"\")","v":""}]
[6,{"$f":"B405","v":""},"",{"$f":"IF(AND($B505=\"AZIONE_1\",C505=1),'3 - SPECIE DA IMPIANTARE'!$X6,\"\")","v":""},null,{"$f":"F405","v":""},{"$f":"IF(AND($B505=\"AZIONE_1\",F505=2),'3 - SPECIE DA IMPIANTARE'!$X6,\"\")","v":""},null,"",{"$f":"IF(AND($B505=\"AZIONE_1\",$I505=3),'3 - SPECIE DA IMPIANTARE'!$X6,\"\")","v":""},null,"",{"$f":"IF(AND($B505=\"AZIONE_1\",$L505=4),'3 - SPECIE DA IMPIANTARE'!$X6,\"\")","v":""},null,"",{"$f":"IF(AND($B505=\"AZIONE_1\",$O505=5),'3 - SPECIE DA IMPIANTARE'!$X6,\"\")","v":""},null,"",{"$f":"IF(AND($B505=\"AZIONE_1\",$R505=6),'3 - SPECIE DA IMPIANTARE'!$X6,\"\")","v":""}]
[6,"","",{"$f":"IF(AND($B506=\"AZIONE_1\",C506=1),'3 - SPECIE DA IMPIANTARE'!$X7,\"\")","v":""},null,{"$f":"F406","v":""},{"$f":"IF(AND($B506=\"AZIONE_1\",F506=2),'3 - SPECIE DA IMPIANTARE'!$X7,\"\")","v":""},null,"",{"$f":"IF(AND($B506=\"AZIONE_1\",$I506=3),'3 - SPECIE DA IMPIANTARE'!$X7,\"\")","v":""},null,"",{"$f":"IF(AND($B506=\"AZIONE_1\",$L506=4),'3 - SPECIE DA IMPIANTARE'!$X7,\"\")","v":""},null,"",{"$f":"IF(AND($B506=\"AZIONE_1\",$O506=5),'3 - SPECIE DA IMPIANTARE'!$X7,\"\")","v":""},null,"",{"$f":"IF(AND($B506=\"AZIONE_1\",$R506=6),'3 - SPECIE DA IMPIANTARE'!$X7,\"\")","v":""}]
[6,"","",{"$f":"IF(AND($B507=\"AZIONE_1\",C507=1),'3 - SPECIE DA IMPIANTARE'!$X8,\"\")","v":""},null,{"$f":"F407","v":""},{"$f":"IF(AND($B507=\"AZIONE_1\",F507=2),'3 - SPECIE DA IMPIANTARE'!$X8,\"\")","v":""},null,"",{"$f":"IF(AND($B507=\"AZIONE_1\",$I507=3),'3 - SPECIE DA IMPIANTARE'!$X8,\"\")","v":""},null,"",{"$f":"IF(AND($B507=\"AZIONE_1\",$L507=4),'3 - SPECIE DA IMPIANTARE'!$X8,\"\")","v":""},null,"",{"$f":"IF(AND($B507=\"AZIONE_1\",$O507=5),'3 - SPECIE DA IMPIANTARE'!$X8,\"\")","v":""},null,"",{"$f":"IF(AND($B507=\"AZIONE_1\",$R507=6),'3 - SPECIE DA IMPIANTARE'!$X8,\"\")","v":""}]
[6,"","",{"$f":"IF(AND($B508=\"AZIONE_1\",C508=1),'3 - SPECIE DA IMPIANTARE'!$X9,\"\")","v":""},null,{"$f":"F408","v":""},{"$f":"IF(AND($B508=\"AZIONE_1\",F508=2),'3 - SPECIE DA IMPIANTARE'!$X9,\"\")","v":""},null,"",{"$f":"IF(AND($B508=\"AZIONE_1\",$I508=3),'3 - SPECIE DA IMPIANTARE'!$X9,\"\")","v":""},null,"",{"$f":"IF(AND($B508=\"AZIONE_1\",$L508=4),'3 - SPECIE DA IMPIANTARE'!$X9,\"\")","v":""},null,"",{"$f":"IF(AND($B508=\"AZIONE_1\",$O508=5),'3 - SPECIE DA IMPIANTARE'!$X9,\"\")","v":""},null,"",{"$f":"IF(AND($B508=\"AZIONE_1\",$R508=6),'3 - SPECIE DA IMPIANTARE'!$X9,\"\")","v":""}]
[6,"","",{"$f":"IF(AND($B509=\"AZIONE_1\",C509=1),'3 - SPECIE DA IMPIANTARE'!$X10,\"\")","v":""},null,{"$f":"F409","v":""},{"$f":"IF(AND($B509=\"AZIONE_1\",F509=2),'3 - SPECIE DA IMPIANTARE'!$X10,\"\")","v":""},null,"",{"$f":"IF(AND($B509=\"AZIONE_1\",$I509=3),'3 - SPECIE DA IMPIANTARE'!$X10,\"\")","v":""},null,"",{"$f":"IF(AND($B509=\"AZIONE_1\",$L509=4),'3 - SPECIE DA IMPIANTARE'!$X10,\"\")","v":""},null,"",{"$f":"IF(AND($B509=\"AZIONE_1\",$O509=5),'3 - SPECIE DA IMPIANTARE'!$X10,\"\")","v":""},null,"",{"$f":"IF(AND($B509=\"AZIONE_1\",$R509=6),'3 - SPECIE DA IMPIANTARE'!$X10,\"\")","v":""}]
[6,"","",{"$f":"IF(AND($B510=\"AZIONE_1\",C510=1),'3 - SPECIE DA IMPIANTARE'!$X11,\"\")","v":""},null,{"$f":"F410","v":""},{"$f":"IF(AND($B510=\"AZIONE_1\",F510=2),'3 - SPECIE DA IMPIANTARE'!$X11,\"\")","v":""},null,"",{"$f":"IF(AND($B510=\"AZIONE_1\",$I510=3),'3 - SPECIE DA IMPIANTARE'!$X11,\"\")","v":""},null,"",{"$f":"IF(AND($B510=\"AZIONE_1\",$L510=4),'3 - SPECIE DA IMPIANTARE'!$X11,\"\")","v":""},null,"",{"$f":"IF(AND($B510=\"AZIONE_1\",$O510=5),'3 - SPECIE DA IMPIANTARE'!$X11,\"\")","v":""},null,"",{"$f":"IF(AND($B510=\"AZIONE_1\",$R510=6),'3 - SPECIE DA IMPIANTARE'!$X11,\"\")","v":""}]
[6,"","",{"$f":"IF(AND($B511=\"AZIONE_1\",C511=1),'3 - SPECIE DA IMPIANTARE'!$X12,\"\")","v":""},null,{"$f":"F411","v":""},{"$f":"IF(AND($B511=\"AZIONE_1\",F511=2),'3 - SPECIE DA IMPIANTARE'!$X12,\"\")","v":""},null,"",{"$f":"IF(AND($B511=\"AZIONE_1\",$I511=3),'3 - SPECIE DA IMPIANTARE'!$X12,\"\")","v":""},null,"",{"$f":"IF(AND($B511=\"AZIONE_1\",$L511=4),'3 - SPECIE DA IMPIANTARE'!$X12,\"\")","v":""},null,"",{"$f":"IF(AND($B511=\"AZIONE_1\",$O511=5),'3 - SPECIE DA IMPIANTARE'!$X12,\"\")","v":""},null,"",{"$f":"IF(AND($B511=\"AZIONE_1\",$R511=6),'3 - SPECIE DA IMPIANTARE'!$X12,\"\")","v":""}]
[6,"","",{"$f":"IF(AND($B512=\"AZIONE_1\",C512=1),'3 - SPECIE DA IMPIANTARE'!$X13,\"\")","v":""},null,{"$f":"F412","v":""},{"$f":"IF(AND($B512=\"AZIONE_1\",F512=2),'3 - SPECIE DA IMPIANTARE'!$X13,\"\")","v":""},null,"",{"$f":"IF(AND($B512=\"AZIONE_1\",$I512=3),'3 - SPECIE DA IMPIANTARE'!$X13,\"\")","v":""},null,"",{"$f":"IF(AND($B512=\"AZIONE_1\",$L512=4),'3 - SPECIE DA IMPIANTARE'!$X13,\"\")","v":""},null,"",{"$f":"IF(AND($B512=\"AZIONE_1\",$O512=5),'3 - SPECIE DA IMPIANTARE'!$X13,\"\")","v":""},null,"",{"$f":"IF(AND($B512=\"AZIONE_1\",$R512=6),'3 - SPECIE DA IMPIANTARE'!$X13,\"\")","v":""}]
[6,"","",{"$f":"IF(AND($B513=\"AZIONE_1\",C513=1),'3 - SPECIE DA IMPIANTARE'!$X14,\"\")","v":""},null,{"$f":"F413","v":""},{"$f":"IF(AND($B513=\"AZIONE_1\",F513=2),'3 - SPECIE DA IMPIANTARE'!$X14,\"\")","v":""},null,"",{"$f":"IF(AND($B513=\"AZIONE_1\",$I513=3),'3 - SPECIE DA IMPIANTARE'!$X14,\"\")","v":""},null,"",{"$f":"IF(AND($B513=\"AZIONE_1\",$L513=4),'3 - SPECIE DA IMPIANTARE'!$X14,\"\")","v":""},null,"",{"$f":"IF(AND($B513=\"AZIONE_1\",$O513=5),'3 - SPECIE DA IMPIANTARE'!$X14,\"\")","v":""},null,"",{"$f":"IF(AND($B513=\"AZIONE_1\",$R513=6),'3 - SPECIE DA IMPIANTARE'!$X14,\"\")","v":""}]
[6,"","",{"$f":"IF(AND($B514=\"AZIONE_1\",C514=1),'3 - SPECIE DA IMPIANTARE'!$X15,\"\")","v":""},null,{"$f":"F414","v":""},{"$f":"IF(AND($B514=\"AZIONE_1\",F514=2),'3 - SPECIE DA IMPIANTARE'!$X15,\"\")","v":""},null,"",{"$f":"IF(AND($B514=\"AZIONE_1\",$I514=3),'3 - SPECIE DA IMPIANTARE'!$X15,\"\")","v":""},null,"",{"$f":"IF(AND($B514=\"AZIONE_1\",$L514=4),'3 - SPECIE DA IMPIANTARE'!$X15,\"\")","v":""},null,"",{"$f":"IF(AND($B514=\"AZIONE_1\",$O514=5),'3 - SPECIE DA IMPIANTARE'!$X15,\"\")","v":""},null,"",{"$f":"IF(AND($B514=\"AZIONE_1\",$R514=6),'3 - SPECIE DA IMPIANTARE'!$X15,\"\")","v":""}]
[6,"","",{"$f":"IF(AND($B515=\"AZIONE_1\",C515=1),'3 - SPECIE DA IMPIANTARE'!$X16,\"\")","v":""},null,{"$f":"F415","v":""},{"$f":"IF(AND($B515=\"AZIONE_1\",F515=2),'3 - SPECIE DA IMPIANTARE'!$X16,\"\")","v":""},null,"",{"$f":"IF(AND($B515=\"AZIONE_1\",$I515=3),'3 - SPECIE DA IMPIANTARE'!$X16,\"\")","v":""},null,"",{"$f":"IF(AND($B515=\"AZIONE_1\",$L515=4),'3 - SPECIE DA IMPIANTARE'!$X16,\"\")","v":""},null,"",{"$f":"IF(AND($B515=\"AZIONE_1\",$O515=5),'3 - SPECIE DA IMPIANTARE'!$X16,\"\")","v":""},null,"",{"$f":"IF(AND($B515=\"AZIONE_1\",$R515=6),'3 - SPECIE DA IMPIANTARE'!$X16,\"\")","v":""}]
[6,"","",{"$f":"IF(AND($B516=\"AZIONE_1\",C516=1),'3 - SPECIE DA IMPIANTARE'!$X17,\"\")","v":""},null,{"$f":"F416","v":""},{"$f":"IF(AND($B516=\"AZIONE_1\",F516=2),'3 - SPECIE DA IMPIANTARE'!$X17,\"\")","v":""},null,"",{"$f":"IF(AND($B516=\"AZIONE_1\",$I516=3),'3 - SPECIE DA IMPIANTARE'!$X17,\"\")","v":""},null,"",{"$f":"IF(AND($B516=\"AZIONE_1\",$L516=4),'3 - SPECIE DA IMPIANTARE'!$X17,\"\")","v":""},null,"",{"$f":"IF(AND($B516=\"AZIONE_1\",$O516=5),'3 - SPECIE DA IMPIANTARE'!$X17,\"\")","v":""},null,"",{"$f":"IF(AND($B516=\"AZIONE_1\",$R516=6),'3 - SPECIE DA IMPIANTARE'!$X17,\"\")","v":""}]
[6,"","",{"$f":"IF(AND($B517=\"AZIONE_1\",C517=1),'3 - SPECIE DA IMPIANTARE'!$X18,\"\")","v":""},null,{"$f":"F417","v":""},{"$f":"IF(AND($B517=\"AZIONE_1\",F517=2),'3 - SPECIE DA IMPIANTARE'!$X18,\"\")","v":""},null,"",{"$f":"IF(AND($B517=\"AZIONE_1\",$I517=3),'3 - SPECIE DA IMPIANTARE'!$X18,\"\")","v":""},null,"",{"$f":"IF(AND($B517=\"AZIONE_1\",$L517=4),'3 - SPECIE DA IMPIANTARE'!$X18,\"\")","v":""},null,"",{"$f":"IF(AND($B517=\"AZIONE_1\",$O517=5),'3 - SPECIE DA IMPIANTARE'!$X18,\"\")","v":""},null,"",{"$f":"IF(AND($B517=\"AZIONE_1\",$R517=6),'3 - SPECIE DA IMPIANTARE'!$X18,\"\")","v":""}]
[6,"","",{"$f":"IF(AND($B518=\"AZIONE_1\",C518=1),'3 - SPECIE DA IMPIANTARE'!$X19,\"\")","v":""},null,{"$f":"F418","v":""},{"$f":"IF(AND($B518=\"AZIONE_1\",F518=2),'3 - SPECIE DA IMPIANTARE'!$X19,\"\")","v":""},null,"",{"$f":"IF(AND($B518=\"AZIONE_1\",$I518=3),'3 - SPECIE DA IMPIANTARE'!$X19,\"\")","v":""},null,"",{"$f":"IF(AND($B518=\"AZIONE_1\",$L518=4),'3 - SPECIE DA IMPIANTARE'!$X19,\"\")","v":""},null,"",{"$f":"IF(AND($B518=\"AZIONE_1\",$O518=5),'3 - SPECIE DA IMPIANTARE'!$X19,\"\")","v":""},null,"",{"$f":"IF(AND($B518=\"AZIONE_1\",$R518=6),'3 - SPECIE DA IMPIANTARE'!$X19,\"\")","v":""}]
[6,"","",{"$f":"IF(AND($B519=\"AZIONE_1\",C519=1),'3 - SPECIE DA IMPIANTARE'!$X20,\"\")","v":""},null,{"$f":"F419","v":""},{"$f":"IF(AND($B519=\"AZIONE_1\",F519=2),'3 - SPECIE DA IMPIANTARE'!$X20,\"\")","v":""},null,"",{"$f":"IF(AND($B519=\"AZIONE_1\",$I519=3),'3 - SPECIE DA IMPIANTARE'!$X20,\"\")","v":""},null,"",{"$f":"IF(AND($B519=\"AZIONE_1\",$L519=4),'3 - SPECIE DA IMPIANTARE'!$X20,\"\")","v":""},null,"",{"$f":"IF(AND($B519=\"AZIONE_1\",$O519=5),'3 - SPECIE DA IMPIANTARE'!$X20,\"\")","v":""},null,"",{"$f":"IF(AND($B519=\"AZIONE_1\",$R519=6),'3 - SPECIE DA IMPIANTARE'!$X20,\"\")","v":""}]
[6,"","",{"$f":"IF(AND($B520=\"AZIONE_1\",C520=1),'3 - SPECIE DA IMPIANTARE'!$X21,\"\")","v":""},null,{"$f":"F420","v":""},{"$f":"IF(AND($B520=\"AZIONE_1\",F520=2),'3 - SPECIE DA IMPIANTARE'!$X21,\"\")","v":""},null,"",{"$f":"IF(AND($B520=\"AZIONE_1\",$I520=3),'3 - SPECIE DA IMPIANTARE'!$X21,\"\")","v":""},null,"",{"$f":"IF(AND($B520=\"AZIONE_1\",$L520=4),'3 - SPECIE DA IMPIANTARE'!$X21,\"\")","v":""},null,"",{"$f":"IF(AND($B520=\"AZIONE_1\",$O520=5),'3 - SPECIE DA IMPIANTARE'!$X21,\"\")","v":""},null,"",{"$f":"IF(AND($B520=\"AZIONE_1\",$R520=6),'3 - SPECIE DA IMPIANTARE'!$X21,\"\")","v":""}]
[6,"","",{"$f":"IF(AND($B521=\"AZIONE_1\",C521=1),'3 - SPECIE DA IMPIANTARE'!$X22,\"\")","v":""},null,{"$f":"F421","v":""},{"$f":"IF(AND($B521=\"AZIONE_1\",F521=2),'3 - SPECIE DA IMPIANTARE'!$X22,\"\")","v":""},null,"",{"$f":"IF(AND($B521=\"AZIONE_1\",$I521=3),'3 - SPECIE DA IMPIANTARE'!$X22,\"\")","v":""},null,"",{"$f":"IF(AND($B521=\"AZIONE_1\",$L521=4),'3 - SPECIE DA IMPIANTARE'!$X22,\"\")","v":""},null,"",{"$f":"IF(AND($B521=\"AZIONE_1\",$O521=5),'3 - SPECIE DA IMPIANTARE'!$X22,\"\")","v":""},null,"",{"$f":"IF(AND($B521=\"AZIONE_1\",$R521=6),'3 - SPECIE DA IMPIANTARE'!$X22,\"\")","v":""}]
[6,"","",{"$f":"IF(AND($B522=\"AZIONE_1\",C522=1),'3 - SPECIE DA IMPIANTARE'!$X23,\"\")","v":""},null,{"$f":"F422","v":""},{"$f":"IF(AND($B522=\"AZIONE_1\",F522=2),'3 - SPECIE DA IMPIANTARE'!$X23,\"\")","v":""},null,"",{"$f":"IF(AND($B522=\"AZIONE_1\",$I522=3),'3 - SPECIE DA IMPIANTARE'!$X23,\"\")","v":""},null,"",{"$f":"IF(AND($B522=\"AZIONE_1\",$L522=4),'3 - SPECIE DA IMPIANTARE'!$X23,\"\")","v":""},null,"",{"$f":"IF(AND($B522=\"AZIONE_1\",$O522=5),'3 - SPECIE DA IMPIANTARE'!$X23,\"\")","v":""},null,"",{"$f":"IF(AND($B522=\"AZIONE_1\",$R522=6),'3 - SPECIE DA IMPIANTARE'!$X23,\"\")","v":""}]
[6,"","",{"$f":"IF(AND($B523=\"AZIONE_1\",C523=1),'3 - SPECIE DA IMPIANTARE'!$X24,\"\")","v":""},null,{"$f":"F423","v":""},{"$f":"IF(AND($B523=\"AZIONE_1\",F523=2),'3 - SPECIE DA IMPIANTARE'!$X24,\"\")","v":""},null,"",{"$f":"IF(AND($B523=\"AZIONE_1\",$I523=3),'3 - SPECIE DA IMPIANTARE'!$X24,\"\")","v":""},null,"",{"$f":"IF(AND($B523=\"AZIONE_1\",$L523=4),'3 - SPECIE DA IMPIANTARE'!$X24,\"\")","v":""},null,"",{"$f":"IF(AND($B523=\"AZIONE_1\",$O523=5),'3 - SPECIE DA IMPIANTARE'!$X24,\"\")","v":""},null,"",{"$f":"IF(AND($B523=\"AZIONE_1\",$R523=6),'3 - SPECIE DA IMPIANTARE'!$X24,\"\")","v":""}]
[6,"","",{"$f":"IF(AND($B524=\"AZIONE_1\",C524=1),'3 - SPECIE DA IMPIANTARE'!$X25,\"\")","v":""},null,{"$f":"F424","v":""},{"$f":"IF(AND($B524=\"AZIONE_1\",F524=2),'3 - SPECIE DA IMPIANTARE'!$X25,\"\")","v":""},null,"",{"$f":"IF(AND($B524=\"AZIONE_1\",$I524=3),'3 - SPECIE DA IMPIANTARE'!$X25,\"\")","v":""},null,"",{"$f":"IF(AND($B524=\"AZIONE_1\",$L524=4),'3 - SPECIE DA IMPIANTARE'!$X25,\"\")","v":""},null,"",{"$f":"IF(AND($B524=\"AZIONE_1\",$O524=5),'3 - SPECIE DA IMPIANTARE'!$X25,\"\")","v":""},null,"",{"$f":"IF(AND($B524=\"AZIONE_1\",$R524=6),'3 - SPECIE DA IMPIANTARE'!$X25,\"\")","v":""}]
[6,"","",{"$f":"IF(AND($B525=\"AZIONE_1\",C525=1),'3 - SPECIE DA IMPIANTARE'!$X26,\"\")","v":""},null,{"$f":"F425","v":""},{"$f":"IF(AND($B525=\"AZIONE_1\",F525=2),'3 - SPECIE DA IMPIANTARE'!$X26,\"\")","v":""},null,"",{"$f":"IF(AND($B525=\"AZIONE_1\",$I525=3),'3 - SPECIE DA IMPIANTARE'!$X26,\"\")","v":""},null,"",{"$f":"IF(AND($B525=\"AZIONE_1\",$L525=4),'3 - SPECIE DA IMPIANTARE'!$X26,\"\")","v":""},null,"",{"$f":"IF(AND($B525=\"AZIONE_1\",$O525=5),'3 - SPECIE DA IMPIANTARE'!$X26,\"\")","v":""},null,"",{"$f":"IF(AND($B525=\"AZIONE_1\",$R525=6),'3 - SPECIE DA IMPIANTARE'!$X26,\"\")","v":""}]
[6,"","",{"$f":"IF(AND($B526=\"AZIONE_1\",C526=1),'3 - SPECIE DA IMPIANTARE'!$X27,\"\")","v":""},null,{"$f":"F426","v":""},{"$f":"IF(AND($B526=\"AZIONE_1\",F526=2),'3 - SPECIE DA IMPIANTARE'!$X27,\"\")","v":""},null,"",{"$f":"IF(AND($B526=\"AZIONE_1\",$I526=3),'3 - SPECIE DA IMPIANTARE'!$X27,\"\")","v":""},null,"",{"$f":"IF(AND($B526=\"AZIONE_1\",$L526=4),'3 - SPECIE DA IMPIANTARE'!$X27,\"\")","v":""},null,"",{"$f":"IF(AND($B526=\"AZIONE_1\",$O526=5),'3 - SPECIE DA IMPIANTARE'!$X27,\"\")","v":""},null,"",{"$f":"IF(AND($B526=\"AZIONE_1\",$R526=6),'3 - SPECIE DA IMPIANTARE'!$X27,\"\")","v":""}]
[6,"","",{"$f":"IF(AND($B527=\"AZIONE_1\",C527=1),'3 - SPECIE DA IMPIANTARE'!$X28,\"\")","v":""},null,{"$f":"F427","v":""},{"$f":"IF(AND($B527=\"AZIONE_1\",F527=2),'3 - SPECIE DA IMPIANTARE'!$X28,\"\")","v":""},null,"",{"$f":"IF(AND($B527=\"AZIONE_1\",$I527=3),'3 - SPECIE DA IMPIANTARE'!$X28,\"\")","v":""},null,"",{"$f":"IF(AND($B527=\"AZIONE_1\",$L527=4),'3 - SPECIE DA IMPIANTARE'!$X28,\"\")","v":""},null,"",{"$f":"IF(AND($B527=\"AZIONE_1\",$O527=5),'3 - SPECIE DA IMPIANTARE'!$X28,\"\")","v":""},null,"",{"$f":"IF(AND($B527=\"AZIONE_1\",$R527=6),'3 - SPECIE DA IMPIANTARE'!$X28,\"\")","v":""}]
[6,"","",{"$f":"IF(AND($B528=\"AZIONE_1\",C528=1),'3 - SPECIE DA IMPIANTARE'!$X29,\"\")","v":""},null,{"$f":"F428","v":""},{"$f":"IF(AND($B528=\"AZIONE_1\",F528=2),'3 - SPECIE DA IMPIANTARE'!$X29,\"\")","v":""},null,"",{"$f":"IF(AND($B528=\"AZIONE_1\",$I528=3),'3 - SPECIE DA IMPIANTARE'!$X29,\"\")","v":""},null,"",{"$f":"IF(AND($B528=\"AZIONE_1\",$L528=4),'3 - SPECIE DA IMPIANTARE'!$X29,\"\")","v":""},null,"",{"$f":"IF(AND($B528=\"AZIONE_1\",$O528=5),'3 - SPECIE DA IMPIANTARE'!$X29,\"\")","v":""},null,"",{"$f":"IF(AND($B528=\"AZIONE_1\",$R528=6),'3 - SPECIE DA IMPIANTARE'!$X29,\"\")","v":""}]
[6,"","",{"$f":"IF(AND($B529=\"AZIONE_1\",C529=1),'3 - SPECIE DA IMPIANTARE'!$X30,\"\")","v":""},null,{"$f":"F429","v":""},{"$f":"IF(AND($B529=\"AZIONE_1\",F529=2),'3 - SPECIE DA IMPIANTARE'!$X30,\"\")","v":""},null,"",{"$f":"IF(AND($B529=\"AZIONE_1\",$I529=3),'3 - SPECIE DA IMPIANTARE'!$X30,\"\")","v":""},null,"",{"$f":"IF(AND($B529=\"AZIONE_1\",$L529=4),'3 - SPECIE DA IMPIANTARE'!$X30,\"\")","v":""},null,"",{"$f":"IF(AND($B529=\"AZIONE_1\",$O529=5),'3 - SPECIE DA IMPIANTARE'!$X30,\"\")","v":""},null,"",{"$f":"IF(AND($B529=\"AZIONE_1\",$R529=6),'3 - SPECIE DA IMPIANTARE'!$X30,\"\")","v":""}]
[6,"","",{"$f":"IF(AND($B530=\"AZIONE_1\",C530=1),'3 - SPECIE DA IMPIANTARE'!$X31,\"\")","v":""},null,{"$f":"F430","v":""},{"$f":"IF(AND($B530=\"AZIONE_1\",F530=2),'3 - SPECIE DA IMPIANTARE'!$X31,\"\")","v":""},null,"",{"$f":"IF(AND($B530=\"AZIONE_1\",$I530=3),'3 - SPECIE DA IMPIANTARE'!$X31,\"\")","v":""},null,"",{"$f":"IF(AND($B530=\"AZIONE_1\",$L530=4),'3 - SPECIE DA IMPIANTARE'!$X31,\"\")","v":""},null,"",{"$f":"IF(AND($B530=\"AZIONE_1\",$O530=5),'3 - SPECIE DA IMPIANTARE'!$X31,\"\")","v":""},null,"",{"$f":"IF(AND($B530=\"AZIONE_1\",$R530=6),'3 - SPECIE DA IMPIANTARE'!$X31,\"\")","v":""}]
[6,"","",{"$f":"IF(AND($B531=\"AZIONE_1\",C531=1),'3 - SPECIE DA IMPIANTARE'!$X32,\"\")","v":""},null,{"$f":"F431","v":""},{"$f":"IF(AND($B531=\"AZIONE_1\",F531=2),'3 - SPECIE DA IMPIANTARE'!$X32,\"\")","v":""},null,"",{"$f":"IF(AND($B531=\"AZIONE_1\",$I531=3),'3 - SPECIE DA IMPIANTARE'!$X32,\"\")","v":""},null,"",{"$f":"IF(AND($B531=\"AZIONE_1\",$L531=4),'3 - SPECIE DA IMPIANTARE'!$X32,\"\")","v":""},null,"",{"$f":"IF(AND($B531=\"AZIONE_1\",$O531=5),'3 - SPECIE DA IMPIANTARE'!$X32,\"\")","v":""},null,"",{"$f":"IF(AND($B531=\"AZIONE_1\",$R531=6),'3 - SPECIE DA IMPIANTARE'!$X32,\"\")","v":""}]
[6,"","",{"$f":"IF(AND($B532=\"AZIONE_1\",C532=1),'3 - SPECIE DA IMPIANTARE'!$X33,\"\")","v":""},null,{"$f":"F432","v":""},{"$f":"IF(AND($B532=\"AZIONE_1\",F532=2),'3 - SPECIE DA IMPIANTARE'!$X33,\"\")","v":""},null,"",{"$f":"IF(AND($B532=\"AZIONE_1\",$I532=3),'3 - SPECIE DA IMPIANTARE'!$X33,\"\")","v":""},null,"",{"$f":"IF(AND($B532=\"AZIONE_1\",$L532=4),'3 - SPECIE DA IMPIANTARE'!$X33,\"\")","v":""},null,"",{"$f":"IF(AND($B532=\"AZIONE_1\",$O532=5),'3 - SPECIE DA IMPIANTARE'!$X33,\"\")","v":""},null,"",{"$f":"IF(AND($B532=\"AZIONE_1\",$R532=6),'3 - SPECIE DA IMPIANTARE'!$X33,\"\")","v":""}]
[6,"","",{"$f":"IF(AND($B533=\"AZIONE_1\",C533=1),'3 - SPECIE DA IMPIANTARE'!$X34,\"\")","v":""},null,{"$f":"F433","v":""},{"$f":"IF(AND($B533=\"AZIONE_1\",F533=2),'3 - SPECIE DA IMPIANTARE'!$X34,\"\")","v":""},null,"",{"$f":"IF(AND($B533=\"AZIONE_1\",$I533=3),'3 - SPECIE DA IMPIANTARE'!$X34,\"\")","v":""},null,"",{"$f":"IF(AND($B533=\"AZIONE_1\",$L533=4),'3 - SPECIE DA IMPIANTARE'!$X34,\"\")","v":""},null,"",{"$f":"IF(AND($B533=\"AZIONE_1\",$O533=5),'3 - SPECIE DA IMPIANTARE'!$X34,\"\")","v":""},null,"",{"$f":"IF(AND($B533=\"AZIONE_1\",$R533=6),'3 - SPECIE DA IMPIANTARE'!$X34,\"\")","v":""}]
[6,"","",{"$f":"IF(AND($B534=\"AZIONE_1\",C534=1),'3 - SPECIE DA IMPIANTARE'!$X35,\"\")","v":""},null,{"$f":"F434","v":""},{"$f":"IF(AND($B534=\"AZIONE_1\",F534=2),'3 - SPECIE DA IMPIANTARE'!$X35,\"\")","v":""},null,"",{"$f":"IF(AND($B534=\"AZIONE_1\",$I534=3),'3 - SPECIE DA IMPIANTARE'!$X35,\"\")","v":""},null,"",{"$f":"IF(AND($B534=\"AZIONE_1\",$L534=4),'3 - SPECIE DA IMPIANTARE'!$X35,\"\")","v":""},null,"",{"$f":"IF(AND($B534=\"AZIONE_1\",$O534=5),'3 - SPECIE DA IMPIANTARE'!$X35,\"\")","v":""},null,"",{"$f":"IF(AND($B534=\"AZIONE_1\",$R534=6),'3 - SPECIE DA IMPIANTARE'!$X35,\"\")","v":""}]
[6,"","",{"$f":"IF(AND($B535=\"AZIONE_1\",C535=1),'3 - SPECIE DA IMPIANTARE'!$X36,\"\")","v":""},null,{"$f":"F435","v":""},{"$f":"IF(AND($B535=\"AZIONE_1\",F535=2),'3 - SPECIE DA IMPIANTARE'!$X36,\"\")","v":""},null,"",{"$f":"IF(AND($B535=\"AZIONE_1\",$I535=3),'3 - SPECIE DA IMPIANTARE'!$X36,\"\")","v":""},null,"",{"$f":"IF(AND($B535=\"AZIONE_1\",$L535=4),'3 - SPECIE DA IMPIANTARE'!$X36,\"\")","v":""},null,"",{"$f":"IF(AND($B535=\"AZIONE_1\",$O535=5),'3 - SPECIE DA IMPIANTARE'!$X36,\"\")","v":""},null,"",{"$f":"IF(AND($B535=\"AZIONE_1\",$R535=6),'3 - SPECIE DA IMPIANTARE'!$X36,\"\")","v":""}]
[6,"","",{"$f":"IF(AND($B536=\"AZIONE_1\",C536=1),'3 - SPECIE DA IMPIANTARE'!$X37,\"\")","v":""},null,{"$f":"F436","v":""},{"$f":"IF(AND($B536=\"AZIONE_1\",F536=2),'3 - SPECIE DA IMPIANTARE'!$X37,\"\")","v":""},null,"",{"$f":"IF(AND($B536=\"AZIONE_1\",$I536=3),'3 - SPECIE DA IMPIANTARE'!$X37,\"\")","v":""},null,"",{"$f":"IF(AND($B536=\"AZIONE_1\",$L536=4),'3 - SPECIE DA IMPIANTARE'!$X37,\"\")","v":""},null,"",{"$f":"IF(AND($B536=\"AZIONE_1\",$O536=5),'3 - SPECIE DA IMPIANTARE'!$X37,\"\")","v":""},null,"",{"$f":"IF(AND($B536=\"AZIONE_1\",$R536=6),'3 - SPECIE DA IMPIANTARE'!$X37,\"\")","v":""}]
[6,"","",{"$f":"IF(AND($B537=\"AZIONE_1\",C537=1),'3 - SPECIE DA IMPIANTARE'!$X38,\"\")","v":""},null,{"$f":"F437","v":""},{"$f":"IF(AND($B537=\"AZIONE_1\",F537=2),'3 - SPECIE DA IMPIANTARE'!$X38,\"\")","v":""},null,"",{"$f":"IF(AND($B537=\"AZIONE_1\",$I537=3),'3 - SPECIE DA IMPIANTARE'!$X38,\"\")","v":""},null,"",{"$f":"IF(AND($B537=\"AZIONE_1\",$L537=4),'3 - SPECIE DA IMPIANTARE'!$X38,\"\")","v":""},null,"",{"$f":"IF(AND($B537=\"AZIONE_1\",$O537=5),'3 - SPECIE DA IMPIANTARE'!$X38,\"\")","v":""},null,"",{"$f":"IF(AND($B537=\"AZIONE_1\",$R537=6),'3 - SPECIE DA IMPIANTARE'!$X38,\"\")","v":""}]
[6,"","",{"$f":"IF(AND($B538=\"AZIONE_1\",C538=1),'3 - SPECIE DA IMPIANTARE'!$X39,\"\")","v":""},null,{"$f":"F438","v":""},{"$f":"IF(AND($B538=\"AZIONE_1\",F538=2),'3 - SPECIE DA IMPIANTARE'!$X39,\"\")","v":""},null,"",{"$f":"IF(AND($B538=\"AZIONE_1\",$I538=3),'3 - SPECIE DA IMPIANTARE'!$X39,\"\")","v":""},null,"",{"$f":"IF(AND($B538=\"AZIONE_1\",$L538=4),'3 - SPECIE DA IMPIANTARE'!$X39,\"\")","v":""},null,"",{"$f":"IF(AND($B538=\"AZIONE_1\",$O538=5),'3 - SPECIE DA IMPIANTARE'!$X39,\"\")","v":""},null,"",{"$f":"IF(AND($B538=\"AZIONE_1\",$R538=6),'3 - SPECIE DA IMPIANTARE'!$X39,\"\")","v":""}]
[6,"","",{"$f":"IF(AND($B539=\"AZIONE_1\",C539=1),'3 - SPECIE DA IMPIANTARE'!$X40,\"\")","v":""},null,{"$f":"F439","v":""},{"$f":"IF(AND($B539=\"AZIONE_1\",F539=2),'3 - SPECIE DA IMPIANTARE'!$X40,\"\")","v":""},null,"",{"$f":"IF(AND($B539=\"AZIONE_1\",$I539=3),'3 - SPECIE DA IMPIANTARE'!$X40,\"\")","v":""},null,"",{"$f":"IF(AND($B539=\"AZIONE_1\",$L539=4),'3 - SPECIE DA IMPIANTARE'!$X40,\"\")","v":""},null,"",{"$f":"IF(AND($B539=\"AZIONE_1\",$O539=5),'3 - SPECIE DA IMPIANTARE'!$X40,\"\")","v":""},null,"",{"$f":"IF(AND($B539=\"AZIONE_1\",$R539=6),'3 - SPECIE DA IMPIANTARE'!$X40,\"\")","v":""}]
[6,"","",{"$f":"IF(AND($B540=\"AZIONE_1\",C540=1),'3 - SPECIE DA IMPIANTARE'!$X41,\"\")","v":""},null,{"$f":"F440","v":""},{"$f":"IF(AND($B540=\"AZIONE_1\",F540=2),'3 - SPECIE DA IMPIANTARE'!$X41,\"\")","v":""},null,"",{"$f":"IF(AND($B540=\"AZIONE_1\",$I540=3),'3 - SPECIE DA IMPIANTARE'!$X41,\"\")","v":""},null,"",{"$f":"IF(AND($B540=\"AZIONE_1\",$L540=4),'3 - SPECIE DA IMPIANTARE'!$X41,\"\")","v":""},null,"",{"$f":"IF(AND($B540=\"AZIONE_1\",$O540=5),'3 - SPECIE DA IMPIANTARE'!$X41,\"\")","v":""},null,"",{"$f":"IF(AND($B540=\"AZIONE_1\",$R540=6),'3 - SPECIE DA IMPIANTARE'!$X41,\"\")","v":""}]
[6,"","",{"$f":"IF(AND($B541=\"AZIONE_1\",C541=1),'3 - SPECIE DA IMPIANTARE'!$X42,\"\")","v":""},null,{"$f":"F441","v":""},{"$f":"IF(AND($B541=\"AZIONE_1\",F541=2),'3 - SPECIE DA IMPIANTARE'!$X42,\"\")","v":""},null,"",{"$f":"IF(AND($B541=\"AZIONE_1\",$I541=3),'3 - SPECIE DA IMPIANTARE'!$X42,\"\")","v":""},null,"",{"$f":"IF(AND($B541=\"AZIONE_1\",$L541=4),'3 - SPECIE DA IMPIANTARE'!$X42,\"\")","v":""},null,"",{"$f":"IF(AND($B541=\"AZIONE_1\",$O541=5),'3 - SPECIE DA IMPIANTARE'!$X42,\"\")","v":""},null,"",{"$f":"IF(AND($B541=\"AZIONE_1\",$R541=6),'3 - SPECIE DA IMPIANTARE'!$X42,\"\")","v":""}]
[6,"","",{"$f":"IF(AND($B542=\"AZIONE_1\",C542=1),'3 - SPECIE DA IMPIANTARE'!$X43,\"\")","v":""},null,{"$f":"F442","v":""},{"$f":"IF(AND($B542=\"AZIONE_1\",F542=2),'3 - SPECIE DA IMPIANTARE'!$X43,\"\")","v":""},null,"",{"$f":"IF(AND($B542=\"AZIONE_1\",$I542=3),'3 - SPECIE DA IMPIANTARE'!$X43,\"\")","v":""},null,"",{"$f":"IF(AND($B542=\"AZIONE_1\",$L542=4),'3 - SPECIE DA IMPIANTARE'!$X43,\"\")","v":""},null,"",{"$f":"IF(AND($B542=\"AZIONE_1\",$O542=5),'3 - SPECIE DA IMPIANTARE'!$X43,\"\")","v":""},null,"",{"$f":"IF(AND($B542=\"AZIONE_1\",$R542=6),'3 - SPECIE DA IMPIANTARE'!$X43,\"\")","v":""}]
[6,"","",{"$f":"IF(AND($B543=\"AZIONE_1\",C543=1),'3 - SPECIE DA IMPIANTARE'!$X44,\"\")","v":""},null,{"$f":"F443","v":""},{"$f":"IF(AND($B543=\"AZIONE_1\",F543=2),'3 - SPECIE DA IMPIANTARE'!$X44,\"\")","v":""},null,"",{"$f":"IF(AND($B543=\"AZIONE_1\",$I543=3),'3 - SPECIE DA IMPIANTARE'!$X44,\"\")","v":""},null,"",{"$f":"IF(AND($B543=\"AZIONE_1\",$L543=4),'3 - SPECIE DA IMPIANTARE'!$X44,\"\")","v":""},null,"",{"$f":"IF(AND($B543=\"AZIONE_1\",$O543=5),'3 - SPECIE DA IMPIANTARE'!$X44,\"\")","v":""},null,"",{"$f":"IF(AND($B543=\"AZIONE_1\",$R543=6),'3 - SPECIE DA IMPIANTARE'!$X44,\"\")","v":""}]
[6,"","",{"$f":"IF(AND($B544=\"AZIONE_1\",C544=1),'3 - SPECIE DA IMPIANTARE'!$X45,\"\")","v":""},null,{"$f":"F444","v":""},{"$f":"IF(AND($B544=\"AZIONE_1\",F544=2),'3 - SPECIE DA IMPIANTARE'!$X45,\"\")","v":""},null,"",{"$f":"IF(AND($B544=\"AZIONE_1\",$I544=3),'3 - SPECIE DA IMPIANTARE'!$X45,\"\")","v":""},null,"",{"$f":"IF(AND($B544=\"AZIONE_1\",$L544=4),'3 - SPECIE DA IMPIANTARE'!$X45,\"\")","v":""},null,"",{"$f":"IF(AND($B544=\"AZIONE_1\",$O544=5),'3 - SPECIE DA IMPIANTARE'!$X45,\"\")","v":""},null,"",{"$f":"IF(AND($B544=\"AZIONE_1\",$R544=6),'3 - SPECIE DA IMPIANTARE'!$X45,\"\")","v":""}]
[6,"","",{"$f":"IF(AND($B545=\"AZIONE_1\",C545=1),'3 - SPECIE DA IMPIANTARE'!$X46,\"\")","v":""},null,{"$f":"F445","v":""},{"$f":"IF(AND($B545=\"AZIONE_1\",F545=2),'3 - SPECIE DA IMPIANTARE'!$X46,\"\")","v":""},null,"",{"$f":"IF(AND($B545=\"AZIONE_1\",$I545=3),'3 - SPECIE DA IMPIANTARE'!$X46,\"\")","v":""},null,"",{"$f":"IF(AND($B545=\"AZIONE_1\",$L545=4),'3 - SPECIE DA IMPIANTARE'!$X46,\"\")","v":""},null,"",{"$f":"IF(AND($B545=\"AZIONE_1\",$O545=5),'3 - SPECIE DA IMPIANTARE'!$X46,\"\")","v":""},null,"",{"$f":"IF(AND($B545=\"AZIONE_1\",$R545=6),'3 - SPECIE DA IMPIANTARE'!$X46,\"\")","v":""}]
[6,"","",{"$f":"IF(AND($B546=\"AZIONE_1\",C546=1),'3 - SPECIE DA IMPIANTARE'!$X47,\"\")","v":""},null,{"$f":"F446","v":""},{"$f":"IF(AND($B546=\"AZIONE_1\",F546=2),'3 - SPECIE DA IMPIANTARE'!$X47,\"\")","v":""},null,"",{"$f":"IF(AND($B546=\"AZIONE_1\",$I546=3),'3 - SPECIE DA IMPIANTARE'!$X47,\"\")","v":""},null,"",{"$f":"IF(AND($B546=\"AZIONE_1\",$L546=4),'3 - SPECIE DA IMPIANTARE'!$X47,\"\")","v":""},null,"",{"$f":"IF(AND($B546=\"AZIONE_1\",$O546=5),'3 - SPECIE DA IMPIANTARE'!$X47,\"\")","v":""},null,"",{"$f":"IF(AND($B546=\"AZIONE_1\",$R546=6),'3 - SPECIE DA IMPIANTARE'!$X47,\"\")","v":""}]
[6,"","",{"$f":"IF(AND($B547=\"AZIONE_1\",C547=1),'3 - SPECIE DA IMPIANTARE'!$X48,\"\")","v":""},null,{"$f":"F447","v":""},{"$f":"IF(AND($B547=\"AZIONE_1\",F547=2),'3 - SPECIE DA IMPIANTARE'!$X48,\"\")","v":""},null,"",{"$f":"IF(AND($B547=\"AZIONE_1\",$I547=3),'3 - SPECIE DA IMPIANTARE'!$X48,\"\")","v":""},null,"",{"$f":"IF(AND($B547=\"AZIONE_1\",$L547=4),'3 - SPECIE DA IMPIANTARE'!$X48,\"\")","v":""},null,"",{"$f":"IF(AND($B547=\"AZIONE_1\",$O547=5),'3 - SPECIE DA IMPIANTARE'!$X48,\"\")","v":""},null,"",{"$f":"IF(AND($B547=\"AZIONE_1\",$R547=6),'3 - SPECIE DA IMPIANTARE'!$X48,\"\")","v":""}]
[6,"","",{"$f":"IF(AND($B548=\"AZIONE_1\",C548=1),'3 - SPECIE DA IMPIANTARE'!$X49,\"\")","v":""},null,{"$f":"F448","v":""},{"$f":"IF(AND($B548=\"AZIONE_1\",F548=2),'3 - SPECIE DA IMPIANTARE'!$X49,\"\")","v":""},null,"",{"$f":"IF(AND($B548=\"AZIONE_1\",$I548=3),'3 - SPECIE DA IMPIANTARE'!$X49,\"\")","v":""},null,"",{"$f":"IF(AND($B548=\"AZIONE_1\",$L548=4),'3 - SPECIE DA IMPIANTARE'!$X49,\"\")","v":""},null,"",{"$f":"IF(AND($B548=\"AZIONE_1\",$O548=5),'3 - SPECIE DA IMPIANTARE'!$X49,\"\")","v":""},null,"",{"$f":"IF(AND($B548=\"AZIONE_1\",$R548=6),'3 - SPECIE DA IMPIANTARE'!$X49,\"\")","v":""}]
[6,"","",{"$f":"IF(AND($B549=\"AZIONE_1\",C549=1),'3 - SPECIE DA IMPIANTARE'!$X50,\"\")","v":""},null,{"$f":"F449","v":""},{"$f":"IF(AND($B549=\"AZIONE_1\",F549=2),'3 - SPECIE DA IMPIANTARE'!$X50,\"\")","v":""},null,"",{"$f":"IF(AND($B549=\"AZIONE_1\",$I549=3),'3 - SPECIE DA IMPIANTARE'!$X50,\"\")","v":""},null,"",{"$f":"IF(AND($B549=\"AZIONE_1\",$L549=4),'3 - SPECIE DA IMPIANTARE'!$X50,\"\")","v":""},null,"",{"$f":"IF(AND($B549=\"AZIONE_1\",$O549=5),'3 - SPECIE DA IMPIANTARE'!$X50,\"\")","v":""},null,"",{"$f":"IF(AND($B549=\"AZIONE_1\",$R549=6),'3 - SPECIE DA IMPIANTARE'!$X50,\"\")","v":""}]
[6,"","",{"$f":"IF(AND($B550=\"AZIONE_1\",C550=1),'3 - SPECIE DA IMPIANTARE'!$X51,\"\")","v":""},null,{"$f":"F450","v":""},{"$f":"IF(AND($B550=\"AZIONE_1\",F550=2),'3 - SPECIE DA IMPIANTARE'!$X51,\"\")","v":""},null,"",{"$f":"IF(AND($B550=\"AZIONE_1\",$I550=3),'3 - SPECIE DA IMPIANTARE'!$X51,\"\")","v":""},null,"",{"$f":"IF(AND($B550=\"AZIONE_1\",$L550=4),'3 - SPECIE DA IMPIANTARE'!$X51,\"\")","v":""},null,"",{"$f":"IF(AND($B550=\"AZIONE_1\",$O550=5),'3 - SPECIE DA IMPIANTARE'!$X51,\"\")","v":""},null,"",{"$f":"IF(AND($B550=\"AZIONE_1\",$R550=6),'3 - SPECIE DA IMPIANTARE'!$X51,\"\")","v":""}]
[6,"","",{"$f":"IF(AND($B551=\"AZIONE_1\",C551=1),'3 - SPECIE DA IMPIANTARE'!$X52,\"\")","v":""},null,{"$f":"F451","v":""},{"$f":"IF(AND($B551=\"AZIONE_1\",F551=2),'3 - SPECIE DA IMPIANTARE'!$X52,\"\")","v":""},null,{"$f":"I451","v":""},{"$f":"IF(AND($B551=\"AZIONE_1\",$I551=3),'3 - SPECIE DA IMPIANTARE'!$X52,\"\")","v":""},null,{"$f":"L451","v":""},{"$f":"IF(AND($B551=\"AZIONE_1\",$L551=4),'3 - SPECIE DA IMPIANTARE'!$X52,\"\")","v":""},null,{"$f":"O451","v":""},{"$f":"IF(AND($B551=\"AZIONE_1\",$O551=5),'3 - SPECIE DA IMPIANTARE'!$X52,\"\")","v":""},null,{"$f":"R451","v":""},{"$f":"IF(AND($B551=\"AZIONE_1\",$R551=6),'3 - SPECIE DA IMPIANTARE'!$X52,\"\")","v":""}]
[6,"","",{"$f":"IF(AND($B552=\"AZIONE_1\",C552=1),'3 - SPECIE DA IMPIANTARE'!$X53,\"\")","v":""},null,{"$f":"F452","v":""},{"$f":"IF(AND($B552=\"AZIONE_1\",F552=2),'3 - SPECIE DA IMPIANTARE'!$X53,\"\")","v":""},null,"",{"$f":"IF(AND($B552=\"AZIONE_1\",$I552=3),'3 - SPECIE DA IMPIANTARE'!$X53,\"\")","v":""},null,"",{"$f":"IF(AND($B552=\"AZIONE_1\",$L552=4),'3 - SPECIE DA IMPIANTARE'!$X53,\"\")","v":""},null,"",{"$f":"IF(AND($B552=\"AZIONE_1\",$O552=5),'3 - SPECIE DA IMPIANTARE'!$X53,\"\")","v":""},null,"",{"$f":"IF(AND($B552=\"AZIONE_1\",$R552=6),'3 - SPECIE DA IMPIANTARE'!$X53,\"\")","v":""}]
[6,"","",{"$f":"IF(AND($B553=\"AZIONE_1\",C553=1),'3 - SPECIE DA IMPIANTARE'!$X54,\"\")","v":""},null,{"$f":"F453","v":""},{"$f":"IF(AND($B553=\"AZIONE_1\",F553=2),'3 - SPECIE DA IMPIANTARE'!$X54,\"\")","v":""},null,"",{"$f":"IF(AND($B553=\"AZIONE_1\",$I553=3),'3 - SPECIE DA IMPIANTARE'!$X54,\"\")","v":""},null,"",{"$f":"IF(AND($B553=\"AZIONE_1\",$L553=4),'3 - SPECIE DA IMPIANTARE'!$X54,\"\")","v":""},null,"",{"$f":"IF(AND($B553=\"AZIONE_1\",$O553=5),'3 - SPECIE DA IMPIANTARE'!$X54,\"\")","v":""},null,"",{"$f":"IF(AND($B553=\"AZIONE_1\",$R553=6),'3 - SPECIE DA IMPIANTARE'!$X54,\"\")","v":""}]
[6,"","",{"$f":"IF(AND($B554=\"AZIONE_1\",C554=1),'3 - SPECIE DA IMPIANTARE'!$X55,\"\")","v":""},null,{"$f":"F454","v":""},{"$f":"IF(AND($B554=\"AZIONE_1\",F554=2),'3 - SPECIE DA IMPIANTARE'!$X55,\"\")","v":""},null,"",{"$f":"IF(AND($B554=\"AZIONE_1\",$I554=3),'3 - SPECIE DA IMPIANTARE'!$X55,\"\")","v":""},null,"",{"$f":"IF(AND($B554=\"AZIONE_1\",$L554=4),'3 - SPECIE DA IMPIANTARE'!$X55,\"\")","v":""},null,"",{"$f":"IF(AND($B554=\"AZIONE_1\",$O554=5),'3 - SPECIE DA IMPIANTARE'!$X55,\"\")","v":""},null,"",{"$f":"IF(AND($B554=\"AZIONE_1\",$R554=6),'3 - SPECIE DA IMPIANTARE'!$X55,\"\")","v":""}]
[6,"","",{"$f":"IF(AND($B555=\"AZIONE_1\",C555=1),'3 - SPECIE DA IMPIANTARE'!$X56,\"\")","v":""},null,{"$f":"F455","v":""},{"$f":"IF(AND($B555=\"AZIONE_1\",F555=2),'3 - SPECIE DA IMPIANTARE'!$X56,\"\")","v":""},null,"",{"$f":"IF(AND($B555=\"AZIONE_1\",$I555=3),'3 - SPECIE DA IMPIANTARE'!$X56,\"\")","v":""},null,"",{"$f":"IF(AND($B555=\"AZIONE_1\",$L555=4),'3 - SPECIE DA IMPIANTARE'!$X56,\"\")","v":""},null,"",{"$f":"IF(AND($B555=\"AZIONE_1\",$O555=5),'3 - SPECIE DA IMPIANTARE'!$X56,\"\")","v":""},null,"",{"$f":"IF(AND($B555=\"AZIONE_1\",$R555=6),'3 - SPECIE DA IMPIANTARE'!$X56,\"\")","v":""}]
[6,"","",{"$f":"IF(AND($B556=\"AZIONE_1\",C556=1),'3 - SPECIE DA IMPIANTARE'!$X57,\"\")","v":""},null,{"$f":"F456","v":""},{"$f":"IF(AND($B556=\"AZIONE_1\",F556=2),'3 - SPECIE DA IMPIANTARE'!$X57,\"\")","v":""},null,"",{"$f":"IF(AND($B556=\"AZIONE_1\",$I556=3),'3 - SPECIE DA IMPIANTARE'!$X57,\"\")","v":""},null,"",{"$f":"IF(AND($B556=\"AZIONE_1\",$L556=4),'3 - SPECIE DA IMPIANTARE'!$X57,\"\")","v":""},null,"",{"$f":"IF(AND($B556=\"AZIONE_1\",$O556=5),'3 - SPECIE DA IMPIANTARE'!$X57,\"\")","v":""},null,"",{"$f":"IF(AND($B556=\"AZIONE_1\",$R556=6),'3 - SPECIE DA IMPIANTARE'!$X57,\"\")","v":""}]
[6,"","",{"$f":"IF(AND($B557=\"AZIONE_1\",C557=1),'3 - SPECIE DA IMPIANTARE'!$X58,\"\")","v":""},null,{"$f":"F457","v":""},{"$f":"IF(AND($B557=\"AZIONE_1\",F557=2),'3 - SPECIE DA IMPIANTARE'!$X58,\"\")","v":""},null,"",{"$f":"IF(AND($B557=\"AZIONE_1\",$I557=3),'3 - SPECIE DA IMPIANTARE'!$X58,\"\")","v":""},null,"",{"$f":"IF(AND($B557=\"AZIONE_1\",$L557=4),'3 - SPECIE DA IMPIANTARE'!$X58,\"\")","v":""},null,"",{"$f":"IF(AND($B557=\"AZIONE_1\",$O557=5),'3 - SPECIE DA IMPIANTARE'!$X58,\"\")","v":""},null,"",{"$f":"IF(AND($B557=\"AZIONE_1\",$R557=6),'3 - SPECIE DA IMPIANTARE'!$X58,\"\")","v":""}]
[6,"","",{"$f":"IF(AND($B558=\"AZIONE_1\",C558=1),'3 - SPECIE DA IMPIANTARE'!$X59,\"\")","v":""},null,{"$f":"F458","v":""},{"$f":"IF(AND($B558=\"AZIONE_1\",F558=2),'3 - SPECIE DA IMPIANTARE'!$X59,\"\")","v":""},null,"",{"$f":"IF(AND($B558=\"AZIONE_1\",$I558=3),'3 - SPECIE DA IMPIANTARE'!$X59,\"\")","v":""},null,"",{"$f":"IF(AND($B558=\"AZIONE_1\",$L558=4),'3 - SPECIE DA IMPIANTARE'!$X59,\"\")","v":""},null,"",{"$f":"IF(AND($B558=\"AZIONE_1\",$O558=5),'3 - SPECIE DA IMPIANTARE'!$X59,\"\")","v":""},null,"",{"$f":"IF(AND($B558=\"AZIONE_1\",$R558=6),'3 - SPECIE DA IMPIANTARE'!$X59,\"\")","v":""}]
[6,"","",{"$f":"IF(AND($B559=\"AZIONE_1\",C559=1),'3 - SPECIE DA IMPIANTARE'!$X60,\"\")","v":""},null,{"$f":"F459","v":""},{"$f":"IF(AND($B559=\"AZIONE_1\",F559=2),'3 - SPECIE DA IMPIANTARE'!$X60,\"\")","v":""},null,"",{"$f":"IF(AND($B559=\"AZIONE_1\",$I559=3),'3 - SPECIE DA IMPIANTARE'!$X60,\"\")","v":""},null,"",{"$f":"IF(AND($B559=\"AZIONE_1\",$L559=4),'3 - SPECIE DA IMPIANTARE'!$X60,\"\")","v":""},null,"",{"$f":"IF(AND($B559=\"AZIONE_1\",$O559=5),'3 - SPECIE DA IMPIANTARE'!$X60,\"\")","v":""},null,"",{"$f":"IF(AND($B559=\"AZIONE_1\",$R559=6),'3 - SPECIE DA IMPIANTARE'!$X60,\"\")","v":""}]
[6,"","",{"$f":"IF(AND($B560=\"AZIONE_1\",C560=1),'3 - SPECIE DA IMPIANTARE'!$X61,\"\")","v":""},null,{"$f":"F460","v":""},{"$f":"IF(AND($B560=\"AZIONE_1\",F560=2),'3 - SPECIE DA IMPIANTARE'!$X61,\"\")","v":""},null,"",{"$f":"IF(AND($B560=\"AZIONE_1\",$I560=3),'3 - SPECIE DA IMPIANTARE'!$X61,\"\")","v":""},null,"",{"$f":"IF(AND($B560=\"AZIONE_1\",$L560=4),'3 - SPECIE DA IMPIANTARE'!$X61,\"\")","v":""},null,"",{"$f":"IF(AND($B560=\"AZIONE_1\",$O560=5),'3 - SPECIE DA IMPIANTARE'!$X61,\"\")","v":""},null,"",{"$f":"IF(AND($B560=\"AZIONE_1\",$R560=6),'3 - SPECIE DA IMPIANTARE'!$X61,\"\")","v":""}]
[6,"","",{"$f":"IF(AND($B561=\"AZIONE_1\",C561=1),'3 - SPECIE DA IMPIANTARE'!$X62,\"\")","v":""},null,{"$f":"F461","v":""},{"$f":"IF(AND($B561=\"AZIONE_1\",F561=2),'3 - SPECIE DA IMPIANTARE'!$X62,\"\")","v":""},null,"",{"$f":"IF(AND($B561=\"AZIONE_1\",$I561=3),'3 - SPECIE DA IMPIANTARE'!$X62,\"\")","v":""},null,"",{"$f":"IF(AND($B561=\"AZIONE_1\",$L561=4),'3 - SPECIE DA IMPIANTARE'!$X62,\"\")","v":""},null,"",{"$f":"IF(AND($B561=\"AZIONE_1\",$O561=5),'3 - SPECIE DA IMPIANTARE'!$X62,\"\")","v":""},null,"",{"$f":"IF(AND($B561=\"AZIONE_1\",$R561=6),'3 - SPECIE DA IMPIANTARE'!$X62,\"\")","v":""}]
[6,"","",{"$f":"IF(AND($B562=\"AZIONE_1\",C562=1),'3 - SPECIE DA IMPIANTARE'!$X63,\"\")","v":""},null,{"$f":"F462","v":""},{"$f":"IF(AND($B562=\"AZIONE_1\",F562=2),'3 - SPECIE DA IMPIANTARE'!$X63,\"\")","v":""},null,"",{"$f":"IF(AND($B562=\"AZIONE_1\",$I562=3),'3 - SPECIE DA IMPIANTARE'!$X63,\"\")","v":""},null,"",{"$f":"IF(AND($B562=\"AZIONE_1\",$L562=4),'3 - SPECIE DA IMPIANTARE'!$X63,\"\")","v":""},null,"",{"$f":"IF(AND($B562=\"AZIONE_1\",$O562=5),'3 - SPECIE DA IMPIANTARE'!$X63,\"\")","v":""},null,"",{"$f":"IF(AND($B562=\"AZIONE_1\",$R562=6),'3 - SPECIE DA IMPIANTARE'!$X63,\"\")","v":""}]
[6,"","",{"$f":"IF(AND($B563=\"AZIONE_1\",C563=1),'3 - SPECIE DA IMPIANTARE'!$X64,\"\")","v":""},null,{"$f":"F463","v":""},{"$f":"IF(AND($B563=\"AZIONE_1\",F563=2),'3 - SPECIE DA IMPIANTARE'!$X64,\"\")","v":""},null,"",{"$f":"IF(AND($B563=\"AZIONE_1\",$I563=3),'3 - SPECIE DA IMPIANTARE'!$X64,\"\")","v":""},null,"",{"$f":"IF(AND($B563=\"AZIONE_1\",$L563=4),'3 - SPECIE DA IMPIANTARE'!$X64,\"\")","v":""},null,"",{"$f":"IF(AND($B563=\"AZIONE_1\",$O563=5),'3 - SPECIE DA IMPIANTARE'!$X64,\"\")","v":""},null,"",{"$f":"IF(AND($B563=\"AZIONE_1\",$R563=6),'3 - SPECIE DA IMPIANTARE'!$X64,\"\")","v":""}]
[6,"","",{"$f":"IF(AND($B564=\"AZIONE_1\",C564=1),'3 - SPECIE DA IMPIANTARE'!$X65,\"\")","v":""},null,{"$f":"F464","v":""},{"$f":"IF(AND($B564=\"AZIONE_1\",F564=2),'3 - SPECIE DA IMPIANTARE'!$X65,\"\")","v":""},null,"",{"$f":"IF(AND($B564=\"AZIONE_1\",$I564=3),'3 - SPECIE DA IMPIANTARE'!$X65,\"\")","v":""},null,"",{"$f":"IF(AND($B564=\"AZIONE_1\",$L564=4),'3 - SPECIE DA IMPIANTARE'!$X65,\"\")","v":""},null,"",{"$f":"IF(AND($B564=\"AZIONE_1\",$O564=5),'3 - SPECIE DA IMPIANTARE'!$X65,\"\")","v":""},null,"",{"$f":"IF(AND($B564=\"AZIONE_1\",$R564=6),'3 - SPECIE DA IMPIANTARE'!$X65,\"\")","v":""}]
[6,"","",{"$f":"IF(AND($B565=\"AZIONE_1\",C565=1),'3 - SPECIE DA IMPIANTARE'!$X66,\"\")","v":""},null,{"$f":"F465","v":""},{"$f":"IF(AND($B565=\"AZIONE_1\",F565=2),'3 - SPECIE DA IMPIANTARE'!$X66,\"\")","v":""},null,"",{"$f":"IF(AND($B565=\"AZIONE_1\",$I565=3),'3 - SPECIE DA IMPIANTARE'!$X66,\"\")","v":""},null,"",{"$f":"IF(AND($B565=\"AZIONE_1\",$L565=4),'3 - SPECIE DA IMPIANTARE'!$X66,\"\")","v":""},null,"",{"$f":"IF(AND($B565=\"AZIONE_1\",$O565=5),'3 - SPECIE DA IMPIANTARE'!$X66,\"\")","v":""},null,"",{"$f":"IF(AND($B565=\"AZIONE_1\",$R565=6),'3 - SPECIE DA IMPIANTARE'!$X66,\"\")","v":""}]
[6,"","",{"$f":"IF(AND($B566=\"AZIONE_1\",C566=1),'3 - SPECIE DA IMPIANTARE'!$X67,\"\")","v":""},null,{"$f":"F466","v":""},{"$f":"IF(AND($B566=\"AZIONE_1\",F566=2),'3 - SPECIE DA IMPIANTARE'!$X67,\"\")","v":""},null,"",{"$f":"IF(AND($B566=\"AZIONE_1\",$I566=3),'3 - SPECIE DA IMPIANTARE'!$X67,\"\")","v":""},null,"",{"$f":"IF(AND($B566=\"AZIONE_1\",$L566=4),'3 - SPECIE DA IMPIANTARE'!$X67,\"\")","v":""},null,"",{"$f":"IF(AND($B566=\"AZIONE_1\",$O566=5),'3 - SPECIE DA IMPIANTARE'!$X67,\"\")","v":""},null,"",{"$f":"IF(AND($B566=\"AZIONE_1\",$R566=6),'3 - SPECIE DA IMPIANTARE'!$X67,\"\")","v":""}]
[6,"","",{"$f":"IF(AND($B567=\"AZIONE_1\",C567=1),'3 - SPECIE DA IMPIANTARE'!$X68,\"\")","v":""},null,{"$f":"F467","v":""},{"$f":"IF(AND($B567=\"AZIONE_1\",F567=2),'3 - SPECIE DA IMPIANTARE'!$X68,\"\")","v":""},null,"",{"$f":"IF(AND($B567=\"AZIONE_1\",$I567=3),'3 - SPECIE DA IMPIANTARE'!$X68,\"\")","v":""},null,"",{"$f":"IF(AND($B567=\"AZIONE_1\",$L567=4),'3 - SPECIE DA IMPIANTARE'!$X68,\"\")","v":""},null,"",{"$f":"IF(AND($B567=\"AZIONE_1\",$O567=5),'3 - SPECIE DA IMPIANTARE'!$X68,\"\")","v":""},null,"",{"$f":"IF(AND($B567=\"AZIONE_1\",$R567=6),'3 - SPECIE DA IMPIANTARE'!$X68,\"\")","v":""}]
[6,"","",{"$f":"IF(AND($B568=\"AZIONE_1\",C568=1),'3 - SPECIE DA IMPIANTARE'!$X69,\"\")","v":""},null,{"$f":"F468","v":""},{"$f":"IF(AND($B568=\"AZIONE_1\",F568=2),'3 - SPECIE DA IMPIANTARE'!$X69,\"\")","v":""},null,"",{"$f":"IF(AND($B568=\"AZIONE_1\",$I568=3),'3 - SPECIE DA IMPIANTARE'!$X69,\"\")","v":""},null,"",{"$f":"IF(AND($B568=\"AZIONE_1\",$L568=4),'3 - SPECIE DA IMPIANTARE'!$X69,\"\")","v":""},null,"",{"$f":"IF(AND($B568=\"AZIONE_1\",$O568=5),'3 - SPECIE DA IMPIANTARE'!$X69,\"\")","v":""},null,"",{"$f":"IF(AND($B568=\"AZIONE_1\",$R568=6),'3 - SPECIE DA IMPIANTARE'!$X69,\"\")","v":""}]
[6,{"$f":"B469","v":""},"",{"$f":"IF(AND($B569=\"AZIONE_1\",C569=1),'3 - SPECIE DA IMPIANTARE'!$X70,\"\")","v":""},null,{"$f":"F469","v":""},{"$f":"IF(AND($B569=\"AZIONE_1\",F569=2),'3 - SPECIE DA IMPIANTARE'!$X70,\"\")","v":""},null,"",{"$f":"IF(AND($B569=\"AZIONE_1\",$I569=3),'3 - SPECIE DA IMPIANTARE'!$X70,\"\")","v":""},null,"",{"$f":"IF(AND($B569=\"AZIONE_1\",$L569=4),'3 - SPECIE DA IMPIANTARE'!$X70,\"\")","v":""},null,"",{"$f":"IF(AND($B569=\"AZIONE_1\",$O569=5),'3 - SPECIE DA IMPIANTARE'!$X70,\"\")","v":""},null,"",{"$f":"IF(AND($B569=\"AZIONE_1\",$R569=6),'3 - SPECIE DA IMPIANTARE'!$X70,\"\")","v":""}]
[6,"","",{"$f":"IF(AND($B570=\"AZIONE_1\",C570=1),'3 - SPECIE DA IMPIANTARE'!$X71,\"\")","v":""},null,{"$f":"F470","v":""},{"$f":"IF(AND($B570=\"AZIONE_1\",F570=2),'3 - SPECIE DA IMPIANTARE'!$X71,\"\")","v":""},null,"",{"$f":"IF(AND($B570=\"AZIONE_1\",$I570=3),'3 - SPECIE DA IMPIANTARE'!$X71,\"\")","v":""},null,"",{"$f":"IF(AND($B570=\"AZIONE_1\",$L570=4),'3 - SPECIE DA IMPIANTARE'!$X71,\"\")","v":""},null,"",{"$f":"IF(AND($B570=\"AZIONE_1\",$O570=5),'3 - SPECIE DA IMPIANTARE'!$X71,\"\")","v":""},null,"",{"$f":"IF(AND($B570=\"AZIONE_1\",$R570=6),'3 - SPECIE DA IMPIANTARE'!$X71,\"\")","v":""}]
[6,"","",{"$f":"IF(AND($B571=\"AZIONE_1\",C571=1),'3 - SPECIE DA IMPIANTARE'!$X72,\"\")","v":""},null,{"$f":"F471","v":""},{"$f":"IF(AND($B571=\"AZIONE_1\",F571=2),'3 - SPECIE DA IMPIANTARE'!$X72,\"\")","v":""},null,"",{"$f":"IF(AND($B571=\"AZIONE_1\",$I571=3),'3 - SPECIE DA IMPIANTARE'!$X72,\"\")","v":""},null,"",{"$f":"IF(AND($B571=\"AZIONE_1\",$L571=4),'3 - SPECIE DA IMPIANTARE'!$X72,\"\")","v":""},null,"",{"$f":"IF(AND($B571=\"AZIONE_1\",$O571=5),'3 - SPECIE DA IMPIANTARE'!$X72,\"\")","v":""},null,"",{"$f":"IF(AND($B571=\"AZIONE_1\",$R571=6),'3 - SPECIE DA IMPIANTARE'!$X72,\"\")","v":""}]
[6,"","",{"$f":"IF(AND($B572=\"AZIONE_1\",C572=1),'3 - SPECIE DA IMPIANTARE'!$X73,\"\")","v":""},null,{"$f":"F472","v":""},{"$f":"IF(AND($B572=\"AZIONE_1\",F572=2),'3 - SPECIE DA IMPIANTARE'!$X73,\"\")","v":""},null,"",{"$f":"IF(AND($B572=\"AZIONE_1\",$I572=3),'3 - SPECIE DA IMPIANTARE'!$X73,\"\")","v":""},null,"",{"$f":"IF(AND($B572=\"AZIONE_1\",$L572=4),'3 - SPECIE DA IMPIANTARE'!$X73,\"\")","v":""},null,"",{"$f":"IF(AND($B572=\"AZIONE_1\",$O572=5),'3 - SPECIE DA IMPIANTARE'!$X73,\"\")","v":""},null,"",{"$f":"IF(AND($B572=\"AZIONE_1\",$R572=6),'3 - SPECIE DA IMPIANTARE'!$X73,\"\")","v":""}]
[6,"","",{"$f":"IF(AND($B573=\"AZIONE_1\",C573=1),'3 - SPECIE DA IMPIANTARE'!$X74,\"\")","v":""},null,{"$f":"F473","v":""},{"$f":"IF(AND($B573=\"AZIONE_1\",F573=2),'3 - SPECIE DA IMPIANTARE'!$X74,\"\")","v":""},null,"",{"$f":"IF(AND($B573=\"AZIONE_1\",$I573=3),'3 - SPECIE DA IMPIANTARE'!$X74,\"\")","v":""},null,"",{"$f":"IF(AND($B573=\"AZIONE_1\",$L573=4),'3 - SPECIE DA IMPIANTARE'!$X74,\"\")","v":""},null,"",{"$f":"IF(AND($B573=\"AZIONE_1\",$O573=5),'3 - SPECIE DA IMPIANTARE'!$X74,\"\")","v":""},null,"",{"$f":"IF(AND($B573=\"AZIONE_1\",$R573=6),'3 - SPECIE DA IMPIANTARE'!$X74,\"\")","v":""}]
[6,"","",{"$f":"IF(AND($B574=\"AZIONE_1\",C574=1),'3 - SPECIE DA IMPIANTARE'!$X75,\"\")","v":""},null,{"$f":"F474","v":""},{"$f":"IF(AND($B574=\"AZIONE_1\",F574=2),'3 - SPECIE DA IMPIANTARE'!$X75,\"\")","v":""},null,"",{"$f":"IF(AND($B574=\"AZIONE_1\",$I574=3),'3 - SPECIE DA IMPIANTARE'!$X75,\"\")","v":""},null,"",{"$f":"IF(AND($B574=\"AZIONE_1\",$L574=4),'3 - SPECIE DA IMPIANTARE'!$X75,\"\")","v":""},null,"",{"$f":"IF(AND($B574=\"AZIONE_1\",$O574=5),'3 - SPECIE DA IMPIANTARE'!$X75,\"\")","v":""},null,"",{"$f":"IF(AND($B574=\"AZIONE_1\",$R574=6),'3 - SPECIE DA IMPIANTARE'!$X75,\"\")","v":""}]
[6,"","",{"$f":"IF(AND($B575=\"AZIONE_1\",C575=1),'3 - SPECIE DA IMPIANTARE'!$X76,\"\")","v":""},null,{"$f":"F475","v":""},{"$f":"IF(AND($B575=\"AZIONE_1\",F575=2),'3 - SPECIE DA IMPIANTARE'!$X76,\"\")","v":""},null,"",{"$f":"IF(AND($B575=\"AZIONE_1\",$I575=3),'3 - SPECIE DA IMPIANTARE'!$X76,\"\")","v":""},null,"",{"$f":"IF(AND($B575=\"AZIONE_1\",$L575=4),'3 - SPECIE DA IMPIANTARE'!$X76,\"\")","v":""},null,"",{"$f":"IF(AND($B575=\"AZIONE_1\",$O575=5),'3 - SPECIE DA IMPIANTARE'!$X76,\"\")","v":""},null,"",{"$f":"IF(AND($B575=\"AZIONE_1\",$R575=6),'3 - SPECIE DA IMPIANTARE'!$X76,\"\")","v":""}]
[6,"","",{"$f":"IF(AND($B576=\"AZIONE_1\",C576=1),'3 - SPECIE DA IMPIANTARE'!$X77,\"\")","v":""},null,{"$f":"F476","v":""},{"$f":"IF(AND($B576=\"AZIONE_1\",F576=2),'3 - SPECIE DA IMPIANTARE'!$X77,\"\")","v":""},null,"",{"$f":"IF(AND($B576=\"AZIONE_1\",$I576=3),'3 - SPECIE DA IMPIANTARE'!$X77,\"\")","v":""},null,"",{"$f":"IF(AND($B576=\"AZIONE_1\",$L576=4),'3 - SPECIE DA IMPIANTARE'!$X77,\"\")","v":""},null,"",{"$f":"IF(AND($B576=\"AZIONE_1\",$O576=5),'3 - SPECIE DA IMPIANTARE'!$X77,\"\")","v":""},null,"",{"$f":"IF(AND($B576=\"AZIONE_1\",$R576=6),'3 - SPECIE DA IMPIANTARE'!$X77,\"\")","v":""}]
[6,"","",{"$f":"IF(AND($B577=\"AZIONE_1\",C577=1),'3 - SPECIE DA IMPIANTARE'!$X78,\"\")","v":""},null,{"$f":"F477","v":""},{"$f":"IF(AND($B577=\"AZIONE_1\",F577=2),'3 - SPECIE DA IMPIANTARE'!$X78,\"\")","v":""},null,"",{"$f":"IF(AND($B577=\"AZIONE_1\",$I577=3),'3 - SPECIE DA IMPIANTARE'!$X78,\"\")","v":""},null,"",{"$f":"IF(AND($B577=\"AZIONE_1\",$L577=4),'3 - SPECIE DA IMPIANTARE'!$X78,\"\")","v":""},null,"",{"$f":"IF(AND($B577=\"AZIONE_1\",$O577=5),'3 - SPECIE DA IMPIANTARE'!$X78,\"\")","v":""},null,"",{"$f":"IF(AND($B577=\"AZIONE_1\",$R577=6),'3 - SPECIE DA IMPIANTARE'!$X78,\"\")","v":""}]
[6,"","",{"$f":"IF(AND($B578=\"AZIONE_1\",C578=1),'3 - SPECIE DA IMPIANTARE'!$X79,\"\")","v":""},null,{"$f":"F478","v":""},{"$f":"IF(AND($B578=\"AZIONE_1\",F578=2),'3 - SPECIE DA IMPIANTARE'!$X79,\"\")","v":""},null,"",{"$f":"IF(AND($B578=\"AZIONE_1\",$I578=3),'3 - SPECIE DA IMPIANTARE'!$X79,\"\")","v":""},null,"",{"$f":"IF(AND($B578=\"AZIONE_1\",$L578=4),'3 - SPECIE DA IMPIANTARE'!$X79,\"\")","v":""},null,"",{"$f":"IF(AND($B578=\"AZIONE_1\",$O578=5),'3 - SPECIE DA IMPIANTARE'!$X79,\"\")","v":""},null,"",{"$f":"IF(AND($B578=\"AZIONE_1\",$R578=6),'3 - SPECIE DA IMPIANTARE'!$X79,\"\")","v":""}]
[6,"","",{"$f":"IF(AND($B579=\"AZIONE_1\",C579=1),'3 - SPECIE DA IMPIANTARE'!$X80,\"\")","v":""},null,{"$f":"F479","v":""},{"$f":"IF(AND($B579=\"AZIONE_1\",F579=2),'3 - SPECIE DA IMPIANTARE'!$X80,\"\")","v":""},null,"",{"$f":"IF(AND($B579=\"AZIONE_1\",$I579=3),'3 - SPECIE DA IMPIANTARE'!$X80,\"\")","v":""},null,"",{"$f":"IF(AND($B579=\"AZIONE_1\",$L579=4),'3 - SPECIE DA IMPIANTARE'!$X80,\"\")","v":""},null,"",{"$f":"IF(AND($B579=\"AZIONE_1\",$O579=5),'3 - SPECIE DA IMPIANTARE'!$X80,\"\")","v":""},null,"",{"$f":"IF(AND($B579=\"AZIONE_1\",$R579=6),'3 - SPECIE DA IMPIANTARE'!$X80,\"\")","v":""}]
[6,"","",{"$f":"IF(AND($B580=\"AZIONE_1\",C580=1),'3 - SPECIE DA IMPIANTARE'!$X81,\"\")","v":""},null,{"$f":"F480","v":""},{"$f":"IF(AND($B580=\"AZIONE_1\",F580=2),'3 - SPECIE DA IMPIANTARE'!$X81,\"\")","v":""},null,"",{"$f":"IF(AND($B580=\"AZIONE_1\",$I580=3),'3 - SPECIE DA IMPIANTARE'!$X81,\"\")","v":""},null,"",{"$f":"IF(AND($B580=\"AZIONE_1\",$L580=4),'3 - SPECIE DA IMPIANTARE'!$X81,\"\")","v":""},null,"",{"$f":"IF(AND($B580=\"AZIONE_1\",$O580=5),'3 - SPECIE DA IMPIANTARE'!$X81,\"\")","v":""},null,"",{"$f":"IF(AND($B580=\"AZIONE_1\",$R580=6),'3 - SPECIE DA IMPIANTARE'!$X81,\"\")","v":""}]
[6,"","",{"$f":"IF(AND($B581=\"AZIONE_1\",C581=1),'3 - SPECIE DA IMPIANTARE'!$X82,\"\")","v":""},null,{"$f":"F481","v":""},{"$f":"IF(AND($B581=\"AZIONE_1\",F581=2),'3 - SPECIE DA IMPIANTARE'!$X82,\"\")","v":""},null,"",{"$f":"IF(AND($B581=\"AZIONE_1\",$I581=3),'3 - SPECIE DA IMPIANTARE'!$X82,\"\")","v":""},null,"",{"$f":"IF(AND($B581=\"AZIONE_1\",$L581=4),'3 - SPECIE DA IMPIANTARE'!$X82,\"\")","v":""},null,"",{"$f":"IF(AND($B581=\"AZIONE_1\",$O581=5),'3 - SPECIE DA IMPIANTARE'!$X82,\"\")","v":""},null,"",{"$f":"IF(AND($B581=\"AZIONE_1\",$R581=6),'3 - SPECIE DA IMPIANTARE'!$X82,\"\")","v":""}]
[6,"","",{"$f":"IF(AND($B582=\"AZIONE_1\",C582=1),'3 - SPECIE DA IMPIANTARE'!$X83,\"\")","v":""},null,{"$f":"F482","v":""},{"$f":"IF(AND($B582=\"AZIONE_1\",F582=2),'3 - SPECIE DA IMPIANTARE'!$X83,\"\")","v":""},null,"",{"$f":"IF(AND($B582=\"AZIONE_1\",$I582=3),'3 - SPECIE DA IMPIANTARE'!$X83,\"\")","v":""},null,"",{"$f":"IF(AND($B582=\"AZIONE_1\",$L582=4),'3 - SPECIE DA IMPIANTARE'!$X83,\"\")","v":""},null,"",{"$f":"IF(AND($B582=\"AZIONE_1\",$O582=5),'3 - SPECIE DA IMPIANTARE'!$X83,\"\")","v":""},null,"",{"$f":"IF(AND($B582=\"AZIONE_1\",$R582=6),'3 - SPECIE DA IMPIANTARE'!$X83,\"\")","v":""}]
[6,"","",{"$f":"IF(AND($B583=\"AZIONE_1\",C583=1),'3 - SPECIE DA IMPIANTARE'!$X84,\"\")","v":""},null,{"$f":"F483","v":""},{"$f":"IF(AND($B583=\"AZIONE_1\",F583=2),'3 - SPECIE DA IMPIANTARE'!$X84,\"\")","v":""},null,"",{"$f":"IF(AND($B583=\"AZIONE_1\",$I583=3),'3 - SPECIE DA IMPIANTARE'!$X84,\"\")","v":""},null,"",{"$f":"IF(AND($B583=\"AZIONE_1\",$L583=4),'3 - SPECIE DA IMPIANTARE'!$X84,\"\")","v":""},null,"",{"$f":"IF(AND($B583=\"AZIONE_1\",$O583=5),'3 - SPECIE DA IMPIANTARE'!$X84,\"\")","v":""},null,"",{"$f":"IF(AND($B583=\"AZIONE_1\",$R583=6),'3 - SPECIE DA IMPIANTARE'!$X84,\"\")","v":""}]
[6,"","",{"$f":"IF(AND($B584=\"AZIONE_1\",C584=1),'3 - SPECIE DA IMPIANTARE'!$X85,\"\")","v":""},null,{"$f":"F484","v":""},{"$f":"IF(AND($B584=\"AZIONE_1\",F584=2),'3 - SPECIE DA IMPIANTARE'!$X85,\"\")","v":""},null,"",{"$f":"IF(AND($B584=\"AZIONE_1\",$I584=3),'3 - SPECIE DA IMPIANTARE'!$X85,\"\")","v":""},null,"",{"$f":"IF(AND($B584=\"AZIONE_1\",$L584=4),'3 - SPECIE DA IMPIANTARE'!$X85,\"\")","v":""},null,"",{"$f":"IF(AND($B584=\"AZIONE_1\",$O584=5),'3 - SPECIE DA IMPIANTARE'!$X85,\"\")","v":""},null,"",{"$f":"IF(AND($B584=\"AZIONE_1\",$R584=6),'3 - SPECIE DA IMPIANTARE'!$X85,\"\")","v":""}]
[6,"","",{"$f":"IF(AND($B585=\"AZIONE_1\",C585=1),'3 - SPECIE DA IMPIANTARE'!$X86,\"\")","v":""},null,{"$f":"F485","v":""},{"$f":"IF(AND($B585=\"AZIONE_1\",F585=2),'3 - SPECIE DA IMPIANTARE'!$X86,\"\")","v":""},null,"",{"$f":"IF(AND($B585=\"AZIONE_1\",$I585=3),'3 - SPECIE DA IMPIANTARE'!$X86,\"\")","v":""},null,"",{"$f":"IF(AND($B585=\"AZIONE_1\",$L585=4),'3 - SPECIE DA IMPIANTARE'!$X86,\"\")","v":""},null,"",{"$f":"IF(AND($B585=\"AZIONE_1\",$O585=5),'3 - SPECIE DA IMPIANTARE'!$X86,\"\")","v":""},null,"",{"$f":"IF(AND($B585=\"AZIONE_1\",$R585=6),'3 - SPECIE DA IMPIANTARE'!$X86,\"\")","v":""}]
[6,"","",{"$f":"IF(AND($B586=\"AZIONE_1\",C586=1),'3 - SPECIE DA IMPIANTARE'!$X87,\"\")","v":""},null,{"$f":"F486","v":""},{"$f":"IF(AND($B586=\"AZIONE_1\",F586=2),'3 - SPECIE DA IMPIANTARE'!$X87,\"\")","v":""},null,"",{"$f":"IF(AND($B586=\"AZIONE_1\",$I586=3),'3 - SPECIE DA IMPIANTARE'!$X87,\"\")","v":""},null,"",{"$f":"IF(AND($B586=\"AZIONE_1\",$L586=4),'3 - SPECIE DA IMPIANTARE'!$X87,\"\")","v":""},null,"",{"$f":"IF(AND($B586=\"AZIONE_1\",$O586=5),'3 - SPECIE DA IMPIANTARE'!$X87,\"\")","v":""},null,"",{"$f":"IF(AND($B586=\"AZIONE_1\",$R586=6),'3 - SPECIE DA IMPIANTARE'!$X87,\"\")","v":""}]
[6,"","",{"$f":"IF(AND($B587=\"AZIONE_1\",C587=1),'3 - SPECIE DA IMPIANTARE'!$X88,\"\")","v":""},null,{"$f":"F487","v":""},{"$f":"IF(AND($B587=\"AZIONE_1\",F587=2),'3 - SPECIE DA IMPIANTARE'!$X88,\"\")","v":""},null,"",{"$f":"IF(AND($B587=\"AZIONE_1\",$I587=3),'3 - SPECIE DA IMPIANTARE'!$X88,\"\")","v":""},null,"",{"$f":"IF(AND($B587=\"AZIONE_1\",$L587=4),'3 - SPECIE DA IMPIANTARE'!$X88,\"\")","v":""},null,"",{"$f":"IF(AND($B587=\"AZIONE_1\",$O587=5),'3 - SPECIE DA IMPIANTARE'!$X88,\"\")","v":""},null,"",{"$f":"IF(AND($B587=\"AZIONE_1\",$R587=6),'3 - SPECIE DA IMPIANTARE'!$X88,\"\")","v":""}]
[6,"","",{"$f":"IF(AND($B588=\"AZIONE_1\",C588=1),'3 - SPECIE DA IMPIANTARE'!$X89,\"\")","v":""},null,{"$f":"F488","v":""},{"$f":"IF(AND($B588=\"AZIONE_1\",F588=2),'3 - SPECIE DA IMPIANTARE'!$X89,\"\")","v":""},null,"",{"$f":"IF(AND($B588=\"AZIONE_1\",$I588=3),'3 - SPECIE DA IMPIANTARE'!$X89,\"\")","v":""},null,"",{"$f":"IF(AND($B588=\"AZIONE_1\",$L588=4),'3 - SPECIE DA IMPIANTARE'!$X89,\"\")","v":""},null,"",{"$f":"IF(AND($B588=\"AZIONE_1\",$O588=5),'3 - SPECIE DA IMPIANTARE'!$X89,\"\")","v":""},null,"",{"$f":"IF(AND($B588=\"AZIONE_1\",$R588=6),'3 - SPECIE DA IMPIANTARE'!$X89,\"\")","v":""}]
[6,"","",{"$f":"IF(AND($B589=\"AZIONE_1\",C589=1),'3 - SPECIE DA IMPIANTARE'!$X90,\"\")","v":""},null,{"$f":"F489","v":""},{"$f":"IF(AND($B589=\"AZIONE_1\",F589=2),'3 - SPECIE DA IMPIANTARE'!$X90,\"\")","v":""},null,"",{"$f":"IF(AND($B589=\"AZIONE_1\",$I589=3),'3 - SPECIE DA IMPIANTARE'!$X90,\"\")","v":""},null,"",{"$f":"IF(AND($B589=\"AZIONE_1\",$L589=4),'3 - SPECIE DA IMPIANTARE'!$X90,\"\")","v":""},null,"",{"$f":"IF(AND($B589=\"AZIONE_1\",$O589=5),'3 - SPECIE DA IMPIANTARE'!$X90,\"\")","v":""},null,"",{"$f":"IF(AND($B589=\"AZIONE_1\",$R589=6),'3 - SPECIE DA IMPIANTARE'!$X90,\"\")","v":""}]
[6,"","",{"$f":"IF(AND($B590=\"AZIONE_1\",C590=1),'3 - SPECIE DA IMPIANTARE'!$X91,\"\")","v":""},null,{"$f":"F490","v":""},{"$f":"IF(AND($B590=\"AZIONE_1\",F590=2),'3 - SPECIE DA IMPIANTARE'!$X91,\"\")","v":""},null,"",{"$f":"IF(AND($B590=\"AZIONE_1\",$I590=3),'3 - SPECIE DA IMPIANTARE'!$X91,\"\")","v":""},null,"",{"$f":"IF(AND($B590=\"AZIONE_1\",$L590=4),'3 - SPECIE DA IMPIANTARE'!$X91,\"\")","v":""},null,"",{"$f":"IF(AND($B590=\"AZIONE_1\",$O590=5),'3 - SPECIE DA IMPIANTARE'!$X91,\"\")","v":""},null,"",{"$f":"IF(AND($B590=\"AZIONE_1\",$R590=6),'3 - SPECIE DA IMPIANTARE'!$X91,\"\")","v":""}]
[6,"","",{"$f":"IF(AND($B591=\"AZIONE_1\",C591=1),'3 - SPECIE DA IMPIANTARE'!$X92,\"\")","v":""},null,{"$f":"F491","v":""},{"$f":"IF(AND($B591=\"AZIONE_1\",F591=2),'3 - SPECIE DA IMPIANTARE'!$X92,\"\")","v":""},null,"",{"$f":"IF(AND($B591=\"AZIONE_1\",$I591=3),'3 - SPECIE DA IMPIANTARE'!$X92,\"\")","v":""},null,"",{"$f":"IF(AND($B591=\"AZIONE_1\",$L591=4),'3 - SPECIE DA IMPIANTARE'!$X92,\"\")","v":""},null,"",{"$f":"IF(AND($B591=\"AZIONE_1\",$O591=5),'3 - SPECIE DA IMPIANTARE'!$X92,\"\")","v":""},null,"",{"$f":"IF(AND($B591=\"AZIONE_1\",$R591=6),'3 - SPECIE DA IMPIANTARE'!$X92,\"\")","v":""}]
[6,"","",{"$f":"IF(AND($B592=\"AZIONE_1\",C592=1),'3 - SPECIE DA IMPIANTARE'!$X93,\"\")","v":""},null,{"$f":"F492","v":""},{"$f":"IF(AND($B592=\"AZIONE_1\",F592=2),'3 - SPECIE DA IMPIANTARE'!$X93,\"\")","v":""},null,"",{"$f":"IF(AND($B592=\"AZIONE_1\",$I592=3),'3 - SPECIE DA IMPIANTARE'!$X93,\"\")","v":""},null,"",{"$f":"IF(AND($B592=\"AZIONE_1\",$L592=4),'3 - SPECIE DA IMPIANTARE'!$X93,\"\")","v":""},null,"",{"$f":"IF(AND($B592=\"AZIONE_1\",$O592=5),'3 - SPECIE DA IMPIANTARE'!$X93,\"\")","v":""},null,"",{"$f":"IF(AND($B592=\"AZIONE_1\",$R592=6),'3 - SPECIE DA IMPIANTARE'!$X93,\"\")","v":""}]
[6,"","",{"$f":"IF(AND($B593=\"AZIONE_1\",C593=1),'3 - SPECIE DA IMPIANTARE'!$X94,\"\")","v":""},null,{"$f":"F493","v":""},{"$f":"IF(AND($B593=\"AZIONE_1\",F593=2),'3 - SPECIE DA IMPIANTARE'!$X94,\"\")","v":""},null,"",{"$f":"IF(AND($B593=\"AZIONE_1\",$I593=3),'3 - SPECIE DA IMPIANTARE'!$X94,\"\")","v":""},null,"",{"$f":"IF(AND($B593=\"AZIONE_1\",$L593=4),'3 - SPECIE DA IMPIANTARE'!$X94,\"\")","v":""},null,"",{"$f":"IF(AND($B593=\"AZIONE_1\",$O593=5),'3 - SPECIE DA IMPIANTARE'!$X94,\"\")","v":""},null,"",{"$f":"IF(AND($B593=\"AZIONE_1\",$R593=6),'3 - SPECIE DA IMPIANTARE'!$X94,\"\")","v":""}]
[6,"","",{"$f":"IF(AND($B594=\"AZIONE_1\",C594=1),'3 - SPECIE DA IMPIANTARE'!$X95,\"\")","v":""},null,{"$f":"F494","v":""},{"$f":"IF(AND($B594=\"AZIONE_1\",F594=2),'3 - SPECIE DA IMPIANTARE'!$X95,\"\")","v":""},null,"",{"$f":"IF(AND($B594=\"AZIONE_1\",$I594=3),'3 - SPECIE DA IMPIANTARE'!$X95,\"\")","v":""},null,"",{"$f":"IF(AND($B594=\"AZIONE_1\",$L594=4),'3 - SPECIE DA IMPIANTARE'!$X95,\"\")","v":""},null,"",{"$f":"IF(AND($B594=\"AZIONE_1\",$O594=5),'3 - SPECIE DA IMPIANTARE'!$X95,\"\")","v":""},null,"",{"$f":"IF(AND($B594=\"AZIONE_1\",$R594=6),'3 - SPECIE DA IMPIANTARE'!$X95,\"\")","v":""}]
[6,"","",{"$f":"IF(AND($B595=\"AZIONE_1\",C595=1),'3 - SPECIE DA IMPIANTARE'!$X96,\"\")","v":""},null,{"$f":"F495","v":""},{"$f":"IF(AND($B595=\"AZIONE_1\",F595=2),'3 - SPECIE DA IMPIANTARE'!$X96,\"\")","v":""},null,"",{"$f":"IF(AND($B595=\"AZIONE_1\",$I595=3),'3 - SPECIE DA IMPIANTARE'!$X96,\"\")","v":""},null,"",{"$f":"IF(AND($B595=\"AZIONE_1\",$L595=4),'3 - SPECIE DA IMPIANTARE'!$X96,\"\")","v":""},null,"",{"$f":"IF(AND($B595=\"AZIONE_1\",$O595=5),'3 - SPECIE DA IMPIANTARE'!$X96,\"\")","v":""},null,"",{"$f":"IF(AND($B595=\"AZIONE_1\",$R595=6),'3 - SPECIE DA IMPIANTARE'!$X96,\"\")","v":""}]
[6,"","",{"$f":"IF(AND($B596=\"AZIONE_1\",C596=1),'3 - SPECIE DA IMPIANTARE'!$X97,\"\")","v":""},null,{"$f":"F496","v":""},{"$f":"IF(AND($B596=\"AZIONE_1\",F596=2),'3 - SPECIE DA IMPIANTARE'!$X97,\"\")","v":""},null,"",{"$f":"IF(AND($B596=\"AZIONE_1\",$I596=3),'3 - SPECIE DA IMPIANTARE'!$X97,\"\")","v":""},null,"",{"$f":"IF(AND($B596=\"AZIONE_1\",$L596=4),'3 - SPECIE DA IMPIANTARE'!$X97,\"\")","v":""},null,"",{"$f":"IF(AND($B596=\"AZIONE_1\",$O596=5),'3 - SPECIE DA IMPIANTARE'!$X97,\"\")","v":""},null,"",{"$f":"IF(AND($B596=\"AZIONE_1\",$R596=6),'3 - SPECIE DA IMPIANTARE'!$X97,\"\")","v":""}]
[6,"","",{"$f":"IF(AND($B597=\"AZIONE_1\",C597=1),'3 - SPECIE DA IMPIANTARE'!$X98,\"\")","v":""},null,{"$f":"F497","v":""},{"$f":"IF(AND($B597=\"AZIONE_1\",F597=2),'3 - SPECIE DA IMPIANTARE'!$X98,\"\")","v":""},null,"",{"$f":"IF(AND($B597=\"AZIONE_1\",$I597=3),'3 - SPECIE DA IMPIANTARE'!$X98,\"\")","v":""},null,"",{"$f":"IF(AND($B597=\"AZIONE_1\",$L597=4),'3 - SPECIE DA IMPIANTARE'!$X98,\"\")","v":""},null,"",{"$f":"IF(AND($B597=\"AZIONE_1\",$O597=5),'3 - SPECIE DA IMPIANTARE'!$X98,\"\")","v":""},null,"",{"$f":"IF(AND($B597=\"AZIONE_1\",$R597=6),'3 - SPECIE DA IMPIANTARE'!$X98,\"\")","v":""}]
[6,"","",{"$f":"IF(AND($B598=\"AZIONE_1\",C598=1),'3 - SPECIE DA IMPIANTARE'!$X99,\"\")","v":""},null,{"$f":"F498","v":""},{"$f":"IF(AND($B598=\"AZIONE_1\",F598=2),'3 - SPECIE DA IMPIANTARE'!$X99,\"\")","v":""},null,"",{"$f":"IF(AND($B598=\"AZIONE_1\",$I598=3),'3 - SPECIE DA IMPIANTARE'!$X99,\"\")","v":""},null,"",{"$f":"IF(AND($B598=\"AZIONE_1\",$L598=4),'3 - SPECIE DA IMPIANTARE'!$X99,\"\")","v":""},null,"",{"$f":"IF(AND($B598=\"AZIONE_1\",$O598=5),'3 - SPECIE DA IMPIANTARE'!$X99,\"\")","v":""},null,"",{"$f":"IF(AND($B598=\"AZIONE_1\",$R598=6),'3 - SPECIE DA IMPIANTARE'!$X99,\"\")","v":""}]
[6,"","",{"$f":"IF(AND($B599=\"AZIONE_1\",C599=1),'3 - SPECIE DA IMPIANTARE'!$X100,\"\")","v":""},null,{"$f":"F499","v":""},{"$f":"IF(AND($B599=\"AZIONE_1\",F599=2),'3 - SPECIE DA IMPIANTARE'!$X100,\"\")","v":""},null,"",{"$f":"IF(AND($B599=\"AZIONE_1\",$I599=3),'3 - SPECIE DA IMPIANTARE'!$X100,\"\")","v":""},null,"",{"$f":"IF(AND($B599=\"AZIONE_1\",$L599=4),'3 - SPECIE DA IMPIANTARE'!$X100,\"\")","v":""},null,"",{"$f":"IF(AND($B599=\"AZIONE_1\",$O599=5),'3 - SPECIE DA IMPIANTARE'!$X100,\"\")","v":""},null,"",{"$f":"IF(AND($B599=\"AZIONE_1\",$R599=6),'3 - SPECIE DA IMPIANTARE'!$X100,\"\")","v":""}]
[6,"","",{"$f":"IF(AND($B600=\"AZIONE_1\",C600=1),'3 - SPECIE DA IMPIANTARE'!$X101,\"\")","v":""},null,{"$f":"F500","v":""},{"$f":"IF(AND($B600=\"AZIONE_1\",F600=2),'3 - SPECIE DA IMPIANTARE'!$X101,\"\")","v":""},null,"",{"$f":"IF(AND($B600=\"AZIONE_1\",$I600=3),'3 - SPECIE DA IMPIANTARE'!$X101,\"\")","v":""},null,"",{"$f":"IF(AND($B600=\"AZIONE_1\",$L600=4),'3 - SPECIE DA IMPIANTARE'!$X101,\"\")","v":""},null,"",{"$f":"IF(AND($B600=\"AZIONE_1\",$O600=5),'3 - SPECIE DA IMPIANTARE'!$X101,\"\")","v":""},null,"",{"$f":"IF(AND($B600=\"AZIONE_1\",$R600=6),'3 - SPECIE DA IMPIANTARE'!$X101,\"\")","v":""}]
[6,"","",{"$f":"IF(AND($B601=\"AZIONE_1\",C601=1),'3 - SPECIE DA IMPIANTARE'!$X102,\"\")","v":""},null,{"$f":"F501","v":""},{"$f":"IF(AND($B601=\"AZIONE_1\",F601=2),'3 - SPECIE DA IMPIANTARE'!$X102,\"\")","v":""},null,"",{"$f":"IF(AND($B601=\"AZIONE_1\",$I601=3),'3 - SPECIE DA IMPIANTARE'!$X102,\"\")","v":""},null,"",{"$f":"IF(AND($B601=\"AZIONE_1\",$L601=4),'3 - SPECIE DA IMPIANTARE'!$X102,\"\")","v":""},null,"",{"$f":"IF(AND($B601=\"AZIONE_1\",$O601=5),'3 - SPECIE DA IMPIANTARE'!$X102,\"\")","v":""},null,"",{"$f":"IF(AND($B601=\"AZIONE_1\",$R601=6),'3 - SPECIE DA IMPIANTARE'!$X102,\"\")","v":""}]
[]
[]
[]
[]
[]
[]
[]
[]
[]
[]
[]
[]
[]
[]
[]
[]
[]
[]
[]
[]
[]
[]
[]
[]
[]
[]
[]
[]
[]
[]
[]
[]
[]
[]
[]
[]
[]
[]
[]
[]
[]
[]
[]
[]
[]
[]
[]
[]
[]
[]
[]
[]
[null,{"$f":"B554","v":""},{"$f":"IF('3 - SPECIE DA IMPIANTARE'!$G655=1,'3 - SPECIE DA IMPIANTARE'!$G655,\"\")","v":""},null,null,{"$f":"F554","v":""},{"$f":"IF(AND($B654=\"AZIONE_1\",$F654=2),'3 - SPECIE DA IMPIANTARE'!$X155,\"\")","v":""},null,{"$f":"I554","v":""},null,null,{"$f":"L554","v":""},null,null,{"$f":"O554","v":""},null,null,{"$f":"R554","v":""}]
[null,{"$f":"B555","v":""},{"$f":"IF('3 - SPECIE DA IMPIANTARE'!$G656=1,'3 - SPECIE DA IMPIANTARE'!$G656,\"\")","v":""},null,null,"",{"$f":"IF(AND($B655=\"AZIONE_1\",$F655=2),'3 - SPECIE DA IMPIANTARE'!$X156,\"\")","v":""},null,"",null,null,"",null,null,"",null,null,""]
[null,{"$f":"B556","v":""},{"$f":"IF('3 - SPECIE DA IMPIANTARE'!$G657=1,'3 - SPECIE DA IMPIANTARE'!$G657,\"\")","v":""},null,null,"",{"$f":"IF(AND($B656=\"AZIONE_1\",$F656=2),'3 - SPECIE DA IMPIANTARE'!$X157,\"\")","v":""},null,"",null,null,"",null,null,"",null,null,""]
[null,{"$f":"B557","v":""},{"$f":"IF('3 - SPECIE DA IMPIANTARE'!$G658=1,'3 - SPECIE DA IMPIANTARE'!$G658,\"\")","v":""},null,null,"",{"$f":"IF(AND($B657=\"AZIONE_1\",$F657=2),'3 - SPECIE DA IMPIANTARE'!$X158,\"\")","v":""},null,"",null,null,"",null,null,"",null,null,""]
[null,{"$f":"B558","v":""},{"$f":"IF('3 - SPECIE DA IMPIANTARE'!$G659=1,'3 - SPECIE DA IMPIANTARE'!$G659,\"\")","v":""},null,null,"",{"$f":"IF(AND($B658=\"AZIONE_1\",$F658=2),'3 - SPECIE DA IMPIANTARE'!$X159,\"\")","v":""},null,"",null,null,"",null,null,"",null,null,""]
[null,{"$f":"B559","v":""},{"$f":"IF('3 - SPECIE DA IMPIANTARE'!$G660=1,'3 - SPECIE DA IMPIANTARE'!$G660,\"\")","v":""},null,null,"",{"$f":"IF(AND($B659=\"AZIONE_1\",$F659=2),'3 - SPECIE DA IMPIANTARE'!$X160,\"\")","v":""},null,"",null,null,"",null,null,"",null,null,""]
[null,{"$f":"B560","v":""},{"$f":"IF('3 - SPECIE DA IMPIANTARE'!$G661=1,'3 - SPECIE DA IMPIANTARE'!$G661,\"\")","v":""},null,null,"",{"$f":"IF(AND($B660=\"AZIONE_1\",$F660=2),'3 - SPECIE DA IMPIANTARE'!$X161,\"\")","v":""},null,"",null,null,"",null,null,"",null,null,""]
[null,{"$f":"B561","v":""},{"$f":"IF('3 - SPECIE DA IMPIANTARE'!$G662=1,'3 - SPECIE DA IMPIANTARE'!$G662,\"\")","v":""},null,null,"",{"$f":"IF(AND($B661=\"AZIONE_1\",$F661=2),'3 - SPECIE DA IMPIANTARE'!$X162,\"\")","v":""},null,"",null,null,"",null,null,"",null,null,""]
[null,{"$f":"B562","v":""},{"$f":"IF('3 - SPECIE DA IMPIANTARE'!$G663=1,'3 - SPECIE DA IMPIANTARE'!$G663,\"\")","v":""},null,null,"",{"$f":"IF(AND($B662=\"AZIONE_1\",$F662=2),'3 - SPECIE DA IMPIANTARE'!$X163,\"\")","v":""},null,"",null,null,"",null,null,"",null,null,""]
[null,{"$f":"B563","v":""},{"$f":"IF('3 - SPECIE DA IMPIANTARE'!$G664=1,'3 - SPECIE DA IMPIANTARE'!$G664,\"\")","v":""},null,null,"",{"$f":"IF(AND($B663=\"AZIONE_1\",$F663=2),'3 - SPECIE DA IMPIANTARE'!$X164,\"\")","v":""},null,"",null,null,"",null,null,"",null,null,""]
[null,{"$f":"B564","v":""},{"$f":"IF('3 - SPECIE DA IMPIANTARE'!$G665=1,'3 - SPECIE DA IMPIANTARE'!$G665,\"\")","v":""},null,null,"",{"$f":"IF(AND($B664=\"AZIONE_1\",$F664=2),'3 - SPECIE DA IMPIANTARE'!$X165,\"\")","v":""},null,"",null,null,"",null,null,"",null,null,""]
[null,{"$f":"B565","v":""},{"$f":"IF('3 - SPECIE DA IMPIANTARE'!$G666=1,'3 - SPECIE DA IMPIANTARE'!$G666,\"\")","v":""},null,null,"",{"$f":"IF(AND($B665=\"AZIONE_1\",$F665=2),'3 - SPECIE DA IMPIANTARE'!$X166,\"\")","v":""},null,"",null,null,"",null,null,"",null,null,""]
[null,{"$f":"B566","v":""},{"$f":"IF('3 - SPECIE DA IMPIANTARE'!$G667=1,'3 - SPECIE DA IMPIANTARE'!$G667,\"\")","v":""},null,null,"",{"$f":"IF(AND($B666=\"AZIONE_1\",$F666=2),'3 - SPECIE DA IMPIANTARE'!$X167,\"\")","v":""},null,"",null,null,"",null,null,"",null,null,""]
[null,{"$f":"B567","v":""},{"$f":"IF('3 - SPECIE DA IMPIANTARE'!$G668=1,'3 - SPECIE DA IMPIANTARE'!$G668,\"\")","v":""},null,null,"",{"$f":"IF(AND($B667=\"AZIONE_1\",$F667=2),'3 - SPECIE DA IMPIANTARE'!$X168,\"\")","v":""},null,"",null,null,"",null,null,"",null,null,""]
[null,{"$f":"B568","v":""},{"$f":"IF('3 - SPECIE DA IMPIANTARE'!$G669=1,'3 - SPECIE DA IMPIANTARE'!$G669,\"\")","v":""},null,null,"",{"$f":"IF(AND($B668=\"AZIONE_1\",$F668=2),'3 - SPECIE DA IMPIANTARE'!$X169,\"\")","v":""},null,"",null,null,"",null,null,"",null,null,""]
[null,{"$f":"B569","v":""},{"$f":"IF('3 - SPECIE DA IMPIANTARE'!$G670=1,'3 - SPECIE DA IMPIANTARE'!$G670,\"\")","v":""},null,null,"",{"$f":"IF(AND($B669=\"AZIONE_1\",$F669=2),'3 - SPECIE DA IMPIANTARE'!$X170,\"\")","v":""},null,"",null,null,"",null,null,"",null,null,""]
[null,{"$f":"B570","v":""},{"$f":"IF('3 - SPECIE DA IMPIANTARE'!$G671=1,'3 - SPECIE DA IMPIANTARE'!$G671,\"\")","v":""},null,null,"",{"$f":"IF(AND($B670=\"AZIONE_1\",$F670=2),'3 - SPECIE DA IMPIANTARE'!$X171,\"\")","v":""},null,"",null,null,"",null,null,"",null,null,""]
[null,{"$f":"B571","v":""},{"$f":"IF('3 - SPECIE DA IMPIANTARE'!$G672=1,'3 - SPECIE DA IMPIANTARE'!$G672,\"\")","v":""},null,null,"",{"$f":"IF(AND($B671=\"AZIONE_1\",$F671=2),'3 - SPECIE DA IMPIANTARE'!$X172,\"\")","v":""},null,"",null,null,"",null,null,"",null,null,""]
[null,{"$f":"B572","v":""},{"$f":"IF('3 - SPECIE DA IMPIANTARE'!$G673=1,'3 - SPECIE DA IMPIANTARE'!$G673,\"\")","v":""},null,null,"",{"$f":"IF(AND($B672=\"AZIONE_1\",$F672=2),'3 - SPECIE DA IMPIANTARE'!$X173,\"\")","v":""},null,"",null,null,"",null,null,"",null,null,""]
[null,{"$f":"B573","v":""},{"$f":"IF('3 - SPECIE DA IMPIANTARE'!$G674=1,'3 - SPECIE DA IMPIANTARE'!$G674,\"\")","v":""},null,null,"",{"$f":"IF(AND($B673=\"AZIONE_1\",$F673=2),'3 - SPECIE DA IMPIANTARE'!$X174,\"\")","v":""},null,"",null,null,"",null,null,"",null,null,""]
[null,{"$f":"B574","v":""},{"$f":"IF('3 - SPECIE DA IMPIANTARE'!$G675=1,'3 - SPECIE DA IMPIANTARE'!$G675,\"\")","v":""},null,null,"",{"$f":"IF(AND($B674=\"AZIONE_1\",$F674=2),'3 - SPECIE DA IMPIANTARE'!$X175,\"\")","v":""},null,"",null,null,"",null,null,"",null,null,""]
[null,{"$f":"B575","v":""},{"$f":"IF('3 - SPECIE DA IMPIANTARE'!$G676=1,'3 - SPECIE DA IMPIANTARE'!$G676,\"\")","v":""},null,null,"",{"$f":"IF(AND($B675=\"AZIONE_1\",$F675=2),'3 - SPECIE DA IMPIANTARE'!$X176,\"\")","v":""},null,"",null,null,"",null,null,"",null,null,""]
[null,{"$f":"B576","v":""},{"$f":"IF('3 - SPECIE DA IMPIANTARE'!$G677=1,'3 - SPECIE DA IMPIANTARE'!$G677,\"\")","v":""},null,null,"",{"$f":"IF(AND($B676=\"AZIONE_1\",$F676=2),'3 - SPECIE DA IMPIANTARE'!$X177,\"\")","v":""},null,"",null,null,"",null,null,"",null,null,""]
[null,{"$f":"B577","v":""},{"$f":"IF('3 - SPECIE DA IMPIANTARE'!$G678=1,'3 - SPECIE DA IMPIANTARE'!$G678,\"\")","v":""},null,null,"",{"$f":"IF(AND($B677=\"AZIONE_1\",$F677=2),'3 - SPECIE DA IMPIANTARE'!$X178,\"\")","v":""},null,"",null,null,"",null,null,"",null,null,""]
[null,{"$f":"B578","v":""},{"$f":"IF('3 - SPECIE DA IMPIANTARE'!$G679=1,'3 - SPECIE DA IMPIANTARE'!$G679,\"\")","v":""},null,null,"",{"$f":"IF(AND($B678=\"AZIONE_1\",$F678=2),'3 - SPECIE DA IMPIANTARE'!$X179,\"\")","v":""},null,"",null,null,"",null,null,"",null,null,""]
[null,{"$f":"B579","v":""},{"$f":"IF('3 - SPECIE DA IMPIANTARE'!$G680=1,'3 - SPECIE DA IMPIANTARE'!$G680,\"\")","v":""},null,null,"",{"$f":"IF(AND($B679=\"AZIONE_1\",$F679=2),'3 - SPECIE DA IMPIANTARE'!$X180,\"\")","v":""},null,{"$f":"I579","v":""},null,null,{"$f":"L579","v":""},null,null,{"$f":"O579","v":""},null,null,{"$f":"R579","v":""}]
[null,{"$f":"B580","v":""},{"$f":"IF('3 - SPECIE DA IMPIANTARE'!$G681=1,'3 - SPECIE DA IMPIANTARE'!$G681,\"\")","v":""},null,null,{"$f":"F580","v":""},{"$f":"IF(AND($B680=\"AZIONE_1\",$F680=2),'3 - SPECIE DA IMPIANTARE'!$X181,\"\")","v":""},null,"",null,null,"",null,null,"",null,null,""]
[null,{"$f":"B581","v":""},{"$f":"IF('3 - SPECIE DA IMPIANTARE'!$G682=1,'3 - SPECIE DA IMPIANTARE'!$G682,\"\")","v":""},null,null,"",{"$f":"IF(AND($B681=\"AZIONE_1\",$F681=2),'3 - SPECIE DA IMPIANTARE'!$X182,\"\")","v":""},null,"",null,null,"",null,null,"",null,null,""]
[null,{"$f":"B582","v":""},{"$f":"IF('3 - SPECIE DA IMPIANTARE'!$G683=1,'3 - SPECIE DA IMPIANTARE'!$G683,\"\")","v":""},null,null,"",{"$f":"IF(AND($B682=\"AZIONE_1\",$F682=2),'3 - SPECIE DA IMPIANTARE'!$X183,\"\")","v":""},null,"",null,null,"",null,null,"",null,null,""]
[null,{"$f":"B583","v":""},{"$f":"IF('3 - SPECIE DA IMPIANTARE'!$G684=1,'3 - SPECIE DA IMPIANTARE'!$G684,\"\")","v":""},null,null,"",{"$f":"IF(AND($B683=\"AZIONE_1\",$F683=2),'3 - SPECIE DA IMPIANTARE'!$X184,\"\")","v":""},null,"",null,null,"",null,null,"",null,null,""]
[null,{"$f":"B584","v":""},{"$f":"IF('3 - SPECIE DA IMPIANTARE'!$G685=1,'3 - SPECIE DA IMPIANTARE'!$G685,\"\")","v":""},null,null,"",{"$f":"IF(AND($B684=\"AZIONE_1\",$F684=2),'3 - SPECIE DA IMPIANTARE'!$X185,\"\")","v":""},null,"",null,null,"",null,null,"",null,null,""]
[null,{"$f":"B585","v":""},{"$f":"IF('3 - SPECIE DA IMPIANTARE'!$G686=1,'3 - SPECIE DA IMPIANTARE'!$G686,\"\")","v":""},null,null,"",{"$f":"IF(AND($B685=\"AZIONE_1\",$F685=2),'3 - SPECIE DA IMPIANTARE'!$X186,\"\")","v":""},null,"",null,null,"",null,null,"",null,null,""]
[null,{"$f":"B586","v":""},{"$f":"IF('3 - SPECIE DA IMPIANTARE'!$G687=1,'3 - SPECIE DA IMPIANTARE'!$G687,\"\")","v":""},null,null,"",{"$f":"IF(AND($B686=\"AZIONE_1\",$F686=2),'3 - SPECIE DA IMPIANTARE'!$X187,\"\")","v":""},null,"",null,null,"",null,null,"",null,null,""]
[null,{"$f":"B587","v":""},{"$f":"IF('3 - SPECIE DA IMPIANTARE'!$G688=1,'3 - SPECIE DA IMPIANTARE'!$G688,\"\")","v":""},null,null,"",{"$f":"IF(AND($B687=\"AZIONE_1\",$F687=2),'3 - SPECIE DA IMPIANTARE'!$X188,\"\")","v":""},null,"",null,null,"",null,null,"",null,null,""]
[null,{"$f":"B588","v":""},{"$f":"IF('3 - SPECIE DA IMPIANTARE'!$G689=1,'3 - SPECIE DA IMPIANTARE'!$G689,\"\")","v":""},null,null,"",{"$f":"IF(AND($B688=\"AZIONE_1\",$F688=2),'3 - SPECIE DA IMPIANTARE'!$X189,\"\")","v":""},null,"",null,null,"",null,null,"",null,null,""]
[null,{"$f":"B589","v":""},{"$f":"IF('3 - SPECIE DA IMPIANTARE'!$G690=1,'3 - SPECIE DA IMPIANTARE'!$G690,\"\")","v":""},null,null,"",{"$f":"IF(AND($B689=\"AZIONE_1\",$F689=2),'3 - SPECIE DA IMPIANTARE'!$X190,\"\")","v":""},null,"",null,null,"",null,null,"",null,null,""]
[null,{"$f":"B590","v":""},{"$f":"IF('3 - SPECIE DA IMPIANTARE'!$G691=1,'3 - SPECIE DA IMPIANTARE'!$G691,\"\")","v":""},null,null,"",{"$f":"IF(AND($B690=\"AZIONE_1\",$F690=2),'3 - SPECIE DA IMPIANTARE'!$X191,\"\")","v":""},null,"",null,null,"",null,null,"",null,null,""]
[null,{"$f":"B591","v":""},{"$f":"IF('3 - SPECIE DA IMPIANTARE'!$G692=1,'3 - SPECIE DA IMPIANTARE'!$G692,\"\")","v":""},null,null,"",{"$f":"IF(AND($B691=\"AZIONE_1\",$F691=2),'3 - SPECIE DA IMPIANTARE'!$X192,\"\")","v":""},null,"",null,null,"",null,null,"",null,null,""]
[null,{"$f":"B592","v":""},{"$f":"IF('3 - SPECIE DA IMPIANTARE'!$G693=1,'3 - SPECIE DA IMPIANTARE'!$G693,\"\")","v":""},null,null,"",{"$f":"IF(AND($B692=\"AZIONE_1\",$F692=2),'3 - SPECIE DA IMPIANTARE'!$X193,\"\")","v":""},null,"",null,null,"",null,null,"",null,null,""]
[null,{"$f":"B593","v":""},{"$f":"IF('3 - SPECIE DA IMPIANTARE'!$G694=1,'3 - SPECIE DA IMPIANTARE'!$G694,\"\")","v":""},null,null,"",{"$f":"IF(AND($B693=\"AZIONE_1\",$F693=2),'3 - SPECIE DA IMPIANTARE'!$X194,\"\")","v":""},null,"",null,null,"",null,null,"",null,null,""]
[null,{"$f":"B594","v":""},{"$f":"IF('3 - SPECIE DA IMPIANTARE'!$G695=1,'3 - SPECIE DA IMPIANTARE'!$G695,\"\")","v":""},null,null,"",{"$f":"IF(AND($B694=\"AZIONE_1\",$F694=2),'3 - SPECIE DA IMPIANTARE'!$X195,\"\")","v":""},null,"",null,null,"",null,null,"",null,null,""]
[null,{"$f":"B595","v":""},{"$f":"IF('3 - SPECIE DA IMPIANTARE'!$G696=1,'3 - SPECIE DA IMPIANTARE'!$G696,\"\")","v":""},null,null,"",{"$f":"IF(AND($B695=\"AZIONE_1\",$F695=2),'3 - SPECIE DA IMPIANTARE'!$X196,\"\")","v":""},null,"",null,null,"",null,null,"",null,null,""]
[null,{"$f":"B596","v":""},{"$f":"IF('3 - SPECIE DA IMPIANTARE'!$G697=1,'3 - SPECIE DA IMPIANTARE'!$G697,\"\")","v":""},null,null,"",{"$f":"IF(AND($B696=\"AZIONE_1\",$F696=2),'3 - SPECIE DA IMPIANTARE'!$X197,\"\")","v":""},null,"",null,null,"",null,null,"",null,null,""]
[null,{"$f":"B597","v":""},{"$f":"IF('3 - SPECIE DA IMPIANTARE'!$G698=1,'3 - SPECIE DA IMPIANTARE'!$G698,\"\")","v":""},null,null,"",{"$f":"IF(AND($B697=\"AZIONE_1\",$F697=2),'3 - SPECIE DA IMPIANTARE'!$X198,\"\")","v":""},null,"",null,null,"",null,null,"",null,null,""]
[null,{"$f":"B598","v":""},{"$f":"IF('3 - SPECIE DA IMPIANTARE'!$G699=1,'3 - SPECIE DA IMPIANTARE'!$G699,\"\")","v":""},null,null,"",{"$f":"IF(AND($B698=\"AZIONE_1\",$F698=2),'3 - SPECIE DA IMPIANTARE'!$X199,\"\")","v":""},null,"",null,null,"",null,null,"",null,null,""]
[null,{"$f":"B599","v":""},{"$f":"IF('3 - SPECIE DA IMPIANTARE'!$G700=1,'3 - SPECIE DA IMPIANTARE'!$G700,\"\")","v":""},null,null,"",{"$f":"IF(AND($B699=\"AZIONE_1\",$F699=2),'3 - SPECIE DA IMPIANTARE'!$X200,\"\")","v":""},null,"",null,null,"",null,null,"",null,null,""]
[null,{"$f":"B600","v":""},{"$f":"IF('3 - SPECIE DA IMPIANTARE'!$G701=1,'3 - SPECIE DA IMPIANTARE'!$G701,\"\")","v":""},null,null,"",{"$f":"IF(AND($B700=\"AZIONE_1\",$F700=2),'3 - SPECIE DA IMPIANTARE'!$X201,\"\")","v":""},null,"",null,null,"",null,null,"",null,null,""]
[null,{"$f":"B601","v":""},{"$f":"IF('3 - SPECIE DA IMPIANTARE'!$G702=1,'3 - SPECIE DA IMPIANTARE'!$G702,\"\")","v":""},null,null,"",{"$f":"IF(AND($B701=\"AZIONE_1\",$F701=2),'3 - SPECIE DA IMPIANTARE'!$X202,\"\")","v":""},null,"",null,null,"",null,null,"",null,null,""]
[null,null,{"$f":"IF('3 - SPECIE DA IMPIANTARE'!$G703=1,'3 - SPECIE DA IMPIANTARE'!$G703,\"\")","v":""},null,null,0,{"$f":"IF(AND($B702=\"AZIONE_1\",$F702=2),'3 - SPECIE DA IMPIANTARE'!$X203,\"\")","v":""},null,0,null,null,0,null,null,0,null,null,0]
[null,null,{"$f":"IF('3 - SPECIE DA IMPIANTARE'!$G704=1,'3 - SPECIE DA IMPIANTARE'!$G704,\"\")","v":""},null,null,0,{"$f":"IF(AND($B703=\"AZIONE_1\",$F703=2),'3 - SPECIE DA IMPIANTARE'!$X204,\"\")","v":""},null,0,null,null,0,null,null,0,null,null,0]
[null,null,{"$f":"IF('3 - SPECIE DA IMPIANTARE'!$G705=1,'3 - SPECIE DA IMPIANTARE'!$G705,\"\")","v":""},null,null,0,{"$f":"IF(AND($B704=\"AZIONE_1\",$F704=2),'3 - SPECIE DA IMPIANTARE'!$X205,\"\")","v":""},null,0,null,null,0,null,null,0,null,null,0]
[null,null,{"$f":"IF('3 - SPECIE DA IMPIANTARE'!$G706=1,'3 - SPECIE DA IMPIANTARE'!$G706,\"\")","v":""},null,null,0,{"$f":"IF(AND($B705=\"AZIONE_1\",$F705=2),'3 - SPECIE DA IMPIANTARE'!$X206,\"\")","v":""},null,0,null,null,0,null,null,0,null,null,0]
[null,null,{"$f":"IF('3 - SPECIE DA IMPIANTARE'!$G707=1,'3 - SPECIE DA IMPIANTARE'!$G707,\"\")","v":""},null,null,0,{"$f":"IF(AND($B706=\"AZIONE_1\",$F706=2),'3 - SPECIE DA IMPIANTARE'!$X207,\"\")","v":""},null,0,null,null,0,null,null,0,null,null,0]
[null,null,{"$f":"IF('3 - SPECIE DA IMPIANTARE'!$G708=1,'3 - SPECIE DA IMPIANTARE'!$G708,\"\")","v":""},null,null,0,{"$f":"IF(AND($B707=\"AZIONE_1\",$F707=2),'3 - SPECIE DA IMPIANTARE'!$X208,\"\")","v":""},null,0,null,null,0,null,null,0,null,null,0]
[null,null,{"$f":"IF('3 - SPECIE DA IMPIANTARE'!$G709=1,'3 - SPECIE DA IMPIANTARE'!$G709,\"\")","v":""},null,null,0,{"$f":"IF(AND($B708=\"AZIONE_1\",$F708=2),'3 - SPECIE DA IMPIANTARE'!$X209,\"\")","v":""},null,0,null,null,0,null,null,0,null,null,0]
[null,null,{"$f":"IF('3 - SPECIE DA IMPIANTARE'!$G710=1,'3 - SPECIE DA IMPIANTARE'!$G710,\"\")","v":""},null,null,0,{"$f":"IF(AND($B709=\"AZIONE_1\",$F709=2),'3 - SPECIE DA IMPIANTARE'!$X210,\"\")","v":""},null,0,null,null,0,null,null,0,null,null,0]
[null,null,{"$f":"IF('3 - SPECIE DA IMPIANTARE'!$G711=1,'3 - SPECIE DA IMPIANTARE'!$G711,\"\")","v":""},null,null,0,{"$f":"IF(AND($B710=\"AZIONE_1\",$F710=2),'3 - SPECIE DA IMPIANTARE'!$X211,\"\")","v":""},null,0,null,null,0,null,null,0,null,null,0]
[null,null,{"$f":"IF('3 - SPECIE DA IMPIANTARE'!$G712=1,'3 - SPECIE DA IMPIANTARE'!$G712,\"\")","v":""},null,null,0,{"$f":"IF(AND($B711=\"AZIONE_1\",$F711=2),'3 - SPECIE DA IMPIANTARE'!$X212,\"\")","v":""},null,0,null,null,0,null,null,0,null,null,0]
[null,null,{"$f":"IF('3 - SPECIE DA IMPIANTARE'!$G713=1,'3 - SPECIE DA IMPIANTARE'!$G713,\"\")","v":""},null,null,0,{"$f":"IF(AND($B712=\"AZIONE_1\",$F712=2),'3 - SPECIE DA IMPIANTARE'!$X213,\"\")","v":""},null,0,null,null,0,null,null,0,null,null,0]
[null,null,{"$f":"IF('3 - SPECIE DA IMPIANTARE'!$G714=1,'3 - SPECIE DA IMPIANTARE'!$G714,\"\")","v":""},null,null,0,{"$f":"IF(AND($B713=\"AZIONE_1\",$F713=2),'3 - SPECIE DA IMPIANTARE'!$X214,\"\")","v":""},null,0,null,null,0,null,null,0,null,null,0]
[null,null,{"$f":"IF('3 - SPECIE DA IMPIANTARE'!$G715=1,'3 - SPECIE DA IMPIANTARE'!$G715,\"\")","v":""},null,null,0,{"$f":"IF(AND($B714=\"AZIONE_1\",$F714=2),'3 - SPECIE DA IMPIANTARE'!$X215,\"\")","v":""},null,0,null,null,0,null,null,0,null,null,0]
[null,null,{"$f":"IF('3 - SPECIE DA IMPIANTARE'!$G716=1,'3 - SPECIE DA IMPIANTARE'!$G716,\"\")","v":""},null,null,0,{"$f":"IF(AND($B715=\"AZIONE_1\",$F715=2),'3 - SPECIE DA IMPIANTARE'!$X216,\"\")","v":""},null,0,null,null,0,null,null,0,null,null,0]
[null,null,{"$f":"IF('3 - SPECIE DA IMPIANTARE'!$G717=1,'3 - SPECIE DA IMPIANTARE'!$G717,\"\")","v":""},null,null,0,{"$f":"IF(AND($B716=\"AZIONE_1\",$F716=2),'3 - SPECIE DA IMPIANTARE'!$X217,\"\")","v":""},null,0,null,null,0,null,null,0,null,null,0]
[null,null,{"$f":"IF('3 - SPECIE DA IMPIANTARE'!$G718=1,'3 - SPECIE DA IMPIANTARE'!$G718,\"\")","v":""},null,null,0,{"$f":"IF(AND($B717=\"AZIONE_1\",$F717=2),'3 - SPECIE DA IMPIANTARE'!$X218,\"\")","v":""},null,0,null,null,0,null,null,0,null,null,0]
[null,null,null,null,null,0,{"$f":"IF(AND($B718=\"AZIONE_1\",$F718=2),'3 - SPECIE DA IMPIANTARE'!$X219,\"\")","v":""},null,0,null,null,0,null,null,0,null,null,0]
[null,null,null,null,null,0,{"$f":"IF(AND($B719=\"AZIONE_1\",$F719=2),'3 - SPECIE DA IMPIANTARE'!$X220,\"\")","v":""},null,0,null,null,0,null,null,0,null,null,0]
[null,null,null,null,null,0,{"$f":"IF(AND($B720=\"AZIONE_1\",$F720=2),'3 - SPECIE DA IMPIANTARE'!$X221,\"\")","v":""},null,0,null,null,0,null,null,0,null,null,0]
[null,null,null,null,null,0,{"$f":"IF(AND($B721=\"AZIONE_1\",$F721=2),'3 - SPECIE DA IMPIANTARE'!$X222,\"\")","v":""},null,0,null,null,0,null,null,0,null,null,0]
[null,null,null,null,null,0,{"$f":"IF(AND($B722=\"AZIONE_1\",$F722=2),'3 - SPECIE DA IMPIANTARE'!$X223,\"\")","v":""},null,0,null,null,0,null,null,0,null,null,0]
[null,null,null,null,null,0,{"$f":"IF(AND($B723=\"AZIONE_1\",$F723=2),'3 - SPECIE DA IMPIANTARE'!$X224,\"\")","v":""},null,0,null,null,0,null,null,0,null,null,0]
[null,null,null,null,null,0,{"$f":"IF(AND($B724=\"AZIONE_1\",$F724=2),'3 - SPECIE DA IMPIANTARE'!$X225,\"\")","v":""},null,0,null,null,0,null,null,0,null,null,0]
[null,null,null,null,null,0,{"$f":"IF(AND($B725=\"AZIONE_1\",$F725=2),'3 - SPECIE DA IMPIANTARE'!$X226,\"\")","v":""},null,0,null,null,0,null,null,0,null,null,0]
[null,null,null,null,null,0,{"$f":"IF(AND($B726=\"AZIONE_1\",$F726=2),'3 - SPECIE DA IMPIANTARE'!$X227,\"\")","v":""},null,0,null,null,0,null,null,0,null,null,0]
[null,null,null,null,null,0,{"$f":"IF(AND($B727=\"AZIONE_1\",$F727=2),'3 - SPECIE DA IMPIANTARE'!$X228,\"\")","v":""},null,0,null,null,0,null,null,0,null,null,0]
[null,null,null,null,null,0,{"$f":"IF(AND($B728=\"AZIONE_1\",$F728=2),'3 - SPECIE DA IMPIANTARE'!$X229,\"\")","v":""},null,0,null,null,0,null,null,0,null,null,0]
[null,null,null,null,null,0,{"$f":"IF(AND($B729=\"AZIONE_1\",$F729=2),'3 - SPECIE DA IMPIANTARE'!$X230,\"\")","v":""},null,0,null,null,0,null,null,0,null,null,0]
[null,null,null,null,null,0,{"$f":"IF(AND($B730=\"AZIONE_1\",$F730=2),'3 - SPECIE DA IMPIANTARE'!$X231,\"\")","v":""},null,0,null,null,0,null,null,0,null,null,0]
[null,null,null,null,null,0,{"$f":"IF(AND($B731=\"AZIONE_1\",$F731=2),'3 - SPECIE DA IMPIANTARE'!$X232,\"\")","v":""},null,0,null,null,0,null,null,0,null,null,0]
[null,null,null,null,null,0,{"$f":"IF(AND($B732=\"AZIONE_1\",$F732=2),'3 - SPECIE DA IMPIANTARE'!$X233,\"\")","v":""},null,0,null,null,0,null,null,0,null,null,0]
[null,null,null,null,null,0,{"$f":"IF(AND($B733=\"AZIONE_1\",$F733=2),'3 - SPECIE DA IMPIANTARE'!$X234,\"\")","v":""},null,0,null,null,0,null,null,0,null,null,0]
[null,null,null,null,null,0,{"$f":"IF(AND($B734=\"AZIONE_1\",$F734=2),'3 - SPECIE DA IMPIANTARE'!$X235,\"\")","v":""},null,0,null,null,0,null,null,0,null,null,0]
[null,null,null,null,null,0,{"$f":"IF(AND($B735=\"AZIONE_1\",$F735=2),'3 - SPECIE DA IMPIANTARE'!$X236,\"\")","v":""},null,0,null,null,0,null,null,0,null,null,0]
[null,null,null,null,null,0,{"$f":"IF(AND($B736=\"AZIONE_1\",$F736=2),'3 - SPECIE DA IMPIANTARE'!$X237,\"\")","v":""},null,0,null,null,0,null,null,0,null,null,0]
[null,null,null,null,null,0,{"$f":"IF(AND($B737=\"AZIONE_1\",$F737=2),'3 - SPECIE DA IMPIANTARE'!$X238,\"\")","v":""},null,0,null,null,0,null,null,0,null,null,0]
[null,null,null,null,null,0,{"$f":"IF(AND($B738=\"AZIONE_1\",$F738=2),'3 - SPECIE DA IMPIANTARE'!$X239,\"\")","v":""},null,0,null,null,0,null,null,0,null,null,0]
[null,null,null,null,null,0,{"$f":"IF(AND($B739=\"AZIONE_1\",$F739=2),'3 - SPECIE DA IMPIANTARE'!$X240,\"\")","v":""},null,0,null,null,0,null,null,0,null,null,0]
[null,null,null,null,null,0,{"$f":"IF(AND($B740=\"AZIONE_1\",$F740=2),'3 - SPECIE DA IMPIANTARE'!$X241,\"\")","v":""},null,0,null,null,0,null,null,0,null,null,0]
[null,null,null,null,null,0,{"$f":"IF(AND($B741=\"AZIONE_1\",$F741=2),'3 - SPECIE DA IMPIANTARE'!$X242,\"\")","v":""},null,0,null,null,0,null,null,0,null,null,0]
[null,null,null,null,null,0,{"$f":"IF(AND($B742=\"AZIONE_1\",$F742=2),'3 - SPECIE DA IMPIANTARE'!$X243,\"\")","v":""},null,0,null,null,0,null,null,0,null,null,0]
[null,null,null,null,null,0,{"$f":"IF(AND($B743=\"AZIONE_1\",$F743=2),'3 - SPECIE DA IMPIANTARE'!$X244,\"\")","v":""},null,{"$f":"I643","v":0},null,null,{"$f":"L643","v":0},null,null,{"$f":"O643","v":0},null,null,{"$f":"R643","v":0}]
[null,null,null,null,null,{"$f":"F644","v":0},{"$f":"IF(AND($B744=\"AZIONE_1\",$F744=2),'3 - SPECIE DA IMPIANTARE'!$X245,\"\")","v":""},null,0,null,null,0,null,null,0,null,null,0]
[null,null,null,null,null,0,{"$f":"IF(AND($B745=\"AZIONE_1\",$F745=2),'3 - SPECIE DA IMPIANTARE'!$X246,\"\")","v":""},null,0,null,null,0,null,null,0,null,null,0]
[null,null,null,null,null,0,{"$f":"IF(AND($B746=\"AZIONE_1\",$F746=2),'3 - SPECIE DA IMPIANTARE'!$X247,\"\")","v":""},null,0,null,null,0,null,null,0,null,null,0]
[null,null,null,null,null,0,{"$f":"IF(AND($B747=\"AZIONE_1\",$F747=2),'3 - SPECIE DA IMPIANTARE'!$X248,\"\")","v":""},null,0,null,null,0,null,null,0,null,null,0]
[null,null,null,null,null,0,{"$f":"IF(AND($B748=\"AZIONE_1\",$F748=2),'3 - SPECIE DA IMPIANTARE'!$X249,\"\")","v":""},null,0,null,null,0,null,null,0,null,null,0]
[null,null,null,null,null,0,{"$f":"IF(AND($B749=\"AZIONE_1\",$F749=2),'3 - SPECIE DA IMPIANTARE'!$X250,\"\")","v":""},null,0,null,null,0,null,null,0,null,null,0]
[null,null,null,null,null,0,{"$f":"IF(AND($B750=\"AZIONE_1\",$F750=2),'3 - SPECIE DA IMPIANTARE'!$X251,\"\")","v":""},null,0,null,null,0,null,null,0,null,null,0]
[null,null,null,null,null,0,{"$f":"IF(AND($B751=\"AZIONE_1\",$F751=2),'3 - SPECIE DA IMPIANTARE'!$X252,\"\")","v":""},null,0,null,null,0,null,null,0,null,null,0]
[null,null,null,null,null,0,{"$f":"IF(AND($B752=\"AZIONE_1\",$F752=2),'3 - SPECIE DA IMPIANTARE'!$X253,\"\")","v":""},null,0,null,null,0,null,null,0,null,null,0]
[null,null,null,null,null,0,{"$f":"IF(AND($B753=\"AZIONE_1\",$F753=2),'3 - SPECIE DA IMPIANTARE'!$X254,\"\")","v":""},null,0,null,null,0,null,null,0,null,null,0]
[null,null,null,null,null,"",{"$f":"IF(AND($B754=\"AZIONE_1\",$F754=2),'3 - SPECIE DA IMPIANTARE'!$X255,\"\")","v":""},null,"",null,null,"",null,null,"",null,null,""]
[null,null,null,null,null,"",{"$f":"IF(AND($B755=\"AZIONE_1\",$F755=2),'3 - SPECIE DA IMPIANTARE'!$X256,\"\")","v":""},null,"",null,null,"",null,null,"",null,null,""]
[null,null,null,null,null,"",{"$f":"IF(AND($B756=\"AZIONE_1\",$F756=2),'3 - SPECIE DA IMPIANTARE'!$X257,\"\")","v":""},null,"",null,null,"",null,null,"",null,null,""]
[null,null,null,null,null,"",{"$f":"IF(AND($B757=\"AZIONE_1\",$F757=2),'3 - SPECIE DA IMPIANTARE'!$X258,\"\")","v":""},null,"",null,null,"",null,null,"",null,null,""]
[null,null,null,null,null,"",{"$f":"IF(AND($B758=\"AZIONE_1\",$F758=2),'3 - SPECIE DA IMPIANTARE'!$X259,\"\")","v":""},null,"",null,null,"",null,null,"",null,null,""]
[null,null,null,null,null,"",{"$f":"IF(AND($B759=\"AZIONE_1\",$F759=2),'3 - SPECIE DA IMPIANTARE'!$X260,\"\")","v":""},null,"",null,null,"",null,null,"",null,null,""]
[null,null,null,null,null,"",{"$f":"IF(AND($B760=\"AZIONE_1\",$F760=2),'3 - SPECIE DA IMPIANTARE'!$X261,\"\")","v":""},null,"",null,null,"",null,null,"",null,null,""]
[null,null,null,null,null,"",{"$f":"IF(AND($B761=\"AZIONE_1\",$F761=2),'3 - SPECIE DA IMPIANTARE'!$X262,\"\")","v":""},null,"",null,null,"",null,null,"",null,null,""]
[null,null,null,null,null,"",{"$f":"IF(AND($B762=\"AZIONE_1\",$F762=2),'3 - SPECIE DA IMPIANTARE'!$X263,\"\")","v":""},null,"",null,null,"",null,null,"",null,null,""]
[null,null,null,null,null,"",{"$f":"IF(AND($B763=\"AZIONE_1\",$F763=2),'3 - SPECIE DA IMPIANTARE'!$X264,\"\")","v":""},null,"",null,null,"",null,null,"",null,null,""]
[null,null,null,null,null,"",{"$f":"IF(AND($B764=\"AZIONE_1\",$F764=2),'3 - SPECIE DA IMPIANTARE'!$X265,\"\")","v":""},null,"",null,null,"",null,null,"",null,null,""]
[null,null,null,null,null,"",{"$f":"IF(AND($B765=\"AZIONE_1\",$F765=2),'3 - SPECIE DA IMPIANTARE'!$X266,\"\")","v":""},null,"",null,null,"",null,null,"",null,null,""]
[null,null,null,null,null,"",{"$f":"IF(AND($B766=\"AZIONE_1\",$F766=2),'3 - SPECIE DA IMPIANTARE'!$X267,\"\")","v":""},null,"",null,null,"",null,null,"",null,null,""]
[null,null,null,null,null,"",{"$f":"IF(AND($B767=\"AZIONE_1\",$F767=2),'3 - SPECIE DA IMPIANTARE'!$X268,\"\")","v":""},null,"",null,null,"",null,null,"",null,null,""]
[null,null,null,null,null,"",{"$f":"IF(AND($B768=\"AZIONE_1\",$F768=2),'3 - SPECIE DA IMPIANTARE'!$X269,\"\")","v":""},null,"",null,null,"",null,null,"",null,null,""]
[null,null,null,null,null,"",{"$f":"IF(AND($B769=\"AZIONE_1\",$F769=2),'3 - SPECIE DA IMPIANTARE'!$X270,\"\")","v":""},null,"",null,null,"",null,null,"",null,null,""]
[null,null,null,null,null,"",{"$f":"IF(AND($B770=\"AZIONE_1\",$F770=2),'3 - SPECIE DA IMPIANTARE'!$X271,\"\")","v":""},null,"",null,null,"",null,null,"",null,null,""]
[null,null,null,null,null,"",{"$f":"IF(AND($B771=\"AZIONE_1\",$F771=2),'3 - SPECIE DA IMPIANTARE'!$X272,\"\")","v":""},null,"",null,null,"",null,null,"",null,null,""]
[null,null,null,null,null,"",{"$f":"IF(AND($B772=\"AZIONE_1\",$F772=2),'3 - SPECIE DA IMPIANTARE'!$X273,\"\")","v":""},null,"",null,null,"",null,null,"",null,null,""]
[null,null,null,null,null,"",{"$f":"IF(AND($B773=\"AZIONE_1\",$F773=2),'3 - SPECIE DA IMPIANTARE'!$X274,\"\")","v":""},null,"",null,null,"",null,null,"",null,null,""]
[null,null,null,null,null,"",{"$f":"IF(AND($B774=\"AZIONE_1\",$F774=2),'3 - SPECIE DA IMPIANTARE'!$X275,\"\")","v":""},null,"",null,null,"",null,null,"",null,null,""]
[null,null,null,null,null,"",{"$f":"IF(AND($B775=\"AZIONE_1\",$F775=2),'3 - SPECIE DA IMPIANTARE'!$X276,\"\")","v":""},null,"",null,null,"",null,null,"",null,null,""]
[null,null,null,null,null,"",{"$f":"IF(AND($B776=\"AZIONE_1\",$F776=2),'3 - SPECIE DA IMPIANTARE'!$X277,\"\")","v":""},null,"",null,null,"",null,null,"",null,null,""]
[null,null,null,null,null,"",{"$f":"IF(AND($B777=\"AZIONE_1\",$F777=2),'3 - SPECIE DA IMPIANTARE'!$X278,\"\")","v":""},null,"",null,null,"",null,null,"",null,null,""]
[null,null,null,null,null,"",{"$f":"IF(AND($B778=\"AZIONE_1\",$F778=2),'3 - SPECIE DA IMPIANTARE'!$X279,\"\")","v":""},null,"",null,null,"",null,null,"",null,null,""]
[null,null,null,null,null,"",{"$f":"IF(AND($B779=\"AZIONE_1\",$F779=2),'3 - SPECIE DA IMPIANTARE'!$X280,\"\")","v":""},null,"",null,null,"",null,null,"",null,null,""]
[null,null,null,null,null,"",{"$f":"IF(AND($B780=\"AZIONE_1\",$F780=2),'3 - SPECIE DA IMPIANTARE'!$X281,\"\")","v":""},null,"",null,null,"",null,null,"",null,null,""]
[null,null,null,null,null,"",{"$f":"IF(AND($B781=\"AZIONE_1\",$F781=2),'3 - SPECIE DA IMPIANTARE'!$X282,\"\")","v":""},null,"",null,null,"",null,null,"",null,null,""]
[null,null,null,null,null,"",{"$f":"IF(AND($B782=\"AZIONE_1\",$F782=2),'3 - SPECIE DA IMPIANTARE'!$X283,\"\")","v":""},null,"",null,null,"",null,null,"",null,null,""]
[null,null,null,null,null,"",{"$f":"IF(AND($B783=\"AZIONE_1\",$F783=2),'3 - SPECIE DA IMPIANTARE'!$X284,\"\")","v":""},null,"",null,null,"",null,null,"",null,null,""]
[null,null,null,null,null,"",{"$f":"IF(AND($B784=\"AZIONE_1\",$F784=2),'3 - SPECIE DA IMPIANTARE'!$X285,\"\")","v":""},null,"",null,null,"",null,null,"",null,null,""]
[null,null,null,null,null,"",{"$f":"IF(AND($B785=\"AZIONE_1\",$F785=2),'3 - SPECIE DA IMPIANTARE'!$X286,\"\")","v":""},null,"",null,null,"",null,null,"",null,null,""]
[null,null,null,null,null,"",null,null,"",null,null,"",null,null,"",null,null,""]
[null,null,null,null,null,"",null,null,"",null,null,"",null,null,"",null,null,""]
[null,null,null,null,null,"",null,null,"",null,null,"",null,null,"",null,null,""]
[null,null,null,null,null,"",null,null,"",null,null,"",null,null,"",null,null,""]
[null,null,null,null,null,"",null,null,"",null,null,"",null,null,"",null,null,""]
[null,null,null,null,null,"",null,null,"",null,null,"",null,null,"",null,null,""]
[null,null,null,null,null,"",null,null,"",null,null,"",null,null,"",null,null,""]
[null,null,null,null,null,"",null,null,"",null,null,"",null,null,"",null,null,""]
[null,null,null,null,null,"",null,null,"",null,null,"",null,null,"",null,null,""]
[null,null,null,null,null,"",null,null,"",null,null,"",null,null,"",null,null,""]
[null,null,null,null,null,"",null,null,"",null,null,"",null,null,"",null,null,""]
[null,null,null,null,null,"",null,null,"",null,null,"",null,null,"",null,null,""]
[null,null,null,null,null,"",null,null,"",null,null,"",null,null,"",null,null,""]
[null,null,null,null,null,"",null,null,"",null,null,"",null,null,"",null,null,""]
[null,null,null,null,null,"",null,null,"",null,null,"",null,null,"",null,null,""]
[null,null,null,null,null,"",null,null,"",null,null,"",null,null,"",null,null,""]
[null,null,null,null,null,0,null,null,0,null,null,0,null,null,0,null,null,0]
[null,null,null,null,null,0,null,null,0,null,null,0,null,null,0,null,null,0]
[null,null,null,null,null,0,null,null,0,null,null,0,null,null,0,null,null,0]
[null,null,null,null,null,0,null,null,0,null,null,0,null,null,0,null,null,0]
[null,null,null,null,null,0,null,null,0,null,null,0,null,null,0,null,null,0]
[null,null,null,null,null,0,null,null,{"$f":"I707","v":0},null,null,{"$f":"L707","v":0},null,null,{"$f":"O707","v":0},null,null,{"$f":"R707","v":0}]
[null,null,null,null,null,{"$f":"F708","v":0},null,null,0,null,null,0,null,null,0,null,null,0]
[null,null,null,null,null,0,null,null,0,null,null,0,null,null,0,null,null,0]
[null,null,null,null,null,0,null,null,0,null,null,0,null,null,0,null,null,0]
[null,null,null,null,null,0,null,null,0,null,null,0,null,null,0,null,null,0]
[null,null,null,null,null,0,null,null,0,null,null,0,null,null,0,null,null,0]
[null,null,null,null,null,0,null,null,0,null,null,0,null,null,0,null,null,0]
[null,null,null,null,null,0,null,null,0,null,null,0,null,null,0,null,null,0]
[null,null,null,null,null,0,null,null,0,null,null,0,null,null,0,null,null,0]
[null,null,null,null,null,0,null,null,0,null,null,0,null,null,0,null,null,0]
[null,null,null,null,null,0,null,null,0,null,null,0,null,null,0,null,null,0]
[null,null,null,null,null,0,null,null,0,null,null,0,null,null,0,null,null,0]
[null,null,null,null,null,0,null,null,0,null,null,0,null,null,0,null,null,0]
[null,null,null,null,null,0,null,null,0,null,null,0,null,null,0,null,null,0]
[null,null,null,null,null,0,null,null,0,null,null,0,null,null,0,null,null,0]
[null,null,null,null,null,0,null,null,0,null,null,0,null,null,0,null,null,0]
[null,null,null,null,null,0,null,null,0,null,null,0,null,null,0,null,null,0]
[null,null,null,null,null,0,null,null,0,null,null,0,null,null,0,null,null,0]
[null,null,null,null,null,0,null,null,0,null,null,0,null,null,0,null,null,0]
[null,null,null,null,null,0,null,null,0,null,null,0,null,null,0,null,null,0]
[null,null,null,null,null,0,null,null,0,null,null,0,null,null,0,null,null,0]
[null,null,null,null,null,0,null,null,0,null,null,0,null,null,0,null,null,0]
[null,null,null,null,null,0,null,null,0,null,null,0,null,null,0,null,null,0]
[null,null,null,null,null,0,null,null,0,null,null,0,null,null,0,null,null,0]
[null,null,null,null,null,0,null,null,0,null,null,0,null,null,0,null,null,0]
[null,null,null,null,null,0,null,null,0,null,null,0,null,null,0,null,null,0]
[null,null,null,null,null,0,null,null,0,null,null,0,null,null,0,null,null,0]
[null,null,null,null,null,0,null,null,0,null,null,0,null,null,0,null,null,0]
[null,null,null,null,null,0,null,null,0,null,null,0,null,null,0,null,null,0]
[null,null,null,null,null,0,null,null,0,null,null,0,null,null,0,null,null,0]
[null,null,null,null,null,0,null,null,0,null,null,0,null,null,0,null,null,0]
[null,null,null,null,null,0,null,null,0,null,null,0,null,null,0,null,null,0]
[null,null,null,null,null,0,null,null,0,null,null,0,null,null,0,null,null,0]
[null,null,null,null,null,0,null,null,0,null,null,0,null,null,0,null,null,0]
[null,null,null,null,null,0,null,null,0,null,null,0,null,null,0,null,null,0]
[null,null,null,null,null,0,null,null,0,null,null,0,null,null,0,null,null,0]
[null,null,null,null,null,0,null,null,0,null,null,0,null,null,0,null,null,0]
[null,null,null,null,null,0,null,null,0,null,null,0,null,null,0,null,null,0]
[null,null,null,null,null,0,null,null,0,null,null,0,null,null,0,null,null,0]
[null,null,null,null,null,0,null,null,0,null,null,0,null,null,0,null,null,0]
[null,null,null,null,null,0,null,null,0,null,null,0,null,null,0,null,null,0]
[null,null,null,null,null,0,null,null,0,null,null,0,null,null,0,null,null,0]
[null,null,null,null,null,0,null,null,0,null,null,0,null,null,0,null,null,0]
[null,null,null,null,null,0,null,null,0,null,null,0,null,null,0,null,null,0]
[null,null,null,null,null,0,null,null,0,null,null,0,null,null,0,null,null,0]
[null,null,null,null,null,0,null,null,0,null,null,0,null,null,0,null,null,0]
[null,null,null,null,null,0,null,null,0,null,null,0,null,null,0,null,null,0]
[null,null,null,null,null,"",null,null,"",null,null,"",null,null,"",null,null,""]
[null,null,null,null,null,"",null,null,"",null,null,"",null,null,"",null,null,""]
[null,null,null,null,null,"",null,null,"",null,null,"",null,null,"",null,null,""]
[null,null,null,null,null,"",null,null,"",null,null,"",null,null,"",null,null,""]
[null,null,null,null,null,"",null,null,"",null,null,"",null,null,"",null,null,""]
[null,null,null,null,null,"",null,null,"",null,null,"",null,null,"",null,null,""]
[null,null,null,null,null,"",null,null,"",null,null,"",null,null,"",null,null,""]
[null,null,null,null,null,"",null,null,"",null,null,"",null,null,"",null,null,""]
[null,null,null,null,null,"",null,null,"",null,null,"",null,null,"",null,null,""]
[null,null,null,null,null,"",null,null,"",null,null,"",null,null,"",null,null,""]
[null,null,null,null,null,"",null,null,"",null,null,"",null,null,"",null,null,""]
[null,null,null,null,null,"",null,null,"",null,null,"",null,null,"",null,null,""]
[null,null,null,null,null,"",null,null,"",null,null,"",null,null,"",null,null,""]
[null,null,null,null,null,"",null,null,"",null,null,"",null,null,"",null,null,""]
[null,null,null,null,null,"",null,null,"",null,null,"",null,null,"",null,null,""]
[null,null,null,null,null,"",null,null,"",null,null,"",null,null,"",null,null,""]
[null,null,null,null,null,"",null,null,"",null,null,"",null,null,"",null,null,""]
[null,null,null,null,null,"",null,null,{"$f":"I771","v":""},null,null,{"$f":"L771","v":""},null,null,{"$f":"O771","v":""},null,null,{"$f":"R771","v":""}]
[null,null,null,null,null,{"$f":"F772","v":""},null,null,"",null,null,"",null,null,"",null,null,""]
[null,null,null,null,null,"",null,null,"",null,null,"",null,null,"",null,null,""]
[null,null,null,null,null,"",null,null,"",null,null,"",null,null,"",null,null,""]
[null,null,null,null,null,"",null,null,"",null,null,"",null,null,"",null,null,""]
[null,null,null,null,null,"",null,null,"",null,null,"",null,null,"",null,null,""]
[null,null,null,null,null,"",null,null,"",null,null,"",null,null,"",null,null,""]
[null,null,null,null,null,"",null,null,"",null,null,"",null,null,"",null,null,""]
[null,null,null,null,null,"",null,null,"",null,null,"",null,null,"",null,null,""]
[null,null,null,null,null,"",null,null,"",null,null,"",null,null,"",null,null,""]
[null,null,null,null,null,"",null,null,"",null,null,"",null,null,"",null,null,""]
[null,null,null,null,null,"",null,null,"",null,null,"",null,null,"",null,null,""]
[null,null,null,null,null,"",null,null,"",null,null,"",null,null,"",null,null,""]
[null,null,null,null,null,"",null,null,"",null,null,"",null,null,"",null,null,""]
[null,null,null,null,null,"",null,null,"",null,null,"",null,null,"",null,null,""]
[null,null,null,null,null,"",null,null,"",null,null,"",null,null,"",null,null,""]
[null,null,null,null,null,"",null,null,"",null,null,"",null,null,"",null,null,""]
[null,null,null,null,null,"",null,null,"",null,null,"",null,null,"",null,null,""]
[null,null,null,null,null,"",null,null,"",null,null,"",null,null,"",null,null,""]
[null,null,null,null,null,"",null,null,"",null,null,"",null,null,"",null,null,""]
[null,null,null,null,null,"",null,null,"",null,null,"",null,null,"",null,null,""]
[null,null,null,null,null,"",null,null,"",null,null,"",null,null,"",null,null,""]
[null,null,null,null,null,"",null,null,"",null,null,"",null,null,"",null,null,""]
[null,null,null,null,null,"",null,null,"",null,null,"",null,null,"",null,null,""]
[null,null,null,null,null,"",null,null,"",null,null,"",null,null,"",null,null,""]
[null,null,null,null,null,"",null,null,"",null,null,"",null,null,"",null,null,""]
[null,null,null,null,null,"",null,null,"",null,null,"",null,null,"",null,null,""]
[null,null,null,null,null,"",null,null,"",null,null,"",null,null,"",null,null,""]
[null,null,null,null,null,"",null,null,"",null,null,"",null,null,"",null,null,""]
[null,null,null,null,null,"",null,null,"",null,null,"",null,null,"",null,null,""]
[null,null,null,null,null,"",null,null,"",null,null,"",null,null,"",null,null,""]
[null,null,null,null,null,0,null,null,0,null,null,0,null,null,0,null,null,0]
[null,null,null,null,null,0,null,null,0,null,null,0,null,null,0,null,null,0]
[null,null,null,null,null,0,null,null,0,null,null,0,null,null,0,null,null,0]
[null,null,null,null,null,0,null,null,0,null,null,0,null,null,0,null,null,0]
[null,null,null,null,null,0,null,null,0,null,null,0,null,null,0,null,null,0]
[null,null,null,null,null,0,null,null,0,null,null,0,null,null,0,null,null,0]
[null,null,null,null,null,0,null,null,0,null,null,0,null,null,0,null,null,0]
[null,null,null,null,null,0,null,null,0,null,null,0,null,null,0,null,null,0]
[null,null,null,null,null,0,null,null,0,null,null,0,null,null,0,null,null,0]
[null,null,null,null,null,0,null,null,0,null,null,0,null,null,0,null,null,0]
[null,null,null,null,null,0,null,null,0,null,null,0,null,null,0,null,null,0]
[null,null,null,null,null,0,null,null,0,null,null,0,null,null,0,null,null,0]
[null,null,null,null,null,0,null,null,0,null,null,0,null,null,0,null,null,0]
[null,null,null,null,null,0,null,null,0,null,null,0,null,null,0,null,null,0]
[null,null,null,null,null,0,null,null,0,null,null,0,null,null,0,null,null,0]
[null,null,null,null,null,0,null,null,0,null,null,0,null,null,0,null,null,0]
[null,null,null,null,null,0,null,null,0,null,null,0,null,null,0,null,null,0]
[null,null,null,null,null,0,null,null,0,null,null,0,null,null,0,null,null,0]
[null,null,null,null,null,0,null,null,0,null,null,0,null,null,0,null,null,0]
[null,null,null,null,null,0,null,null,0,null,null,0,null,null,0,null,null,0]
[null,null,null,null,null,0,null,null,0,null,null,0,null,null,0,null,null,0]
[null,null,null,null,null,0,null,null,0,null,null,0,null,null,0,null,null,0]
[null,null,null,null,null,0,null,null,0,null,null,0,null,null,0,null,null,0]
[null,null,null,null,null,0,null,null,0,null,null,0,null,null,0,null,null,0]
[null,null,null,null,null,0,null,null,0,null,null,0,null,null,0,null,null,0]
[null,null,null,null,null,0,null,null,0,null,null,0,null,null,0,null,null,0]
[null,null,null,null,null,0,null,null,0,null,null,0,null,null,0,null,null,0]
[null,null,null,null,null,0,null,null,0,null,null,0,null,null,0,null,null,0]
[null,null,null,null,null,0,null,null,0,null,null,0,null,null,0,null,null,0]
[null,null,null,null,null,0,null,null,0,null,null,0,null,null,0,null,null,0]
[null,null,null,null,null,0,null,null,0,null,null,0,null,null,0,null,null,0]
[null,null,null,null,null,0,null,null,0,null,null,0,null,null,0,null,null,0]
[null,null,null,null,null,0,null,null,0,null,null,0,null,null,0,null,null,0]
[null,null,null,null,null,0,null,null,{"$f":"I835","v":0},null,null,{"$f":"L835","v":0},null,null,{"$f":"O835","v":0},null,null,{"$f":"R835","v":0}]
[null,null,null,null,null,{"$f":"F836","v":0},null,null,0,null,null,0,null,null,0,null,null,0]
[null,null,null,null,null,0,null,null,0,null,null,0,null,null,0,null,null,0]
[null,null,null,null,null,0,null,null,0,null,null,0,null,null,0,null,null,0]
[null,null,null,null,null,0,null,null,0,null,null,0,null,null,0,null,null,0]
[null,null,null,null,null,0,null,null,0,null,null,0,null,null,0,null,null,0]
[null,null,null,null,null,0,null,null,0,null,null,0,null,null,0,null,null,0]
[null,null,null,null,null,0,null,null,0,null,null,0,null,null,0,null,null,0]
[null,null,null,null,null,0,null,null,0,null,null,0,null,null,0,null,null,0]
[null,null,null,null,null,0,null,null,0,null,null,0,null,null,0,null,null,0]
[null,null,null,null,null,0,null,null,0,null,null,0,null,null,0,null,null,0]
[null,null,null,null,null,0,null,null,0,null,null,0,null,null,0,null,null,0]
[null,null,null,null,null,0,null,null,0,null,null,0,null,null,0,null,null,0]
[null,null,null,null,null,0,null,null,0,null,null,0,null,null,0,null,null,0]
[null,null,null,null,null,0,null,null,0,null,null,0,null,null,0,null,null,0]
[null,null,null,null,null,0,null,null,0,null,null,0,null,null,0,null,null,0]
[null,null,null,null,null,0,null,null,0,null,null,0,null,null,0,null,null,0]
[null,null,null,null,null,0,null,null,0,null,null,0,null,null,0,null,null,0]
[null,null,null,null,null,0,null,null,0,null,null,0,null,null,0,null,null,0]
[null,{"$f":"IF('3 - SPECIE DA IMPIANTARE'!$H955=\"AZIONE_1\",'3 - SPECIE DA IMPIANTARE'!$H955,\"\")","v":""},null,null,null,"",null,null,"",null,null,"",null,null,"",null,null,""]
[null,{"$f":"IF('3 - SPECIE DA IMPIANTARE'!$H956=\"AZIONE_1\",'3 - SPECIE DA IMPIANTARE'!$H956,\"\")","v":""},null,null,null,"",null,null,"",null,null,"",null,null,"",null,null,""]
[null,{"$f":"IF('3 - SPECIE DA IMPIANTARE'!$H957=\"AZIONE_1\",'3 - SPECIE DA IMPIANTARE'!$H957,\"\")","v":""},null,null,null,"",null,null,"",null,null,"",null,null,"",null,null,""]
[null,{"$f":"IF('3 - SPECIE DA IMPIANTARE'!$H958=\"AZIONE_1\",'3 - SPECIE DA IMPIANTARE'!$H958,\"\")","v":""},null,null,null,"",null,null,"",null,null,"",null,null,"",null,null,""]
[null,{"$f":"IF('3 - SPECIE DA IMPIANTARE'!$H959=\"AZIONE_1\",'3 - SPECIE DA IMPIANTARE'!$H959,\"\")","v":""},null,null,null,"",null,null,"",null,null,"",null,null,"",null,null,""]
[null,{"$f":"IF('3 - SPECIE DA IMPIANTARE'!$H960=\"AZIONE_1\",'3 - SPECIE DA IMPIANTARE'!$H960,\"\")","v":""},null,null,null,"",null,null,"",null,null,"",null,null,"",null,null,""]
[null,{"$f":"IF('3 - SPECIE DA IMPIANTARE'!$H961=\"AZIONE_1\",'3 - SPECIE DA IMPIANTARE'!$H961,\"\")","v":""},null,null,null,"",null,null,"",null,null,"",null,null,"",null,null,""]
[null,{"$f":"IF('3 - SPECIE DA IMPIANTARE'!$H962=\"AZIONE_1\",'3 - SPECIE DA IMPIANTARE'!$H962,\"\")","v":""},null,null,null,"",null,null,"",null,null,"",null,null,"",null,null,""]
[null,{"$f":"IF('3 - SPECIE DA IMPIANTARE'!$H963=\"AZIONE_1\",'3 - SPECIE DA IMPIANTARE'!$H963,\"\")","v":""},null,null,null,"",null,null,"",null,null,"",null,null,"",null,null,""]
[null,{"$f":"IF('3 - SPECIE DA IMPIANTARE'!$H964=\"AZIONE_1\",'3 - SPECIE DA IMPIANTARE'!$H964,\"\")","v":""},null,null,null,"",null,null,"",null,null,"",null,null,"",null,null,""]
[null,{"$f":"IF('3 - SPECIE DA IMPIANTARE'!$H965=\"AZIONE_1\",'3 - SPECIE DA IMPIANTARE'!$H965,\"\")","v":""},null,null,null,"",null,null,"",null,null,"",null,null,"",null,null,""]
[null,{"$f":"IF('3 - SPECIE DA IMPIANTARE'!$H966=\"AZIONE_1\",'3 - SPECIE DA IMPIANTARE'!$H966,\"\")","v":""},null,null,null,"",null,null,"",null,null,"",null,null,"",null,null,""]
[null,{"$f":"IF('3 - SPECIE DA IMPIANTARE'!$H967=\"AZIONE_1\",'3 - SPECIE DA IMPIANTARE'!$H967,\"\")","v":""},null,null,null,"",null,null,"",null,null,"",null,null,"",null,null,""]
[null,{"$f":"IF('3 - SPECIE DA IMPIANTARE'!$H968=\"AZIONE_1\",'3 - SPECIE DA IMPIANTARE'!$H968,\"\")","v":""},null,null,null,"",null,null,"",null,null,"",null,null,"",null,null,""]
[null,{"$f":"IF('3 - SPECIE DA IMPIANTARE'!$H969=\"AZIONE_1\",'3 - SPECIE DA IMPIANTARE'!$H969,\"\")","v":""},null,null,null,"",null,null,"",null,null,"",null,null,"",null,null,""]
[null,{"$f":"IF('3 - SPECIE DA IMPIANTARE'!$H970=\"AZIONE_1\",'3 - SPECIE DA IMPIANTARE'!$H970,\"\")","v":""},null,null,null,"",null,null,"",null,null,"",null,null,"",null,null,""]
[null,{"$f":"IF('3 - SPECIE DA IMPIANTARE'!$H971=\"AZIONE_1\",'3 - SPECIE DA IMPIANTARE'!$H971,\"\")","v":""},null,null,null,"",null,null,"",null,null,"",null,null,"",null,null,""]
[null,{"$f":"IF('3 - SPECIE DA IMPIANTARE'!$H972=\"AZIONE_1\",'3 - SPECIE DA IMPIANTARE'!$H972,\"\")","v":""},null,null,null,"",null,null,"",null,null,"",null,null,"",null,null,""]
[null,{"$f":"IF('3 - SPECIE DA IMPIANTARE'!$H973=\"AZIONE_1\",'3 - SPECIE DA IMPIANTARE'!$H973,\"\")","v":""},null,null,null,"",null,null,"",null,null,"",null,null,"",null,null,""]
[null,{"$f":"IF('3 - SPECIE DA IMPIANTARE'!$H974=\"AZIONE_1\",'3 - SPECIE DA IMPIANTARE'!$H974,\"\")","v":""},null,null,null,"",null,null,"",null,null,"",null,null,"",null,null,""]
[null,{"$f":"IF('3 - SPECIE DA IMPIANTARE'!$H975=\"AZIONE_1\",'3 - SPECIE DA IMPIANTARE'!$H975,\"\")","v":""},null,null,null,"",null,null,"",null,null,"",null,null,"",null,null,""]
[null,{"$f":"IF('3 - SPECIE DA IMPIANTARE'!$H976=\"AZIONE_1\",'3 - SPECIE DA IMPIANTARE'!$H976,\"\")","v":""},null,null,null,"",null,null,"",null,null,"",null,null,"",null,null,""]
[null,{"$f":"IF('3 - SPECIE DA IMPIANTARE'!$H977=\"AZIONE_1\",'3 - SPECIE DA IMPIANTARE'!$H977,\"\")","v":""},null,null,null,"",null,null,"",null,null,"",null,null,"",null,null,""]
[null,{"$f":"IF('3 - SPECIE DA IMPIANTARE'!$H978=\"AZIONE_1\",'3 - SPECIE DA IMPIANTARE'!$H978,\"\")","v":""},null,null,null,"",null,null,"",null,null,"",null,null,"",null,null,""]
[null,{"$f":"IF('3 - SPECIE DA IMPIANTARE'!$H979=\"AZIONE_1\",'3 - SPECIE DA IMPIANTARE'!$H979,\"\")","v":""},null,null,null,"",null,null,"",null,null,"",null,null,"",null,null,""]
[null,{"$f":"IF('3 - SPECIE DA IMPIANTARE'!$H980=\"AZIONE_1\",'3 - SPECIE DA IMPIANTARE'!$H980,\"\")","v":""},null,null,null,"",null,null,"",null,null,"",null,null,"",null,null,""]
[null,{"$f":"IF('3 - SPECIE DA IMPIANTARE'!$H981=\"AZIONE_1\",'3 - SPECIE DA IMPIANTARE'!$H981,\"\")","v":""},null,null,null,"",null,null,"",null,null,"",null,null,"",null,null,""]
[null,{"$f":"IF('3 - SPECIE DA IMPIANTARE'!$H982=\"AZIONE_1\",'3 - SPECIE DA IMPIANTARE'!$H982,\"\")","v":""},null,null,null,"",null,null,"",null,null,"",null,null,"",null,null,""]
[null,{"$f":"IF('3 - SPECIE DA IMPIANTARE'!$H983=\"AZIONE_1\",'3 - SPECIE DA IMPIANTARE'!$H983,\"\")","v":""},null,null,null,"",null,null,"",null,null,"",null,null,"",null,null,""]
[null,{"$f":"IF('3 - SPECIE DA IMPIANTARE'!$H984=\"AZIONE_1\",'3 - SPECIE DA IMPIANTARE'!$H984,\"\")","v":""},null,null,null,"",null,null,"",null,null,"",null,null,"",null,null,""]
[null,{"$f":"IF('3 - SPECIE DA IMPIANTARE'!$H985=\"AZIONE_1\",'3 - SPECIE DA IMPIANTARE'!$H985,\"\")","v":""},null,null,null,"",null,null,"",null,null,"",null,null,"",null,null,""]
[null,{"$f":"IF('3 - SPECIE DA IMPIANTARE'!$H986=\"AZIONE_1\",'3 - SPECIE DA IMPIANTARE'!$H986,\"\")","v":""},null,null,null,"",null,null,"",null,null,"",null,null,"",null,null,""]
[null,{"$f":"IF('3 - SPECIE DA IMPIANTARE'!$H987=\"AZIONE_1\",'3 - SPECIE DA IMPIANTARE'!$H987,\"\")","v":""},null,null,null,"",null,null,"",null,null,"",null,null,"",null,null,""]
[null,{"$f":"IF('3 - SPECIE DA IMPIANTARE'!$H988=\"AZIONE_1\",'3 - SPECIE DA IMPIANTARE'!$H988,\"\")","v":""},null,null,null,"",null,null,"",null,null,"",null,null,"",null,null,""]
[null,{"$f":"IF('3 - SPECIE DA IMPIANTARE'!$H989=\"AZIONE_1\",'3 - SPECIE DA IMPIANTARE'!$H989,\"\")","v":""},null,null,null,"",null,null,"",null,null,"",null,null,"",null,null,""]
[null,{"$f":"IF('3 - SPECIE DA IMPIANTARE'!$H990=\"AZIONE_1\",'3 - SPECIE DA IMPIANTARE'!$H990,\"\")","v":""},null,null,null,"",null,null,"",null,null,"",null,null,"",null,null,""]
[null,{"$f":"IF('3 - SPECIE DA IMPIANTARE'!$H991=\"AZIONE_1\",'3 - SPECIE DA IMPIANTARE'!$H991,\"\")","v":""},null,null,null,"",null,null,"",null,null,"",null,null,"",null,null,""]
[null,{"$f":"IF('3 - SPECIE DA IMPIANTARE'!$H992=\"AZIONE_1\",'3 - SPECIE DA IMPIANTARE'!$H992,\"\")","v":""},null,null,null,"",null,null,"",null,null,"",null,null,"",null,null,""]
[null,{"$f":"IF('3 - SPECIE DA IMPIANTARE'!$H993=\"AZIONE_1\",'3 - SPECIE DA IMPIANTARE'!$H993,\"\")","v":""},null,null,null,"",null,null,"",null,null,"",null,null,"",null,null,""]
[null,{"$f":"IF('3 - SPECIE DA IMPIANTARE'!$H994=\"AZIONE_1\",'3 - SPECIE DA IMPIANTARE'!$H994,\"\")","v":""},null,null,null,"",null,null,"",null,null,"",null,null,"",null,null,""]
[null,{"$f":"IF('3 - SPECIE DA IMPIANTARE'!$H995=\"AZIONE_1\",'3 - SPECIE DA IMPIANTARE'!$H995,\"\")","v":""},null,null,null,"",null,null,"",null,null,"",null,null,"",null,null,""]
[null,{"$f":"IF('3 - SPECIE DA IMPIANTARE'!$H996=\"AZIONE_1\",'3 - SPECIE DA IMPIANTARE'!$H996,\"\")","v":""},null,null,null,"",null,null,"",null,null,"",null,null,"",null,null,""]
[null,{"$f":"IF('3 - SPECIE DA IMPIANTARE'!$H997=\"AZIONE_1\",'3 - SPECIE DA IMPIANTARE'!$H997,\"\")","v":""},null,null,null,"",null,null,"",null,null,"",null,null,"",null,null,""]
[null,{"$f":"IF('3 - SPECIE DA IMPIANTARE'!$H998=\"AZIONE_1\",'3 - SPECIE DA IMPIANTARE'!$H998,\"\")","v":""},null,null,null,"",null,null,"",null,null,"",null,null,"",null,null,""]
[null,{"$f":"IF('3 - SPECIE DA IMPIANTARE'!$H999=\"AZIONE_1\",'3 - SPECIE DA IMPIANTARE'!$H999,\"\")","v":""},null,null,null,"",null,null,"",null,null,"",null,null,"",null,null,""]
[null,{"$f":"IF('3 - SPECIE DA IMPIANTARE'!$H1000=\"AZIONE_1\",'3 - SPECIE DA IMPIANTARE'!$H1000,\"\")","v":""},null,null,null,"",null,null,{"$f":"I899","v":""},null,null,{"$f":"L899","v":""},null,null,{"$f":"O899","v":""},null,null,{"$f":"R899","v":""}]
[null,{"$f":"IF('3 - SPECIE DA IMPIANTARE'!$H1001=\"AZIONE_1\",'3 - SPECIE DA IMPIANTARE'!$H1001,\"\")","v":""},null,null,null,{"$f":"F900","v":""},null,null,"",null,null,"",null,null,"",null,null,""]
[null,{"$f":"IF('3 - SPECIE DA IMPIANTARE'!$H1002=\"AZIONE_1\",'3 - SPECIE DA IMPIANTARE'!$H1002,\"\")","v":""},null,null,null,"",null,null,"",null,null,"",null,null,"",null,null,""]
[null,{"$f":"IF('3 - SPECIE DA IMPIANTARE'!$H1003=\"AZIONE_1\",'3 - SPECIE DA IMPIANTARE'!$H1003,\"\")","v":""},null,null,null,0,null,null,0,null,null,0,null,null,0,null,null,0]
[null,{"$f":"IF('3 - SPECIE DA IMPIANTARE'!$H1004=\"AZIONE_1\",'3 - SPECIE DA IMPIANTARE'!$H1004,\"\")","v":""},null,null,null,0,null,null,0,null,null,0,null,null,0,null,null,0]
[null,{"$f":"IF('3 - SPECIE DA IMPIANTARE'!$H1005=\"AZIONE_1\",'3 - SPECIE DA IMPIANTARE'!$H1005,\"\")","v":""},null,null,null,0,null,null,0,null,null,0,null,null,0,null,null,0]
[null,{"$f":"IF('3 - SPECIE DA IMPIANTARE'!$H1006=\"AZIONE_1\",'3 - SPECIE DA IMPIANTARE'!$H1006,\"\")","v":""},null,null,null,0,null,null,0,null,null,0,null,null,0,null,null,0]
[null,{"$f":"IF('3 - SPECIE DA IMPIANTARE'!$H1007=\"AZIONE_1\",'3 - SPECIE DA IMPIANTARE'!$H1007,\"\")","v":""},null,null,null,0,null,null,0,null,null,0,null,null,0,null,null,0]
[null,{"$f":"IF('3 - SPECIE DA IMPIANTARE'!$H1008=\"AZIONE_1\",'3 - SPECIE DA IMPIANTARE'!$H1008,\"\")","v":""},null,null,null,0,null,null,0,null,null,0,null,null,0,null,null,0]
[null,{"$f":"IF('3 - SPECIE DA IMPIANTARE'!$H1009=\"AZIONE_1\",'3 - SPECIE DA IMPIANTARE'!$H1009,\"\")","v":""},null,null,null,0,null,null,0,null,null,0,null,null,0,null,null,0]
[null,{"$f":"IF('3 - SPECIE DA IMPIANTARE'!$H1010=\"AZIONE_1\",'3 - SPECIE DA IMPIANTARE'!$H1010,\"\")","v":""},null,null,null,0,null,null,0,null,null,0,null,null,0,null,null,0]
[null,{"$f":"IF('3 - SPECIE DA IMPIANTARE'!$H1011=\"AZIONE_1\",'3 - SPECIE DA IMPIANTARE'!$H1011,\"\")","v":""},null,null,null,0,null,null,0,null,null,0,null,null,0,null,null,0]
[null,{"$f":"IF('3 - SPECIE DA IMPIANTARE'!$H1012=\"AZIONE_1\",'3 - SPECIE DA IMPIANTARE'!$H1012,\"\")","v":""},null,null,null,0,null,null,0,null,null,0,null,null,0,null,null,0]
[null,{"$f":"IF('3 - SPECIE DA IMPIANTARE'!$H1013=\"AZIONE_1\",'3 - SPECIE DA IMPIANTARE'!$H1013,\"\")","v":""},null,null,null,0,null,null,0,null,null,0,null,null,0,null,null,0]
[null,{"$f":"IF('3 - SPECIE DA IMPIANTARE'!$H1014=\"AZIONE_1\",'3 - SPECIE DA IMPIANTARE'!$H1014,\"\")","v":""},null,null,null,0,null,null,0,null,null,0,null,null,0,null,null,0]
[null,{"$f":"IF('3 - SPECIE DA IMPIANTARE'!$H1015=\"AZIONE_1\",'3 - SPECIE DA IMPIANTARE'!$H1015,\"\")","v":""},null,null,null,0,null,null,0,null,null,0,null,null,0,null,null,0]
[null,{"$f":"IF('3 - SPECIE DA IMPIANTARE'!$H1016=\"AZIONE_1\",'3 - SPECIE DA IMPIANTARE'!$H1016,\"\")","v":""},null,null,null,0,null,null,0,null,null,0,null,null,0,null,null,0]
[null,{"$f":"IF('3 - SPECIE DA IMPIANTARE'!$H1017=\"AZIONE_1\",'3 - SPECIE DA IMPIANTARE'!$H1017,\"\")","v":""},null,null,null,0,null,null,0,null,null,0,null,null,0,null,null,0]
[null,{"$f":"IF('3 - SPECIE DA IMPIANTARE'!$H1018=\"AZIONE_1\",'3 - SPECIE DA IMPIANTARE'!$H1018,\"\")","v":""},null,null,null,0,null,null,0,null,null,0,null,null,0,null,null,0]
[null,{"$f":"IF('3 - SPECIE DA IMPIANTARE'!$H1019=\"AZIONE_1\",'3 - SPECIE DA IMPIANTARE'!$H1019,\"\")","v":""},null,null,null,0,null,null,0,null,null,0,null,null,0,null,null,0]
[null,{"$f":"IF('3 - SPECIE DA IMPIANTARE'!$H1020=\"AZIONE_1\",'3 - SPECIE DA IMPIANTARE'!$H1020,\"\")","v":""},null,null,null,0,null,null,0,null,null,0,null,null,0,null,null,0]
[null,{"$f":"IF('3 - SPECIE DA IMPIANTARE'!$H1021=\"AZIONE_1\",'3 - SPECIE DA IMPIANTARE'!$H1021,\"\")","v":""},null,null,null,0,null,null,0,null,null,0,null,null,0,null,null,0]
[null,{"$f":"IF('3 - SPECIE DA IMPIANTARE'!$H1022=\"AZIONE_1\",'3 - SPECIE DA IMPIANTARE'!$H1022,\"\")","v":""},null,null,null,0,null,null,0,null,null,0,null,null,0,null,null,0]
[null,{"$f":"IF('3 - SPECIE DA IMPIANTARE'!$H1023=\"AZIONE_1\",'3 - SPECIE DA IMPIANTARE'!$H1023,\"\")","v":""},null,null,null,0,null,null,0,null,null,0,null,null,0,null,null,0]
[null,{"$f":"IF('3 - SPECIE DA IMPIANTARE'!$H1024=\"AZIONE_1\",'3 - SPECIE DA IMPIANTARE'!$H1024,\"\")","v":""},null,null,null,0,null,null,0,null,null,0,null,null,0,null,null,0]
[null,{"$f":"IF('3 - SPECIE DA IMPIANTARE'!$H1025=\"AZIONE_1\",'3 - SPECIE DA IMPIANTARE'!$H1025,\"\")","v":""},null,null,null,0,null,null,0,null,null,0,null,null,0,null,null,0]
[null,{"$f":"IF('3 - SPECIE DA IMPIANTARE'!$H1026=\"AZIONE_1\",'3 - SPECIE DA IMPIANTARE'!$H1026,\"\")","v":""},null,null,null,0,null,null,0,null,null,0,null,null,0,null,null,0]
[null,{"$f":"IF('3 - SPECIE DA IMPIANTARE'!$H1027=\"AZIONE_1\",'3 - SPECIE DA IMPIANTARE'!$H1027,\"\")","v":""},null,null,null,0,null,null,0,null,null,0,null,null,0,null,null,0]
[null,{"$f":"IF('3 - SPECIE DA IMPIANTARE'!$H1028=\"AZIONE_1\",'3 - SPECIE DA IMPIANTARE'!$H1028,\"\")","v":""},null,null,null,0,null,null,0,null,null,0,null,null,0,null,null,0]
[null,{"$f":"IF('3 - SPECIE DA IMPIANTARE'!$H1029=\"AZIONE_1\",'3 - SPECIE DA IMPIANTARE'!$H1029,\"\")","v":""},null,null,null,0,null,null,0,null,null,0,null,null,0,null,null,0]
[null,{"$f":"IF('3 - SPECIE DA IMPIANTARE'!$H1030=\"AZIONE_1\",'3 - SPECIE DA IMPIANTARE'!$H1030,\"\")","v":""},null,null,null,0,null,null,0,null,null,0,null,null,0,null,null,0]
[null,{"$f":"IF('3 - SPECIE DA IMPIANTARE'!$H1031=\"AZIONE_1\",'3 - SPECIE DA IMPIANTARE'!$H1031,\"\")","v":""},null,null,null,0,null,null,0,null,null,0,null,null,0,null,null,0]
[null,{"$f":"IF('3 - SPECIE DA IMPIANTARE'!$H1032=\"AZIONE_1\",'3 - SPECIE DA IMPIANTARE'!$H1032,\"\")","v":""},null,null,null,0,null,null,0,null,null,0,null,null,0,null,null,0]
[null,{"$f":"IF('3 - SPECIE DA IMPIANTARE'!$H1033=\"AZIONE_1\",'3 - SPECIE DA IMPIANTARE'!$H1033,\"\")","v":""},null,null,null,0,null,null,0,null,null,0,null,null,0,null,null,0]
[null,{"$f":"IF('3 - SPECIE DA IMPIANTARE'!$H1034=\"AZIONE_1\",'3 - SPECIE DA IMPIANTARE'!$H1034,\"\")","v":""},null,null,null,0,null,null,0,null,null,0,null,null,0,null,null,0]
[null,{"$f":"IF('3 - SPECIE DA IMPIANTARE'!$H1035=\"AZIONE_1\",'3 - SPECIE DA IMPIANTARE'!$H1035,\"\")","v":""},null,null,null,0,null,null,0,null,null,0,null,null,0,null,null,0]
[null,{"$f":"IF('3 - SPECIE DA IMPIANTARE'!$H1036=\"AZIONE_1\",'3 - SPECIE DA IMPIANTARE'!$H1036,\"\")","v":""},null,null,null,0,null,null,0,null,null,0,null,null,0,null,null,0]
[null,{"$f":"IF('3 - SPECIE DA IMPIANTARE'!$H1037=\"AZIONE_1\",'3 - SPECIE DA IMPIANTARE'!$H1037,\"\")","v":""},null,null,null,0,null,null,0,null,null,0,null,null,0,null,null,0]
[null,{"$f":"IF('3 - SPECIE DA IMPIANTARE'!$H1038=\"AZIONE_1\",'3 - SPECIE DA IMPIANTARE'!$H1038,\"\")","v":""},null,null,null,0,null,null,0,null,null,0,null,null,0,null,null,0]
[null,{"$f":"IF('3 - SPECIE DA IMPIANTARE'!$H1039=\"AZIONE_1\",'3 - SPECIE DA IMPIANTARE'!$H1039,\"\")","v":""},null,null,null,0,null,null,0,null,null,0,null,null,0,null,null,0]
[null,{"$f":"IF('3 - SPECIE DA IMPIANTARE'!$H1040=\"AZIONE_1\",'3 - SPECIE DA IMPIANTARE'!$H1040,\"\")","v":""},null,null,null,0,null,null,0,null,null,0,null,null,0,null,null,0]
[null,{"$f":"IF('3 - SPECIE DA IMPIANTARE'!$H1041=\"AZIONE_1\",'3 - SPECIE DA IMPIANTARE'!$H1041,\"\")","v":""},null,null,null,0,null,null,0,null,null,0,null,null,0,null,null,0]
[null,{"$f":"IF('3 - SPECIE DA IMPIANTARE'!$H1042=\"AZIONE_1\",'3 - SPECIE DA IMPIANTARE'!$H1042,\"\")","v":""},null,null,null,0,null,null,0,null,null,0,null,null,0,null,null,0]
[null,{"$f":"IF('3 - SPECIE DA IMPIANTARE'!$H1043=\"AZIONE_1\",'3 - SPECIE DA IMPIANTARE'!$H1043,\"\")","v":""},null,null,null,0,null,null,0,null,null,0,null,null,0,null,null,0]
[null,{"$f":"IF('3 - SPECIE DA IMPIANTARE'!$H1044=\"AZIONE_1\",'3 - SPECIE DA IMPIANTARE'!$H1044,\"\")","v":""},null,null,null,0,null,null,0,null,null,0,null,null,0,null,null,0]
[null,{"$f":"IF('3 - SPECIE DA IMPIANTARE'!$H1045=\"AZIONE_1\",'3 - SPECIE DA IMPIANTARE'!$H1045,\"\")","v":""},null,null,null,0,null,null,0,null,null,0,null,null,0,null,null,0]
[null,{"$f":"IF('3 - SPECIE DA IMPIANTARE'!$H1046=\"AZIONE_1\",'3 - SPECIE DA IMPIANTARE'!$H1046,\"\")","v":""},null,null,null,0,null,null,0,null,null,0,null,null,0,null,null,0]
[null,{"$f":"IF('3 - SPECIE DA IMPIANTARE'!$H1047=\"AZIONE_1\",'3 - SPECIE DA IMPIANTARE'!$H1047,\"\")","v":""},null,null,null,0,null,null,0,null,null,0,null,null,0,null,null,0]
[null,{"$f":"IF('3 - SPECIE DA IMPIANTARE'!$H1048=\"AZIONE_1\",'3 - SPECIE DA IMPIANTARE'!$H1048,\"\")","v":""},null,null,null,0,null,null,0,null,null,0,null,null,0,null,null,0]
[null,{"$f":"IF('3 - SPECIE DA IMPIANTARE'!$H1049=\"AZIONE_1\",'3 - SPECIE DA IMPIANTARE'!$H1049,\"\")","v":""},null,null,null,0,null,null,0,null,null,0,null,null,0,null,null,0]
[null,{"$f":"IF('3 - SPECIE DA IMPIANTARE'!$H1050=\"AZIONE_1\",'3 - SPECIE DA IMPIANTARE'!$H1050,\"\")","v":""},null,null,null,0,null,null,0,null,null,0,null,null,0,null,null,0]
[null,{"$f":"IF('3 - SPECIE DA IMPIANTARE'!$H1051=\"AZIONE_1\",'3 - SPECIE DA IMPIANTARE'!$H1051,\"\")","v":""},null,null,null,0,null,null,0,null,null,0,null,null,0,null,null,0]
[null,{"$f":"IF('3 - SPECIE DA IMPIANTARE'!$H1052=\"AZIONE_1\",'3 - SPECIE DA IMPIANTARE'!$H1052,\"\")","v":""},null,null,null,0,null,null,0,null,null,0,null,null,0,null,null,0]
[null,{"$f":"IF('3 - SPECIE DA IMPIANTARE'!$H1053=\"AZIONE_1\",'3 - SPECIE DA IMPIANTARE'!$H1053,\"\")","v":""},null,null,null,0,null,null,0,null,null,0,null,null,0,null,null,0]
[null,{"$f":"IF('3 - SPECIE DA IMPIANTARE'!$H1054=\"AZIONE_1\",'3 - SPECIE DA IMPIANTARE'!$H1054,\"\")","v":""},null,null,null,0,null,null,0,null,null,0,null,null,0,null,null,0]
[null,{"$f":"IF('3 - SPECIE DA IMPIANTARE'!$H1055=\"AZIONE_1\",'3 - SPECIE DA IMPIANTARE'!$H1055,\"\")","v":""},null,null,null,"",null,null,"",null,null,"",null,null,"",null,null,""]
[null,{"$f":"IF('3 - SPECIE DA IMPIANTARE'!$H1056=\"AZIONE_1\",'3 - SPECIE DA IMPIANTARE'!$H1056,\"\")","v":""},null,null,null,"",null,null,"",null,null,"",null,null,"",null,null,""]
[null,{"$f":"IF('3 - SPECIE DA IMPIANTARE'!$H1057=\"AZIONE_1\",'3 - SPECIE DA IMPIANTARE'!$H1057,\"\")","v":""},null,null,null,"",null,null,"",null,null,"",null,null,"",null,null,""]
[null,{"$f":"IF('3 - SPECIE DA IMPIANTARE'!$H1058=\"AZIONE_1\",'3 - SPECIE DA IMPIANTARE'!$H1058,\"\")","v":""},null,null,null,"",null,null,"",null,null,"",null,null,"",null,null,""]
[null,{"$f":"IF('3 - SPECIE DA IMPIANTARE'!$H1059=\"AZIONE_1\",'3 - SPECIE DA IMPIANTARE'!$H1059,\"\")","v":""},null,null,null,"",null,null,"",null,null,"",null,null,"",null,null,""]
[null,{"$f":"IF('3 - SPECIE DA IMPIANTARE'!$H1060=\"AZIONE_1\",'3 - SPECIE DA IMPIANTARE'!$H1060,\"\")","v":""},null,null,null,"",null,null,"",null,null,"",null,null,"",null,null,""]
[null,{"$f":"IF('3 - SPECIE DA IMPIANTARE'!$H1061=\"AZIONE_1\",'3 - SPECIE DA IMPIANTARE'!$H1061,\"\")","v":""},null,null,null,"",null,null,"",null,null,"",null,null,"",null,null,""]
[null,{"$f":"IF('3 - SPECIE DA IMPIANTARE'!$H1062=\"AZIONE_1\",'3 - SPECIE DA IMPIANTARE'!$H1062,\"\")","v":""},null,null,null,"",null,null,"",null,null,"",null,null,"",null,null,""]
[null,{"$f":"IF('3 - SPECIE DA IMPIANTARE'!$H1063=\"AZIONE_1\",'3 - SPECIE DA IMPIANTARE'!$H1063,\"\")","v":""},null,null,null,"",null,null,"",null,null,"",null,null,"",null,null,""]
[null,{"$f":"IF('3 - SPECIE DA IMPIANTARE'!$H1064=\"AZIONE_1\",'3 - SPECIE DA IMPIANTARE'!$H1064,\"\")","v":""},null,null,null,"",null,null,{"$f":"I963","v":""},null,null,{"$f":"L963","v":""},null,null,{"$f":"O963","v":""},null,null,{"$f":"R963","v":""}]
[null,{"$f":"IF('3 - SPECIE DA IMPIANTARE'!$H1065=\"AZIONE_1\",'3 - SPECIE DA IMPIANTARE'!$H1065,\"\")","v":""},null,null,null,{"$f":"F964","v":""},null,null,"",null,null,"",null,null,"",null,null,""]
[null,{"$f":"IF('3 - SPECIE DA IMPIANTARE'!$H1066=\"AZIONE_1\",'3 - SPECIE DA IMPIANTARE'!$H1066,\"\")","v":""},null,null,null,"",null,null,"",null,null,"",null,null,"",null,null,""]
[null,{"$f":"IF('3 - SPECIE DA IMPIANTARE'!$H1067=\"AZIONE_1\",'3 - SPECIE DA IMPIANTARE'!$H1067,\"\")","v":""},null,null,null,"",null,null,"",null,null,"",null,null,"",null,null,""]
[null,{"$f":"IF('3 - SPECIE DA IMPIANTARE'!$H1068=\"AZIONE_1\",'3 - SPECIE DA IMPIANTARE'!$H1068,\"\")","v":""},null,null,null,"",null,null,"",null,null,"",null,null,"",null,null,""]
[null,{"$f":"IF('3 - SPECIE DA IMPIANTARE'!$H1069=\"AZIONE_1\",'3 - SPECIE DA IMPIANTARE'!$H1069,\"\")","v":""},null,null,null,"",null,null,"",null,null,"",null,null,"",null,null,""]
[null,{"$f":"IF('3 - SPECIE DA IMPIANTARE'!$H1070=\"AZIONE_1\",'3 - SPECIE DA IMPIANTARE'!$H1070,\"\")","v":""},null,null,null,"",null,null,"",null,null,"",null,null,"",null,null,""]
[null,{"$f":"IF('3 - SPECIE DA IMPIANTARE'!$H1071=\"AZIONE_1\",'3 - SPECIE DA IMPIANTARE'!$H1071,\"\")","v":""},null,null,null,"",null,null,"",null,null,"",null,null,"",null,null,""]
[null,{"$f":"IF('3 - SPECIE DA IMPIANTARE'!$H1072=\"AZIONE_1\",'3 - SPECIE DA IMPIANTARE'!$H1072,\"\")","v":""},null,null,null,"",null,null,"",null,null,"",null,null,"",null,null,""]
[null,{"$f":"IF('3 - SPECIE DA IMPIANTARE'!$H1073=\"AZIONE_1\",'3 - SPECIE DA IMPIANTARE'!$H1073,\"\")","v":""},null,null,null,"",null,null,"",null,null,"",null,null,"",null,null,""]
[null,{"$f":"IF('3 - SPECIE DA IMPIANTARE'!$H1074=\"AZIONE_1\",'3 - SPECIE DA IMPIANTARE'!$H1074,\"\")","v":""},null,null,null,"",null,null,"",null,null,"",null,null,"",null,null,""]
[null,{"$f":"IF('3 - SPECIE DA IMPIANTARE'!$H1075=\"AZIONE_1\",'3 - SPECIE DA IMPIANTARE'!$H1075,\"\")","v":""},null,null,null,"",null,null,"",null,null,"",null,null,"",null,null,""]
[null,{"$f":"IF('3 - SPECIE DA IMPIANTARE'!$H1076=\"AZIONE_1\",'3 - SPECIE DA IMPIANTARE'!$H1076,\"\")","v":""},null,null,null,"",null,null,"",null,null,"",null,null,"",null,null,""]
[null,{"$f":"IF('3 - SPECIE DA IMPIANTARE'!$H1077=\"AZIONE_1\",'3 - SPECIE DA IMPIANTARE'!$H1077,\"\")","v":""},null,null,null,"",null,null,"",null,null,"",null,null,"",null,null,""]
[null,{"$f":"IF('3 - SPECIE DA IMPIANTARE'!$H1078=\"AZIONE_1\",'3 - SPECIE DA IMPIANTARE'!$H1078,\"\")","v":""},null,null,null,"",null,null,"",null,null,"",null,null,"",null,null,""]
[null,{"$f":"IF('3 - SPECIE DA IMPIANTARE'!$H1079=\"AZIONE_1\",'3 - SPECIE DA IMPIANTARE'!$H1079,\"\")","v":""},null,null,null,"",null,null,"",null,null,"",null,null,"",null,null,""]
[null,{"$f":"IF('3 - SPECIE DA IMPIANTARE'!$H1080=\"AZIONE_1\",'3 - SPECIE DA IMPIANTARE'!$H1080,\"\")","v":""},null,null,null,"",null,null,"",null,null,"",null,null,"",null,null,""]
[null,{"$f":"IF('3 - SPECIE DA IMPIANTARE'!$H1081=\"AZIONE_1\",'3 - SPECIE DA IMPIANTARE'!$H1081,\"\")","v":""},null,null,null,"",null,null,"",null,null,"",null,null,"",null,null,""]
[null,{"$f":"IF('3 - SPECIE DA IMPIANTARE'!$H1082=\"AZIONE_1\",'3 - SPECIE DA IMPIANTARE'!$H1082,\"\")","v":""},null,null,null,"",null,null,"",null,null,"",null,null,"",null,null,""]
[null,{"$f":"IF('3 - SPECIE DA IMPIANTARE'!$H1083=\"AZIONE_1\",'3 - SPECIE DA IMPIANTARE'!$H1083,\"\")","v":""},null,null,null,"",null,null,"",null,null,"",null,null,"",null,null,""]
[null,{"$f":"IF('3 - SPECIE DA IMPIANTARE'!$H1084=\"AZIONE_1\",'3 - SPECIE DA IMPIANTARE'!$H1084,\"\")","v":""},null,null,null,"",null,null,"",null,null,"",null,null,"",null,null,""]
[null,{"$f":"IF('3 - SPECIE DA IMPIANTARE'!$H1085=\"AZIONE_1\",'3 - SPECIE DA IMPIANTARE'!$H1085,\"\")","v":""},null,null,null,"",null,null,"",null,null,"",null,null,"",null,null,""]
[null,{"$f":"IF('3 - SPECIE DA IMPIANTARE'!$H1086=\"AZIONE_1\",'3 - SPECIE DA IMPIANTARE'!$H1086,\"\")","v":""},null,null,null,"",null,null,"",null,null,"",null,null,"",null,null,""]
[null,{"$f":"IF('3 - SPECIE DA IMPIANTARE'!$H1087=\"AZIONE_1\",'3 - SPECIE DA IMPIANTARE'!$H1087,\"\")","v":""},null,null,null,"",null,null,"",null,null,"",null,null,"",null,null,""]
[null,{"$f":"IF('3 - SPECIE DA IMPIANTARE'!$H1088=\"AZIONE_1\",'3 - SPECIE DA IMPIANTARE'!$H1088,\"\")","v":""},null,null,null,"",null,null,"",null,null,"",null,null,"",null,null,""]
[null,{"$f":"IF('3 - SPECIE DA IMPIANTARE'!$H1089=\"AZIONE_1\",'3 - SPECIE DA IMPIANTARE'!$H1089,\"\")","v":""},null,null,null,"",null,null,"",null,null,"",null,null,"",null,null,""]
[null,{"$f":"IF('3 - SPECIE DA IMPIANTARE'!$H1090=\"AZIONE_1\",'3 - SPECIE DA IMPIANTARE'!$H1090,\"\")","v":""},null,null,null,"",null,null,"",null,null,"",null,null,"",null,null,""]
[null,{"$f":"IF('3 - SPECIE DA IMPIANTARE'!$H1091=\"AZIONE_1\",'3 - SPECIE DA IMPIANTARE'!$H1091,\"\")","v":""},null,null,null,"",null,null,"",null,null,"",null,null,"",null,null,""]
[null,{"$f":"IF('3 - SPECIE DA IMPIANTARE'!$H1092=\"AZIONE_1\",'3 - SPECIE DA IMPIANTARE'!$H1092,\"\")","v":""},null,null,null,"",null,null,"",null,null,"",null,null,"",null,null,""]
[null,{"$f":"IF('3 - SPECIE DA IMPIANTARE'!$H1093=\"AZIONE_1\",'3 - SPECIE DA IMPIANTARE'!$H1093,\"\")","v":""},null,null,null,"",null,null,"",null,null,"",null,null,"",null,null,""]
[null,{"$f":"IF('3 - SPECIE DA IMPIANTARE'!$H1094=\"AZIONE_1\",'3 - SPECIE DA IMPIANTARE'!$H1094,\"\")","v":""},{"$f":"IF('3 - SPECIE DA IMPIANTARE'!$G1094=1,'3 - SPECIE DA IMPIANTARE'!$G1094,\"\")","v":""},null,null,"",null,null,"",null,null,"",null,null,"",null,null,""]
[null,{"$f":"IF('3 - SPECIE DA IMPIANTARE'!$H1095=\"AZIONE_1\",'3 - SPECIE DA IMPIANTARE'!$H1095,\"\")","v":""},{"$f":"IF('3 - SPECIE DA IMPIANTARE'!$G1095=1,'3 - SPECIE DA IMPIANTARE'!$G1095,\"\")","v":""},null,null,"",null,null,"",null,null,"",null,null,"",null,null,""]
[null,{"$f":"IF('3 - SPECIE DA IMPIANTARE'!$H1096=\"AZIONE_1\",'3 - SPECIE DA IMPIANTARE'!$H1096,\"\")","v":""},{"$f":"IF('3 - SPECIE DA IMPIANTARE'!$G1096=1,'3 - SPECIE DA IMPIANTARE'!$G1096,\"\")","v":""},null,null,"",null,null,"",null,null,"",null,null,"",null,null,""]
[null,{"$f":"IF('3 - SPECIE DA IMPIANTARE'!$H1097=\"AZIONE_1\",'3 - SPECIE DA IMPIANTARE'!$H1097,\"\")","v":""},{"$f":"IF('3 - SPECIE DA IMPIANTARE'!$G1097=1,'3 - SPECIE DA IMPIANTARE'!$G1097,\"\")","v":""},null,null,"",null,null,"",null,null,"",null,null,"",null,null,""]
[null,{"$f":"IF('3 - SPECIE DA IMPIANTARE'!$H1098=\"AZIONE_1\",'3 - SPECIE DA IMPIANTARE'!$H1098,\"\")","v":""},{"$f":"IF('3 - SPECIE DA IMPIANTARE'!$G1098=1,'3 - SPECIE DA IMPIANTARE'!$G1098,\"\")","v":""},null,null,"",null,null,"",null,null,"",null,null,"",null,null,""]
[null,{"$f":"IF('3 - SPECIE DA IMPIANTARE'!$H1099=\"AZIONE_1\",'3 - SPECIE DA IMPIANTARE'!$H1099,\"\")","v":""},{"$f":"IF('3 - SPECIE DA IMPIANTARE'!$G1099=1,'3 - SPECIE DA IMPIANTARE'!$G1099,\"\")","v":""},null,null,"",null,null,"",null,null,"",null,null,"",null,null,""]
[null,{"$f":"IF('3 - SPECIE DA IMPIANTARE'!$H1100=\"AZIONE_1\",'3 - SPECIE DA IMPIANTARE'!$H1100,\"\")","v":""},{"$f":"IF('3 - SPECIE DA IMPIANTARE'!$G1100=1,'3 - SPECIE DA IMPIANTARE'!$G1100,\"\")","v":""},null,null,"",null,null,"",null,null,"",null,null,"",null,null,""]
[null,{"$f":"IF('3 - SPECIE DA IMPIANTARE'!$H1101=\"AZIONE_1\",'3 - SPECIE DA IMPIANTARE'!$H1101,\"\")","v":""},{"$f":"IF('3 - SPECIE DA IMPIANTARE'!$G1101=1,'3 - SPECIE DA IMPIANTARE'!$G1101,\"\")","v":""},null,null,"",null,null,"",null,null,"",null,null,"",null,null,""]

{"sheet":"VERIFICA AZ. 2","index":10,"n_rows":601,"n_cols":27,"rows_kept":601,"cut":false,"hidden":true,"merged":[]}
["gruppo sp","AZIONE","UNITA' 1","SPECIE ","CONTROLLO_1","UNITA' 2","SPECIE","CONTROLLO_2","UNITA' 3","SPECIE","CONTROLLO_3","UNITA' 4","SPECIE","CONTROLLO_4","UNITA' 5","SPECIE","CONTROLLO_5","UNITA' 6","SPECIE","CONTROLLO_6","ESITO CONTROLLO_1","ESITO CONTROLLO_2","ESITO CONTROLLO_3","ESITO CONTROLLO_4","ESITO CONTROLLO_5","ESITO CONTROLLO_6","ESITO FINALE"]
[1,{"$f":"IF('3 - SPECIE DA IMPIANTARE'!$H3=\"AZIONE_2\",'3 - SPECIE DA IMPIANTARE'!$H3,\"\")","v":""},{"$f":"IF('3 - SPECIE DA IMPIANTARE'!$G3=1,'3 - SPECIE DA IMPIANTARE'!$G3,\"\")","v":""},{"$f":"IF(AND($B2=\"AZIONE_2\",C2=1),'3 - SPECIE DA IMPIANTARE'!$I3,\"\")","v":""},{"$f":"SUM(IF(FREQUENCY(IF(LEN(D2:D653)>1,MATCH(D2:D653,D2:D653,0),\"\"), IF(LEN(D2:D653)>1,MATCH(D2:D653,D2:D653,0),\"\"))>0,1))","v":0},{"$f":"IF('3 - SPECIE DA IMPIANTARE'!$G3=2,'3 - SPECIE DA IMPIANTARE'!$G3,\"\")","v":""},{"$f":"IF(AND($B2=\"AZIONE_2\",F2=2),'3 - SPECIE DA IMPIANTARE'!$I3,\"\")","v":""},{"$f":"SUM(IF(FREQUENCY(IF(LEN(G2:G653)>1,MATCH(G2:G653,G2:G653,0),\"\"), IF(LEN(G2:G653)>1,MATCH(G2:G653,G2:G653,0),\"\"))>0,1))","v":0},{"$f":"IF('3 - SPECIE DA IMPIANTARE'!$G3=3,'3 - SPECIE DA IMPIANTARE'!$G3,\"\")","v":""},{"$f":"IF(AND($B2=\"AZIONE_2\",$I2=3),'3 - SPECIE DA IMPIANTARE'!$I3,\"\")","v":""},{"$f":"SUM(IF(FREQUENCY(IF(LEN(J2:J653)>1,MATCH(J2:J653,J2:J653,0),\"\"), IF(LEN(J2:J653)>1,MATCH(J2:J653,J2:J653,0),\"\"))>0,1))","v":0},{"$f":"IF('3 - SPECIE DA IMPIANTARE'!$G3=4,'3 - SPECIE DA IMPIANTARE'!$G3,\"\")","v":""},{"$f":"IF(AND($B2=\"AZIONE_2\",$L2=4),'3 - SPECIE DA IMPIANTARE'!$I3,\"\")","v":""},{"$f":"SUM(IF(FREQUENCY(IF(LEN(M2:M653)>1,MATCH(M2:M653,M2:M653,0),\"\"), IF(LEN(M2:M653)>1,MATCH(M2:M653,M2:M653,0),\"\"))>0,1))","v":0},{"$f":"IF('3 - SPECIE DA IMPIANTARE'!$G3=5,'3 - SPECIE DA IMPIANTARE'!$G3,\"\")","v":""},{"$f":"IF(AND($B2=\"AZIONE_2\",$O2=5),'3 - SPECIE DA IMPIANTARE'!$I3,\"\")","v":""},{"$f":"SUM(IF(FREQUENCY(IF(LEN(P2:P653)>1,MATCH(P2:P653,P2:P653,0),\"\"), IF(LEN(P2:P653)>1,MATCH(P2:P653,P2:P653,0),\"\"))>0,1))","v":0},{"$f":"IF('3 - SPECIE DA IMPIANTARE'!$G3=6,'3 - SPECIE DA IMPIANTARE'!$G3,\"\")","v":""},{"$f":"IF(AND($B2=\"AZIONE_2\",$R2=6),'3 - SPECIE DA IMPIANTARE'!$I3,\"\")","v":""},{"$f":"SUM(IF(FREQUENCY(IF(LEN(S2:S653)>1,MATCH(S2:S653,S2:S653,0),\"\"), IF(LEN(S2:S653)>1,MATCH(S2:S653,S2:S653,0),\"\"))>0,1))","v":0},{"$f":"IF(E2=0,\"POSITIVO\",IF(E2<2,\"NEGATIVO\",\"POSITIVO\"))","v":"POSITIVO"},{"$f":"IF(H2=0,\"POSITIVO\",IF(H2<2,\"NEGATIVO\",\"POSITIVO\"))","v":"POSITIVO"},{"$f":"IF(K2=0,\"POSITIVO\",IF(K2<2,\"NEGATIVO\",\"POSITIVO\"))","v":"POSITIVO"},{"$f":"IF(N2=0,\"POSITIVO\",IF(N2<2,\"NEGATIVO\",\"POSITIVO\"))","v":"POSITIVO"},{"$f":"IF(Q2=0,\"POSITIVO\",IF(Q2<2,\"NEGATIVO\",\"POSITIVO\"))","v":"POSITIVO"},{"$f":"IF(T2=0,\"POSITIVO\",IF(T2<2,\"NEGATIVO\",\"POSITIVO\"))","v":"POSITIVO"},{"$f":"COUNTIF(U2:Z2,\"NEGATIVO\")","v":0}]
[1,{"$f":"IF('3 - SPECIE DA IMPIANTARE'!$H4=\"AZIONE_2\",'3 - SPECIE DA IMPIANTARE'!$H4,\"\")","v":""},{"$f":"IF('3 - SPECIE DA IMPIANTARE'!$G4=1,'3 - SPECIE DA IMPIANTARE'!$G4,\"\")","v":""},{"$f":"IF(AND($B3=\"AZIONE_2\",C3=1),'3 - SPECIE DA IMPIANTARE'!$I4,\"\")","v":""},null,{"$f":"IF('3 - SPECIE DA IMPIANTARE'!$G4=2,'3 - SPECIE DA IMPIANTARE'!$G4,\"\")","v":""},{"$f":"IF(AND($B3=\"AZIONE_2\",F3=2),'3 - SPECIE DA IMPIANTARE'!$I4,\"\")","v":""},null,{"$f":"IF('3 - SPECIE DA IMPIANTARE'!$G4=3,'3 - SPECIE DA IMPIANTARE'!$G4,\"\")","v":""},{"$f":"IF(AND($B3=\"AZIONE_2\",$I3=3),'3 - SPECIE DA IMPIANTARE'!$I4,\"\")","v":""},null,{"$f":"IF('3 - SPECIE DA IMPIANTARE'!$G4=4,'3 - SPECIE DA IMPIANTARE'!$G4,\"\")","v":""},{"$f":"IF(AND($B3=\"AZIONE_2\",$L3=4),'3 - SPECIE DA IMPIANTARE'!$I4,\"\")","v":""},null,{"$f":"IF('3 - SPECIE DA IMPIANTARE'!$G4=5,'3 - SPECIE DA IMPIANTARE'!$G4,\"\")","v":""},{"$f":"IF(AND($B3=\"AZIONE_2\",$O3=5),'3 - SPECIE DA IMPIANTARE'!$I4,\"\")","v":""},null,{"$f":"IF('3 - SPECIE DA IMPIANTARE'!$G4=6,'3 - SPECIE DA IMPIANTARE'!$G4,\"\")","v":""},{"$f":"IF(AND($B3=\"AZIONE_2\",$R3=6),'3 - SPECIE DA IMPIANTARE'!$I4,\"\")","v":""}]
[1,{"$f":"IF('3 - SPECIE DA IMPIANTARE'!$H5=\"AZIONE_2\",'3 - SPECIE DA IMPIANTARE'!$H5,\"\")","v":""},{"$f":"IF('3 - SPECIE DA IMPIANTARE'!$G5=1,'3 - SPECIE DA IMPIANTARE'!$G5,\"\")","v":""},{"$f":"IF(AND($B4=\"AZIONE_2\",C4=1),'3 - SPECIE DA IMPIANTARE'!$I5,\"\")","v":""},null,{"$f":"IF('3 - SPECIE DA IMPIANTARE'!$G5=2,'3 - SPECIE DA IMPIANTARE'!$G5,\"\")","v":""},{"$f":"IF(AND($B4=\"AZIONE_2\",F4=2),'3 - SPECIE DA IMPIANTARE'!$I5,\"\")","v":""},null,{"$f":"IF('3 - SPECIE DA IMPIANTARE'!$G5=3,'3 - SPECIE DA IMPIANTARE'!$G5,\"\")","v":""},{"$f":"IF(AND($B4=\"AZIONE_2\",$I4=3),'3 - SPECIE DA IMPIANTARE'!$I5,\"\")","v":""},null,{"$f":"IF('3 - SPECIE DA IMPIANTARE'!$G5=4,'3 - SPECIE DA IMPIANTARE'!$G5,\"\")","v":""},{"$f":"IF(AND($B4=\"AZIONE_2\",$L4=4),'3 - SPECIE DA IMPIANTARE'!$I5,\"\")","v":""},null,{"$f":"IF('3 - SPECIE DA IMPIANTARE'!$G5=5,'3 - SPECIE DA IMPIANTARE'!$G5,\"\")","v":""},{"$f":"IF(AND($B4=\"AZIONE_2\",$O4=5),'3 - SPECIE DA IMPIANTARE'!$I5,\"\")","v":""},null,{"$f":"IF('3 - SPECIE DA IMPIANTARE'!$G5=6,'3 - SPECIE DA IMPIANTARE'!$G5,\"\")","v":""},{"$f":"IF(AND($B4=\"AZIONE_2\",$R4=6),'3 - SPECIE DA IMPIANTARE'!$I5,\"\")","v":""}]
[1,{"$f":"IF('3 - SPECIE DA IMPIANTARE'!$H6=\"AZIONE_2\",'3 - SPECIE DA IMPIANTARE'!$H6,\"\")","v":""},{"$f":"IF('3 - SPECIE DA IMPIANTARE'!$G6=1,'3 - SPECIE DA IMPIANTARE'!$G6,\"\")","v":""},{"$f":"IF(AND($B5=\"AZIONE_2\",C5=1),'3 - SPECIE DA IMPIANTARE'!$I6,\"\")","v":""},null,{"$f":"IF('3 - SPECIE DA IMPIANTARE'!$G6=2,'3 - SPECIE DA IMPIANTARE'!$G6,\"\")","v":""},{"$f":"IF(AND($B5=\"AZIONE_2\",F5=2),'3 - SPECIE DA IMPIANTARE'!$I6,\"\")","v":""},null,{"$f":"IF('3 - SPECIE DA IMPIANTARE'!$G6=3,'3 - SPECIE DA IMPIANTARE'!$G6,\"\")","v":""},{"$f":"IF(AND($B5=\"AZIONE_2\",$I5=3),'3 - SPECIE DA IMPIANTARE'!$I6,\"\")","v":""},null,{"$f":"IF('3 - SPECIE DA IMPIANTARE'!$G6=4,'3 - SPECIE DA IMPIANTARE'!$G6,\"\")","v":""},{"$f":"IF(AND($B5=\"AZIONE_2\",$L5=4),'3 - SPECIE DA IMPIANTARE'!$I6,\"\")","v":""},null,{"$f":"IF('3 - SPECIE DA IMPIANTARE'!$G6=5,'3 - SPECIE DA IMPIANTARE'!$G6,\"\")","v":""},{"$f":"IF(AND($B5=\"AZIONE_2\",$O5=5),'3 - SPECIE DA IMPIANTARE'!$I6,\"\")","v":""},null,{"$f":"IF('3 - SPECIE DA IMPIANTARE'!$G6=6,'3 - SPECIE DA IMPIANTARE'!$G6,\"\")","v":""},{"$f":"IF(AND($B5=\"AZIONE_2\",$R5=6),'3 - SPECIE DA IMPIANTARE'!$I6,\"\")","v":""}]
[1,{"$f":"IF('3 - SPECIE DA IMPIANTARE'!$H7=\"AZIONE_2\",'3 - SPECIE DA IMPIANTARE'!$H7,\"\")","v":""},{"$f":"IF('3 - SPECIE DA IMPIANTARE'!$G7=1,'3 - SPECIE DA IMPIANTARE'!$G7,\"\")","v":""},{"$f":"IF(AND($B6=\"AZIONE_2\",C6=1),'3 - SPECIE DA IMPIANTARE'!$I7,\"\")","v":""},null,{"$f":"IF('3 - SPECIE DA IMPIANTARE'!$G7=2,'3 - SPECIE DA IMPIANTARE'!$G7,\"\")","v":""},{"$f":"IF(AND($B6=\"AZIONE_2\",F6=2),'3 - SPECIE DA IMPIANTARE'!$I7,\"\")","v":""},null,{"$f":"IF('3 - SPECIE DA IMPIANTARE'!$G7=3,'3 - SPECIE DA IMPIANTARE'!$G7,\"\")","v":""},{"$f":"IF(AND($B6=\"AZIONE_2\",$I6=3),'3 - SPECIE DA IMPIANTARE'!$I7,\"\")","v":""},null,{"$f":"IF('3 - SPECIE DA IMPIANTARE'!$G7=4,'3 - SPECIE DA IMPIANTARE'!$G7,\"\")","v":""},{"$f":"IF(AND($B6=\"AZIONE_2\",$L6=4),'3 - SPECIE DA IMPIANTARE'!$I7,\"\")","v":""},null,{"$f":"IF('3 - SPECIE DA IMPIANTARE'!$G7=5,'3 - SPECIE DA IMPIANTARE'!$G7,\"\")","v":""},{"$f":"IF(AND($B6=\"AZIONE_2\",$O6=5),'3 - SPECIE DA IMPIANTARE'!$I7,\"\")","v":""},null,{"$f":"IF('3 - SPECIE DA IMPIANTARE'!$G7=6,'3 - SPECIE DA IMPIANTARE'!$G7,\"\")","v":""},{"$f":"IF(AND($B6=\"AZIONE_2\",$R6=6),'3 - SPECIE DA IMPIANTARE'!$I7,\"\")","v":""}]
[1,{"$f":"IF('3 - SPECIE DA IMPIANTARE'!$H8=\"AZIONE_2\",'3 - SPECIE DA IMPIANTARE'!$H8,\"\")","v":""},{"$f":"IF('3 - SPECIE DA IMPIANTARE'!$G8=1,'3 - SPECIE DA IMPIANTARE'!$G8,\"\")","v":""},{"$f":"IF(AND($B7=\"AZIONE_2\",C7=1),'3 - SPECIE DA IMPIANTARE'!$I8,\"\")","v":""},null,{"$f":"IF('3 - SPECIE DA IMPIANTARE'!$G8=2,'3 - SPECIE DA IMPIANTARE'!$G8,\"\")","v":""},{"$f":"IF(AND($B7=\"AZIONE_2\",F7=2),'3 - SPECIE DA IMPIANTARE'!$I8,\"\")","v":""},null,{"$f":"IF('3 - SPECIE DA IMPIANTARE'!$G8=3,'3 - SPECIE DA IMPIANTARE'!$G8,\"\")","v":""},{"$f":"IF(AND($B7=\"AZIONE_2\",$I7=3),'3 - SPECIE DA IMPIANTARE'!$I8,\"\")","v":""},null,{"$f":"IF('3 - SPECIE DA IMPIANTARE'!$G8=4,'3 - SPECIE DA IMPIANTARE'!$G8,\"\")","v":""},{"$f":"IF(AND($B7=\"AZIONE_2\",$L7=4),'3 - SPECIE DA IMPIANTARE'!$I8,\"\")","v":""},null,{"$f":"IF('3 - SPECIE DA IMPIANTARE'!$G8=5,'3 - SPECIE DA IMPIANTARE'!$G8,\"\")","v":""},{"$f":"IF(AND($B7=\"AZIONE_2\",$O7=5),'3 - SPECIE DA IMPIANTARE'!$I8,\"\")","v":""},null,{"$f":"IF('3 - SPECIE DA IMPIANTARE'!$G8=6,'3 - SPECIE DA IMPIANTARE'!$G8,\"\")","v":""},{"$f":"IF(AND($B7=\"AZIONE_2\",$R7=6),'3 - SPECIE DA IMPIANTARE'!$I8,\"\")","v":""}]
[1,{"$f":"IF('3 - SPECIE DA IMPIANTARE'!$H9=\"AZIONE_2\",'3 - SPECIE DA IMPIANTARE'!$H9,\"\")","v":""},{"$f":"IF('3 - SPECIE DA IMPIANTARE'!$G9=1,'3 - SPECIE DA IMPIANTARE'!$G9,\"\")","v":""},{"$f":"IF(AND($B8=\"AZIONE_2\",C8=1),'3 - SPECIE DA IMPIANTARE'!$I9,\"\")","v":""},null,{"$f":"IF('3 - SPECIE DA IMPIANTARE'!$G9=2,'3 - SPECIE DA IMPIANTARE'!$G9,\"\")","v":""},{"$f":"IF(AND($B8=\"AZIONE_2\",F8=2),'3 - SPECIE DA IMPIANTARE'!$I9,\"\")","v":""},null,{"$f":"IF('3 - SPECIE DA IMPIANTARE'!$G9=3,'3 - SPECIE DA IMPIANTARE'!$G9,\"\")","v":""},{"$f":"IF(AND($B8=\"AZIONE_2\",$I8=3),'3 - SPECIE DA IMPIANTARE'!$I9,\"\")","v":""},null,{"$f":"IF('3 - SPECIE DA IMPIANTARE'!$G9=4,'3 - SPECIE DA IMPIANTARE'!$G9,\"\")","v":""},{"$f":"IF(AND($B8=\"AZIONE_2\",$L8=4),'3 - SPECIE DA IMPIANTARE'!$I9,\"\")","v":""},null,{"$f":"IF('3 - SPECIE DA IMPIANTARE'!$G9=5,'3 - SPECIE DA IMPIANTARE'!$G9,\"\")","v":""},{"$f":"IF(AND($B8=\"AZIONE_2\",$O8=5),'3 - SPECIE DA IMPIANTARE'!$I9,\"\")","v":""},null,{"$f":"IF('3 - SPECIE DA IMPIANTARE'!$G9=6,'3 - SPECIE DA IMPIANTARE'!$G9,\"\")","v":""},{"$f":"IF(AND($B8=\"AZIONE_2\",$R8=6),'3 - SPECIE DA IMPIANTARE'!$I9,\"\")","v":""}]
[1,{"$f":"IF('3 - SPECIE DA IMPIANTARE'!$H10=\"AZIONE_2\",'3 - SPECIE DA IMPIANTARE'!$H10,\"\")","v":""},{"$f":"IF('3 - SPECIE DA IMPIANTARE'!$G10=1,'3 - SPECIE DA IMPIANTARE'!$G10,\"\")","v":""},{"$f":"IF(AND($B9=\"AZIONE_2\",C9=1),'3 - SPECIE DA IMPIANTARE'!$I10,\"\")","v":""},null,{"$f":"IF('3 - SPECIE DA IMPIANTARE'!$G10=2,'3 - SPECIE DA IMPIANTARE'!$G10,\"\")","v":""},{"$f":"IF(AND($B9=\"AZIONE_2\",F9=2),'3 - SPECIE DA IMPIANTARE'!$I10,\"\")","v":""},null,{"$f":"IF('3 - SPECIE DA IMPIANTARE'!$G10=3,'3 - SPECIE DA IMPIANTARE'!$G10,\"\")","v":""},{"$f":"IF(AND($B9=\"AZIONE_2\",$I9=3),'3 - SPECIE DA IMPIANTARE'!$I10,\"\")","v":""},null,{"$f":"IF('3 - SPECIE DA IMPIANTARE'!$G10=4,'3 - SPECIE DA IMPIANTARE'!$G10,\"\")","v":""},{"$f":"IF(AND($B9=\"AZIONE_2\",$L9=4),'3 - SPECIE DA IMPIANTARE'!$I10,\"\")","v":""},null,{"$f":"IF('3 - SPECIE DA IMPIANTARE'!$G10=5,'3 - SPECIE DA IMPIANTARE'!$G10,\"\")","v":""},{"$f":"IF(AND($B9=\"AZIONE_2\",$O9=5),'3 - SPECIE DA IMPIANTARE'!$I10,\"\")","v":""},null,{"$f":"IF('3 - SPECIE DA IMPIANTARE'!$G10=6,'3 - SPECIE DA IMPIANTARE'!$G10,\"\")","v":""},{"$f":"IF(AND($B9=\"AZIONE_2\",$R9=6),'3 - SPECIE DA IMPIANTARE'!$I10,\"\")","v":""}]
[1,{"$f":"IF('3 - SPECIE DA IMPIANTARE'!$H11=\"AZIONE_2\",'3 - SPECIE DA IMPIANTARE'!$H11,\"\")","v":""},{"$f":"IF('3 - SPECIE DA IMPIANTARE'!$G11=1,'3 - SPECIE DA IMPIANTARE'!$G11,\"\")","v":""},{"$f":"IF(AND($B10=\"AZIONE_2\",C10=1),'3 - SPECIE DA IMPIANTARE'!$I11,\"\")","v":""},null,{"$f":"IF('3 - SPECIE DA IMPIANTARE'!$G11=2,'3 - SPECIE DA IMPIANTARE'!$G11,\"\")","v":""},{"$f":"IF(AND($B10=\"AZIONE_2\",F10=2),'3 - SPECIE DA IMPIANTARE'!$I11,\"\")","v":""},null,{"$f":"IF('3 - SPECIE DA IMPIANTARE'!$G11=3,'3 - SPECIE DA IMPIANTARE'!$G11,\"\")","v":""},{"$f":"IF(AND($B10=\"AZIONE_2\",$I10=3),'3 - SPECIE DA IMPIANTARE'!$I11,\"\")","v":""},null,{"$f":"IF('3 - SPECIE DA IMPIANTARE'!$G11=4,'3 - SPECIE DA IMPIANTARE'!$G11,\"\")","v":""},{"$f":"IF(AND($B10=\"AZIONE_2\",$L10=4),'3 - SPECIE DA IMPIANTARE'!$I11,\"\")","v":""},null,{"$f":"IF('3 - SPECIE DA IMPIANTARE'!$G11=5,'3 - SPECIE DA IMPIANTARE'!$G11,\"\")","v":""},{"$f":"IF(AND($B10=\"AZIONE_2\",$O10=5),'3 - SPECIE DA IMPIANTARE'!$I11,\"\")","v":""},null,{"$f":"IF('3 - SPECIE DA IMPIANTARE'!$G11=6,'3 - SPECIE DA IMPIANTARE'!$G11,\"\")","v":""},{"$f":"IF(AND($B10=\"AZIONE_2\",$R10=6),'3 - SPECIE DA IMPIANTARE'!$I11,\"\")","v":""}]
[1,{"$f":"IF('3 - SPECIE DA IMPIANTARE'!$H12=\"AZIONE_2\",'3 - SPECIE DA IMPIANTARE'!$H12,\"\")","v":""},{"$f":"IF('3 - SPECIE DA IMPIANTARE'!$G12=1,'3 - SPECIE DA IMPIANTARE'!$G12,\"\")","v":""},{"$f":"IF(AND($B11=\"AZIONE_2\",C11=1),'3 - SPECIE DA IMPIANTARE'!$I12,\"\")","v":""},null,{"$f":"IF('3 - SPECIE DA IMPIANTARE'!$G12=2,'3 - SPECIE DA IMPIANTARE'!$G12,\"\")","v":""},{"$f":"IF(AND($B11=\"AZIONE_2\",F11=2),'3 - SPECIE DA IMPIANTARE'!$I12,\"\")","v":""},null,{"$f":"IF('3 - SPECIE DA IMPIANTARE'!$G12=3,'3 - SPECIE DA IMPIANTARE'!$G12,\"\")","v":""},{"$f":"IF(AND($B11=\"AZIONE_2\",$I11=3),'3 - SPECIE DA IMPIANTARE'!$I12,\"\")","v":""},null,{"$f":"IF('3 - SPECIE DA IMPIANTARE'!$G12=4,'3 - SPECIE DA IMPIANTARE'!$G12,\"\")","v":""},{"$f":"IF(AND($B11=\"AZIONE_2\",$L11=4),'3 - SPECIE DA IMPIANTARE'!$I12,\"\")","v":""},null,{"$f":"IF('3 - SPECIE DA IMPIANTARE'!$G12=5,'3 - SPECIE DA IMPIANTARE'!$G12,\"\")","v":""},{"$f":"IF(AND($B11=\"AZIONE_2\",$O11=5),'3 - SPECIE DA IMPIANTARE'!$I12,\"\")","v":""},null,{"$f":"IF('3 - SPECIE DA IMPIANTARE'!$G12=6,'3 - SPECIE DA IMPIANTARE'!$G12,\"\")","v":""},{"$f":"IF(AND($B11=\"AZIONE_2\",$R11=6),'3 - SPECIE DA IMPIANTARE'!$I12,\"\")","v":""}]
[1,{"$f":"IF('3 - SPECIE DA IMPIANTARE'!$H13=\"AZIONE_2\",'3 - SPECIE DA IMPIANTARE'!$H13,\"\")","v":""},{"$f":"IF('3 - SPECIE DA IMPIANTARE'!$G13=1,'3 - SPECIE DA IMPIANTARE'!$G13,\"\")","v":""},{"$f":"IF(AND($B12=\"AZIONE_2\",C12=1),'3 - SPECIE DA IMPIANTARE'!$I13,\"\")","v":""},null,{"$f":"IF('3 - SPECIE DA IMPIANTARE'!$G13=2,'3 - SPECIE DA IMPIANTARE'!$G13,\"\")","v":""},{"$f":"IF(AND($B12=\"AZIONE_2\",F12=2),'3 - SPECIE DA IMPIANTARE'!$I13,\"\")","v":""},null,{"$f":"IF('3 - SPECIE DA IMPIANTARE'!$G13=3,'3 - SPECIE DA IMPIANTARE'!$G13,\"\")","v":""},{"$f":"IF(AND($B12=\"AZIONE_2\",$I12=3),'3 - SPECIE DA IMPIANTARE'!$I13,\"\")","v":""},null,{"$f":"IF('3 - SPECIE DA IMPIANTARE'!$G13=4,'3 - SPECIE DA IMPIANTARE'!$G13,\"\")","v":""},{"$f":"IF(AND($B12=\"AZIONE_2\",$L12=4),'3 - SPECIE DA IMPIANTARE'!$I13,\"\")","v":""},null,{"$f":"IF('3 - SPECIE DA IMPIANTARE'!$G13=5,'3 - SPECIE DA IMPIANTARE'!$G13,\"\")","v":""},{"$f":"IF(AND($B12=\"AZIONE_2\",$O12=5),'3 - SPECIE DA IMPIANTARE'!$I13,\"\")","v":""},null,{"$f":"IF('3 - SPECIE DA IMPIANTARE'!$G13=6,'3 - SPECIE DA IMPIANTARE'!$G13,\"\")","v":""},{"$f":"IF(AND($B12=\"AZIONE_2\",$R12=6),'3 - SPECIE DA IMPIANTARE'!$I13,\"\")","v":""}]
[1,{"$f":"IF('3 - SPECIE DA IMPIANTARE'!$H14=\"AZIONE_2\",'3 - SPECIE DA IMPIANTARE'!$H14,\"\")","v":""},{"$f":"IF('3 - SPECIE DA IMPIANTARE'!$G14=1,'3 - SPECIE DA IMPIANTARE'!$G14,\"\")","v":""},{"$f":"IF(AND($B13=\"AZIONE_2\",C13=1),'3 - SPECIE DA IMPIANTARE'!$I14,\"\")","v":""},null,{"$f":"IF('3 - SPECIE DA IMPIANTARE'!$G14=2,'3 - SPECIE DA IMPIANTARE'!$G14,\"\")","v":""},{"$f":"IF(AND($B13=\"AZIONE_2\",F13=2),'3 - SPECIE DA IMPIANTARE'!$I14,\"\")","v":""},null,{"$f":"IF('3 - SPECIE DA IMPIANTARE'!$G14=3,'3 - SPECIE DA IMPIANTARE'!$G14,\"\")","v":""},{"$f":"IF(AND($B13=\"AZIONE_2\",$I13=3),'3 - SPECIE DA IMPIANTARE'!$I14,\"\")","v":""},null,{"$f":"IF('3 - SPECIE DA IMPIANTARE'!$G14=4,'3 - SPECIE DA IMPIANTARE'!$G14,\"\")","v":""},{"$f":"IF(AND($B13=\"AZIONE_2\",$L13=4),'3 - SPECIE DA IMPIANTARE'!$I14,\"\")","v":""},null,{"$f":"IF('3 - SPECIE DA IMPIANTARE'!$G14=5,'3 - SPECIE DA IMPIANTARE'!$G14,\"\")","v":""},{"$f":"IF(AND($B13=\"AZIONE_2\",$O13=5),'3 - SPECIE DA IMPIANTARE'!$I14,\"\")","v":""},null,{"$f":"IF('3 - SPECIE DA IMPIANTARE'!$G14=6,'3 - SPECIE DA IMPIANTARE'!$G14,\"\")","v":""},{"$f":"IF(AND($B13=\"AZIONE_2\",$R13=6),'3 - SPECIE DA IMPIANTARE'!$I14,\"\")","v":""}]
[1,{"$f":"IF('3 - SPECIE DA IMPIANTARE'!$H15=\"AZIONE_2\",'3 - SPECIE DA IMPIANTARE'!$H15,\"\")","v":""},{"$f":"IF('3 - SPECIE DA IMPIANTARE'!$G15=1,'3 - SPECIE DA IMPIANTARE'!$G15,\"\")","v":""},{"$f":"IF(AND($B14=\"AZIONE_2\",C14=1),'3 - SPECIE DA IMPIANTARE'!$I15,\"\")","v":""},null,{"$f":"IF('3 - SPECIE DA IMPIANTARE'!$G15=2,'3 - SPECIE DA IMPIANTARE'!$G15,\"\")","v":""},{"$f":"IF(AND($B14=\"AZIONE_2\",F14=2),'3 - SPECIE DA IMPIANTARE'!$I15,\"\")","v":""},null,{"$f":"IF('3 - SPECIE DA IMPIANTARE'!$G15=3,'3 - SPECIE DA IMPIANTARE'!$G15,\"\")","v":""},{"$f":"IF(AND($B14=\"AZIONE_2\",$I14=3),'3 - SPECIE DA IMPIANTARE'!$I15,\"\")","v":""},null,{"$f":"IF('3 - SPECIE DA IMPIANTARE'!$G15=4,'3 - SPECIE DA IMPIANTARE'!$G15,\"\")","v":""},{"$f":"IF(AND($B14=\"AZIONE_2\",$L14=4),'3 - SPECIE DA IMPIANTARE'!$I15,\"\")","v":""},null,{"$f":"IF('3 - SPECIE DA IMPIANTARE'!$G15=5,'3 - SPECIE DA IMPIANTARE'!$G15,\"\")","v":""},{"$f":"IF(AND($B14=\"AZIONE_2\",$O14=5),'3 - SPECIE DA IMPIANTARE'!$I15,\"\")","v":""},null,{"$f":"IF('3 - SPECIE DA IMPIANTARE'!$G15=6,'3 - SPECIE DA IMPIANTARE'!$G15,\"\")","v":""},{"$f":"IF(AND($B14=\"AZIONE_2\",$R14=6),'3 - SPECIE DA IMPIANTARE'!$I15,\"\")","v":""}]
[1,{"$f":"IF('3 - SPECIE DA IMPIANTARE'!$H16=\"AZIONE_2\",'3 - SPECIE DA IMPIANTARE'!$H16,\"\")","v":""},{"$f":"IF('3 - SPECIE DA IMPIANTARE'!$G16=1,'3 - SPECIE DA IMPIANTARE'!$G16,\"\")","v":""},{"$f":"IF(AND($B15=\"AZIONE_2\",C15=1),'3 - SPECIE DA IMPIANTARE'!$I16,\"\")","v":""},null,{"$f":"IF('3 - SPECIE DA IMPIANTARE'!$G16=2,'3 - SPECIE DA IMPIANTARE'!$G16,\"\")","v":""},{"$f":"IF(AND($B15=\"AZIONE_2\",F15=2),'3 - SPECIE DA IMPIANTARE'!$I16,\"\")","v":""},null,{"$f":"IF('3 - SPECIE DA IMPIANTARE'!$G16=3,'3 - SPECIE DA IMPIANTARE'!$G16,\"\")","v":""},{"$f":"IF(AND($B15=\"AZIONE_2\",$I15=3),'3 - SPECIE DA IMPIANTARE'!$I16,\"\")","v":""},null,{"$f":"IF('3 - SPECIE DA IMPIANTARE'!$G16=4,'3 - SPECIE DA IMPIANTARE'!$G16,\"\")","v":""},{"$f":"IF(AND($B15=\"AZIONE_2\",$L15=4),'3 - SPECIE DA IMPIANTARE'!$I16,\"\")","v":""},null,{"$f":"IF('3 - SPECIE DA IMPIANTARE'!$G16=5,'3 - SPECIE DA IMPIANTARE'!$G16,\"\")","v":""},{"$f":"IF(AND($B15=\"AZIONE_2\",$O15=5),'3 - SPECIE DA IMPIANTARE'!$I16,\"\")","v":""},null,{"$f":"IF('3 - SPECIE DA IMPIANTARE'!$G16=6,'3 - SPECIE DA IMPIANTARE'!$G16,\"\")","v":""},{"$f":"IF(AND($B15=\"AZIONE_2\",$R15=6),'3 - SPECIE DA IMPIANTARE'!$I16,\"\")","v":""}]
[1,{"$f":"IF('3 - SPECIE DA IMPIANTARE'!$H17=\"AZIONE_2\",'3 - SPECIE DA IMPIANTARE'!$H17,\"\")","v":""},{"$f":"IF('3 - SPECIE DA IMPIANTARE'!$G17=1,'3 - SPECIE DA IMPIANTARE'!$G17,\"\")","v":""},{"$f":"IF(AND($B16=\"AZIONE_2\",C16=1),'3 - SPECIE DA IMPIANTARE'!$I17,\"\")","v":""},null,{"$f":"IF('3 - SPECIE DA IMPIANTARE'!$G17=2,'3 - SPECIE DA IMPIANTARE'!$G17,\"\")","v":""},{"$f":"IF(AND($B16=\"AZIONE_2\",F16=2),'3 - SPECIE DA IMPIANTARE'!$I17,\"\")","v":""},null,{"$f":"IF('3 - SPECIE DA IMPIANTARE'!$G17=3,'3 - SPECIE DA IMPIANTARE'!$G17,\"\")","v":""},{"$f":"IF(AND($B16=\"AZIONE_2\",$I16=3),'3 - SPECIE DA IMPIANTARE'!$I17,\"\")","v":""},null,{"$f":"IF('3 - SPECIE DA IMPIANTARE'!$G17=4,'3 - SPECIE DA IMPIANTARE'!$G17,\"\")","v":""},{"$f":"IF(AND($B16=\"AZIONE_2\",$L16=4),'3 - SPECIE DA IMPIANTARE'!$I17,\"\")","v":""},null,{"$f":"IF('3 - SPECIE DA IMPIANTARE'!$G17=5,'3 - SPECIE DA IMPIANTARE'!$G17,\"\")","v":""},{"$f":"IF(AND($B16=\"AZIONE_2\",$O16=5),'3 - SPECIE DA IMPIANTARE'!$I17,\"\")","v":""},null,{"$f":"IF('3 - SPECIE DA IMPIANTARE'!$G17=6,'3 - SPECIE DA IMPIANTARE'!$G17,\"\")","v":""},{"$f":"IF(AND($B16=\"AZIONE_2\",$R16=6),'3 - SPECIE DA IMPIANTARE'!$I17,\"\")","v":""}]
[1,{"$f":"IF('3 - SPECIE DA IMPIANTARE'!$H18=\"AZIONE_2\",'3 - SPECIE DA IMPIANTARE'!$H18,\"\")","v":""},{"$f":"IF('3 - SPECIE DA IMPIANTARE'!$G18=1,'3 - SPECIE DA IMPIANTARE'!$G18,\"\")","v":""},{"$f":"IF(AND($B17=\"AZIONE_2\",C17=1),'3 - SPECIE DA IMPIANTARE'!$I18,\"\")","v":""},null,{"$f":"IF('3 - SPECIE DA IMPIANTARE'!$G18=2,'3 - SPECIE DA IMPIANTARE'!$G18,\"\")","v":""},{"$f":"IF(AND($B17=\"AZIONE_2\",F17=2),'3 - SPECIE DA IMPIANTARE'!$I18,\"\")","v":""},null,{"$f":"IF('3 - SPECIE DA IMPIANTARE'!$G18=3,'3 - SPECIE DA IMPIANTARE'!$G18,\"\")","v":""},{"$f":"IF(AND($B17=\"AZIONE_2\",$I17=3),'3 - SPECIE DA IMPIANTARE'!$I18,\"\")","v":""},null,{"$f":"IF('3 - SPECIE DA IMPIANTARE'!$G18=4,'3 - SPECIE DA IMPIANTARE'!$G18,\"\")","v":""},{"$f":"IF(AND($B17=\"AZIONE_2\",$L17=4),'3 - SPECIE DA IMPIANTARE'!$I18,\"\")","v":""},null,{"$f":"IF('3 - SPECIE DA IMPIANTARE'!$G18=5,'3 - SPECIE DA IMPIANTARE'!$G18,\"\")","v":""},{"$f":"IF(AND($B17=\"AZIONE_2\",$O17=5),'3 - SPECIE DA IMPIANTARE'!$I18,\"\")","v":""},null,{"$f":"IF('3 - SPECIE DA IMPIANTARE'!$G18=6,'3 - SPECIE DA IMPIANTARE'!$G18,\"\")","v":""},{"$f":"IF(AND($B17=\"AZIONE_2\",$R17=6),'3 - SPECIE DA IMPIANTARE'!$I18,\"\")","v":""}]
[1,{"$f":"IF('3 - SPECIE DA IMPIANTARE'!$H19=\"AZIONE_2\",'3 - SPECIE DA IMPIANTARE'!$H19,\"\")","v":""},{"$f":"IF('3 - SPECIE DA IMPIANTARE'!$G19=1,'3 - SPECIE DA IMPIANTARE'!$G19,\"\")","v":""},{"$f":"IF(AND($B18=\"AZIONE_2\",C18=1),'3 - SPECIE DA IMPIANTARE'!$I19,\"\")","v":""},null,{"$f":"IF('3 - SPECIE DA IMPIANTARE'!$G19=2,'3 - SPECIE DA IMPIANTARE'!$G19,\"\")","v":""},{"$f":"IF(AND($B18=\"AZIONE_2\",F18=2),'3 - SPECIE DA IMPIANTARE'!$I19,\"\")","v":""},null,{"$f":"IF('3 - SPECIE DA IMPIANTARE'!$G19=3,'3 - SPECIE DA IMPIANTARE'!$G19,\"\")","v":""},{"$f":"IF(AND($B18=\"AZIONE_2\",$I18=3),'3 - SPECIE DA IMPIANTARE'!$I19,\"\")","v":""},null,{"$f":"IF('3 - SPECIE DA IMPIANTARE'!$G19=4,'3 - SPECIE DA IMPIANTARE'!$G19,\"\")","v":""},{"$f":"IF(AND($B18=\"AZIONE_2\",$L18=4),'3 - SPECIE DA IMPIANTARE'!$I19,\"\")","v":""},null,{"$f":"IF('3 - SPECIE DA IMPIANTARE'!$G19=5,'3 - SPECIE DA IMPIANTARE'!$G19,\"\")","v":""},{"$f":"IF(AND($B18=\"AZIONE_2\",$O18=5),'3 - SPECIE DA IMPIANTARE'!$I19,\"\")","v":""},null,{"$f":"IF('3 - SPECIE DA IMPIANTARE'!$G19=6,'3 - SPECIE DA IMPIANTARE'!$G19,\"\")","v":""},{"$f":"IF(AND($B18=\"AZIONE_2\",$R18=6),'3 - SPECIE DA IMPIANTARE'!$I19,\"\")","v":""}]
[1,{"$f":"IF('3 - SPECIE DA IMPIANTARE'!$H20=\"AZIONE_2\",'3 - SPECIE DA IMPIANTARE'!$H20,\"\")","v":""},{"$f":"IF('3 - SPECIE DA IMPIANTARE'!$G20=1,'3 - SPECIE DA IMPIANTARE'!$G20,\"\")","v":""},{"$f":"IF(AND($B19=\"AZIONE_2\",C19=1),'3 - SPECIE DA IMPIANTARE'!$I20,\"\")","v":""},null,{"$f":"IF('3 - SPECIE DA IMPIANTARE'!$G20=2,'3 - SPECIE DA IMPIANTARE'!$G20,\"\")","v":""},{"$f":"IF(AND($B19=\"AZIONE_2\",F19=2),'3 - SPECIE DA IMPIANTARE'!$I20,\"\")","v":""},null,{"$f":"IF('3 - SPECIE DA IMPIANTARE'!$G20=3,'3 - SPECIE DA IMPIANTARE'!$G20,\"\")","v":""},{"$f":"IF(AND($B19=\"AZIONE_2\",$I19=3),'3 - SPECIE DA IMPIANTARE'!$I20,\"\")","v":""},null,{"$f":"IF('3 - SPECIE DA IMPIANTARE'!$G20=4,'3 - SPECIE DA IMPIANTARE'!$G20,\"\")","v":""},{"$f":"IF(AND($B19=\"AZIONE_2\",$L19=4),'3 - SPECIE DA IMPIANTARE'!$I20,\"\")","v":""},null,{"$f":"IF('3 - SPECIE DA IMPIANTARE'!$G20=5,'3 - SPECIE DA IMPIANTARE'!$G20,\"\")","v":""},{"$f":"IF(AND($B19=\"AZIONE_2\",$O19=5),'3 - SPECIE DA IMPIANTARE'!$I20,\"\")","v":""},null,{"$f":"IF('3 - SPECIE DA IMPIANTARE'!$G20=6,'3 - SPECIE DA IMPIANTARE'!$G20,\"\")","v":""},{"$f":"IF(AND($B19=\"AZIONE_2\",$R19=6),'3 - SPECIE DA IMPIANTARE'!$I20,\"\")","v":""}]
[1,{"$f":"IF('3 - SPECIE DA IMPIANTARE'!$H21=\"AZIONE_2\",'3 - SPECIE DA IMPIANTARE'!$H21,\"\")","v":""},{"$f":"IF('3 - SPECIE DA IMPIANTARE'!$G21=1,'3 - SPECIE DA IMPIANTARE'!$G21,\"\")","v":""},{"$f":"IF(AND($B20=\"AZIONE_2\",C20=1),'3 - SPECIE DA IMPIANTARE'!$I21,\"\")","v":""},null,{"$f":"IF('3 - SPECIE DA IMPIANTARE'!$G21=2,'3 - SPECIE DA IMPIANTARE'!$G21,\"\")","v":""},{"$f":"IF(AND($B20=\"AZIONE_2\",F20=2),'3 - SPECIE DA IMPIANTARE'!$I21,\"\")","v":""},null,{"$f":"IF('3 - SPECIE DA IMPIANTARE'!$G21=3,'3 - SPECIE DA IMPIANTARE'!$G21,\"\")","v":""},{"$f":"IF(AND($B20=\"AZIONE_2\",$I20=3),'3 - SPECIE DA IMPIANTARE'!$I21,\"\")","v":""},null,{"$f":"IF('3 - SPECIE DA IMPIANTARE'!$G21=4,'3 - SPECIE DA IMPIANTARE'!$G21,\"\")","v":""},{"$f":"IF(AND($B20=\"AZIONE_2\",$L20=4),'3 - SPECIE DA IMPIANTARE'!$I21,\"\")","v":""},null,{"$f":"IF('3 - SPECIE DA IMPIANTARE'!$G21=5,'3 - SPECIE DA IMPIANTARE'!$G21,\"\")","v":""},{"$f":"IF(AND($B20=\"AZIONE_2\",$O20=5),'3 - SPECIE DA IMPIANTARE'!$I21,\"\")","v":""},null,{"$f":"IF('3 - SPECIE DA IMPIANTARE'!$G21=6,'3 - SPECIE DA IMPIANTARE'!$G21,\"\")","v":""},{"$f":"IF(AND($B20=\"AZIONE_2\",$R20=6),'3 - SPECIE DA IMPIANTARE'!$I21,\"\")","v":""}]
[1,{"$f":"IF('3 - SPECIE DA IMPIANTARE'!$H22=\"AZIONE_2\",'3 - SPECIE DA IMPIANTARE'!$H22,\"\")","v":""},{"$f":"IF('3 - SPECIE DA IMPIANTARE'!$G22=1,'3 - SPECIE DA IMPIANTARE'!$G22,\"\")","v":""},{"$f":"IF(AND($B21=\"AZIONE_2\",C21=1),'3 - SPECIE DA IMPIANTARE'!$I22,\"\")","v":""},null,{"$f":"IF('3 - SPECIE DA IMPIANTARE'!$G22=2,'3 - SPECIE DA IMPIANTARE'!$G22,\"\")","v":""},{"$f":"IF(AND($B21=\"AZIONE_2\",F21=2),'3 - SPECIE DA IMPIANTARE'!$I22,\"\")","v":""},null,{"$f":"IF('3 - SPECIE DA IMPIANTARE'!$G22=3,'3 - SPECIE DA IMPIANTARE'!$G22,\"\")","v":""},{"$f":"IF(AND($B21=\"AZIONE_2\",$I21=3),'3 - SPECIE DA IMPIANTARE'!$I22,\"\")","v":""},null,{"$f":"IF('3 - SPECIE DA IMPIANTARE'!$G22=4,'3 - SPECIE DA IMPIANTARE'!$G22,\"\")","v":""},{"$f":"IF(AND($B21=\"AZIONE_2\",$L21=4),'3 - SPECIE DA IMPIANTARE'!$I22,\"\")","v":""},null,{"$f":"IF('3 - SPECIE DA IMPIANTARE'!$G22=5,'3 - SPECIE DA IMPIANTARE'!$G22,\"\")","v":""},{"$f":"IF(AND($B21=\"AZIONE_2\",$O21=5),'3 - SPECIE DA IMPIANTARE'!$I22,\"\")","v":""},null,{"$f":"IF('3 - SPECIE DA IMPIANTARE'!$G22=6,'3 - SPECIE DA IMPIANTARE'!$G22,\"\")","v":""},{"$f":"IF(AND($B21=\"AZIONE_2\",$R21=6),'3 - SPECIE DA IMPIANTARE'!$I22,\"\")","v":""}]
[1,{"$f":"IF('3 - SPECIE DA IMPIANTARE'!$H23=\"AZIONE_2\",'3 - SPECIE DA IMPIANTARE'!$H23,\"\")","v":""},{"$f":"IF('3 - SPECIE DA IMPIANTARE'!$G23=1,'3 - SPECIE DA IMPIANTARE'!$G23,\"\")","v":""},{"$f":"IF(AND($B22=\"AZIONE_2\",C22=1),'3 - SPECIE DA IMPIANTARE'!$I23,\"\")","v":""},null,{"$f":"IF('3 - SPECIE DA IMPIANTARE'!$G23=2,'3 - SPECIE DA IMPIANTARE'!$G23,\"\")","v":""},{"$f":"IF(AND($B22=\"AZIONE_2\",F22=2),'3 - SPECIE DA IMPIANTARE'!$I23,\"\")","v":""},null,{"$f":"IF('3 - SPECIE DA IMPIANTARE'!$G23=3,'3 - SPECIE DA IMPIANTARE'!$G23,\"\")","v":""},{"$f":"IF(AND($B22=\"AZIONE_2\",$I22=3),'3 - SPECIE DA IMPIANTARE'!$I23,\"\")","v":""},null,{"$f":"IF('3 - SPECIE DA IMPIANTARE'!$G23=4,'3 - SPECIE DA IMPIANTARE'!$G23,\"\")","v":""},{"$f":"IF(AND($B22=\"AZIONE_2\",$L22=4),'3 - SPECIE DA IMPIANTARE'!$I23,\"\")","v":""},null,{"$f":"IF('3 - SPECIE DA IMPIANTARE'!$G23=5,'3 - SPECIE DA IMPIANTARE'!$G23,\"\")","v":""},{"$f":"IF(AND($B22=\"AZIONE_2\",$O22=5),'3 - SPECIE DA IMPIANTARE'!$I23,\"\")","v":""},null,{"$f":"IF('3 - SPECIE DA IMPIANTARE'!$G23=6,'3 - SPECIE DA IMPIANTARE'!$G23,\"\")","v":""},{"$f":"IF(AND($B22=\"AZIONE_2\",$R22=6),'3 - SPECIE DA IMPIANTARE'!$I23,\"\")","v":""}]
[1,{"$f":"IF('3 - SPECIE DA IMPIANTARE'!$H24=\"AZIONE_2\",'3 - SPECIE DA IMPIANTARE'!$H24,\"\")","v":""},{"$f":"IF('3 - SPECIE DA IMPIANTARE'!$G24=1,'3 - SPECIE DA IMPIANTARE'!$G24,\"\")","v":""},{"$f":"IF(AND($B23=\"AZIONE_2\",C23=1),'3 - SPECIE DA IMPIANTARE'!$I24,\"\")","v":""},null,{"$f":"IF('3 - SPECIE DA IMPIANTARE'!$G24=2,'3 - SPECIE DA IMPIANTARE'!$G24,\"\")","v":""},{"$f":"IF(AND($B23=\"AZIONE_2\",F23=2),'3 - SPECIE DA IMPIANTARE'!$I24,\"\")","v":""},null,{"$f":"IF('3 - SPECIE DA IMPIANTARE'!$G24=3,'3 - SPECIE DA IMPIANTARE'!$G24,\"\")","v":""},{"$f":"IF(AND($B23=\"AZIONE_2\",$I23=3),'3 - SPECIE DA IMPIANTARE'!$I24,\"\")","v":""},null,{"$f":"IF('3 - SPECIE DA IMPIANTARE'!$G24=4,'3 - SPECIE DA IMPIANTARE'!$G24,\"\")","v":""},{"$f":"IF(AND($B23=\"AZIONE_2\",$L23=4),'3 - SPECIE DA IMPIANTARE'!$I24,\"\")","v":""},null,{"$f":"IF('3 - SPECIE DA IMPIANTARE'!$G24=5,'3 - SPECIE DA IMPIANTARE'!$G24,\"\")","v":""},{"$f":"IF(AND($B23=\"AZIONE_2\",$O23=5),'3 - SPECIE DA IMPIANTARE'!$I24,\"\")","v":""},null,{"$f":"IF('3 - SPECIE DA IMPIANTARE'!$G24=6,'3 - SPECIE DA IMPIANTARE'!$G24,\"\")","v":""},{"$f":"IF(AND($B23=\"AZIONE_2\",$R23=6),'3 - SPECIE DA IMPIANTARE'!$I24,\"\")","v":""}]
[1,{"$f":"IF('3 - SPECIE DA IMPIANTARE'!$H25=\"AZIONE_2\",'3 - SPECIE DA IMPIANTARE'!$H25,\"\")","v":""},{"$f":"IF('3 - SPECIE DA IMPIANTARE'!$G25=1,'3 - SPECIE DA IMPIANTARE'!$G25,\"\")","v":""},{"$f":"IF(AND($B24=\"AZIONE_2\",C24=1),'3 - SPECIE DA IMPIANTARE'!$I25,\"\")","v":""},null,{"$f":"IF('3 - SPECIE DA IMPIANTARE'!$G25=2,'3 - SPECIE DA IMPIANTARE'!$G25,\"\")","v":""},{"$f":"IF(AND($B24=\"AZIONE_2\",F24=2),'3 - SPECIE DA IMPIANTARE'!$I25,\"\")","v":""},null,{"$f":"IF('3 - SPECIE DA IMPIANTARE'!$G25=3,'3 - SPECIE DA IMPIANTARE'!$G25,\"\")","v":""},{"$f":"IF(AND($B24=\"AZIONE_2\",$I24=3),'3 - SPECIE DA IMPIANTARE'!$I25,\"\")","v":""},null,{"$f":"IF('3 - SPECIE DA IMPIANTARE'!$G25=4,'3 - SPECIE DA IMPIANTARE'!$G25,\"\")","v":""},{"$f":"IF(AND($B24=\"AZIONE_2\",$L24=4),'3 - SPECIE DA IMPIANTARE'!$I25,\"\")","v":""},null,{"$f":"IF('3 - SPECIE DA IMPIANTARE'!$G25=5,'3 - SPECIE DA IMPIANTARE'!$G25,\"\")","v":""},{"$f":"IF(AND($B24=\"AZIONE_2\",$O24=5),'3 - SPECIE DA IMPIANTARE'!$I25,\"\")","v":""},null,{"$f":"IF('3 - SPECIE DA IMPIANTARE'!$G25=6,'3 - SPECIE DA IMPIANTARE'!$G25,\"\")","v":""},{"$f":"IF(AND($B24=\"AZIONE_2\",$R24=6),'3 - SPECIE DA IMPIANTARE'!$I25,\"\")","v":""}]
[1,{"$f":"IF('3 - SPECIE DA IMPIANTARE'!$H26=\"AZIONE_2\",'3 - SPECIE DA IMPIANTARE'!$H26,\"\")","v":""},{"$f":"IF('3 - SPECIE DA IMPIANTARE'!$G26=1,'3 - SPECIE DA IMPIANTARE'!$G26,\"\")","v":""},{"$f":"IF(AND($B25=\"AZIONE_2\",C25=1),'3 - SPECIE DA IMPIANTARE'!$I26,\"\")","v":""},null,{"$f":"IF('3 - SPECIE DA IMPIANTARE'!$G26=2,'3 - SPECIE DA IMPIANTARE'!$G26,\"\")","v":""},{"$f":"IF(AND($B25=\"AZIONE_2\",F25=2),'3 - SPECIE DA IMPIANTARE'!$I26,\"\")","v":""},null,{"$f":"IF('3 - SPECIE DA IMPIANTARE'!$G26=3,'3 - SPECIE DA IMPIANTARE'!$G26,\"\")","v":""},{"$f":"IF(AND($B25=\"AZIONE_2\",$I25=3),'3 - SPECIE DA IMPIANTARE'!$I26,\"\")","v":""},null,{"$f":"IF('3 - SPECIE DA IMPIANTARE'!$G26=4,'3 - SPECIE DA IMPIANTARE'!$G26,\"\")","v":""},{"$f":"IF(AND($B25=\"AZIONE_2\",$L25=4),'3 - SPECIE DA IMPIANTARE'!$I26,\"\")","v":""},null,{"$f":"IF('3 - SPECIE DA IMPIANTARE'!$G26=5,'3 - SPECIE DA IMPIANTARE'!$G26,\"\")","v":""},{"$f":"IF(AND($B25=\"AZIONE_2\",$O25=5),'3 - SPECIE DA IMPIANTARE'!$I26,\"\")","v":""},null,{"$f":"IF('3 - SPECIE DA IMPIANTARE'!$G26=6,'3 - SPECIE DA IMPIANTARE'!$G26,\"\")","v":""},{"$f":"IF(AND($B25=\"AZIONE_2\",$R25=6),'3 - SPECIE DA IMPIANTARE'!$I26,\"\")","v":""}]
[1,{"$f":"IF('3 - SPECIE DA IMPIANTARE'!$H27=\"AZIONE_2\",'3 - SPECIE DA IMPIANTARE'!$H27,\"\")","v":""},{"$f":"IF('3 - SPECIE DA IMPIANTARE'!$G27=1,'3 - SPECIE DA IMPIANTARE'!$G27,\"\")","v":""},{"$f":"IF(AND($B26=\"AZIONE_2\",C26=1),'3 - SPECIE DA IMPIANTARE'!$I27,\"\")","v":""},null,{"$f":"IF('3 - SPECIE DA IMPIANTARE'!$G27=2,'3 - SPECIE DA IMPIANTARE'!$G27,\"\")","v":""},{"$f":"IF(AND($B26=\"AZIONE_2\",F26=2),'3 - SPECIE DA IMPIANTARE'!$I27,\"\")","v":""},null,{"$f":"IF('3 - SPECIE DA IMPIANTARE'!$G27=3,'3 - SPECIE DA IMPIANTARE'!$G27,\"\")","v":""},{"$f":"IF(AND($B26=\"AZIONE_2\",$I26=3),'3 - SPECIE DA IMPIANTARE'!$I27,\"\")","v":""},null,{"$f":"IF('3 - SPECIE DA IMPIANTARE'!$G27=4,'3 - SPECIE DA IMPIANTARE'!$G27,\"\")","v":""},{"$f":"IF(AND($B26=\"AZIONE_2\",$L26=4),'3 - SPECIE DA IMPIANTARE'!$I27,\"\")","v":""},null,{"$f":"IF('3 - SPECIE DA IMPIANTARE'!$G27=5,'3 - SPECIE DA IMPIANTARE'!$G27,\"\")","v":""},{"$f":"IF(AND($B26=\"AZIONE_2\",$O26=5),'3 - SPECIE DA IMPIANTARE'!$I27,\"\")","v":""},null,{"$f":"IF('3 - SPECIE DA IMPIANTARE'!$G27=6,'3 - SPECIE DA IMPIANTARE'!$G27,\"\")","v":""},{"$f":"IF(AND($B26=\"AZIONE_2\",$R26=6),'3 - SPECIE DA IMPIANTARE'!$I27,\"\")","v":""}]
[1,{"$f":"IF('3 - SPECIE DA IMPIANTARE'!$H28=\"AZIONE_2\",'3 - SPECIE DA IMPIANTARE'!$H28,\"\")","v":""},{"$f":"IF('3 - SPECIE DA IMPIANTARE'!$G28=1,'3 - SPECIE DA IMPIANTARE'!$G28,\"\")","v":""},{"$f":"IF(AND($B27=\"AZIONE_2\",C27=1),'3 - SPECIE DA IMPIANTARE'!$I28,\"\")","v":""},null,{"$f":"IF('3 - SPECIE DA IMPIANTARE'!$G28=2,'3 - SPECIE DA IMPIANTARE'!$G28,\"\")","v":""},{"$f":"IF(AND($B27=\"AZIONE_2\",F27=2),'3 - SPECIE DA IMPIANTARE'!$I28,\"\")","v":""},null,{"$f":"IF('3 - SPECIE DA IMPIANTARE'!$G28=3,'3 - SPECIE DA IMPIANTARE'!$G28,\"\")","v":""},{"$f":"IF(AND($B27=\"AZIONE_2\",$I27=3),'3 - SPECIE DA IMPIANTARE'!$I28,\"\")","v":""},null,{"$f":"IF('3 - SPECIE DA IMPIANTARE'!$G28=4,'3 - SPECIE DA IMPIANTARE'!$G28,\"\")","v":""},{"$f":"IF(AND($B27=\"AZIONE_2\",$L27=4),'3 - SPECIE DA IMPIANTARE'!$I28,\"\")","v":""},null,{"$f":"IF('3 - SPECIE DA IMPIANTARE'!$G28=5,'3 - SPECIE DA IMPIANTARE'!$G28,\"\")","v":""},{"$f":"IF(AND($B27=\"AZIONE_2\",$O27=5),'3 - SPECIE DA IMPIANTARE'!$I28,\"\")","v":""},null,{"$f":"IF('3 - SPECIE DA IMPIANTARE'!$G28=6,'3 - SPECIE DA IMPIANTARE'!$G28,\"\")","v":""},{"$f":"IF(AND($B27=\"AZIONE_2\",$R27=6),'3 - SPECIE DA IMPIANTARE'!$I28,\"\")","v":""}]
[1,{"$f":"IF('3 - SPECIE DA IMPIANTARE'!$H29=\"AZIONE_2\",'3 - SPECIE DA IMPIANTARE'!$H29,\"\")","v":""},{"$f":"IF('3 - SPECIE DA IMPIANTARE'!$G29=1,'3 - SPECIE DA IMPIANTARE'!$G29,\"\")","v":""},{"$f":"IF(AND($B28=\"AZIONE_2\",C28=1),'3 - SPECIE DA IMPIANTARE'!$I29,\"\")","v":""},null,{"$f":"IF('3 - SPECIE DA IMPIANTARE'!$G29=2,'3 - SPECIE DA IMPIANTARE'!$G29,\"\")","v":""},{"$f":"IF(AND($B28=\"AZIONE_2\",F28=2),'3 - SPECIE DA IMPIANTARE'!$I29,\"\")","v":""},null,{"$f":"IF('3 - SPECIE DA IMPIANTARE'!$G29=3,'3 - SPECIE DA IMPIANTARE'!$G29,\"\")","v":""},{"$f":"IF(AND($B28=\"AZIONE_2\",$I28=3),'3 - SPECIE DA IMPIANTARE'!$I29,\"\")","v":""},null,{"$f":"IF('3 - SPECIE DA IMPIANTARE'!$G29=4,'3 - SPECIE DA IMPIANTARE'!$G29,\"\")","v":""},{"$f":"IF(AND($B28=\"AZIONE_2\",$L28=4),'3 - SPECIE DA IMPIANTARE'!$I29,\"\")","v":""},null,{"$f":"IF('3 - SPECIE DA IMPIANTARE'!$G29=5,'3 - SPECIE DA IMPIANTARE'!$G29,\"\")","v":""},{"$f":"IF(AND($B28=\"AZIONE_2\",$O28=5),'3 - SPECIE DA IMPIANTARE'!$I29,\"\")","v":""},null,{"$f":"IF('3 - SPECIE DA IMPIANTARE'!$G29=6,'3 - SPECIE DA IMPIANTARE'!$G29,\"\")","v":""},{"$f":"IF(AND($B28=\"AZIONE_2\",$R28=6),'3 - SPECIE DA IMPIANTARE'!$I29,\"\")","v":""}]
[1,{"$f":"IF('3 - SPECIE DA IMPIANTARE'!$H30=\"AZIONE_2\",'3 - SPECIE DA IMPIANTARE'!$H30,\"\")","v":""},{"$f":"IF('3 - SPECIE DA IMPIANTARE'!$G30=1,'3 - SPECIE DA IMPIANTARE'!$G30,\"\")","v":""},{"$f":"IF(AND($B29=\"AZIONE_2\",C29=1),'3 - SPECIE DA IMPIANTARE'!$I30,\"\")","v":""},null,{"$f":"IF('3 - SPECIE DA IMPIANTARE'!$G30=2,'3 - SPECIE DA IMPIANTARE'!$G30,\"\")","v":""},{"$f":"IF(AND($B29=\"AZIONE_2\",F29=2),'3 - SPECIE DA IMPIANTARE'!$I30,\"\")","v":""},null,{"$f":"IF('3 - SPECIE DA IMPIANTARE'!$G30=3,'3 - SPECIE DA IMPIANTARE'!$G30,\"\")","v":""},{"$f":"IF(AND($B29=\"AZIONE_2\",$I29=3),'3 - SPECIE DA IMPIANTARE'!$I30,\"\")","v":""},null,{"$f":"IF('3 - SPECIE DA IMPIANTARE'!$G30=4,'3 - SPECIE DA IMPIANTARE'!$G30,\"\")","v":""},{"$f":"IF(AND($B29=\"AZIONE_2\",$L29=4),'3 - SPECIE DA IMPIANTARE'!$I30,\"\")","v":""},null,{"$f":"IF('3 - SPECIE DA IMPIANTARE'!$G30=5,'3 - SPECIE DA IMPIANTARE'!$G30,\"\")","v":""},{"$f":"IF(AND($B29=\"AZIONE_2\",$O29=5),'3 - SPECIE DA IMPIANTARE'!$I30,\"\")","v":""},null,{"$f":"IF('3 - SPECIE DA IMPIANTARE'!$G30=6,'3 - SPECIE DA IMPIANTARE'!$G30,\"\")","v":""},{"$f":"IF(AND($B29=\"AZIONE_2\",$R29=6),'3 - SPECIE DA IMPIANTARE'!$I30,\"\")","v":""}]
[1,{"$f":"IF('3 - SPECIE DA IMPIANTARE'!$H31=\"AZIONE_2\",'3 - SPECIE DA IMPIANTARE'!$H31,\"\")","v":""},{"$f":"IF('3 - SPECIE DA IMPIANTARE'!$G31=1,'3 - SPECIE DA IMPIANTARE'!$G31,\"\")","v":""},{"$f":"IF(AND($B30=\"AZIONE_2\",C30=1),'3 - SPECIE DA IMPIANTARE'!$I31,\"\")","v":""},null,{"$f":"IF('3 - SPECIE DA IMPIANTARE'!$G31=2,'3 - SPECIE DA IMPIANTARE'!$G31,\"\")","v":""},{"$f":"IF(AND($B30=\"AZIONE_2\",F30=2),'3 - SPECIE DA IMPIANTARE'!$I31,\"\")","v":""},null,{"$f":"IF('3 - SPECIE DA IMPIANTARE'!$G31=3,'3 - SPECIE DA IMPIANTARE'!$G31,\"\")","v":""},{"$f":"IF(AND($B30=\"AZIONE_2\",$I30=3),'3 - SPECIE DA IMPIANTARE'!$I31,\"\")","v":""},null,{"$f":"IF('3 - SPECIE DA IMPIANTARE'!$G31=4,'3 - SPECIE DA IMPIANTARE'!$G31,\"\")","v":""},{"$f":"IF(AND($B30=\"AZIONE_2\",$L30=4),'3 - SPECIE DA IMPIANTARE'!$I31,\"\")","v":""},null,{"$f":"IF('3 - SPECIE DA IMPIANTARE'!$G31=5,'3 - SPECIE DA IMPIANTARE'!$G31,\"\")","v":""},{"$f":"IF(AND($B30=\"AZIONE_2\",$O30=5),'3 - SPECIE DA IMPIANTARE'!$I31,\"\")","v":""},null,{"$f":"IF('3 - SPECIE DA IMPIANTARE'!$G31=6,'3 - SPECIE DA IMPIANTARE'!$G31,\"\")","v":""},{"$f":"IF(AND($B30=\"AZIONE_2\",$R30=6),'3 - SPECIE DA IMPIANTARE'!$I31,\"\")","v":""}]
[1,{"$f":"IF('3 - SPECIE DA IMPIANTARE'!$H32=\"AZIONE_2\",'3 - SPECIE DA IMPIANTARE'!$H32,\"\")","v":""},{"$f":"IF('3 - SPECIE DA IMPIANTARE'!$G32=1,'3 - SPECIE DA IMPIANTARE'!$G32,\"\")","v":""},{"$f":"IF(AND($B31=\"AZIONE_2\",C31=1),'3 - SPECIE DA IMPIANTARE'!$I32,\"\")","v":""},null,{"$f":"IF('3 - SPECIE DA IMPIANTARE'!$G32=2,'3 - SPECIE DA IMPIANTARE'!$G32,\"\")","v":""},{"$f":"IF(AND($B31=\"AZIONE_2\",F31=2),'3 - SPECIE DA IMPIANTARE'!$I32,\"\")","v":""},null,{"$f":"IF('3 - SPECIE DA IMPIANTARE'!$G32=3,'3 - SPECIE DA IMPIANTARE'!$G32,\"\")","v":""},{"$f":"IF(AND($B31=\"AZIONE_2\",$I31=3),'3 - SPECIE DA IMPIANTARE'!$I32,\"\")","v":""},null,{"$f":"IF('3 - SPECIE DA IMPIANTARE'!$G32=4,'3 - SPECIE DA IMPIANTARE'!$G32,\"\")","v":""},{"$f":"IF(AND($B31=\"AZIONE_2\",$L31=4),'3 - SPECIE DA IMPIANTARE'!$I32,\"\")","v":""},null,{"$f":"IF('3 - SPECIE DA IMPIANTARE'!$G32=5,'3 - SPECIE DA IMPIANTARE'!$G32,\"\")","v":""},{"$f":"IF(AND($B31=\"AZIONE_2\",$O31=5),'3 - SPECIE DA IMPIANTARE'!$I32,\"\")","v":""},null,{"$f":"IF('3 - SPECIE DA IMPIANTARE'!$G32=6,'3 - SPECIE DA IMPIANTARE'!$G32,\"\")","v":""},{"$f":"IF(AND($B31=\"AZIONE_2\",$R31=6),'3 - SPECIE DA IMPIANTARE'!$I32,\"\")","v":""}]
[1,{"$f":"IF('3 - SPECIE DA IMPIANTARE'!$H33=\"AZIONE_2\",'3 - SPECIE DA IMPIANTARE'!$H33,\"\")","v":""},{"$f":"IF('3 - SPECIE DA IMPIANTARE'!$G33=1,'3 - SPECIE DA IMPIANTARE'!$G33,\"\")","v":""},{"$f":"IF(AND($B32=\"AZIONE_2\",C32=1),'3 - SPECIE DA IMPIANTARE'!$I33,\"\")","v":""},null,{"$f":"IF('3 - SPECIE DA IMPIANTARE'!$G33=2,'3 - SPECIE DA IMPIANTARE'!$G33,\"\")","v":""},{"$f":"IF(AND($B32=\"AZIONE_2\",F32=2),'3 - SPECIE DA IMPIANTARE'!$I33,\"\")","v":""},null,{"$f":"IF('3 - SPECIE DA IMPIANTARE'!$G33=3,'3 - SPECIE DA IMPIANTARE'!$G33,\"\")","v":""},{"$f":"IF(AND($B32=\"AZIONE_2\",$I32=3),'3 - SPECIE DA IMPIANTARE'!$I33,\"\")","v":""},null,{"$f":"IF('3 - SPECIE DA IMPIANTARE'!$G33=4,'3 - SPECIE DA IMPIANTARE'!$G33,\"\")","v":""},{"$f":"IF(AND($B32=\"AZIONE_2\",$L32=4),'3 - SPECIE DA IMPIANTARE'!$I33,\"\")","v":""},null,{"$f":"IF('3 - SPECIE DA IMPIANTARE'!$G33=5,'3 - SPECIE DA IMPIANTARE'!$G33,\"\")","v":""},{"$f":"IF(AND($B32=\"AZIONE_2\",$O32=5),'3 - SPECIE DA IMPIANTARE'!$I33,\"\")","v":""},null,{"$f":"IF('3 - SPECIE DA IMPIANTARE'!$G33=6,'3 - SPECIE DA IMPIANTARE'!$G33,\"\")","v":""},{"$f":"IF(AND($B32=\"AZIONE_2\",$R32=6),'3 - SPECIE DA IMPIANTARE'!$I33,\"\")","v":""}]
[1,{"$f":"IF('3 - SPECIE DA IMPIANTARE'!$H34=\"AZIONE_2\",'3 - SPECIE DA IMPIANTARE'!$H34,\"\")","v":""},{"$f":"IF('3 - SPECIE DA IMPIANTARE'!$G34=1,'3 - SPECIE DA IMPIANTARE'!$G34,\"\")","v":""},{"$f":"IF(AND($B33=\"AZIONE_2\",C33=1),'3 - SPECIE DA IMPIANTARE'!$I34,\"\")","v":""},null,{"$f":"IF('3 - SPECIE DA IMPIANTARE'!$G34=2,'3 - SPECIE DA IMPIANTARE'!$G34,\"\")","v":""},{"$f":"IF(AND($B33=\"AZIONE_2\",F33=2),'3 - SPECIE DA IMPIANTARE'!$I34,\"\")","v":""},null,{"$f":"IF('3 - SPECIE DA IMPIANTARE'!$G34=3,'3 - SPECIE DA IMPIANTARE'!$G34,\"\")","v":""},{"$f":"IF(AND($B33=\"AZIONE_2\",$I33=3),'3 - SPECIE DA IMPIANTARE'!$I34,\"\")","v":""},null,{"$f":"IF('3 - SPECIE DA IMPIANTARE'!$G34=4,'3 - SPECIE DA IMPIANTARE'!$G34,\"\")","v":""},{"$f":"IF(AND($B33=\"AZIONE_2\",$L33=4),'3 - SPECIE DA IMPIANTARE'!$I34,\"\")","v":""},null,{"$f":"IF('3 - SPECIE DA IMPIANTARE'!$G34=5,'3 - SPECIE DA IMPIANTARE'!$G34,\"\")","v":""},{"$f":"IF(AND($B33=\"AZIONE_2\",$O33=5),'3 - SPECIE DA IMPIANTARE'!$I34,\"\")","v":""},null,{"$f":"IF('3 - SPECIE DA IMPIANTARE'!$G34=6,'3 - SPECIE DA IMPIANTARE'!$G34,\"\")","v":""},{"$f":"IF(AND($B33=\"AZIONE_2\",$R33=6),'3 - SPECIE DA IMPIANTARE'!$I34,\"\")","v":""}]
[1,{"$f":"IF('3 - SPECIE DA IMPIANTARE'!$H35=\"AZIONE_2\",'3 - SPECIE DA IMPIANTARE'!$H35,\"\")","v":""},{"$f":"IF('3 - SPECIE DA IMPIANTARE'!$G35=1,'3 - SPECIE DA IMPIANTARE'!$G35,\"\")","v":""},{"$f":"IF(AND($B34=\"AZIONE_2\",C34=1),'3 - SPECIE DA IMPIANTARE'!$I35,\"\")","v":""},null,{"$f":"IF('3 - SPECIE DA IMPIANTARE'!$G35=2,'3 - SPECIE DA IMPIANTARE'!$G35,\"\")","v":""},{"$f":"IF(AND($B34=\"AZIONE_2\",F34=2),'3 - SPECIE DA IMPIANTARE'!$I35,\"\")","v":""},null,{"$f":"IF('3 - SPECIE DA IMPIANTARE'!$G35=3,'3 - SPECIE DA IMPIANTARE'!$G35,\"\")","v":""},{"$f":"IF(AND($B34=\"AZIONE_2\",$I34=3),'3 - SPECIE DA IMPIANTARE'!$I35,\"\")","v":""},null,{"$f":"IF('3 - SPECIE DA IMPIANTARE'!$G35=4,'3 - SPECIE DA IMPIANTARE'!$G35,\"\")","v":""},{"$f":"IF(AND($B34=\"AZIONE_2\",$L34=4),'3 - SPECIE DA IMPIANTARE'!$I35,\"\")","v":""},null,{"$f":"IF('3 - SPECIE DA IMPIANTARE'!$G35=5,'3 - SPECIE DA IMPIANTARE'!$G35,\"\")","v":""},{"$f":"IF(AND($B34=\"AZIONE_2\",$O34=5),'3 - SPECIE DA IMPIANTARE'!$I35,\"\")","v":""},null,{"$f":"IF('3 - SPECIE DA IMPIANTARE'!$G35=6,'3 - SPECIE DA IMPIANTARE'!$G35,\"\")","v":""},{"$f":"IF(AND($B34=\"AZIONE_2\",$R34=6),'3 - SPECIE DA IMPIANTARE'!$I35,\"\")","v":""}]
[1,{"$f":"IF('3 - SPECIE DA IMPIANTARE'!$H36=\"AZIONE_2\",'3 - SPECIE DA IMPIANTARE'!$H36,\"\")","v":""},{"$f":"IF('3 - SPECIE DA IMPIANTARE'!$G36=1,'3 - SPECIE DA IMPIANTARE'!$G36,\"\")","v":""},{"$f":"IF(AND($B35=\"AZIONE_2\",C35=1),'3 - SPECIE DA IMPIANTARE'!$I36,\"\")","v":""},null,{"$f":"IF('3 - SPECIE DA IMPIANTARE'!$G36=2,'3 - SPECIE DA IMPIANTARE'!$G36,\"\")","v":""},{"$f":"IF(AND($B35=\"AZIONE_2\",F35=2),'3 - SPECIE DA IMPIANTARE'!$I36,\"\")","v":""},null,{"$f":"IF('3 - SPECIE DA IMPIANTARE'!$G36=3,'3 - SPECIE DA IMPIANTARE'!$G36,\"\")","v":""},{"$f":"IF(AND($B35=\"AZIONE_2\",$I35=3),'3 - SPECIE DA IMPIANTARE'!$I36,\"\")","v":""},null,{"$f":"IF('3 - SPECIE DA IMPIANTARE'!$G36=4,'3 - SPECIE DA IMPIANTARE'!$G36,\"\")","v":""},{"$f":"IF(AND($B35=\"AZIONE_2\",$L35=4),'3 - SPECIE DA IMPIANTARE'!$I36,\"\")","v":""},null,{"$f":"IF('3 - SPECIE DA IMPIANTARE'!$G36=5,'3 - SPECIE DA IMPIANTARE'!$G36,\"\")","v":""},{"$f":"IF(AND($B35=\"AZIONE_2\",$O35=5),'3 - SPECIE DA IMPIANTARE'!$I36,\"\")","v":""},null,{"$f":"IF('3 - SPECIE DA IMPIANTARE'!$G36=6,'3 - SPECIE DA IMPIANTARE'!$G36,\"\")","v":""},{"$f":"IF(AND($B35=\"AZIONE_2\",$R35=6),'3 - SPECIE DA IMPIANTARE'!$I36,\"\")","v":""}]
[1,{"$f":"IF('3 - SPECIE DA IMPIANTARE'!$H37=\"AZIONE_2\",'3 - SPECIE DA IMPIANTARE'!$H37,\"\")","v":""},{"$f":"IF('3 - SPECIE DA IMPIANTARE'!$G37=1,'3 - SPECIE DA IMPIANTARE'!$G37,\"\")","v":""},{"$f":"IF(AND($B36=\"AZIONE_2\",C36=1),'3 - SPECIE DA IMPIANTARE'!$I37,\"\")","v":""},null,{"$f":"IF('3 - SPECIE DA IMPIANTARE'!$G37=2,'3 - SPECIE DA IMPIANTARE'!$G37,\"\")","v":""},{"$f":"IF(AND($B36=\"AZIONE_2\",F36=2),'3 - SPECIE DA IMPIANTARE'!$I37,\"\")","v":""},null,{"$f":"IF('3 - SPECIE DA IMPIANTARE'!$G37=3,'3 - SPECIE DA IMPIANTARE'!$G37,\"\")","v":""},{"$f":"IF(AND($B36=\"AZIONE_2\",$I36=3),'3 - SPECIE DA IMPIANTARE'!$I37,\"\")","v":""},null,{"$f":"IF('3 - SPECIE DA IMPIANTARE'!$G37=4,'3 - SPECIE DA IMPIANTARE'!$G37,\"\")","v":""},{"$f":"IF(AND($B36=\"AZIONE_2\",$L36=4),'3 - SPECIE DA IMPIANTARE'!$I37,\"\")","v":""},null,{"$f":"IF('3 - SPECIE DA IMPIANTARE'!$G37=5,'3 - SPECIE DA IMPIANTARE'!$G37,\"\")","v":""},{"$f":"IF(AND($B36=\"AZIONE_2\",$O36=5),'3 - SPECIE DA IMPIANTARE'!$I37,\"\")","v":""},null,{"$f":"IF('3 - SPECIE DA IMPIANTARE'!$G37=6,'3 - SPECIE DA IMPIANTARE'!$G37,\"\")","v":""},{"$f":"IF(AND($B36=\"AZIONE_2\",$R36=6),'3 - SPECIE DA IMPIANTARE'!$I37,\"\")","v":""}]
[1,{"$f":"IF('3 - SPECIE DA IMPIANTARE'!$H38=\"AZIONE_2\",'3 - SPECIE DA IMPIANTARE'!$H38,\"\")","v":""},{"$f":"IF('3 - SPECIE DA IMPIANTARE'!$G38=1,'3 - SPECIE DA IMPIANTARE'!$G38,\"\")","v":""},{"$f":"IF(AND($B37=\"AZIONE_2\",C37=1),'3 - SPECIE DA IMPIANTARE'!$I38,\"\")","v":""},null,{"$f":"IF('3 - SPECIE DA IMPIANTARE'!$G38=2,'3 - SPECIE DA IMPIANTARE'!$G38,\"\")","v":""},{"$f":"IF(AND($B37=\"AZIONE_2\",F37=2),'3 - SPECIE DA IMPIANTARE'!$I38,\"\")","v":""},null,{"$f":"IF('3 - SPECIE DA IMPIANTARE'!$G38=3,'3 - SPECIE DA IMPIANTARE'!$G38,\"\")","v":""},{"$f":"IF(AND($B37=\"AZIONE_2\",$I37=3),'3 - SPECIE DA IMPIANTARE'!$I38,\"\")","v":""},null,{"$f":"IF('3 - SPECIE DA IMPIANTARE'!$G38=4,'3 - SPECIE DA IMPIANTARE'!$G38,\"\")","v":""},{"$f":"IF(AND($B37=\"AZIONE_2\",$L37=4),'3 - SPECIE DA IMPIANTARE'!$I38,\"\")","v":""},null,{"$f":"IF('3 - SPECIE DA IMPIANTARE'!$G38=5,'3 - SPECIE DA IMPIANTARE'!$G38,\"\")","v":""},{"$f":"IF(AND($B37=\"AZIONE_2\",$O37=5),'3 - SPECIE DA IMPIANTARE'!$I38,\"\")","v":""},null,{"$f":"IF('3 - SPECIE DA IMPIANTARE'!$G38=6,'3 - SPECIE DA IMPIANTARE'!$G38,\"\")","v":""},{"$f":"IF(AND($B37=\"AZIONE_2\",$R37=6),'3 - SPECIE DA IMPIANTARE'!$I38,\"\")","v":""}]
[1,{"$f":"IF('3 - SPECIE DA IMPIANTARE'!$H39=\"AZIONE_2\",'3 - SPECIE DA IMPIANTARE'!$H39,\"\")","v":""},{"$f":"IF('3 - SPECIE DA IMPIANTARE'!$G39=1,'3 - SPECIE DA IMPIANTARE'!$G39,\"\")","v":""},{"$f":"IF(AND($B38=\"AZIONE_2\",C38=1),'3 - SPECIE DA IMPIANTARE'!$I39,\"\")","v":""},null,{"$f":"IF('3 - SPECIE DA IMPIANTARE'!$G39=2,'3 - SPECIE DA IMPIANTARE'!$G39,\"\")","v":""},{"$f":"IF(AND($B38=\"AZIONE_2\",F38=2),'3 - SPECIE DA IMPIANTARE'!$I39,\"\")","v":""},null,{"$f":"IF('3 - SPECIE DA IMPIANTARE'!$G39=3,'3 - SPECIE DA IMPIANTARE'!$G39,\"\")","v":""},{"$f":"IF(AND($B38=\"AZIONE_2\",$I38=3),'3 - SPECIE DA IMPIANTARE'!$I39,\"\")","v":""},null,{"$f":"IF('3 - SPECIE DA IMPIANTARE'!$G39=4,'3 - SPECIE DA IMPIANTARE'!$G39,\"\")","v":""},{"$f":"IF(AND($B38=\"AZIONE_2\",$L38=4),'3 - SPECIE DA IMPIANTARE'!$I39,\"\")","v":""},null,{"$f":"IF('3 - SPECIE DA IMPIANTARE'!$G39=5,'3 - SPECIE DA IMPIANTARE'!$G39,\"\")","v":""},{"$f":"IF(AND($B38=\"AZIONE_2\",$O38=5),'3 - SPECIE DA IMPIANTARE'!$I39,\"\")","v":""},null,{"$f":"IF('3 - SPECIE DA IMPIANTARE'!$G39=6,'3 - SPECIE DA IMPIANTARE'!$G39,\"\")","v":""},{"$f":"IF(AND($B38=\"AZIONE_2\",$R38=6),'3 - SPECIE DA IMPIANTARE'!$I39,\"\")","v":""}]
[1,{"$f":"IF('3 - SPECIE DA IMPIANTARE'!$H40=\"AZIONE_2\",'3 - SPECIE DA IMPIANTARE'!$H40,\"\")","v":""},{"$f":"IF('3 - SPECIE DA IMPIANTARE'!$G40=1,'3 - SPECIE DA IMPIANTARE'!$G40,\"\")","v":""},{"$f":"IF(AND($B39=\"AZIONE_2\",C39=1),'3 - SPECIE DA IMPIANTARE'!$I40,\"\")","v":""},null,{"$f":"IF('3 - SPECIE DA IMPIANTARE'!$G40=2,'3 - SPECIE DA IMPIANTARE'!$G40,\"\")","v":""},{"$f":"IF(AND($B39=\"AZIONE_2\",F39=2),'3 - SPECIE DA IMPIANTARE'!$I40,\"\")","v":""},null,{"$f":"IF('3 - SPECIE DA IMPIANTARE'!$G40=3,'3 - SPECIE DA IMPIANTARE'!$G40,\"\")","v":""},{"$f":"IF(AND($B39=\"AZIONE_2\",$I39=3),'3 - SPECIE DA IMPIANTARE'!$I40,\"\")","v":""},null,{"$f":"IF('3 - SPECIE DA IMPIANTARE'!$G40=4,'3 - SPECIE DA IMPIANTARE'!$G40,\"\")","v":""},{"$f":"IF(AND($B39=\"AZIONE_2\",$L39=4),'3 - SPECIE DA IMPIANTARE'!$I40,\"\")","v":""},null,{"$f":"IF('3 - SPECIE DA IMPIANTARE'!$G40=5,'3 - SPECIE DA IMPIANTARE'!$G40,\"\")","v":""},{"$f":"IF(AND($B39=\"AZIONE_2\",$O39=5),'3 - SPECIE DA IMPIANTARE'!$I40,\"\")","v":""},null,{"$f":"IF('3 - SPECIE DA IMPIANTARE'!$G40=6,'3 - SPECIE DA IMPIANTARE'!$G40,\"\")","v":""},{"$f":"IF(AND($B39=\"AZIONE_2\",$R39=6),'3 - SPECIE DA IMPIANTARE'!$I40,\"\")","v":""}]
[1,{"$f":"IF('3 - SPECIE DA IMPIANTARE'!$H41=\"AZIONE_2\",'3 - SPECIE DA IMPIANTARE'!$H41,\"\")","v":""},{"$f":"IF('3 - SPECIE DA IMPIANTARE'!$G41=1,'3 - SPECIE DA IMPIANTARE'!$G41,\"\")","v":""},{"$f":"IF(AND($B40=\"AZIONE_2\",C40=1),'3 - SPECIE DA IMPIANTARE'!$I41,\"\")","v":""},null,{"$f":"IF('3 - SPECIE DA IMPIANTARE'!$G41=2,'3 - SPECIE DA IMPIANTARE'!$G41,\"\")","v":""},{"$f":"IF(AND($B40=\"AZIONE_2\",F40=2),'3 - SPECIE DA IMPIANTARE'!$I41,\"\")","v":""},null,{"$f":"IF('3 - SPECIE DA IMPIANTARE'!$G41=3,'3 - SPECIE DA IMPIANTARE'!$G41,\"\")","v":""},{"$f":"IF(AND($B40=\"AZIONE_2\",$I40=3),'3 - SPECIE DA IMPIANTARE'!$I41,\"\")","v":""},null,{"$f":"IF('3 - SPECIE DA IMPIANTARE'!$G41=4,'3 - SPECIE DA IMPIANTARE'!$G41,\"\")","v":""},{"$f":"IF(AND($B40=\"AZIONE_2\",$L40=4),'3 - SPECIE DA IMPIANTARE'!$I41,\"\")","v":""},null,{"$f":"IF('3 - SPECIE DA IMPIANTARE'!$G41=5,'3 - SPECIE DA IMPIANTARE'!$G41,\"\")","v":""},{"$f":"IF(AND($B40=\"AZIONE_2\",$O40=5),'3 - SPECIE DA IMPIANTARE'!$I41,\"\")","v":""},null,{"$f":"IF('3 - SPECIE DA IMPIANTARE'!$G41=6,'3 - SPECIE DA IMPIANTARE'!$G41,\"\")","v":""},{"$f":"IF(AND($B40=\"AZIONE_2\",$R40=6),'3 - SPECIE DA IMPIANTARE'!$I41,\"\")","v":""}]
[1,{"$f":"IF('3 - SPECIE DA IMPIANTARE'!$H42=\"AZIONE_2\",'3 - SPECIE DA IMPIANTARE'!$H42,\"\")","v":""},{"$f":"IF('3 - SPECIE DA IMPIANTARE'!$G42=1,'3 - SPECIE DA IMPIANTARE'!$G42,\"\")","v":""},{"$f":"IF(AND($B41=\"AZIONE_2\",C41=1),'3 - SPECIE DA IMPIANTARE'!$I42,\"\")","v":""},null,{"$f":"IF('3 - SPECIE DA IMPIANTARE'!$G42=2,'3 - SPECIE DA IMPIANTARE'!$G42,\"\")","v":""},{"$f":"IF(AND($B41=\"AZIONE_2\",F41=2),'3 - SPECIE DA IMPIANTARE'!$I42,\"\")","v":""},null,{"$f":"IF('3 - SPECIE DA IMPIANTARE'!$G42=3,'3 - SPECIE DA IMPIANTARE'!$G42,\"\")","v":""},{"$f":"IF(AND($B41=\"AZIONE_2\",$I41=3),'3 - SPECIE DA IMPIANTARE'!$I42,\"\")","v":""},null,{"$f":"IF('3 - SPECIE DA IMPIANTARE'!$G42=4,'3 - SPECIE DA IMPIANTARE'!$G42,\"\")","v":""},{"$f":"IF(AND($B41=\"AZIONE_2\",$L41=4),'3 - SPECIE DA IMPIANTARE'!$I42,\"\")","v":""},null,{"$f":"IF('3 - SPECIE DA IMPIANTARE'!$G42=5,'3 - SPECIE DA IMPIANTARE'!$G42,\"\")","v":""},{"$f":"IF(AND($B41=\"AZIONE_2\",$O41=5),'3 - SPECIE DA IMPIANTARE'!$I42,\"\")","v":""},null,{"$f":"IF('3 - SPECIE DA IMPIANTARE'!$G42=6,'3 - SPECIE DA IMPIANTARE'!$G42,\"\")","v":""},{"$f":"IF(AND($B41=\"AZIONE_2\",$R41=6),'3 - SPECIE DA IMPIANTARE'!$I42,\"\")","v":""}]
[1,{"$f":"IF('3 - SPECIE DA IMPIANTARE'!$H43=\"AZIONE_2\",'3 - SPECIE DA IMPIANTARE'!$H43,\"\")","v":""},{"$f":"IF('3 - SPECIE DA IMPIANTARE'!$G43=1,'3 - SPECIE DA IMPIANTARE'!$G43,\"\")","v":""},{"$f":"IF(AND($B42=\"AZIONE_2\",C42=1),'3 - SPECIE DA IMPIANTARE'!$I43,\"\")","v":""},null,{"$f":"IF('3 - SPECIE DA IMPIANTARE'!$G43=2,'3 - SPECIE DA IMPIANTARE'!$G43,\"\")","v":""},{"$f":"IF(AND($B42=\"AZIONE_2\",F42=2),'3 - SPECIE DA IMPIANTARE'!$I43,\"\")","v":""},null,{"$f":"IF('3 - SPECIE DA IMPIANTARE'!$G43=3,'3 - SPECIE DA IMPIANTARE'!$G43,\"\")","v":""},{"$f":"IF(AND($B42=\"AZIONE_2\",$I42=3),'3 - SPECIE DA IMPIANTARE'!$I43,\"\")","v":""},null,{"$f":"IF('3 - SPECIE DA IMPIANTARE'!$G43=4,'3 - SPECIE DA IMPIANTARE'!$G43,\"\")","v":""},{"$f":"IF(AND($B42=\"AZIONE_2\",$L42=4),'3 - SPECIE DA IMPIANTARE'!$I43,\"\")","v":""},null,{"$f":"IF('3 - SPECIE DA IMPIANTARE'!$G43=5,'3 - SPECIE DA IMPIANTARE'!$G43,\"\")","v":""},{"$f":"IF(AND($B42=\"AZIONE_2\",$O42=5),'3 - SPECIE DA IMPIANTARE'!$I43,\"\")","v":""},null,{"$f":"IF('3 - SPECIE DA IMPIANTARE'!$G43=6,'3 - SPECIE DA IMPIANTARE'!$G43,\"\")","v":""},{"$f":"IF(AND($B42=\"AZIONE_2\",$R42=6),'3 - SPECIE DA IMPIANTARE'!$I43,\"\")","v":""}]
[1,{"$f":"IF('3 - SPECIE DA IMPIANTARE'!$H44=\"AZIONE_2\",'3 - SPECIE DA IMPIANTARE'!$H44,\"\")","v":""},{"$f":"IF('3 - SPECIE DA IMPIANTARE'!$G44=1,'3 - SPECIE DA IMPIANTARE'!$G44,\"\")","v":""},{"$f":"IF(AND($B43=\"AZIONE_2\",C43=1),'3 - SPECIE DA IMPIANTARE'!$I44,\"\")","v":""},null,{"$f":"IF('3 - SPECIE DA IMPIANTARE'!$G44=2,'3 - SPECIE DA IMPIANTARE'!$G44,\"\")","v":""},{"$f":"IF(AND($B43=\"AZIONE_2\",F43=2),'3 - SPECIE DA IMPIANTARE'!$I44,\"\")","v":""},null,{"$f":"IF('3 - SPECIE DA IMPIANTARE'!$G44=3,'3 - SPECIE DA IMPIANTARE'!$G44,\"\")","v":""},{"$f":"IF(AND($B43=\"AZIONE_2\",$I43=3),'3 - SPECIE DA IMPIANTARE'!$I44,\"\")","v":""},null,{"$f":"IF('3 - SPECIE DA IMPIANTARE'!$G44=4,'3 - SPECIE DA IMPIANTARE'!$G44,\"\")","v":""},{"$f":"IF(AND($B43=\"AZIONE_2\",$L43=4),'3 - SPECIE DA IMPIANTARE'!$I44,\"\")","v":""},null,{"$f":"IF('3 - SPECIE DA IMPIANTARE'!$G44=5,'3 - SPECIE DA IMPIANTARE'!$G44,\"\")","v":""},{"$f":"IF(AND($B43=\"AZIONE_2\",$O43=5),'3 - SPECIE DA IMPIANTARE'!$I44,\"\")","v":""},null,{"$f":"IF('3 - SPECIE DA IMPIANTARE'!$G44=6,'3 - SPECIE DA IMPIANTARE'!$G44,\"\")","v":""},{"$f":"IF(AND($B43=\"AZIONE_2\",$R43=6),'3 - SPECIE DA IMPIANTARE'!$I44,\"\")","v":""}]
[1,{"$f":"IF('3 - SPECIE DA IMPIANTARE'!$H45=\"AZIONE_2\",'3 - SPECIE DA IMPIANTARE'!$H45,\"\")","v":""},{"$f":"IF('3 - SPECIE DA IMPIANTARE'!$G45=1,'3 - SPECIE DA IMPIANTARE'!$G45,\"\")","v":""},{"$f":"IF(AND($B44=\"AZIONE_2\",C44=1),'3 - SPECIE DA IMPIANTARE'!$I45,\"\")","v":""},null,{"$f":"IF('3 - SPECIE DA IMPIANTARE'!$G45=2,'3 - SPECIE DA IMPIANTARE'!$G45,\"\")","v":""},{"$f":"IF(AND($B44=\"AZIONE_2\",F44=2),'3 - SPECIE DA IMPIANTARE'!$I45,\"\")","v":""},null,{"$f":"IF('3 - SPECIE DA IMPIANTARE'!$G45=3,'3 - SPECIE DA IMPIANTARE'!$G45,\"\")","v":""},{"$f":"IF(AND($B44=\"AZIONE_2\",$I44=3),'3 - SPECIE DA IMPIANTARE'!$I45,\"\")","v":""},null,{"$f":"IF('3 - SPECIE DA IMPIANTARE'!$G45=4,'3 - SPECIE DA IMPIANTARE'!$G45,\"\")","v":""},{"$f":"IF(AND($B44=\"AZIONE_2\",$L44=4),'3 - SPECIE DA IMPIANTARE'!$I45,\"\")","v":""},null,{"$f":"IF('3 - SPECIE DA IMPIANTARE'!$G45=5,'3 - SPECIE DA IMPIANTARE'!$G45,\"\")","v":""},{"$f":"IF(AND($B44=\"AZIONE_2\",$O44=5),'3 - SPECIE DA IMPIANTARE'!$I45,\"\")","v":""},null,{"$f":"IF('3 - SPECIE DA IMPIANTARE'!$G45=6,'3 - SPECIE DA IMPIANTARE'!$G45,\"\")","v":""},{"$f":"IF(AND($B44=\"AZIONE_2\",$R44=6),'3 - SPECIE DA IMPIANTARE'!$I45,\"\")","v":""}]
[1,{"$f":"IF('3 - SPECIE DA IMPIANTARE'!$H46=\"AZIONE_2\",'3 - SPECIE DA IMPIANTARE'!$H46,\"\")","v":""},{"$f":"IF('3 - SPECIE DA IMPIANTARE'!$G46=1,'3 - SPECIE DA IMPIANTARE'!$G46,\"\")","v":""},{"$f":"IF(AND($B45=\"AZIONE_2\",C45=1),'3 - SPECIE DA IMPIANTARE'!$I46,\"\")","v":""},null,{"$f":"IF('3 - SPECIE DA IMPIANTARE'!$G46=2,'3 - SPECIE DA IMPIANTARE'!$G46,\"\")","v":""},{"$f":"IF(AND($B45=\"AZIONE_2\",F45=2),'3 - SPECIE DA IMPIANTARE'!$I46,\"\")","v":""},null,{"$f":"IF('3 - SPECIE DA IMPIANTARE'!$G46=3,'3 - SPECIE DA IMPIANTARE'!$G46,\"\")","v":""},{"$f":"IF(AND($B45=\"AZIONE_2\",$I45=3),'3 - SPECIE DA IMPIANTARE'!$I46,\"\")","v":""},null,{"$f":"IF('3 - SPECIE DA IMPIANTARE'!$G46=4,'3 - SPECIE DA IMPIANTARE'!$G46,\"\")","v":""},{"$f":"IF(AND($B45=\"AZIONE_2\",$L45=4),'3 - SPECIE DA IMPIANTARE'!$I46,\"\")","v":""},null,{"$f":"IF('3 - SPECIE DA IMPIANTARE'!$G46=5,'3 - SPECIE DA IMPIANTARE'!$G46,\"\")","v":""},{"$f":"IF(AND($B45=\"AZIONE_2\",$O45=5),'3 - SPECIE DA IMPIANTARE'!$I46,\"\")","v":""},null,{"$f":"IF('3 - SPECIE DA IMPIANTARE'!$G46=6,'3 - SPECIE DA IMPIANTARE'!$G46,\"\")","v":""},{"$f":"IF(AND($B45=\"AZIONE_2\",$R45=6),'3 - SPECIE DA IMPIANTARE'!$I46,\"\")","v":""}]
[1,{"$f":"IF('3 - SPECIE DA IMPIANTARE'!$H47=\"AZIONE_2\",'3 - SPECIE DA IMPIANTARE'!$H47,\"\")","v":""},{"$f":"IF('3 - SPECIE DA IMPIANTARE'!$G47=1,'3 - SPECIE DA IMPIANTARE'!$G47,\"\")","v":""},{"$f":"IF(AND($B46=\"AZIONE_2\",C46=1),'3 - SPECIE DA IMPIANTARE'!$I47,\"\")","v":""},null,{"$f":"IF('3 - SPECIE DA IMPIANTARE'!$G47=2,'3 - SPECIE DA IMPIANTARE'!$G47,\"\")","v":""},{"$f":"IF(AND($B46=\"AZIONE_2\",F46=2),'3 - SPECIE DA IMPIANTARE'!$I47,\"\")","v":""},null,{"$f":"IF('3 - SPECIE DA IMPIANTARE'!$G47=3,'3 - SPECIE DA IMPIANTARE'!$G47,\"\")","v":""},{"$f":"IF(AND($B46=\"AZIONE_2\",$I46=3),'3 - SPECIE DA IMPIANTARE'!$I47,\"\")","v":""},null,{"$f":"IF('3 - SPECIE DA IMPIANTARE'!$G47=4,'3 - SPECIE DA IMPIANTARE'!$G47,\"\")","v":""},{"$f":"IF(AND($B46=\"AZIONE_2\",$L46=4),'3 - SPECIE DA IMPIANTARE'!$I47,\"\")","v":""},null,{"$f":"IF('3 - SPECIE DA IMPIANTARE'!$G47=5,'3 - SPECIE DA IMPIANTARE'!$G47,\"\")","v":""},{"$f":"IF(AND($B46=\"AZIONE_2\",$O46=5),'3 - SPECIE DA IMPIANTARE'!$I47,\"\")","v":""},null,{"$f":"IF('3 - SPECIE DA IMPIANTARE'!$G47=6,'3 - SPECIE DA IMPIANTARE'!$G47,\"\")","v":""},{"$f":"IF(AND($B46=\"AZIONE_2\",$R46=6),'3 - SPECIE DA IMPIANTARE'!$I47,\"\")","v":""}]
[1,{"$f":"IF('3 - SPECIE DA IMPIANTARE'!$H48=\"AZIONE_2\",'3 - SPECIE DA IMPIANTARE'!$H48,\"\")","v":""},{"$f":"IF('3 - SPECIE DA IMPIANTARE'!$G48=1,'3 - SPECIE DA IMPIANTARE'!$G48,\"\")","v":""},{"$f":"IF(AND($B47=\"AZIONE_2\",C47=1),'3 - SPECIE DA IMPIANTARE'!$I48,\"\")","v":""},null,{"$f":"IF('3 - SPECIE DA IMPIANTARE'!$G48=2,'3 - SPECIE DA IMPIANTARE'!$G48,\"\")","v":""},{"$f":"IF(AND($B47=\"AZIONE_2\",F47=2),'3 - SPECIE DA IMPIANTARE'!$I48,\"\")","v":""},null,{"$f":"IF('3 - SPECIE DA IMPIANTARE'!$G48=3,'3 - SPECIE DA IMPIANTARE'!$G48,\"\")","v":""},{"$f":"IF(AND($B47=\"AZIONE_2\",$I47=3),'3 - SPECIE DA IMPIANTARE'!$I48,\"\")","v":""},null,{"$f":"IF('3 - SPECIE DA IMPIANTARE'!$G48=4,'3 - SPECIE DA IMPIANTARE'!$G48,\"\")","v":""},{"$f":"IF(AND($B47=\"AZIONE_2\",$L47=4),'3 - SPECIE DA IMPIANTARE'!$I48,\"\")","v":""},null,{"$f":"IF('3 - SPECIE DA IMPIANTARE'!$G48=5,'3 - SPECIE DA IMPIANTARE'!$G48,\"\")","v":""},{"$f":"IF(AND($B47=\"AZIONE_2\",$O47=5),'3 - SPECIE DA IMPIANTARE'!$I48,\"\")","v":""},null,{"$f":"IF('3 - SPECIE DA IMPIANTARE'!$G48=6,'3 - SPECIE DA IMPIANTARE'!$G48,\"\")","v":""},{"$f":"IF(AND($B47=\"AZIONE_2\",$R47=6),'3 - SPECIE DA IMPIANTARE'!$I48,\"\")","v":""}]
[1,{"$f":"IF('3 - SPECIE DA IMPIANTARE'!$H49=\"AZIONE_2\",'3 - SPECIE DA IMPIANTARE'!$H49,\"\")","v":""},{"$f":"IF('3 - SPECIE DA IMPIANTARE'!$G49=1,'3 - SPECIE DA IMPIANTARE'!$G49,\"\")","v":""},{"$f":"IF(AND($B48=\"AZIONE_2\",C48=1),'3 - SPECIE DA IMPIANTARE'!$I49,\"\")","v":""},null,{"$f":"IF('3 - SPECIE DA IMPIANTARE'!$G49=2,'3 - SPECIE DA IMPIANTARE'!$G49,\"\")","v":""},{"$f":"IF(AND($B48=\"AZIONE_2\",F48=2),'3 - SPECIE DA IMPIANTARE'!$I49,\"\")","v":""},null,{"$f":"IF('3 - SPECIE DA IMPIANTARE'!$G49=3,'3 - SPECIE DA IMPIANTARE'!$G49,\"\")","v":""},{"$f":"IF(AND($B48=\"AZIONE_2\",$I48=3),'3 - SPECIE DA IMPIANTARE'!$I49,\"\")","v":""},null,{"$f":"IF('3 - SPECIE DA IMPIANTARE'!$G49=4,'3 - SPECIE DA IMPIANTARE'!$G49,\"\")","v":""},{"$f":"IF(AND($B48=\"AZIONE_2\",$L48=4),'3 - SPECIE DA IMPIANTARE'!$I49,\"\")","v":""},null,{"$f":"IF('3 - SPECIE DA IMPIANTARE'!$G49=5,'3 - SPECIE DA IMPIANTARE'!$G49,\"\")","v":""},{"$f":"IF(AND($B48=\"AZIONE_2\",$O48=5),'3 - SPECIE DA IMPIANTARE'!$I49,\"\")","v":""},null,{"$f":"IF('3 - SPECIE DA IMPIANTARE'!$G49=6,'3 - SPECIE DA IMPIANTARE'!$G49,\"\")","v":""},{"$f":"IF(AND($B48=\"AZIONE_2\",$R48=6),'3 - SPECIE DA IMPIANTARE'!$I49,\"\")","v":""}]
[1,{"$f":"IF('3 - SPECIE DA IMPIANTARE'!$H50=\"AZIONE_2\",'3 - SPECIE DA IMPIANTARE'!$H50,\"\")","v":""},{"$f":"IF('3 - SPECIE DA IMPIANTARE'!$G50=1,'3 - SPECIE DA IMPIANTARE'!$G50,\"\")","v":""},{"$f":"IF(AND($B49=\"AZIONE_2\",C49=1),'3 - SPECIE DA IMPIANTARE'!$I50,\"\")","v":""},null,{"$f":"IF('3 - SPECIE DA IMPIANTARE'!$G50=2,'3 - SPECIE DA IMPIANTARE'!$G50,\"\")","v":""},{"$f":"IF(AND($B49=\"AZIONE_2\",F49=2),'3 - SPECIE DA IMPIANTARE'!$I50,\"\")","v":""},null,{"$f":"IF('3 - SPECIE DA IMPIANTARE'!$G50=3,'3 - SPECIE DA IMPIANTARE'!$G50,\"\")","v":""},{"$f":"IF(AND($B49=\"AZIONE_2\",$I49=3),'3 - SPECIE DA IMPIANTARE'!$I50,\"\")","v":""},null,{"$f":"IF('3 - SPECIE DA IMPIANTARE'!$G50=4,'3 - SPECIE DA IMPIANTARE'!$G50,\"\")","v":""},{"$f":"IF(AND($B49=\"AZIONE_2\",$L49=4),'3 - SPECIE DA IMPIANTARE'!$I50,\"\")","v":""},null,{"$f":"IF('3 - SPECIE DA IMPIANTARE'!$G50=5,'3 - SPECIE DA IMPIANTARE'!$G50,\"\")","v":""},{"$f":"IF(AND($B49=\"AZIONE_2\",$O49=5),'3 - SPECIE DA IMPIANTARE'!$I50,\"\")","v":""},null,{"$f":"IF('3 - SPECIE DA IMPIANTARE'!$G50=6,'3 - SPECIE DA IMPIANTARE'!$G50,\"\")","v":""},{"$f":"IF(AND($B49=\"AZIONE_2\",$R49=6),'3 - SPECIE DA IMPIANTARE'!$I50,\"\")","v":""}]
[1,{"$f":"IF('3 - SPECIE DA IMPIANTARE'!$H51=\"AZIONE_2\",'3 - SPECIE DA IMPIANTARE'!$H51,\"\")","v":""},{"$f":"IF('3 - SPECIE DA IMPIANTARE'!$G51=1,'3 - SPECIE DA IMPIANTARE'!$G51,\"\")","v":""},{"$f":"IF(AND($B50=\"AZIONE_2\",C50=1),'3 - SPECIE DA IMPIANTARE'!$I51,\"\")","v":""},null,{"$f":"IF('3 - SPECIE DA IMPIANTARE'!$G51=2,'3 - SPECIE DA IMPIANTARE'!$G51,\"\")","v":""},{"$f":"IF(AND($B50=\"AZIONE_2\",F50=2),'3 - SPECIE DA IMPIANTARE'!$I51,\"\")","v":""},null,{"$f":"IF('3 - SPECIE DA IMPIANTARE'!$G51=3,'3 - SPECIE DA IMPIANTARE'!$G51,\"\")","v":""},{"$f":"IF(AND($B50=\"AZIONE_2\",$I50=3),'3 - SPECIE DA IMPIANTARE'!$I51,\"\")","v":""},null,{"$f":"IF('3 - SPECIE DA IMPIANTARE'!$G51=4,'3 - SPECIE DA IMPIANTARE'!$G51,\"\")","v":""},{"$f":"IF(AND($B50=\"AZIONE_2\",$L50=4),'3 - SPECIE DA IMPIANTARE'!$I51,\"\")","v":""},null,{"$f":"IF('3 - SPECIE DA IMPIANTARE'!$G51=5,'3 - SPECIE DA IMPIANTARE'!$G51,\"\")","v":""},{"$f":"IF(AND($B50=\"AZIONE_2\",$O50=5),'3 - SPECIE DA IMPIANTARE'!$I51,\"\")","v":""},null,{"$f":"IF('3 - SPECIE DA IMPIANTARE'!$G51=6,'3 - SPECIE DA IMPIANTARE'!$G51,\"\")","v":""},{"$f":"IF(AND($B50=\"AZIONE_2\",$R50=6),'3 - SPECIE DA IMPIANTARE'!$I51,\"\")","v":""}]
[1,{"$f":"IF('3 - SPECIE DA IMPIANTARE'!$H52=\"AZIONE_2\",'3 - SPECIE DA IMPIANTARE'!$H52,\"\")","v":""},{"$f":"IF('3 - SPECIE DA IMPIANTARE'!$G52=1,'3 - SPECIE DA IMPIANTARE'!$G52,\"\")","v":""},{"$f":"IF(AND($B51=\"AZIONE_2\",C51=1),'3 - SPECIE DA IMPIANTARE'!$I52,\"\")","v":""},null,{"$f":"IF('3 - SPECIE DA IMPIANTARE'!$G52=2,'3 - SPECIE DA IMPIANTARE'!$G52,\"\")","v":""},{"$f":"IF(AND($B51=\"AZIONE_2\",F51=2),'3 - SPECIE DA IMPIANTARE'!$I52,\"\")","v":""},null,{"$f":"IF('3 - SPECIE DA IMPIANTARE'!$G52=3,'3 - SPECIE DA IMPIANTARE'!$G52,\"\")","v":""},{"$f":"IF(AND($B51=\"AZIONE_2\",$I51=3),'3 - SPECIE DA IMPIANTARE'!$I52,\"\")","v":""},null,{"$f":"IF('3 - SPECIE DA IMPIANTARE'!$G52=4,'3 - SPECIE DA IMPIANTARE'!$G52,\"\")","v":""},{"$f":"IF(AND($B51=\"AZIONE_2\",$L51=4),'3 - SPECIE DA IMPIANTARE'!$I52,\"\")","v":""},null,{"$f":"IF('3 - SPECIE DA IMPIANTARE'!$G52=5,'3 - SPECIE DA IMPIANTARE'!$G52,\"\")","v":""},{"$f":"IF(AND($B51=\"AZIONE_2\",$O51=5),'3 - SPECIE DA IMPIANTARE'!$I52,\"\")","v":""},null,{"$f":"IF('3 - SPECIE DA IMPIANTARE'!$G52=6,'3 - SPECIE DA IMPIANTARE'!$G52,\"\")","v":""},{"$f":"IF(AND($B51=\"AZIONE_2\",$R51=6),'3 - SPECIE DA IMPIANTARE'!$I52,\"\")","v":""}]
[1,{"$f":"IF('3 - SPECIE DA IMPIANTARE'!$H53=\"AZIONE_2\",'3 - SPECIE DA IMPIANTARE'!$H53,\"\")","v":""},{"$f":"IF('3 - SPECIE DA IMPIANTARE'!$G53=1,'3 - SPECIE DA IMPIANTARE'!$G53,\"\")","v":""},{"$f":"IF(AND($B52=\"AZIONE_2\",C52=1),'3 - SPECIE DA IMPIANTARE'!$I53,\"\")","v":""},null,{"$f":"IF('3 - SPECIE DA IMPIANTARE'!$G53=2,'3 - SPECIE DA IMPIANTARE'!$G53,\"\")","v":""},{"$f":"IF(AND($B52=\"AZIONE_2\",F52=2),'3 - SPECIE DA IMPIANTARE'!$I53,\"\")","v":""},null,{"$f":"IF('3 - SPECIE DA IMPIANTARE'!$G53=3,'3 - SPECIE DA IMPIANTARE'!$G53,\"\")","v":""},{"$f":"IF(AND($B52=\"AZIONE_2\",$I52=3),'3 - SPECIE DA IMPIANTARE'!$I53,\"\")","v":""},null,{"$f":"IF('3 - SPECIE DA IMPIANTARE'!$G53=4,'3 - SPECIE DA IMPIANTARE'!$G53,\"\")","v":""},{"$f":"IF(AND($B52=\"AZIONE_2\",$L52=4),'3 - SPECIE DA IMPIANTARE'!$I53,\"\")","v":""},null,{"$f":"IF('3 - SPECIE DA IMPIANTARE'!$G53=5,'3 - SPECIE DA IMPIANTARE'!$G53,\"\")","v":""},{"$f":"IF(AND($B52=\"AZIONE_2\",$O52=5),'3 - SPECIE DA IMPIANTARE'!$I53,\"\")","v":""},null,{"$f":"IF('3 - SPECIE DA IMPIANTARE'!$G53=6,'3 - SPECIE DA IMPIANTARE'!$G53,\"\")","v":""},{"$f":"IF(AND($B52=\"AZIONE_2\",$R52=6),'3 - SPECIE DA IMPIANTARE'!$I53,\"\")","v":""}]
[1,{"$f":"IF('3 - SPECIE DA IMPIANTARE'!$H54=\"AZIONE_2\",'3 - SPECIE DA IMPIANTARE'!$H54,\"\")","v":""},{"$f":"IF('3 - SPECIE DA IMPIANTARE'!$G54=1,'3 - SPECIE DA IMPIANTARE'!$G54,\"\")","v":""},{"$f":"IF(AND($B53=\"AZIONE_2\",C53=1),'3 - SPECIE DA IMPIANTARE'!$I54,\"\")","v":""},null,{"$f":"IF('3 - SPECIE DA IMPIANTARE'!$G54=2,'3 - SPECIE DA IMPIANTARE'!$G54,\"\")","v":""},{"$f":"IF(AND($B53=\"AZIONE_2\",F53=2),'3 - SPECIE DA IMPIANTARE'!$I54,\"\")","v":""},null,{"$f":"IF('3 - SPECIE DA IMPIANTARE'!$G54=3,'3 - SPECIE DA IMPIANTARE'!$G54,\"\")","v":""},{"$f":"IF(AND($B53=\"AZIONE_2\",$I53=3),'3 - SPECIE DA IMPIANTARE'!$I54,\"\")","v":""},null,{"$f":"IF('3 - SPECIE DA IMPIANTARE'!$G54=4,'3 - SPECIE DA IMPIANTARE'!$G54,\"\")","v":""},{"$f":"IF(AND($B53=\"AZIONE_2\",$L53=4),'3 - SPECIE DA IMPIANTARE'!$I54,\"\")","v":""},null,{"$f":"IF('3 - SPECIE DA IMPIANTARE'!$G54=5,'3 - SPECIE DA IMPIANTARE'!$G54,\"\")","v":""},{"$f":"IF(AND($B53=\"AZIONE_2\",$O53=5),'3 - SPECIE DA IMPIANTARE'!$I54,\"\")","v":""},null,{"$f":"IF('3 - SPECIE DA IMPIANTARE'!$G54=6,'3 - SPECIE DA IMPIANTARE'!$G54,\"\")","v":""},{"$f":"IF(AND($B53=\"AZIONE_2\",$R53=6),'3 - SPECIE DA IMPIANTARE'!$I54,\"\")","v":""}]
[1,{"$f":"IF('3 - SPECIE DA IMPIANTARE'!$H55=\"AZIONE_2\",'3 - SPECIE DA IMPIANTARE'!$H55,\"\")","v":""},{"$f":"IF('3 - SPECIE DA IMPIANTARE'!$G55=1,'3 - SPECIE DA IMPIANTARE'!$G55,\"\")","v":""},{"$f":"IF(AND($B54=\"AZIONE_2\",C54=1),'3 - SPECIE DA IMPIANTARE'!$I55,\"\")","v":""},null,{"$f":"IF('3 - SPECIE DA IMPIANTARE'!$G55=2,'3 - SPECIE DA IMPIANTARE'!$G55,\"\")","v":""},{"$f":"IF(AND($B54=\"AZIONE_2\",F54=2),'3 - SPECIE DA IMPIANTARE'!$I55,\"\")","v":""},null,{"$f":"IF('3 - SPECIE DA IMPIANTARE'!$G55=3,'3 - SPECIE DA IMPIANTARE'!$G55,\"\")","v":""},{"$f":"IF(AND($B54=\"AZIONE_2\",$I54=3),'3 - SPECIE DA IMPIANTARE'!$I55,\"\")","v":""},null,{"$f":"IF('3 - SPECIE DA IMPIANTARE'!$G55=4,'3 - SPECIE DA IMPIANTARE'!$G55,\"\")","v":""},{"$f":"IF(AND($B54=\"AZIONE_2\",$L54=4),'3 - SPECIE DA IMPIANTARE'!$I55,\"\")","v":""},null,{"$f":"IF('3 - SPECIE DA IMPIANTARE'!$G55=5,'3 - SPECIE DA IMPIANTARE'!$G55,\"\")","v":""},{"$f":"IF(AND($B54=\"AZIONE_2\",$O54=5),'3 - SPECIE DA IMPIANTARE'!$I55,\"\")","v":""},null,{"$f":"IF('3 - SPECIE DA IMPIANTARE'!$G55=6,'3 - SPECIE DA IMPIANTARE'!$G55,\"\")","v":""},{"$f":"IF(AND($B54=\"AZIONE_2\",$R54=6),'3 - SPECIE DA IMPIANTARE'!$I55,\"\")","v":""}]
[1,{"$f":"IF('3 - SPECIE DA IMPIANTARE'!$H56=\"AZIONE_2\",'3 - SPECIE DA IMPIANTARE'!$H56,\"\")","v":""},{"$f":"IF('3 - SPECIE DA IMPIANTARE'!$G56=1,'3 - SPECIE DA IMPIANTARE'!$G56,\"\")","v":""},{"$f":"IF(AND($B55=\"AZIONE_2\",C55=1),'3 - SPECIE DA IMPIANTARE'!$I56,\"\")","v":""},null,{"$f":"IF('3 - SPECIE DA IMPIANTARE'!$G56=2,'3 - SPECIE DA IMPIANTARE'!$G56,\"\")","v":""},{"$f":"IF(AND($B55=\"AZIONE_2\",F55=2),'3 - SPECIE DA IMPIANTARE'!$I56,\"\")","v":""},null,{"$f":"IF('3 - SPECIE DA IMPIANTARE'!$G56=3,'3 - SPECIE DA IMPIANTARE'!$G56,\"\")","v":""},{"$f":"IF(AND($B55=\"AZIONE_2\",$I55=3),'3 - SPECIE DA IMPIANTARE'!$I56,\"\")","v":""},null,{"$f":"IF('3 - SPECIE DA IMPIANTARE'!$G56=4,'3 - SPECIE DA IMPIANTARE'!$G56,\"\")","v":""},{"$f":"IF(AND($B55=\"AZIONE_2\",$L55=4),'3 - SPECIE DA IMPIANTARE'!$I56,\"\")","v":""},null,{"$f":"IF('3 - SPECIE DA IMPIANTARE'!$G56=5,'3 - SPECIE DA IMPIANTARE'!$G56,\"\")","v":""},{"$f":"IF(AND($B55=\"AZIONE_2\",$O55=5),'3 - SPECIE DA IMPIANTARE'!$I56,\"\")","v":""},null,{"$f":"IF('3 - SPECIE DA IMPIANTARE'!$G56=6,'3 - SPECIE DA IMPIANTARE'!$G56,\"\")","v":""},{"$f":"IF(AND($B55=\"AZIONE_2\",$R55=6),'3 - SPECIE DA IMPIANTARE'!$I56,\"\")","v":""}]
[1,{"$f":"IF('3 - SPECIE DA IMPIANTARE'!$H57=\"AZIONE_2\",'3 - SPECIE DA IMPIANTARE'!$H57,\"\")","v":""},{"$f":"IF('3 - SPECIE DA IMPIANTARE'!$G57=1,'3 - SPECIE DA IMPIANTARE'!$G57,\"\")","v":""},{"$f":"IF(AND($B56=\"AZIONE_2\",C56=1),'3 - SPECIE DA IMPIANTARE'!$I57,\"\")","v":""},null,{"$f":"IF('3 - SPECIE DA IMPIANTARE'!$G57=2,'3 - SPECIE DA IMPIANTARE'!$G57,\"\")","v":""},{"$f":"IF(AND($B56=\"AZIONE_2\",F56=2),'3 - SPECIE DA IMPIANTARE'!$I57,\"\")","v":""},null,{"$f":"IF('3 - SPECIE DA IMPIANTARE'!$G57=3,'3 - SPECIE DA IMPIANTARE'!$G57,\"\")","v":""},{"$f":"IF(AND($B56=\"AZIONE_2\",$I56=3),'3 - SPECIE DA IMPIANTARE'!$I57,\"\")","v":""},null,{"$f":"IF('3 - SPECIE DA IMPIANTARE'!$G57=4,'3 - SPECIE DA IMPIANTARE'!$G57,\"\")","v":""},{"$f":"IF(AND($B56=\"AZIONE_2\",$L56=4),'3 - SPECIE DA IMPIANTARE'!$I57,\"\")","v":""},null,{"$f":"IF('3 - SPECIE DA IMPIANTARE'!$G57=5,'3 - SPECIE DA IMPIANTARE'!$G57,\"\")","v":""},{"$f":"IF(AND($B56=\"AZIONE_2\",$O56=5),'3 - SPECIE DA IMPIANTARE'!$I57,\"\")","v":""},null,{"$f":"IF('3 - SPECIE DA IMPIANTARE'!$G57=6,'3 - SPECIE DA IMPIANTARE'!$G57,\"\")","v":""},{"$f":"IF(AND($B56=\"AZIONE_2\",$R56=6),'3 - SPECIE DA IMPIANTARE'!$I57,\"\")","v":""}]
[1,{"$f":"IF('3 - SPECIE DA IMPIANTARE'!$H58=\"AZIONE_2\",'3 - SPECIE DA IMPIANTARE'!$H58,\"\")","v":""},{"$f":"IF('3 - SPECIE DA IMPIANTARE'!$G58=1,'3 - SPECIE DA IMPIANTARE'!$G58,\"\")","v":""},{"$f":"IF(AND($B57=\"AZIONE_2\",C57=1),'3 - SPECIE DA IMPIANTARE'!$I58,\"\")","v":""},null,{"$f":"IF('3 - SPECIE DA IMPIANTARE'!$G58=2,'3 - SPECIE DA IMPIANTARE'!$G58,\"\")","v":""},{"$f":"IF(AND($B57=\"AZIONE_2\",F57=2),'3 - SPECIE DA IMPIANTARE'!$I58,\"\")","v":""},null,{"$f":"IF('3 - SPECIE DA IMPIANTARE'!$G58=3,'3 - SPECIE DA IMPIANTARE'!$G58,\"\")","v":""},{"$f":"IF(AND($B57=\"AZIONE_2\",$I57=3),'3 - SPECIE DA IMPIANTARE'!$I58,\"\")","v":""},null,{"$f":"IF('3 - SPECIE DA IMPIANTARE'!$G58=4,'3 - SPECIE DA IMPIANTARE'!$G58,\"\")","v":""},{"$f":"IF(AND($B57=\"AZIONE_2\",$L57=4),'3 - SPECIE DA IMPIANTARE'!$I58,\"\")","v":""},null,{"$f":"IF('3 - SPECIE DA IMPIANTARE'!$G58=5,'3 - SPECIE DA IMPIANTARE'!$G58,\"\")","v":""},{"$f":"IF(AND($B57=\"AZIONE_2\",$O57=5),'3 - SPECIE DA IMPIANTARE'!$I58,\"\")","v":""},null,{"$f":"IF('3 - SPECIE DA IMPIANTARE'!$G58=6,'3 - SPECIE DA IMPIANTARE'!$G58,\"\")","v":""},{"$f":"IF(AND($B57=\"AZIONE_2\",$R57=6),'3 - SPECIE DA IMPIANTARE'!$I58,\"\")","v":""}]
[1,{"$f":"IF('3 - SPECIE DA IMPIANTARE'!$H59=\"AZIONE_2\",'3 - SPECIE DA IMPIANTARE'!$H59,\"\")","v":""},{"$f":"IF('3 - SPECIE DA IMPIANTARE'!$G59=1,'3 - SPECIE DA IMPIANTARE'!$G59,\"\")","v":""},{"$f":"IF(AND($B58=\"AZIONE_2\",C58=1),'3 - SPECIE DA IMPIANTARE'!$I59,\"\")","v":""},null,{"$f":"IF('3 - SPECIE DA IMPIANTARE'!$G59=2,'3 - SPECIE DA IMPIANTARE'!$G59,\"\")","v":""},{"$f":"IF(AND($B58=\"AZIONE_2\",F58=2),'3 - SPECIE DA IMPIANTARE'!$I59,\"\")","v":""},null,{"$f":"IF('3 - SPECIE DA IMPIANTARE'!$G59=3,'3 - SPECIE DA IMPIANTARE'!$G59,\"\")","v":""},{"$f":"IF(AND($B58=\"AZIONE_2\",$I58=3),'3 - SPECIE DA IMPIANTARE'!$I59,\"\")","v":""},null,{"$f":"IF('3 - SPECIE DA IMPIANTARE'!$G59=4,'3 - SPECIE DA IMPIANTARE'!$G59,\"\")","v":""},{"$f":"IF(AND($B58=\"AZIONE_2\",$L58=4),'3 - SPECIE DA IMPIANTARE'!$I59,\"\")","v":""},null,{"$f":"IF('3 - SPECIE DA IMPIANTARE'!$G59=5,'3 - SPECIE DA IMPIANTARE'!$G59,\"\")","v":""},{"$f":"IF(AND($B58=\"AZIONE_2\",$O58=5),'3 - SPECIE DA IMPIANTARE'!$I59,\"\")","v":""},null,{"$f":"IF('3 - SPECIE DA IMPIANTARE'!$G59=6,'3 - SPECIE DA IMPIANTARE'!$G59,\"\")","v":""},{"$f":"IF(AND($B58=\"AZIONE_2\",$R58=6),'3 - SPECIE DA IMPIANTARE'!$I59,\"\")","v":""}]
[1,{"$f":"IF('3 - SPECIE DA IMPIANTARE'!$H60=\"AZIONE_2\",'3 - SPECIE DA IMPIANTARE'!$H60,\"\")","v":""},{"$f":"IF('3 - SPECIE DA IMPIANTARE'!$G60=1,'3 - SPECIE DA IMPIANTARE'!$G60,\"\")","v":""},{"$f":"IF(AND($B59=\"AZIONE_2\",C59=1),'3 - SPECIE DA IMPIANTARE'!$I60,\"\")","v":""},null,{"$f":"IF('3 - SPECIE DA IMPIANTARE'!$G60=2,'3 - SPECIE DA IMPIANTARE'!$G60,\"\")","v":""},{"$f":"IF(AND($B59=\"AZIONE_2\",F59=2),'3 - SPECIE DA IMPIANTARE'!$I60,\"\")","v":""},null,{"$f":"IF('3 - SPECIE DA IMPIANTARE'!$G60=3,'3 - SPECIE DA IMPIANTARE'!$G60,\"\")","v":""},{"$f":"IF(AND($B59=\"AZIONE_2\",$I59=3),'3 - SPECIE DA IMPIANTARE'!$I60,\"\")","v":""},null,{"$f":"IF('3 - SPECIE DA IMPIANTARE'!$G60=4,'3 - SPECIE DA IMPIANTARE'!$G60,\"\")","v":""},{"$f":"IF(AND($B59=\"AZIONE_2\",$L59=4),'3 - SPECIE DA IMPIANTARE'!$I60,\"\")","v":""},null,{"$f":"IF('3 - SPECIE DA IMPIANTARE'!$G60=5,'3 - SPECIE DA IMPIANTARE'!$G60,\"\")","v":""},{"$f":"IF(AND($B59=\"AZIONE_2\",$O59=5),'3 - SPECIE DA IMPIANTARE'!$I60,\"\")","v":""},null,{"$f":"IF('3 - SPECIE DA IMPIANTARE'!$G60=6,'3 - SPECIE DA IMPIANTARE'!$G60,\"\")","v":""},{"$f":"IF(AND($B59=\"AZIONE_2\",$R59=6),'3 - SPECIE DA IMPIANTARE'!$I60,\"\")","v":""}]
[1,{"$f":"IF('3 - SPECIE DA IMPIANTARE'!$H61=\"AZIONE_2\",'3 - SPECIE DA IMPIANTARE'!$H61,\"\")","v":""},{"$f":"IF('3 - SPECIE DA IMPIANTARE'!$G61=1,'3 - SPECIE DA IMPIANTARE'!$G61,\"\")","v":""},{"$f":"IF(AND($B60=\"AZIONE_2\",C60=1),'3 - SPECIE DA IMPIANTARE'!$I61,\"\")","v":""},null,{"$f":"IF('3 - SPECIE DA IMPIANTARE'!$G61=2,'3 - SPECIE DA IMPIANTARE'!$G61,\"\")","v":""},{"$f":"IF(AND($B60=\"AZIONE_2\",F60=2),'3 - SPECIE DA IMPIANTARE'!$I61,\"\")","v":""},null,{"$f":"IF('3 - SPECIE DA IMPIANTARE'!$G61=3,'3 - SPECIE DA IMPIANTARE'!$G61,\"\")","v":""},{"$f":"IF(AND($B60=\"AZIONE_2\",$I60=3),'3 - SPECIE DA IMPIANTARE'!$I61,\"\")","v":""},null,{"$f":"IF('3 - SPECIE DA IMPIANTARE'!$G61=4,'3 - SPECIE DA IMPIANTARE'!$G61,\"\")","v":""},{"$f":"IF(AND($B60=\"AZIONE_2\",$L60=4),'3 - SPECIE DA IMPIANTARE'!$I61,\"\")","v":""},null,{"$f":"IF('3 - SPECIE DA IMPIANTARE'!$G61=5,'3 - SPECIE DA IMPIANTARE'!$G61,\"\")","v":""},{"$f":"IF(AND($B60=\"AZIONE_2\",$O60=5),'3 - SPECIE DA IMPIANTARE'!$I61,\"\")","v":""},null,{"$f":"IF('3 - SPECIE DA IMPIANTARE'!$G61=6,'3 - SPECIE DA IMPIANTARE'!$G61,\"\")","v":""},{"$f":"IF(AND($B60=\"AZIONE_2\",$R60=6),'3 - SPECIE DA IMPIANTARE'!$I61,\"\")","v":""}]
[1,{"$f":"IF('3 - SPECIE DA IMPIANTARE'!$H62=\"AZIONE_2\",'3 - SPECIE DA IMPIANTARE'!$H62,\"\")","v":""},{"$f":"IF('3 - SPECIE DA IMPIANTARE'!$G62=1,'3 - SPECIE DA IMPIANTARE'!$G62,\"\")","v":""},{"$f":"IF(AND($B61=\"AZIONE_2\",C61=1),'3 - SPECIE DA IMPIANTARE'!$I62,\"\")","v":""},null,{"$f":"IF('3 - SPECIE DA IMPIANTARE'!$G62=2,'3 - SPECIE DA IMPIANTARE'!$G62,\"\")","v":""},{"$f":"IF(AND($B61=\"AZIONE_2\",F61=2),'3 - SPECIE DA IMPIANTARE'!$I62,\"\")","v":""},null,{"$f":"IF('3 - SPECIE DA IMPIANTARE'!$G62=3,'3 - SPECIE DA IMPIANTARE'!$G62,\"\")","v":""},{"$f":"IF(AND($B61=\"AZIONE_2\",$I61=3),'3 - SPECIE DA IMPIANTARE'!$I62,\"\")","v":""},null,{"$f":"IF('3 - SPECIE DA IMPIANTARE'!$G62=4,'3 - SPECIE DA IMPIANTARE'!$G62,\"\")","v":""},{"$f":"IF(AND($B61=\"AZIONE_2\",$L61=4),'3 - SPECIE DA IMPIANTARE'!$I62,\"\")","v":""},null,{"$f":"IF('3 - SPECIE DA IMPIANTARE'!$G62=5,'3 - SPECIE DA IMPIANTARE'!$G62,\"\")","v":""},{"$f":"IF(AND($B61=\"AZIONE_2\",$O61=5),'3 - SPECIE DA IMPIANTARE'!$I62,\"\")","v":""},null,{"$f":"IF('3 - SPECIE DA IMPIANTARE'!$G62=6,'3 - SPECIE DA IMPIANTARE'!$G62,\"\")","v":""},{"$f":"IF(AND($B61=\"AZIONE_2\",$R61=6),'3 - SPECIE DA IMPIANTARE'!$I62,\"\")","v":""}]
[1,{"$f":"IF('3 - SPECIE DA IMPIANTARE'!$H63=\"AZIONE_2\",'3 - SPECIE DA IMPIANTARE'!$H63,\"\")","v":""},{"$f":"IF('3 - SPECIE DA IMPIANTARE'!$G63=1,'3 - SPECIE DA IMPIANTARE'!$G63,\"\")","v":""},{"$f":"IF(AND($B62=\"AZIONE_2\",C62=1),'3 - SPECIE DA IMPIANTARE'!$I63,\"\")","v":""},null,{"$f":"IF('3 - SPECIE DA IMPIANTARE'!$G63=2,'3 - SPECIE DA IMPIANTARE'!$G63,\"\")","v":""},{"$f":"IF(AND($B62=\"AZIONE_2\",F62=2),'3 - SPECIE DA IMPIANTARE'!$I63,\"\")","v":""},null,{"$f":"IF('3 - SPECIE DA IMPIANTARE'!$G63=3,'3 - SPECIE DA IMPIANTARE'!$G63,\"\")","v":""},{"$f":"IF(AND($B62=\"AZIONE_2\",$I62=3),'3 - SPECIE DA IMPIANTARE'!$I63,\"\")","v":""},null,{"$f":"IF('3 - SPECIE DA IMPIANTARE'!$G63=4,'3 - SPECIE DA IMPIANTARE'!$G63,\"\")","v":""},{"$f":"IF(AND($B62=\"AZIONE_2\",$L62=4),'3 - SPECIE DA IMPIANTARE'!$I63,\"\")","v":""},null,{"$f":"IF('3 - SPECIE DA IMPIANTARE'!$G63=5,'3 - SPECIE DA IMPIANTARE'!$G63,\"\")","v":""},{"$f":"IF(AND($B62=\"AZIONE_2\",$O62=5),'3 - SPECIE DA IMPIANTARE'!$I63,\"\")","v":""},null,{"$f":"IF('3 - SPECIE DA IMPIANTARE'!$G63=6,'3 - SPECIE DA IMPIANTARE'!$G63,\"\")","v":""},{"$f":"IF(AND($B62=\"AZIONE_2\",$R62=6),'3 - SPECIE DA IMPIANTARE'!$I63,\"\")","v":""}]
[1,{"$f":"IF('3 - SPECIE DA IMPIANTARE'!$H64=\"AZIONE_2\",'3 - SPECIE DA IMPIANTARE'!$H64,\"\")","v":""},{"$f":"IF('3 - SPECIE DA IMPIANTARE'!$G64=1,'3 - SPECIE DA IMPIANTARE'!$G64,\"\")","v":""},{"$f":"IF(AND($B63=\"AZIONE_2\",C63=1),'3 - SPECIE DA IMPIANTARE'!$I64,\"\")","v":""},null,{"$f":"IF('3 - SPECIE DA IMPIANTARE'!$G64=2,'3 - SPECIE DA IMPIANTARE'!$G64,\"\")","v":""},{"$f":"IF(AND($B63=\"AZIONE_2\",F63=2),'3 - SPECIE DA IMPIANTARE'!$I64,\"\")","v":""},null,{"$f":"IF('3 - SPECIE DA IMPIANTARE'!$G64=3,'3 - SPECIE DA IMPIANTARE'!$G64,\"\")","v":""},{"$f":"IF(AND($B63=\"AZIONE_2\",$I63=3),'3 - SPECIE DA IMPIANTARE'!$I64,\"\")","v":""},null,{"$f":"IF('3 - SPECIE DA IMPIANTARE'!$G64=4,'3 - SPECIE DA IMPIANTARE'!$G64,\"\")","v":""},{"$f":"IF(AND($B63=\"AZIONE_2\",$L63=4),'3 - SPECIE DA IMPIANTARE'!$I64,\"\")","v":""},null,{"$f":"IF('3 - SPECIE DA IMPIANTARE'!$G64=5,'3 - SPECIE DA IMPIANTARE'!$G64,\"\")","v":""},{"$f":"IF(AND($B63=\"AZIONE_2\",$O63=5),'3 - SPECIE DA IMPIANTARE'!$I64,\"\")","v":""},null,{"$f":"IF('3 - SPECIE DA IMPIANTARE'!$G64=6,'3 - SPECIE DA IMPIANTARE'!$G64,\"\")","v":""},{"$f":"IF(AND($B63=\"AZIONE_2\",$R63=6),'3 - SPECIE DA IMPIANTARE'!$I64,\"\")","v":""}]
[1,{"$f":"IF('3 - SPECIE DA IMPIANTARE'!$H65=\"AZIONE_2\",'3 - SPECIE DA IMPIANTARE'!$H65,\"\")","v":""},{"$f":"IF('3 - SPECIE DA IMPIANTARE'!$G65=1,'3 - SPECIE DA IMPIANTARE'!$G65,\"\")","v":""},{"$f":"IF(AND($B64=\"AZIONE_2\",C64=1),'3 - SPECIE DA IMPIANTARE'!$I65,\"\")","v":""},null,{"$f":"IF('3 - SPECIE DA IMPIANTARE'!$G65=2,'3 - SPECIE DA IMPIANTARE'!$G65,\"\")","v":""},{"$f":"IF(AND($B64=\"AZIONE_2\",F64=2),'3 - SPECIE DA IMPIANTARE'!$I65,\"\")","v":""},null,{"$f":"IF('3 - SPECIE DA IMPIANTARE'!$G65=3,'3 - SPECIE DA IMPIANTARE'!$G65,\"\")","v":""},{"$f":"IF(AND($B64=\"AZIONE_2\",$I64=3),'3 - SPECIE DA IMPIANTARE'!$I65,\"\")","v":""},null,{"$f":"IF('3 - SPECIE DA IMPIANTARE'!$G65=4,'3 - SPECIE DA IMPIANTARE'!$G65,\"\")","v":""},{"$f":"IF(AND($B64=\"AZIONE_2\",$L64=4),'3 - SPECIE DA IMPIANTARE'!$I65,\"\")","v":""},null,{"$f":"IF('3 - SPECIE DA IMPIANTARE'!$G65=5,'3 - SPECIE DA IMPIANTARE'!$G65,\"\")","v":""},{"$f":"IF(AND($B64=\"AZIONE_2\",$O64=5),'3 - SPECIE DA IMPIANTARE'!$I65,\"\")","v":""},null,{"$f":"IF('3 - SPECIE DA IMPIANTARE'!$G65=6,'3 - SPECIE DA IMPIANTARE'!$G65,\"\")","v":""},{"$f":"IF(AND($B64=\"AZIONE_2\",$R64=6),'3 - SPECIE DA IMPIANTARE'!$I65,\"\")","v":""}]
[1,{"$f":"IF('3 - SPECIE DA IMPIANTARE'!$H66=\"AZIONE_2\",'3 - SPECIE DA IMPIANTARE'!$H66,\"\")","v":""},{"$f":"IF('3 - SPECIE DA IMPIANTARE'!$G66=1,'3 - SPECIE DA IMPIANTARE'!$G66,\"\")","v":""},{"$f":"IF(AND($B65=\"AZIONE_2\",C65=1),'3 - SPECIE DA IMPIANTARE'!$I66,\"\")","v":""},null,{"$f":"IF('3 - SPECIE DA IMPIANTARE'!$G66=2,'3 - SPECIE DA IMPIANTARE'!$G66,\"\")","v":""},{"$f":"IF(AND($B65=\"AZIONE_2\",F65=2),'3 - SPECIE DA IMPIANTARE'!$I66,\"\")","v":""},null,{"$f":"IF('3 - SPECIE DA IMPIANTARE'!$G66=3,'3 - SPECIE DA IMPIANTARE'!$G66,\"\")","v":""},{"$f":"IF(AND($B65=\"AZIONE_2\",$I65=3),'3 - SPECIE DA IMPIANTARE'!$I66,\"\")","v":""},null,{"$f":"IF('3 - SPECIE DA IMPIANTARE'!$G66=4,'3 - SPECIE DA IMPIANTARE'!$G66,\"\")","v":""},{"$f":"IF(AND($B65=\"AZIONE_2\",$L65=4),'3 - SPECIE DA IMPIANTARE'!$I66,\"\")","v":""},null,{"$f":"IF('3 - SPECIE DA IMPIANTARE'!$G66=5,'3 - SPECIE DA IMPIANTARE'!$G66,\"\")","v":""},{"$f":"IF(AND($B65=\"AZIONE_2\",$O65=5),'3 - SPECIE DA IMPIANTARE'!$I66,\"\")","v":""},null,{"$f":"IF('3 - SPECIE DA IMPIANTARE'!$G66=6,'3 - SPECIE DA IMPIANTARE'!$G66,\"\")","v":""},{"$f":"IF(AND($B65=\"AZIONE_2\",$R65=6),'3 - SPECIE DA IMPIANTARE'!$I66,\"\")","v":""}]
[1,{"$f":"IF('3 - SPECIE DA IMPIANTARE'!$H67=\"AZIONE_2\",'3 - SPECIE DA IMPIANTARE'!$H67,\"\")","v":""},{"$f":"IF('3 - SPECIE DA IMPIANTARE'!$G67=1,'3 - SPECIE DA IMPIANTARE'!$G67,\"\")","v":""},{"$f":"IF(AND($B66=\"AZIONE_2\",C66=1),'3 - SPECIE DA IMPIANTARE'!$I67,\"\")","v":""},null,{"$f":"IF('3 - SPECIE DA IMPIANTARE'!$G67=2,'3 - SPECIE DA IMPIANTARE'!$G67,\"\")","v":""},{"$f":"IF(AND($B66=\"AZIONE_2\",F66=2),'3 - SPECIE DA IMPIANTARE'!$I67,\"\")","v":""},null,{"$f":"IF('3 - SPECIE DA IMPIANTARE'!$G67=3,'3 - SPECIE DA IMPIANTARE'!$G67,\"\")","v":""},{"$f":"IF(AND($B66=\"AZIONE_2\",$I66=3),'3 - SPECIE DA IMPIANTARE'!$I67,\"\")","v":""},null,{"$f":"IF('3 - SPECIE DA IMPIANTARE'!$G67=4,'3 - SPECIE DA IMPIANTARE'!$G67,\"\")","v":""},{"$f":"IF(AND($B66=\"AZIONE_2\",$L66=4),'3 - SPECIE DA IMPIANTARE'!$I67,\"\")","v":""},null,{"$f":"IF('3 - SPECIE DA IMPIANTARE'!$G67=5,'3 - SPECIE DA IMPIANTARE'!$G67,\"\")","v":""},{"$f":"IF(AND($B66=\"AZIONE_2\",$O66=5),'3 - SPECIE DA IMPIANTARE'!$I67,\"\")","v":""},null,{"$f":"IF('3 - SPECIE DA IMPIANTARE'!$G67=6,'3 - SPECIE DA IMPIANTARE'!$G67,\"\")","v":""},{"$f":"IF(AND($B66=\"AZIONE_2\",$R66=6),'3 - SPECIE DA IMPIANTARE'!$I67,\"\")","v":""}]
[1,{"$f":"IF('3 - SPECIE DA IMPIANTARE'!$H68=\"AZIONE_2\",'3 - SPECIE DA IMPIANTARE'!$H68,\"\")","v":""},{"$f":"IF('3 - SPECIE DA IMPIANTARE'!$G68=1,'3 - SPECIE DA IMPIANTARE'!$G68,\"\")","v":""},{"$f":"IF(AND($B67=\"AZIONE_2\",C67=1),'3 - SPECIE DA IMPIANTARE'!$I68,\"\")","v":""},null,{"$f":"IF('3 - SPECIE DA IMPIANTARE'!$G68=2,'3 - SPECIE DA IMPIANTARE'!$G68,\"\")","v":""},{"$f":"IF(AND($B67=\"AZIONE_2\",F67=2),'3 - SPECIE DA IMPIANTARE'!$I68,\"\")","v":""},null,{"$f":"IF('3 - SPECIE DA IMPIANTARE'!$G68=3,'3 - SPECIE DA IMPIANTARE'!$G68,\"\")","v":""},{"$f":"IF(AND($B67=\"AZIONE_2\",$I67=3),'3 - SPECIE DA IMPIANTARE'!$I68,\"\")","v":""},null,{"$f":"IF('3 - SPECIE DA IMPIANTARE'!$G68=4,'3 - SPECIE DA IMPIANTARE'!$G68,\"\")","v":""},{"$f":"IF(AND($B67=\"AZIONE_2\",$L67=4),'3 - SPECIE DA IMPIANTARE'!$I68,\"\")","v":""},null,{"$f":"IF('3 - SPECIE DA IMPIANTARE'!$G68=5,'3 - SPECIE DA IMPIANTARE'!$G68,\"\")","v":""},{"$f":"IF(AND($B67=\"AZIONE_2\",$O67=5),'3 - SPECIE DA IMPIANTARE'!$I68,\"\")","v":""},null,{"$f":"IF('3 - SPECIE DA IMPIANTARE'!$G68=6,'3 - SPECIE DA IMPIANTARE'!$G68,\"\")","v":""},{"$f":"IF(AND($B67=\"AZIONE_2\",$R67=6),'3 - SPECIE DA IMPIANTARE'!$I68,\"\")","v":""}]
[1,{"$f":"IF('3 - SPECIE DA IMPIANTARE'!$H69=\"AZIONE_2\",'3 - SPECIE DA IMPIANTARE'!$H69,\"\")","v":""},{"$f":"IF('3 - SPECIE DA IMPIANTARE'!$G69=1,'3 - SPECIE DA IMPIANTARE'!$G69,\"\")","v":""},{"$f":"IF(AND($B68=\"AZIONE_2\",C68=1),'3 - SPECIE DA IMPIANTARE'!$I69,\"\")","v":""},null,{"$f":"IF('3 - SPECIE DA IMPIANTARE'!$G69=2,'3 - SPECIE DA IMPIANTARE'!$G69,\"\")","v":""},{"$f":"IF(AND($B68=\"AZIONE_2\",F68=2),'3 - SPECIE DA IMPIANTARE'!$I69,\"\")","v":""},null,{"$f":"IF('3 - SPECIE DA IMPIANTARE'!$G69=3,'3 - SPECIE DA IMPIANTARE'!$G69,\"\")","v":""},{"$f":"IF(AND($B68=\"AZIONE_2\",$I68=3),'3 - SPECIE DA IMPIANTARE'!$I69,\"\")","v":""},null,{"$f":"IF('3 - SPECIE DA IMPIANTARE'!$G69=4,'3 - SPECIE DA IMPIANTARE'!$G69,\"\")","v":""},{"$f":"IF(AND($B68=\"AZIONE_2\",$L68=4),'3 - SPECIE DA IMPIANTARE'!$I69,\"\")","v":""},null,{"$f":"IF('3 - SPECIE DA IMPIANTARE'!$G69=5,'3 - SPECIE DA IMPIANTARE'!$G69,\"\")","v":""},{"$f":"IF(AND($B68=\"AZIONE_2\",$O68=5),'3 - SPECIE DA IMPIANTARE'!$I69,\"\")","v":""},null,{"$f":"IF('3 - SPECIE DA IMPIANTARE'!$G69=6,'3 - SPECIE DA IMPIANTARE'!$G69,\"\")","v":""},{"$f":"IF(AND($B68=\"AZIONE_2\",$R68=6),'3 - SPECIE DA IMPIANTARE'!$I69,\"\")","v":""}]
[1,{"$f":"IF('3 - SPECIE DA IMPIANTARE'!$H70=\"AZIONE_2\",'3 - SPECIE DA IMPIANTARE'!$H70,\"\")","v":""},{"$f":"IF('3 - SPECIE DA IMPIANTARE'!$G70=1,'3 - SPECIE DA IMPIANTARE'!$G70,\"\")","v":""},{"$f":"IF(AND($B69=\"AZIONE_2\",C69=1),'3 - SPECIE DA IMPIANTARE'!$I70,\"\")","v":""},null,{"$f":"IF('3 - SPECIE DA IMPIANTARE'!$G70=2,'3 - SPECIE DA IMPIANTARE'!$G70,\"\")","v":""},{"$f":"IF(AND($B69=\"AZIONE_2\",F69=2),'3 - SPECIE DA IMPIANTARE'!$I70,\"\")","v":""},null,{"$f":"IF('3 - SPECIE DA IMPIANTARE'!$G70=3,'3 - SPECIE DA IMPIANTARE'!$G70,\"\")","v":""},{"$f":"IF(AND($B69=\"AZIONE_2\",$I69=3),'3 - SPECIE DA IMPIANTARE'!$I70,\"\")","v":""},null,{"$f":"IF('3 - SPECIE DA IMPIANTARE'!$G70=4,'3 - SPECIE DA IMPIANTARE'!$G70,\"\")","v":""},{"$f":"IF(AND($B69=\"AZIONE_2\",$L69=4),'3 - SPECIE DA IMPIANTARE'!$I70,\"\")","v":""},null,{"$f":"IF('3 - SPECIE DA IMPIANTARE'!$G70=5,'3 - SPECIE DA IMPIANTARE'!$G70,\"\")","v":""},{"$f":"IF(AND($B69=\"AZIONE_2\",$O69=5),'3 - SPECIE DA IMPIANTARE'!$I70,\"\")","v":""},null,{"$f":"IF('3 - SPECIE DA IMPIANTARE'!$G70=6,'3 - SPECIE DA IMPIANTARE'!$G70,\"\")","v":""},{"$f":"IF(AND($B69=\"AZIONE_2\",$R69=6),'3 - SPECIE DA IMPIANTARE'!$I70,\"\")","v":""}]
[1,{"$f":"IF('3 - SPECIE DA IMPIANTARE'!$H71=\"AZIONE_2\",'3 - SPECIE DA IMPIANTARE'!$H71,\"\")","v":""},{"$f":"IF('3 - SPECIE DA IMPIANTARE'!$G71=1,'3 - SPECIE DA IMPIANTARE'!$G71,\"\")","v":""},{"$f":"IF(AND($B70=\"AZIONE_2\",C70=1),'3 - SPECIE DA IMPIANTARE'!$I71,\"\")","v":""},null,{"$f":"IF('3 - SPECIE DA IMPIANTARE'!$G71=2,'3 - SPECIE DA IMPIANTARE'!$G71,\"\")","v":""},{"$f":"IF(AND($B70=\"AZIONE_2\",F70=2),'3 - SPECIE DA IMPIANTARE'!$I71,\"\")","v":""},null,{"$f":"IF('3 - SPECIE DA IMPIANTARE'!$G71=3,'3 - SPECIE DA IMPIANTARE'!$G71,\"\")","v":""},{"$f":"IF(AND($B70=\"AZIONE_2\",$I70=3),'3 - SPECIE DA IMPIANTARE'!$I71,\"\")","v":""},null,{"$f":"IF('3 - SPECIE DA IMPIANTARE'!$G71=4,'3 - SPECIE DA IMPIANTARE'!$G71,\"\")","v":""},{"$f":"IF(AND($B70=\"AZIONE_2\",$L70=4),'3 - SPECIE DA IMPIANTARE'!$I71,\"\")","v":""},null,{"$f":"IF('3 - SPECIE DA IMPIANTARE'!$G71=5,'3 - SPECIE DA IMPIANTARE'!$G71,\"\")","v":""},{"$f":"IF(AND($B70=\"AZIONE_2\",$O70=5),'3 - SPECIE DA IMPIANTARE'!$I71,\"\")","v":""},null,{"$f":"IF('3 - SPECIE DA IMPIANTARE'!$G71=6,'3 - SPECIE DA IMPIANTARE'!$G71,\"\")","v":""},{"$f":"IF(AND($B70=\"AZIONE_2\",$R70=6),'3 - SPECIE DA IMPIANTARE'!$I71,\"\")","v":""}]
[1,{"$f":"IF('3 - SPECIE DA IMPIANTARE'!$H72=\"AZIONE_2\",'3 - SPECIE DA IMPIANTARE'!$H72,\"\")","v":""},{"$f":"IF('3 - SPECIE DA IMPIANTARE'!$G72=1,'3 - SPECIE DA IMPIANTARE'!$G72,\"\")","v":""},{"$f":"IF(AND($B71=\"AZIONE_2\",C71=1),'3 - SPECIE DA IMPIANTARE'!$I72,\"\")","v":""},null,{"$f":"IF('3 - SPECIE DA IMPIANTARE'!$G72=2,'3 - SPECIE DA IMPIANTARE'!$G72,\"\")","v":""},{"$f":"IF(AND($B71=\"AZIONE_2\",F71=2),'3 - SPECIE DA IMPIANTARE'!$I72,\"\")","v":""},null,{"$f":"IF('3 - SPECIE DA IMPIANTARE'!$G72=3,'3 - SPECIE DA IMPIANTARE'!$G72,\"\")","v":""},{"$f":"IF(AND($B71=\"AZIONE_2\",$I71=3),'3 - SPECIE DA IMPIANTARE'!$I72,\"\")","v":""},null,{"$f":"IF('3 - SPECIE DA IMPIANTARE'!$G72=4,'3 - SPECIE DA IMPIANTARE'!$G72,\"\")","v":""},{"$f":"IF(AND($B71=\"AZIONE_2\",$L71=4),'3 - SPECIE DA IMPIANTARE'!$I72,\"\")","v":""},null,{"$f":"IF('3 - SPECIE DA IMPIANTARE'!$G72=5,'3 - SPECIE DA IMPIANTARE'!$G72,\"\")","v":""},{"$f":"IF(AND($B71=\"AZIONE_2\",$O71=5),'3 - SPECIE DA IMPIANTARE'!$I72,\"\")","v":""},null,{"$f":"IF('3 - SPECIE DA IMPIANTARE'!$G72=6,'3 - SPECIE DA IMPIANTARE'!$G72,\"\")","v":""},{"$f":"IF(AND($B71=\"AZIONE_2\",$R71=6),'3 - SPECIE DA IMPIANTARE'!$I72,\"\")","v":""}]
[1,{"$f":"IF('3 - SPECIE DA IMPIANTARE'!$H73=\"AZIONE_2\",'3 - SPECIE DA IMPIANTARE'!$H73,\"\")","v":""},{"$f":"IF('3 - SPECIE DA IMPIANTARE'!$G73=1,'3 - SPECIE DA IMPIANTARE'!$G73,\"\")","v":""},{"$f":"IF(AND($B72=\"AZIONE_2\",C72=1),'3 - SPECIE DA IMPIANTARE'!$I73,\"\")","v":""},null,{"$f":"IF('3 - SPECIE DA IMPIANTARE'!$G73=2,'3 - SPECIE DA IMPIANTARE'!$G73,\"\")","v":""},{"$f":"IF(AND($B72=\"AZIONE_2\",F72=2),'3 - SPECIE DA IMPIANTARE'!$I73,\"\")","v":""},null,{"$f":"IF('3 - SPECIE DA IMPIANTARE'!$G73=3,'3 - SPECIE DA IMPIANTARE'!$G73,\"\")","v":""},{"$f":"IF(AND($B72=\"AZIONE_2\",$I72=3),'3 - SPECIE DA IMPIANTARE'!$I73,\"\")","v":""},null,{"$f":"IF('3 - SPECIE DA IMPIANTARE'!$G73=4,'3 - SPECIE DA IMPIANTARE'!$G73,\"\")","v":""},{"$f":"IF(AND($B72=\"AZIONE_2\",$L72=4),'3 - SPECIE DA IMPIANTARE'!$I73,\"\")","v":""},null,{"$f":"IF('3 - SPECIE DA IMPIANTARE'!$G73=5,'3 - SPECIE DA IMPIANTARE'!$G73,\"\")","v":""},{"$f":"IF(AND($B72=\"AZIONE_2\",$O72=5),'3 - SPECIE DA IMPIANTARE'!$I73,\"\")","v":""},null,{"$f":"IF('3 - SPECIE DA IMPIANTARE'!$G73=6,'3 - SPECIE DA IMPIANTARE'!$G73,\"\")","v":""},{"$f":"IF(AND($B72=\"AZIONE_2\",$R72=6),'3 - SPECIE DA IMPIANTARE'!$I73,\"\")","v":""}]
[1,{"$f":"IF('3 - SPECIE DA IMPIANTARE'!$H74=\"AZIONE_2\",'3 - SPECIE DA IMPIANTARE'!$H74,\"\")","v":""},{"$f":"IF('3 - SPECIE DA IMPIANTARE'!$G74=1,'3 - SPECIE DA IMPIANTARE'!$G74,\"\")","v":""},{"$f":"IF(AND($B73=\"AZIONE_2\",C73=1),'3 - SPECIE DA IMPIANTARE'!$I74,\"\")","v":""},null,{"$f":"IF('3 - SPECIE DA IMPIANTARE'!$G74=2,'3 - SPECIE DA IMPIANTARE'!$G74,\"\")","v":""},{"$f":"IF(AND($B73=\"AZIONE_2\",F73=2),'3 - SPECIE DA IMPIANTARE'!$I74,\"\")","v":""},null,{"$f":"IF('3 - SPECIE DA IMPIANTARE'!$G74=3,'3 - SPECIE DA IMPIANTARE'!$G74,\"\")","v":""},{"$f":"IF(AND($B73=\"AZIONE_2\",$I73=3),'3 - SPECIE DA IMPIANTARE'!$I74,\"\")","v":""},null,{"$f":"IF('3 - SPECIE DA IMPIANTARE'!$G74=4,'3 - SPECIE DA IMPIANTARE'!$G74,\"\")","v":""},{"$f":"IF(AND($B73=\"AZIONE_2\",$L73=4),'3 - SPECIE DA IMPIANTARE'!$I74,\"\")","v":""},null,{"$f":"IF('3 - SPECIE DA IMPIANTARE'!$G74=5,'3 - SPECIE DA IMPIANTARE'!$G74,\"\")","v":""},{"$f":"IF(AND($B73=\"AZIONE_2\",$O73=5),'3 - SPECIE DA IMPIANTARE'!$I74,\"\")","v":""},null,{"$f":"IF('3 - SPECIE DA IMPIANTARE'!$G74=6,'3 - SPECIE DA IMPIANTARE'!$G74,\"\")","v":""},{"$f":"IF(AND($B73=\"AZIONE_2\",$R73=6),'3 - SPECIE DA IMPIANTARE'!$I74,\"\")","v":""}]
[1,{"$f":"IF('3 - SPECIE DA IMPIANTARE'!$H75=\"AZIONE_2\",'3 - SPECIE DA IMPIANTARE'!$H75,\"\")","v":""},{"$f":"IF('3 - SPECIE DA IMPIANTARE'!$G75=1,'3 - SPECIE DA IMPIANTARE'!$G75,\"\")","v":""},{"$f":"IF(AND($B74=\"AZIONE_2\",C74=1),'3 - SPECIE DA IMPIANTARE'!$I75,\"\")","v":""},null,{"$f":"IF('3 - SPECIE DA IMPIANTARE'!$G75=2,'3 - SPECIE DA IMPIANTARE'!$G75,\"\")","v":""},{"$f":"IF(AND($B74=\"AZIONE_2\",F74=2),'3 - SPECIE DA IMPIANTARE'!$I75,\"\")","v":""},null,{"$f":"IF('3 - SPECIE DA IMPIANTARE'!$G75=3,'3 - SPECIE DA IMPIANTARE'!$G75,\"\")","v":""},{"$f":"IF(AND($B74=\"AZIONE_2\",$I74=3),'3 - SPECIE DA IMPIANTARE'!$I75,\"\")","v":""},null,{"$f":"IF('3 - SPECIE DA IMPIANTARE'!$G75=4,'3 - SPECIE DA IMPIANTARE'!$G75,\"\")","v":""},{"$f":"IF(AND($B74=\"AZIONE_2\",$L74=4),'3 - SPECIE DA IMPIANTARE'!$I75,\"\")","v":""},null,{"$f":"IF('3 - SPECIE DA IMPIANTARE'!$G75=5,'3 - SPECIE DA IMPIANTARE'!$G75,\"\")","v":""},{"$f":"IF(AND($B74=\"AZIONE_2\",$O74=5),'3 - SPECIE DA IMPIANTARE'!$I75,\"\")","v":""},null,{"$f":"IF('3 - SPECIE DA IMPIANTARE'!$G75=6,'3 - SPECIE DA IMPIANTARE'!$G75,\"\")","v":""},{"$f":"IF(AND($B74=\"AZIONE_2\",$R74=6),'3 - SPECIE DA IMPIANTARE'!$I75,\"\")","v":""}]
[1,{"$f":"IF('3 - SPECIE DA IMPIANTARE'!$H76=\"AZIONE_2\",'3 - SPECIE DA IMPIANTARE'!$H76,\"\")","v":""},{"$f":"IF('3 - SPECIE DA IMPIANTARE'!$G76=1,'3 - SPECIE DA IMPIANTARE'!$G76,\"\")","v":""},{"$f":"IF(AND($B75=\"AZIONE_2\",C75=1),'3 - SPECIE DA IMPIANTARE'!$I76,\"\")","v":""},null,{"$f":"IF('3 - SPECIE DA IMPIANTARE'!$G76=2,'3 - SPECIE DA IMPIANTARE'!$G76,\"\")","v":""},{"$f":"IF(AND($B75=\"AZIONE_2\",F75=2),'3 - SPECIE DA IMPIANTARE'!$I76,\"\")","v":""},null,{"$f":"IF('3 - SPECIE DA IMPIANTARE'!$G76=3,'3 - SPECIE DA IMPIANTARE'!$G76,\"\")","v":""},{"$f":"IF(AND($B75=\"AZIONE_2\",$I75=3),'3 - SPECIE DA IMPIANTARE'!$I76,\"\")","v":""},null,{"$f":"IF('3 - SPECIE DA IMPIANTARE'!$G76=4,'3 - SPECIE DA IMPIANTARE'!$G76,\"\")","v":""},{"$f":"IF(AND($B75=\"AZIONE_2\",$L75=4),'3 - SPECIE DA IMPIANTARE'!$I76,\"\")","v":""},null,{"$f":"IF('3 - SPECIE DA IMPIANTARE'!$G76=5,'3 - SPECIE DA IMPIANTARE'!$G76,\"\")","v":""},{"$f":"IF(AND($B75=\"AZIONE_2\",$O75=5),'3 - SPECIE DA IMPIANTARE'!$I76,\"\")","v":""},null,{"$f":"IF('3 - SPECIE DA IMPIANTARE'!$G76=6,'3 - SPECIE DA IMPIANTARE'!$G76,\"\")","v":""},{"$f":"IF(AND($B75=\"AZIONE_2\",$R75=6),'3 - SPECIE DA IMPIANTARE'!$I76,\"\")","v":""}]
[1,{"$f":"IF('3 - SPECIE DA IMPIANTARE'!$H77=\"AZIONE_2\",'3 - SPECIE DA IMPIANTARE'!$H77,\"\")","v":""},{"$f":"IF('3 - SPECIE DA IMPIANTARE'!$G77=1,'3 - SPECIE DA IMPIANTARE'!$G77,\"\")","v":""},{"$f":"IF(AND($B76=\"AZIONE_2\",C76=1),'3 - SPECIE DA IMPIANTARE'!$I77,\"\")","v":""},null,{"$f":"IF('3 - SPECIE DA IMPIANTARE'!$G77=2,'3 - SPECIE DA IMPIANTARE'!$G77,\"\")","v":""},{"$f":"IF(AND($B76=\"AZIONE_2\",F76=2),'3 - SPECIE DA IMPIANTARE'!$I77,\"\")","v":""},null,{"$f":"IF('3 - SPECIE DA IMPIANTARE'!$G77=3,'3 - SPECIE DA IMPIANTARE'!$G77,\"\")","v":""},{"$f":"IF(AND($B76=\"AZIONE_2\",$I76=3),'3 - SPECIE DA IMPIANTARE'!$I77,\"\")","v":""},null,{"$f":"IF('3 - SPECIE DA IMPIANTARE'!$G77=4,'3 - SPECIE DA IMPIANTARE'!$G77,\"\")","v":""},{"$f":"IF(AND($B76=\"AZIONE_2\",$L76=4),'3 - SPECIE DA IMPIANTARE'!$I77,\"\")","v":""},null,{"$f":"IF('3 - SPECIE DA IMPIANTARE'!$G77=5,'3 - SPECIE DA IMPIANTARE'!$G77,\"\")","v":""},{"$f":"IF(AND($B76=\"AZIONE_2\",$O76=5),'3 - SPECIE DA IMPIANTARE'!$I77,\"\")","v":""},null,{"$f":"IF('3 - SPECIE DA IMPIANTARE'!$G77=6,'3 - SPECIE DA IMPIANTARE'!$G77,\"\")","v":""},{"$f":"IF(AND($B76=\"AZIONE_2\",$R76=6),'3 - SPECIE DA IMPIANTARE'!$I77,\"\")","v":""}]
[1,{"$f":"IF('3 - SPECIE DA IMPIANTARE'!$H78=\"AZIONE_2\",'3 - SPECIE DA IMPIANTARE'!$H78,\"\")","v":""},{"$f":"IF('3 - SPECIE DA IMPIANTARE'!$G78=1,'3 - SPECIE DA IMPIANTARE'!$G78,\"\")","v":""},{"$f":"IF(AND($B77=\"AZIONE_2\",C77=1),'3 - SPECIE DA IMPIANTARE'!$I78,\"\")","v":""},null,{"$f":"IF('3 - SPECIE DA IMPIANTARE'!$G78=2,'3 - SPECIE DA IMPIANTARE'!$G78,\"\")","v":""},{"$f":"IF(AND($B77=\"AZIONE_2\",F77=2),'3 - SPECIE DA IMPIANTARE'!$I78,\"\")","v":""},null,{"$f":"IF('3 - SPECIE DA IMPIANTARE'!$G78=3,'3 - SPECIE DA IMPIANTARE'!$G78,\"\")","v":""},{"$f":"IF(AND($B77=\"AZIONE_2\",$I77=3),'3 - SPECIE DA IMPIANTARE'!$I78,\"\")","v":""},null,{"$f":"IF('3 - SPECIE DA IMPIANTARE'!$G78=4,'3 - SPECIE DA IMPIANTARE'!$G78,\"\")","v":""},{"$f":"IF(AND($B77=\"AZIONE_2\",$L77=4),'3 - SPECIE DA IMPIANTARE'!$I78,\"\")","v":""},null,{"$f":"IF('3 - SPECIE DA IMPIANTARE'!$G78=5,'3 - SPECIE DA IMPIANTARE'!$G78,\"\")","v":""},{"$f":"IF(AND($B77=\"AZIONE_2\",$O77=5),'3 - SPECIE DA IMPIANTARE'!$I78,\"\")","v":""},null,{"$f":"IF('3 - SPECIE DA IMPIANTARE'!$G78=6,'3 - SPECIE DA IMPIANTARE'!$G78,\"\")","v":""},{"$f":"IF(AND($B77=\"AZIONE_2\",$R77=6),'3 - SPECIE DA IMPIANTARE'!$I78,\"\")","v":""}]
[1,{"$f":"IF('3 - SPECIE DA IMPIANTARE'!$H79=\"AZIONE_2\",'3 - SPECIE DA IMPIANTARE'!$H79,\"\")","v":""},{"$f":"IF('3 - SPECIE DA IMPIANTARE'!$G79=1,'3 - SPECIE DA IMPIANTARE'!$G79,\"\")","v":""},{"$f":"IF(AND($B78=\"AZIONE_2\",C78=1),'3 - SPECIE DA IMPIANTARE'!$I79,\"\")","v":""},null,{"$f":"IF('3 - SPECIE DA IMPIANTARE'!$G79=2,'3 - SPECIE DA IMPIANTARE'!$G79,\"\")","v":""},{"$f":"IF(AND($B78=\"AZIONE_2\",F78=2),'3 - SPECIE DA IMPIANTARE'!$I79,\"\")","v":""},null,{"$f":"IF('3 - SPECIE DA IMPIANTARE'!$G79=3,'3 - SPECIE DA IMPIANTARE'!$G79,\"\")","v":""},{"$f":"IF(AND($B78=\"AZIONE_2\",$I78=3),'3 - SPECIE DA IMPIANTARE'!$I79,\"\")","v":""},null,{"$f":"IF('3 - SPECIE DA IMPIANTARE'!$G79=4,'3 - SPECIE DA IMPIANTARE'!$G79,\"\")","v":""},{"$f":"IF(AND($B78=\"AZIONE_2\",$L78=4),'3 - SPECIE DA IMPIANTARE'!$I79,\"\")","v":""},null,{"$f":"IF('3 - SPECIE DA IMPIANTARE'!$G79=5,'3 - SPECIE DA IMPIANTARE'!$G79,\"\")","v":""},{"$f":"IF(AND($B78=\"AZIONE_2\",$O78=5),'3 - SPECIE DA IMPIANTARE'!$I79,\"\")","v":""},null,{"$f":"IF('3 - SPECIE DA IMPIANTARE'!$G79=6,'3 - SPECIE DA IMPIANTARE'!$G79,\"\")","v":""},{"$f":"IF(AND($B78=\"AZIONE_2\",$R78=6),'3 - SPECIE DA IMPIANTARE'!$I79,\"\")","v":""}]
[1,{"$f":"IF('3 - SPECIE DA IMPIANTARE'!$H80=\"AZIONE_2\",'3 - SPECIE DA IMPIANTARE'!$H80,\"\")","v":""},{"$f":"IF('3 - SPECIE DA IMPIANTARE'!$G80=1,'3 - SPECIE DA IMPIANTARE'!$G80,\"\")","v":""},{"$f":"IF(AND($B79=\"AZIONE_2\",C79=1),'3 - SPECIE DA IMPIANTARE'!$I80,\"\")","v":""},null,{"$f":"IF('3 - SPECIE DA IMPIANTARE'!$G80=2,'3 - SPECIE DA IMPIANTARE'!$G80,\"\")","v":""},{"$f":"IF(AND($B79=\"AZIONE_2\",F79=2),'3 - SPECIE DA IMPIANTARE'!$I80,\"\")","v":""},null,{"$f":"IF('3 - SPECIE DA IMPIANTARE'!$G80=3,'3 - SPECIE DA IMPIANTARE'!$G80,\"\")","v":""},{"$f":"IF(AND($B79=\"AZIONE_2\",$I79=3),'3 - SPECIE DA IMPIANTARE'!$I80,\"\")","v":""},null,{"$f":"IF('3 - SPECIE DA IMPIANTARE'!$G80=4,'3 - SPECIE DA IMPIANTARE'!$G80,\"\")","v":""},{"$f":"IF(AND($B79=\"AZIONE_2\",$L79=4),'3 - SPECIE DA IMPIANTARE'!$I80,\"\")","v":""},null,{"$f":"IF('3 - SPECIE DA IMPIANTARE'!$G80=5,'3 - SPECIE DA IMPIANTARE'!$G80,\"\")","v":""},{"$f":"IF(AND($B79=\"AZIONE_2\",$O79=5),'3 - SPECIE DA IMPIANTARE'!$I80,\"\")","v":""},null,{"$f":"IF('3 - SPECIE DA IMPIANTARE'!$G80=6,'3 - SPECIE DA IMPIANTARE'!$G80,\"\")","v":""},{"$f":"IF(AND($B79=\"AZIONE_2\",$R79=6),'3 - SPECIE DA IMPIANTARE'!$I80,\"\")","v":""}]
[1,{"$f":"IF('3 - SPECIE DA IMPIANTARE'!$H81=\"AZIONE_2\",'3 - SPECIE DA IMPIANTARE'!$H81,\"\")","v":""},{"$f":"IF('3 - SPECIE DA IMPIANTARE'!$G81=1,'3 - SPECIE DA IMPIANTARE'!$G81,\"\")","v":""},{"$f":"IF(AND($B80=\"AZIONE_2\",C80=1),'3 - SPECIE DA IMPIANTARE'!$I81,\"\")","v":""},null,{"$f":"IF('3 - SPECIE DA IMPIANTARE'!$G81=2,'3 - SPECIE DA IMPIANTARE'!$G81,\"\")","v":""},{"$f":"IF(AND($B80=\"AZIONE_2\",F80=2),'3 - SPECIE DA IMPIANTARE'!$I81,\"\")","v":""},null,{"$f":"IF('3 - SPECIE DA IMPIANTARE'!$G81=3,'3 - SPECIE DA IMPIANTARE'!$G81,\"\")","v":""},{"$f":"IF(AND($B80=\"AZIONE_2\",$I80=3),'3 - SPECIE DA IMPIANTARE'!$I81,\"\")","v":""},null,{"$f":"IF('3 - SPECIE DA IMPIANTARE'!$G81=4,'3 - SPECIE DA IMPIANTARE'!$G81,\"\")","v":""},{"$f":"IF(AND($B80=\"AZIONE_2\",$L80=4),'3 - SPECIE DA IMPIANTARE'!$I81,\"\")","v":""},null,{"$f":"IF('3 - SPECIE DA IMPIANTARE'!$G81=5,'3 - SPECIE DA IMPIANTARE'!$G81,\"\")","v":""},{"$f":"IF(AND($B80=\"AZIONE_2\",$O80=5),'3 - SPECIE DA IMPIANTARE'!$I81,\"\")","v":""},null,{"$f":"IF('3 - SPECIE DA IMPIANTARE'!$G81=6,'3 - SPECIE DA IMPIANTARE'!$G81,\"\")","v":""},{"$f":"IF(AND($B80=\"AZIONE_2\",$R80=6),'3 - SPECIE DA IMPIANTARE'!$I81,\"\")","v":""}]
[1,{"$f":"IF('3 - SPECIE DA IMPIANTARE'!$H82=\"AZIONE_2\",'3 - SPECIE DA IMPIANTARE'!$H82,\"\")","v":""},{"$f":"IF('3 - SPECIE DA IMPIANTARE'!$G82=1,'3 - SPECIE DA IMPIANTARE'!$G82,\"\")","v":""},{"$f":"IF(AND($B81=\"AZIONE_2\",C81=1),'3 - SPECIE DA IMPIANTARE'!$I82,\"\")","v":""},null,{"$f":"IF('3 - SPECIE DA IMPIANTARE'!$G82=2,'3 - SPECIE DA IMPIANTARE'!$G82,\"\")","v":""},{"$f":"IF(AND($B81=\"AZIONE_2\",F81=2),'3 - SPECIE DA IMPIANTARE'!$I82,\"\")","v":""},null,{"$f":"IF('3 - SPECIE DA IMPIANTARE'!$G82=3,'3 - SPECIE DA IMPIANTARE'!$G82,\"\")","v":""},{"$f":"IF(AND($B81=\"AZIONE_2\",$I81=3),'3 - SPECIE DA IMPIANTARE'!$I82,\"\")","v":""},null,{"$f":"IF('3 - SPECIE DA IMPIANTARE'!$G82=4,'3 - SPECIE DA IMPIANTARE'!$G82,\"\")","v":""},{"$f":"IF(AND($B81=\"AZIONE_2\",$L81=4),'3 - SPECIE DA IMPIANTARE'!$I82,\"\")","v":""},null,{"$f":"IF('3 - SPECIE DA IMPIANTARE'!$G82=5,'3 - SPECIE DA IMPIANTARE'!$G82,\"\")","v":""},{"$f":"IF(AND($B81=\"AZIONE_2\",$O81=5),'3 - SPECIE DA IMPIANTARE'!$I82,\"\")","v":""},null,{"$f":"IF('3 - SPECIE DA IMPIANTARE'!$G82=6,'3 - SPECIE DA IMPIANTARE'!$G82,\"\")","v":""},{"$f":"IF(AND($B81=\"AZIONE_2\",$R81=6),'3 - SPECIE DA IMPIANTARE'!$I82,\"\")","v":""}]
[1,{"$f":"IF('3 - SPECIE DA IMPIANTARE'!$H83=\"AZIONE_2\",'3 - SPECIE DA IMPIANTARE'!$H83,\"\")","v":""},{"$f":"IF('3 - SPECIE DA IMPIANTARE'!$G83=1,'3 - SPECIE DA IMPIANTARE'!$G83,\"\")","v":""},{"$f":"IF(AND($B82=\"AZIONE_2\",C82=1),'3 - SPECIE DA IMPIANTARE'!$I83,\"\")","v":""},null,{"$f":"IF('3 - SPECIE DA IMPIANTARE'!$G83=2,'3 - SPECIE DA IMPIANTARE'!$G83,\"\")","v":""},{"$f":"IF(AND($B82=\"AZIONE_2\",F82=2),'3 - SPECIE DA IMPIANTARE'!$I83,\"\")","v":""},null,{"$f":"IF('3 - SPECIE DA IMPIANTARE'!$G83=3,'3 - SPECIE DA IMPIANTARE'!$G83,\"\")","v":""},{"$f":"IF(AND($B82=\"AZIONE_2\",$I82=3),'3 - SPECIE DA IMPIANTARE'!$I83,\"\")","v":""},null,{"$f":"IF('3 - SPECIE DA IMPIANTARE'!$G83=4,'3 - SPECIE DA IMPIANTARE'!$G83,\"\")","v":""},{"$f":"IF(AND($B82=\"AZIONE_2\",$L82=4),'3 - SPECIE DA IMPIANTARE'!$I83,\"\")","v":""},null,{"$f":"IF('3 - SPECIE DA IMPIANTARE'!$G83=5,'3 - SPECIE DA IMPIANTARE'!$G83,\"\")","v":""},{"$f":"IF(AND($B82=\"AZIONE_2\",$O82=5),'3 - SPECIE DA IMPIANTARE'!$I83,\"\")","v":""},null,{"$f":"IF('3 - SPECIE DA IMPIANTARE'!$G83=6,'3 - SPECIE DA IMPIANTARE'!$G83,\"\")","v":""},{"$f":"IF(AND($B82=\"AZIONE_2\",$R82=6),'3 - SPECIE DA IMPIANTARE'!$I83,\"\")","v":""}]
[1,{"$f":"IF('3 - SPECIE DA IMPIANTARE'!$H84=\"AZIONE_2\",'3 - SPECIE DA IMPIANTARE'!$H84,\"\")","v":""},{"$f":"IF('3 - SPECIE DA IMPIANTARE'!$G84=1,'3 - SPECIE DA IMPIANTARE'!$G84,\"\")","v":""},{"$f":"IF(AND($B83=\"AZIONE_2\",C83=1),'3 - SPECIE DA IMPIANTARE'!$I84,\"\")","v":""},null,{"$f":"IF('3 - SPECIE DA IMPIANTARE'!$G84=2,'3 - SPECIE DA IMPIANTARE'!$G84,\"\")","v":""},{"$f":"IF(AND($B83=\"AZIONE_2\",F83=2),'3 - SPECIE DA IMPIANTARE'!$I84,\"\")","v":""},null,{"$f":"IF('3 - SPECIE DA IMPIANTARE'!$G84=3,'3 - SPECIE DA IMPIANTARE'!$G84,\"\")","v":""},{"$f":"IF(AND($B83=\"AZIONE_2\",$I83=3),'3 - SPECIE DA IMPIANTARE'!$I84,\"\")","v":""},null,{"$f":"IF('3 - SPECIE DA IMPIANTARE'!$G84=4,'3 - SPECIE DA IMPIANTARE'!$G84,\"\")","v":""},{"$f":"IF(AND($B83=\"AZIONE_2\",$L83=4),'3 - SPECIE DA IMPIANTARE'!$I84,\"\")","v":""},null,{"$f":"IF('3 - SPECIE DA IMPIANTARE'!$G84=5,'3 - SPECIE DA IMPIANTARE'!$G84,\"\")","v":""},{"$f":"IF(AND($B83=\"AZIONE_2\",$O83=5),'3 - SPECIE DA IMPIANTARE'!$I84,\"\")","v":""},null,{"$f":"IF('3 - SPECIE DA IMPIANTARE'!$G84=6,'3 - SPECIE DA IMPIANTARE'!$G84,\"\")","v":""},{"$f":"IF(AND($B83=\"AZIONE_2\",$R83=6),'3 - SPECIE DA IMPIANTARE'!$I84,\"\")","v":""}]
[1,{"$f":"IF('3 - SPECIE DA IMPIANTARE'!$H85=\"AZIONE_2\",'3 - SPECIE DA IMPIANTARE'!$H85,\"\")","v":""},{"$f":"IF('3 - SPECIE DA IMPIANTARE'!$G85=1,'3 - SPECIE DA IMPIANTARE'!$G85,\"\")","v":""},{"$f":"IF(AND($B84=\"AZIONE_2\",C84=1),'3 - SPECIE DA IMPIANTARE'!$I85,\"\")","v":""},null,{"$f":"IF('3 - SPECIE DA IMPIANTARE'!$G85=2,'3 - SPECIE DA IMPIANTARE'!$G85,\"\")","v":""},{"$f":"IF(AND($B84=\"AZIONE_2\",F84=2),'3 - SPECIE DA IMPIANTARE'!$I85,\"\")","v":""},null,{"$f":"IF('3 - SPECIE DA IMPIANTARE'!$G85=3,'3 - SPECIE DA IMPIANTARE'!$G85,\"\")","v":""},{"$f":"IF(AND($B84=\"AZIONE_2\",$I84=3),'3 - SPECIE DA IMPIANTARE'!$I85,\"\")","v":""},null,{"$f":"IF('3 - SPECIE DA IMPIANTARE'!$G85=4,'3 - SPECIE DA IMPIANTARE'!$G85,\"\")","v":""},{"$f":"IF(AND($B84=\"AZIONE_2\",$L84=4),'3 - SPECIE DA IMPIANTARE'!$I85,\"\")","v":""},null,{"$f":"IF('3 - SPECIE DA IMPIANTARE'!$G85=5,'3 - SPECIE DA IMPIANTARE'!$G85,\"\")","v":""},{"$f":"IF(AND($B84=\"AZIONE_2\",$O84=5),'3 - SPECIE DA IMPIANTARE'!$I85,\"\")","v":""},null,{"$f":"IF('3 - SPECIE DA IMPIANTARE'!$G85=6,'3 - SPECIE DA IMPIANTARE'!$G85,\"\")","v":""},{"$f":"IF(AND($B84=\"AZIONE_2\",$R84=6),'3 - SPECIE DA IMPIANTARE'!$I85,\"\")","v":""}]
[1,{"$f":"IF('3 - SPECIE DA IMPIANTARE'!$H86=\"AZIONE_2\",'3 - SPECIE DA IMPIANTARE'!$H86,\"\")","v":""},{"$f":"IF('3 - SPECIE DA IMPIANTARE'!$G86=1,'3 - SPECIE DA IMPIANTARE'!$G86,\"\")","v":""},{"$f":"IF(AND($B85=\"AZIONE_2\",C85=1),'3 - SPECIE DA IMPIANTARE'!$I86,\"\")","v":""},null,{"$f":"IF('3 - SPECIE DA IMPIANTARE'!$G86=2,'3 - SPECIE DA IMPIANTARE'!$G86,\"\")","v":""},{"$f":"IF(AND($B85=\"AZIONE_2\",F85=2),'3 - SPECIE DA IMPIANTARE'!$I86,\"\")","v":""},null,{"$f":"IF('3 - SPECIE DA IMPIANTARE'!$G86=3,'3 - SPECIE DA IMPIANTARE'!$G86,\"\")","v":""},{"$f":"IF(AND($B85=\"AZIONE_2\",$I85=3),'3 - SPECIE DA IMPIANTARE'!$I86,\"\")","v":""},null,{"$f":"IF('3 - SPECIE DA IMPIANTARE'!$G86=4,'3 - SPECIE DA IMPIANTARE'!$G86,\"\")","v":""},{"$f":"IF(AND($B85=\"AZIONE_2\",$L85=4),'3 - SPECIE DA IMPIANTARE'!$I86,\"\")","v":""},null,{"$f":"IF('3 - SPECIE DA IMPIANTARE'!$G86=5,'3 - SPECIE DA IMPIANTARE'!$G86,\"\")","v":""},{"$f":"IF(AND($B85=\"AZIONE_2\",$O85=5),'3 - SPECIE DA IMPIANTARE'!$I86,\"\")","v":""},null,{"$f":"IF('3 - SPECIE DA IMPIANTARE'!$G86=6,'3 - SPECIE DA IMPIANTARE'!$G86,\"\")","v":""},{"$f":"IF(AND($B85=\"AZIONE_2\",$R85=6),'3 - SPECIE DA IMPIANTARE'!$I86,\"\")","v":""}]
[1,{"$f":"IF('3 - SPECIE DA IMPIANTARE'!$H87=\"AZIONE_2\",'3 - SPECIE DA IMPIANTARE'!$H87,\"\")","v":""},{"$f":"IF('3 - SPECIE DA IMPIANTARE'!$G87=1,'3 - SPECIE DA IMPIANTARE'!$G87,\"\")","v":""},{"$f":"IF(AND($B86=\"AZIONE_2\",C86=1),'3 - SPECIE DA IMPIANTARE'!$I87,\"\")","v":""},null,{"$f":"IF('3 - SPECIE DA IMPIANTARE'!$G87=2,'3 - SPECIE DA IMPIANTARE'!$G87,\"\")","v":""},{"$f":"IF(AND($B86=\"AZIONE_2\",F86=2),'3 - SPECIE DA IMPIANTARE'!$I87,\"\")","v":""},null,{"$f":"IF('3 - SPECIE DA IMPIANTARE'!$G87=3,'3 - SPECIE DA IMPIANTARE'!$G87,\"\")","v":""},{"$f":"IF(AND($B86=\"AZIONE_2\",$I86=3),'3 - SPECIE DA IMPIANTARE'!$I87,\"\")","v":""},null,{"$f":"IF('3 - SPECIE DA IMPIANTARE'!$G87=4,'3 - SPECIE DA IMPIANTARE'!$G87,\"\")","v":""},{"$f":"IF(AND($B86=\"AZIONE_2\",$L86=4),'3 - SPECIE DA IMPIANTARE'!$I87,\"\")","v":""},null,{"$f":"IF('3 - SPECIE DA IMPIANTARE'!$G87=5,'3 - SPECIE DA IMPIANTARE'!$G87,\"\")","v":""},{"$f":"IF(AND($B86=\"AZIONE_2\",$O86=5),'3 - SPECIE DA IMPIANTARE'!$I87,\"\")","v":""},null,{"$f":"IF('3 - SPECIE DA IMPIANTARE'!$G87=6,'3 - SPECIE DA IMPIANTARE'!$G87,\"\")","v":""},{"$f":"IF(AND($B86=\"AZIONE_2\",$R86=6),'3 - SPECIE DA IMPIANTARE'!$I87,\"\")","v":""}]
[1,{"$f":"IF('3 - SPECIE DA IMPIANTARE'!$H88=\"AZIONE_2\",'3 - SPECIE DA IMPIANTARE'!$H88,\"\")","v":""},{"$f":"IF('3 - SPECIE DA IMPIANTARE'!$G88=1,'3 - SPECIE DA IMPIANTARE'!$G88,\"\")","v":""},{"$f":"IF(AND($B87=\"AZIONE_2\",C87=1),'3 - SPECIE DA IMPIANTARE'!$I88,\"\")","v":""},null,{"$f":"IF('3 - SPECIE DA IMPIANTARE'!$G88=2,'3 - SPECIE DA IMPIANTARE'!$G88,\"\")","v":""},{"$f":"IF(AND($B87=\"AZIONE_2\",F87=2),'3 - SPECIE DA IMPIANTARE'!$I88,\"\")","v":""},null,{"$f":"IF('3 - SPECIE DA IMPIANTARE'!$G88=3,'3 - SPECIE DA IMPIANTARE'!$G88,\"\")","v":""},{"$f":"IF(AND($B87=\"AZIONE_2\",$I87=3),'3 - SPECIE DA IMPIANTARE'!$I88,\"\")","v":""},null,{"$f":"IF('3 - SPECIE DA IMPIANTARE'!$G88=4,'3 - SPECIE DA IMPIANTARE'!$G88,\"\")","v":""},{"$f":"IF(AND($B87=\"AZIONE_2\",$L87=4),'3 - SPECIE DA IMPIANTARE'!$I88,\"\")","v":""},null,{"$f":"IF('3 - SPECIE DA IMPIANTARE'!$G88=5,'3 - SPECIE DA IMPIANTARE'!$G88,\"\")","v":""},{"$f":"IF(AND($B87=\"AZIONE_2\",$O87=5),'3 - SPECIE DA IMPIANTARE'!$I88,\"\")","v":""},null,{"$f":"IF('3 - SPECIE DA IMPIANTARE'!$G88=6,'3 - SPECIE DA IMPIANTARE'!$G88,\"\")","v":""},{"$f":"IF(AND($B87=\"AZIONE_2\",$R87=6),'3 - SPECIE DA IMPIANTARE'!$I88,\"\")","v":""}]
[1,{"$f":"IF('3 - SPECIE DA IMPIANTARE'!$H89=\"AZIONE_2\",'3 - SPECIE DA IMPIANTARE'!$H89,\"\")","v":""},{"$f":"IF('3 - SPECIE DA IMPIANTARE'!$G89=1,'3 - SPECIE DA IMPIANTARE'!$G89,\"\")","v":""},{"$f":"IF(AND($B88=\"AZIONE_2\",C88=1),'3 - SPECIE DA IMPIANTARE'!$I89,\"\")","v":""},null,{"$f":"IF('3 - SPECIE DA IMPIANTARE'!$G89=2,'3 - SPECIE DA IMPIANTARE'!$G89,\"\")","v":""},{"$f":"IF(AND($B88=\"AZIONE_2\",F88=2),'3 - SPECIE DA IMPIANTARE'!$I89,\"\")","v":""},null,{"$f":"IF('3 - SPECIE DA IMPIANTARE'!$G89=3,'3 - SPECIE DA IMPIANTARE'!$G89,\"\")","v":""},{"$f":"IF(AND($B88=\"AZIONE_2\",$I88=3),'3 - SPECIE DA IMPIANTARE'!$I89,\"\")","v":""},null,{"$f":"IF('3 - SPECIE DA IMPIANTARE'!$G89=4,'3 - SPECIE DA IMPIANTARE'!$G89,\"\")","v":""},{"$f":"IF(AND($B88=\"AZIONE_2\",$L88=4),'3 - SPECIE DA IMPIANTARE'!$I89,\"\")","v":""},null,{"$f":"IF('3 - SPECIE DA IMPIANTARE'!$G89=5,'3 - SPECIE DA IMPIANTARE'!$G89,\"\")","v":""},{"$f":"IF(AND($B88=\"AZIONE_2\",$O88=5),'3 - SPECIE DA IMPIANTARE'!$I89,\"\")","v":""},null,{"$f":"IF('3 - SPECIE DA IMPIANTARE'!$G89=6,'3 - SPECIE DA IMPIANTARE'!$G89,\"\")","v":""},{"$f":"IF(AND($B88=\"AZIONE_2\",$R88=6),'3 - SPECIE DA IMPIANTARE'!$I89,\"\")","v":""}]
[1,{"$f":"IF('3 - SPECIE DA IMPIANTARE'!$H90=\"AZIONE_2\",'3 - SPECIE DA IMPIANTARE'!$H90,\"\")","v":""},{"$f":"IF('3 - SPECIE DA IMPIANTARE'!$G90=1,'3 - SPECIE DA IMPIANTARE'!$G90,\"\")","v":""},{"$f":"IF(AND($B89=\"AZIONE_2\",C89=1),'3 - SPECIE DA IMPIANTARE'!$I90,\"\")","v":""},null,{"$f":"IF('3 - SPECIE DA IMPIANTARE'!$G90=2,'3 - SPECIE DA IMPIANTARE'!$G90,\"\")","v":""},{"$f":"IF(AND($B89=\"AZIONE_2\",F89=2),'3 - SPECIE DA IMPIANTARE'!$I90,\"\")","v":""},null,{"$f":"IF('3 - SPECIE DA IMPIANTARE'!$G90=3,'3 - SPECIE DA IMPIANTARE'!$G90,\"\")","v":""},{"$f":"IF(AND($B89=\"AZIONE_2\",$I89=3),'3 - SPECIE DA IMPIANTARE'!$I90,\"\")","v":""},null,{"$f":"IF('3 - SPECIE DA IMPIANTARE'!$G90=4,'3 - SPECIE DA IMPIANTARE'!$G90,\"\")","v":""},{"$f":"IF(AND($B89=\"AZIONE_2\",$L89=4),'3 - SPECIE DA IMPIANTARE'!$I90,\"\")","v":""},null,{"$f":"IF('3 - SPECIE DA IMPIANTARE'!$G90=5,'3 - SPECIE DA IMPIANTARE'!$G90,\"\")","v":""},{"$f":"IF(AND($B89=\"AZIONE_2\",$O89=5),'3 - SPECIE DA IMPIANTARE'!$I90,\"\")","v":""},null,{"$f":"IF('3 - SPECIE DA IMPIANTARE'!$G90=6,'3 - SPECIE DA IMPIANTARE'!$G90,\"\")","v":""},{"$f":"IF(AND($B89=\"AZIONE_2\",$R89=6),'3 - SPECIE DA IMPIANTARE'!$I90,\"\")","v":""}]
[1,{"$f":"IF('3 - SPECIE DA IMPIANTARE'!$H91=\"AZIONE_2\",'3 - SPECIE DA IMPIANTARE'!$H91,\"\")","v":""},{"$f":"IF('3 - SPECIE DA IMPIANTARE'!$G91=1,'3 - SPECIE DA IMPIANTARE'!$G91,\"\")","v":""},{"$f":"IF(AND($B90=\"AZIONE_2\",C90=1),'3 - SPECIE DA IMPIANTARE'!$I91,\"\")","v":""},null,{"$f":"IF('3 - SPECIE DA IMPIANTARE'!$G91=2,'3 - SPECIE DA IMPIANTARE'!$G91,\"\")","v":""},{"$f":"IF(AND($B90=\"AZIONE_2\",F90=2),'3 - SPECIE DA IMPIANTARE'!$I91,\"\")","v":""},null,{"$f":"IF('3 - SPECIE DA IMPIANTARE'!$G91=3,'3 - SPECIE DA IMPIANTARE'!$G91,\"\")","v":""},{"$f":"IF(AND($B90=\"AZIONE_2\",$I90=3),'3 - SPECIE DA IMPIANTARE'!$I91,\"\")","v":""},null,{"$f":"IF('3 - SPECIE DA IMPIANTARE'!$G91=4,'3 - SPECIE DA IMPIANTARE'!$G91,\"\")","v":""},{"$f":"IF(AND($B90=\"AZIONE_2\",$L90=4),'3 - SPECIE DA IMPIANTARE'!$I91,\"\")","v":""},null,{"$f":"IF('3 - SPECIE DA IMPIANTARE'!$G91=5,'3 - SPECIE DA IMPIANTARE'!$G91,\"\")","v":""},{"$f":"IF(AND($B90=\"AZIONE_2\",$O90=5),'3 - SPECIE DA IMPIANTARE'!$I91,\"\")","v":""},null,{"$f":"IF('3 - SPECIE DA IMPIANTARE'!$G91=6,'3 - SPECIE DA IMPIANTARE'!$G91,\"\")","v":""},{"$f":"IF(AND($B90=\"AZIONE_2\",$R90=6),'3 - SPECIE DA IMPIANTARE'!$I91,\"\")","v":""}]
[1,{"$f":"IF('3 - SPECIE DA IMPIANTARE'!$H92=\"AZIONE_2\",'3 - SPECIE DA IMPIANTARE'!$H92,\"\")","v":""},{"$f":"IF('3 - SPECIE DA IMPIANTARE'!$G92=1,'3 - SPECIE DA IMPIANTARE'!$G92,\"\")","v":""},{"$f":"IF(AND($B91=\"AZIONE_2\",C91=1),'3 - SPECIE DA IMPIANTARE'!$I92,\"\")","v":""},null,{"$f":"IF('3 - SPECIE DA IMPIANTARE'!$G92=2,'3 - SPECIE DA IMPIANTARE'!$G92,\"\")","v":""},{"$f":"IF(AND($B91=\"AZIONE_2\",F91=2),'3 - SPECIE DA IMPIANTARE'!$I92,\"\")","v":""},null,{"$f":"IF('3 - SPECIE DA IMPIANTARE'!$G92=3,'3 - SPECIE DA IMPIANTARE'!$G92,\"\")","v":""},{"$f":"IF(AND($B91=\"AZIONE_2\",$I91=3),'3 - SPECIE DA IMPIANTARE'!$I92,\"\")","v":""},null,{"$f":"IF('3 - SPECIE DA IMPIANTARE'!$G92=4,'3 - SPECIE DA IMPIANTARE'!$G92,\"\")","v":""},{"$f":"IF(AND($B91=\"AZIONE_2\",$L91=4),'3 - SPECIE DA IMPIANTARE'!$I92,\"\")","v":""},null,{"$f":"IF('3 - SPECIE DA IMPIANTARE'!$G92=5,'3 - SPECIE DA IMPIANTARE'!$G92,\"\")","v":""},{"$f":"IF(AND($B91=\"AZIONE_2\",$O91=5),'3 - SPECIE DA IMPIANTARE'!$I92,\"\")","v":""},null,{"$f":"IF('3 - SPECIE DA IMPIANTARE'!$G92=6,'3 - SPECIE DA IMPIANTARE'!$G92,\"\")","v":""},{"$f":"IF(AND($B91=\"AZIONE_2\",$R91=6),'3 - SPECIE DA IMPIANTARE'!$I92,\"\")","v":""}]
[1,{"$f":"IF('3 - SPECIE DA IMPIANTARE'!$H93=\"AZIONE_2\",'3 - SPECIE DA IMPIANTARE'!$H93,\"\")","v":""},{"$f":"IF('3 - SPECIE DA IMPIANTARE'!$G93=1,'3 - SPECIE DA IMPIANTARE'!$G93,\"\")","v":""},{"$f":"IF(AND($B92=\"AZIONE_2\",C92=1),'3 - SPECIE DA IMPIANTARE'!$I93,\"\")","v":""},null,{"$f":"IF('3 - SPECIE DA IMPIANTARE'!$G93=2,'3 - SPECIE DA IMPIANTARE'!$G93,\"\")","v":""},{"$f":"IF(AND($B92=\"AZIONE_2\",F92=2),'3 - SPECIE DA IMPIANTARE'!$I93,\"\")","v":""},null,{"$f":"IF('3 - SPECIE DA IMPIANTARE'!$G93=3,'3 - SPECIE DA IMPIANTARE'!$G93,\"\")","v":""},{"$f":"IF(AND($B92=\"AZIONE_2\",$I92=3),'3 - SPECIE DA IMPIANTARE'!$I93,\"\")","v":""},null,{"$f":"IF('3 - SPECIE DA IMPIANTARE'!$G93=4,'3 - SPECIE DA IMPIANTARE'!$G93,\"\")","v":""},{"$f":"IF(AND($B92=\"AZIONE_2\",$L92=4),'3 - SPECIE DA IMPIANTARE'!$I93,\"\")","v":""},null,{"$f":"IF('3 - SPECIE DA IMPIANTARE'!$G93=5,'3 - SPECIE DA IMPIANTARE'!$G93,\"\")","v":""},{"$f":"IF(AND($B92=\"AZIONE_2\",$O92=5),'3 - SPECIE DA IMPIANTARE'!$I93,\"\")","v":""},null,{"$f":"IF('3 - SPECIE DA IMPIANTARE'!$G93=6,'3 - SPECIE DA IMPIANTARE'!$G93,\"\")","v":""},{"$f":"IF(AND($B92=\"AZIONE_2\",$R92=6),'3 - SPECIE DA IMPIANTARE'!$I93,\"\")","v":""}]
[1,{"$f":"IF('3 - SPECIE DA IMPIANTARE'!$H94=\"AZIONE_2\",'3 - SPECIE DA IMPIANTARE'!$H94,\"\")","v":""},{"$f":"IF('3 - SPECIE DA IMPIANTARE'!$G94=1,'3 - SPECIE DA IMPIANTARE'!$G94,\"\")","v":""},{"$f":"IF(AND($B93=\"AZIONE_2\",C93=1),'3 - SPECIE DA IMPIANTARE'!$I94,\"\")","v":""},null,{"$f":"IF('3 - SPECIE DA IMPIANTARE'!$G94=2,'3 - SPECIE DA IMPIANTARE'!$G94,\"\")","v":""},{"$f":"IF(AND($B93=\"AZIONE_2\",F93=2),'3 - SPECIE DA IMPIANTARE'!$I94,\"\")","v":""},null,{"$f":"IF('3 - SPECIE DA IMPIANTARE'!$G94=3,'3 - SPECIE DA IMPIANTARE'!$G94,\"\")","v":""},{"$f":"IF(AND($B93=\"AZIONE_2\",$I93=3),'3 - SPECIE DA IMPIANTARE'!$I94,\"\")","v":""},null,{"$f":"IF('3 - SPECIE DA IMPIANTARE'!$G94=4,'3 - SPECIE DA IMPIANTARE'!$G94,\"\")","v":""},{"$f":"IF(AND($B93=\"AZIONE_2\",$L93=4),'3 - SPECIE DA IMPIANTARE'!$I94,\"\")","v":""},null,{"$f":"IF('3 - SPECIE DA IMPIANTARE'!$G94=5,'3 - SPECIE DA IMPIANTARE'!$G94,\"\")","v":""},{"$f":"IF(AND($B93=\"AZIONE_2\",$O93=5),'3 - SPECIE DA IMPIANTARE'!$I94,\"\")","v":""},null,{"$f":"IF('3 - SPECIE DA IMPIANTARE'!$G94=6,'3 - SPECIE DA IMPIANTARE'!$G94,\"\")","v":""},{"$f":"IF(AND($B93=\"AZIONE_2\",$R93=6),'3 - SPECIE DA IMPIANTARE'!$I94,\"\")","v":""}]
[1,{"$f":"IF('3 - SPECIE DA IMPIANTARE'!$H95=\"AZIONE_2\",'3 - SPECIE DA IMPIANTARE'!$H95,\"\")","v":""},{"$f":"IF('3 - SPECIE DA IMPIANTARE'!$G95=1,'3 - SPECIE DA IMPIANTARE'!$G95,\"\")","v":""},{"$f":"IF(AND($B94=\"AZIONE_2\",C94=1),'3 - SPECIE DA IMPIANTARE'!$I95,\"\")","v":""},null,{"$f":"IF('3 - SPECIE DA IMPIANTARE'!$G95=2,'3 - SPECIE DA IMPIANTARE'!$G95,\"\")","v":""},{"$f":"IF(AND($B94=\"AZIONE_2\",F94=2),'3 - SPECIE DA IMPIANTARE'!$I95,\"\")","v":""},null,{"$f":"IF('3 - SPECIE DA IMPIANTARE'!$G95=3,'3 - SPECIE DA IMPIANTARE'!$G95,\"\")","v":""},{"$f":"IF(AND($B94=\"AZIONE_2\",$I94=3),'3 - SPECIE DA IMPIANTARE'!$I95,\"\")","v":""},null,{"$f":"IF('3 - SPECIE DA IMPIANTARE'!$G95=4,'3 - SPECIE DA IMPIANTARE'!$G95,\"\")","v":""},{"$f":"IF(AND($B94=\"AZIONE_2\",$L94=4),'3 - SPECIE DA IMPIANTARE'!$I95,\"\")","v":""},null,{"$f":"IF('3 - SPECIE DA IMPIANTARE'!$G95=5,'3 - SPECIE DA IMPIANTARE'!$G95,\"\")","v":""},{"$f":"IF(AND($B94=\"AZIONE_2\",$O94=5),'3 - SPECIE DA IMPIANTARE'!$I95,\"\")","v":""},null,{"$f":"IF('3 - SPECIE DA IMPIANTARE'!$G95=6,'3 - SPECIE DA IMPIANTARE'!$G95,\"\")","v":""},{"$f":"IF(AND($B94=\"AZIONE_2\",$R94=6),'3 - SPECIE DA IMPIANTARE'!$I95,\"\")","v":""}]
[1,{"$f":"IF('3 - SPECIE DA IMPIANTARE'!$H96=\"AZIONE_2\",'3 - SPECIE DA IMPIANTARE'!$H96,\"\")","v":""},{"$f":"IF('3 - SPECIE DA IMPIANTARE'!$G96=1,'3 - SPECIE DA IMPIANTARE'!$G96,\"\")","v":""},{"$f":"IF(AND($B95=\"AZIONE_2\",C95=1),'3 - SPECIE DA IMPIANTARE'!$I96,\"\")","v":""},null,{"$f":"IF('3 - SPECIE DA IMPIANTARE'!$G96=2,'3 - SPECIE DA IMPIANTARE'!$G96,\"\")","v":""},{"$f":"IF(AND($B95=\"AZIONE_2\",F95=2),'3 - SPECIE DA IMPIANTARE'!$I96,\"\")","v":""},null,{"$f":"IF('3 - SPECIE DA IMPIANTARE'!$G96=3,'3 - SPECIE DA IMPIANTARE'!$G96,\"\")","v":""},{"$f":"IF(AND($B95=\"AZIONE_2\",$I95=3),'3 - SPECIE DA IMPIANTARE'!$I96,\"\")","v":""},null,{"$f":"IF('3 - SPECIE DA IMPIANTARE'!$G96=4,'3 - SPECIE DA IMPIANTARE'!$G96,\"\")","v":""},{"$f":"IF(AND($B95=\"AZIONE_2\",$L95=4),'3 - SPECIE DA IMPIANTARE'!$I96,\"\")","v":""},null,{"$f":"IF('3 - SPECIE DA IMPIANTARE'!$G96=5,'3 - SPECIE DA IMPIANTARE'!$G96,\"\")","v":""},{"$f":"IF(AND($B95=\"AZIONE_2\",$O95=5),'3 - SPECIE DA IMPIANTARE'!$I96,\"\")","v":""},null,{"$f":"IF('3 - SPECIE DA IMPIANTARE'!$G96=6,'3 - SPECIE DA IMPIANTARE'!$G96,\"\")","v":""},{"$f":"IF(AND($B95=\"AZIONE_2\",$R95=6),'3 - SPECIE DA IMPIANTARE'!$I96,\"\")","v":""}]
[1,{"$f":"IF('3 - SPECIE DA IMPIANTARE'!$H97=\"AZIONE_2\",'3 - SPECIE DA IMPIANTARE'!$H97,\"\")","v":""},{"$f":"IF('3 - SPECIE DA IMPIANTARE'!$G97=1,'3 - SPECIE DA IMPIANTARE'!$G97,\"\")","v":""},{"$f":"IF(AND($B96=\"AZIONE_2\",C96=1),'3 - SPECIE DA IMPIANTARE'!$I97,\"\")","v":""},null,{"$f":"IF('3 - SPECIE DA IMPIANTARE'!$G97=2,'3 - SPECIE DA IMPIANTARE'!$G97,\"\")","v":""},{"$f":"IF(AND($B96=\"AZIONE_2\",F96=2),'3 - SPECIE DA IMPIANTARE'!$I97,\"\")","v":""},null,{"$f":"IF('3 - SPECIE DA IMPIANTARE'!$G97=3,'3 - SPECIE DA IMPIANTARE'!$G97,\"\")","v":""},{"$f":"IF(AND($B96=\"AZIONE_2\",$I96=3),'3 - SPECIE DA IMPIANTARE'!$I97,\"\")","v":""},null,{"$f":"IF('3 - SPECIE DA IMPIANTARE'!$G97=4,'3 - SPECIE DA IMPIANTARE'!$G97,\"\")","v":""},{"$f":"IF(AND($B96=\"AZIONE_2\",$L96=4),'3 - SPECIE DA IMPIANTARE'!$I97,\"\")","v":""},null,{"$f":"IF('3 - SPECIE DA IMPIANTARE'!$G97=5,'3 - SPECIE DA IMPIANTARE'!$G97,\"\")","v":""},{"$f":"IF(AND($B96=\"AZIONE_2\",$O96=5),'3 - SPECIE DA IMPIANTARE'!$I97,\"\")","v":""},null,{"$f":"IF('3 - SPECIE DA IMPIANTARE'!$G97=6,'3 - SPECIE DA IMPIANTARE'!$G97,\"\")","v":""},{"$f":"IF(AND($B96=\"AZIONE_2\",$R96=6),'3 - SPECIE DA IMPIANTARE'!$I97,\"\")","v":""}]
[1,{"$f":"IF('3 - SPECIE DA IMPIANTARE'!$H98=\"AZIONE_2\",'3 - SPECIE DA IMPIANTARE'!$H98,\"\")","v":""},{"$f":"IF('3 - SPECIE DA IMPIANTARE'!$G98=1,'3 - SPECIE DA IMPIANTARE'!$G98,\"\")","v":""},{"$f":"IF(AND($B97=\"AZIONE_2\",C97=1),'3 - SPECIE DA IMPIANTARE'!$I98,\"\")","v":""},null,{"$f":"IF('3 - SPECIE DA IMPIANTARE'!$G98=2,'3 - SPECIE DA IMPIANTARE'!$G98,\"\")","v":""},{"$f":"IF(AND($B97=\"AZIONE_2\",F97=2),'3 - SPECIE DA IMPIANTARE'!$I98,\"\")","v":""},null,{"$f":"IF('3 - SPECIE DA IMPIANTARE'!$G98=3,'3 - SPECIE DA IMPIANTARE'!$G98,\"\")","v":""},{"$f":"IF(AND($B97=\"AZIONE_2\",$I97=3),'3 - SPECIE DA IMPIANTARE'!$I98,\"\")","v":""},null,{"$f":"IF('3 - SPECIE DA IMPIANTARE'!$G98=4,'3 - SPECIE DA IMPIANTARE'!$G98,\"\")","v":""},{"$f":"IF(AND($B97=\"AZIONE_2\",$L97=4),'3 - SPECIE DA IMPIANTARE'!$I98,\"\")","v":""},null,{"$f":"IF('3 - SPECIE DA IMPIANTARE'!$G98=5,'3 - SPECIE DA IMPIANTARE'!$G98,\"\")","v":""},{"$f":"IF(AND($B97=\"AZIONE_2\",$O97=5),'3 - SPECIE DA IMPIANTARE'!$I98,\"\")","v":""},null,{"$f":"IF('3 - SPECIE DA IMPIANTARE'!$G98=6,'3 - SPECIE DA IMPIANTARE'!$G98,\"\")","v":""},{"$f":"IF(AND($B97=\"AZIONE_2\",$R97=6),'3 - SPECIE DA IMPIANTARE'!$I98,\"\")","v":""}]
[1,{"$f":"IF('3 - SPECIE DA IMPIANTARE'!$H99=\"AZIONE_2\",'3 - SPECIE DA IMPIANTARE'!$H99,\"\")","v":""},{"$f":"IF('3 - SPECIE DA IMPIANTARE'!$G99=1,'3 - SPECIE DA IMPIANTARE'!$G99,\"\")","v":""},{"$f":"IF(AND($B98=\"AZIONE_2\",C98=1),'3 - SPECIE DA IMPIANTARE'!$I99,\"\")","v":""},null,{"$f":"IF('3 - SPECIE DA IMPIANTARE'!$G99=2,'3 - SPECIE DA IMPIANTARE'!$G99,\"\")","v":""},{"$f":"IF(AND($B98=\"AZIONE_2\",F98=2),'3 - SPECIE DA IMPIANTARE'!$I99,\"\")","v":""},null,{"$f":"IF('3 - SPECIE DA IMPIANTARE'!$G99=3,'3 - SPECIE DA IMPIANTARE'!$G99,\"\")","v":""},{"$f":"IF(AND($B98=\"AZIONE_2\",$I98=3),'3 - SPECIE DA IMPIANTARE'!$I99,\"\")","v":""},null,{"$f":"IF('3 - SPECIE DA IMPIANTARE'!$G99=4,'3 - SPECIE DA IMPIANTARE'!$G99,\"\")","v":""},{"$f":"IF(AND($B98=\"AZIONE_2\",$L98=4),'3 - SPECIE DA IMPIANTARE'!$I99,\"\")","v":""},null,{"$f":"IF('3 - SPECIE DA IMPIANTARE'!$G99=5,'3 - SPECIE DA IMPIANTARE'!$G99,\"\")","v":""},{"$f":"IF(AND($B98=\"AZIONE_2\",$O98=5),'3 - SPECIE DA IMPIANTARE'!$I99,\"\")","v":""},null,{"$f":"IF('3 - SPECIE DA IMPIANTARE'!$G99=6,'3 - SPECIE DA IMPIANTARE'!$G99,\"\")","v":""},{"$f":"IF(AND($B98=\"AZIONE_2\",$R98=6),'3 - SPECIE DA IMPIANTARE'!$I99,\"\")","v":""}]
[1,{"$f":"IF('3 - SPECIE DA IMPIANTARE'!$H100=\"AZIONE_2\",'3 - SPECIE DA IMPIANTARE'!$H100,\"\")","v":""},{"$f":"IF('3 - SPECIE DA IMPIANTARE'!$G100=1,'3 - SPECIE DA IMPIANTARE'!$G100,\"\")","v":""},{"$f":"IF(AND($B99=\"AZIONE_2\",C99=1),'3 - SPECIE DA IMPIANTARE'!$I100,\"\")","v":""},null,{"$f":"IF('3 - SPECIE DA IMPIANTARE'!$G100=2,'3 - SPECIE DA IMPIANTARE'!$G100,\"\")","v":""},{"$f":"IF(AND($B99=\"AZIONE_2\",F99=2),'3 - SPECIE DA IMPIANTARE'!$I100,\"\")","v":""},null,{"$f":"IF('3 - SPECIE DA IMPIANTARE'!$G100=3,'3 - SPECIE DA IMPIANTARE'!$G100,\"\")","v":""},{"$f":"IF(AND($B99=\"AZIONE_2\",$I99=3),'3 - SPECIE DA IMPIANTARE'!$I100,\"\")","v":""},null,{"$f":"IF('3 - SPECIE DA IMPIANTARE'!$G100=4,'3 - SPECIE DA IMPIANTARE'!$G100,\"\")","v":""},{"$f":"IF(AND($B99=\"AZIONE_2\",$L99=4),'3 - SPECIE DA IMPIANTARE'!$I100,\"\")","v":""},null,{"$f":"IF('3 - SPECIE DA IMPIANTARE'!$G100=5,'3 - SPECIE DA IMPIANTARE'!$G100,\"\")","v":""},{"$f":"IF(AND($B99=\"AZIONE_2\",$O99=5),'3 - SPECIE DA IMPIANTARE'!$I100,\"\")","v":""},null,{"$f":"IF('3 - SPECIE DA IMPIANTARE'!$G100=6,'3 - SPECIE DA IMPIANTARE'!$G100,\"\")","v":""},{"$f":"IF(AND($B99=\"AZIONE_2\",$R99=6),'3 - SPECIE DA IMPIANTARE'!$I100,\"\")","v":""}]
[1,{"$f":"IF('3 - SPECIE DA IMPIANTARE'!$H101=\"AZIONE_2\",'3 - SPECIE DA IMPIANTARE'!$H101,\"\")","v":""},{"$f":"IF('3 - SPECIE DA IMPIANTARE'!$G101=1,'3 - SPECIE DA IMPIANTARE'!$G101,\"\")","v":""},{"$f":"IF(AND($B100=\"AZIONE_2\",C100=1),'3 - SPECIE DA IMPIANTARE'!$I101,\"\")","v":""},null,{"$f":"IF('3 - SPECIE DA IMPIANTARE'!$G101=2,'3 - SPECIE DA IMPIANTARE'!$G101,\"\")","v":""},{"$f":"IF(AND($B100=\"AZIONE_2\",F100=2),'3 - SPECIE DA IMPIANTARE'!$I101,\"\")","v":""},null,{"$f":"IF('3 - SPECIE DA IMPIANTARE'!$G101=3,'3 - SPECIE DA IMPIANTARE'!$G101,\"\")","v":""},{"$f":"IF(AND($B100=\"AZIONE_2\",$I100=3),'3 - SPECIE DA IMPIANTARE'!$I101,\"\")","v":""},null,{"$f":"IF('3 - SPECIE DA IMPIANTARE'!$G101=4,'3 - SPECIE DA IMPIANTARE'!$G101,\"\")","v":""},{"$f":"IF(AND($B100=\"AZIONE_2\",$L100=4),'3 - SPECIE DA IMPIANTARE'!$I101,\"\")","v":""},null,{"$f":"IF('3 - SPECIE DA IMPIANTARE'!$G101=5,'3 - SPECIE DA IMPIANTARE'!$G101,\"\")","v":""},{"$f":"IF(AND($B100=\"AZIONE_2\",$O100=5),'3 - SPECIE DA IMPIANTARE'!$I101,\"\")","v":""},null,{"$f":"IF('3 - SPECIE DA IMPIANTARE'!$G101=6,'3 - SPECIE DA IMPIANTARE'!$G101,\"\")","v":""},{"$f":"IF(AND($B100=\"AZIONE_2\",$R100=6),'3 - SPECIE DA IMPIANTARE'!$I101,\"\")","v":""}]
[1,{"$f":"IF('3 - SPECIE DA IMPIANTARE'!$H102=\"AZIONE_2\",'3 - SPECIE DA IMPIANTARE'!$H102,\"\")","v":""},{"$f":"IF('3 - SPECIE DA IMPIANTARE'!$G102=1,'3 - SPECIE DA IMPIANTARE'!$G102,\"\")","v":""},{"$f":"IF(AND($B101=\"AZIONE_2\",C101=1),'3 - SPECIE DA IMPIANTARE'!$I102,\"\")","v":""},null,{"$f":"IF('3 - SPECIE DA IMPIANTARE'!$G102=2,'3 - SPECIE DA IMPIANTARE'!$G102,\"\")","v":""},{"$f":"IF(AND($B101=\"AZIONE_2\",F101=2),'3 - SPECIE DA IMPIANTARE'!$I102,\"\")","v":""},null,{"$f":"IF('3 - SPECIE DA IMPIANTARE'!$G102=3,'3 - SPECIE DA IMPIANTARE'!$G102,\"\")","v":""},{"$f":"IF(AND($B101=\"AZIONE_2\",$I101=3),'3 - SPECIE DA IMPIANTARE'!$I102,\"\")","v":""},null,{"$f":"IF('3 - SPECIE DA IMPIANTARE'!$G102=4,'3 - SPECIE DA IMPIANTARE'!$G102,\"\")","v":""},{"$f":"IF(AND($B101=\"AZIONE_2\",$L101=4),'3 - SPECIE DA IMPIANTARE'!$I102,\"\")","v":""},null,{"$f":"IF('3 - SPECIE DA IMPIANTARE'!$G102=5,'3 - SPECIE DA IMPIANTARE'!$G102,\"\")","v":""},{"$f":"IF(AND($B101=\"AZIONE_2\",$O101=5),'3 - SPECIE DA IMPIANTARE'!$I102,\"\")","v":""},null,{"$f":"IF('3 - SPECIE DA IMPIANTARE'!$G102=6,'3 - SPECIE DA IMPIANTARE'!$G102,\"\")","v":""},{"$f":"IF(AND($B101=\"AZIONE_2\",$R101=6),'3 - SPECIE DA IMPIANTARE'!$I102,\"\")","v":""}]
[2,{"$f":"B2","v":""},{"$f":"C2","v":""},{"$f":"IF(AND($B102=\"AZIONE_2\",C102=1),'3 - SPECIE DA IMPIANTARE'!$L3,\"\")","v":""},null,{"$f":"F2","v":""},{"$f":"IF(AND($B102=\"AZIONE_2\",F102=2),'3 - SPECIE DA IMPIANTARE'!$L3,\"\")","v":""},null,{"$f":"I2","v":""},{"$f":"IF(AND($B102=\"AZIONE_2\",$I102=3),'3 - SPECIE DA IMPIANTARE'!$L3,\"\")","v":""},null,{"$f":"L2","v":""},{"$f":"IF(AND($B102=\"AZIONE_2\",$L102=4),'3 - SPECIE DA IMPIANTARE'!$L3,\"\")","v":""},null,{"$f":"O2","v":""},{"$f":"IF(AND($B102=\"AZIONE_2\",$O102=5),'3 - SPECIE DA IMPIANTARE'!$L3,\"\")","v":""},null,{"$f":"R2","v":""},{"$f":"IF(AND($B102=\"AZIONE_2\",$R102=6),'3 - SPECIE DA IMPIANTARE'!$L3,\"\")","v":""}]
[2,{"$f":"B3","v":""},"",{"$f":"IF(AND($B103=\"AZIONE_2\",C103=1),'3 - SPECIE DA IMPIANTARE'!$L4,\"\")","v":""},null,{"$f":"F3","v":""},{"$f":"IF(AND($B103=\"AZIONE_2\",F103=2),'3 - SPECIE DA IMPIANTARE'!$L4,\"\")","v":""},null,{"$f":"I3","v":""},{"$f":"IF(AND($B103=\"AZIONE_2\",$I103=3),'3 - SPECIE DA IMPIANTARE'!$L4,\"\")","v":""},null,{"$f":"L3","v":""},{"$f":"IF(AND($B103=\"AZIONE_2\",$L103=4),'3 - SPECIE DA IMPIANTARE'!$L4,\"\")","v":""},null,{"$f":"O3","v":""},{"$f":"IF(AND($B103=\"AZIONE_2\",$O103=5),'3 - SPECIE DA IMPIANTARE'!$L4,\"\")","v":""},null,{"$f":"R3","v":""},{"$f":"IF(AND($B103=\"AZIONE_2\",$R103=6),'3 - SPECIE DA IMPIANTARE'!$L4,\"\")","v":""}]
[2,"","",{"$f":"IF(AND($B104=\"AZIONE_2\",C104=1),'3 - SPECIE DA IMPIANTARE'!$L5,\"\")","v":""},null,"",{"$f":"IF(AND($B104=\"AZIONE_2\",F104=2),'3 - SPECIE DA IMPIANTARE'!$L5,\"\")","v":""},null,"",{"$f":"IF(AND($B104=\"AZIONE_2\",$I104=3),'3 - SPECIE DA IMPIANTARE'!$L5,\"\")","v":""},null,"",{"$f":"IF(AND($B104=\"AZIONE_2\",$L104=4),'3 - SPECIE DA IMPIANTARE'!$L5,\"\")","v":""},null,"",{"$f":"IF(AND($B104=\"AZIONE_2\",$O104=5),'3 - SPECIE DA IMPIANTARE'!$L5,\"\")","v":""},null,"",{"$f":"IF(AND($B104=\"AZIONE_2\",$R104=6),'3 - SPECIE DA IMPIANTARE'!$L5,\"\")","v":""}]
[2,"","",{"$f":"IF(AND($B105=\"AZIONE_2\",C105=1),'3 - SPECIE DA IMPIANTARE'!$L6,\"\")","v":""},null,"",{"$f":"IF(AND($B105=\"AZIONE_2\",F105=2),'3 - SPECIE DA IMPIANTARE'!$L6,\"\")","v":""},null,"",{"$f":"IF(AND($B105=\"AZIONE_2\",$I105=3),'3 - SPECIE DA IMPIANTARE'!$L6,\"\")","v":""},null,"",{"$f":"IF(AND($B105=\"AZIONE_2\",$L105=4),'3 - SPECIE DA IMPIANTARE'!$L6,\"\")","v":""},null,"",{"$f":"IF(AND($B105=\"AZIONE_2\",$O105=5),'3 - SPECIE DA IMPIANTARE'!$L6,\"\")","v":""},null,"",{"$f":"IF(AND($B105=\"AZIONE_2\",$R105=6),'3 - SPECIE DA IMPIANTARE'!$L6,\"\")","v":""}]
[2,"","",{"$f":"IF(AND($B106=\"AZIONE_2\",C106=1),'3 - SPECIE DA IMPIANTARE'!$L7,\"\")","v":""},null,"",{"$f":"IF(AND($B106=\"AZIONE_2\",F106=2),'3 - SPECIE DA IMPIANTARE'!$L7,\"\")","v":""},null,"",{"$f":"IF(AND($B106=\"AZIONE_2\",$I106=3),'3 - SPECIE DA IMPIANTARE'!$L7,\"\")","v":""},null,"",{"$f":"IF(AND($B106=\"AZIONE_2\",$L106=4),'3 - SPECIE DA IMPIANTARE'!$L7,\"\")","v":""},null,"",{"$f":"IF(AND($B106=\"AZIONE_2\",$O106=5),'3 - SPECIE DA IMPIANTARE'!$L7,\"\")","v":""},null,"",{"$f":"IF(AND($B106=\"AZIONE_2\",$R106=6),'3 - SPECIE DA IMPIANTARE'!$L7,\"\")","v":""}]
[2,"","",{"$f":"IF(AND($B107=\"AZIONE_2\",C107=1),'3 - SPECIE DA IMPIANTARE'!$L8,\"\")","v":""},null,"",{"$f":"IF(AND($B107=\"AZIONE_2\",F107=2),'3 - SPECIE DA IMPIANTARE'!$L8,\"\")","v":""},null,"",{"$f":"IF(AND($B107=\"AZIONE_2\",$I107=3),'3 - SPECIE DA IMPIANTARE'!$L8,\"\")","v":""},null,"",{"$f":"IF(AND($B107=\"AZIONE_2\",$L107=4),'3 - SPECIE DA IMPIANTARE'!$L8,\"\")","v":""},null,"",{"$f":"IF(AND($B107=\"AZIONE_2\",$O107=5),'3 - SPECIE DA IMPIANTARE'!$L8,\"\")","v":""},null,"",{"$f":"IF(AND($B107=\"AZIONE_2\",$R107=6),'3 - SPECIE DA IMPIANTARE'!$L8,\"\")","v":""}]
[2,"","",{"$f":"IF(AND($B108=\"AZIONE_2\",C108=1),'3 - SPECIE DA IMPIANTARE'!$L9,\"\")","v":""},null,"",{"$f":"IF(AND($B108=\"AZIONE_2\",F108=2),'3 - SPECIE DA IMPIANTARE'!$L9,\"\")","v":""},null,"",{"$f":"IF(AND($B108=\"AZIONE_2\",$I108=3),'3 - SPECIE DA IMPIANTARE'!$L9,\"\")","v":""},null,"",{"$f":"IF(AND($B108=\"AZIONE_2\",$L108=4),'3 - SPECIE DA IMPIANTARE'!$L9,\"\")","v":""},null,"",{"$f":"IF(AND($B108=\"AZIONE_2\",$O108=5),'3 - SPECIE DA IMPIANTARE'!$L9,\"\")","v":""},null,"",{"$f":"IF(AND($B108=\"AZIONE_2\",$R108=6),'3 - SPECIE DA IMPIANTARE'!$L9,\"\")","v":""}]
[2,"","",{"$f":"IF(AND($B109=\"AZIONE_2\",C109=1),'3 - SPECIE DA IMPIANTARE'!$L10,\"\")","v":""},null,"",{"$f":"IF(AND($B109=\"AZIONE_2\",F109=2),'3 - SPECIE DA IMPIANTARE'!$L10,\"\")","v":""},null,"",{"$f":"IF(AND($B109=\"AZIONE_2\",$I109=3),'3 - SPECIE DA IMPIANTARE'!$L10,\"\")","v":""},null,"",{"$f":"IF(AND($B109=\"AZIONE_2\",$L109=4),'3 - SPECIE DA IMPIANTARE'!$L10,\"\")","v":""},null,"",{"$f":"IF(AND($B109=\"AZIONE_2\",$O109=5),'3 - SPECIE DA IMPIANTARE'!$L10,\"\")","v":""},null,"",{"$f":"IF(AND($B109=\"AZIONE_2\",$R109=6),'3 - SPECIE DA IMPIANTARE'!$L10,\"\")","v":""}]
[2,"","",{"$f":"IF(AND($B110=\"AZIONE_2\",C110=1),'3 - SPECIE DA IMPIANTARE'!$L11,\"\")","v":""},null,"",{"$f":"IF(AND($B110=\"AZIONE_2\",F110=2),'3 - SPECIE DA IMPIANTARE'!$L11,\"\")","v":""},null,"",{"$f":"IF(AND($B110=\"AZIONE_2\",$I110=3),'3 - SPECIE DA IMPIANTARE'!$L11,\"\")","v":""},null,"",{"$f":"IF(AND($B110=\"AZIONE_2\",$L110=4),'3 - SPECIE DA IMPIANTARE'!$L11,\"\")","v":""},null,"",{"$f":"IF(AND($B110=\"AZIONE_2\",$O110=5),'3 - SPECIE DA IMPIANTARE'!$L11,\"\")","v":""},null,"",{"$f":"IF(AND($B110=\"AZIONE_2\",$R110=6),'3 - SPECIE DA IMPIANTARE'!$L11,\"\")","v":""}]
[2,"","",{"$f":"IF(AND($B111=\"AZIONE_2\",C111=1),'3 - SPECIE DA IMPIANTARE'!$L12,\"\")","v":""},null,"",{"$f":"IF(AND($B111=\"AZIONE_2\",F111=2),'3 - SPECIE DA IMPIANTARE'!$L12,\"\")","v":""},null,"",{"$f":"IF(AND($B111=\"AZIONE_2\",$I111=3),'3 - SPECIE DA IMPIANTARE'!$L12,\"\")","v":""},null,"",{"$f":"IF(AND($B111=\"AZIONE_2\",$L111=4),'3 - SPECIE DA IMPIANTARE'!$L12,\"\")","v":""},null,"",{"$f":"IF(AND($B111=\"AZIONE_2\",$O111=5),'3 - SPECIE DA IMPIANTARE'!$L12,\"\")","v":""},null,"",{"$f":"IF(AND($B111=\"AZIONE_2\",$R111=6),'3 - SPECIE DA IMPIANTARE'!$L12,\"\")","v":""}]
[2,"","",{"$f":"IF(AND($B112=\"AZIONE_2\",C112=1),'3 - SPECIE DA IMPIANTARE'!$L13,\"\")","v":""},null,"",{"$f":"IF(AND($B112=\"AZIONE_2\",F112=2),'3 - SPECIE DA IMPIANTARE'!$L13,\"\")","v":""},null,"",{"$f":"IF(AND($B112=\"AZIONE_2\",$I112=3),'3 - SPECIE DA IMPIANTARE'!$L13,\"\")","v":""},null,"",{"$f":"IF(AND($B112=\"AZIONE_2\",$L112=4),'3 - SPECIE DA IMPIANTARE'!$L13,\"\")","v":""},null,"",{"$f":"IF(AND($B112=\"AZIONE_2\",$O112=5),'3 - SPECIE DA IMPIANTARE'!$L13,\"\")","v":""},null,"",{"$f":"IF(AND($B112=\"AZIONE_2\",$R112=6),'3 - SPECIE DA IMPIANTARE'!$L13,\"\")","v":""}]
[2,"","",{"$f":"IF(AND($B113=\"AZIONE_2\",C113=1),'3 - SPECIE DA IMPIANTARE'!$L14,\"\")","v":""},null,"",{"$f":"IF(AND($B113=\"AZIONE_2\",F113=2),'3 - SPECIE DA IMPIANTARE'!$L14,\"\")","v":""},null,"",{"$f":"IF(AND($B113=\"AZIONE_2\",$I113=3),'3 - SPECIE DA IMPIANTARE'!$L14,\"\")","v":""},null,"",{"$f":"IF(AND($B113=\"AZIONE_2\",$L113=4),'3 - SPECIE DA IMPIANTARE'!$L14,\"\")","v":""},null,"",{"$f":"IF(AND($B113=\"AZIONE_2\",$O113=5),'3 - SPECIE DA IMPIANTARE'!$L14,\"\")","v":""},null,"",{"$f":"IF(AND($B113=\"AZIONE_2\",$R113=6),'3 - SPECIE DA IMPIANTARE'!$L14,\"\")","v":""}]
[2,"","",{"$f":"IF(AND($B114=\"AZIONE_2\",C114=1),'3 - SPECIE DA IMPIANTARE'!$L15,\"\")","v":""},null,"",{"$f":"IF(AND($B114=\"AZIONE_2\",F114=2),'3 - SPECIE DA IMPIANTARE'!$L15,\"\")","v":""},null,"",{"$f":"IF(AND($B114=\"AZIONE_2\",$I114=3),'3 - SPECIE DA IMPIANTARE'!$L15,\"\")","v":""},null,"",{"$f":"IF(AND($B114=\"AZIONE_2\",$L114=4),'3 - SPECIE DA IMPIANTARE'!$L15,\"\")","v":""},null,"",{"$f":"IF(AND($B114=\"AZIONE_2\",$O114=5),'3 - SPECIE DA IMPIANTARE'!$L15,\"\")","v":""},null,"",{"$f":"IF(AND($B114=\"AZIONE_2\",$R114=6),'3 - SPECIE DA IMPIANTARE'!$L15,\"\")","v":""}]
[2,"","",{"$f":"IF(AND($B115=\"AZIONE_2\",C115=1),'3 - SPECIE DA IMPIANTARE'!$L16,\"\")","v":""},null,"",{"$f":"IF(AND($B115=\"AZIONE_2\",F115=2),'3 - SPECIE DA IMPIANTARE'!$L16,\"\")","v":""},null,"",{"$f":"IF(AND($B115=\"AZIONE_2\",$I115=3),'3 - SPECIE DA IMPIANTARE'!$L16,\"\")","v":""},null,"",{"$f":"IF(AND($B115=\"AZIONE_2\",$L115=4),'3 - SPECIE DA IMPIANTARE'!$L16,\"\")","v":""},null,"",{"$f":"IF(AND($B115=\"AZIONE_2\",$O115=5),'3 - SPECIE DA IMPIANTARE'!$L16,\"\")","v":""},null,"",{"$f":"IF(AND($B115=\"AZIONE_2\",$R115=6),'3 - SPECIE DA IMPIANTARE'!$L16,\"\")","v":""}]
[2,"","",{"$f":"IF(AND($B116=\"AZIONE_2\",C116=1),'3 - SPECIE DA IMPIANTARE'!$L17,\"\")","v":""},null,"",{"$f":"IF(AND($B116=\"AZIONE_2\",F116=2),'3 - SPECIE DA IMPIANTARE'!$L17,\"\")","v":""},null,"",{"$f":"IF(AND($B116=\"AZIONE_2\",$I116=3),'3 - SPECIE DA IMPIANTARE'!$L17,\"\")","v":""},null,"",{"$f":"IF(AND($B116=\"AZIONE_2\",$L116=4),'3 - SPECIE DA IMPIANTARE'!$L17,\"\")","v":""},null,"",{"$f":"IF(AND($B116=\"AZIONE_2\",$O116=5),'3 - SPECIE DA IMPIANTARE'!$L17,\"\")","v":""},null,"",{"$f":"IF(AND($B116=\"AZIONE_2\",$R116=6),'3 - SPECIE DA IMPIANTARE'!$L17,\"\")","v":""}]
[2,"","",{"$f":"IF(AND($B117=\"AZIONE_2\",C117=1),'3 - SPECIE DA IMPIANTARE'!$L18,\"\")","v":""},null,"",{"$f":"IF(AND($B117=\"AZIONE_2\",F117=2),'3 - SPECIE DA IMPIANTARE'!$L18,\"\")","v":""},null,"",{"$f":"IF(AND($B117=\"AZIONE_2\",$I117=3),'3 - SPECIE DA IMPIANTARE'!$L18,\"\")","v":""},null,"",{"$f":"IF(AND($B117=\"AZIONE_2\",$L117=4),'3 - SPECIE DA IMPIANTARE'!$L18,\"\")","v":""},null,"",{"$f":"IF(AND($B117=\"AZIONE_2\",$O117=5),'3 - SPECIE DA IMPIANTARE'!$L18,\"\")","v":""},null,"",{"$f":"IF(AND($B117=\"AZIONE_2\",$R117=6),'3 - SPECIE DA IMPIANTARE'!$L18,\"\")","v":""}]
[2,"","",{"$f":"IF(AND($B118=\"AZIONE_2\",C118=1),'3 - SPECIE DA IMPIANTARE'!$L19,\"\")","v":""},null,"",{"$f":"IF(AND($B118=\"AZIONE_2\",F118=2),'3 - SPECIE DA IMPIANTARE'!$L19,\"\")","v":""},null,"",{"$f":"IF(AND($B118=\"AZIONE_2\",$I118=3),'3 - SPECIE DA IMPIANTARE'!$L19,\"\")","v":""},null,"",{"$f":"IF(AND($B118=\"AZIONE_2\",$L118=4),'3 - SPECIE DA IMPIANTARE'!$L19,\"\")","v":""},null,"",{"$f":"IF(AND($B118=\"AZIONE_2\",$O118=5),'3 - SPECIE DA IMPIANTARE'!$L19,\"\")","v":""},null,"",{"$f":"IF(AND($B118=\"AZIONE_2\",$R118=6),'3 - SPECIE DA IMPIANTARE'!$L19,\"\")","v":""}]
[2,{"$f":"B19","v":""},"",{"$f":"IF(AND($B119=\"AZIONE_2\",C119=1),'3 - SPECIE DA IMPIANTARE'!$L20,\"\")","v":""},null,"",{"$f":"IF(AND($B119=\"AZIONE_2\",F119=2),'3 - SPECIE DA IMPIANTARE'!$L20,\"\")","v":""},null,"",{"$f":"IF(AND($B119=\"AZIONE_2\",$I119=3),'3 - SPECIE DA IMPIANTARE'!$L20,\"\")","v":""},null,"",{"$f":"IF(AND($B119=\"AZIONE_2\",$L119=4),'3 - SPECIE DA IMPIANTARE'!$L20,\"\")","v":""},null,"",{"$f":"IF(AND($B119=\"AZIONE_2\",$O119=5),'3 - SPECIE DA IMPIANTARE'!$L20,\"\")","v":""},null,"",{"$f":"IF(AND($B119=\"AZIONE_2\",$R119=6),'3 - SPECIE DA IMPIANTARE'!$L20,\"\")","v":""}]
[2,"","",{"$f":"IF(AND($B120=\"AZIONE_2\",C120=1),'3 - SPECIE DA IMPIANTARE'!$L21,\"\")","v":""},null,"",{"$f":"IF(AND($B120=\"AZIONE_2\",F120=2),'3 - SPECIE DA IMPIANTARE'!$L21,\"\")","v":""},null,"",{"$f":"IF(AND($B120=\"AZIONE_2\",$I120=3),'3 - SPECIE DA IMPIANTARE'!$L21,\"\")","v":""},null,"",{"$f":"IF(AND($B120=\"AZIONE_2\",$L120=4),'3 - SPECIE DA IMPIANTARE'!$L21,\"\")","v":""},null,"",{"$f":"IF(AND($B120=\"AZIONE_2\",$O120=5),'3 - SPECIE DA IMPIANTARE'!$L21,\"\")","v":""},null,"",{"$f":"IF(AND($B120=\"AZIONE_2\",$R120=6),'3 - SPECIE DA IMPIANTARE'!$L21,\"\")","v":""}]
[2,"","",{"$f":"IF(AND($B121=\"AZIONE_2\",C121=1),'3 - SPECIE DA IMPIANTARE'!$L22,\"\")","v":""},null,"",{"$f":"IF(AND($B121=\"AZIONE_2\",F121=2),'3 - SPECIE DA IMPIANTARE'!$L22,\"\")","v":""},null,"",{"$f":"IF(AND($B121=\"AZIONE_2\",$I121=3),'3 - SPECIE DA IMPIANTARE'!$L22,\"\")","v":""},null,"",{"$f":"IF(AND($B121=\"AZIONE_2\",$L121=4),'3 - SPECIE DA IMPIANTARE'!$L22,\"\")","v":""},null,"",{"$f":"IF(AND($B121=\"AZIONE_2\",$O121=5),'3 - SPECIE DA IMPIANTARE'!$L22,\"\")","v":""},null,"",{"$f":"IF(AND($B121=\"AZIONE_2\",$R121=6),'3 - SPECIE DA IMPIANTARE'!$L22,\"\")","v":""}]
[2,"","",{"$f":"IF(AND($B122=\"AZIONE_2\",C122=1),'3 - SPECIE DA IMPIANTARE'!$L23,\"\")","v":""},null,"",{"$f":"IF(AND($B122=\"AZIONE_2\",F122=2),'3 - SPECIE DA IMPIANTARE'!$L23,\"\")","v":""},null,"",{"$f":"IF(AND($B122=\"AZIONE_2\",$I122=3),'3 - SPECIE DA IMPIANTARE'!$L23,\"\")","v":""},null,"",{"$f":"IF(AND($B122=\"AZIONE_2\",$L122=4),'3 - SPECIE DA IMPIANTARE'!$L23,\"\")","v":""},null,"",{"$f":"IF(AND($B122=\"AZIONE_2\",$O122=5),'3 - SPECIE DA IMPIANTARE'!$L23,\"\")","v":""},null,"",{"$f":"IF(AND($B122=\"AZIONE_2\",$R122=6),'3 - SPECIE DA IMPIANTARE'!$L23,\"\")","v":""}]
[2,"","",{"$f":"IF(AND($B123=\"AZIONE_2\",C123=1),'3 - SPECIE DA IMPIANTARE'!$L24,\"\")","v":""},null,"",{"$f":"IF(AND($B123=\"AZIONE_2\",F123=2),'3 - SPECIE DA IMPIANTARE'!$L24,\"\")","v":""},null,"",{"$f":"IF(AND($B123=\"AZIONE_2\",$I123=3),'3 - SPECIE DA IMPIANTARE'!$L24,\"\")","v":""},null,"",{"$f":"IF(AND($B123=\"AZIONE_2\",$L123=4),'3 - SPECIE DA IMPIANTARE'!$L24,\"\")","v":""},null,"",{"$f":"IF(AND($B123=\"AZIONE_2\",$O123=5),'3 - SPECIE DA IMPIANTARE'!$L24,\"\")","v":""},null,"",{"$f":"IF(AND($B123=\"AZIONE_2\",$R123=6),'3 - SPECIE DA IMPIANTARE'!$L24,\"\")","v":""}]
[2,"","",{"$f":"IF(AND($B124=\"AZIONE_2\",C124=1),'3 - SPECIE DA IMPIANTARE'!$L25,\"\")","v":""},null,"",{"$f":"IF(AND($B124=\"AZIONE_2\",F124=2),'3 - SPECIE DA IMPIANTARE'!$L25,\"\")","v":""},null,"",{"$f":"IF(AND($B124=\"AZIONE_2\",$I124=3),'3 - SPECIE DA IMPIANTARE'!$L25,\"\")","v":""},null,"",{"$f":"IF(AND($B124=\"AZIONE_2\",$L124=4),'3 - SPECIE DA IMPIANTARE'!$L25,\"\")","v":""},null,"",{"$f":"IF(AND($B124=\"AZIONE_2\",$O124=5),'3 - SPECIE DA IMPIANTARE'!$L25,\"\")","v":""},null,"",{"$f":"IF(AND($B124=\"AZIONE_2\",$R124=6),'3 - SPECIE DA IMPIANTARE'!$L25,\"\")","v":""}]
[2,"","",{"$f":"IF(AND($B125=\"AZIONE_2\",C125=1),'3 - SPECIE DA IMPIANTARE'!$L26,\"\")","v":""},null,"",{"$f":"IF(AND($B125=\"AZIONE_2\",F125=2),'3 - SPECIE DA IMPIANTARE'!$L26,\"\")","v":""},null,"",{"$f":"IF(AND($B125=\"AZIONE_2\",$I125=3),'3 - SPECIE DA IMPIANTARE'!$L26,\"\")","v":""},null,"",{"$f":"IF(AND($B125=\"AZIONE_2\",$L125=4),'3 - SPECIE DA IMPIANTARE'!$L26,\"\")","v":""},null,"",{"$f":"IF(AND($B125=\"AZIONE_2\",$O125=5),'3 - SPECIE DA IMPIANTARE'!$L26,\"\")","v":""},null,"",{"$f":"IF(AND($B125=\"AZIONE_2\",$R125=6),'3 - SPECIE DA IMPIANTARE'!$L26,\"\")","v":""}]
[2,"","",{"$f":"IF(AND($B126=\"AZIONE_2\",C126=1),'3 - SPECIE DA IMPIANTARE'!$L27,\"\")","v":""},null,"",{"$f":"IF(AND($B126=\"AZIONE_2\",F126=2),'3 - SPECIE DA IMPIANTARE'!$L27,\"\")","v":""},null,"",{"$f":"IF(AND($B126=\"AZIONE_2\",$I126=3),'3 - SPECIE DA IMPIANTARE'!$L27,\"\")","v":""},null,"",{"$f":"IF(AND($B126=\"AZIONE_2\",$L126=4),'3 - SPECIE DA IMPIANTARE'!$L27,\"\")","v":""},null,"",{"$f":"IF(AND($B126=\"AZIONE_2\",$O126=5),'3 - SPECIE DA IMPIANTARE'!$L27,\"\")","v":""},null,"",{"$f":"IF(AND($B126=\"AZIONE_2\",$R126=6),'3 - SPECIE DA IMPIANTARE'!$L27,\"\")","v":""}]
[2,"","",{"$f":"IF(AND($B127=\"AZIONE_2\",C127=1),'3 - SPECIE DA IMPIANTARE'!$L28,\"\")","v":""},null,"",{"$f":"IF(AND($B127=\"AZIONE_2\",F127=2),'3 - SPECIE DA IMPIANTARE'!$L28,\"\")","v":""},null,"",{"$f":"IF(AND($B127=\"AZIONE_2\",$I127=3),'3 - SPECIE DA IMPIANTARE'!$L28,\"\")","v":""},null,"",{"$f":"IF(AND($B127=\"AZIONE_2\",$L127=4),'3 - SPECIE DA IMPIANTARE'!$L28,\"\")","v":""},null,"",{"$f":"IF(AND($B127=\"AZIONE_2\",$O127=5),'3 - SPECIE DA IMPIANTARE'!$L28,\"\")","v":""},null,"",{"$f":"IF(AND($B127=\"AZIONE_2\",$R127=6),'3 - SPECIE DA IMPIANTARE'!$L28,\"\")","v":""}]
[2,"","",{"$f":"IF(AND($B128=\"AZIONE_2\",C128=1),'3 - SPECIE DA IMPIANTARE'!$L29,\"\")","v":""},null,"",{"$f":"IF(AND($B128=\"AZIONE_2\",F128=2),'3 - SPECIE DA IMPIANTARE'!$L29,\"\")","v":""},null,"",{"$f":"IF(AND($B128=\"AZIONE_2\",$I128=3),'3 - SPECIE DA IMPIANTARE'!$L29,\"\")","v":""},null,"",{"$f":"IF(AND($B128=\"AZIONE_2\",$L128=4),'3 - SPECIE DA IMPIANTARE'!$L29,\"\")","v":""},null,"",{"$f":"IF(AND($B128=\"AZIONE_2\",$O128=5),'3 - SPECIE DA IMPIANTARE'!$L29,\"\")","v":""},null,"",{"$f":"IF(AND($B128=\"AZIONE_2\",$R128=6),'3 - SPECIE DA IMPIANTARE'!$L29,\"\")","v":""}]
[2,"","",{"$f":"IF(AND($B129=\"AZIONE_2\",C129=1),'3 - SPECIE DA IMPIANTARE'!$L30,\"\")","v":""},null,"",{"$f":"IF(AND($B129=\"AZIONE_2\",F129=2),'3 - SPECIE DA IMPIANTARE'!$L30,\"\")","v":""},null,"",{"$f":"IF(AND($B129=\"AZIONE_2\",$I129=3),'3 - SPECIE DA IMPIANTARE'!$L30,\"\")","v":""},null,"",{"$f":"IF(AND($B129=\"AZIONE_2\",$L129=4),'3 - SPECIE DA IMPIANTARE'!$L30,\"\")","v":""},null,"",{"$f":"IF(AND($B129=\"AZIONE_2\",$O129=5),'3 - SPECIE DA IMPIANTARE'!$L30,\"\")","v":""},null,"",{"$f":"IF(AND($B129=\"AZIONE_2\",$R129=6),'3 - SPECIE DA IMPIANTARE'!$L30,\"\")","v":""}]
[2,"","",{"$f":"IF(AND($B130=\"AZIONE_2\",C130=1),'3 - SPECIE DA IMPIANTARE'!$L31,\"\")","v":""},null,"",{"$f":"IF(AND($B130=\"AZIONE_2\",F130=2),'3 - SPECIE DA IMPIANTARE'!$L31,\"\")","v":""},null,"",{"$f":"IF(AND($B130=\"AZIONE_2\",$I130=3),'3 - SPECIE DA IMPIANTARE'!$L31,\"\")","v":""},null,"",{"$f":"IF(AND($B130=\"AZIONE_2\",$L130=4),'3 - SPECIE DA IMPIANTARE'!$L31,\"\")","v":""},null,"",{"$f":"IF(AND($B130=\"AZIONE_2\",$O130=5),'3 - SPECIE DA IMPIANTARE'!$L31,\"\")","v":""},null,"",{"$f":"IF(AND($B130=\"AZIONE_2\",$R130=6),'3 - SPECIE DA IMPIANTARE'!$L31,\"\")","v":""}]
[2,"","",{"$f":"IF(AND($B131=\"AZIONE_2\",C131=1),'3 - SPECIE DA IMPIANTARE'!$L32,\"\")","v":""},null,"",{"$f":"IF(AND($B131=\"AZIONE_2\",F131=2),'3 - SPECIE DA IMPIANTARE'!$L32,\"\")","v":""},null,"",{"$f":"IF(AND($B131=\"AZIONE_2\",$I131=3),'3 - SPECIE DA IMPIANTARE'!$L32,\"\")","v":""},null,"",{"$f":"IF(AND($B131=\"AZIONE_2\",$L131=4),'3 - SPECIE DA IMPIANTARE'!$L32,\"\")","v":""},null,"",{"$f":"IF(AND($B131=\"AZIONE_2\",$O131=5),'3 - SPECIE DA IMPIANTARE'!$L32,\"\")","v":""},null,"",{"$f":"IF(AND($B131=\"AZIONE_2\",$R131=6),'3 - SPECIE DA IMPIANTARE'!$L32,\"\")","v":""}]
[2,"","",{"$f":"IF(AND($B132=\"AZIONE_2\",C132=1),'3 - SPECIE DA IMPIANTARE'!$L33,\"\")","v":""},null,"",{"$f":"IF(AND($B132=\"AZIONE_2\",F132=2),'3 - SPECIE DA IMPIANTARE'!$L33,\"\")","v":""},null,"",{"$f":"IF(AND($B132=\"AZIONE_2\",$I132=3),'3 - SPECIE DA IMPIANTARE'!$L33,\"\")","v":""},null,"",{"$f":"IF(AND($B132=\"AZIONE_2\",$L132=4),'3 - SPECIE DA IMPIANTARE'!$L33,\"\")","v":""},null,"",{"$f":"IF(AND($B132=\"AZIONE_2\",$O132=5),'3 - SPECIE DA IMPIANTARE'!$L33,\"\")","v":""},null,"",{"$f":"IF(AND($B132=\"AZIONE_2\",$R132=6),'3 - SPECIE DA IMPIANTARE'!$L33,\"\")","v":""}]
[2,"","",{"$f":"IF(AND($B133=\"AZIONE_2\",C133=1),'3 - SPECIE DA IMPIANTARE'!$L34,\"\")","v":""},null,"",{"$f":"IF(AND($B133=\"AZIONE_2\",F133=2),'3 - SPECIE DA IMPIANTARE'!$L34,\"\")","v":""},null,"",{"$f":"IF(AND($B133=\"AZIONE_2\",$I133=3),'3 - SPECIE DA IMPIANTARE'!$L34,\"\")","v":""},null,"",{"$f":"IF(AND($B133=\"AZIONE_2\",$L133=4),'3 - SPECIE DA IMPIANTARE'!$L34,\"\")","v":""},null,"",{"$f":"IF(AND($B133=\"AZIONE_2\",$O133=5),'3 - SPECIE DA IMPIANTARE'!$L34,\"\")","v":""},null,"",{"$f":"IF(AND($B133=\"AZIONE_2\",$R133=6),'3 - SPECIE DA IMPIANTARE'!$L34,\"\")","v":""}]
[2,"","",{"$f":"IF(AND($B134=\"AZIONE_2\",C134=1),'3 - SPECIE DA IMPIANTARE'!$L35,\"\")","v":""},null,"",{"$f":"IF(AND($B134=\"AZIONE_2\",F134=2),'3 - SPECIE DA IMPIANTARE'!$L35,\"\")","v":""},null,"",{"$f":"IF(AND($B134=\"AZIONE_2\",$I134=3),'3 - SPECIE DA IMPIANTARE'!$L35,\"\")","v":""},null,"",{"$f":"IF(AND($B134=\"AZIONE_2\",$L134=4),'3 - SPECIE DA IMPIANTARE'!$L35,\"\")","v":""},null,"",{"$f":"IF(AND($B134=\"AZIONE_2\",$O134=5),'3 - SPECIE DA IMPIANTARE'!$L35,\"\")","v":""},null,"",{"$f":"IF(AND($B134=\"AZIONE_2\",$R134=6),'3 - SPECIE DA IMPIANTARE'!$L35,\"\")","v":""}]
[2,{"$f":"B35","v":""},"",{"$f":"IF(AND($B135=\"AZIONE_2\",C135=1),'3 - SPECIE DA IMPIANTARE'!$L36,\"\")","v":""},null,"",{"$f":"IF(AND($B135=\"AZIONE_2\",F135=2),'3 - SPECIE DA IMPIANTARE'!$L36,\"\")","v":""},null,"",{"$f":"IF(AND($B135=\"AZIONE_2\",$I135=3),'3 - SPECIE DA IMPIANTARE'!$L36,\"\")","v":""},null,"",{"$f":"IF(AND($B135=\"AZIONE_2\",$L135=4),'3 - SPECIE DA IMPIANTARE'!$L36,\"\")","v":""},null,"",{"$f":"IF(AND($B135=\"AZIONE_2\",$O135=5),'3 - SPECIE DA IMPIANTARE'!$L36,\"\")","v":""},null,"",{"$f":"IF(AND($B135=\"AZIONE_2\",$R135=6),'3 - SPECIE DA IMPIANTARE'!$L36,\"\")","v":""}]
[2,"","",{"$f":"IF(AND($B136=\"AZIONE_2\",C136=1),'3 - SPECIE DA IMPIANTARE'!$L37,\"\")","v":""},null,"",{"$f":"IF(AND($B136=\"AZIONE_2\",F136=2),'3 - SPECIE DA IMPIANTARE'!$L37,\"\")","v":""},null,"",{"$f":"IF(AND($B136=\"AZIONE_2\",$I136=3),'3 - SPECIE DA IMPIANTARE'!$L37,\"\")","v":""},null,"",{"$f":"IF(AND($B136=\"AZIONE_2\",$L136=4),'3 - SPECIE DA IMPIANTARE'!$L37,\"\")","v":""},null,"",{"$f":"IF(AND($B136=\"AZIONE_2\",$O136=5),'3 - SPECIE DA IMPIANTARE'!$L37,\"\")","v":""},null,"",{"$f":"IF(AND($B136=\"AZIONE_2\",$R136=6),'3 - SPECIE DA IMPIANTARE'!$L37,\"\")","v":""}]
[2,"","",{"$f":"IF(AND($B137=\"AZIONE_2\",C137=1),'3 - SPECIE DA IMPIANTARE'!$L38,\"\")","v":""},null,"",{"$f":"IF(AND($B137=\"AZIONE_2\",F137=2),'3 - SPECIE DA IMPIANTARE'!$L38,\"\")","v":""},null,"",{"$f":"IF(AND($B137=\"AZIONE_2\",$I137=3),'3 - SPECIE DA IMPIANTARE'!$L38,\"\")","v":""},null,"",{"$f":"IF(AND($B137=\"AZIONE_2\",$L137=4),'3 - SPECIE DA IMPIANTARE'!$L38,\"\")","v":""},null,"",{"$f":"IF(AND($B137=\"AZIONE_2\",$O137=5),'3 - SPECIE DA IMPIANTARE'!$L38,\"\")","v":""},null,"",{"$f":"IF(AND($B137=\"AZIONE_2\",$R137=6),'3 - SPECIE DA IMPIANTARE'!$L38,\"\")","v":""}]
[2,"","",{"$f":"IF(AND($B138=\"AZIONE_2\",C138=1),'3 - SPECIE DA IMPIANTARE'!$L39,\"\")","v":""},null,"",{"$f":"IF(AND($B138=\"AZIONE_2\",F138=2),'3 - SPECIE DA IMPIANTARE'!$L39,\"\")","v":""},null,"",{"$f":"IF(AND($B138=\"AZIONE_2\",$I138=3),'3 - SPECIE DA IMPIANTARE'!$L39,\"\")","v":""},null,"",{"$f":"IF(AND($B138=\"AZIONE_2\",$L138=4),'3 - SPECIE DA IMPIANTARE'!$L39,\"\")","v":""},null,"",{"$f":"IF(AND($B138=\"AZIONE_2\",$O138=5),'3 - SPECIE DA IMPIANTARE'!$L39,\"\")","v":""},null,"",{"$f":"IF(AND($B138=\"AZIONE_2\",$R138=6),'3 - SPECIE DA IMPIANTARE'!$L39,\"\")","v":""}]
[2,"","",{"$f":"IF(AND($B139=\"AZIONE_2\",C139=1),'3 - SPECIE DA IMPIANTARE'!$L40,\"\")","v":""},null,"",{"$f":"IF(AND($B139=\"AZIONE_2\",F139=2),'3 - SPECIE DA IMPIANTARE'!$L40,\"\")","v":""},null,"",{"$f":"IF(AND($B139=\"AZIONE_2\",$I139=3),'3 - SPECIE DA IMPIANTARE'!$L40,\"\")","v":""},null,"",{"$f":"IF(AND($B139=\"AZIONE_2\",$L139=4),'3 - SPECIE DA IMPIANTARE'!$L40,\"\")","v":""},null,"",{"$f":"IF(AND($B139=\"AZIONE_2\",$O139=5),'3 - SPECIE DA IMPIANTARE'!$L40,\"\")","v":""},null,"",{"$f":"IF(AND($B139=\"AZIONE_2\",$R139=6),'3 - SPECIE DA IMPIANTARE'!$L40,\"\")","v":""}]
[2,"","",{"$f":"IF(AND($B140=\"AZIONE_2\",C140=1),'3 - SPECIE DA IMPIANTARE'!$L41,\"\")","v":""},null,"",{"$f":"IF(AND($B140=\"AZIONE_2\",F140=2),'3 - SPECIE DA IMPIANTARE'!$L41,\"\")","v":""},null,"",{"$f":"IF(AND($B140=\"AZIONE_2\",$I140=3),'3 - SPECIE DA IMPIANTARE'!$L41,\"\")","v":""},null,"",{"$f":"IF(AND($B140=\"AZIONE_2\",$L140=4),'3 - SPECIE DA IMPIANTARE'!$L41,\"\")","v":""},null,"",{"$f":"IF(AND($B140=\"AZIONE_2\",$O140=5),'3 - SPECIE DA IMPIANTARE'!$L41,\"\")","v":""},null,"",{"$f":"IF(AND($B140=\"AZIONE_2\",$R140=6),'3 - SPECIE DA IMPIANTARE'!$L41,\"\")","v":""}]
[2,"","",{"$f":"IF(AND($B141=\"AZIONE_2\",C141=1),'3 - SPECIE DA IMPIANTARE'!$L42,\"\")","v":""},null,"",{"$f":"IF(AND($B141=\"AZIONE_2\",F141=2),'3 - SPECIE DA IMPIANTARE'!$L42,\"\")","v":""},null,"",{"$f":"IF(AND($B141=\"AZIONE_2\",$I141=3),'3 - SPECIE DA IMPIANTARE'!$L42,\"\")","v":""},null,"",{"$f":"IF(AND($B141=\"AZIONE_2\",$L141=4),'3 - SPECIE DA IMPIANTARE'!$L42,\"\")","v":""},null,"",{"$f":"IF(AND($B141=\"AZIONE_2\",$O141=5),'3 - SPECIE DA IMPIANTARE'!$L42,\"\")","v":""},null,"",{"$f":"IF(AND($B141=\"AZIONE_2\",$R141=6),'3 - SPECIE DA IMPIANTARE'!$L42,\"\")","v":""}]
[2,"","",{"$f":"IF(AND($B142=\"AZIONE_2\",C142=1),'3 - SPECIE DA IMPIANTARE'!$L43,\"\")","v":""},null,"",{"$f":"IF(AND($B142=\"AZIONE_2\",F142=2),'3 - SPECIE DA IMPIANTARE'!$L43,\"\")","v":""},null,"",{"$f":"IF(AND($B142=\"AZIONE_2\",$I142=3),'3 - SPECIE DA IMPIANTARE'!$L43,\"\")","v":""},null,"",{"$f":"IF(AND($B142=\"AZIONE_2\",$L142=4),'3 - SPECIE DA IMPIANTARE'!$L43,\"\")","v":""},null,"",{"$f":"IF(AND($B142=\"AZIONE_2\",$O142=5),'3 - SPECIE DA IMPIANTARE'!$L43,\"\")","v":""},null,"",{"$f":"IF(AND($B142=\"AZIONE_2\",$R142=6),'3 - SPECIE DA IMPIANTARE'!$L43,\"\")","v":""}]
[2,"","",{"$f":"IF(AND($B143=\"AZIONE_2\",C143=1),'3 - SPECIE DA IMPIANTARE'!$L44,\"\")","v":""},null,"",{"$f":"IF(AND($B143=\"AZIONE_2\",F143=2),'3 - SPECIE DA IMPIANTARE'!$L44,\"\")","v":""},null,"",{"$f":"IF(AND($B143=\"AZIONE_2\",$I143=3),'3 - SPECIE DA IMPIANTARE'!$L44,\"\")","v":""},null,"",{"$f":"IF(AND($B143=\"AZIONE_2\",$L143=4),'3 - SPECIE DA IMPIANTARE'!$L44,\"\")","v":""},null,"",{"$f":"IF(AND($B143=\"AZIONE_2\",$O143=5),'3 - SPECIE DA IMPIANTARE'!$L44,\"\")","v":""},null,"",{"$f":"IF(AND($B143=\"AZIONE_2\",$R143=6),'3 - SPECIE DA IMPIANTARE'!$L44,\"\")","v":""}]
[2,"","",{"$f":"IF(AND($B144=\"AZIONE_2\",C144=1),'3 - SPECIE DA IMPIANTARE'!$L45,\"\")","v":""},null,"",{"$f":"IF(AND($B144=\"AZIONE_2\",F144=2),'3 - SPECIE DA IMPIANTARE'!$L45,\"\")","v":""},null,"",{"$f":"IF(AND($B144=\"AZIONE_2\",$I144=3),'3 - SPECIE DA IMPIANTARE'!$L45,\"\")","v":""},null,"",{"$f":"IF(AND($B144=\"AZIONE_2\",$L144=4),'3 - SPECIE DA IMPIANTARE'!$L45,\"\")","v":""},null,"",{"$f":"IF(AND($B144=\"AZIONE_2\",$O144=5),'3 - SPECIE DA IMPIANTARE'!$L45,\"\")","v":""},null,"",{"$f":"IF(AND($B144=\"AZIONE_2\",$R144=6),'3 - SPECIE DA IMPIANTARE'!$L45,\"\")","v":""}]
[2,"","",{"$f":"IF(AND($B145=\"AZIONE_2\",C145=1),'3 - SPECIE DA IMPIANTARE'!$L46,\"\")","v":""},null,"",{"$f":"IF(AND($B145=\"AZIONE_2\",F145=2),'3 - SPECIE DA IMPIANTARE'!$L46,\"\")","v":""},null,"",{"$f":"IF(AND($B145=\"AZIONE_2\",$I145=3),'3 - SPECIE DA IMPIANTARE'!$L46,\"\")","v":""},null,"",{"$f":"IF(AND($B145=\"AZIONE_2\",$L145=4),'3 - SPECIE DA IMPIANTARE'!$L46,\"\")","v":""},null,"",{"$f":"IF(AND($B145=\"AZIONE_2\",$O145=5),'3 - SPECIE DA IMPIANTARE'!$L46,\"\")","v":""},null,"",{"$f":"IF(AND($B145=\"AZIONE_2\",$R145=6),'3 - SPECIE DA IMPIANTARE'!$L46,\"\")","v":""}]
[2,"","",{"$f":"IF(AND($B146=\"AZIONE_2\",C146=1),'3 - SPECIE DA IMPIANTARE'!$L47,\"\")","v":""},null,"",{"$f":"IF(AND($B146=\"AZIONE_2\",F146=2),'3 - SPECIE DA IMPIANTARE'!$L47,\"\")","v":""},null,"",{"$f":"IF(AND($B146=\"AZIONE_2\",$I146=3),'3 - SPECIE DA IMPIANTARE'!$L47,\"\")","v":""},null,"",{"$f":"IF(AND($B146=\"AZIONE_2\",$L146=4),'3 - SPECIE DA IMPIANTARE'!$L47,\"\")","v":""},null,"",{"$f":"IF(AND($B146=\"AZIONE_2\",$O146=5),'3 - SPECIE DA IMPIANTARE'!$L47,\"\")","v":""},null,"",{"$f":"IF(AND($B146=\"AZIONE_2\",$R146=6),'3 - SPECIE DA IMPIANTARE'!$L47,\"\")","v":""}]
[2,"","",{"$f":"IF(AND($B147=\"AZIONE_2\",C147=1),'3 - SPECIE DA IMPIANTARE'!$L48,\"\")","v":""},null,"",{"$f":"IF(AND($B147=\"AZIONE_2\",F147=2),'3 - SPECIE DA IMPIANTARE'!$L48,\"\")","v":""},null,"",{"$f":"IF(AND($B147=\"AZIONE_2\",$I147=3),'3 - SPECIE DA IMPIANTARE'!$L48,\"\")","v":""},null,"",{"$f":"IF(AND($B147=\"AZIONE_2\",$L147=4),'3 - SPECIE DA IMPIANTARE'!$L48,\"\")","v":""},null,"",{"$f":"IF(AND($B147=\"AZIONE_2\",$O147=5),'3 - SPECIE DA IMPIANTARE'!$L48,\"\")","v":""},null,"",{"$f":"IF(AND($B147=\"AZIONE_2\",$R147=6),'3 - SPECIE DA IMPIANTARE'!$L48,\"\")","v":""}]
[2,"","",{"$f":"IF(AND($B148=\"AZIONE_2\",C148=1),'3 - SPECIE DA IMPIANTARE'!$L49,\"\")","v":""},null,"",{"$f":"IF(AND($B148=\"AZIONE_2\",F148=2),'3 - SPECIE DA IMPIANTARE'!$L49,\"\")","v":""},null,"",{"$f":"IF(AND($B148=\"AZIONE_2\",$I148=3),'3 - SPECIE DA IMPIANTARE'!$L49,\"\")","v":""},null,"",{"$f":"IF(AND($B148=\"AZIONE_2\",$L148=4),'3 - SPECIE DA IMPIANTARE'!$L49,\"\")","v":""},null,"",{"$f":"IF(AND($B148=\"AZIONE_2\",$O148=5),'3 - SPECIE DA IMPIANTARE'!$L49,\"\")","v":""},null,"",{"$f":"IF(AND($B148=\"AZIONE_2\",$R148=6),'3 - SPECIE DA IMPIANTARE'!$L49,\"\")","v":""}]
[2,"","",{"$f":"IF(AND($B149=\"AZIONE_2\",C149=1),'3 - SPECIE DA IMPIANTARE'!$L50,\"\")","v":""},null,"",{"$f":"IF(AND($B149=\"AZIONE_2\",F149=2),'3 - SPECIE DA IMPIANTARE'!$L50,\"\")","v":""},null,"",{"$f":"IF(AND($B149=\"AZIONE_2\",$I149=3),'3 - SPECIE DA IMPIANTARE'!$L50,\"\")","v":""},null,"",{"$f":"IF(AND($B149=\"AZIONE_2\",$L149=4),'3 - SPECIE DA IMPIANTARE'!$L50,\"\")","v":""},null,"",{"$f":"IF(AND($B149=\"AZIONE_2\",$O149=5),'3 - SPECIE DA IMPIANTARE'!$L50,\"\")","v":""},null,"",{"$f":"IF(AND($B149=\"AZIONE_2\",$R149=6),'3 - SPECIE DA IMPIANTARE'!$L50,\"\")","v":""}]
[2,"","",{"$f":"IF(AND($B150=\"AZIONE_2\",C150=1),'3 - SPECIE DA IMPIANTARE'!$L51,\"\")","v":""},null,"",{"$f":"IF(AND($B150=\"AZIONE_2\",F150=2),'3 - SPECIE DA IMPIANTARE'!$L51,\"\")","v":""},null,"",{"$f":"IF(AND($B150=\"AZIONE_2\",$I150=3),'3 - SPECIE DA IMPIANTARE'!$L51,\"\")","v":""},null,"",{"$f":"IF(AND($B150=\"AZIONE_2\",$L150=4),'3 - SPECIE DA IMPIANTARE'!$L51,\"\")","v":""},null,"",{"$f":"IF(AND($B150=\"AZIONE_2\",$O150=5),'3 - SPECIE DA IMPIANTARE'!$L51,\"\")","v":""},null,"",{"$f":"IF(AND($B150=\"AZIONE_2\",$R150=6),'3 - SPECIE DA IMPIANTARE'!$L51,\"\")","v":""}]
[2,{"$f":"B51","v":""},"",{"$f":"IF(AND($B151=\"AZIONE_2\",C151=1),'3 - SPECIE DA IMPIANTARE'!$L52,\"\")","v":""},null,"",{"$f":"IF(AND($B151=\"AZIONE_2\",F151=2),'3 - SPECIE DA IMPIANTARE'!$L52,\"\")","v":""},null,"",{"$f":"IF(AND($B151=\"AZIONE_2\",$I151=3),'3 - SPECIE DA IMPIANTARE'!$L52,\"\")","v":""},null,"",{"$f":"IF(AND($B151=\"AZIONE_2\",$L151=4),'3 - SPECIE DA IMPIANTARE'!$L52,\"\")","v":""},null,"",{"$f":"IF(AND($B151=\"AZIONE_2\",$O151=5),'3 - SPECIE DA IMPIANTARE'!$L52,\"\")","v":""},null,"",{"$f":"IF(AND($B151=\"AZIONE_2\",$R151=6),'3 - SPECIE DA IMPIANTARE'!$L52,\"\")","v":""}]
[2,"","",{"$f":"IF(AND($B152=\"AZIONE_2\",C152=1),'3 - SPECIE DA IMPIANTARE'!$L53,\"\")","v":""},null,"",{"$f":"IF(AND($B152=\"AZIONE_2\",F152=2),'3 - SPECIE DA IMPIANTARE'!$L53,\"\")","v":""},null,"",{"$f":"IF(AND($B152=\"AZIONE_2\",$I152=3),'3 - SPECIE DA IMPIANTARE'!$L53,\"\")","v":""},null,"",{"$f":"IF(AND($B152=\"AZIONE_2\",$L152=4),'3 - SPECIE DA IMPIANTARE'!$L53,\"\")","v":""},null,"",{"$f":"IF(AND($B152=\"AZIONE_2\",$O152=5),'3 - SPECIE DA IMPIANTARE'!$L53,\"\")","v":""},null,"",{"$f":"IF(AND($B152=\"AZIONE_2\",$R152=6),'3 - SPECIE DA IMPIANTARE'!$L53,\"\")","v":""}]
[2,"","",{"$f":"IF(AND($B153=\"AZIONE_2\",C153=1),'3 - SPECIE DA IMPIANTARE'!$L54,\"\")","v":""},null,"",{"$f":"IF(AND($B153=\"AZIONE_2\",F153=2),'3 - SPECIE DA IMPIANTARE'!$L54,\"\")","v":""},null,"",{"$f":"IF(AND($B153=\"AZIONE_2\",$I153=3),'3 - SPECIE DA IMPIANTARE'!$L54,\"\")","v":""},null,"",{"$f":"IF(AND($B153=\"AZIONE_2\",$L153=4),'3 - SPECIE DA IMPIANTARE'!$L54,\"\")","v":""},null,"",{"$f":"IF(AND($B153=\"AZIONE_2\",$O153=5),'3 - SPECIE DA IMPIANTARE'!$L54,\"\")","v":""},null,"",{"$f":"IF(AND($B153=\"AZIONE_2\",$R153=6),'3 - SPECIE DA IMPIANTARE'!$L54,\"\")","v":""}]
[2,"","",{"$f":"IF(AND($B154=\"AZIONE_2\",C154=1),'3 - SPECIE DA IMPIANTARE'!$L55,\"\")","v":""},null,"",{"$f":"IF(AND($B154=\"AZIONE_2\",F154=2),'3 - SPECIE DA IMPIANTARE'!$L55,\"\")","v":""},null,"",{"$f":"IF(AND($B154=\"AZIONE_2\",$I154=3),'3 - SPECIE DA IMPIANTARE'!$L55,\"\")","v":""},null,"",{"$f":"IF(AND($B154=\"AZIONE_2\",$L154=4),'3 - SPECIE DA IMPIANTARE'!$L55,\"\")","v":""},null,"",{"$f":"IF(AND($B154=\"AZIONE_2\",$O154=5),'3 - SPECIE DA IMPIANTARE'!$L55,\"\")","v":""},null,"",{"$f":"IF(AND($B154=\"AZIONE_2\",$R154=6),'3 - SPECIE DA IMPIANTARE'!$L55,\"\")","v":""}]
[2,"","",{"$f":"IF(AND($B155=\"AZIONE_2\",C155=1),'3 - SPECIE DA IMPIANTARE'!$L56,\"\")","v":""},null,"",{"$f":"IF(AND($B155=\"AZIONE_2\",F155=2),'3 - SPECIE DA IMPIANTARE'!$L56,\"\")","v":""},null,"",{"$f":"IF(AND($B155=\"AZIONE_2\",$I155=3),'3 - SPECIE DA IMPIANTARE'!$L56,\"\")","v":""},null,"",{"$f":"IF(AND($B155=\"AZIONE_2\",$L155=4),'3 - SPECIE DA IMPIANTARE'!$L56,\"\")","v":""},null,"",{"$f":"IF(AND($B155=\"AZIONE_2\",$O155=5),'3 - SPECIE DA IMPIANTARE'!$L56,\"\")","v":""},null,"",{"$f":"IF(AND($B155=\"AZIONE_2\",$R155=6),'3 - SPECIE DA IMPIANTARE'!$L56,\"\")","v":""}]
[2,"","",{"$f":"IF(AND($B156=\"AZIONE_2\",C156=1),'3 - SPECIE DA IMPIANTARE'!$L57,\"\")","v":""},null,"",{"$f":"IF(AND($B156=\"AZIONE_2\",F156=2),'3 - SPECIE DA IMPIANTARE'!$L57,\"\")","v":""},null,"",{"$f":"IF(AND($B156=\"AZIONE_2\",$I156=3),'3 - SPECIE DA IMPIANTARE'!$L57,\"\")","v":""},null,"",{"$f":"IF(AND($B156=\"AZIONE_2\",$L156=4),'3 - SPECIE DA IMPIANTARE'!$L57,\"\")","v":""},null,"",{"$f":"IF(AND($B156=\"AZIONE_2\",$O156=5),'3 - SPECIE DA IMPIANTARE'!$L57,\"\")","v":""},null,"",{"$f":"IF(AND($B156=\"AZIONE_2\",$R156=6),'3 - SPECIE DA IMPIANTARE'!$L57,\"\")","v":""}]
[2,"","",{"$f":"IF(AND($B157=\"AZIONE_2\",C157=1),'3 - SPECIE DA IMPIANTARE'!$L58,\"\")","v":""},null,"",{"$f":"IF(AND($B157=\"AZIONE_2\",F157=2),'3 - SPECIE DA IMPIANTARE'!$L58,\"\")","v":""},null,"",{"$f":"IF(AND($B157=\"AZIONE_2\",$I157=3),'3 - SPECIE DA IMPIANTARE'!$L58,\"\")","v":""},null,"",{"$f":"IF(AND($B157=\"AZIONE_2\",$L157=4),'3 - SPECIE DA IMPIANTARE'!$L58,\"\")","v":""},null,"",{"$f":"IF(AND($B157=\"AZIONE_2\",$O157=5),'3 - SPECIE DA IMPIANTARE'!$L58,\"\")","v":""},null,"",{"$f":"IF(AND($B157=\"AZIONE_2\",$R157=6),'3 - SPECIE DA IMPIANTARE'!$L58,\"\")","v":""}]
[2,"","",{"$f":"IF(AND($B158=\"AZIONE_2\",C158=1),'3 - SPECIE DA IMPIANTARE'!$L59,\"\")","v":""},null,"",{"$f":"IF(AND($B158=\"AZIONE_2\",F158=2),'3 - SPECIE DA IMPIANTARE'!$L59,\"\")","v":""},null,"",{"$f":"IF(AND($B158=\"AZIONE_2\",$I158=3),'3 - SPECIE DA IMPIANTARE'!$L59,\"\")","v":""},null,"",{"$f":"IF(AND($B158=\"AZIONE_2\",$L158=4),'3 - SPECIE DA IMPIANTARE'!$L59,\"\")","v":""},null,"",{"$f":"IF(AND($B158=\"AZIONE_2\",$O158=5),'3 - SPECIE DA IMPIANTARE'!$L59,\"\")","v":""},null,"",{"$f":"IF(AND($B158=\"AZIONE_2\",$R158=6),'3 - SPECIE DA IMPIANTARE'!$L59,\"\")","v":""}]
[2,"","",{"$f":"IF(AND($B159=\"AZIONE_2\",C159=1),'3 - SPECIE DA IMPIANTARE'!$L60,\"\")","v":""},null,"",{"$f":"IF(AND($B159=\"AZIONE_2\",F159=2),'3 - SPECIE DA IMPIANTARE'!$L60,\"\")","v":""},null,"",{"$f":"IF(AND($B159=\"AZIONE_2\",$I159=3),'3 - SPECIE DA IMPIANTARE'!$L60,\"\")","v":""},null,"",{"$f":"IF(AND($B159=\"AZIONE_2\",$L159=4),'3 - SPECIE DA IMPIANTARE'!$L60,\"\")","v":""},null,"",{"$f":"IF(AND($B159=\"AZIONE_2\",$O159=5),'3 - SPECIE DA IMPIANTARE'!$L60,\"\")","v":""},null,"",{"$f":"IF(AND($B159=\"AZIONE_2\",$R159=6),'3 - SPECIE DA IMPIANTARE'!$L60,\"\")","v":""}]
[2,"","",{"$f":"IF(AND($B160=\"AZIONE_2\",C160=1),'3 - SPECIE DA IMPIANTARE'!$L61,\"\")","v":""},null,"",{"$f":"IF(AND($B160=\"AZIONE_2\",F160=2),'3 - SPECIE DA IMPIANTARE'!$L61,\"\")","v":""},null,"",{"$f":"IF(AND($B160=\"AZIONE_2\",$I160=3),'3 - SPECIE DA IMPIANTARE'!$L61,\"\")","v":""},null,"",{"$f":"IF(AND($B160=\"AZIONE_2\",$L160=4),'3 - SPECIE DA IMPIANTARE'!$L61,\"\")","v":""},null,"",{"$f":"IF(AND($B160=\"AZIONE_2\",$O160=5),'3 - SPECIE DA IMPIANTARE'!$L61,\"\")","v":""},null,"",{"$f":"IF(AND($B160=\"AZIONE_2\",$R160=6),'3 - SPECIE DA IMPIANTARE'!$L61,\"\")","v":""}]
[2,"","",{"$f":"IF(AND($B161=\"AZIONE_2\",C161=1),'3 - SPECIE DA IMPIANTARE'!$L62,\"\")","v":""},null,"",{"$f":"IF(AND($B161=\"AZIONE_2\",F161=2),'3 - SPECIE DA IMPIANTARE'!$L62,\"\")","v":""},null,"",{"$f":"IF(AND($B161=\"AZIONE_2\",$I161=3),'3 - SPECIE DA IMPIANTARE'!$L62,\"\")","v":""},null,"",{"$f":"IF(AND($B161=\"AZIONE_2\",$L161=4),'3 - SPECIE DA IMPIANTARE'!$L62,\"\")","v":""},null,"",{"$f":"IF(AND($B161=\"AZIONE_2\",$O161=5),'3 - SPECIE DA IMPIANTARE'!$L62,\"\")","v":""},null,"",{"$f":"IF(AND($B161=\"AZIONE_2\",$R161=6),'3 - SPECIE DA IMPIANTARE'!$L62,\"\")","v":""}]
[2,"","",{"$f":"IF(AND($B162=\"AZIONE_2\",C162=1),'3 - SPECIE DA IMPIANTARE'!$L63,\"\")","v":""},null,"",{"$f":"IF(AND($B162=\"AZIONE_2\",F162=2),'3 - SPECIE DA IMPIANTARE'!$L63,\"\")","v":""},null,"",{"$f":"IF(AND($B162=\"AZIONE_2\",$I162=3),'3 - SPECIE DA IMPIANTARE'!$L63,\"\")","v":""},null,"",{"$f":"IF(AND($B162=\"AZIONE_2\",$L162=4),'3 - SPECIE DA IMPIANTARE'!$L63,\"\")","v":""},null,"",{"$f":"IF(AND($B162=\"AZIONE_2\",$O162=5),'3 - SPECIE DA IMPIANTARE'!$L63,\"\")","v":""},null,"",{"$f":"IF(AND($B162=\"AZIONE_2\",$R162=6),'3 - SPECIE DA IMPIANTARE'!$L63,\"\")","v":""}]
[2,"","",{"$f":"IF(AND($B163=\"AZIONE_2\",C163=1),'3 - SPECIE DA IMPIANTARE'!$L64,\"\")","v":""},null,"",{"$f":"IF(AND($B163=\"AZIONE_2\",F163=2),'3 - SPECIE DA IMPIANTARE'!$L64,\"\")","v":""},null,"",{"$f":"IF(AND($B163=\"AZIONE_2\",$I163=3),'3 - SPECIE DA IMPIANTARE'!$L64,\"\")","v":""},null,"",{"$f":"IF(AND($B163=\"AZIONE_2\",$L163=4),'3 - SPECIE DA IMPIANTARE'!$L64,\"\")","v":""},null,"",{"$f":"IF(AND($B163=\"AZIONE_2\",$O163=5),'3 - SPECIE DA IMPIANTARE'!$L64,\"\")","v":""},null,"",{"$f":"IF(AND($B163=\"AZIONE_2\",$R163=6),'3 - SPECIE DA IMPIANTARE'!$L64,\"\")","v":""}]
[2,"","",{"$f":"IF(AND($B164=\"AZIONE_2\",C164=1),'3 - SPECIE DA IMPIANTARE'!$L65,\"\")","v":""},null,"",{"$f":"IF(AND($B164=\"AZIONE_2\",F164=2),'3 - SPECIE DA IMPIANTARE'!$L65,\"\")","v":""},null,"",{"$f":"IF(AND($B164=\"AZIONE_2\",$I164=3),'3 - SPECIE DA IMPIANTARE'!$L65,\"\")","v":""},null,"",{"$f":"IF(AND($B164=\"AZIONE_2\",$L164=4),'3 - SPECIE DA IMPIANTARE'!$L65,\"\")","v":""},null,"",{"$f":"IF(AND($B164=\"AZIONE_2\",$O164=5),'3 - SPECIE DA IMPIANTARE'!$L65,\"\")","v":""},null,"",{"$f":"IF(AND($B164=\"AZIONE_2\",$R164=6),'3 - SPECIE DA IMPIANTARE'!$L65,\"\")","v":""}]
[2,"","",{"$f":"IF(AND($B165=\"AZIONE_2\",C165=1),'3 - SPECIE DA IMPIANTARE'!$L66,\"\")","v":""},null,"",{"$f":"IF(AND($B165=\"AZIONE_2\",F165=2),'3 - SPECIE DA IMPIANTARE'!$L66,\"\")","v":""},null,"",{"$f":"IF(AND($B165=\"AZIONE_2\",$I165=3),'3 - SPECIE DA IMPIANTARE'!$L66,\"\")","v":""},null,"",{"$f":"IF(AND($B165=\"AZIONE_2\",$L165=4),'3 - SPECIE DA IMPIANTARE'!$L66,\"\")","v":""},null,"",{"$f":"IF(AND($B165=\"AZIONE_2\",$O165=5),'3 - SPECIE DA IMPIANTARE'!$L66,\"\")","v":""},null,"",{"$f":"IF(AND($B165=\"AZIONE_2\",$R165=6),'3 - SPECIE DA IMPIANTARE'!$L66,\"\")","v":""}]
[2,"","",{"$f":"IF(AND($B166=\"AZIONE_2\",C166=1),'3 - SPECIE DA IMPIANTARE'!$L67,\"\")","v":""},null,"",{"$f":"IF(AND($B166=\"AZIONE_2\",F166=2),'3 - SPECIE DA IMPIANTARE'!$L67,\"\")","v":""},null,"",{"$f":"IF(AND($B166=\"AZIONE_2\",$I166=3),'3 - SPECIE DA IMPIANTARE'!$L67,\"\")","v":""},null,"",{"$f":"IF(AND($B166=\"AZIONE_2\",$L166=4),'3 - SPECIE DA IMPIANTARE'!$L67,\"\")","v":""},null,"",{"$f":"IF(AND($B166=\"AZIONE_2\",$O166=5),'3 - SPECIE DA IMPIANTARE'!$L67,\"\")","v":""},null,"",{"$f":"IF(AND($B166=\"AZIONE_2\",$R166=6),'3 - SPECIE DA IMPIANTARE'!$L67,\"\")","v":""}]
[2,{"$f":"B67","v":""},"",{"$f":"IF(AND($B167=\"AZIONE_2\",C167=1),'3 - SPECIE DA IMPIANTARE'!$L68,\"\")","v":""},null,{"$f":"F67","v":""},{"$f":"IF(AND($B167=\"AZIONE_2\",F167=2),'3 - SPECIE DA IMPIANTARE'!$L68,\"\")","v":""},null,{"$f":"I67","v":""},{"$f":"IF(AND($B167=\"AZIONE_2\",$I167=3),'3 - SPECIE DA IMPIANTARE'!$L68,\"\")","v":""},null,{"$f":"L67","v":""},{"$f":"IF(AND($B167=\"AZIONE_2\",$L167=4),'3 - SPECIE DA IMPIANTARE'!$L68,\"\")","v":""},null,{"$f":"O67","v":""},{"$f":"IF(AND($B167=\"AZIONE_2\",$O167=5),'3 - SPECIE DA IMPIANTARE'!$L68,\"\")","v":""},null,{"$f":"R67","v":""},{"$f":"IF(AND($B167=\"AZIONE_2\",$R167=6),'3 - SPECIE DA IMPIANTARE'!$L68,\"\")","v":""}]
[2,"","",{"$f":"IF(AND($B168=\"AZIONE_2\",C168=1),'3 - SPECIE DA IMPIANTARE'!$L69,\"\")","v":""},null,"",{"$f":"IF(AND($B168=\"AZIONE_2\",F168=2),'3 - SPECIE DA IMPIANTARE'!$L69,\"\")","v":""},null,"",{"$f":"IF(AND($B168=\"AZIONE_2\",$I168=3),'3 - SPECIE DA IMPIANTARE'!$L69,\"\")","v":""},null,"",{"$f":"IF(AND($B168=\"AZIONE_2\",$L168=4),'3 - SPECIE DA IMPIANTARE'!$L69,\"\")","v":""},null,"",{"$f":"IF(AND($B168=\"AZIONE_2\",$O168=5),'3 - SPECIE DA IMPIANTARE'!$L69,\"\")","v":""},null,"",{"$f":"IF(AND($B168=\"AZIONE_2\",$R168=6),'3 - SPECIE DA IMPIANTARE'!$L69,\"\")","v":""}]
[2,"","",{"$f":"IF(AND($B169=\"AZIONE_2\",C169=1),'3 - SPECIE DA IMPIANTARE'!$L70,\"\")","v":""},null,"",{"$f":"IF(AND($B169=\"AZIONE_2\",F169=2),'3 - SPECIE DA IMPIANTARE'!$L70,\"\")","v":""},null,"",{"$f":"IF(AND($B169=\"AZIONE_2\",$I169=3),'3 - SPECIE DA IMPIANTARE'!$L70,\"\")","v":""},null,"",{"$f":"IF(AND($B169=\"AZIONE_2\",$L169=4),'3 - SPECIE DA IMPIANTARE'!$L70,\"\")","v":""},null,"",{"$f":"IF(AND($B169=\"AZIONE_2\",$O169=5),'3 - SPECIE DA IMPIANTARE'!$L70,\"\")","v":""},null,"",{"$f":"IF(AND($B169=\"AZIONE_2\",$R169=6),'3 - SPECIE DA IMPIANTARE'!$L70,\"\")","v":""}]
[2,"","",{"$f":"IF(AND($B170=\"AZIONE_2\",C170=1),'3 - SPECIE DA IMPIANTARE'!$L71,\"\")","v":""},null,"",{"$f":"IF(AND($B170=\"AZIONE_2\",F170=2),'3 - SPECIE DA IMPIANTARE'!$L71,\"\")","v":""},null,"",{"$f":"IF(AND($B170=\"AZIONE_2\",$I170=3),'3 - SPECIE DA IMPIANTARE'!$L71,\"\")","v":""},null,"",{"$f":"IF(AND($B170=\"AZIONE_2\",$L170=4),'3 - SPECIE DA IMPIANTARE'!$L71,\"\")","v":""},null,"",{"$f":"IF(AND($B170=\"AZIONE_2\",$O170=5),'3 - SPECIE DA IMPIANTARE'!$L71,\"\")","v":""},null,"",{"$f":"IF(AND($B170=\"AZIONE_2\",$R170=6),'3 - SPECIE DA IMPIANTARE'!$L71,\"\")","v":""}]
[2,"","",{"$f":"IF(AND($B171=\"AZIONE_2\",C171=1),'3 - SPECIE DA IMPIANTARE'!$L72,\"\")","v":""},null,"",{"$f":"IF(AND($B171=\"AZIONE_2\",F171=2),'3 - SPECIE DA IMPIANTARE'!$L72,\"\")","v":""},null,"",{"$f":"IF(AND($B171=\"AZIONE_2\",$I171=3),'3 - SPECIE DA IMPIANTARE'!$L72,\"\")","v":""},null,"",{"$f":"IF(AND($B171=\"AZIONE_2\",$L171=4),'3 - SPECIE DA IMPIANTARE'!$L72,\"\")","v":""},null,"",{"$f":"IF(AND($B171=\"AZIONE_2\",$O171=5),'3 - SPECIE DA IMPIANTARE'!$L72,\"\")","v":""},null,"",{"$f":"IF(AND($B171=\"AZIONE_2\",$R171=6),'3 - SPECIE DA IMPIANTARE'!$L72,\"\")","v":""}]
[2,"","",{"$f":"IF(AND($B172=\"AZIONE_2\",C172=1),'3 - SPECIE DA IMPIANTARE'!$L73,\"\")","v":""},null,"",{"$f":"IF(AND($B172=\"AZIONE_2\",F172=2),'3 - SPECIE DA IMPIANTARE'!$L73,\"\")","v":""},null,"",{"$f":"IF(AND($B172=\"AZIONE_2\",$I172=3),'3 - SPECIE DA IMPIANTARE'!$L73,\"\")","v":""},null,"",{"$f":"IF(AND($B172=\"AZIONE_2\",$L172=4),'3 - SPECIE DA IMPIANTARE'!$L73,\"\")","v":""},null,"",{"$f":"IF(AND($B172=\"AZIONE_2\",$O172=5),'3 - SPECIE DA IMPIANTARE'!$L73,\"\")","v":""},null,"",{"$f":"IF(AND($B172=\"AZIONE_2\",$R172=6),'3 - SPECIE DA IMPIANTARE'!$L73,\"\")","v":""}]
[2,"","",{"$f":"IF(AND($B173=\"AZIONE_2\",C173=1),'3 - SPECIE DA IMPIANTARE'!$L74,\"\")","v":""},null,"",{"$f":"IF(AND($B173=\"AZIONE_2\",F173=2),'3 - SPECIE DA IMPIANTARE'!$L74,\"\")","v":""},null,"",{"$f":"IF(AND($B173=\"AZIONE_2\",$I173=3),'3 - SPECIE DA IMPIANTARE'!$L74,\"\")","v":""},null,"",{"$f":"IF(AND($B173=\"AZIONE_2\",$L173=4),'3 - SPECIE DA IMPIANTARE'!$L74,\"\")","v":""},null,"",{"$f":"IF(AND($B173=\"AZIONE_2\",$O173=5),'3 - SPECIE DA IMPIANTARE'!$L74,\"\")","v":""},null,"",{"$f":"IF(AND($B173=\"AZIONE_2\",$R173=6),'3 - SPECIE DA IMPIANTARE'!$L74,\"\")","v":""}]
[2,"","",{"$f":"IF(AND($B174=\"AZIONE_2\",C174=1),'3 - SPECIE DA IMPIANTARE'!$L75,\"\")","v":""},null,"",{"$f":"IF(AND($B174=\"AZIONE_2\",F174=2),'3 - SPECIE DA IMPIANTARE'!$L75,\"\")","v":""},null,"",{"$f":"IF(AND($B174=\"AZIONE_2\",$I174=3),'3 - SPECIE DA IMPIANTARE'!$L75,\"\")","v":""},null,"",{"$f":"IF(AND($B174=\"AZIONE_2\",$L174=4),'3 - SPECIE DA IMPIANTARE'!$L75,\"\")","v":""},null,"",{"$f":"IF(AND($B174=\"AZIONE_2\",$O174=5),'3 - SPECIE DA IMPIANTARE'!$L75,\"\")","v":""},null,"",{"$f":"IF(AND($B174=\"AZIONE_2\",$R174=6),'3 - SPECIE DA IMPIANTARE'!$L75,\"\")","v":""}]
[2,"","",{"$f":"IF(AND($B175=\"AZIONE_2\",C175=1),'3 - SPECIE DA IMPIANTARE'!$L76,\"\")","v":""},null,"",{"$f":"IF(AND($B175=\"AZIONE_2\",F175=2),'3 - SPECIE DA IMPIANTARE'!$L76,\"\")","v":""},null,"",{"$f":"IF(AND($B175=\"AZIONE_2\",$I175=3),'3 - SPECIE DA IMPIANTARE'!$L76,\"\")","v":""},null,"",{"$f":"IF(AND($B175=\"AZIONE_2\",$L175=4),'3 - SPECIE DA IMPIANTARE'!$L76,\"\")","v":""},null,"",{"$f":"IF(AND($B175=\"AZIONE_2\",$O175=5),'3 - SPECIE DA IMPIANTARE'!$L76,\"\")","v":""},null,"",{"$f":"IF(AND($B175=\"AZIONE_2\",$R175=6),'3 - SPECIE DA IMPIANTARE'!$L76,\"\")","v":""}]
[2,"","",{"$f":"IF(AND($B176=\"AZIONE_2\",C176=1),'3 - SPECIE DA IMPIANTARE'!$L77,\"\")","v":""},null,"",{"$f":"IF(AND($B176=\"AZIONE_2\",F176=2),'3 - SPECIE DA IMPIANTARE'!$L77,\"\")","v":""},null,"",{"$f":"IF(AND($B176=\"AZIONE_2\",$I176=3),'3 - SPECIE DA IMPIANTARE'!$L77,\"\")","v":""},null,"",{"$f":"IF(AND($B176=\"AZIONE_2\",$L176=4),'3 - SPECIE DA IMPIANTARE'!$L77,\"\")","v":""},null,"",{"$f":"IF(AND($B176=\"AZIONE_2\",$O176=5),'3 - SPECIE DA IMPIANTARE'!$L77,\"\")","v":""},null,"",{"$f":"IF(AND($B176=\"AZIONE_2\",$R176=6),'3 - SPECIE DA IMPIANTARE'!$L77,\"\")","v":""}]
[2,"","",{"$f":"IF(AND($B177=\"AZIONE_2\",C177=1),'3 - SPECIE DA IMPIANTARE'!$L78,\"\")","v":""},null,"",{"$f":"IF(AND($B177=\"AZIONE_2\",F177=2),'3 - SPECIE DA IMPIANTARE'!$L78,\"\")","v":""},null,"",{"$f":"IF(AND($B177=\"AZIONE_2\",$I177=3),'3 - SPECIE DA IMPIANTARE'!$L78,\"\")","v":""},null,"",{"$f":"IF(AND($B177=\"AZIONE_2\",$L177=4),'3 - SPECIE DA IMPIANTARE'!$L78,\"\")","v":""},null,"",{"$f":"IF(AND($B177=\"AZIONE_2\",$O177=5),'3 - SPECIE DA IMPIANTARE'!$L78,\"\")","v":""},null,"",{"$f":"IF(AND($B177=\"AZIONE_2\",$R177=6),'3 - SPECIE DA IMPIANTARE'!$L78,\"\")","v":""}]
[2,"","",{"$f":"IF(AND($B178=\"AZIONE_2\",C178=1),'3 - SPECIE DA IMPIANTARE'!$L79,\"\")","v":""},null,"",{"$f":"IF(AND($B178=\"AZIONE_2\",F178=2),'3 - SPECIE DA IMPIANTARE'!$L79,\"\")","v":""},null,"",{"$f":"IF(AND($B178=\"AZIONE_2\",$I178=3),'3 - SPECIE DA IMPIANTARE'!$L79,\"\")","v":""},null,"",{"$f":"IF(AND($B178=\"AZIONE_2\",$L178=4),'3 - SPECIE DA IMPIANTARE'!$L79,\"\")","v":""},null,"",{"$f":"IF(AND($B178=\"AZIONE_2\",$O178=5),'3 - SPECIE DA IMPIANTARE'!$L79,\"\")","v":""},null,"",{"$f":"IF(AND($B178=\"AZIONE_2\",$R178=6),'3 - SPECIE DA IMPIANTARE'!$L79,\"\")","v":""}]
[2,"","",{"$f":"IF(AND($B179=\"AZIONE_2\",C179=1),'3 - SPECIE DA IMPIANTARE'!$L80,\"\")","v":""},null,"",{"$f":"IF(AND($B179=\"AZIONE_2\",F179=2),'3 - SPECIE DA IMPIANTARE'!$L80,\"\")","v":""},null,"",{"$f":"IF(AND($B179=\"AZIONE_2\",$I179=3),'3 - SPECIE DA IMPIANTARE'!$L80,\"\")","v":""},null,"",{"$f":"IF(AND($B179=\"AZIONE_2\",$L179=4),'3 - SPECIE DA IMPIANTARE'!$L80,\"\")","v":""},null,"",{"$f":"IF(AND($B179=\"AZIONE_2\",$O179=5),'3 - SPECIE DA IMPIANTARE'!$L80,\"\")","v":""},null,"",{"$f":"IF(AND($B179=\"AZIONE_2\",$R179=6),'3 - SPECIE DA IMPIANTARE'!$L80,\"\")","v":""}]
[2,"","",{"$f":"IF(AND($B180=\"AZIONE_2\",C180=1),'3 - SPECIE DA IMPIANTARE'!$L81,\"\")","v":""},null,"",{"$f":"IF(AND($B180=\"AZIONE_2\",F180=2),'3 - SPECIE DA IMPIANTARE'!$L81,\"\")","v":""},null,"",{"$f":"IF(AND($B180=\"AZIONE_2\",$I180=3),'3 - SPECIE DA IMPIANTARE'!$L81,\"\")","v":""},null,"",{"$f":"IF(AND($B180=\"AZIONE_2\",$L180=4),'3 - SPECIE DA IMPIANTARE'!$L81,\"\")","v":""},null,"",{"$f":"IF(AND($B180=\"AZIONE_2\",$O180=5),'3 - SPECIE DA IMPIANTARE'!$L81,\"\")","v":""},null,"",{"$f":"IF(AND($B180=\"AZIONE_2\",$R180=6),'3 - SPECIE DA IMPIANTARE'!$L81,\"\")","v":""}]
[2,"","",{"$f":"IF(AND($B181=\"AZIONE_2\",C181=1),'3 - SPECIE DA IMPIANTARE'!$L82,\"\")","v":""},null,"",{"$f":"IF(AND($B181=\"AZIONE_2\",F181=2),'3 - SPECIE DA IMPIANTARE'!$L82,\"\")","v":""},null,"",{"$f":"IF(AND($B181=\"AZIONE_2\",$I181=3),'3 - SPECIE DA IMPIANTARE'!$L82,\"\")","v":""},null,"",{"$f":"IF(AND($B181=\"AZIONE_2\",$L181=4),'3 - SPECIE DA IMPIANTARE'!$L82,\"\")","v":""},null,"",{"$f":"IF(AND($B181=\"AZIONE_2\",$O181=5),'3 - SPECIE DA IMPIANTARE'!$L82,\"\")","v":""},null,"",{"$f":"IF(AND($B181=\"AZIONE_2\",$R181=6),'3 - SPECIE DA IMPIANTARE'!$L82,\"\")","v":""}]
[2,"","",{"$f":"IF(AND($B182=\"AZIONE_2\",C182=1),'3 - SPECIE DA IMPIANTARE'!$L83,\"\")","v":""},null,"",{"$f":"IF(AND($B182=\"AZIONE_2\",F182=2),'3 - SPECIE DA IMPIANTARE'!$L83,\"\")","v":""},null,"",{"$f":"IF(AND($B182=\"AZIONE_2\",$I182=3),'3 - SPECIE DA IMPIANTARE'!$L83,\"\")","v":""},null,"",{"$f":"IF(AND($B182=\"AZIONE_2\",$L182=4),'3 - SPECIE DA IMPIANTARE'!$L83,\"\")","v":""},null,"",{"$f":"IF(AND($B182=\"AZIONE_2\",$O182=5),'3 - SPECIE DA IMPIANTARE'!$L83,\"\")","v":""},null,"",{"$f":"IF(AND($B182=\"AZIONE_2\",$R182=6),'3 - SPECIE DA IMPIANTARE'!$L83,\"\")","v":""}]
[2,{"$f":"B83","v":""},"",{"$f":"IF(AND($B183=\"AZIONE_2\",C183=1),'3 - SPECIE DA IMPIANTARE'!$L84,\"\")","v":""},null,"",{"$f":"IF(AND($B183=\"AZIONE_2\",F183=2),'3 - SPECIE DA IMPIANTARE'!$L84,\"\")","v":""},null,"",{"$f":"IF(AND($B183=\"AZIONE_2\",$I183=3),'3 - SPECIE DA IMPIANTARE'!$L84,\"\")","v":""},null,"",{"$f":"IF(AND($B183=\"AZIONE_2\",$L183=4),'3 - SPECIE DA IMPIANTARE'!$L84,\"\")","v":""},null,"",{"$f":"IF(AND($B183=\"AZIONE_2\",$O183=5),'3 - SPECIE DA IMPIANTARE'!$L84,\"\")","v":""},null,"",{"$f":"IF(AND($B183=\"AZIONE_2\",$R183=6),'3 - SPECIE DA IMPIANTARE'!$L84,\"\")","v":""}]
[2,"","",{"$f":"IF(AND($B184=\"AZIONE_2\",C184=1),'3 - SPECIE DA IMPIANTARE'!$L85,\"\")","v":""},null,"",{"$f":"IF(AND($B184=\"AZIONE_2\",F184=2),'3 - SPECIE DA IMPIANTARE'!$L85,\"\")","v":""},null,"",{"$f":"IF(AND($B184=\"AZIONE_2\",$I184=3),'3 - SPECIE DA IMPIANTARE'!$L85,\"\")","v":""},null,"",{"$f":"IF(AND($B184=\"AZIONE_2\",$L184=4),'3 - SPECIE DA IMPIANTARE'!$L85,\"\")","v":""},null,"",{"$f":"IF(AND($B184=\"AZIONE_2\",$O184=5),'3 - SPECIE DA IMPIANTARE'!$L85,\"\")","v":""},null,"",{"$f":"IF(AND($B184=\"AZIONE_2\",$R184=6),'3 - SPECIE DA IMPIANTARE'!$L85,\"\")","v":""}]
[2,"","",{"$f":"IF(AND($B185=\"AZIONE_2\",C185=1),'3 - SPECIE DA IMPIANTARE'!$L86,\"\")","v":""},null,"",{"$f":"IF(AND($B185=\"AZIONE_2\",F185=2),'3 - SPECIE DA IMPIANTARE'!$L86,\"\")","v":""},null,"",{"$f":"IF(AND($B185=\"AZIONE_2\",$I185=3),'3 - SPECIE DA IMPIANTARE'!$L86,\"\")","v":""},null,"",{"$f":"IF(AND($B185=\"AZIONE_2\",$L185=4),'3 - SPECIE DA IMPIANTARE'!$L86,\"\")","v":""},null,"",{"$f":"IF(AND($B185=\"AZIONE_2\",$O185=5),'3 - SPECIE DA IMPIANTARE'!$L86,\"\")","v":""},null,"",{"$f":"IF(AND($B185=\"AZIONE_2\",$R185=6),'3 - SPECIE DA IMPIANTARE'!$L86,\"\")","v":""}]
[2,"","",{"$f":"IF(AND($B186=\"AZIONE_2\",C186=1),'3 - SPECIE DA IMPIANTARE'!$L87,\"\")","v":""},null,"",{"$f":"IF(AND($B186=\"AZIONE_2\",F186=2),'3 - SPECIE DA IMPIANTARE'!$L87,\"\")","v":""},null,"",{"$f":"IF(AND($B186=\"AZIONE_2\",$I186=3),'3 - SPECIE DA IMPIANTARE'!$L87,\"\")","v":""},null,"",{"$f":"IF(AND($B186=\"AZIONE_2\",$L186=4),'3 - SPECIE DA IMPIANTARE'!$L87,\"\")","v":""},null,"",{"$f":"IF(AND($B186=\"AZIONE_2\",$O186=5),'3 - SPECIE DA IMPIANTARE'!$L87,\"\")","v":""},null,"",{"$f":"IF(AND($B186=\"AZIONE_2\",$R186=6),'3 - SPECIE DA IMPIANTARE'!$L87,\"\")","v":""}]
[2,"","",{"$f":"IF(AND($B187=\"AZIONE_2\",C187=1),'3 - SPECIE DA IMPIANTARE'!$L88,\"\")","v":""},null,"",{"$f":"IF(AND($B187=\"AZIONE_2\",F187=2),'3 - SPECIE DA IMPIANTARE'!$L88,\"\")","v":""},null,"",{"$f":"IF(AND($B187=\"AZIONE_2\",$I187=3),'3 - SPECIE DA IMPIANTARE'!$L88,\"\")","v":""},null,"",{"$f":"IF(AND($B187=\"AZIONE_2\",$L187=4),'3 - SPECIE DA IMPIANTARE'!$L88,\"\")","v":""},null,"",{"$f":"IF(AND($B187=\"AZIONE_2\",$O187=5),'3 - SPECIE DA IMPIANTARE'!$L88,\"\")","v":""},null,"",{"$f":"IF(AND($B187=\"AZIONE_2\",$R187=6),'3 - SPECIE DA IMPIANTARE'!$L88,\"\")","v":""}]
[2,"","",{"$f":"IF(AND($B188=\"AZIONE_2\",C188=1),'3 - SPECIE DA IMPIANTARE'!$L89,\"\")","v":""},null,"",{"$f":"IF(AND($B188=\"AZIONE_2\",F188=2),'3 - SPECIE DA IMPIANTARE'!$L89,\"\")","v":""},null,"",{"$f":"IF(AND($B188=\"AZIONE_2\",$I188=3),'3 - SPECIE DA IMPIANTARE'!$L89,\"\")","v":""},null,"",{"$f":"IF(AND($B188=\"AZIONE_2\",$L188=4),'3 - SPECIE DA IMPIANTARE'!$L89,\"\")","v":""},null,"",{"$f":"IF(AND($B188=\"AZIONE_2\",$O188=5),'3 - SPECIE DA IMPIANTARE'!$L89,\"\")","v":""},null,"",{"$f":"IF(AND($B188=\"AZIONE_2\",$R188=6),'3 - SPECIE DA IMPIANTARE'!$L89,\"\")","v":""}]
[2,"","",{"$f":"IF(AND($B189=\"AZIONE_2\",C189=1),'3 - SPECIE DA IMPIANTARE'!$L90,\"\")","v":""},null,"",{"$f":"IF(AND($B189=\"AZIONE_2\",F189=2),'3 - SPECIE DA IMPIANTARE'!$L90,\"\")","v":""},null,"",{"$f":"IF(AND($B189=\"AZIONE_2\",$I189=3),'3 - SPECIE DA IMPIANTARE'!$L90,\"\")","v":""},null,"",{"$f":"IF(AND($B189=\"AZIONE_2\",$L189=4),'3 - SPECIE DA IMPIANTARE'!$L90,\"\")","v":""},null,"",{"$f":"IF(AND($B189=\"AZIONE_2\",$O189=5),'3 - SPECIE DA IMPIANTARE'!$L90,\"\")","v":""},null,"",{"$f":"IF(AND($B189=\"AZIONE_2\",$R189=6),'3 - SPECIE DA IMPIANTARE'!$L90,\"\")","v":""}]
[2,"","",{"$f":"IF(AND($B190=\"AZIONE_2\",C190=1),'3 - SPECIE DA IMPIANTARE'!$L91,\"\")","v":""},null,"",{"$f":"IF(AND($B190=\"AZIONE_2\",F190=2),'3 - SPECIE DA IMPIANTARE'!$L91,\"\")","v":""},null,"",{"$f":"IF(AND($B190=\"AZIONE_2\",$I190=3),'3 - SPECIE DA IMPIANTARE'!$L91,\"\")","v":""},null,"",{"$f":"IF(AND($B190=\"AZIONE_2\",$L190=4),'3 - SPECIE DA IMPIANTARE'!$L91,\"\")","v":""},null,"",{"$f":"IF(AND($B190=\"AZIONE_2\",$O190=5),'3 - SPECIE DA IMPIANTARE'!$L91,\"\")","v":""},null,"",{"$f":"IF(AND($B190=\"AZIONE_2\",$R190=6),'3 - SPECIE DA IMPIANTARE'!$L91,\"\")","v":""}]
[2,"","",{"$f":"IF(AND($B191=\"AZIONE_2\",C191=1),'3 - SPECIE DA IMPIANTARE'!$L92,\"\")","v":""},null,"",{"$f":"IF(AND($B191=\"AZIONE_2\",F191=2),'3 - SPECIE DA IMPIANTARE'!$L92,\"\")","v":""},null,"",{"$f":"IF(AND($B191=\"AZIONE_2\",$I191=3),'3 - SPECIE DA IMPIANTARE'!$L92,\"\")","v":""},null,"",{"$f":"IF(AND($B191=\"AZIONE_2\",$L191=4),'3 - SPECIE DA IMPIANTARE'!$L92,\"\")","v":""},null,"",{"$f":"IF(AND($B191=\"AZIONE_2\",$O191=5),'3 - SPECIE DA IMPIANTARE'!$L92,\"\")","v":""},null,"",{"$f":"IF(AND($B191=\"AZIONE_2\",$R191=6),'3 - SPECIE DA IMPIANTARE'!$L92,\"\")","v":""}]
[2,"","",{"$f":"IF(AND($B192=\"AZIONE_2\",C192=1),'3 - SPECIE DA IMPIANTARE'!$L93,\"\")","v":""},null,"",{"$f":"IF(AND($B192=\"AZIONE_2\",F192=2),'3 - SPECIE DA IMPIANTARE'!$L93,\"\")","v":""},null,"",{"$f":"IF(AND($B192=\"AZIONE_2\",$I192=3),'3 - SPECIE DA IMPIANTARE'!$L93,\"\")","v":""},null,"",{"$f":"IF(AND($B192=\"AZIONE_2\",$L192=4),'3 - SPECIE DA IMPIANTARE'!$L93,\"\")","v":""},null,"",{"$f":"IF(AND($B192=\"AZIONE_2\",$O192=5),'3 - SPECIE DA IMPIANTARE'!$L93,\"\")","v":""},null,"",{"$f":"IF(AND($B192=\"AZIONE_2\",$R192=6),'3 - SPECIE DA IMPIANTARE'!$L93,\"\")","v":""}]
[2,"","",{"$f":"IF(AND($B193=\"AZIONE_2\",C193=1),'3 - SPECIE DA IMPIANTARE'!$L94,\"\")","v":""},null,"",{"$f":"IF(AND($B193=\"AZIONE_2\",F193=2),'3 - SPECIE DA IMPIANTARE'!$L94,\"\")","v":""},null,"",{"$f":"IF(AND($B193=\"AZIONE_2\",$I193=3),'3 - SPECIE DA IMPIANTARE'!$L94,\"\")","v":""},null,"",{"$f":"IF(AND($B193=\"AZIONE_2\",$L193=4),'3 - SPECIE DA IMPIANTARE'!$L94,\"\")","v":""},null,"",{"$f":"IF(AND($B193=\"AZIONE_2\",$O193=5),'3 - SPECIE DA IMPIANTARE'!$L94,\"\")","v":""},null,"",{"$f":"IF(AND($B193=\"AZIONE_2\",$R193=6),'3 - SPECIE DA IMPIANTARE'!$L94,\"\")","v":""}]
[2,"","",{"$f":"IF(AND($B194=\"AZIONE_2\",C194=1),'3 - SPECIE DA IMPIANTARE'!$L95,\"\")","v":""},null,"",{"$f":"IF(AND($B194=\"AZIONE_2\",F194=2),'3 - SPECIE DA IMPIANTARE'!$L95,\"\")","v":""},null,"",{"$f":"IF(AND($B194=\"AZIONE_2\",$I194=3),'3 - SPECIE DA IMPIANTARE'!$L95,\"\")","v":""},null,"",{"$f":"IF(AND($B194=\"AZIONE_2\",$L194=4),'3 - SPECIE DA IMPIANTARE'!$L95,\"\")","v":""},null,"",{"$f":"IF(AND($B194=\"AZIONE_2\",$O194=5),'3 - SPECIE DA IMPIANTARE'!$L95,\"\")","v":""},null,"",{"$f":"IF(AND($B194=\"AZIONE_2\",$R194=6),'3 - SPECIE DA IMPIANTARE'!$L95,\"\")","v":""}]
[2,"","",{"$f":"IF(AND($B195=\"AZIONE_2\",C195=1),'3 - SPECIE DA IMPIANTARE'!$L96,\"\")","v":""},null,"",{"$f":"IF(AND($B195=\"AZIONE_2\",F195=2),'3 - SPECIE DA IMPIANTARE'!$L96,\"\")","v":""},null,"",{"$f":"IF(AND($B195=\"AZIONE_2\",$I195=3),'3 - SPECIE DA IMPIANTARE'!$L96,\"\")","v":""},null,"",{"$f":"IF(AND($B195=\"AZIONE_2\",$L195=4),'3 - SPECIE DA IMPIANTARE'!$L96,\"\")","v":""},null,"",{"$f":"IF(AND($B195=\"AZIONE_2\",$O195=5),'3 - SPECIE DA IMPIANTARE'!$L96,\"\")","v":""},null,"",{"$f":"IF(AND($B195=\"AZIONE_2\",$R195=6),'3 - SPECIE DA IMPIANTARE'!$L96,\"\")","v":""}]
[2,"","",{"$f":"IF(AND($B196=\"AZIONE_2\",C196=1),'3 - SPECIE DA IMPIANTARE'!$L97,\"\")","v":""},null,"",{"$f":"IF(AND($B196=\"AZIONE_2\",F196=2),'3 - SPECIE DA IMPIANTARE'!$L97,\"\")","v":""},null,"",{"$f":"IF(AND($B196=\"AZIONE_2\",$I196=3),'3 - SPECIE DA IMPIANTARE'!$L97,\"\")","v":""},null,"",{"$f":"IF(AND($B196=\"AZIONE_2\",$L196=4),'3 - SPECIE DA IMPIANTARE'!$L97,\"\")","v":""},null,"",{"$f":"IF(AND($B196=\"AZIONE_2\",$O196=5),'3 - SPECIE DA IMPIANTARE'!$L97,\"\")","v":""},null,"",{"$f":"IF(AND($B196=\"AZIONE_2\",$R196=6),'3 - SPECIE DA IMPIANTARE'!$L97,\"\")","v":""}]
[2,"","",{"$f":"IF(AND($B197=\"AZIONE_2\",C197=1),'3 - SPECIE DA IMPIANTARE'!$L98,\"\")","v":""},null,"",{"$f":"IF(AND($B197=\"AZIONE_2\",F197=2),'3 - SPECIE DA IMPIANTARE'!$L98,\"\")","v":""},null,"",{"$f":"IF(AND($B197=\"AZIONE_2\",$I197=3),'3 - SPECIE DA IMPIANTARE'!$L98,\"\")","v":""},null,"",{"$f":"IF(AND($B197=\"AZIONE_2\",$L197=4),'3 - SPECIE DA IMPIANTARE'!$L98,\"\")","v":""},null,"",{"$f":"IF(AND($B197=\"AZIONE_2\",$O197=5),'3 - SPECIE DA IMPIANTARE'!$L98,\"\")","v":""},null,"",{"$f":"IF(AND($B197=\"AZIONE_2\",$R197=6),'3 - SPECIE DA IMPIANTARE'!$L98,\"\")","v":""}]
[2,"","",{"$f":"IF(AND($B198=\"AZIONE_2\",C198=1),'3 - SPECIE DA IMPIANTARE'!$L99,\"\")","v":""},null,"",{"$f":"IF(AND($B198=\"AZIONE_2\",F198=2),'3 - SPECIE DA IMPIANTARE'!$L99,\"\")","v":""},null,"",{"$f":"IF(AND($B198=\"AZIONE_2\",$I198=3),'3 - SPECIE DA IMPIANTARE'!$L99,\"\")","v":""},null,"",{"$f":"IF(AND($B198=\"AZIONE_2\",$L198=4),'3 - SPECIE DA IMPIANTARE'!$L99,\"\")","v":""},null,"",{"$f":"IF(AND($B198=\"AZIONE_2\",$O198=5),'3 - SPECIE DA IMPIANTARE'!$L99,\"\")","v":""},null,"",{"$f":"IF(AND($B198=\"AZIONE_2\",$R198=6),'3 - SPECIE DA IMPIANTARE'!$L99,\"\")","v":""}]
[2,{"$f":"B99","v":""},"",{"$f":"IF(AND($B199=\"AZIONE_2\",C199=1),'3 - SPECIE DA IMPIANTARE'!$L100,\"\")","v":""},null,"",{"$f":"IF(AND($B199=\"AZIONE_2\",F199=2),'3 - SPECIE DA IMPIANTARE'!$L100,\"\")","v":""},null,"",{"$f":"IF(AND($B199=\"AZIONE_2\",$I199=3),'3 - SPECIE DA IMPIANTARE'!$L100,\"\")","v":""},null,"",{"$f":"IF(AND($B199=\"AZIONE_2\",$L199=4),'3 - SPECIE DA IMPIANTARE'!$L100,\"\")","v":""},null,"",{"$f":"IF(AND($B199=\"AZIONE_2\",$O199=5),'3 - SPECIE DA IMPIANTARE'!$L100,\"\")","v":""},null,"",{"$f":"IF(AND($B199=\"AZIONE_2\",$R199=6),'3 - SPECIE DA IMPIANTARE'!$L100,\"\")","v":""}]
[2,"","",{"$f":"IF(AND($B200=\"AZIONE_2\",C200=1),'3 - SPECIE DA IMPIANTARE'!$L101,\"\")","v":""},null,"",{"$f":"IF(AND($B200=\"AZIONE_2\",F200=2),'3 - SPECIE DA IMPIANTARE'!$L101,\"\")","v":""},null,"",{"$f":"IF(AND($B200=\"AZIONE_2\",$I200=3),'3 - SPECIE DA IMPIANTARE'!$L101,\"\")","v":""},null,"",{"$f":"IF(AND($B200=\"AZIONE_2\",$L200=4),'3 - SPECIE DA IMPIANTARE'!$L101,\"\")","v":""},null,"",{"$f":"IF(AND($B200=\"AZIONE_2\",$O200=5),'3 - SPECIE DA IMPIANTARE'!$L101,\"\")","v":""},null,"",{"$f":"IF(AND($B200=\"AZIONE_2\",$R200=6),'3 - SPECIE DA IMPIANTARE'!$L101,\"\")","v":""}]
[2,"","",{"$f":"IF(AND($B201=\"AZIONE_2\",C201=1),'3 - SPECIE DA IMPIANTARE'!$L102,\"\")","v":""},null,"",{"$f":"IF(AND($B201=\"AZIONE_2\",F201=2),'3 - SPECIE DA IMPIANTARE'!$L102,\"\")","v":""},null,"",{"$f":"IF(AND($B201=\"AZIONE_2\",$I201=3),'3 - SPECIE DA IMPIANTARE'!$L102,\"\")","v":""},null,"",{"$f":"IF(AND($B201=\"AZIONE_2\",$L201=4),'3 - SPECIE DA IMPIANTARE'!$L102,\"\")","v":""},null,"",{"$f":"IF(AND($B201=\"AZIONE_2\",$O201=5),'3 - SPECIE DA IMPIANTARE'!$L102,\"\")","v":""},null,"",{"$f":"IF(AND($B201=\"AZIONE_2\",$R201=6),'3 - SPECIE DA IMPIANTARE'!$L102,\"\")","v":""}]
[3,"","",{"$f":"IF(AND($B202=\"AZIONE_2\",C202=1),'3 - SPECIE DA IMPIANTARE'!$O3,\"\")","v":""},null,"",{"$f":"IF(AND($B202=\"AZIONE_2\",F202=2),'3 - SPECIE DA IMPIANTARE'!$O3,\"\")","v":""},null,"",{"$f":"IF(AND($B202=\"AZIONE_2\",$I202=3),'3 - SPECIE DA IMPIANTARE'!$O3,\"\")","v":""},null,"",{"$f":"IF(AND($B202=\"AZIONE_2\",$L202=4),'3 - SPECIE DA IMPIANTARE'!$O3,\"\")","v":""},null,"",{"$f":"IF(AND($B202=\"AZIONE_2\",$O202=5),'3 - SPECIE DA IMPIANTARE'!$O3,\"\")","v":""},null,"",{"$f":"IF(AND($B202=\"AZIONE_2\",$R202=6),'3 - SPECIE DA IMPIANTARE'!$O3,\"\")","v":""}]
[3,"","",{"$f":"IF(AND($B203=\"AZIONE_2\",C203=1),'3 - SPECIE DA IMPIANTARE'!$O4,\"\")","v":""},null,"",{"$f":"IF(AND($B203=\"AZIONE_2\",F203=2),'3 - SPECIE DA IMPIANTARE'!$O4,\"\")","v":""},null,"",{"$f":"IF(AND($B203=\"AZIONE_2\",$I203=3),'3 - SPECIE DA IMPIANTARE'!$O4,\"\")","v":""},null,"",{"$f":"IF(AND($B203=\"AZIONE_2\",$L203=4),'3 - SPECIE DA IMPIANTARE'!$O4,\"\")","v":""},null,"",{"$f":"IF(AND($B203=\"AZIONE_2\",$O203=5),'3 - SPECIE DA IMPIANTARE'!$O4,\"\")","v":""},null,"",{"$f":"IF(AND($B203=\"AZIONE_2\",$R203=6),'3 - SPECIE DA IMPIANTARE'!$O4,\"\")","v":""}]
[3,"","",{"$f":"IF(AND($B204=\"AZIONE_2\",C204=1),'3 - SPECIE DA IMPIANTARE'!$O5,\"\")","v":""},null,"",{"$f":"IF(AND($B204=\"AZIONE_2\",F204=2),'3 - SPECIE DA IMPIANTARE'!$O5,\"\")","v":""},null,"",{"$f":"IF(AND($B204=\"AZIONE_2\",$I204=3),'3 - SPECIE DA IMPIANTARE'!$O5,\"\")","v":""},null,"",{"$f":"IF(AND($B204=\"AZIONE_2\",$L204=4),'3 - SPECIE DA IMPIANTARE'!$O5,\"\")","v":""},null,"",{"$f":"IF(AND($B204=\"AZIONE_2\",$O204=5),'3 - SPECIE DA IMPIANTARE'!$O5,\"\")","v":""},null,"",{"$f":"IF(AND($B204=\"AZIONE_2\",$R204=6),'3 - SPECIE DA IMPIANTARE'!$O5,\"\")","v":""}]
[3,"","",{"$f":"IF(AND($B205=\"AZIONE_2\",C205=1),'3 - SPECIE DA IMPIANTARE'!$O6,\"\")","v":""},null,"",{"$f":"IF(AND($B205=\"AZIONE_2\",F205=2),'3 - SPECIE DA IMPIANTARE'!$O6,\"\")","v":""},null,"",{"$f":"IF(AND($B205=\"AZIONE_2\",$I205=3),'3 - SPECIE DA IMPIANTARE'!$O6,\"\")","v":""},null,"",{"$f":"IF(AND($B205=\"AZIONE_2\",$L205=4),'3 - SPECIE DA IMPIANTARE'!$O6,\"\")","v":""},null,"",{"$f":"IF(AND($B205=\"AZIONE_2\",$O205=5),'3 - SPECIE DA IMPIANTARE'!$O6,\"\")","v":""},null,"",{"$f":"IF(AND($B205=\"AZIONE_2\",$R205=6),'3 - SPECIE DA IMPIANTARE'!$O6,\"\")","v":""}]
[3,"","",{"$f":"IF(AND($B206=\"AZIONE_2\",C206=1),'3 - SPECIE DA IMPIANTARE'!$O7,\"\")","v":""},null,"",{"$f":"IF(AND($B206=\"AZIONE_2\",F206=2),'3 - SPECIE DA IMPIANTARE'!$O7,\"\")","v":""},null,"",{"$f":"IF(AND($B206=\"AZIONE_2\",$I206=3),'3 - SPECIE DA IMPIANTARE'!$O7,\"\")","v":""},null,"",{"$f":"IF(AND($B206=\"AZIONE_2\",$L206=4),'3 - SPECIE DA IMPIANTARE'!$O7,\"\")","v":""},null,"",{"$f":"IF(AND($B206=\"AZIONE_2\",$O206=5),'3 - SPECIE DA IMPIANTARE'!$O7,\"\")","v":""},null,"",{"$f":"IF(AND($B206=\"AZIONE_2\",$R206=6),'3 - SPECIE DA IMPIANTARE'!$O7,\"\")","v":""}]
[3,"","",{"$f":"IF(AND($B207=\"AZIONE_2\",C207=1),'3 - SPECIE DA IMPIANTARE'!$O8,\"\")","v":""},null,"",{"$f":"IF(AND($B207=\"AZIONE_2\",F207=2),'3 - SPECIE DA IMPIANTARE'!$O8,\"\")","v":""},null,"",{"$f":"IF(AND($B207=\"AZIONE_2\",$I207=3),'3 - SPECIE DA IMPIANTARE'!$O8,\"\")","v":""},null,"",{"$f":"IF(AND($B207=\"AZIONE_2\",$L207=4),'3 - SPECIE DA IMPIANTARE'!$O8,\"\")","v":""},null,"",{"$f":"IF(AND($B207=\"AZIONE_2\",$O207=5),'3 - SPECIE DA IMPIANTARE'!$O8,\"\")","v":""},null,"",{"$f":"IF(AND($B207=\"AZIONE_2\",$R207=6),'3 - SPECIE DA IMPIANTARE'!$O8,\"\")","v":""}]
[3,"","",{"$f":"IF(AND($B208=\"AZIONE_2\",C208=1),'3 - SPECIE DA IMPIANTARE'!$O9,\"\")","v":""},null,"",{"$f":"IF(AND($B208=\"AZIONE_2\",F208=2),'3 - SPECIE DA IMPIANTARE'!$O9,\"\")","v":""},null,"",{"$f":"IF(AND($B208=\"AZIONE_2\",$I208=3),'3 - SPECIE DA IMPIANTARE'!$O9,\"\")","v":""},null,"",{"$f":"IF(AND($B208=\"AZIONE_2\",$L208=4),'3 - SPECIE DA IMPIANTARE'!$O9,\"\")","v":""},null,"",{"$f":"IF(AND($B208=\"AZIONE_2\",$O208=5),'3 - SPECIE DA IMPIANTARE'!$O9,\"\")","v":""},null,"",{"$f":"IF(AND($B208=\"AZIONE_2\",$R208=6),'3 - SPECIE DA IMPIANTARE'!$O9,\"\")","v":""}]
[3,"","",{"$f":"IF(AND($B209=\"AZIONE_2\",C209=1),'3 - SPECIE DA IMPIANTARE'!$O10,\"\")","v":""},null,"",{"$f":"IF(AND($B209=\"AZIONE_2\",F209=2),'3 - SPECIE DA IMPIANTARE'!$O10,\"\")","v":""},null,"",{"$f":"IF(AND($B209=\"AZIONE_2\",$I209=3),'3 - SPECIE DA IMPIANTARE'!$O10,\"\")","v":""},null,"",{"$f":"IF(AND($B209=\"AZIONE_2\",$L209=4),'3 - SPECIE DA IMPIANTARE'!$O10,\"\")","v":""},null,"",{"$f":"IF(AND($B209=\"AZIONE_2\",$O209=5),'3 - SPECIE DA IMPIANTARE'!$O10,\"\")","v":""},null,"",{"$f":"IF(AND($B209=\"AZIONE_2\",$R209=6),'3 - SPECIE DA IMPIANTARE'!$O10,\"\")","v":""}]
[3,"","",{"$f":"IF(AND($B210=\"AZIONE_2\",C210=1),'3 - SPECIE DA IMPIANTARE'!$O11,\"\")","v":""},null,"",{"$f":"IF(AND($B210=\"AZIONE_2\",F210=2),'3 - SPECIE DA IMPIANTARE'!$O11,\"\")","v":""},null,"",{"$f":"IF(AND($B210=\"AZIONE_2\",$I210=3),'3 - SPECIE DA IMPIANTARE'!$O11,\"\")","v":""},null,"",{"$f":"IF(AND($B210=\"AZIONE_2\",$L210=4),'3 - SPECIE DA IMPIANTARE'!$O11,\"\")","v":""},null,"",{"$f":"IF(AND($B210=\"AZIONE_2\",$O210=5),'3 - SPECIE DA IMPIANTARE'!$O11,\"\")","v":""},null,"",{"$f":"IF(AND($B210=\"AZIONE_2\",$R210=6),'3 - SPECIE DA IMPIANTARE'!$O11,\"\")","v":""}]
[3,"","",{"$f":"IF(AND($B211=\"AZIONE_2\",C211=1),'3 - SPECIE DA IMPIANTARE'!$O12,\"\")","v":""},null,"",{"$f":"IF(AND($B211=\"AZIONE_2\",F211=2),'3 - SPECIE DA IMPIANTARE'!$O12,\"\")","v":""},null,"",{"$f":"IF(AND($B211=\"AZIONE_2\",$I211=3),'3 - SPECIE DA IMPIANTARE'!$O12,\"\")","v":""},null,"",{"$f":"IF(AND($B211=\"AZIONE_2\",$L211=4),'3 - SPECIE DA IMPIANTARE'!$O12,\"\")","v":""},null,"",{"$f":"IF(AND($B211=\"AZIONE_2\",$O211=5),'3 - SPECIE DA IMPIANTARE'!$O12,\"\")","v":""},null,"",{"$f":"IF(AND($B211=\"AZIONE_2\",$R211=6),'3 - SPECIE DA IMPIANTARE'!$O12,\"\")","v":""}]
[3,"","",{"$f":"IF(AND($B212=\"AZIONE_2\",C212=1),'3 - SPECIE DA IMPIANTARE'!$O13,\"\")","v":""},null,"",{"$f":"IF(AND($B212=\"AZIONE_2\",F212=2),'3 - SPECIE DA IMPIANTARE'!$O13,\"\")","v":""},null,"",{"$f":"IF(AND($B212=\"AZIONE_2\",$I212=3),'3 - SPECIE DA IMPIANTARE'!$O13,\"\")","v":""},null,"",{"$f":"IF(AND($B212=\"AZIONE_2\",$L212=4),'3 - SPECIE DA IMPIANTARE'!$O13,\"\")","v":""},null,"",{"$f":"IF(AND($B212=\"AZIONE_2\",$O212=5),'3 - SPECIE DA IMPIANTARE'!$O13,\"\")","v":""},null,"",{"$f":"IF(AND($B212=\"AZIONE_2\",$R212=6),'3 - SPECIE DA IMPIANTARE'!$O13,\"\")","v":""}]
[3,"","",{"$f":"IF(AND($B213=\"AZIONE_2\",C213=1),'3 - SPECIE DA IMPIANTARE'!$O14,\"\")","v":""},null,"",{"$f":"IF(AND($B213=\"AZIONE_2\",F213=2),'3 - SPECIE DA IMPIANTARE'!$O14,\"\")","v":""},null,"",{"$f":"IF(AND($B213=\"AZIONE_2\",$I213=3),'3 - SPECIE DA IMPIANTARE'!$O14,\"\")","v":""},null,"",{"$f":"IF(AND($B213=\"AZIONE_2\",$L213=4),'3 - SPECIE DA IMPIANTARE'!$O14,\"\")","v":""},null,"",{"$f":"IF(AND($B213=\"AZIONE_2\",$O213=5),'3 - SPECIE DA IMPIANTARE'!$O14,\"\")","v":""},null,"",{"$f":"IF(AND($B213=\"AZIONE_2\",$R213=6),'3 - SPECIE DA IMPIANTARE'!$O14,\"\")","v":""}]
[3,"","",{"$f":"IF(AND($B214=\"AZIONE_2\",C214=1),'3 - SPECIE DA IMPIANTARE'!$O15,\"\")","v":""},null,"",{"$f":"IF(AND($B214=\"AZIONE_2\",F214=2),'3 - SPECIE DA IMPIANTARE'!$O15,\"\")","v":""},null,"",{"$f":"IF(AND($B214=\"AZIONE_2\",$I214=3),'3 - SPECIE DA IMPIANTARE'!$O15,\"\")","v":""},null,"",{"$f":"IF(AND($B214=\"AZIONE_2\",$L214=4),'3 - SPECIE DA IMPIANTARE'!$O15,\"\")","v":""},null,"",{"$f":"IF(AND($B214=\"AZIONE_2\",$O214=5),'3 - SPECIE DA IMPIANTARE'!$O15,\"\")","v":""},null,"",{"$f":"IF(AND($B214=\"AZIONE_2\",$R214=6),'3 - SPECIE DA IMPIANTARE'!$O15,\"\")","v":""}]
[3,{"$f":"B115","v":""},"",{"$f":"IF(AND($B215=\"AZIONE_2\",C215=1),'3 - SPECIE DA IMPIANTARE'!$O16,\"\")","v":""},null,"",{"$f":"IF(AND($B215=\"AZIONE_2\",F215=2),'3 - SPECIE DA IMPIANTARE'!$O16,\"\")","v":""},null,"",{"$f":"IF(AND($B215=\"AZIONE_2\",$I215=3),'3 - SPECIE DA IMPIANTARE'!$O16,\"\")","v":""},null,"",{"$f":"IF(AND($B215=\"AZIONE_2\",$L215=4),'3 - SPECIE DA IMPIANTARE'!$O16,\"\")","v":""},null,"",{"$f":"IF(AND($B215=\"AZIONE_2\",$O215=5),'3 - SPECIE DA IMPIANTARE'!$O16,\"\")","v":""},null,"",{"$f":"IF(AND($B215=\"AZIONE_2\",$R215=6),'3 - SPECIE DA IMPIANTARE'!$O16,\"\")","v":""}]
[3,"","",{"$f":"IF(AND($B216=\"AZIONE_2\",C216=1),'3 - SPECIE DA IMPIANTARE'!$O17,\"\")","v":""},null,"",{"$f":"IF(AND($B216=\"AZIONE_2\",F216=2),'3 - SPECIE DA IMPIANTARE'!$O17,\"\")","v":""},null,"",{"$f":"IF(AND($B216=\"AZIONE_2\",$I216=3),'3 - SPECIE DA IMPIANTARE'!$O17,\"\")","v":""},null,"",{"$f":"IF(AND($B216=\"AZIONE_2\",$L216=4),'3 - SPECIE DA IMPIANTARE'!$O17,\"\")","v":""},null,"",{"$f":"IF(AND($B216=\"AZIONE_2\",$O216=5),'3 - SPECIE DA IMPIANTARE'!$O17,\"\")","v":""},null,"",{"$f":"IF(AND($B216=\"AZIONE_2\",$R216=6),'3 - SPECIE DA IMPIANTARE'!$O17,\"\")","v":""}]
[3,"","",{"$f":"IF(AND($B217=\"AZIONE_2\",C217=1),'3 - SPECIE DA IMPIANTARE'!$O18,\"\")","v":""},null,"",{"$f":"IF(AND($B217=\"AZIONE_2\",F217=2),'3 - SPECIE DA IMPIANTARE'!$O18,\"\")","v":""},null,"",{"$f":"IF(AND($B217=\"AZIONE_2\",$I217=3),'3 - SPECIE DA IMPIANTARE'!$O18,\"\")","v":""},null,"",{"$f":"IF(AND($B217=\"AZIONE_2\",$L217=4),'3 - SPECIE DA IMPIANTARE'!$O18,\"\")","v":""},null,"",{"$f":"IF(AND($B217=\"AZIONE_2\",$O217=5),'3 - SPECIE DA IMPIANTARE'!$O18,\"\")","v":""},null,"",{"$f":"IF(AND($B217=\"AZIONE_2\",$R217=6),'3 - SPECIE DA IMPIANTARE'!$O18,\"\")","v":""}]
[3,"","",{"$f":"IF(AND($B218=\"AZIONE_2\",C218=1),'3 - SPECIE DA IMPIANTARE'!$O19,\"\")","v":""},null,"",{"$f":"IF(AND($B218=\"AZIONE_2\",F218=2),'3 - SPECIE DA IMPIANTARE'!$O19,\"\")","v":""},null,"",{"$f":"IF(AND($B218=\"AZIONE_2\",$I218=3),'3 - SPECIE DA IMPIANTARE'!$O19,\"\")","v":""},null,"",{"$f":"IF(AND($B218=\"AZIONE_2\",$L218=4),'3 - SPECIE DA IMPIANTARE'!$O19,\"\")","v":""},null,"",{"$f":"IF(AND($B218=\"AZIONE_2\",$O218=5),'3 - SPECIE DA IMPIANTARE'!$O19,\"\")","v":""},null,"",{"$f":"IF(AND($B218=\"AZIONE_2\",$R218=6),'3 - SPECIE DA IMPIANTARE'!$O19,\"\")","v":""}]
[3,"","",{"$f":"IF(AND($B219=\"AZIONE_2\",C219=1),'3 - SPECIE DA IMPIANTARE'!$O20,\"\")","v":""},null,"",{"$f":"IF(AND($B219=\"AZIONE_2\",F219=2),'3 - SPECIE DA IMPIANTARE'!$O20,\"\")","v":""},null,"",{"$f":"IF(AND($B219=\"AZIONE_2\",$I219=3),'3 - SPECIE DA IMPIANTARE'!$O20,\"\")","v":""},null,"",{"$f":"IF(AND($B219=\"AZIONE_2\",$L219=4),'3 - SPECIE DA IMPIANTARE'!$O20,\"\")","v":""},null,"",{"$f":"IF(AND($B219=\"AZIONE_2\",$O219=5),'3 - SPECIE DA IMPIANTARE'!$O20,\"\")","v":""},null,"",{"$f":"IF(AND($B219=\"AZIONE_2\",$R219=6),'3 - SPECIE DA IMPIANTARE'!$O20,\"\")","v":""}]
[3,"","",{"$f":"IF(AND($B220=\"AZIONE_2\",C220=1),'3 - SPECIE DA IMPIANTARE'!$O21,\"\")","v":""},null,"",{"$f":"IF(AND($B220=\"AZIONE_2\",F220=2),'3 - SPECIE DA IMPIANTARE'!$O21,\"\")","v":""},null,"",{"$f":"IF(AND($B220=\"AZIONE_2\",$I220=3),'3 - SPECIE DA IMPIANTARE'!$O21,\"\")","v":""},null,"",{"$f":"IF(AND($B220=\"AZIONE_2\",$L220=4),'3 - SPECIE DA IMPIANTARE'!$O21,\"\")","v":""},null,"",{"$f":"IF(AND($B220=\"AZIONE_2\",$O220=5),'3 - SPECIE DA IMPIANTARE'!$O21,\"\")","v":""},null,"",{"$f":"IF(AND($B220=\"AZIONE_2\",$R220=6),'3 - SPECIE DA IMPIANTARE'!$O21,\"\")","v":""}]
[3,"","",{"$f":"IF(AND($B221=\"AZIONE_2\",C221=1),'3 - SPECIE DA IMPIANTARE'!$O22,\"\")","v":""},null,"",{"$f":"IF(AND($B221=\"AZIONE_2\",F221=2),'3 - SPECIE DA IMPIANTARE'!$O22,\"\")","v":""},null,"",{"$f":"IF(AND($B221=\"AZIONE_2\",$I221=3),'3 - SPECIE DA IMPIANTARE'!$O22,\"\")","v":""},null,"",{"$f":"IF(AND($B221=\"AZIONE_2\",$L221=4),'3 - SPECIE DA IMPIANTARE'!$O22,\"\")","v":""},null,"",{"$f":"IF(AND($B221=\"AZIONE_2\",$O221=5),'3 - SPECIE DA IMPIANTARE'!$O22,\"\")","v":""},null,"",{"$f":"IF(AND($B221=\"AZIONE_2\",$R221=6),'3 - SPECIE DA IMPIANTARE'!$O22,\"\")","v":""}]
[3,"","",{"$f":"IF(AND($B222=\"AZIONE_2\",C222=1),'3 - SPECIE DA IMPIANTARE'!$O23,\"\")","v":""},null,"",{"$f":"IF(AND($B222=\"AZIONE_2\",F222=2),'3 - SPECIE DA IMPIANTARE'!$O23,\"\")","v":""},null,"",{"$f":"IF(AND($B222=\"AZIONE_2\",$I222=3),'3 - SPECIE DA IMPIANTARE'!$O23,\"\")","v":""},null,"",{"$f":"IF(AND($B222=\"AZIONE_2\",$L222=4),'3 - SPECIE DA IMPIANTARE'!$O23,\"\")","v":""},null,"",{"$f":"IF(AND($B222=\"AZIONE_2\",$O222=5),'3 - SPECIE DA IMPIANTARE'!$O23,\"\")","v":""},null,"",{"$f":"IF(AND($B222=\"AZIONE_2\",$R222=6),'3 - SPECIE DA IMPIANTARE'!$O23,\"\")","v":""}]
[3,"","",{"$f":"IF(AND($B223=\"AZIONE_2\",C223=1),'3 - SPECIE DA IMPIANTARE'!$O24,\"\")","v":""},null,"",{"$f":"IF(AND($B223=\"AZIONE_2\",F223=2),'3 - SPECIE DA IMPIANTARE'!$O24,\"\")","v":""},null,"",{"$f":"IF(AND($B223=\"AZIONE_2\",$I223=3),'3 - SPECIE DA IMPIANTARE'!$O24,\"\")","v":""},null,"",{"$f":"IF(AND($B223=\"AZIONE_2\",$L223=4),'3 - SPECIE DA IMPIANTARE'!$O24,\"\")","v":""},null,"",{"$f":"IF(AND($B223=\"AZIONE_2\",$O223=5),'3 - SPECIE DA IMPIANTARE'!$O24,\"\")","v":""},null,"",{"$f":"IF(AND($B223=\"AZIONE_2\",$R223=6),'3 - SPECIE DA IMPIANTARE'!$O24,\"\")","v":""}]
[3,"","",{"$f":"IF(AND($B224=\"AZIONE_2\",C224=1),'3 - SPECIE DA IMPIANTARE'!$O25,\"\")","v":""},null,"",{"$f":"IF(AND($B224=\"AZIONE_2\",F224=2),'3 - SPECIE DA IMPIANTARE'!$O25,\"\")","v":""},null,"",{"$f":"IF(AND($B224=\"AZIONE_2\",$I224=3),'3 - SPECIE DA IMPIANTARE'!$O25,\"\")","v":""},null,"",{"$f":"IF(AND($B224=\"AZIONE_2\",$L224=4),'3 - SPECIE DA IMPIANTARE'!$O25,\"\")","v":""},null,"",{"$f":"IF(AND($B224=\"AZIONE_2\",$O224=5),'3 - SPECIE DA IMPIANTARE'!$O25,\"\")","v":""},null,"",{"$f":"IF(AND($B224=\"AZIONE_2\",$R224=6),'3 - SPECIE DA IMPIANTARE'!$O25,\"\")","v":""}]
[3,"","",{"$f":"IF(AND($B225=\"AZIONE_2\",C225=1),'3 - SPECIE DA IMPIANTARE'!$O26,\"\")","v":""},null,"",{"$f":"IF(AND($B225=\"AZIONE_2\",F225=2),'3 - SPECIE DA IMPIANTARE'!$O26,\"\")","v":""},null,"",{"$f":"IF(AND($B225=\"AZIONE_2\",$I225=3),'3 - SPECIE DA IMPIANTARE'!$O26,\"\")","v":""},null,"",{"$f":"IF(AND($B225=\"AZIONE_2\",$L225=4),'3 - SPECIE DA IMPIANTARE'!$O26,\"\")","v":""},null,"",{"$f":"IF(AND($B225=\"AZIONE_2\",$O225=5),'3 - SPECIE DA IMPIANTARE'!$O26,\"\")","v":""},null,"",{"$f":"IF(AND($B225=\"AZIONE_2\",$R225=6),'3 - SPECIE DA IMPIANTARE'!$O26,\"\")","v":""}]
[3,"","",{"$f":"IF(AND($B226=\"AZIONE_2\",C226=1),'3 - SPECIE DA IMPIANTARE'!$O27,\"\")","v":""},null,"",{"$f":"IF(AND($B226=\"AZIONE_2\",F226=2),'3 - SPECIE DA IMPIANTARE'!$O27,\"\")","v":""},null,"",{"$f":"IF(AND($B226=\"AZIONE_2\",$I226=3),'3 - SPECIE DA IMPIANTARE'!$O27,\"\")","v":""},null,"",{"$f":"IF(AND($B226=\"AZIONE_2\",$L226=4),'3 - SPECIE DA IMPIANTARE'!$O27,\"\")","v":""},null,"",{"$f":"IF(AND($B226=\"AZIONE_2\",$O226=5),'3 - SPECIE DA IMPIANTARE'!$O27,\"\")","v":""},null,"",{"$f":"IF(AND($B226=\"AZIONE_2\",$R226=6),'3 - SPECIE DA IMPIANTARE'!$O27,\"\")","v":""}]
[3,"","",{"$f":"IF(AND($B227=\"AZIONE_2\",C227=1),'3 - SPECIE DA IMPIANTARE'!$O28,\"\")","v":""},null,"",{"$f":"IF(AND($B227=\"AZIONE_2\",F227=2),'3 - SPECIE DA IMPIANTARE'!$O28,\"\")","v":""},null,"",{"$f":"IF(AND($B227=\"AZIONE_2\",$I227=3),'3 - SPECIE DA IMPIANTARE'!$O28,\"\")","v":""},null,"",{"$f":"IF(AND($B227=\"AZIONE_2\",$L227=4),'3 - SPECIE DA IMPIANTARE'!$O28,\"\")","v":""},null,"",{"$f":"IF(AND($B227=\"AZIONE_2\",$O227=5),'3 - SPECIE DA IMPIANTARE'!$O28,\"\")","v":""},null,"",{"$f":"IF(AND($B227=\"AZIONE_2\",$R227=6),'3 - SPECIE DA IMPIANTARE'!$O28,\"\")","v":""}]
[3,"","",{"$f":"IF(AND($B228=\"AZIONE_2\",C228=1),'3 - SPECIE DA IMPIANTARE'!$O29,\"\")","v":""},null,"",{"$f":"IF(AND($B228=\"AZIONE_2\",F228=2),'3 - SPECIE DA IMPIANTARE'!$O29,\"\")","v":""},null,"",{"$f":"IF(AND($B228=\"AZIONE_2\",$I228=3),'3 - SPECIE DA IMPIANTARE'!$O29,\"\")","v":""},null,"",{"$f":"IF(AND($B228=\"AZIONE_2\",$L228=4),'3 - SPECIE DA IMPIANTARE'!$O29,\"\")","v":""},null,"",{"$f":"IF(AND($B228=\"AZIONE_2\",$O228=5),'3 - SPECIE DA IMPIANTARE'!$O29,\"\")","v":""},null,"",{"$f":"IF(AND($B228=\"AZIONE_2\",$R228=6),'3 - SPECIE DA IMPIANTARE'!$O29,\"\")","v":""}]
[3,"","",{"$f":"IF(AND($B229=\"AZIONE_2\",C229=1),'3 - SPECIE DA IMPIANTARE'!$O30,\"\")","v":""},null,"",{"$f":"IF(AND($B229=\"AZIONE_2\",F229=2),'3 - SPECIE DA IMPIANTARE'!$O30,\"\")","v":""},null,"",{"$f":"IF(AND($B229=\"AZIONE_2\",$I229=3),'3 - SPECIE DA IMPIANTARE'!$O30,\"\")","v":""},null,"",{"$f":"IF(AND($B229=\"AZIONE_2\",$L229=4),'3 - SPECIE DA IMPIANTARE'!$O30,\"\")","v":""},null,"",{"$f":"IF(AND($B229=\"AZIONE_2\",$O229=5),'3 - SPECIE DA IMPIANTARE'!$O30,\"\")","v":""},null,"",{"$f":"IF(AND($B229=\"AZIONE_2\",$R229=6),'3 - SPECIE DA IMPIANTARE'!$O30,\"\")","v":""}]
[3,"","",{"$f":"IF(AND($B230=\"AZIONE_2\",C230=1),'3 - SPECIE DA IMPIANTARE'!$O31,\"\")","v":""},null,"",{"$f":"IF(AND($B230=\"AZIONE_2\",F230=2),'3 - SPECIE DA IMPIANTARE'!$O31,\"\")","v":""},null,"",{"$f":"IF(AND($B230=\"AZIONE_2\",$I230=3),'3 - SPECIE DA IMPIANTARE'!$O31,\"\")","v":""},null,"",{"$f":"IF(AND($B230=\"AZIONE_2\",$L230=4),'3 - SPECIE DA IMPIANTARE'!$O31,\"\")","v":""},null,"",{"$f":"IF(AND($B230=\"AZIONE_2\",$O230=5),'3 - SPECIE DA IMPIANTARE'!$O31,\"\")","v":""},null,"",{"$f":"IF(AND($B230=\"AZIONE_2\",$R230=6),'3 - SPECIE DA IMPIANTARE'!$O31,\"\")","v":""}]
[3,{"$f":"B131","v":""},"",{"$f":"IF(AND($B231=\"AZIONE_2\",C231=1),'3 - SPECIE DA IMPIANTARE'!$O32,\"\")","v":""},null,{"$f":"F131","v":""},{"$f":"IF(AND($B231=\"AZIONE_2\",F231=2),'3 - SPECIE DA IMPIANTARE'!$O32,\"\")","v":""},null,{"$f":"I131","v":""},{"$f":"IF(AND($B231=\"AZIONE_2\",$I231=3),'3 - SPECIE DA IMPIANTARE'!$O32,\"\")","v":""},null,{"$f":"L131","v":""},{"$f":"IF(AND($B231=\"AZIONE_2\",$L231=4),'3 - SPECIE DA IMPIANTARE'!$O32,\"\")","v":""},null,{"$f":"O131","v":""},{"$f":"IF(AND($B231=\"AZIONE_2\",$O231=5),'3 - SPECIE DA IMPIANTARE'!$O32,\"\")","v":""},null,{"$f":"R131","v":""},{"$f":"IF(AND($B231=\"AZIONE_2\",$R231=6),'3 - SPECIE DA IMPIANTARE'!$O32,\"\")","v":""}]
[3,"","",{"$f":"IF(AND($B232=\"AZIONE_2\",C232=1),'3 - SPECIE DA IMPIANTARE'!$O33,\"\")","v":""},null,"",{"$f":"IF(AND($B232=\"AZIONE_2\",F232=2),'3 - SPECIE DA IMPIANTARE'!$O33,\"\")","v":""},null,"",{"$f":"IF(AND($B232=\"AZIONE_2\",$I232=3),'3 - SPECIE DA IMPIANTARE'!$O33,\"\")","v":""},null,"",{"$f":"IF(AND($B232=\"AZIONE_2\",$L232=4),'3 - SPECIE DA IMPIANTARE'!$O33,\"\")","v":""},null,"",{"$f":"IF(AND($B232=\"AZIONE_2\",$O232=5),'3 - SPECIE DA IMPIANTARE'!$O33,\"\")","v":""},null,"",{"$f":"IF(AND($B232=\"AZIONE_2\",$R232=6),'3 - SPECIE DA IMPIANTARE'!$O33,\"\")","v":""}]
[3,"","",{"$f":"IF(AND($B233=\"AZIONE_2\",C233=1),'3 - SPECIE DA IMPIANTARE'!$O34,\"\")","v":""},null,"",{"$f":"IF(AND($B233=\"AZIONE_2\",F233=2),'3 - SPECIE DA IMPIANTARE'!$O34,\"\")","v":""},null,"",{"$f":"IF(AND($B233=\"AZIONE_2\",$I233=3),'3 - SPECIE DA IMPIANTARE'!$O34,\"\")","v":""},null,"",{"$f":"IF(AND($B233=\"AZIONE_2\",$L233=4),'3 - SPECIE DA IMPIANTARE'!$O34,\"\")","v":""},null,"",{"$f":"IF(AND($B233=\"AZIONE_2\",$O233=5),'3 - SPECIE DA IMPIANTARE'!$O34,\"\")","v":""},null,"",{"$f":"IF(AND($B233=\"AZIONE_2\",$R233=6),'3 - SPECIE DA IMPIANTARE'!$O34,\"\")","v":""}]
[3,"","",{"$f":"IF(AND($B234=\"AZIONE_2\",C234=1),'3 - SPECIE DA IMPIANTARE'!$O35,\"\")","v":""},null,"",{"$f":"IF(AND($B234=\"AZIONE_2\",F234=2),'3 - SPECIE DA IMPIANTARE'!$O35,\"\")","v":""},null,"",{"$f":"IF(AND($B234=\"AZIONE_2\",$I234=3),'3 - SPECIE DA IMPIANTARE'!$O35,\"\")","v":""},null,"",{"$f":"IF(AND($B234=\"AZIONE_2\",$L234=4),'3 - SPECIE DA IMPIANTARE'!$O35,\"\")","v":""},null,"",{"$f":"IF(AND($B234=\"AZIONE_2\",$O234=5),'3 - SPECIE DA IMPIANTARE'!$O35,\"\")","v":""},null,"",{"$f":"IF(AND($B234=\"AZIONE_2\",$R234=6),'3 - SPECIE DA IMPIANTARE'!$O35,\"\")","v":""}]
[3,"","",{"$f":"IF(AND($B235=\"AZIONE_2\",C235=1),'3 - SPECIE DA IMPIANTARE'!$O36,\"\")","v":""},null,"",{"$f":"IF(AND($B235=\"AZIONE_2\",F235=2),'3 - SPECIE DA IMPIANTARE'!$O36,\"\")","v":""},null,"",{"$f":"IF(AND($B235=\"AZIONE_2\",$I235=3),'3 - SPECIE DA IMPIANTARE'!$O36,\"\")","v":""},null,"",{"$f":"IF(AND($B235=\"AZIONE_2\",$L235=4),'3 - SPECIE DA IMPIANTARE'!$O36,\"\")","v":""},null,"",{"$f":"IF(AND($B235=\"AZIONE_2\",$O235=5),'3 - SPECIE DA IMPIANTARE'!$O36,\"\")","v":""},null,"",{"$f":"IF(AND($B235=\"AZIONE_2\",$R235=6),'3 - SPECIE DA IMPIANTARE'!$O36,\"\")","v":""}]
[3,"","",{"$f":"IF(AND($B236=\"AZIONE_2\",C236=1),'3 - SPECIE DA IMPIANTARE'!$O37,\"\")","v":""},null,"",{"$f":"IF(AND($B236=\"AZIONE_2\",F236=2),'3 - SPECIE DA IMPIANTARE'!$O37,\"\")","v":""},null,"",{"$f":"IF(AND($B236=\"AZIONE_2\",$I236=3),'3 - SPECIE DA IMPIANTARE'!$O37,\"\")","v":""},null,"",{"$f":"IF(AND($B236=\"AZIONE_2\",$L236=4),'3 - SPECIE DA IMPIANTARE'!$O37,\"\")","v":""},null,"",{"$f":"IF(AND($B236=\"AZIONE_2\",$O236=5),'3 - SPECIE DA IMPIANTARE'!$O37,\"\")","v":""},null,"",{"$f":"IF(AND($B236=\"AZIONE_2\",$R236=6),'3 - SPECIE DA IMPIANTARE'!$O37,\"\")","v":""}]
[3,"","",{"$f":"IF(AND($B237=\"AZIONE_2\",C237=1),'3 - SPECIE DA IMPIANTARE'!$O38,\"\")","v":""},null,"",{"$f":"IF(AND($B237=\"AZIONE_2\",F237=2),'3 - SPECIE DA IMPIANTARE'!$O38,\"\")","v":""},null,"",{"$f":"IF(AND($B237=\"AZIONE_2\",$I237=3),'3 - SPECIE DA IMPIANTARE'!$O38,\"\")","v":""},null,"",{"$f":"IF(AND($B237=\"AZIONE_2\",$L237=4),'3 - SPECIE DA IMPIANTARE'!$O38,\"\")","v":""},null,"",{"$f":"IF(AND($B237=\"AZIONE_2\",$O237=5),'3 - SPECIE DA IMPIANTARE'!$O38,\"\")","v":""},null,"",{"$f":"IF(AND($B237=\"AZIONE_2\",$R237=6),'3 - SPECIE DA IMPIANTARE'!$O38,\"\")","v":""}]
[3,"","",{"$f":"IF(AND($B238=\"AZIONE_2\",C238=1),'3 - SPECIE DA IMPIANTARE'!$O39,\"\")","v":""},null,"",{"$f":"IF(AND($B238=\"AZIONE_2\",F238=2),'3 - SPECIE DA IMPIANTARE'!$O39,\"\")","v":""},null,"",{"$f":"IF(AND($B238=\"AZIONE_2\",$I238=3),'3 - SPECIE DA IMPIANTARE'!$O39,\"\")","v":""},null,"",{"$f":"IF(AND($B238=\"AZIONE_2\",$L238=4),'3 - SPECIE DA IMPIANTARE'!$O39,\"\")","v":""},null,"",{"$f":"IF(AND($B238=\"AZIONE_2\",$O238=5),'3 - SPECIE DA IMPIANTARE'!$O39,\"\")","v":""},null,"",{"$f":"IF(AND($B238=\"AZIONE_2\",$R238=6),'3 - SPECIE DA IMPIANTARE'!$O39,\"\")","v":""}]
[3,"","",{"$f":"IF(AND($B239=\"AZIONE_2\",C239=1),'3 - SPECIE DA IMPIANTARE'!$O40,\"\")","v":""},null,"",{"$f":"IF(AND($B239=\"AZIONE_2\",F239=2),'3 - SPECIE DA IMPIANTARE'!$O40,\"\")","v":""},null,"",{"$f":"IF(AND($B239=\"AZIONE_2\",$I239=3),'3 - SPECIE DA IMPIANTARE'!$O40,\"\")","v":""},null,"",{"$f":"IF(AND($B239=\"AZIONE_2\",$L239=4),'3 - SPECIE DA IMPIANTARE'!$O40,\"\")","v":""},null,"",{"$f":"IF(AND($B239=\"AZIONE_2\",$O239=5),'3 - SPECIE DA IMPIANTARE'!$O40,\"\")","v":""},null,"",{"$f":"IF(AND($B239=\"AZIONE_2\",$R239=6),'3 - SPECIE DA IMPIANTARE'!$O40,\"\")","v":""}]
[3,"","",{"$f":"IF(AND($B240=\"AZIONE_2\",C240=1),'3 - SPECIE DA IMPIANTARE'!$O41,\"\")","v":""},null,"",{"$f":"IF(AND($B240=\"AZIONE_2\",F240=2),'3 - SPECIE DA IMPIANTARE'!$O41,\"\")","v":""},null,"",{"$f":"IF(AND($B240=\"AZIONE_2\",$I240=3),'3 - SPECIE DA IMPIANTARE'!$O41,\"\")","v":""},null,"",{"$f":"IF(AND($B240=\"AZIONE_2\",$L240=4),'3 - SPECIE DA IMPIANTARE'!$O41,\"\")","v":""},null,"",{"$f":"IF(AND($B240=\"AZIONE_2\",$O240=5),'3 - SPECIE DA IMPIANTARE'!$O41,\"\")","v":""},null,"",{"$f":"IF(AND($B240=\"AZIONE_2\",$R240=6),'3 - SPECIE DA IMPIANTARE'!$O41,\"\")","v":""}]
[3,"","",{"$f":"IF(AND($B241=\"AZIONE_2\",C241=1),'3 - SPECIE DA IMPIANTARE'!$O42,\"\")","v":""},null,"",{"$f":"IF(AND($B241=\"AZIONE_2\",F241=2),'3 - SPECIE DA IMPIANTARE'!$O42,\"\")","v":""},null,"",{"$f":"IF(AND($B241=\"AZIONE_2\",$I241=3),'3 - SPECIE DA IMPIANTARE'!$O42,\"\")","v":""},null,"",{"$f":"IF(AND($B241=\"AZIONE_2\",$L241=4),'3 - SPECIE DA IMPIANTARE'!$O42,\"\")","v":""},null,"",{"$f":"IF(AND($B241=\"AZIONE_2\",$O241=5),'3 - SPECIE DA IMPIANTARE'!$O42,\"\")","v":""},null,"",{"$f":"IF(AND($B241=\"AZIONE_2\",$R241=6),'3 - SPECIE DA IMPIANTARE'!$O42,\"\")","v":""}]
[3,"","",{"$f":"IF(AND($B242=\"AZIONE_2\",C242=1),'3 - SPECIE DA IMPIANTARE'!$O43,\"\")","v":""},null,"",{"$f":"IF(AND($B242=\"AZIONE_2\",F242=2),'3 - SPECIE DA IMPIANTARE'!$O43,\"\")","v":""},null,"",{"$f":"IF(AND($B242=\"AZIONE_2\",$I242=3),'3 - SPECIE DA IMPIANTARE'!$O43,\"\")","v":""},null,"",{"$f":"IF(AND($B242=\"AZIONE_2\",$L242=4),'3 - SPECIE DA IMPIANTARE'!$O43,\"\")","v":""},null,"",{"$f":"IF(AND($B242=\"AZIONE_2\",$O242=5),'3 - SPECIE DA IMPIANTARE'!$O43,\"\")","v":""},null,"",{"$f":"IF(AND($B242=\"AZIONE_2\",$R242=6),'3 - SPECIE DA IMPIANTARE'!$O43,\"\")","v":""}]
[3,"","",{"$f":"IF(AND($B243=\"AZIONE_2\",C243=1),'3 - SPECIE DA IMPIANTARE'!$O44,\"\")","v":""},null,"",{"$f":"IF(AND($B243=\"AZIONE_2\",F243=2),'3 - SPECIE DA IMPIANTARE'!$O44,\"\")","v":""},null,"",{"$f":"IF(AND($B243=\"AZIONE_2\",$I243=3),'3 - SPECIE DA IMPIANTARE'!$O44,\"\")","v":""},null,"",{"$f":"IF(AND($B243=\"AZIONE_2\",$L243=4),'3 - SPECIE DA IMPIANTARE'!$O44,\"\")","v":""},null,"",{"$f":"IF(AND($B243=\"AZIONE_2\",$O243=5),'3 - SPECIE DA IMPIANTARE'!$O44,\"\")","v":""},null,"",{"$f":"IF(AND($B243=\"AZIONE_2\",$R243=6),'3 - SPECIE DA IMPIANTARE'!$O44,\"\")","v":""}]
[3,"","",{"$f":"IF(AND($B244=\"AZIONE_2\",C244=1),'3 - SPECIE DA IMPIANTARE'!$O45,\"\")","v":""},null,"",{"$f":"IF(AND($B244=\"AZIONE_2\",F244=2),'3 - SPECIE DA IMPIANTARE'!$O45,\"\")","v":""},null,"",{"$f":"IF(AND($B244=\"AZIONE_2\",$I244=3),'3 - SPECIE DA IMPIANTARE'!$O45,\"\")","v":""},null,"",{"$f":"IF(AND($B244=\"AZIONE_2\",$L244=4),'3 - SPECIE DA IMPIANTARE'!$O45,\"\")","v":""},null,"",{"$f":"IF(AND($B244=\"AZIONE_2\",$O244=5),'3 - SPECIE DA IMPIANTARE'!$O45,\"\")","v":""},null,"",{"$f":"IF(AND($B244=\"AZIONE_2\",$R244=6),'3 - SPECIE DA IMPIANTARE'!$O45,\"\")","v":""}]
[3,"","",{"$f":"IF(AND($B245=\"AZIONE_2\",C245=1),'3 - SPECIE DA IMPIANTARE'!$O46,\"\")","v":""},null,"",{"$f":"IF(AND($B245=\"AZIONE_2\",F245=2),'3 - SPECIE DA IMPIANTARE'!$O46,\"\")","v":""},null,"",{"$f":"IF(AND($B245=\"AZIONE_2\",$I245=3),'3 - SPECIE DA IMPIANTARE'!$O46,\"\")","v":""},null,"",{"$f":"IF(AND($B245=\"AZIONE_2\",$L245=4),'3 - SPECIE DA IMPIANTARE'!$O46,\"\")","v":""},null,"",{"$f":"IF(AND($B245=\"AZIONE_2\",$O245=5),'3 - SPECIE DA IMPIANTARE'!$O46,\"\")","v":""},null,"",{"$f":"IF(AND($B245=\"AZIONE_2\",$R245=6),'3 - SPECIE DA IMPIANTARE'!$O46,\"\")","v":""}]
[3,"","",{"$f":"IF(AND($B246=\"AZIONE_2\",C246=1),'3 - SPECIE DA IMPIANTARE'!$O47,\"\")","v":""},null,"",{"$f":"IF(AND($B246=\"AZIONE_2\",F246=2),'3 - SPECIE DA IMPIANTARE'!$O47,\"\")","v":""},null,"",{"$f":"IF(AND($B246=\"AZIONE_2\",$I246=3),'3 - SPECIE DA IMPIANTARE'!$O47,\"\")","v":""},null,"",{"$f":"IF(AND($B246=\"AZIONE_2\",$L246=4),'3 - SPECIE DA IMPIANTARE'!$O47,\"\")","v":""},null,"",{"$f":"IF(AND($B246=\"AZIONE_2\",$O246=5),'3 - SPECIE DA IMPIANTARE'!$O47,\"\")","v":""},null,"",{"$f":"IF(AND($B246=\"AZIONE_2\",$R246=6),'3 - SPECIE DA IMPIANTARE'!$O47,\"\")","v":""}]
[3,{"$f":"B147","v":""},"",{"$f":"IF(AND($B247=\"AZIONE_2\",C247=1),'3 - SPECIE DA IMPIANTARE'!$O48,\"\")","v":""},null,"",{"$f":"IF(AND($B247=\"AZIONE_2\",F247=2),'3 - SPECIE DA IMPIANTARE'!$O48,\"\")","v":""},null,"",{"$f":"IF(AND($B247=\"AZIONE_2\",$I247=3),'3 - SPECIE DA IMPIANTARE'!$O48,\"\")","v":""},null,"",{"$f":"IF(AND($B247=\"AZIONE_2\",$L247=4),'3 - SPECIE DA IMPIANTARE'!$O48,\"\")","v":""},null,"",{"$f":"IF(AND($B247=\"AZIONE_2\",$O247=5),'3 - SPECIE DA IMPIANTARE'!$O48,\"\")","v":""},null,"",{"$f":"IF(AND($B247=\"AZIONE_2\",$R247=6),'3 - SPECIE DA IMPIANTARE'!$O48,\"\")","v":""}]
[3,"","",{"$f":"IF(AND($B248=\"AZIONE_2\",C248=1),'3 - SPECIE DA IMPIANTARE'!$O49,\"\")","v":""},null,"",{"$f":"IF(AND($B248=\"AZIONE_2\",F248=2),'3 - SPECIE DA IMPIANTARE'!$O49,\"\")","v":""},null,"",{"$f":"IF(AND($B248=\"AZIONE_2\",$I248=3),'3 - SPECIE DA IMPIANTARE'!$O49,\"\")","v":""},null,"",{"$f":"IF(AND($B248=\"AZIONE_2\",$L248=4),'3 - SPECIE DA IMPIANTARE'!$O49,\"\")","v":""},null,"",{"$f":"IF(AND($B248=\"AZIONE_2\",$O248=5),'3 - SPECIE DA IMPIANTARE'!$O49,\"\")","v":""},null,"",{"$f":"IF(AND($B248=\"AZIONE_2\",$R248=6),'3 - SPECIE DA IMPIANTARE'!$O49,\"\")","v":""}]
[3,"","",{"$f":"IF(AND($B249=\"AZIONE_2\",C249=1),'3 - SPECIE DA IMPIANTARE'!$O50,\"\")","v":""},null,"",{"$f":"IF(AND($B249=\"AZIONE_2\",F249=2),'3 - SPECIE DA IMPIANTARE'!$O50,\"\")","v":""},null,"",{"$f":"IF(AND($B249=\"AZIONE_2\",$I249=3),'3 - SPECIE DA IMPIANTARE'!$O50,\"\")","v":""},null,"",{"$f":"IF(AND($B249=\"AZIONE_2\",$L249=4),'3 - SPECIE DA IMPIANTARE'!$O50,\"\")","v":""},null,"",{"$f":"IF(AND($B249=\"AZIONE_2\",$O249=5),'3 - SPECIE DA IMPIANTARE'!$O50,\"\")","v":""},null,"",{"$f":"IF(AND($B249=\"AZIONE_2\",$R249=6),'3 - SPECIE DA IMPIANTARE'!$O50,\"\")","v":""}]
[3,"","",{"$f":"IF(AND($B250=\"AZIONE_2\",C250=1),'3 - SPECIE DA IMPIANTARE'!$O51,\"\")","v":""},null,"",{"$f":"IF(AND($B250=\"AZIONE_2\",F250=2),'3 - SPECIE DA IMPIANTARE'!$O51,\"\")","v":""},null,"",{"$f":"IF(AND($B250=\"AZIONE_2\",$I250=3),'3 - SPECIE DA IMPIANTARE'!$O51,\"\")","v":""},null,"",{"$f":"IF(AND($B250=\"AZIONE_2\",$L250=4),'3 - SPECIE DA IMPIANTARE'!$O51,\"\")","v":""},null,"",{"$f":"IF(AND($B250=\"AZIONE_2\",$O250=5),'3 - SPECIE DA IMPIANTARE'!$O51,\"\")","v":""},null,"",{"$f":"IF(AND($B250=\"AZIONE_2\",$R250=6),'3 - SPECIE DA IMPIANTARE'!$O51,\"\")","v":""}]
[3,"","",{"$f":"IF(AND($B251=\"AZIONE_2\",C251=1),'3 - SPECIE DA IMPIANTARE'!$O52,\"\")","v":""},null,"",{"$f":"IF(AND($B251=\"AZIONE_2\",F251=2),'3 - SPECIE DA IMPIANTARE'!$O52,\"\")","v":""},null,"",{"$f":"IF(AND($B251=\"AZIONE_2\",$I251=3),'3 - SPECIE DA IMPIANTARE'!$O52,\"\")","v":""},null,"",{"$f":"IF(AND($B251=\"AZIONE_2\",$L251=4),'3 - SPECIE DA IMPIANTARE'!$O52,\"\")","v":""},null,"",{"$f":"IF(AND($B251=\"AZIONE_2\",$O251=5),'3 - SPECIE DA IMPIANTARE'!$O52,\"\")","v":""},null,"",{"$f":"IF(AND($B251=\"AZIONE_2\",$R251=6),'3 - SPECIE DA IMPIANTARE'!$O52,\"\")","v":""}]
[3,"","",{"$f":"IF(AND($B252=\"AZIONE_2\",C252=1),'3 - SPECIE DA IMPIANTARE'!$O53,\"\")","v":""},null,"",{"$f":"IF(AND($B252=\"AZIONE_2\",F252=2),'3 - SPECIE DA IMPIANTARE'!$O53,\"\")","v":""},null,"",{"$f":"IF(AND($B252=\"AZIONE_2\",$I252=3),'3 - SPECIE DA IMPIANTARE'!$O53,\"\")","v":""},null,"",{"$f":"IF(AND($B252=\"AZIONE_2\",$L252=4),'3 - SPECIE DA IMPIANTARE'!$O53,\"\")","v":""},null,"",{"$f":"IF(AND($B252=\"AZIONE_2\",$O252=5),'3 - SPECIE DA IMPIANTARE'!$O53,\"\")","v":""},null,"",{"$f":"IF(AND($B252=\"AZIONE_2\",$R252=6),'3 - SPECIE DA IMPIANTARE'!$O53,\"\")","v":""}]
[3,"","",{"$f":"IF(AND($B253=\"AZIONE_2\",C253=1),'3 - SPECIE DA IMPIANTARE'!$O54,\"\")","v":""},null,"",{"$f":"IF(AND($B253=\"AZIONE_2\",F253=2),'3 - SPECIE DA IMPIANTARE'!$O54,\"\")","v":""},null,"",{"$f":"IF(AND($B253=\"AZIONE_2\",$I253=3),'3 - SPECIE DA IMPIANTARE'!$O54,\"\")","v":""},null,"",{"$f":"IF(AND($B253=\"AZIONE_2\",$L253=4),'3 - SPECIE DA IMPIANTARE'!$O54,\"\")","v":""},null,"",{"$f":"IF(AND($B253=\"AZIONE_2\",$O253=5),'3 - SPECIE DA IMPIANTARE'!$O54,\"\")","v":""},null,"",{"$f":"IF(AND($B253=\"AZIONE_2\",$R253=6),'3 - SPECIE DA IMPIANTARE'!$O54,\"\")","v":""}]
[3,"","",{"$f":"IF(AND($B254=\"AZIONE_2\",C254=1),'3 - SPECIE DA IMPIANTARE'!$O55,\"\")","v":""},null,"",{"$f":"IF(AND($B254=\"AZIONE_2\",F254=2),'3 - SPECIE DA IMPIANTARE'!$O55,\"\")","v":""},null,"",{"$f":"IF(AND($B254=\"AZIONE_2\",$I254=3),'3 - SPECIE DA IMPIANTARE'!$O55,\"\")","v":""},null,"",{"$f":"IF(AND($B254=\"AZIONE_2\",$L254=4),'3 - SPECIE DA IMPIANTARE'!$O55,\"\")","v":""},null,"",{"$f":"IF(AND($B254=\"AZIONE_2\",$O254=5),'3 - SPECIE DA IMPIANTARE'!$O55,\"\")","v":""},null,"",{"$f":"IF(AND($B254=\"AZIONE_2\",$R254=6),'3 - SPECIE DA IMPIANTARE'!$O55,\"\")","v":""}]
[3,"","",{"$f":"IF(AND($B255=\"AZIONE_2\",C255=1),'3 - SPECIE DA IMPIANTARE'!$O56,\"\")","v":""},null,"",{"$f":"IF(AND($B255=\"AZIONE_2\",F255=2),'3 - SPECIE DA IMPIANTARE'!$O56,\"\")","v":""},null,"",{"$f":"IF(AND($B255=\"AZIONE_2\",$I255=3),'3 - SPECIE DA IMPIANTARE'!$O56,\"\")","v":""},null,"",{"$f":"IF(AND($B255=\"AZIONE_2\",$L255=4),'3 - SPECIE DA IMPIANTARE'!$O56,\"\")","v":""},null,"",{"$f":"IF(AND($B255=\"AZIONE_2\",$O255=5),'3 - SPECIE DA IMPIANTARE'!$O56,\"\")","v":""},null,"",{"$f":"IF(AND($B255=\"AZIONE_2\",$R255=6),'3 - SPECIE DA IMPIANTARE'!$O56,\"\")","v":""}]
[3,"","",{"$f":"IF(AND($B256=\"AZIONE_2\",C256=1),'3 - SPECIE DA IMPIANTARE'!$O57,\"\")","v":""},null,"",{"$f":"IF(AND($B256=\"AZIONE_2\",F256=2),'3 - SPECIE DA IMPIANTARE'!$O57,\"\")","v":""},null,"",{"$f":"IF(AND($B256=\"AZIONE_2\",$I256=3),'3 - SPECIE DA IMPIANTARE'!$O57,\"\")","v":""},null,"",{"$f":"IF(AND($B256=\"AZIONE_2\",$L256=4),'3 - SPECIE DA IMPIANTARE'!$O57,\"\")","v":""},null,"",{"$f":"IF(AND($B256=\"AZIONE_2\",$O256=5),'3 - SPECIE DA IMPIANTARE'!$O57,\"\")","v":""},null,"",{"$f":"IF(AND($B256=\"AZIONE_2\",$R256=6),'3 - SPECIE DA IMPIANTARE'!$O57,\"\")","v":""}]
[3,"","",{"$f":"IF(AND($B257=\"AZIONE_2\",C257=1),'3 - SPECIE DA IMPIANTARE'!$O58,\"\")","v":""},null,"",{"$f":"IF(AND($B257=\"AZIONE_2\",F257=2),'3 - SPECIE DA IMPIANTARE'!$O58,\"\")","v":""},null,"",{"$f":"IF(AND($B257=\"AZIONE_2\",$I257=3),'3 - SPECIE DA IMPIANTARE'!$O58,\"\")","v":""},null,"",{"$f":"IF(AND($B257=\"AZIONE_2\",$L257=4),'3 - SPECIE DA IMPIANTARE'!$O58,\"\")","v":""},null,"",{"$f":"IF(AND($B257=\"AZIONE_2\",$O257=5),'3 - SPECIE DA IMPIANTARE'!$O58,\"\")","v":""},null,"",{"$f":"IF(AND($B257=\"AZIONE_2\",$R257=6),'3 - SPECIE DA IMPIANTARE'!$O58,\"\")","v":""}]
[3,"","",{"$f":"IF(AND($B258=\"AZIONE_2\",C258=1),'3 - SPECIE DA IMPIANTARE'!$O59,\"\")","v":""},null,"",{"$f":"IF(AND($B258=\"AZIONE_2\",F258=2),'3 - SPECIE DA IMPIANTARE'!$O59,\"\")","v":""},null,"",{"$f":"IF(AND($B258=\"AZIONE_2\",$I258=3),'3 - SPECIE DA IMPIANTARE'!$O59,\"\")","v":""},null,"",{"$f":"IF(AND($B258=\"AZIONE_2\",$L258=4),'3 - SPECIE DA IMPIANTARE'!$O59,\"\")","v":""},null,"",{"$f":"IF(AND($B258=\"AZIONE_2\",$O258=5),'3 - SPECIE DA IMPIANTARE'!$O59,\"\")","v":""},null,"",{"$f":"IF(AND($B258=\"AZIONE_2\",$R258=6),'3 - SPECIE DA IMPIANTARE'!$O59,\"\")","v":""}]
[3,"","",{"$f":"IF(AND($B259=\"AZIONE_2\",C259=1),'3 - SPECIE DA IMPIANTARE'!$O60,\"\")","v":""},null,"",{"$f":"IF(AND($B259=\"AZIONE_2\",F259=2),'3 - SPECIE DA IMPIANTARE'!$O60,\"\")","v":""},null,"",{"$f":"IF(AND($B259=\"AZIONE_2\",$I259=3),'3 - SPECIE DA IMPIANTARE'!$O60,\"\")","v":""},null,"",{"$f":"IF(AND($B259=\"AZIONE_2\",$L259=4),'3 - SPECIE DA IMPIANTARE'!$O60,\"\")","v":""},null,"",{"$f":"IF(AND($B259=\"AZIONE_2\",$O259=5),'3 - SPECIE DA IMPIANTARE'!$O60,\"\")","v":""},null,"",{"$f":"IF(AND($B259=\"AZIONE_2\",$R259=6),'3 - SPECIE DA IMPIANTARE'!$O60,\"\")","v":""}]
[3,"","",{"$f":"IF(AND($B260=\"AZIONE_2\",C260=1),'3 - SPECIE DA IMPIANTARE'!$O61,\"\")","v":""},null,"",{"$f":"IF(AND($B260=\"AZIONE_2\",F260=2),'3 - SPECIE DA IMPIANTARE'!$O61,\"\")","v":""},null,"",{"$f":"IF(AND($B260=\"AZIONE_2\",$I260=3),'3 - SPECIE DA IMPIANTARE'!$O61,\"\")","v":""},null,"",{"$f":"IF(AND($B260=\"AZIONE_2\",$L260=4),'3 - SPECIE DA IMPIANTARE'!$O61,\"\")","v":""},null,"",{"$f":"IF(AND($B260=\"AZIONE_2\",$O260=5),'3 - SPECIE DA IMPIANTARE'!$O61,\"\")","v":""},null,"",{"$f":"IF(AND($B260=\"AZIONE_2\",$R260=6),'3 - SPECIE DA IMPIANTARE'!$O61,\"\")","v":""}]
[3,"","",{"$f":"IF(AND($B261=\"AZIONE_2\",C261=1),'3 - SPECIE DA IMPIANTARE'!$O62,\"\")","v":""},null,"",{"$f":"IF(AND($B261=\"AZIONE_2\",F261=2),'3 - SPECIE DA IMPIANTARE'!$O62,\"\")","v":""},null,"",{"$f":"IF(AND($B261=\"AZIONE_2\",$I261=3),'3 - SPECIE DA IMPIANTARE'!$O62,\"\")","v":""},null,"",{"$f":"IF(AND($B261=\"AZIONE_2\",$L261=4),'3 - SPECIE DA IMPIANTARE'!$O62,\"\")","v":""},null,"",{"$f":"IF(AND($B261=\"AZIONE_2\",$O261=5),'3 - SPECIE DA IMPIANTARE'!$O62,\"\")","v":""},null,"",{"$f":"IF(AND($B261=\"AZIONE_2\",$R261=6),'3 - SPECIE DA IMPIANTARE'!$O62,\"\")","v":""}]
[3,"","",{"$f":"IF(AND($B262=\"AZIONE_2\",C262=1),'3 - SPECIE DA IMPIANTARE'!$O63,\"\")","v":""},null,"",{"$f":"IF(AND($B262=\"AZIONE_2\",F262=2),'3 - SPECIE DA IMPIANTARE'!$O63,\"\")","v":""},null,"",{"$f":"IF(AND($B262=\"AZIONE_2\",$I262=3),'3 - SPECIE DA IMPIANTARE'!$O63,\"\")","v":""},null,"",{"$f":"IF(AND($B262=\"AZIONE_2\",$L262=4),'3 - SPECIE DA IMPIANTARE'!$O63,\"\")","v":""},null,"",{"$f":"IF(AND($B262=\"AZIONE_2\",$O262=5),'3 - SPECIE DA IMPIANTARE'!$O63,\"\")","v":""},null,"",{"$f":"IF(AND($B262=\"AZIONE_2\",$R262=6),'3 - SPECIE DA IMPIANTARE'!$O63,\"\")","v":""}]
[3,{"$f":"B163","v":""},"",{"$f":"IF(AND($B263=\"AZIONE_2\",C263=1),'3 - SPECIE DA IMPIANTARE'!$O64,\"\")","v":""},null,"",{"$f":"IF(AND($B263=\"AZIONE_2\",F263=2),'3 - SPECIE DA IMPIANTARE'!$O64,\"\")","v":""},null,"",{"$f":"IF(AND($B263=\"AZIONE_2\",$I263=3),'3 - SPECIE DA IMPIANTARE'!$O64,\"\")","v":""},null,"",{"$f":"IF(AND($B263=\"AZIONE_2\",$L263=4),'3 - SPECIE DA IMPIANTARE'!$O64,\"\")","v":""},null,"",{"$f":"IF(AND($B263=\"AZIONE_2\",$O263=5),'3 - SPECIE DA IMPIANTARE'!$O64,\"\")","v":""},null,"",{"$f":"IF(AND($B263=\"AZIONE_2\",$R263=6),'3 - SPECIE DA IMPIANTARE'!$O64,\"\")","v":""}]
[3,"","",{"$f":"IF(AND($B264=\"AZIONE_2\",C264=1),'3 - SPECIE DA IMPIANTARE'!$O65,\"\")","v":""},null,"",{"$f":"IF(AND($B264=\"AZIONE_2\",F264=2),'3 - SPECIE DA IMPIANTARE'!$O65,\"\")","v":""},null,"",{"$f":"IF(AND($B264=\"AZIONE_2\",$I264=3),'3 - SPECIE DA IMPIANTARE'!$O65,\"\")","v":""},null,"",{"$f":"IF(AND($B264=\"AZIONE_2\",$L264=4),'3 - SPECIE DA IMPIANTARE'!$O65,\"\")","v":""},null,"",{"$f":"IF(AND($B264=\"AZIONE_2\",$O264=5),'3 - SPECIE DA IMPIANTARE'!$O65,\"\")","v":""},null,"",{"$f":"IF(AND($B264=\"AZIONE_2\",$R264=6),'3 - SPECIE DA IMPIANTARE'!$O65,\"\")","v":""}]
[3,"","",{"$f":"IF(AND($B265=\"AZIONE_2\",C265=1),'3 - SPECIE DA IMPIANTARE'!$O66,\"\")","v":""},null,"",{"$f":"IF(AND($B265=\"AZIONE_2\",F265=2),'3 - SPECIE DA IMPIANTARE'!$O66,\"\")","v":""},null,"",{"$f":"IF(AND($B265=\"AZIONE_2\",$I265=3),'3 - SPECIE DA IMPIANTARE'!$O66,\"\")","v":""},null,"",{"$f":"IF(AND($B265=\"AZIONE_2\",$L265=4),'3 - SPECIE DA IMPIANTARE'!$O66,\"\")","v":""},null,"",{"$f":"IF(AND($B265=\"AZIONE_2\",$O265=5),'3 - SPECIE DA IMPIANTARE'!$O66,\"\")","v":""},null,"",{"$f":"IF(AND($B265=\"AZIONE_2\",$R265=6),'3 - SPECIE DA IMPIANTARE'!$O66,\"\")","v":""}]
[3,"","",{"$f":"IF(AND($B266=\"AZIONE_2\",C266=1),'3 - SPECIE DA IMPIANTARE'!$O67,\"\")","v":""},null,"",{"$f":"IF(AND($B266=\"AZIONE_2\",F266=2),'3 - SPECIE DA IMPIANTARE'!$O67,\"\")","v":""},null,"",{"$f":"IF(AND($B266=\"AZIONE_2\",$I266=3),'3 - SPECIE DA IMPIANTARE'!$O67,\"\")","v":""},null,"",{"$f":"IF(AND($B266=\"AZIONE_2\",$L266=4),'3 - SPECIE DA IMPIANTARE'!$O67,\"\")","v":""},null,"",{"$f":"IF(AND($B266=\"AZIONE_2\",$O266=5),'3 - SPECIE DA IMPIANTARE'!$O67,\"\")","v":""},null,"",{"$f":"IF(AND($B266=\"AZIONE_2\",$R266=6),'3 - SPECIE DA IMPIANTARE'!$O67,\"\")","v":""}]
[3,"","",{"$f":"IF(AND($B267=\"AZIONE_2\",C267=1),'3 - SPECIE DA IMPIANTARE'!$O68,\"\")","v":""},null,"",{"$f":"IF(AND($B267=\"AZIONE_2\",F267=2),'3 - SPECIE DA IMPIANTARE'!$O68,\"\")","v":""},null,"",{"$f":"IF(AND($B267=\"AZIONE_2\",$I267=3),'3 - SPECIE DA IMPIANTARE'!$O68,\"\")","v":""},null,"",{"$f":"IF(AND($B267=\"AZIONE_2\",$L267=4),'3 - SPECIE DA IMPIANTARE'!$O68,\"\")","v":""},null,"",{"$f":"IF(AND($B267=\"AZIONE_2\",$O267=5),'3 - SPECIE DA IMPIANTARE'!$O68,\"\")","v":""},null,"",{"$f":"IF(AND($B267=\"AZIONE_2\",$R267=6),'3 - SPECIE DA IMPIANTARE'!$O68,\"\")","v":""}]
[3,"","",{"$f":"IF(AND($B268=\"AZIONE_2\",C268=1),'3 - SPECIE DA IMPIANTARE'!$O69,\"\")","v":""},null,"",{"$f":"IF(AND($B268=\"AZIONE_2\",F268=2),'3 - SPECIE DA IMPIANTARE'!$O69,\"\")","v":""},null,"",{"$f":"IF(AND($B268=\"AZIONE_2\",$I268=3),'3 - SPECIE DA IMPIANTARE'!$O69,\"\")","v":""},null,"",{"$f":"IF(AND($B268=\"AZIONE_2\",$L268=4),'3 - SPECIE DA IMPIANTARE'!$O69,\"\")","v":""},null,"",{"$f":"IF(AND($B268=\"AZIONE_2\",$O268=5),'3 - SPECIE DA IMPIANTARE'!$O69,\"\")","v":""},null,"",{"$f":"IF(AND($B268=\"AZIONE_2\",$R268=6),'3 - SPECIE DA IMPIANTARE'!$O69,\"\")","v":""}]
[3,"","",{"$f":"IF(AND($B269=\"AZIONE_2\",C269=1),'3 - SPECIE DA IMPIANTARE'!$O70,\"\")","v":""},null,"",{"$f":"IF(AND($B269=\"AZIONE_2\",F269=2),'3 - SPECIE DA IMPIANTARE'!$O70,\"\")","v":""},null,"",{"$f":"IF(AND($B269=\"AZIONE_2\",$I269=3),'3 - SPECIE DA IMPIANTARE'!$O70,\"\")","v":""},null,"",{"$f":"IF(AND($B269=\"AZIONE_2\",$L269=4),'3 - SPECIE DA IMPIANTARE'!$O70,\"\")","v":""},null,"",{"$f":"IF(AND($B269=\"AZIONE_2\",$O269=5),'3 - SPECIE DA IMPIANTARE'!$O70,\"\")","v":""},null,"",{"$f":"IF(AND($B269=\"AZIONE_2\",$R269=6),'3 - SPECIE DA IMPIANTARE'!$O70,\"\")","v":""}]
[3,"","",{"$f":"IF(AND($B270=\"AZIONE_2\",C270=1),'3 - SPECIE DA IMPIANTARE'!$O71,\"\")","v":""},null,"",{"$f":"IF(AND($B270=\"AZIONE_2\",F270=2),'3 - SPECIE DA IMPIANTARE'!$O71,\"\")","v":""},null,"",{"$f":"IF(AND($B270=\"AZIONE_2\",$I270=3),'3 - SPECIE DA IMPIANTARE'!$O71,\"\")","v":""},null,"",{"$f":"IF(AND($B270=\"AZIONE_2\",$L270=4),'3 - SPECIE DA IMPIANTARE'!$O71,\"\")","v":""},null,"",{"$f":"IF(AND($B270=\"AZIONE_2\",$O270=5),'3 - SPECIE DA IMPIANTARE'!$O71,\"\")","v":""},null,"",{"$f":"IF(AND($B270=\"AZIONE_2\",$R270=6),'3 - SPECIE DA IMPIANTARE'!$O71,\"\")","v":""}]
[3,"","",{"$f":"IF(AND($B271=\"AZIONE_2\",C271=1),'3 - SPECIE DA IMPIANTARE'!$O72,\"\")","v":""},null,"",{"$f":"IF(AND($B271=\"AZIONE_2\",F271=2),'3 - SPECIE DA IMPIANTARE'!$O72,\"\")","v":""},null,"",{"$f":"IF(AND($B271=\"AZIONE_2\",$I271=3),'3 - SPECIE DA IMPIANTARE'!$O72,\"\")","v":""},null,"",{"$f":"IF(AND($B271=\"AZIONE_2\",$L271=4),'3 - SPECIE DA IMPIANTARE'!$O72,\"\")","v":""},null,"",{"$f":"IF(AND($B271=\"AZIONE_2\",$O271=5),'3 - SPECIE DA IMPIANTARE'!$O72,\"\")","v":""},null,"",{"$f":"IF(AND($B271=\"AZIONE_2\",$R271=6),'3 - SPECIE DA IMPIANTARE'!$O72,\"\")","v":""}]
[3,"","",{"$f":"IF(AND($B272=\"AZIONE_2\",C272=1),'3 - SPECIE DA IMPIANTARE'!$O73,\"\")","v":""},null,"",{"$f":"IF(AND($B272=\"AZIONE_2\",F272=2),'3 - SPECIE DA IMPIANTARE'!$O73,\"\")","v":""},null,"",{"$f":"IF(AND($B272=\"AZIONE_2\",$I272=3),'3 - SPECIE DA IMPIANTARE'!$O73,\"\")","v":""},null,"",{"$f":"IF(AND($B272=\"AZIONE_2\",$L272=4),'3 - SPECIE DA IMPIANTARE'!$O73,\"\")","v":""},null,"",{"$f":"IF(AND($B272=\"AZIONE_2\",$O272=5),'3 - SPECIE DA IMPIANTARE'!$O73,\"\")","v":""},null,"",{"$f":"IF(AND($B272=\"AZIONE_2\",$R272=6),'3 - SPECIE DA IMPIANTARE'!$O73,\"\")","v":""}]
[3,"","",{"$f":"IF(AND($B273=\"AZIONE_2\",C273=1),'3 - SPECIE DA IMPIANTARE'!$O74,\"\")","v":""},null,"",{"$f":"IF(AND($B273=\"AZIONE_2\",F273=2),'3 - SPECIE DA IMPIANTARE'!$O74,\"\")","v":""},null,"",{"$f":"IF(AND($B273=\"AZIONE_2\",$I273=3),'3 - SPECIE DA IMPIANTARE'!$O74,\"\")","v":""},null,"",{"$f":"IF(AND($B273=\"AZIONE_2\",$L273=4),'3 - SPECIE DA IMPIANTARE'!$O74,\"\")","v":""},null,"",{"$f":"IF(AND($B273=\"AZIONE_2\",$O273=5),'3 - SPECIE DA IMPIANTARE'!$O74,\"\")","v":""},null,"",{"$f":"IF(AND($B273=\"AZIONE_2\",$R273=6),'3 - SPECIE DA IMPIANTARE'!$O74,\"\")","v":""}]
[3,"","",{"$f":"IF(AND($B274=\"AZIONE_2\",C274=1),'3 - SPECIE DA IMPIANTARE'!$O75,\"\")","v":""},null,"",{"$f":"IF(AND($B274=\"AZIONE_2\",F274=2),'3 - SPECIE DA IMPIANTARE'!$O75,\"\")","v":""},null,"",{"$f":"IF(AND($B274=\"AZIONE_2\",$I274=3),'3 - SPECIE DA IMPIANTARE'!$O75,\"\")","v":""},null,"",{"$f":"IF(AND($B274=\"AZIONE_2\",$L274=4),'3 - SPECIE DA IMPIANTARE'!$O75,\"\")","v":""},null,"",{"$f":"IF(AND($B274=\"AZIONE_2\",$O274=5),'3 - SPECIE DA IMPIANTARE'!$O75,\"\")","v":""},null,"",{"$f":"IF(AND($B274=\"AZIONE_2\",$R274=6),'3 - SPECIE DA IMPIANTARE'!$O75,\"\")","v":""}]
[3,"","",{"$f":"IF(AND($B275=\"AZIONE_2\",C275=1),'3 - SPECIE DA IMPIANTARE'!$O76,\"\")","v":""},null,"",{"$f":"IF(AND($B275=\"AZIONE_2\",F275=2),'3 - SPECIE DA IMPIANTARE'!$O76,\"\")","v":""},null,"",{"$f":"IF(AND($B275=\"AZIONE_2\",$I275=3),'3 - SPECIE DA IMPIANTARE'!$O76,\"\")","v":""},null,"",{"$f":"IF(AND($B275=\"AZIONE_2\",$L275=4),'3 - SPECIE DA IMPIANTARE'!$O76,\"\")","v":""},null,"",{"$f":"IF(AND($B275=\"AZIONE_2\",$O275=5),'3 - SPECIE DA IMPIANTARE'!$O76,\"\")","v":""},null,"",{"$f":"IF(AND($B275=\"AZIONE_2\",$R275=6),'3 - SPECIE DA IMPIANTARE'!$O76,\"\")","v":""}]
[3,"","",{"$f":"IF(AND($B276=\"AZIONE_2\",C276=1),'3 - SPECIE DA IMPIANTARE'!$O77,\"\")","v":""},null,"",{"$f":"IF(AND($B276=\"AZIONE_2\",F276=2),'3 - SPECIE DA IMPIANTARE'!$O77,\"\")","v":""},null,"",{"$f":"IF(AND($B276=\"AZIONE_2\",$I276=3),'3 - SPECIE DA IMPIANTARE'!$O77,\"\")","v":""},null,"",{"$f":"IF(AND($B276=\"AZIONE_2\",$L276=4),'3 - SPECIE DA IMPIANTARE'!$O77,\"\")","v":""},null,"",{"$f":"IF(AND($B276=\"AZIONE_2\",$O276=5),'3 - SPECIE DA IMPIANTARE'!$O77,\"\")","v":""},null,"",{"$f":"IF(AND($B276=\"AZIONE_2\",$R276=6),'3 - SPECIE DA IMPIANTARE'!$O77,\"\")","v":""}]
[3,"","",{"$f":"IF(AND($B277=\"AZIONE_2\",C277=1),'3 - SPECIE DA IMPIANTARE'!$O78,\"\")","v":""},null,"",{"$f":"IF(AND($B277=\"AZIONE_2\",F277=2),'3 - SPECIE DA IMPIANTARE'!$O78,\"\")","v":""},null,"",{"$f":"IF(AND($B277=\"AZIONE_2\",$I277=3),'3 - SPECIE DA IMPIANTARE'!$O78,\"\")","v":""},null,"",{"$f":"IF(AND($B277=\"AZIONE_2\",$L277=4),'3 - SPECIE DA IMPIANTARE'!$O78,\"\")","v":""},null,"",{"$f":"IF(AND($B277=\"AZIONE_2\",$O277=5),'3 - SPECIE DA IMPIANTARE'!$O78,\"\")","v":""},null,"",{"$f":"IF(AND($B277=\"AZIONE_2\",$R277=6),'3 - SPECIE DA IMPIANTARE'!$O78,\"\")","v":""}]
[3,"","",{"$f":"IF(AND($B278=\"AZIONE_2\",C278=1),'3 - SPECIE DA IMPIANTARE'!$O79,\"\")","v":""},null,"",{"$f":"IF(AND($B278=\"AZIONE_2\",F278=2),'3 - SPECIE DA IMPIANTARE'!$O79,\"\")","v":""},null,"",{"$f":"IF(AND($B278=\"AZIONE_2\",$I278=3),'3 - SPECIE DA IMPIANTARE'!$O79,\"\")","v":""},null,"",{"$f":"IF(AND($B278=\"AZIONE_2\",$L278=4),'3 - SPECIE DA IMPIANTARE'!$O79,\"\")","v":""},null,"",{"$f":"IF(AND($B278=\"AZIONE_2\",$O278=5),'3 - SPECIE DA IMPIANTARE'!$O79,\"\")","v":""},null,"",{"$f":"IF(AND($B278=\"AZIONE_2\",$R278=6),'3 - SPECIE DA IMPIANTARE'!$O79,\"\")","v":""}]
[3,{"$f":"B179","v":""},"",{"$f":"IF(AND($B279=\"AZIONE_2\",C279=1),'3 - SPECIE DA IMPIANTARE'!$O80,\"\")","v":""},null,"",{"$f":"IF(AND($B279=\"AZIONE_2\",F279=2),'3 - SPECIE DA IMPIANTARE'!$O80,\"\")","v":""},null,"",{"$f":"IF(AND($B279=\"AZIONE_2\",$I279=3),'3 - SPECIE DA IMPIANTARE'!$O80,\"\")","v":""},null,"",{"$f":"IF(AND($B279=\"AZIONE_2\",$L279=4),'3 - SPECIE DA IMPIANTARE'!$O80,\"\")","v":""},null,"",{"$f":"IF(AND($B279=\"AZIONE_2\",$O279=5),'3 - SPECIE DA IMPIANTARE'!$O80,\"\")","v":""},null,"",{"$f":"IF(AND($B279=\"AZIONE_2\",$R279=6),'3 - SPECIE DA IMPIANTARE'!$O80,\"\")","v":""}]
[3,"","",{"$f":"IF(AND($B280=\"AZIONE_2\",C280=1),'3 - SPECIE DA IMPIANTARE'!$O81,\"\")","v":""},null,"",{"$f":"IF(AND($B280=\"AZIONE_2\",F280=2),'3 - SPECIE DA IMPIANTARE'!$O81,\"\")","v":""},null,"",{"$f":"IF(AND($B280=\"AZIONE_2\",$I280=3),'3 - SPECIE DA IMPIANTARE'!$O81,\"\")","v":""},null,"",{"$f":"IF(AND($B280=\"AZIONE_2\",$L280=4),'3 - SPECIE DA IMPIANTARE'!$O81,\"\")","v":""},null,"",{"$f":"IF(AND($B280=\"AZIONE_2\",$O280=5),'3 - SPECIE DA IMPIANTARE'!$O81,\"\")","v":""},null,"",{"$f":"IF(AND($B280=\"AZIONE_2\",$R280=6),'3 - SPECIE DA IMPIANTARE'!$O81,\"\")","v":""}]
[3,"","",{"$f":"IF(AND($B281=\"AZIONE_2\",C281=1),'3 - SPECIE DA IMPIANTARE'!$O82,\"\")","v":""},null,"",{"$f":"IF(AND($B281=\"AZIONE_2\",F281=2),'3 - SPECIE DA IMPIANTARE'!$O82,\"\")","v":""},null,"",{"$f":"IF(AND($B281=\"AZIONE_2\",$I281=3),'3 - SPECIE DA IMPIANTARE'!$O82,\"\")","v":""},null,"",{"$f":"IF(AND($B281=\"AZIONE_2\",$L281=4),'3 - SPECIE DA IMPIANTARE'!$O82,\"\")","v":""},null,"",{"$f":"IF(AND($B281=\"AZIONE_2\",$O281=5),'3 - SPECIE DA IMPIANTARE'!$O82,\"\")","v":""},null,"",{"$f":"IF(AND($B281=\"AZIONE_2\",$R281=6),'3 - SPECIE DA IMPIANTARE'!$O82,\"\")","v":""}]
[3,"","",{"$f":"IF(AND($B282=\"AZIONE_2\",C282=1),'3 - SPECIE DA IMPIANTARE'!$O83,\"\")","v":""},null,"",{"$f":"IF(AND($B282=\"AZIONE_2\",F282=2),'3 - SPECIE DA IMPIANTARE'!$O83,\"\")","v":""},null,"",{"$f":"IF(AND($B282=\"AZIONE_2\",$I282=3),'3 - SPECIE DA IMPIANTARE'!$O83,\"\")","v":""},null,"",{"$f":"IF(AND($B282=\"AZIONE_2\",$L282=4),'3 - SPECIE DA IMPIANTARE'!$O83,\"\")","v":""},null,"",{"$f":"IF(AND($B282=\"AZIONE_2\",$O282=5),'3 - SPECIE DA IMPIANTARE'!$O83,\"\")","v":""},null,"",{"$f":"IF(AND($B282=\"AZIONE_2\",$R282=6),'3 - SPECIE DA IMPIANTARE'!$O83,\"\")","v":""}]
[3,"","",{"$f":"IF(AND($B283=\"AZIONE_2\",C283=1),'3 - SPECIE DA IMPIANTARE'!$O84,\"\")","v":""},null,"",{"$f":"IF(AND($B283=\"AZIONE_2\",F283=2),'3 - SPECIE DA IMPIANTARE'!$O84,\"\")","v":""},null,"",{"$f":"IF(AND($B283=\"AZIONE_2\",$I283=3),'3 - SPECIE DA IMPIANTARE'!$O84,\"\")","v":""},null,"",{"$f":"IF(AND($B283=\"AZIONE_2\",$L283=4),'3 - SPECIE DA IMPIANTARE'!$O84,\"\")","v":""},null,"",{"$f":"IF(AND($B283=\"AZIONE_2\",$O283=5),'3 - SPECIE DA IMPIANTARE'!$O84,\"\")","v":""},null,"",{"$f":"IF(AND($B283=\"AZIONE_2\",$R283=6),'3 - SPECIE DA IMPIANTARE'!$O84,\"\")","v":""}]
[3,"","",{"$f":"IF(AND($B284=\"AZIONE_2\",C284=1),'3 - SPECIE DA IMPIANTARE'!$O85,\"\")","v":""},null,"",{"$f":"IF(AND($B284=\"AZIONE_2\",F284=2),'3 - SPECIE DA IMPIANTARE'!$O85,\"\")","v":""},null,"",{"$f":"IF(AND($B284=\"AZIONE_2\",$I284=3),'3 - SPECIE DA IMPIANTARE'!$O85,\"\")","v":""},null,"",{"$f":"IF(AND($B284=\"AZIONE_2\",$L284=4),'3 - SPECIE DA IMPIANTARE'!$O85,\"\")","v":""},null,"",{"$f":"IF(AND($B284=\"AZIONE_2\",$O284=5),'3 - SPECIE DA IMPIANTARE'!$O85,\"\")","v":""},null,"",{"$f":"IF(AND($B284=\"AZIONE_2\",$R284=6),'3 - SPECIE DA IMPIANTARE'!$O85,\"\")","v":""}]
[3,"","",{"$f":"IF(AND($B285=\"AZIONE_2\",C285=1),'3 - SPECIE DA IMPIANTARE'!$O86,\"\")","v":""},null,"",{"$f":"IF(AND($B285=\"AZIONE_2\",F285=2),'3 - SPECIE DA IMPIANTARE'!$O86,\"\")","v":""},null,"",{"$f":"IF(AND($B285=\"AZIONE_2\",$I285=3),'3 - SPECIE DA IMPIANTARE'!$O86,\"\")","v":""},null,"",{"$f":"IF(AND($B285=\"AZIONE_2\",$L285=4),'3 - SPECIE DA IMPIANTARE'!$O86,\"\")","v":""},null,"",{"$f":"IF(AND($B285=\"AZIONE_2\",$O285=5),'3 - SPECIE DA IMPIANTARE'!$O86,\"\")","v":""},null,"",{"$f":"IF(AND($B285=\"AZIONE_2\",$R285=6),'3 - SPECIE DA IMPIANTARE'!$O86,\"\")","v":""}]
[3,"","",{"$f":"IF(AND($B286=\"AZIONE_2\",C286=1),'3 - SPECIE DA IMPIANTARE'!$O87,\"\")","v":""},null,"",{"$f":"IF(AND($B286=\"AZIONE_2\",F286=2),'3 - SPECIE DA IMPIANTARE'!$O87,\"\")","v":""},null,"",{"$f":"IF(AND($B286=\"AZIONE_2\",$I286=3),'3 - SPECIE DA IMPIANTARE'!$O87,\"\")","v":""},null,"",{"$f":"IF(AND($B286=\"AZIONE_2\",$L286=4),'3 - SPECIE DA IMPIANTARE'!$O87,\"\")","v":""},null,"",{"$f":"IF(AND($B286=\"AZIONE_2\",$O286=5),'3 - SPECIE DA IMPIANTARE'!$O87,\"\")","v":""},null,"",{"$f":"IF(AND($B286=\"AZIONE_2\",$R286=6),'3 - SPECIE DA IMPIANTARE'!$O87,\"\")","v":""}]
[3,"","",{"$f":"IF(AND($B287=\"AZIONE_2\",C287=1),'3 - SPECIE DA IMPIANTARE'!$O88,\"\")","v":""},null,"",{"$f":"IF(AND($B287=\"AZIONE_2\",F287=2),'3 - SPECIE DA IMPIANTARE'!$O88,\"\")","v":""},null,"",{"$f":"IF(AND($B287=\"AZIONE_2\",$I287=3),'3 - SPECIE DA IMPIANTARE'!$O88,\"\")","v":""},null,"",{"$f":"IF(AND($B287=\"AZIONE_2\",$L287=4),'3 - SPECIE DA IMPIANTARE'!$O88,\"\")","v":""},null,"",{"$f":"IF(AND($B287=\"AZIONE_2\",$O287=5),'3 - SPECIE DA IMPIANTARE'!$O88,\"\")","v":""},null,"",{"$f":"IF(AND($B287=\"AZIONE_2\",$R287=6),'3 - SPECIE DA IMPIANTARE'!$O88,\"\")","v":""}]
[3,"","",{"$f":"IF(AND($B288=\"AZIONE_2\",C288=1),'3 - SPECIE DA IMPIANTARE'!$O89,\"\")","v":""},null,"",{"$f":"IF(AND($B288=\"AZIONE_2\",F288=2),'3 - SPECIE DA IMPIANTARE'!$O89,\"\")","v":""},null,"",{"$f":"IF(AND($B288=\"AZIONE_2\",$I288=3),'3 - SPECIE DA IMPIANTARE'!$O89,\"\")","v":""},null,"",{"$f":"IF(AND($B288=\"AZIONE_2\",$L288=4),'3 - SPECIE DA IMPIANTARE'!$O89,\"\")","v":""},null,"",{"$f":"IF(AND($B288=\"AZIONE_2\",$O288=5),'3 - SPECIE DA IMPIANTARE'!$O89,\"\")","v":""},null,"",{"$f":"IF(AND($B288=\"AZIONE_2\",$R288=6),'3 - SPECIE DA IMPIANTARE'!$O89,\"\")","v":""}]
[3,"","",{"$f":"IF(AND($B289=\"AZIONE_2\",C289=1),'3 - SPECIE DA IMPIANTARE'!$O90,\"\")","v":""},null,"",{"$f":"IF(AND($B289=\"AZIONE_2\",F289=2),'3 - SPECIE DA IMPIANTARE'!$O90,\"\")","v":""},null,"",{"$f":"IF(AND($B289=\"AZIONE_2\",$I289=3),'3 - SPECIE DA IMPIANTARE'!$O90,\"\")","v":""},null,"",{"$f":"IF(AND($B289=\"AZIONE_2\",$L289=4),'3 - SPECIE DA IMPIANTARE'!$O90,\"\")","v":""},null,"",{"$f":"IF(AND($B289=\"AZIONE_2\",$O289=5),'3 - SPECIE DA IMPIANTARE'!$O90,\"\")","v":""},null,"",{"$f":"IF(AND($B289=\"AZIONE_2\",$R289=6),'3 - SPECIE DA IMPIANTARE'!$O90,\"\")","v":""}]
[3,"","",{"$f":"IF(AND($B290=\"AZIONE_2\",C290=1),'3 - SPECIE DA IMPIANTARE'!$O91,\"\")","v":""},null,"",{"$f":"IF(AND($B290=\"AZIONE_2\",F290=2),'3 - SPECIE DA IMPIANTARE'!$O91,\"\")","v":""},null,"",{"$f":"IF(AND($B290=\"AZIONE_2\",$I290=3),'3 - SPECIE DA IMPIANTARE'!$O91,\"\")","v":""},null,"",{"$f":"IF(AND($B290=\"AZIONE_2\",$L290=4),'3 - SPECIE DA IMPIANTARE'!$O91,\"\")","v":""},null,"",{"$f":"IF(AND($B290=\"AZIONE_2\",$O290=5),'3 - SPECIE DA IMPIANTARE'!$O91,\"\")","v":""},null,"",{"$f":"IF(AND($B290=\"AZIONE_2\",$R290=6),'3 - SPECIE DA IMPIANTARE'!$O91,\"\")","v":""}]
[3,"","",{"$f":"IF(AND($B291=\"AZIONE_2\",C291=1),'3 - SPECIE DA IMPIANTARE'!$O92,\"\")","v":""},null,"",{"$f":"IF(AND($B291=\"AZIONE_2\",F291=2),'3 - SPECIE DA IMPIANTARE'!$O92,\"\")","v":""},null,"",{"$f":"IF(AND($B291=\"AZIONE_2\",$I291=3),'3 - SPECIE DA IMPIANTARE'!$O92,\"\")","v":""},null,"",{"$f":"IF(AND($B291=\"AZIONE_2\",$L291=4),'3 - SPECIE DA IMPIANTARE'!$O92,\"\")","v":""},null,"",{"$f":"IF(AND($B291=\"AZIONE_2\",$O291=5),'3 - SPECIE DA IMPIANTARE'!$O92,\"\")","v":""},null,"",{"$f":"IF(AND($B291=\"AZIONE_2\",$R291=6),'3 - SPECIE DA IMPIANTARE'!$O92,\"\")","v":""}]
[3,"","",{"$f":"IF(AND($B292=\"AZIONE_2\",C292=1),'3 - SPECIE DA IMPIANTARE'!$O93,\"\")","v":""},null,"",{"$f":"IF(AND($B292=\"AZIONE_2\",F292=2),'3 - SPECIE DA IMPIANTARE'!$O93,\"\")","v":""},null,"",{"$f":"IF(AND($B292=\"AZIONE_2\",$I292=3),'3 - SPECIE DA IMPIANTARE'!$O93,\"\")","v":""},null,"",{"$f":"IF(AND($B292=\"AZIONE_2\",$L292=4),'3 - SPECIE DA IMPIANTARE'!$O93,\"\")","v":""},null,"",{"$f":"IF(AND($B292=\"AZIONE_2\",$O292=5),'3 - SPECIE DA IMPIANTARE'!$O93,\"\")","v":""},null,"",{"$f":"IF(AND($B292=\"AZIONE_2\",$R292=6),'3 - SPECIE DA IMPIANTARE'!$O93,\"\")","v":""}]
[3,"","",{"$f":"IF(AND($B293=\"AZIONE_2\",C293=1),'3 - SPECIE DA IMPIANTARE'!$O94,\"\")","v":""},null,"",{"$f":"IF(AND($B293=\"AZIONE_2\",F293=2),'3 - SPECIE DA IMPIANTARE'!$O94,\"\")","v":""},null,"",{"$f":"IF(AND($B293=\"AZIONE_2\",$I293=3),'3 - SPECIE DA IMPIANTARE'!$O94,\"\")","v":""},null,"",{"$f":"IF(AND($B293=\"AZIONE_2\",$L293=4),'3 - SPECIE DA IMPIANTARE'!$O94,\"\")","v":""},null,"",{"$f":"IF(AND($B293=\"AZIONE_2\",$O293=5),'3 - SPECIE DA IMPIANTARE'!$O94,\"\")","v":""},null,"",{"$f":"IF(AND($B293=\"AZIONE_2\",$R293=6),'3 - SPECIE DA IMPIANTARE'!$O94,\"\")","v":""}]
[3,"","",{"$f":"IF(AND($B294=\"AZIONE_2\",C294=1),'3 - SPECIE DA IMPIANTARE'!$O95,\"\")","v":""},null,"",{"$f":"IF(AND($B294=\"AZIONE_2\",F294=2),'3 - SPECIE DA IMPIANTARE'!$O95,\"\")","v":""},null,"",{"$f":"IF(AND($B294=\"AZIONE_2\",$I294=3),'3 - SPECIE DA IMPIANTARE'!$O95,\"\")","v":""},null,"",{"$f":"IF(AND($B294=\"AZIONE_2\",$L294=4),'3 - SPECIE DA IMPIANTARE'!$O95,\"\")","v":""},null,"",{"$f":"IF(AND($B294=\"AZIONE_2\",$O294=5),'3 - SPECIE DA IMPIANTARE'!$O95,\"\")","v":""},null,"",{"$f":"IF(AND($B294=\"AZIONE_2\",$R294=6),'3 - SPECIE DA IMPIANTARE'!$O95,\"\")","v":""}]
[3,{"$f":"B195","v":""},"",{"$f":"IF(AND($B295=\"AZIONE_2\",C295=1),'3 - SPECIE DA IMPIANTARE'!$O96,\"\")","v":""},null,{"$f":"F195","v":""},{"$f":"IF(AND($B295=\"AZIONE_2\",F295=2),'3 - SPECIE DA IMPIANTARE'!$O96,\"\")","v":""},null,{"$f":"I195","v":""},{"$f":"IF(AND($B295=\"AZIONE_2\",$I295=3),'3 - SPECIE DA IMPIANTARE'!$O96,\"\")","v":""},null,{"$f":"L195","v":""},{"$f":"IF(AND($B295=\"AZIONE_2\",$L295=4),'3 - SPECIE DA IMPIANTARE'!$O96,\"\")","v":""},null,{"$f":"O195","v":""},{"$f":"IF(AND($B295=\"AZIONE_2\",$O295=5),'3 - SPECIE DA IMPIANTARE'!$O96,\"\")","v":""},null,{"$f":"R195","v":""},{"$f":"IF(AND($B295=\"AZIONE_2\",$R295=6),'3 - SPECIE DA IMPIANTARE'!$O96,\"\")","v":""}]
[3,"","",{"$f":"IF(AND($B296=\"AZIONE_2\",C296=1),'3 - SPECIE DA IMPIANTARE'!$O97,\"\")","v":""},null,"",{"$f":"IF(AND($B296=\"AZIONE_2\",F296=2),'3 - SPECIE DA IMPIANTARE'!$O97,\"\")","v":""},null,"",{"$f":"IF(AND($B296=\"AZIONE_2\",$I296=3),'3 - SPECIE DA IMPIANTARE'!$O97,\"\")","v":""},null,"",{"$f":"IF(AND($B296=\"AZIONE_2\",$L296=4),'3 - SPECIE DA IMPIANTARE'!$O97,\"\")","v":""},null,"",{"$f":"IF(AND($B296=\"AZIONE_2\",$O296=5),'3 - SPECIE DA IMPIANTARE'!$O97,\"\")","v":""},null,"",{"$f":"IF(AND($B296=\"AZIONE_2\",$R296=6),'3 - SPECIE DA IMPIANTARE'!$O97,\"\")","v":""}]
[3,"","",{"$f":"IF(AND($B297=\"AZIONE_2\",C297=1),'3 - SPECIE DA IMPIANTARE'!$O98,\"\")","v":""},null,"",{"$f":"IF(AND($B297=\"AZIONE_2\",F297=2),'3 - SPECIE DA IMPIANTARE'!$O98,\"\")","v":""},null,"",{"$f":"IF(AND($B297=\"AZIONE_2\",$I297=3),'3 - SPECIE DA IMPIANTARE'!$O98,\"\")","v":""},null,"",{"$f":"IF(AND($B297=\"AZIONE_2\",$L297=4),'3 - SPECIE DA IMPIANTARE'!$O98,\"\")","v":""},null,"",{"$f":"IF(AND($B297=\"AZIONE_2\",$O297=5),'3 - SPECIE DA IMPIANTARE'!$O98,\"\")","v":""},null,"",{"$f":"IF(AND($B297=\"AZIONE_2\",$R297=6),'3 - SPECIE DA IMPIANTARE'!$O98,\"\")","v":""}]
[3,"","",{"$f":"IF(AND($B298=\"AZIONE_2\",C298=1),'3 - SPECIE DA IMPIANTARE'!$O99,\"\")","v":""},null,"",{"$f":"IF(AND($B298=\"AZIONE_2\",F298=2),'3 - SPECIE DA IMPIANTARE'!$O99,\"\")","v":""},null,"",{"$f":"IF(AND($B298=\"AZIONE_2\",$I298=3),'3 - SPECIE DA IMPIANTARE'!$O99,\"\")","v":""},null,"",{"$f":"IF(AND($B298=\"AZIONE_2\",$L298=4),'3 - SPECIE DA IMPIANTARE'!$O99,\"\")","v":""},null,"",{"$f":"IF(AND($B298=\"AZIONE_2\",$O298=5),'3 - SPECIE DA IMPIANTARE'!$O99,\"\")","v":""},null,"",{"$f":"IF(AND($B298=\"AZIONE_2\",$R298=6),'3 - SPECIE DA IMPIANTARE'!$O99,\"\")","v":""}]
[3,"","",{"$f":"IF(AND($B299=\"AZIONE_2\",C299=1),'3 - SPECIE DA IMPIANTARE'!$O100,\"\")","v":""},null,"",{"$f":"IF(AND($B299=\"AZIONE_2\",F299=2),'3 - SPECIE DA IMPIANTARE'!$O100,\"\")","v":""},null,"",{"$f":"IF(AND($B299=\"AZIONE_2\",$I299=3),'3 - SPECIE DA IMPIANTARE'!$O100,\"\")","v":""},null,"",{"$f":"IF(AND($B299=\"AZIONE_2\",$L299=4),'3 - SPECIE DA IMPIANTARE'!$O100,\"\")","v":""},null,"",{"$f":"IF(AND($B299=\"AZIONE_2\",$O299=5),'3 - SPECIE DA IMPIANTARE'!$O100,\"\")","v":""},null,"",{"$f":"IF(AND($B299=\"AZIONE_2\",$R299=6),'3 - SPECIE DA IMPIANTARE'!$O100,\"\")","v":""}]
[3,"","",{"$f":"IF(AND($B300=\"AZIONE_2\",C300=1),'3 - SPECIE DA IMPIANTARE'!$O101,\"\")","v":""},null,"",{"$f":"IF(AND($B300=\"AZIONE_2\",F300=2),'3 - SPECIE DA IMPIANTARE'!$O101,\"\")","v":""},null,"",{"$f":"IF(AND($B300=\"AZIONE_2\",$I300=3),'3 - SPECIE DA IMPIANTARE'!$O101,\"\")","v":""},null,"",{"$f":"IF(AND($B300=\"AZIONE_2\",$L300=4),'3 - SPECIE DA IMPIANTARE'!$O101,\"\")","v":""},null,"",{"$f":"IF(AND($B300=\"AZIONE_2\",$O300=5),'3 - SPECIE DA IMPIANTARE'!$O101,\"\")","v":""},null,"",{"$f":"IF(AND($B300=\"AZIONE_2\",$R300=6),'3 - SPECIE DA IMPIANTARE'!$O101,\"\")","v":""}]
[3,"","",{"$f":"IF(AND($B301=\"AZIONE_2\",C301=1),'3 - SPECIE DA IMPIANTARE'!$O102,\"\")","v":""},null,"",{"$f":"IF(AND($B301=\"AZIONE_2\",F301=2),'3 - SPECIE DA IMPIANTARE'!$O102,\"\")","v":""},null,"",{"$f":"IF(AND($B301=\"AZIONE_2\",$I301=3),'3 - SPECIE DA IMPIANTARE'!$O102,\"\")","v":""},null,"",{"$f":"IF(AND($B301=\"AZIONE_2\",$L301=4),'3 - SPECIE DA IMPIANTARE'!$O102,\"\")","v":""},null,"",{"$f":"IF(AND($B301=\"AZIONE_2\",$O301=5),'3 - SPECIE DA IMPIANTARE'!$O102,\"\")","v":""},null,"",{"$f":"IF(AND($B301=\"AZIONE_2\",$R301=6),'3 - SPECIE DA IMPIANTARE'!$O102,\"\")","v":""}]
[4,"","",{"$f":"IF(AND($B302=\"AZIONE_2\",C302=1),'3 - SPECIE DA IMPIANTARE'!$R3,\"\")","v":""},null,"",{"$f":"IF(AND($B302=\"AZIONE_2\",F302=2),'3 - SPECIE DA IMPIANTARE'!$R3,\"\")","v":""},null,"",{"$f":"IF(AND($B302=\"AZIONE_2\",$I302=3),'3 - SPECIE DA IMPIANTARE'!$R3,\"\")","v":""},null,"",{"$f":"IF(AND($B302=\"AZIONE_2\",$L302=4),'3 - SPECIE DA IMPIANTARE'!$R3,\"\")","v":""},null,"",{"$f":"IF(AND($B302=\"AZIONE_2\",$O302=5),'3 - SPECIE DA IMPIANTARE'!$R3,\"\")","v":""},null,"",{"$f":"IF(AND($B302=\"AZIONE_2\",$R302=6),'3 - SPECIE DA IMPIANTARE'!$R3,\"\")","v":""}]
[4,"","",{"$f":"IF(AND($B303=\"AZIONE_2\",C303=1),'3 - SPECIE DA IMPIANTARE'!$R4,\"\")","v":""},null,"",{"$f":"IF(AND($B303=\"AZIONE_2\",F303=2),'3 - SPECIE DA IMPIANTARE'!$R4,\"\")","v":""},null,"",{"$f":"IF(AND($B303=\"AZIONE_2\",$I303=3),'3 - SPECIE DA IMPIANTARE'!$R4,\"\")","v":""},null,"",{"$f":"IF(AND($B303=\"AZIONE_2\",$L303=4),'3 - SPECIE DA IMPIANTARE'!$R4,\"\")","v":""},null,"",{"$f":"IF(AND($B303=\"AZIONE_2\",$O303=5),'3 - SPECIE DA IMPIANTARE'!$R4,\"\")","v":""},null,"",{"$f":"IF(AND($B303=\"AZIONE_2\",$R303=6),'3 - SPECIE DA IMPIANTARE'!$R4,\"\")","v":""}]
[4,"","",{"$f":"IF(AND($B304=\"AZIONE_2\",C304=1),'3 - SPECIE DA IMPIANTARE'!$R5,\"\")","v":""},null,"",{"$f":"IF(AND($B304=\"AZIONE_2\",F304=2),'3 - SPECIE DA IMPIANTARE'!$R5,\"\")","v":""},null,"",{"$f":"IF(AND($B304=\"AZIONE_2\",$I304=3),'3 - SPECIE DA IMPIANTARE'!$R5,\"\")","v":""},null,"",{"$f":"IF(AND($B304=\"AZIONE_2\",$L304=4),'3 - SPECIE DA IMPIANTARE'!$R5,\"\")","v":""},null,"",{"$f":"IF(AND($B304=\"AZIONE_2\",$O304=5),'3 - SPECIE DA IMPIANTARE'!$R5,\"\")","v":""},null,"",{"$f":"IF(AND($B304=\"AZIONE_2\",$R304=6),'3 - SPECIE DA IMPIANTARE'!$R5,\"\")","v":""}]
[4,"","",{"$f":"IF(AND($B305=\"AZIONE_2\",C305=1),'3 - SPECIE DA IMPIANTARE'!$R6,\"\")","v":""},null,"",{"$f":"IF(AND($B305=\"AZIONE_2\",F305=2),'3 - SPECIE DA IMPIANTARE'!$R6,\"\")","v":""},null,"",{"$f":"IF(AND($B305=\"AZIONE_2\",$I305=3),'3 - SPECIE DA IMPIANTARE'!$R6,\"\")","v":""},null,"",{"$f":"IF(AND($B305=\"AZIONE_2\",$L305=4),'3 - SPECIE DA IMPIANTARE'!$R6,\"\")","v":""},null,"",{"$f":"IF(AND($B305=\"AZIONE_2\",$O305=5),'3 - SPECIE DA IMPIANTARE'!$R6,\"\")","v":""},null,"",{"$f":"IF(AND($B305=\"AZIONE_2\",$R305=6),'3 - SPECIE DA IMPIANTARE'!$R6,\"\")","v":""}]
[4,"","",{"$f":"IF(AND($B306=\"AZIONE_2\",C306=1),'3 - SPECIE DA IMPIANTARE'!$R7,\"\")","v":""},null,"",{"$f":"IF(AND($B306=\"AZIONE_2\",F306=2),'3 - SPECIE DA IMPIANTARE'!$R7,\"\")","v":""},null,"",{"$f":"IF(AND($B306=\"AZIONE_2\",$I306=3),'3 - SPECIE DA IMPIANTARE'!$R7,\"\")","v":""},null,"",{"$f":"IF(AND($B306=\"AZIONE_2\",$L306=4),'3 - SPECIE DA IMPIANTARE'!$R7,\"\")","v":""},null,"",{"$f":"IF(AND($B306=\"AZIONE_2\",$O306=5),'3 - SPECIE DA IMPIANTARE'!$R7,\"\")","v":""},null,"",{"$f":"IF(AND($B306=\"AZIONE_2\",$R306=6),'3 - SPECIE DA IMPIANTARE'!$R7,\"\")","v":""}]
[4,"","",{"$f":"IF(AND($B307=\"AZIONE_2\",C307=1),'3 - SPECIE DA IMPIANTARE'!$R8,\"\")","v":""},null,"",{"$f":"IF(AND($B307=\"AZIONE_2\",F307=2),'3 - SPECIE DA IMPIANTARE'!$R8,\"\")","v":""},null,"",{"$f":"IF(AND($B307=\"AZIONE_2\",$I307=3),'3 - SPECIE DA IMPIANTARE'!$R8,\"\")","v":""},null,"",{"$f":"IF(AND($B307=\"AZIONE_2\",$L307=4),'3 - SPECIE DA IMPIANTARE'!$R8,\"\")","v":""},null,"",{"$f":"IF(AND($B307=\"AZIONE_2\",$O307=5),'3 - SPECIE DA IMPIANTARE'!$R8,\"\")","v":""},null,"",{"$f":"IF(AND($B307=\"AZIONE_2\",$R307=6),'3 - SPECIE DA IMPIANTARE'!$R8,\"\")","v":""}]
[4,"","",{"$f":"IF(AND($B308=\"AZIONE_2\",C308=1),'3 - SPECIE DA IMPIANTARE'!$R9,\"\")","v":""},null,"",{"$f":"IF(AND($B308=\"AZIONE_2\",F308=2),'3 - SPECIE DA IMPIANTARE'!$R9,\"\")","v":""},null,"",{"$f":"IF(AND($B308=\"AZIONE_2\",$I308=3),'3 - SPECIE DA IMPIANTARE'!$R9,\"\")","v":""},null,"",{"$f":"IF(AND($B308=\"AZIONE_2\",$L308=4),'3 - SPECIE DA IMPIANTARE'!$R9,\"\")","v":""},null,"",{"$f":"IF(AND($B308=\"AZIONE_2\",$O308=5),'3 - SPECIE DA IMPIANTARE'!$R9,\"\")","v":""},null,"",{"$f":"IF(AND($B308=\"AZIONE_2\",$R308=6),'3 - SPECIE DA IMPIANTARE'!$R9,\"\")","v":""}]
[4,"","",{"$f":"IF(AND($B309=\"AZIONE_2\",C309=1),'3 - SPECIE DA IMPIANTARE'!$R10,\"\")","v":""},null,"",{"$f":"IF(AND($B309=\"AZIONE_2\",F309=2),'3 - SPECIE DA IMPIANTARE'!$R10,\"\")","v":""},null,"",{"$f":"IF(AND($B309=\"AZIONE_2\",$I309=3),'3 - SPECIE DA IMPIANTARE'!$R10,\"\")","v":""},null,"",{"$f":"IF(AND($B309=\"AZIONE_2\",$L309=4),'3 - SPECIE DA IMPIANTARE'!$R10,\"\")","v":""},null,"",{"$f":"IF(AND($B309=\"AZIONE_2\",$O309=5),'3 - SPECIE DA IMPIANTARE'!$R10,\"\")","v":""},null,"",{"$f":"IF(AND($B309=\"AZIONE_2\",$R309=6),'3 - SPECIE DA IMPIANTARE'!$R10,\"\")","v":""}]
[4,"","",{"$f":"IF(AND($B310=\"AZIONE_2\",C310=1),'3 - SPECIE DA IMPIANTARE'!$R11,\"\")","v":""},null,"",{"$f":"IF(AND($B310=\"AZIONE_2\",F310=2),'3 - SPECIE DA IMPIANTARE'!$R11,\"\")","v":""},null,"",{"$f":"IF(AND($B310=\"AZIONE_2\",$I310=3),'3 - SPECIE DA IMPIANTARE'!$R11,\"\")","v":""},null,"",{"$f":"IF(AND($B310=\"AZIONE_2\",$L310=4),'3 - SPECIE DA IMPIANTARE'!$R11,\"\")","v":""},null,"",{"$f":"IF(AND($B310=\"AZIONE_2\",$O310=5),'3 - SPECIE DA IMPIANTARE'!$R11,\"\")","v":""},null,"",{"$f":"IF(AND($B310=\"AZIONE_2\",$R310=6),'3 - SPECIE DA IMPIANTARE'!$R11,\"\")","v":""}]
[4,{"$f":"B211","v":""},"",{"$f":"IF(AND($B311=\"AZIONE_2\",C311=1),'3 - SPECIE DA IMPIANTARE'!$R12,\"\")","v":""},null,"",{"$f":"IF(AND($B311=\"AZIONE_2\",F311=2),'3 - SPECIE DA IMPIANTARE'!$R12,\"\")","v":""},null,"",{"$f":"IF(AND($B311=\"AZIONE_2\",$I311=3),'3 - SPECIE DA IMPIANTARE'!$R12,\"\")","v":""},null,"",{"$f":"IF(AND($B311=\"AZIONE_2\",$L311=4),'3 - SPECIE DA IMPIANTARE'!$R12,\"\")","v":""},null,"",{"$f":"IF(AND($B311=\"AZIONE_2\",$O311=5),'3 - SPECIE DA IMPIANTARE'!$R12,\"\")","v":""},null,"",{"$f":"IF(AND($B311=\"AZIONE_2\",$R311=6),'3 - SPECIE DA IMPIANTARE'!$R12,\"\")","v":""}]
[4,"","",{"$f":"IF(AND($B312=\"AZIONE_2\",C312=1),'3 - SPECIE DA IMPIANTARE'!$R13,\"\")","v":""},null,"",{"$f":"IF(AND($B312=\"AZIONE_2\",F312=2),'3 - SPECIE DA IMPIANTARE'!$R13,\"\")","v":""},null,"",{"$f":"IF(AND($B312=\"AZIONE_2\",$I312=3),'3 - SPECIE DA IMPIANTARE'!$R13,\"\")","v":""},null,"",{"$f":"IF(AND($B312=\"AZIONE_2\",$L312=4),'3 - SPECIE DA IMPIANTARE'!$R13,\"\")","v":""},null,"",{"$f":"IF(AND($B312=\"AZIONE_2\",$O312=5),'3 - SPECIE DA IMPIANTARE'!$R13,\"\")","v":""},null,"",{"$f":"IF(AND($B312=\"AZIONE_2\",$R312=6),'3 - SPECIE DA IMPIANTARE'!$R13,\"\")","v":""}]
[4,"","",{"$f":"IF(AND($B313=\"AZIONE_2\",C313=1),'3 - SPECIE DA IMPIANTARE'!$R14,\"\")","v":""},null,"",{"$f":"IF(AND($B313=\"AZIONE_2\",F313=2),'3 - SPECIE DA IMPIANTARE'!$R14,\"\")","v":""},null,"",{"$f":"IF(AND($B313=\"AZIONE_2\",$I313=3),'3 - SPECIE DA IMPIANTARE'!$R14,\"\")","v":""},null,"",{"$f":"IF(AND($B313=\"AZIONE_2\",$L313=4),'3 - SPECIE DA IMPIANTARE'!$R14,\"\")","v":""},null,"",{"$f":"IF(AND($B313=\"AZIONE_2\",$O313=5),'3 - SPECIE DA IMPIANTARE'!$R14,\"\")","v":""},null,"",{"$f":"IF(AND($B313=\"AZIONE_2\",$R313=6),'3 - SPECIE DA IMPIANTARE'!$R14,\"\")","v":""}]
[4,"","",{"$f":"IF(AND($B314=\"AZIONE_2\",C314=1),'3 - SPECIE DA IMPIANTARE'!$R15,\"\")","v":""},null,"",{"$f":"IF(AND($B314=\"AZIONE_2\",F314=2),'3 - SPECIE DA IMPIANTARE'!$R15,\"\")","v":""},null,"",{"$f":"IF(AND($B314=\"AZIONE_2\",$I314=3),'3 - SPECIE DA IMPIANTARE'!$R15,\"\")","v":""},null,"",{"$f":"IF(AND($B314=\"AZIONE_2\",$L314=4),'3 - SPECIE DA IMPIANTARE'!$R15,\"\")","v":""},null,"",{"$f":"IF(AND($B314=\"AZIONE_2\",$O314=5),'3 - SPECIE DA IMPIANTARE'!$R15,\"\")","v":""},null,"",{"$f":"IF(AND($B314=\"AZIONE_2\",$R314=6),'3 - SPECIE DA IMPIANTARE'!$R15,\"\")","v":""}]
[4,"","",{"$f":"IF(AND($B315=\"AZIONE_2\",C315=1),'3 - SPECIE DA IMPIANTARE'!$R16,\"\")","v":""},null,"",{"$f":"IF(AND($B315=\"AZIONE_2\",F315=2),'3 - SPECIE DA IMPIANTARE'!$R16,\"\")","v":""},null,"",{"$f":"IF(AND($B315=\"AZIONE_2\",$I315=3),'3 - SPECIE DA IMPIANTARE'!$R16,\"\")","v":""},null,"",{"$f":"IF(AND($B315=\"AZIONE_2\",$L315=4),'3 - SPECIE DA IMPIANTARE'!$R16,\"\")","v":""},null,"",{"$f":"IF(AND($B315=\"AZIONE_2\",$O315=5),'3 - SPECIE DA IMPIANTARE'!$R16,\"\")","v":""},null,"",{"$f":"IF(AND($B315=\"AZIONE_2\",$R315=6),'3 - SPECIE DA IMPIANTARE'!$R16,\"\")","v":""}]
[4,"","",{"$f":"IF(AND($B316=\"AZIONE_2\",C316=1),'3 - SPECIE DA IMPIANTARE'!$R17,\"\")","v":""},null,"",{"$f":"IF(AND($B316=\"AZIONE_2\",F316=2),'3 - SPECIE DA IMPIANTARE'!$R17,\"\")","v":""},null,"",{"$f":"IF(AND($B316=\"AZIONE_2\",$I316=3),'3 - SPECIE DA IMPIANTARE'!$R17,\"\")","v":""},null,"",{"$f":"IF(AND($B316=\"AZIONE_2\",$L316=4),'3 - SPECIE DA IMPIANTARE'!$R17,\"\")","v":""},null,"",{"$f":"IF(AND($B316=\"AZIONE_2\",$O316=5),'3 - SPECIE DA IMPIANTARE'!$R17,\"\")","v":""},null,"",{"$f":"IF(AND($B316=\"AZIONE_2\",$R316=6),'3 - SPECIE DA IMPIANTARE'!$R17,\"\")","v":""}]
[4,"","",{"$f":"IF(AND($B317=\"AZIONE_2\",C317=1),'3 - SPECIE DA IMPIANTARE'!$R18,\"\")","v":""},null,"",{"$f":"IF(AND($B317=\"AZIONE_2\",F317=2),'3 - SPECIE DA IMPIANTARE'!$R18,\"\")","v":""},null,"",{"$f":"IF(AND($B317=\"AZIONE_2\",$I317=3),'3 - SPECIE DA IMPIANTARE'!$R18,\"\")","v":""},null,"",{"$f":"IF(AND($B317=\"AZIONE_2\",$L317=4),'3 - SPECIE DA IMPIANTARE'!$R18,\"\")","v":""},null,"",{"$f":"IF(AND($B317=\"AZIONE_2\",$O317=5),'3 - SPECIE DA IMPIANTARE'!$R18,\"\")","v":""},null,"",{"$f":"IF(AND($B317=\"AZIONE_2\",$R317=6),'3 - SPECIE DA IMPIANTARE'!$R18,\"\")","v":""}]
[4,"","",{"$f":"IF(AND($B318=\"AZIONE_2\",C318=1),'3 - SPECIE DA IMPIANTARE'!$R19,\"\")","v":""},null,"",{"$f":"IF(AND($B318=\"AZIONE_2\",F318=2),'3 - SPECIE DA IMPIANTARE'!$R19,\"\")","v":""},null,"",{"$f":"IF(AND($B318=\"AZIONE_2\",$I318=3),'3 - SPECIE DA IMPIANTARE'!$R19,\"\")","v":""},null,"",{"$f":"IF(AND($B318=\"AZIONE_2\",$L318=4),'3 - SPECIE DA IMPIANTARE'!$R19,\"\")","v":""},null,"",{"$f":"IF(AND($B318=\"AZIONE_2\",$O318=5),'3 - SPECIE DA IMPIANTARE'!$R19,\"\")","v":""},null,"",{"$f":"IF(AND($B318=\"AZIONE_2\",$R318=6),'3 - SPECIE DA IMPIANTARE'!$R19,\"\")","v":""}]
[4,"","",{"$f":"IF(AND($B319=\"AZIONE_2\",C319=1),'3 - SPECIE DA IMPIANTARE'!$R20,\"\")","v":""},null,"",{"$f":"IF(AND($B319=\"AZIONE_2\",F319=2),'3 - SPECIE DA IMPIANTARE'!$R20,\"\")","v":""},null,"",{"$f":"IF(AND($B319=\"AZIONE_2\",$I319=3),'3 - SPECIE DA IMPIANTARE'!$R20,\"\")","v":""},null,"",{"$f":"IF(AND($B319=\"AZIONE_2\",$L319=4),'3 - SPECIE DA IMPIANTARE'!$R20,\"\")","v":""},null,"",{"$f":"IF(AND($B319=\"AZIONE_2\",$O319=5),'3 - SPECIE DA IMPIANTARE'!$R20,\"\")","v":""},null,"",{"$f":"IF(AND($B319=\"AZIONE_2\",$R319=6),'3 - SPECIE DA IMPIANTARE'!$R20,\"\")","v":""}]
[4,"","",{"$f":"IF(AND($B320=\"AZIONE_2\",C320=1),'3 - SPECIE DA IMPIANTARE'!$R21,\"\")","v":""},null,"",{"$f":"IF(AND($B320=\"AZIONE_2\",F320=2),'3 - SPECIE DA IMPIANTARE'!$R21,\"\")","v":""},null,"",{"$f":"IF(AND($B320=\"AZIONE_2\",$I320=3),'3 - SPECIE DA IMPIANTARE'!$R21,\"\")","v":""},null,"",{"$f":"IF(AND($B320=\"AZIONE_2\",$L320=4),'3 - SPECIE DA IMPIANTARE'!$R21,\"\")","v":""},null,"",{"$f":"IF(AND($B320=\"AZIONE_2\",$O320=5),'3 - SPECIE DA IMPIANTARE'!$R21,\"\")","v":""},null,"",{"$f":"IF(AND($B320=\"AZIONE_2\",$R320=6),'3 - SPECIE DA IMPIANTARE'!$R21,\"\")","v":""}]
[4,"","",{"$f":"IF(AND($B321=\"AZIONE_2\",C321=1),'3 - SPECIE DA IMPIANTARE'!$R22,\"\")","v":""},null,"",{"$f":"IF(AND($B321=\"AZIONE_2\",F321=2),'3 - SPECIE DA IMPIANTARE'!$R22,\"\")","v":""},null,"",{"$f":"IF(AND($B321=\"AZIONE_2\",$I321=3),'3 - SPECIE DA IMPIANTARE'!$R22,\"\")","v":""},null,"",{"$f":"IF(AND($B321=\"AZIONE_2\",$L321=4),'3 - SPECIE DA IMPIANTARE'!$R22,\"\")","v":""},null,"",{"$f":"IF(AND($B321=\"AZIONE_2\",$O321=5),'3 - SPECIE DA IMPIANTARE'!$R22,\"\")","v":""},null,"",{"$f":"IF(AND($B321=\"AZIONE_2\",$R321=6),'3 - SPECIE DA IMPIANTARE'!$R22,\"\")","v":""}]
[4,"","",{"$f":"IF(AND($B322=\"AZIONE_2\",C322=1),'3 - SPECIE DA IMPIANTARE'!$R23,\"\")","v":""},null,"",{"$f":"IF(AND($B322=\"AZIONE_2\",F322=2),'3 - SPECIE DA IMPIANTARE'!$R23,\"\")","v":""},null,"",{"$f":"IF(AND($B322=\"AZIONE_2\",$I322=3),'3 - SPECIE DA IMPIANTARE'!$R23,\"\")","v":""},null,"",{"$f":"IF(AND($B322=\"AZIONE_2\",$L322=4),'3 - SPECIE DA IMPIANTARE'!$R23,\"\")","v":""},null,"",{"$f":"IF(AND($B322=\"AZIONE_2\",$O322=5),'3 - SPECIE DA IMPIANTARE'!$R23,\"\")","v":""},null,"",{"$f":"IF(AND($B322=\"AZIONE_2\",$R322=6),'3 - SPECIE DA IMPIANTARE'!$R23,\"\")","v":""}]
[4,"","",{"$f":"IF(AND($B323=\"AZIONE_2\",C323=1),'3 - SPECIE DA IMPIANTARE'!$R24,\"\")","v":""},null,"",{"$f":"IF(AND($B323=\"AZIONE_2\",F323=2),'3 - SPECIE DA IMPIANTARE'!$R24,\"\")","v":""},null,"",{"$f":"IF(AND($B323=\"AZIONE_2\",$I323=3),'3 - SPECIE DA IMPIANTARE'!$R24,\"\")","v":""},null,"",{"$f":"IF(AND($B323=\"AZIONE_2\",$L323=4),'3 - SPECIE DA IMPIANTARE'!$R24,\"\")","v":""},null,"",{"$f":"IF(AND($B323=\"AZIONE_2\",$O323=5),'3 - SPECIE DA IMPIANTARE'!$R24,\"\")","v":""},null,"",{"$f":"IF(AND($B323=\"AZIONE_2\",$R323=6),'3 - SPECIE DA IMPIANTARE'!$R24,\"\")","v":""}]
[4,"","",{"$f":"IF(AND($B324=\"AZIONE_2\",C324=1),'3 - SPECIE DA IMPIANTARE'!$R25,\"\")","v":""},null,"",{"$f":"IF(AND($B324=\"AZIONE_2\",F324=2),'3 - SPECIE DA IMPIANTARE'!$R25,\"\")","v":""},null,"",{"$f":"IF(AND($B324=\"AZIONE_2\",$I324=3),'3 - SPECIE DA IMPIANTARE'!$R25,\"\")","v":""},null,"",{"$f":"IF(AND($B324=\"AZIONE_2\",$L324=4),'3 - SPECIE DA IMPIANTARE'!$R25,\"\")","v":""},null,"",{"$f":"IF(AND($B324=\"AZIONE_2\",$O324=5),'3 - SPECIE DA IMPIANTARE'!$R25,\"\")","v":""},null,"",{"$f":"IF(AND($B324=\"AZIONE_2\",$R324=6),'3 - SPECIE DA IMPIANTARE'!$R25,\"\")","v":""}]
[4,"","",{"$f":"IF(AND($B325=\"AZIONE_2\",C325=1),'3 - SPECIE DA IMPIANTARE'!$R26,\"\")","v":""},null,"",{"$f":"IF(AND($B325=\"AZIONE_2\",F325=2),'3 - SPECIE DA IMPIANTARE'!$R26,\"\")","v":""},null,"",{"$f":"IF(AND($B325=\"AZIONE_2\",$I325=3),'3 - SPECIE DA IMPIANTARE'!$R26,\"\")","v":""},null,"",{"$f":"IF(AND($B325=\"AZIONE_2\",$L325=4),'3 - SPECIE DA IMPIANTARE'!$R26,\"\")","v":""},null,"",{"$f":"IF(AND($B325=\"AZIONE_2\",$O325=5),'3 - SPECIE DA IMPIANTARE'!$R26,\"\")","v":""},null,"",{"$f":"IF(AND($B325=\"AZIONE_2\",$R325=6),'3 - SPECIE DA IMPIANTARE'!$R26,\"\")","v":""}]
[4,"","",{"$f":"IF(AND($B326=\"AZIONE_2\",C326=1),'3 - SPECIE DA IMPIANTARE'!$R27,\"\")","v":""},null,"",{"$f":"IF(AND($B326=\"AZIONE_2\",F326=2),'3 - SPECIE DA IMPIANTARE'!$R27,\"\")","v":""},null,"",{"$f":"IF(AND($B326=\"AZIONE_2\",$I326=3),'3 - SPECIE DA IMPIANTARE'!$R27,\"\")","v":""},null,"",{"$f":"IF(AND($B326=\"AZIONE_2\",$L326=4),'3 - SPECIE DA IMPIANTARE'!$R27,\"\")","v":""},null,"",{"$f":"IF(AND($B326=\"AZIONE_2\",$O326=5),'3 - SPECIE DA IMPIANTARE'!$R27,\"\")","v":""},null,"",{"$f":"IF(AND($B326=\"AZIONE_2\",$R326=6),'3 - SPECIE DA IMPIANTARE'!$R27,\"\")","v":""}]
[4,{"$f":"B227","v":""},"",{"$f":"IF(AND($B327=\"AZIONE_2\",C327=1),'3 - SPECIE DA IMPIANTARE'!$R28,\"\")","v":""},null,"",{"$f":"IF(AND($B327=\"AZIONE_2\",F327=2),'3 - SPECIE DA IMPIANTARE'!$R28,\"\")","v":""},null,"",{"$f":"IF(AND($B327=\"AZIONE_2\",$I327=3),'3 - SPECIE DA IMPIANTARE'!$R28,\"\")","v":""},null,"",{"$f":"IF(AND($B327=\"AZIONE_2\",$L327=4),'3 - SPECIE DA IMPIANTARE'!$R28,\"\")","v":""},null,"",{"$f":"IF(AND($B327=\"AZIONE_2\",$O327=5),'3 - SPECIE DA IMPIANTARE'!$R28,\"\")","v":""},null,"",{"$f":"IF(AND($B327=\"AZIONE_2\",$R327=6),'3 - SPECIE DA IMPIANTARE'!$R28,\"\")","v":""}]
[4,"","",{"$f":"IF(AND($B328=\"AZIONE_2\",C328=1),'3 - SPECIE DA IMPIANTARE'!$R29,\"\")","v":""},null,"",{"$f":"IF(AND($B328=\"AZIONE_2\",F328=2),'3 - SPECIE DA IMPIANTARE'!$R29,\"\")","v":""},null,"",{"$f":"IF(AND($B328=\"AZIONE_2\",$I328=3),'3 - SPECIE DA IMPIANTARE'!$R29,\"\")","v":""},null,"",{"$f":"IF(AND($B328=\"AZIONE_2\",$L328=4),'3 - SPECIE DA IMPIANTARE'!$R29,\"\")","v":""},null,"",{"$f":"IF(AND($B328=\"AZIONE_2\",$O328=5),'3 - SPECIE DA IMPIANTARE'!$R29,\"\")","v":""},null,"",{"$f":"IF(AND($B328=\"AZIONE_2\",$R328=6),'3 - SPECIE DA IMPIANTARE'!$R29,\"\")","v":""}]
[4,"","",{"$f":"IF(AND($B329=\"AZIONE_2\",C329=1),'3 - SPECIE DA IMPIANTARE'!$R30,\"\")","v":""},null,"",{"$f":"IF(AND($B329=\"AZIONE_2\",F329=2),'3 - SPECIE DA IMPIANTARE'!$R30,\"\")","v":""},null,"",{"$f":"IF(AND($B329=\"AZIONE_2\",$I329=3),'3 - SPECIE DA IMPIANTARE'!$R30,\"\")","v":""},null,"",{"$f":"IF(AND($B329=\"AZIONE_2\",$L329=4),'3 - SPECIE DA IMPIANTARE'!$R30,\"\")","v":""},null,"",{"$f":"IF(AND($B329=\"AZIONE_2\",$O329=5),'3 - SPECIE DA IMPIANTARE'!$R30,\"\")","v":""},null,"",{"$f":"IF(AND($B329=\"AZIONE_2\",$R329=6),'3 - SPECIE DA IMPIANTARE'!$R30,\"\")","v":""}]
[4,"","",{"$f":"IF(AND($B330=\"AZIONE_2\",C330=1),'3 - SPECIE DA IMPIANTARE'!$R31,\"\")","v":""},null,"",{"$f":"IF(AND($B330=\"AZIONE_2\",F330=2),'3 - SPECIE DA IMPIANTARE'!$R31,\"\")","v":""},null,"",{"$f":"IF(AND($B330=\"AZIONE_2\",$I330=3),'3 - SPECIE DA IMPIANTARE'!$R31,\"\")","v":""},null,"",{"$f":"IF(AND($B330=\"AZIONE_2\",$L330=4),'3 - SPECIE DA IMPIANTARE'!$R31,\"\")","v":""},null,"",{"$f":"IF(AND($B330=\"AZIONE_2\",$O330=5),'3 - SPECIE DA IMPIANTARE'!$R31,\"\")","v":""},null,"",{"$f":"IF(AND($B330=\"AZIONE_2\",$R330=6),'3 - SPECIE DA IMPIANTARE'!$R31,\"\")","v":""}]
[4,"","",{"$f":"IF(AND($B331=\"AZIONE_2\",C331=1),'3 - SPECIE DA IMPIANTARE'!$R32,\"\")","v":""},null,"",{"$f":"IF(AND($B331=\"AZIONE_2\",F331=2),'3 - SPECIE DA IMPIANTARE'!$R32,\"\")","v":""},null,"",{"$f":"IF(AND($B331=\"AZIONE_2\",$I331=3),'3 - SPECIE DA IMPIANTARE'!$R32,\"\")","v":""},null,"",{"$f":"IF(AND($B331=\"AZIONE_2\",$L331=4),'3 - SPECIE DA IMPIANTARE'!$R32,\"\")","v":""},null,"",{"$f":"IF(AND($B331=\"AZIONE_2\",$O331=5),'3 - SPECIE DA IMPIANTARE'!$R32,\"\")","v":""},null,"",{"$f":"IF(AND($B331=\"AZIONE_2\",$R331=6),'3 - SPECIE DA IMPIANTARE'!$R32,\"\")","v":""}]
[4,"","",{"$f":"IF(AND($B332=\"AZIONE_2\",C332=1),'3 - SPECIE DA IMPIANTARE'!$R33,\"\")","v":""},null,"",{"$f":"IF(AND($B332=\"AZIONE_2\",F332=2),'3 - SPECIE DA IMPIANTARE'!$R33,\"\")","v":""},null,"",{"$f":"IF(AND($B332=\"AZIONE_2\",$I332=3),'3 - SPECIE DA IMPIANTARE'!$R33,\"\")","v":""},null,"",{"$f":"IF(AND($B332=\"AZIONE_2\",$L332=4),'3 - SPECIE DA IMPIANTARE'!$R33,\"\")","v":""},null,"",{"$f":"IF(AND($B332=\"AZIONE_2\",$O332=5),'3 - SPECIE DA IMPIANTARE'!$R33,\"\")","v":""},null,"",{"$f":"IF(AND($B332=\"AZIONE_2\",$R332=6),'3 - SPECIE DA IMPIANTARE'!$R33,\"\")","v":""}]
[4,"","",{"$f":"IF(AND($B333=\"AZIONE_2\",C333=1),'3 - SPECIE DA IMPIANTARE'!$R34,\"\")","v":""},null,"",{"$f":"IF(AND($B333=\"AZIONE_2\",F333=2),'3 - SPECIE DA IMPIANTARE'!$R34,\"\")","v":""},null,"",{"$f":"IF(AND($B333=\"AZIONE_2\",$I333=3),'3 - SPECIE DA IMPIANTARE'!$R34,\"\")","v":""},null,"",{"$f":"IF(AND($B333=\"AZIONE_2\",$L333=4),'3 - SPECIE DA IMPIANTARE'!$R34,\"\")","v":""},null,"",{"$f":"IF(AND($B333=\"AZIONE_2\",$O333=5),'3 - SPECIE DA IMPIANTARE'!$R34,\"\")","v":""},null,"",{"$f":"IF(AND($B333=\"AZIONE_2\",$R333=6),'3 - SPECIE DA IMPIANTARE'!$R34,\"\")","v":""}]
[4,"","",{"$f":"IF(AND($B334=\"AZIONE_2\",C334=1),'3 - SPECIE DA IMPIANTARE'!$R35,\"\")","v":""},null,"",{"$f":"IF(AND($B334=\"AZIONE_2\",F334=2),'3 - SPECIE DA IMPIANTARE'!$R35,\"\")","v":""},null,"",{"$f":"IF(AND($B334=\"AZIONE_2\",$I334=3),'3 - SPECIE DA IMPIANTARE'!$R35,\"\")","v":""},null,"",{"$f":"IF(AND($B334=\"AZIONE_2\",$L334=4),'3 - SPECIE DA IMPIANTARE'!$R35,\"\")","v":""},null,"",{"$f":"IF(AND($B334=\"AZIONE_2\",$O334=5),'3 - SPECIE DA IMPIANTARE'!$R35,\"\")","v":""},null,"",{"$f":"IF(AND($B334=\"AZIONE_2\",$R334=6),'3 - SPECIE DA IMPIANTARE'!$R35,\"\")","v":""}]
[4,"","",{"$f":"IF(AND($B335=\"AZIONE_2\",C335=1),'3 - SPECIE DA IMPIANTARE'!$R36,\"\")","v":""},null,"",{"$f":"IF(AND($B335=\"AZIONE_2\",F335=2),'3 - SPECIE DA IMPIANTARE'!$R36,\"\")","v":""},null,"",{"$f":"IF(AND($B335=\"AZIONE_2\",$I335=3),'3 - SPECIE DA IMPIANTARE'!$R36,\"\")","v":""},null,"",{"$f":"IF(AND($B335=\"AZIONE_2\",$L335=4),'3 - SPECIE DA IMPIANTARE'!$R36,\"\")","v":""},null,"",{"$f":"IF(AND($B335=\"AZIONE_2\",$O335=5),'3 - SPECIE DA IMPIANTARE'!$R36,\"\")","v":""},null,"",{"$f":"IF(AND($B335=\"AZIONE_2\",$R335=6),'3 - SPECIE DA IMPIANTARE'!$R36,\"\")","v":""}]
[4,"","",{"$f":"IF(AND($B336=\"AZIONE_2\",C336=1),'3 - SPECIE DA IMPIANTARE'!$R37,\"\")","v":""},null,"",{"$f":"IF(AND($B336=\"AZIONE_2\",F336=2),'3 - SPECIE DA IMPIANTARE'!$R37,\"\")","v":""},null,"",{"$f":"IF(AND($B336=\"AZIONE_2\",$I336=3),'3 - SPECIE DA IMPIANTARE'!$R37,\"\")","v":""},null,"",{"$f":"IF(AND($B336=\"AZIONE_2\",$L336=4),'3 - SPECIE DA IMPIANTARE'!$R37,\"\")","v":""},null,"",{"$f":"IF(AND($B336=\"AZIONE_2\",$O336=5),'3 - SPECIE DA IMPIANTARE'!$R37,\"\")","v":""},null,"",{"$f":"IF(AND($B336=\"AZIONE_2\",$R336=6),'3 - SPECIE DA IMPIANTARE'!$R37,\"\")","v":""}]
[4,"","",{"$f":"IF(AND($B337=\"AZIONE_2\",C337=1),'3 - SPECIE DA IMPIANTARE'!$R38,\"\")","v":""},null,"",{"$f":"IF(AND($B337=\"AZIONE_2\",F337=2),'3 - SPECIE DA IMPIANTARE'!$R38,\"\")","v":""},null,"",{"$f":"IF(AND($B337=\"AZIONE_2\",$I337=3),'3 - SPECIE DA IMPIANTARE'!$R38,\"\")","v":""},null,"",{"$f":"IF(AND($B337=\"AZIONE_2\",$L337=4),'3 - SPECIE DA IMPIANTARE'!$R38,\"\")","v":""},null,"",{"$f":"IF(AND($B337=\"AZIONE_2\",$O337=5),'3 - SPECIE DA IMPIANTARE'!$R38,\"\")","v":""},null,"",{"$f":"IF(AND($B337=\"AZIONE_2\",$R337=6),'3 - SPECIE DA IMPIANTARE'!$R38,\"\")","v":""}]
[4,"","",{"$f":"IF(AND($B338=\"AZIONE_2\",C338=1),'3 - SPECIE DA IMPIANTARE'!$R39,\"\")","v":""},null,"",{"$f":"IF(AND($B338=\"AZIONE_2\",F338=2),'3 - SPECIE DA IMPIANTARE'!$R39,\"\")","v":""},null,"",{"$f":"IF(AND($B338=\"AZIONE_2\",$I338=3),'3 - SPECIE DA IMPIANTARE'!$R39,\"\")","v":""},null,"",{"$f":"IF(AND($B338=\"AZIONE_2\",$L338=4),'3 - SPECIE DA IMPIANTARE'!$R39,\"\")","v":""},null,"",{"$f":"IF(AND($B338=\"AZIONE_2\",$O338=5),'3 - SPECIE DA IMPIANTARE'!$R39,\"\")","v":""},null,"",{"$f":"IF(AND($B338=\"AZIONE_2\",$R338=6),'3 - SPECIE DA IMPIANTARE'!$R39,\"\")","v":""}]
[4,"","",{"$f":"IF(AND($B339=\"AZIONE_2\",C339=1),'3 - SPECIE DA IMPIANTARE'!$R40,\"\")","v":""},null,"",{"$f":"IF(AND($B339=\"AZIONE_2\",F339=2),'3 - SPECIE DA IMPIANTARE'!$R40,\"\")","v":""},null,"",{"$f":"IF(AND($B339=\"AZIONE_2\",$I339=3),'3 - SPECIE DA IMPIANTARE'!$R40,\"\")","v":""},null,"",{"$f":"IF(AND($B339=\"AZIONE_2\",$L339=4),'3 - SPECIE DA IMPIANTARE'!$R40,\"\")","v":""},null,"",{"$f":"IF(AND($B339=\"AZIONE_2\",$O339=5),'3 - SPECIE DA IMPIANTARE'!$R40,\"\")","v":""},null,"",{"$f":"IF(AND($B339=\"AZIONE_2\",$R339=6),'3 - SPECIE DA IMPIANTARE'!$R40,\"\")","v":""}]
[4,"","",{"$f":"IF(AND($B340=\"AZIONE_2\",C340=1),'3 - SPECIE DA IMPIANTARE'!$R41,\"\")","v":""},null,"",{"$f":"IF(AND($B340=\"AZIONE_2\",F340=2),'3 - SPECIE DA IMPIANTARE'!$R41,\"\")","v":""},null,"",{"$f":"IF(AND($B340=\"AZIONE_2\",$I340=3),'3 - SPECIE DA IMPIANTARE'!$R41,\"\")","v":""},null,"",{"$f":"IF(AND($B340=\"AZIONE_2\",$L340=4),'3 - SPECIE DA IMPIANTARE'!$R41,\"\")","v":""},null,"",{"$f":"IF(AND($B340=\"AZIONE_2\",$O340=5),'3 - SPECIE DA IMPIANTARE'!$R41,\"\")","v":""},null,"",{"$f":"IF(AND($B340=\"AZIONE_2\",$R340=6),'3 - SPECIE DA IMPIANTARE'!$R41,\"\")","v":""}]
[4,"","",{"$f":"IF(AND($B341=\"AZIONE_2\",C341=1),'3 - SPECIE DA IMPIANTARE'!$R42,\"\")","v":""},null,"",{"$f":"IF(AND($B341=\"AZIONE_2\",F341=2),'3 - SPECIE DA IMPIANTARE'!$R42,\"\")","v":""},null,"",{"$f":"IF(AND($B341=\"AZIONE_2\",$I341=3),'3 - SPECIE DA IMPIANTARE'!$R42,\"\")","v":""},null,"",{"$f":"IF(AND($B341=\"AZIONE_2\",$L341=4),'3 - SPECIE DA IMPIANTARE'!$R42,\"\")","v":""},null,"",{"$f":"IF(AND($B341=\"AZIONE_2\",$O341=5),'3 - SPECIE DA IMPIANTARE'!$R42,\"\")","v":""},null,"",{"$f":"IF(AND($B341=\"AZIONE_2\",$R341=6),'3 - SPECIE DA IMPIANTARE'!$R42,\"\")","v":""}]
[4,"","",{"$f":"IF(AND($B342=\"AZIONE_2\",C342=1),'3 - SPECIE DA IMPIANTARE'!$R43,\"\")","v":""},null,"",{"$f":"IF(AND($B342=\"AZIONE_2\",F342=2),'3 - SPECIE DA IMPIANTARE'!$R43,\"\")","v":""},null,"",{"$f":"IF(AND($B342=\"AZIONE_2\",$I342=3),'3 - SPECIE DA IMPIANTARE'!$R43,\"\")","v":""},null,"",{"$f":"IF(AND($B342=\"AZIONE_2\",$L342=4),'3 - SPECIE DA IMPIANTARE'!$R43,\"\")","v":""},null,"",{"$f":"IF(AND($B342=\"AZIONE_2\",$O342=5),'3 - SPECIE DA IMPIANTARE'!$R43,\"\")","v":""},null,"",{"$f":"IF(AND($B342=\"AZIONE_2\",$R342=6),'3 - SPECIE DA IMPIANTARE'!$R43,\"\")","v":""}]
[4,{"$f":"B243","v":""},"",{"$f":"IF(AND($B343=\"AZIONE_2\",C343=1),'3 - SPECIE DA IMPIANTARE'!$R44,\"\")","v":""},null,"",{"$f":"IF(AND($B343=\"AZIONE_2\",F343=2),'3 - SPECIE DA IMPIANTARE'!$R44,\"\")","v":""},null,"",{"$f":"IF(AND($B343=\"AZIONE_2\",$I343=3),'3 - SPECIE DA IMPIANTARE'!$R44,\"\")","v":""},null,"",{"$f":"IF(AND($B343=\"AZIONE_2\",$L343=4),'3 - SPECIE DA IMPIANTARE'!$R44,\"\")","v":""},null,"",{"$f":"IF(AND($B343=\"AZIONE_2\",$O343=5),'3 - SPECIE DA IMPIANTARE'!$R44,\"\")","v":""},null,"",{"$f":"IF(AND($B343=\"AZIONE_2\",$R343=6),'3 - SPECIE DA IMPIANTARE'!$R44,\"\")","v":""}]
[4,"","",{"$f":"IF(AND($B344=\"AZIONE_2\",C344=1),'3 - SPECIE DA IMPIANTARE'!$R45,\"\")","v":""},null,"",{"$f":"IF(AND($B344=\"AZIONE_2\",F344=2),'3 - SPECIE DA IMPIANTARE'!$R45,\"\")","v":""},null,"",{"$f":"IF(AND($B344=\"AZIONE_2\",$I344=3),'3 - SPECIE DA IMPIANTARE'!$R45,\"\")","v":""},null,"",{"$f":"IF(AND($B344=\"AZIONE_2\",$L344=4),'3 - SPECIE DA IMPIANTARE'!$R45,\"\")","v":""},null,"",{"$f":"IF(AND($B344=\"AZIONE_2\",$O344=5),'3 - SPECIE DA IMPIANTARE'!$R45,\"\")","v":""},null,"",{"$f":"IF(AND($B344=\"AZIONE_2\",$R344=6),'3 - SPECIE DA IMPIANTARE'!$R45,\"\")","v":""}]
[4,"","",{"$f":"IF(AND($B345=\"AZIONE_2\",C345=1),'3 - SPECIE DA IMPIANTARE'!$R46,\"\")","v":""},null,"",{"$f":"IF(AND($B345=\"AZIONE_2\",F345=2),'3 - SPECIE DA IMPIANTARE'!$R46,\"\")","v":""},null,"",{"$f":"IF(AND($B345=\"AZIONE_2\",$I345=3),'3 - SPECIE DA IMPIANTARE'!$R46,\"\")","v":""},null,"",{"$f":"IF(AND($B345=\"AZIONE_2\",$L345=4),'3 - SPECIE DA IMPIANTARE'!$R46,\"\")","v":""},null,"",{"$f":"IF(AND($B345=\"AZIONE_2\",$O345=5),'3 - SPECIE DA IMPIANTARE'!$R46,\"\")","v":""},null,"",{"$f":"IF(AND($B345=\"AZIONE_2\",$R345=6),'3 - SPECIE DA IMPIANTARE'!$R46,\"\")","v":""}]
[4,"","",{"$f":"IF(AND($B346=\"AZIONE_2\",C346=1),'3 - SPECIE DA IMPIANTARE'!$R47,\"\")","v":""},null,"",{"$f":"IF(AND($B346=\"AZIONE_2\",F346=2),'3 - SPECIE DA IMPIANTARE'!$R47,\"\")","v":""},null,"",{"$f":"IF(AND($B346=\"AZIONE_2\",$I346=3),'3 - SPECIE DA IMPIANTARE'!$R47,\"\")","v":""},null,"",{"$f":"IF(AND($B346=\"AZIONE_2\",$L346=4),'3 - SPECIE DA IMPIANTARE'!$R47,\"\")","v":""},null,"",{"$f":"IF(AND($B346=\"AZIONE_2\",$O346=5),'3 - SPECIE DA IMPIANTARE'!$R47,\"\")","v":""},null,"",{"$f":"IF(AND($B346=\"AZIONE_2\",$R346=6),'3 - SPECIE DA IMPIANTARE'!$R47,\"\")","v":""}]
[4,"","",{"$f":"IF(AND($B347=\"AZIONE_2\",C347=1),'3 - SPECIE DA IMPIANTARE'!$R48,\"\")","v":""},null,"",{"$f":"IF(AND($B347=\"AZIONE_2\",F347=2),'3 - SPECIE DA IMPIANTARE'!$R48,\"\")","v":""},null,"",{"$f":"IF(AND($B347=\"AZIONE_2\",$I347=3),'3 - SPECIE DA IMPIANTARE'!$R48,\"\")","v":""},null,"",{"$f":"IF(AND($B347=\"AZIONE_2\",$L347=4),'3 - SPECIE DA IMPIANTARE'!$R48,\"\")","v":""},null,"",{"$f":"IF(AND($B347=\"AZIONE_2\",$O347=5),'3 - SPECIE DA IMPIANTARE'!$R48,\"\")","v":""},null,"",{"$f":"IF(AND($B347=\"AZIONE_2\",$R347=6),'3 - SPECIE DA IMPIANTARE'!$R48,\"\")","v":""}]
[4,"","",{"$f":"IF(AND($B348=\"AZIONE_2\",C348=1),'3 - SPECIE DA IMPIANTARE'!$R49,\"\")","v":""},null,"",{"$f":"IF(AND($B348=\"AZIONE_2\",F348=2),'3 - SPECIE DA IMPIANTARE'!$R49,\"\")","v":""},null,"",{"$f":"IF(AND($B348=\"AZIONE_2\",$I348=3),'3 - SPECIE DA IMPIANTARE'!$R49,\"\")","v":""},null,"",{"$f":"IF(AND($B348=\"AZIONE_2\",$L348=4),'3 - SPECIE DA IMPIANTARE'!$R49,\"\")","v":""},null,"",{"$f":"IF(AND($B348=\"AZIONE_2\",$O348=5),'3 - SPECIE DA IMPIANTARE'!$R49,\"\")","v":""},null,"",{"$f":"IF(AND($B348=\"AZIONE_2\",$R348=6),'3 - SPECIE DA IMPIANTARE'!$R49,\"\")","v":""}]
[4,"","",{"$f":"IF(AND($B349=\"AZIONE_2\",C349=1),'3 - SPECIE DA IMPIANTARE'!$R50,\"\")","v":""},null,"",{"$f":"IF(AND($B349=\"AZIONE_2\",F349=2),'3 - SPECIE DA IMPIANTARE'!$R50,\"\")","v":""},null,"",{"$f":"IF(AND($B349=\"AZIONE_2\",$I349=3),'3 - SPECIE DA IMPIANTARE'!$R50,\"\")","v":""},null,"",{"$f":"IF(AND($B349=\"AZIONE_2\",$L349=4),'3 - SPECIE DA IMPIANTARE'!$R50,\"\")","v":""},null,"",{"$f":"IF(AND($B349=\"AZIONE_2\",$O349=5),'3 - SPECIE DA IMPIANTARE'!$R50,\"\")","v":""},null,"",{"$f":"IF(AND($B349=\"AZIONE_2\",$R349=6),'3 - SPECIE DA IMPIANTARE'!$R50,\"\")","v":""}]
[4,"","",{"$f":"IF(AND($B350=\"AZIONE_2\",C350=1),'3 - SPECIE DA IMPIANTARE'!$R51,\"\")","v":""},null,"",{"$f":"IF(AND($B350=\"AZIONE_2\",F350=2),'3 - SPECIE DA IMPIANTARE'!$R51,\"\")","v":""},null,"",{"$f":"IF(AND($B350=\"AZIONE_2\",$I350=3),'3 - SPECIE DA IMPIANTARE'!$R51,\"\")","v":""},null,"",{"$f":"IF(AND($B350=\"AZIONE_2\",$L350=4),'3 - SPECIE DA IMPIANTARE'!$R51,\"\")","v":""},null,"",{"$f":"IF(AND($B350=\"AZIONE_2\",$O350=5),'3 - SPECIE DA IMPIANTARE'!$R51,\"\")","v":""},null,"",{"$f":"IF(AND($B350=\"AZIONE_2\",$R350=6),'3 - SPECIE DA IMPIANTARE'!$R51,\"\")","v":""}]
[4,"","",{"$f":"IF(AND($B351=\"AZIONE_2\",C351=1),'3 - SPECIE DA IMPIANTARE'!$R52,\"\")","v":""},null,"",{"$f":"IF(AND($B351=\"AZIONE_2\",F351=2),'3 - SPECIE DA IMPIANTARE'!$R52,\"\")","v":""},null,"",{"$f":"IF(AND($B351=\"AZIONE_2\",$I351=3),'3 - SPECIE DA IMPIANTARE'!$R52,\"\")","v":""},null,"",{"$f":"IF(AND($B351=\"AZIONE_2\",$L351=4),'3 - SPECIE DA IMPIANTARE'!$R52,\"\")","v":""},null,"",{"$f":"IF(AND($B351=\"AZIONE_2\",$O351=5),'3 - SPECIE DA IMPIANTARE'!$R52,\"\")","v":""},null,"",{"$f":"IF(AND($B351=\"AZIONE_2\",$R351=6),'3 - SPECIE DA IMPIANTARE'!$R52,\"\")","v":""}]
[4,"","",{"$f":"IF(AND($B352=\"AZIONE_2\",C352=1),'3 - SPECIE DA IMPIANTARE'!$R53,\"\")","v":""},null,"",{"$f":"IF(AND($B352=\"AZIONE_2\",F352=2),'3 - SPECIE DA IMPIANTARE'!$R53,\"\")","v":""},null,"",{"$f":"IF(AND($B352=\"AZIONE_2\",$I352=3),'3 - SPECIE DA IMPIANTARE'!$R53,\"\")","v":""},null,"",{"$f":"IF(AND($B352=\"AZIONE_2\",$L352=4),'3 - SPECIE DA IMPIANTARE'!$R53,\"\")","v":""},null,"",{"$f":"IF(AND($B352=\"AZIONE_2\",$O352=5),'3 - SPECIE DA IMPIANTARE'!$R53,\"\")","v":""},null,"",{"$f":"IF(AND($B352=\"AZIONE_2\",$R352=6),'3 - SPECIE DA IMPIANTARE'!$R53,\"\")","v":""}]
[4,"","",{"$f":"IF(AND($B353=\"AZIONE_2\",C353=1),'3 - SPECIE DA IMPIANTARE'!$R54,\"\")","v":""},null,"",{"$f":"IF(AND($B353=\"AZIONE_2\",F353=2),'3 - SPECIE DA IMPIANTARE'!$R54,\"\")","v":""},null,"",{"$f":"IF(AND($B353=\"AZIONE_2\",$I353=3),'3 - SPECIE DA IMPIANTARE'!$R54,\"\")","v":""},null,"",{"$f":"IF(AND($B353=\"AZIONE_2\",$L353=4),'3 - SPECIE DA IMPIANTARE'!$R54,\"\")","v":""},null,"",{"$f":"IF(AND($B353=\"AZIONE_2\",$O353=5),'3 - SPECIE DA IMPIANTARE'!$R54,\"\")","v":""},null,"",{"$f":"IF(AND($B353=\"AZIONE_2\",$R353=6),'3 - SPECIE DA IMPIANTARE'!$R54,\"\")","v":""}]
[4,"","",{"$f":"IF(AND($B354=\"AZIONE_2\",C354=1),'3 - SPECIE DA IMPIANTARE'!$R55,\"\")","v":""},null,"",{"$f":"IF(AND($B354=\"AZIONE_2\",F354=2),'3 - SPECIE DA IMPIANTARE'!$R55,\"\")","v":""},null,"",{"$f":"IF(AND($B354=\"AZIONE_2\",$I354=3),'3 - SPECIE DA IMPIANTARE'!$R55,\"\")","v":""},null,"",{"$f":"IF(AND($B354=\"AZIONE_2\",$L354=4),'3 - SPECIE DA IMPIANTARE'!$R55,\"\")","v":""},null,"",{"$f":"IF(AND($B354=\"AZIONE_2\",$O354=5),'3 - SPECIE DA IMPIANTARE'!$R55,\"\")","v":""},null,"",{"$f":"IF(AND($B354=\"AZIONE_2\",$R354=6),'3 - SPECIE DA IMPIANTARE'!$R55,\"\")","v":""}]
[4,"","",{"$f":"IF(AND($B355=\"AZIONE_2\",C355=1),'3 - SPECIE DA IMPIANTARE'!$R56,\"\")","v":""},null,"",{"$f":"IF(AND($B355=\"AZIONE_2\",F355=2),'3 - SPECIE DA IMPIANTARE'!$R56,\"\")","v":""},null,"",{"$f":"IF(AND($B355=\"AZIONE_2\",$I355=3),'3 - SPECIE DA IMPIANTARE'!$R56,\"\")","v":""},null,"",{"$f":"IF(AND($B355=\"AZIONE_2\",$L355=4),'3 - SPECIE DA IMPIANTARE'!$R56,\"\")","v":""},null,"",{"$f":"IF(AND($B355=\"AZIONE_2\",$O355=5),'3 - SPECIE DA IMPIANTARE'!$R56,\"\")","v":""},null,"",{"$f":"IF(AND($B355=\"AZIONE_2\",$R355=6),'3 - SPECIE DA IMPIANTARE'!$R56,\"\")","v":""}]
[4,"","",{"$f":"IF(AND($B356=\"AZIONE_2\",C356=1),'3 - SPECIE DA IMPIANTARE'!$R57,\"\")","v":""},null,"",{"$f":"IF(AND($B356=\"AZIONE_2\",F356=2),'3 - SPECIE DA IMPIANTARE'!$R57,\"\")","v":""},null,"",{"$f":"IF(AND($B356=\"AZIONE_2\",$I356=3),'3 - SPECIE DA IMPIANTARE'!$R57,\"\")","v":""},null,"",{"$f":"IF(AND($B356=\"AZIONE_2\",$L356=4),'3 - SPECIE DA IMPIANTARE'!$R57,\"\")","v":""},null,"",{"$f":"IF(AND($B356=\"AZIONE_2\",$O356=5),'3 - SPECIE DA IMPIANTARE'!$R57,\"\")","v":""},null,"",{"$f":"IF(AND($B356=\"AZIONE_2\",$R356=6),'3 - SPECIE DA IMPIANTARE'!$R57,\"\")","v":""}]
[4,"","",{"$f":"IF(AND($B357=\"AZIONE_2\",C357=1),'3 - SPECIE DA IMPIANTARE'!$R58,\"\")","v":""},null,"",{"$f":"IF(AND($B357=\"AZIONE_2\",F357=2),'3 - SPECIE DA IMPIANTARE'!$R58,\"\")","v":""},null,"",{"$f":"IF(AND($B357=\"AZIONE_2\",$I357=3),'3 - SPECIE DA IMPIANTARE'!$R58,\"\")","v":""},null,"",{"$f":"IF(AND($B357=\"AZIONE_2\",$L357=4),'3 - SPECIE DA IMPIANTARE'!$R58,\"\")","v":""},null,"",{"$f":"IF(AND($B357=\"AZIONE_2\",$O357=5),'3 - SPECIE DA IMPIANTARE'!$R58,\"\")","v":""},null,"",{"$f":"IF(AND($B357=\"AZIONE_2\",$R357=6),'3 - SPECIE DA IMPIANTARE'!$R58,\"\")","v":""}]
[4,"","",{"$f":"IF(AND($B358=\"AZIONE_2\",C358=1),'3 - SPECIE DA IMPIANTARE'!$R59,\"\")","v":""},null,"",{"$f":"IF(AND($B358=\"AZIONE_2\",F358=2),'3 - SPECIE DA IMPIANTARE'!$R59,\"\")","v":""},null,"",{"$f":"IF(AND($B358=\"AZIONE_2\",$I358=3),'3 - SPECIE DA IMPIANTARE'!$R59,\"\")","v":""},null,"",{"$f":"IF(AND($B358=\"AZIONE_2\",$L358=4),'3 - SPECIE DA IMPIANTARE'!$R59,\"\")","v":""},null,"",{"$f":"IF(AND($B358=\"AZIONE_2\",$O358=5),'3 - SPECIE DA IMPIANTARE'!$R59,\"\")","v":""},null,"",{"$f":"IF(AND($B358=\"AZIONE_2\",$R358=6),'3 - SPECIE DA IMPIANTARE'!$R59,\"\")","v":""}]
[4,{"$f":"B259","v":""},"",{"$f":"IF(AND($B359=\"AZIONE_2\",C359=1),'3 - SPECIE DA IMPIANTARE'!$R60,\"\")","v":""},null,{"$f":"F259","v":""},{"$f":"IF(AND($B359=\"AZIONE_2\",F359=2),'3 - SPECIE DA IMPIANTARE'!$R60,\"\")","v":""},null,{"$f":"I259","v":""},{"$f":"IF(AND($B359=\"AZIONE_2\",$I359=3),'3 - SPECIE DA IMPIANTARE'!$R60,\"\")","v":""},null,{"$f":"L259","v":""},{"$f":"IF(AND($B359=\"AZIONE_2\",$L359=4),'3 - SPECIE DA IMPIANTARE'!$R60,\"\")","v":""},null,{"$f":"O259","v":""},{"$f":"IF(AND($B359=\"AZIONE_2\",$O359=5),'3 - SPECIE DA IMPIANTARE'!$R60,\"\")","v":""},null,{"$f":"R259","v":""},{"$f":"IF(AND($B359=\"AZIONE_2\",$R359=6),'3 - SPECIE DA IMPIANTARE'!$R60,\"\")","v":""}]
[4,"","",{"$f":"IF(AND($B360=\"AZIONE_2\",C360=1),'3 - SPECIE DA IMPIANTARE'!$R61,\"\")","v":""},null,"",{"$f":"IF(AND($B360=\"AZIONE_2\",F360=2),'3 - SPECIE DA IMPIANTARE'!$R61,\"\")","v":""},null,"",{"$f":"IF(AND($B360=\"AZIONE_2\",$I360=3),'3 - SPECIE DA IMPIANTARE'!$R61,\"\")","v":""},null,"",{"$f":"IF(AND($B360=\"AZIONE_2\",$L360=4),'3 - SPECIE DA IMPIANTARE'!$R61,\"\")","v":""},null,"",{"$f":"IF(AND($B360=\"AZIONE_2\",$O360=5),'3 - SPECIE DA IMPIANTARE'!$R61,\"\")","v":""},null,"",{"$f":"IF(AND($B360=\"AZIONE_2\",$R360=6),'3 - SPECIE DA IMPIANTARE'!$R61,\"\")","v":""}]
[4,"","",{"$f":"IF(AND($B361=\"AZIONE_2\",C361=1),'3 - SPECIE DA IMPIANTARE'!$R62,\"\")","v":""},null,"",{"$f":"IF(AND($B361=\"AZIONE_2\",F361=2),'3 - SPECIE DA IMPIANTARE'!$R62,\"\")","v":""},null,"",{"$f":"IF(AND($B361=\"AZIONE_2\",$I361=3),'3 - SPECIE DA IMPIANTARE'!$R62,\"\")","v":""},null,"",{"$f":"IF(AND($B361=\"AZIONE_2\",$L361=4),'3 - SPECIE DA IMPIANTARE'!$R62,\"\")","v":""},null,"",{"$f":"IF(AND($B361=\"AZIONE_2\",$O361=5),'3 - SPECIE DA IMPIANTARE'!$R62,\"\")","v":""},null,"",{"$f":"IF(AND($B361=\"AZIONE_2\",$R361=6),'3 - SPECIE DA IMPIANTARE'!$R62,\"\")","v":""}]
[4,"","",{"$f":"IF(AND($B362=\"AZIONE_2\",C362=1),'3 - SPECIE DA IMPIANTARE'!$R63,\"\")","v":""},null,"",{"$f":"IF(AND($B362=\"AZIONE_2\",F362=2),'3 - SPECIE DA IMPIANTARE'!$R63,\"\")","v":""},null,"",{"$f":"IF(AND($B362=\"AZIONE_2\",$I362=3),'3 - SPECIE DA IMPIANTARE'!$R63,\"\")","v":""},null,"",{"$f":"IF(AND($B362=\"AZIONE_2\",$L362=4),'3 - SPECIE DA IMPIANTARE'!$R63,\"\")","v":""},null,"",{"$f":"IF(AND($B362=\"AZIONE_2\",$O362=5),'3 - SPECIE DA IMPIANTARE'!$R63,\"\")","v":""},null,"",{"$f":"IF(AND($B362=\"AZIONE_2\",$R362=6),'3 - SPECIE DA IMPIANTARE'!$R63,\"\")","v":""}]
[4,"","",{"$f":"IF(AND($B363=\"AZIONE_2\",C363=1),'3 - SPECIE DA IMPIANTARE'!$R64,\"\")","v":""},null,"",{"$f":"IF(AND($B363=\"AZIONE_2\",F363=2),'3 - SPECIE DA IMPIANTARE'!$R64,\"\")","v":""},null,"",{"$f":"IF(AND($B363=\"AZIONE_2\",$I363=3),'3 - SPECIE DA IMPIANTARE'!$R64,\"\")","v":""},null,"",{"$f":"IF(AND($B363=\"AZIONE_2\",$L363=4),'3 - SPECIE DA IMPIANTARE'!$R64,\"\")","v":""},null,"",{"$f":"IF(AND($B363=\"AZIONE_2\",$O363=5),'3 - SPECIE DA IMPIANTARE'!$R64,\"\")","v":""},null,"",{"$f":"IF(AND($B363=\"AZIONE_2\",$R363=6),'3 - SPECIE DA IMPIANTARE'!$R64,\"\")","v":""}]
[4,"","",{"$f":"IF(AND($B364=\"AZIONE_2\",C364=1),'3 - SPECIE DA IMPIANTARE'!$R65,\"\")","v":""},null,"",{"$f":"IF(AND($B364=\"AZIONE_2\",F364=2),'3 - SPECIE DA IMPIANTARE'!$R65,\"\")","v":""},null,"",{"$f":"IF(AND($B364=\"AZIONE_2\",$I364=3),'3 - SPECIE DA IMPIANTARE'!$R65,\"\")","v":""},null,"",{"$f":"IF(AND($B364=\"AZIONE_2\",$L364=4),'3 - SPECIE DA IMPIANTARE'!$R65,\"\")","v":""},null,"",{"$f":"IF(AND($B364=\"AZIONE_2\",$O364=5),'3 - SPECIE DA IMPIANTARE'!$R65,\"\")","v":""},null,"",{"$f":"IF(AND($B364=\"AZIONE_2\",$R364=6),'3 - SPECIE DA IMPIANTARE'!$R65,\"\")","v":""}]
[4,"","",{"$f":"IF(AND($B365=\"AZIONE_2\",C365=1),'3 - SPECIE DA IMPIANTARE'!$R66,\"\")","v":""},null,"",{"$f":"IF(AND($B365=\"AZIONE_2\",F365=2),'3 - SPECIE DA IMPIANTARE'!$R66,\"\")","v":""},null,"",{"$f":"IF(AND($B365=\"AZIONE_2\",$I365=3),'3 - SPECIE DA IMPIANTARE'!$R66,\"\")","v":""},null,"",{"$f":"IF(AND($B365=\"AZIONE_2\",$L365=4),'3 - SPECIE DA IMPIANTARE'!$R66,\"\")","v":""},null,"",{"$f":"IF(AND($B365=\"AZIONE_2\",$O365=5),'3 - SPECIE DA IMPIANTARE'!$R66,\"\")","v":""},null,"",{"$f":"IF(AND($B365=\"AZIONE_2\",$R365=6),'3 - SPECIE DA IMPIANTARE'!$R66,\"\")","v":""}]
[4,"","",{"$f":"IF(AND($B366=\"AZIONE_2\",C366=1),'3 - SPECIE DA IMPIANTARE'!$R67,\"\")","v":""},null,"",{"$f":"IF(AND($B366=\"AZIONE_2\",F366=2),'3 - SPECIE DA IMPIANTARE'!$R67,\"\")","v":""},null,"",{"$f":"IF(AND($B366=\"AZIONE_2\",$I366=3),'3 - SPECIE DA IMPIANTARE'!$R67,\"\")","v":""},null,"",{"$f":"IF(AND($B366=\"AZIONE_2\",$L366=4),'3 - SPECIE DA IMPIANTARE'!$R67,\"\")","v":""},null,"",{"$f":"IF(AND($B366=\"AZIONE_2\",$O366=5),'3 - SPECIE DA IMPIANTARE'!$R67,\"\")","v":""},null,"",{"$f":"IF(AND($B366=\"AZIONE_2\",$R366=6),'3 - SPECIE DA IMPIANTARE'!$R67,\"\")","v":""}]
[4,"","",{"$f":"IF(AND($B367=\"AZIONE_2\",C367=1),'3 - SPECIE DA IMPIANTARE'!$R68,\"\")","v":""},null,"",{"$f":"IF(AND($B367=\"AZIONE_2\",F367=2),'3 - SPECIE DA IMPIANTARE'!$R68,\"\")","v":""},null,"",{"$f":"IF(AND($B367=\"AZIONE_2\",$I367=3),'3 - SPECIE DA IMPIANTARE'!$R68,\"\")","v":""},null,"",{"$f":"IF(AND($B367=\"AZIONE_2\",$L367=4),'3 - SPECIE DA IMPIANTARE'!$R68,\"\")","v":""},null,"",{"$f":"IF(AND($B367=\"AZIONE_2\",$O367=5),'3 - SPECIE DA IMPIANTARE'!$R68,\"\")","v":""},null,"",{"$f":"IF(AND($B367=\"AZIONE_2\",$R367=6),'3 - SPECIE DA IMPIANTARE'!$R68,\"\")","v":""}]
[4,"","",{"$f":"IF(AND($B368=\"AZIONE_2\",C368=1),'3 - SPECIE DA IMPIANTARE'!$R69,\"\")","v":""},null,"",{"$f":"IF(AND($B368=\"AZIONE_2\",F368=2),'3 - SPECIE DA IMPIANTARE'!$R69,\"\")","v":""},null,"",{"$f":"IF(AND($B368=\"AZIONE_2\",$I368=3),'3 - SPECIE DA IMPIANTARE'!$R69,\"\")","v":""},null,"",{"$f":"IF(AND($B368=\"AZIONE_2\",$L368=4),'3 - SPECIE DA IMPIANTARE'!$R69,\"\")","v":""},null,"",{"$f":"IF(AND($B368=\"AZIONE_2\",$O368=5),'3 - SPECIE DA IMPIANTARE'!$R69,\"\")","v":""},null,"",{"$f":"IF(AND($B368=\"AZIONE_2\",$R368=6),'3 - SPECIE DA IMPIANTARE'!$R69,\"\")","v":""}]
[4,"","",{"$f":"IF(AND($B369=\"AZIONE_2\",C369=1),'3 - SPECIE DA IMPIANTARE'!$R70,\"\")","v":""},null,"",{"$f":"IF(AND($B369=\"AZIONE_2\",F369=2),'3 - SPECIE DA IMPIANTARE'!$R70,\"\")","v":""},null,"",{"$f":"IF(AND($B369=\"AZIONE_2\",$I369=3),'3 - SPECIE DA IMPIANTARE'!$R70,\"\")","v":""},null,"",{"$f":"IF(AND($B369=\"AZIONE_2\",$L369=4),'3 - SPECIE DA IMPIANTARE'!$R70,\"\")","v":""},null,"",{"$f":"IF(AND($B369=\"AZIONE_2\",$O369=5),'3 - SPECIE DA IMPIANTARE'!$R70,\"\")","v":""},null,"",{"$f":"IF(AND($B369=\"AZIONE_2\",$R369=6),'3 - SPECIE DA IMPIANTARE'!$R70,\"\")","v":""}]
[4,"","",{"$f":"IF(AND($B370=\"AZIONE_2\",C370=1),'3 - SPECIE DA IMPIANTARE'!$R71,\"\")","v":""},null,"",{"$f":"IF(AND($B370=\"AZIONE_2\",F370=2),'3 - SPECIE DA IMPIANTARE'!$R71,\"\")","v":""},null,"",{"$f":"IF(AND($B370=\"AZIONE_2\",$I370=3),'3 - SPECIE DA IMPIANTARE'!$R71,\"\")","v":""},null,"",{"$f":"IF(AND($B370=\"AZIONE_2\",$L370=4),'3 - SPECIE DA IMPIANTARE'!$R71,\"\")","v":""},null,"",{"$f":"IF(AND($B370=\"AZIONE_2\",$O370=5),'3 - SPECIE DA IMPIANTARE'!$R71,\"\")","v":""},null,"",{"$f":"IF(AND($B370=\"AZIONE_2\",$R370=6),'3 - SPECIE DA IMPIANTARE'!$R71,\"\")","v":""}]
[4,"","",{"$f":"IF(AND($B371=\"AZIONE_2\",C371=1),'3 - SPECIE DA IMPIANTARE'!$R72,\"\")","v":""},null,"",{"$f":"IF(AND($B371=\"AZIONE_2\",F371=2),'3 - SPECIE DA IMPIANTARE'!$R72,\"\")","v":""},null,"",{"$f":"IF(AND($B371=\"AZIONE_2\",$I371=3),'3 - SPECIE DA IMPIANTARE'!$R72,\"\")","v":""},null,"",{"$f":"IF(AND($B371=\"AZIONE_2\",$L371=4),'3 - SPECIE DA IMPIANTARE'!$R72,\"\")","v":""},null,"",{"$f":"IF(AND($B371=\"AZIONE_2\",$O371=5),'3 - SPECIE DA IMPIANTARE'!$R72,\"\")","v":""},null,"",{"$f":"IF(AND($B371=\"AZIONE_2\",$R371=6),'3 - SPECIE DA IMPIANTARE'!$R72,\"\")","v":""}]
[4,"","",{"$f":"IF(AND($B372=\"AZIONE_2\",C372=1),'3 - SPECIE DA IMPIANTARE'!$R73,\"\")","v":""},null,"",{"$f":"IF(AND($B372=\"AZIONE_2\",F372=2),'3 - SPECIE DA IMPIANTARE'!$R73,\"\")","v":""},null,"",{"$f":"IF(AND($B372=\"AZIONE_2\",$I372=3),'3 - SPECIE DA IMPIANTARE'!$R73,\"\")","v":""},null,"",{"$f":"IF(AND($B372=\"AZIONE_2\",$L372=4),'3 - SPECIE DA IMPIANTARE'!$R73,\"\")","v":""},null,"",{"$f":"IF(AND($B372=\"AZIONE_2\",$O372=5),'3 - SPECIE DA IMPIANTARE'!$R73,\"\")","v":""},null,"",{"$f":"IF(AND($B372=\"AZIONE_2\",$R372=6),'3 - SPECIE DA IMPIANTARE'!$R73,\"\")","v":""}]
[4,"","",{"$f":"IF(AND($B373=\"AZIONE_2\",C373=1),'3 - SPECIE DA IMPIANTARE'!$R74,\"\")","v":""},null,"",{"$f":"IF(AND($B373=\"AZIONE_2\",F373=2),'3 - SPECIE DA IMPIANTARE'!$R74,\"\")","v":""},null,"",{"$f":"IF(AND($B373=\"AZIONE_2\",$I373=3),'3 - SPECIE DA IMPIANTARE'!$R74,\"\")","v":""},null,"",{"$f":"IF(AND($B373=\"AZIONE_2\",$L373=4),'3 - SPECIE DA IMPIANTARE'!$R74,\"\")","v":""},null,"",{"$f":"IF(AND($B373=\"AZIONE_2\",$O373=5),'3 - SPECIE DA IMPIANTARE'!$R74,\"\")","v":""},null,"",{"$f":"IF(AND($B373=\"AZIONE_2\",$R373=6),'3 - SPECIE DA IMPIANTARE'!$R74,\"\")","v":""}]
[4,"","",{"$f":"IF(AND($B374=\"AZIONE_2\",C374=1),'3 - SPECIE DA IMPIANTARE'!$R75,\"\")","v":""},null,"",{"$f":"IF(AND($B374=\"AZIONE_2\",F374=2),'3 - SPECIE DA IMPIANTARE'!$R75,\"\")","v":""},null,"",{"$f":"IF(AND($B374=\"AZIONE_2\",$I374=3),'3 - SPECIE DA IMPIANTARE'!$R75,\"\")","v":""},null,"",{"$f":"IF(AND($B374=\"AZIONE_2\",$L374=4),'3 - SPECIE DA IMPIANTARE'!$R75,\"\")","v":""},null,"",{"$f":"IF(AND($B374=\"AZIONE_2\",$O374=5),'3 - SPECIE DA IMPIANTARE'!$R75,\"\")","v":""},null,"",{"$f":"IF(AND($B374=\"AZIONE_2\",$R374=6),'3 - SPECIE DA IMPIANTARE'!$R75,\"\")","v":""}]
[4,{"$f":"B275","v":""},"",{"$f":"IF(AND($B375=\"AZIONE_2\",C375=1),'3 - SPECIE DA IMPIANTARE'!$R76,\"\")","v":""},null,"",{"$f":"IF(AND($B375=\"AZIONE_2\",F375=2),'3 - SPECIE DA IMPIANTARE'!$R76,\"\")","v":""},null,"",{"$f":"IF(AND($B375=\"AZIONE_2\",$I375=3),'3 - SPECIE DA IMPIANTARE'!$R76,\"\")","v":""},null,"",{"$f":"IF(AND($B375=\"AZIONE_2\",$L375=4),'3 - SPECIE DA IMPIANTARE'!$R76,\"\")","v":""},null,"",{"$f":"IF(AND($B375=\"AZIONE_2\",$O375=5),'3 - SPECIE DA IMPIANTARE'!$R76,\"\")","v":""},null,"",{"$f":"IF(AND($B375=\"AZIONE_2\",$R375=6),'3 - SPECIE DA IMPIANTARE'!$R76,\"\")","v":""}]
[4,"","",{"$f":"IF(AND($B376=\"AZIONE_2\",C376=1),'3 - SPECIE DA IMPIANTARE'!$R77,\"\")","v":""},null,"",{"$f":"IF(AND($B376=\"AZIONE_2\",F376=2),'3 - SPECIE DA IMPIANTARE'!$R77,\"\")","v":""},null,"",{"$f":"IF(AND($B376=\"AZIONE_2\",$I376=3),'3 - SPECIE DA IMPIANTARE'!$R77,\"\")","v":""},null,"",{"$f":"IF(AND($B376=\"AZIONE_2\",$L376=4),'3 - SPECIE DA IMPIANTARE'!$R77,\"\")","v":""},null,"",{"$f":"IF(AND($B376=\"AZIONE_2\",$O376=5),'3 - SPECIE DA IMPIANTARE'!$R77,\"\")","v":""},null,"",{"$f":"IF(AND($B376=\"AZIONE_2\",$R376=6),'3 - SPECIE DA IMPIANTARE'!$R77,\"\")","v":""}]
[4,"","",{"$f":"IF(AND($B377=\"AZIONE_2\",C377=1),'3 - SPECIE DA IMPIANTARE'!$R78,\"\")","v":""},null,"",{"$f":"IF(AND($B377=\"AZIONE_2\",F377=2),'3 - SPECIE DA IMPIANTARE'!$R78,\"\")","v":""},null,"",{"$f":"IF(AND($B377=\"AZIONE_2\",$I377=3),'3 - SPECIE DA IMPIANTARE'!$R78,\"\")","v":""},null,"",{"$f":"IF(AND($B377=\"AZIONE_2\",$L377=4),'3 - SPECIE DA IMPIANTARE'!$R78,\"\")","v":""},null,"",{"$f":"IF(AND($B377=\"AZIONE_2\",$O377=5),'3 - SPECIE DA IMPIANTARE'!$R78,\"\")","v":""},null,"",{"$f":"IF(AND($B377=\"AZIONE_2\",$R377=6),'3 - SPECIE DA IMPIANTARE'!$R78,\"\")","v":""}]
[4,"","",{"$f":"IF(AND($B378=\"AZIONE_2\",C378=1),'3 - SPECIE DA IMPIANTARE'!$R79,\"\")","v":""},null,"",{"$f":"IF(AND($B378=\"AZIONE_2\",F378=2),'3 - SPECIE DA IMPIANTARE'!$R79,\"\")","v":""},null,"",{"$f":"IF(AND($B378=\"AZIONE_2\",$I378=3),'3 - SPECIE DA IMPIANTARE'!$R79,\"\")","v":""},null,"",{"$f":"IF(AND($B378=\"AZIONE_2\",$L378=4),'3 - SPECIE DA IMPIANTARE'!$R79,\"\")","v":""},null,"",{"$f":"IF(AND($B378=\"AZIONE_2\",$O378=5),'3 - SPECIE DA IMPIANTARE'!$R79,\"\")","v":""},null,"",{"$f":"IF(AND($B378=\"AZIONE_2\",$R378=6),'3 - SPECIE DA IMPIANTARE'!$R79,\"\")","v":""}]
[4,"","",{"$f":"IF(AND($B379=\"AZIONE_2\",C379=1),'3 - SPECIE DA IMPIANTARE'!$R80,\"\")","v":""},null,"",{"$f":"IF(AND($B379=\"AZIONE_2\",F379=2),'3 - SPECIE DA IMPIANTARE'!$R80,\"\")","v":""},null,"",{"$f":"IF(AND($B379=\"AZIONE_2\",$I379=3),'3 - SPECIE DA IMPIANTARE'!$R80,\"\")","v":""},null,"",{"$f":"IF(AND($B379=\"AZIONE_2\",$L379=4),'3 - SPECIE DA IMPIANTARE'!$R80,\"\")","v":""},null,"",{"$f":"IF(AND($B379=\"AZIONE_2\",$O379=5),'3 - SPECIE DA IMPIANTARE'!$R80,\"\")","v":""},null,"",{"$f":"IF(AND($B379=\"AZIONE_2\",$R379=6),'3 - SPECIE DA IMPIANTARE'!$R80,\"\")","v":""}]
[4,"","",{"$f":"IF(AND($B380=\"AZIONE_2\",C380=1),'3 - SPECIE DA IMPIANTARE'!$R81,\"\")","v":""},null,"",{"$f":"IF(AND($B380=\"AZIONE_2\",F380=2),'3 - SPECIE DA IMPIANTARE'!$R81,\"\")","v":""},null,"",{"$f":"IF(AND($B380=\"AZIONE_2\",$I380=3),'3 - SPECIE DA IMPIANTARE'!$R81,\"\")","v":""},null,"",{"$f":"IF(AND($B380=\"AZIONE_2\",$L380=4),'3 - SPECIE DA IMPIANTARE'!$R81,\"\")","v":""},null,"",{"$f":"IF(AND($B380=\"AZIONE_2\",$O380=5),'3 - SPECIE DA IMPIANTARE'!$R81,\"\")","v":""},null,"",{"$f":"IF(AND($B380=\"AZIONE_2\",$R380=6),'3 - SPECIE DA IMPIANTARE'!$R81,\"\")","v":""}]
[4,"","",{"$f":"IF(AND($B381=\"AZIONE_2\",C381=1),'3 - SPECIE DA IMPIANTARE'!$R82,\"\")","v":""},null,"",{"$f":"IF(AND($B381=\"AZIONE_2\",F381=2),'3 - SPECIE DA IMPIANTARE'!$R82,\"\")","v":""},null,"",{"$f":"IF(AND($B381=\"AZIONE_2\",$I381=3),'3 - SPECIE DA IMPIANTARE'!$R82,\"\")","v":""},null,"",{"$f":"IF(AND($B381=\"AZIONE_2\",$L381=4),'3 - SPECIE DA IMPIANTARE'!$R82,\"\")","v":""},null,"",{"$f":"IF(AND($B381=\"AZIONE_2\",$O381=5),'3 - SPECIE DA IMPIANTARE'!$R82,\"\")","v":""},null,"",{"$f":"IF(AND($B381=\"AZIONE_2\",$R381=6),'3 - SPECIE DA IMPIANTARE'!$R82,\"\")","v":""}]
[4,"","",{"$f":"IF(AND($B382=\"AZIONE_2\",C382=1),'3 - SPECIE DA IMPIANTARE'!$R83,\"\")","v":""},null,"",{"$f":"IF(AND($B382=\"AZIONE_2\",F382=2),'3 - SPECIE DA IMPIANTARE'!$R83,\"\")","v":""},null,"",{"$f":"IF(AND($B382=\"AZIONE_2\",$I382=3),'3 - SPECIE DA IMPIANTARE'!$R83,\"\")","v":""},null,"",{"$f":"IF(AND($B382=\"AZIONE_2\",$L382=4),'3 - SPECIE DA IMPIANTARE'!$R83,\"\")","v":""},null,"",{"$f":"IF(AND($B382=\"AZIONE_2\",$O382=5),'3 - SPECIE DA IMPIANTARE'!$R83,\"\")","v":""},null,"",{"$f":"IF(AND($B382=\"AZIONE_2\",$R382=6),'3 - SPECIE DA IMPIANTARE'!$R83,\"\")","v":""}]
[4,"","",{"$f":"IF(AND($B383=\"AZIONE_2\",C383=1),'3 - SPECIE DA IMPIANTARE'!$R84,\"\")","v":""},null,"",{"$f":"IF(AND($B383=\"AZIONE_2\",F383=2),'3 - SPECIE DA IMPIANTARE'!$R84,\"\")","v":""},null,"",{"$f":"IF(AND($B383=\"AZIONE_2\",$I383=3),'3 - SPECIE DA IMPIANTARE'!$R84,\"\")","v":""},null,"",{"$f":"IF(AND($B383=\"AZIONE_2\",$L383=4),'3 - SPECIE DA IMPIANTARE'!$R84,\"\")","v":""},null,"",{"$f":"IF(AND($B383=\"AZIONE_2\",$O383=5),'3 - SPECIE DA IMPIANTARE'!$R84,\"\")","v":""},null,"",{"$f":"IF(AND($B383=\"AZIONE_2\",$R383=6),'3 - SPECIE DA IMPIANTARE'!$R84,\"\")","v":""}]
[4,"","",{"$f":"IF(AND($B384=\"AZIONE_2\",C384=1),'3 - SPECIE DA IMPIANTARE'!$R85,\"\")","v":""},null,"",{"$f":"IF(AND($B384=\"AZIONE_2\",F384=2),'3 - SPECIE DA IMPIANTARE'!$R85,\"\")","v":""},null,"",{"$f":"IF(AND($B384=\"AZIONE_2\",$I384=3),'3 - SPECIE DA IMPIANTARE'!$R85,\"\")","v":""},null,"",{"$f":"IF(AND($B384=\"AZIONE_2\",$L384=4),'3 - SPECIE DA IMPIANTARE'!$R85,\"\")","v":""},null,"",{"$f":"IF(AND($B384=\"AZIONE_2\",$O384=5),'3 - SPECIE DA IMPIANTARE'!$R85,\"\")","v":""},null,"",{"$f":"IF(AND($B384=\"AZIONE_2\",$R384=6),'3 - SPECIE DA IMPIANTARE'!$R85,\"\")","v":""}]
[4,"","",{"$f":"IF(AND($B385=\"AZIONE_2\",C385=1),'3 - SPECIE DA IMPIANTARE'!$R86,\"\")","v":""},null,"",{"$f":"IF(AND($B385=\"AZIONE_2\",F385=2),'3 - SPECIE DA IMPIANTARE'!$R86,\"\")","v":""},null,"",{"$f":"IF(AND($B385=\"AZIONE_2\",$I385=3),'3 - SPECIE DA IMPIANTARE'!$R86,\"\")","v":""},null,"",{"$f":"IF(AND($B385=\"AZIONE_2\",$L385=4),'3 - SPECIE DA IMPIANTARE'!$R86,\"\")","v":""},null,"",{"$f":"IF(AND($B385=\"AZIONE_2\",$O385=5),'3 - SPECIE DA IMPIANTARE'!$R86,\"\")","v":""},null,"",{"$f":"IF(AND($B385=\"AZIONE_2\",$R385=6),'3 - SPECIE DA IMPIANTARE'!$R86,\"\")","v":""}]
[4,"","",{"$f":"IF(AND($B386=\"AZIONE_2\",C386=1),'3 - SPECIE DA IMPIANTARE'!$R87,\"\")","v":""},null,"",{"$f":"IF(AND($B386=\"AZIONE_2\",F386=2),'3 - SPECIE DA IMPIANTARE'!$R87,\"\")","v":""},null,"",{"$f":"IF(AND($B386=\"AZIONE_2\",$I386=3),'3 - SPECIE DA IMPIANTARE'!$R87,\"\")","v":""},null,"",{"$f":"IF(AND($B386=\"AZIONE_2\",$L386=4),'3 - SPECIE DA IMPIANTARE'!$R87,\"\")","v":""},null,"",{"$f":"IF(AND($B386=\"AZIONE_2\",$O386=5),'3 - SPECIE DA IMPIANTARE'!$R87,\"\")","v":""},null,"",{"$f":"IF(AND($B386=\"AZIONE_2\",$R386=6),'3 - SPECIE DA IMPIANTARE'!$R87,\"\")","v":""}]
[4,"","",{"$f":"IF(AND($B387=\"AZIONE_2\",C387=1),'3 - SPECIE DA IMPIANTARE'!$R88,\"\")","v":""},null,"",{"$f":"IF(AND($B387=\"AZIONE_2\",F387=2),'3 - SPECIE DA IMPIANTARE'!$R88,\"\")","v":""},null,"",{"$f":"IF(AND($B387=\"AZIONE_2\",$I387=3),'3 - SPECIE DA IMPIANTARE'!$R88,\"\")","v":""},null,"",{"$f":"IF(AND($B387=\"AZIONE_2\",$L387=4),'3 - SPECIE DA IMPIANTARE'!$R88,\"\")","v":""},null,"",{"$f":"IF(AND($B387=\"AZIONE_2\",$O387=5),'3 - SPECIE DA IMPIANTARE'!$R88,\"\")","v":""},null,"",{"$f":"IF(AND($B387=\"AZIONE_2\",$R387=6),'3 - SPECIE DA IMPIANTARE'!$R88,\"\")","v":""}]
[4,"","",{"$f":"IF(AND($B388=\"AZIONE_2\",C388=1),'3 - SPECIE DA IMPIANTARE'!$R89,\"\")","v":""},null,"",{"$f":"IF(AND($B388=\"AZIONE_2\",F388=2),'3 - SPECIE DA IMPIANTARE'!$R89,\"\")","v":""},null,"",{"$f":"IF(AND($B388=\"AZIONE_2\",$I388=3),'3 - SPECIE DA IMPIANTARE'!$R89,\"\")","v":""},null,"",{"$f":"IF(AND($B388=\"AZIONE_2\",$L388=4),'3 - SPECIE DA IMPIANTARE'!$R89,\"\")","v":""},null,"",{"$f":"IF(AND($B388=\"AZIONE_2\",$O388=5),'3 - SPECIE DA IMPIANTARE'!$R89,\"\")","v":""},null,"",{"$f":"IF(AND($B388=\"AZIONE_2\",$R388=6),'3 - SPECIE DA IMPIANTARE'!$R89,\"\")","v":""}]
[4,"","",{"$f":"IF(AND($B389=\"AZIONE_2\",C389=1),'3 - SPECIE DA IMPIANTARE'!$R90,\"\")","v":""},null,"",{"$f":"IF(AND($B389=\"AZIONE_2\",F389=2),'3 - SPECIE DA IMPIANTARE'!$R90,\"\")","v":""},null,"",{"$f":"IF(AND($B389=\"AZIONE_2\",$I389=3),'3 - SPECIE DA IMPIANTARE'!$R90,\"\")","v":""},null,"",{"$f":"IF(AND($B389=\"AZIONE_2\",$L389=4),'3 - SPECIE DA IMPIANTARE'!$R90,\"\")","v":""},null,"",{"$f":"IF(AND($B389=\"AZIONE_2\",$O389=5),'3 - SPECIE DA IMPIANTARE'!$R90,\"\")","v":""},null,"",{"$f":"IF(AND($B389=\"AZIONE_2\",$R389=6),'3 - SPECIE DA IMPIANTARE'!$R90,\"\")","v":""}]
[4,"","",{"$f":"IF(AND($B390=\"AZIONE_2\",C390=1),'3 - SPECIE DA IMPIANTARE'!$R91,\"\")","v":""},null,"",{"$f":"IF(AND($B390=\"AZIONE_2\",F390=2),'3 - SPECIE DA IMPIANTARE'!$R91,\"\")","v":""},null,"",{"$f":"IF(AND($B390=\"AZIONE_2\",$I390=3),'3 - SPECIE DA IMPIANTARE'!$R91,\"\")","v":""},null,"",{"$f":"IF(AND($B390=\"AZIONE_2\",$L390=4),'3 - SPECIE DA IMPIANTARE'!$R91,\"\")","v":""},null,"",{"$f":"IF(AND($B390=\"AZIONE_2\",$O390=5),'3 - SPECIE DA IMPIANTARE'!$R91,\"\")","v":""},null,"",{"$f":"IF(AND($B390=\"AZIONE_2\",$R390=6),'3 - SPECIE DA IMPIANTARE'!$R91,\"\")","v":""}]
[4,{"$f":"B291","v":""},"",{"$f":"IF(AND($B391=\"AZIONE_2\",C391=1),'3 - SPECIE DA IMPIANTARE'!$R92,\"\")","v":""},null,"",{"$f":"IF(AND($B391=\"AZIONE_2\",F391=2),'3 - SPECIE DA IMPIANTARE'!$R92,\"\")","v":""},null,"",{"$f":"IF(AND($B391=\"AZIONE_2\",$I391=3),'3 - SPECIE DA IMPIANTARE'!$R92,\"\")","v":""},null,"",{"$f":"IF(AND($B391=\"AZIONE_2\",$L391=4),'3 - SPECIE DA IMPIANTARE'!$R92,\"\")","v":""},null,"",{"$f":"IF(AND($B391=\"AZIONE_2\",$O391=5),'3 - SPECIE DA IMPIANTARE'!$R92,\"\")","v":""},null,"",{"$f":"IF(AND($B391=\"AZIONE_2\",$R391=6),'3 - SPECIE DA IMPIANTARE'!$R92,\"\")","v":""}]
[4,"","",{"$f":"IF(AND($B392=\"AZIONE_2\",C392=1),'3 - SPECIE DA IMPIANTARE'!$R93,\"\")","v":""},null,"",{"$f":"IF(AND($B392=\"AZIONE_2\",F392=2),'3 - SPECIE DA IMPIANTARE'!$R93,\"\")","v":""},null,"",{"$f":"IF(AND($B392=\"AZIONE_2\",$I392=3),'3 - SPECIE DA IMPIANTARE'!$R93,\"\")","v":""},null,"",{"$f":"IF(AND($B392=\"AZIONE_2\",$L392=4),'3 - SPECIE DA IMPIANTARE'!$R93,\"\")","v":""},null,"",{"$f":"IF(AND($B392=\"AZIONE_2\",$O392=5),'3 - SPECIE DA IMPIANTARE'!$R93,\"\")","v":""},null,"",{"$f":"IF(AND($B392=\"AZIONE_2\",$R392=6),'3 - SPECIE DA IMPIANTARE'!$R93,\"\")","v":""}]
[4,"","",{"$f":"IF(AND($B393=\"AZIONE_2\",C393=1),'3 - SPECIE DA IMPIANTARE'!$R94,\"\")","v":""},null,"",{"$f":"IF(AND($B393=\"AZIONE_2\",F393=2),'3 - SPECIE DA IMPIANTARE'!$R94,\"\")","v":""},null,"",{"$f":"IF(AND($B393=\"AZIONE_2\",$I393=3),'3 - SPECIE DA IMPIANTARE'!$R94,\"\")","v":""},null,"",{"$f":"IF(AND($B393=\"AZIONE_2\",$L393=4),'3 - SPECIE DA IMPIANTARE'!$R94,\"\")","v":""},null,"",{"$f":"IF(AND($B393=\"AZIONE_2\",$O393=5),'3 - SPECIE DA IMPIANTARE'!$R94,\"\")","v":""},null,"",{"$f":"IF(AND($B393=\"AZIONE_2\",$R393=6),'3 - SPECIE DA IMPIANTARE'!$R94,\"\")","v":""}]
[4,"","",{"$f":"IF(AND($B394=\"AZIONE_2\",C394=1),'3 - SPECIE DA IMPIANTARE'!$R95,\"\")","v":""},null,"",{"$f":"IF(AND($B394=\"AZIONE_2\",F394=2),'3 - SPECIE DA IMPIANTARE'!$R95,\"\")","v":""},null,"",{"$f":"IF(AND($B394=\"AZIONE_2\",$I394=3),'3 - SPECIE DA IMPIANTARE'!$R95,\"\")","v":""},null,"",{"$f":"IF(AND($B394=\"AZIONE_2\",$L394=4),'3 - SPECIE DA IMPIANTARE'!$R95,\"\")","v":""},null,"",{"$f":"IF(AND($B394=\"AZIONE_2\",$O394=5),'3 - SPECIE DA IMPIANTARE'!$R95,\"\")","v":""},null,"",{"$f":"IF(AND($B394=\"AZIONE_2\",$R394=6),'3 - SPECIE DA IMPIANTARE'!$R95,\"\")","v":""}]
[4,"","",{"$f":"IF(AND($B395=\"AZIONE_2\",C395=1),'3 - SPECIE DA IMPIANTARE'!$R96,\"\")","v":""},null,"",{"$f":"IF(AND($B395=\"AZIONE_2\",F395=2),'3 - SPECIE DA IMPIANTARE'!$R96,\"\")","v":""},null,"",{"$f":"IF(AND($B395=\"AZIONE_2\",$I395=3),'3 - SPECIE DA IMPIANTARE'!$R96,\"\")","v":""},null,"",{"$f":"IF(AND($B395=\"AZIONE_2\",$L395=4),'3 - SPECIE DA IMPIANTARE'!$R96,\"\")","v":""},null,"",{"$f":"IF(AND($B395=\"AZIONE_2\",$O395=5),'3 - SPECIE DA IMPIANTARE'!$R96,\"\")","v":""},null,"",{"$f":"IF(AND($B395=\"AZIONE_2\",$R395=6),'3 - SPECIE DA IMPIANTARE'!$R96,\"\")","v":""}]
[4,"","",{"$f":"IF(AND($B396=\"AZIONE_2\",C396=1),'3 - SPECIE DA IMPIANTARE'!$R97,\"\")","v":""},null,"",{"$f":"IF(AND($B396=\"AZIONE_2\",F396=2),'3 - SPECIE DA IMPIANTARE'!$R97,\"\")","v":""},null,"",{"$f":"IF(AND($B396=\"AZIONE_2\",$I396=3),'3 - SPECIE DA IMPIANTARE'!$R97,\"\")","v":""},null,"",{"$f":"IF(AND($B396=\"AZIONE_2\",$L396=4),'3 - SPECIE DA IMPIANTARE'!$R97,\"\")","v":""},null,"",{"$f":"IF(AND($B396=\"AZIONE_2\",$O396=5),'3 - SPECIE DA IMPIANTARE'!$R97,\"\")","v":""},null,"",{"$f":"IF(AND($B396=\"AZIONE_2\",$R396=6),'3 - SPECIE DA IMPIANTARE'!$R97,\"\")","v":""}]
[4,"","",{"$f":"IF(AND($B397=\"AZIONE_2\",C397=1),'3 - SPECIE DA IMPIANTARE'!$R98,\"\")","v":""},null,"",{"$f":"IF(AND($B397=\"AZIONE_2\",F397=2),'3 - SPECIE DA IMPIANTARE'!$R98,\"\")","v":""},null,"",{"$f":"IF(AND($B397=\"AZIONE_2\",$I397=3),'3 - SPECIE DA IMPIANTARE'!$R98,\"\")","v":""},null,"",{"$f":"IF(AND($B397=\"AZIONE_2\",$L397=4),'3 - SPECIE DA IMPIANTARE'!$R98,\"\")","v":""},null,"",{"$f":"IF(AND($B397=\"AZIONE_2\",$O397=5),'3 - SPECIE DA IMPIANTARE'!$R98,\"\")","v":""},null,"",{"$f":"IF(AND($B397=\"AZIONE_2\",$R397=6),'3 - SPECIE DA IMPIANTARE'!$R98,\"\")","v":""}]
[4,"","",{"$f":"IF(AND($B398=\"AZIONE_2\",C398=1),'3 - SPECIE DA IMPIANTARE'!$R99,\"\")","v":""},null,"",{"$f":"IF(AND($B398=\"AZIONE_2\",F398=2),'3 - SPECIE DA IMPIANTARE'!$R99,\"\")","v":""},null,"",{"$f":"IF(AND($B398=\"AZIONE_2\",$I398=3),'3 - SPECIE DA IMPIANTARE'!$R99,\"\")","v":""},null,"",{"$f":"IF(AND($B398=\"AZIONE_2\",$L398=4),'3 - SPECIE DA IMPIANTARE'!$R99,\"\")","v":""},null,"",{"$f":"IF(AND($B398=\"AZIONE_2\",$O398=5),'3 - SPECIE DA IMPIANTARE'!$R99,\"\")","v":""},null,"",{"$f":"IF(AND($B398=\"AZIONE_2\",$R398=6),'3 - SPECIE DA IMPIANTARE'!$R99,\"\")","v":""}]
[4,"","",{"$f":"IF(AND($B399=\"AZIONE_2\",C399=1),'3 - SPECIE DA IMPIANTARE'!$R100,\"\")","v":""},null,"",{"$f":"IF(AND($B399=\"AZIONE_2\",F399=2),'3 - SPECIE DA IMPIANTARE'!$R100,\"\")","v":""},null,"",{"$f":"IF(AND($B399=\"AZIONE_2\",$I399=3),'3 - SPECIE DA IMPIANTARE'!$R100,\"\")","v":""},null,"",{"$f":"IF(AND($B399=\"AZIONE_2\",$L399=4),'3 - SPECIE DA IMPIANTARE'!$R100,\"\")","v":""},null,"",{"$f":"IF(AND($B399=\"AZIONE_2\",$O399=5),'3 - SPECIE DA IMPIANTARE'!$R100,\"\")","v":""},null,"",{"$f":"IF(AND($B399=\"AZIONE_2\",$R399=6),'3 - SPECIE DA IMPIANTARE'!$R100,\"\")","v":""}]
[4,"","",{"$f":"IF(AND($B400=\"AZIONE_2\",C400=1),'3 - SPECIE DA IMPIANTARE'!$R101,\"\")","v":""},null,"",{"$f":"IF(AND($B400=\"AZIONE_2\",F400=2),'3 - SPECIE DA IMPIANTARE'!$R101,\"\")","v":""},null,"",{"$f":"IF(AND($B400=\"AZIONE_2\",$I400=3),'3 - SPECIE DA IMPIANTARE'!$R101,\"\")","v":""},null,"",{"$f":"IF(AND($B400=\"AZIONE_2\",$L400=4),'3 - SPECIE DA IMPIANTARE'!$R101,\"\")","v":""},null,"",{"$f":"IF(AND($B400=\"AZIONE_2\",$O400=5),'3 - SPECIE DA IMPIANTARE'!$R101,\"\")","v":""},null,"",{"$f":"IF(AND($B400=\"AZIONE_2\",$R400=6),'3 - SPECIE DA IMPIANTARE'!$R101,\"\")","v":""}]
[4,"","",{"$f":"IF(AND($B401=\"AZIONE_2\",C401=1),'3 - SPECIE DA IMPIANTARE'!$R102,\"\")","v":""},null,"",{"$f":"IF(AND($B401=\"AZIONE_2\",F401=2),'3 - SPECIE DA IMPIANTARE'!$R102,\"\")","v":""},null,"",{"$f":"IF(AND($B401=\"AZIONE_2\",$I401=3),'3 - SPECIE DA IMPIANTARE'!$R102,\"\")","v":""},null,"",{"$f":"IF(AND($B401=\"AZIONE_2\",$L401=4),'3 - SPECIE DA IMPIANTARE'!$R102,\"\")","v":""},null,"",{"$f":"IF(AND($B401=\"AZIONE_2\",$O401=5),'3 - SPECIE DA IMPIANTARE'!$R102,\"\")","v":""},null,"",{"$f":"IF(AND($B401=\"AZIONE_2\",$R401=6),'3 - SPECIE DA IMPIANTARE'!$R102,\"\")","v":""}]
[5,"","",{"$f":"IF(AND($B402=\"AZIONE_2\",C402=1),'3 - SPECIE DA IMPIANTARE'!$U3,\"\")","v":""},null,"",{"$f":"IF(AND($B402=\"AZIONE_2\",F402=2),'3 - SPECIE DA IMPIANTARE'!$U3,\"\")","v":""},null,"",{"$f":"IF(AND($B402=\"AZIONE_2\",$I402=3),'3 - SPECIE DA IMPIANTARE'!$U3,\"\")","v":""},null,"",{"$f":"IF(AND($B402=\"AZIONE_2\",$L402=4),'3 - SPECIE DA IMPIANTARE'!$U3,\"\")","v":""},null,"",{"$f":"IF(AND($B402=\"AZIONE_2\",$O402=5),'3 - SPECIE DA IMPIANTARE'!$U3,\"\")","v":""},null,"",{"$f":"IF(AND($B402=\"AZIONE_2\",$R402=6),'3 - SPECIE DA IMPIANTARE'!$U3,\"\")","v":""}]
[5,"","",{"$f":"IF(AND($B403=\"AZIONE_2\",C403=1),'3 - SPECIE DA IMPIANTARE'!$U4,\"\")","v":""},null,"",{"$f":"IF(AND($B403=\"AZIONE_2\",F403=2),'3 - SPECIE DA IMPIANTARE'!$U4,\"\")","v":""},null,"",{"$f":"IF(AND($B403=\"AZIONE_2\",$I403=3),'3 - SPECIE DA IMPIANTARE'!$U4,\"\")","v":""},null,"",{"$f":"IF(AND($B403=\"AZIONE_2\",$L403=4),'3 - SPECIE DA IMPIANTARE'!$U4,\"\")","v":""},null,"",{"$f":"IF(AND($B403=\"AZIONE_2\",$O403=5),'3 - SPECIE DA IMPIANTARE'!$U4,\"\")","v":""},null,"",{"$f":"IF(AND($B403=\"AZIONE_2\",$R403=6),'3 - SPECIE DA IMPIANTARE'!$U4,\"\")","v":""}]
[5,"","",{"$f":"IF(AND($B404=\"AZIONE_2\",C404=1),'3 - SPECIE DA IMPIANTARE'!$U5,\"\")","v":""},null,"",{"$f":"IF(AND($B404=\"AZIONE_2\",F404=2),'3 - SPECIE DA IMPIANTARE'!$U5,\"\")","v":""},null,"",{"$f":"IF(AND($B404=\"AZIONE_2\",$I404=3),'3 - SPECIE DA IMPIANTARE'!$U5,\"\")","v":""},null,"",{"$f":"IF(AND($B404=\"AZIONE_2\",$L404=4),'3 - SPECIE DA IMPIANTARE'!$U5,\"\")","v":""},null,"",{"$f":"IF(AND($B404=\"AZIONE_2\",$O404=5),'3 - SPECIE DA IMPIANTARE'!$U5,\"\")","v":""},null,"",{"$f":"IF(AND($B404=\"AZIONE_2\",$R404=6),'3 - SPECIE DA IMPIANTARE'!$U5,\"\")","v":""}]
[5,"","",{"$f":"IF(AND($B405=\"AZIONE_2\",C405=1),'3 - SPECIE DA IMPIANTARE'!$U6,\"\")","v":""},null,"",{"$f":"IF(AND($B405=\"AZIONE_2\",F405=2),'3 - SPECIE DA IMPIANTARE'!$U6,\"\")","v":""},null,"",{"$f":"IF(AND($B405=\"AZIONE_2\",$I405=3),'3 - SPECIE DA IMPIANTARE'!$U6,\"\")","v":""},null,"",{"$f":"IF(AND($B405=\"AZIONE_2\",$L405=4),'3 - SPECIE DA IMPIANTARE'!$U6,\"\")","v":""},null,"",{"$f":"IF(AND($B405=\"AZIONE_2\",$O405=5),'3 - SPECIE DA IMPIANTARE'!$U6,\"\")","v":""},null,"",{"$f":"IF(AND($B405=\"AZIONE_2\",$R405=6),'3 - SPECIE DA IMPIANTARE'!$U6,\"\")","v":""}]
[5,"","",{"$f":"IF(AND($B406=\"AZIONE_2\",C406=1),'3 - SPECIE DA IMPIANTARE'!$U7,\"\")","v":""},null,"",{"$f":"IF(AND($B406=\"AZIONE_2\",F406=2),'3 - SPECIE DA IMPIANTARE'!$U7,\"\")","v":""},null,"",{"$f":"IF(AND($B406=\"AZIONE_2\",$I406=3),'3 - SPECIE DA IMPIANTARE'!$U7,\"\")","v":""},null,"",{"$f":"IF(AND($B406=\"AZIONE_2\",$L406=4),'3 - SPECIE DA IMPIANTARE'!$U7,\"\")","v":""},null,"",{"$f":"IF(AND($B406=\"AZIONE_2\",$O406=5),'3 - SPECIE DA IMPIANTARE'!$U7,\"\")","v":""},null,"",{"$f":"IF(AND($B406=\"AZIONE_2\",$R406=6),'3 - SPECIE DA IMPIANTARE'!$U7,\"\")","v":""}]
[5,{"$f":"B307","v":""},"",{"$f":"IF(AND($B407=\"AZIONE_2\",C407=1),'3 - SPECIE DA IMPIANTARE'!$U8,\"\")","v":""},null,"",{"$f":"IF(AND($B407=\"AZIONE_2\",F407=2),'3 - SPECIE DA IMPIANTARE'!$U8,\"\")","v":""},null,"",{"$f":"IF(AND($B407=\"AZIONE_2\",$I407=3),'3 - SPECIE DA IMPIANTARE'!$U8,\"\")","v":""},null,"",{"$f":"IF(AND($B407=\"AZIONE_2\",$L407=4),'3 - SPECIE DA IMPIANTARE'!$U8,\"\")","v":""},null,"",{"$f":"IF(AND($B407=\"AZIONE_2\",$O407=5),'3 - SPECIE DA IMPIANTARE'!$U8,\"\")","v":""},null,"",{"$f":"IF(AND($B407=\"AZIONE_2\",$R407=6),'3 - SPECIE DA IMPIANTARE'!$U8,\"\")","v":""}]
[5,"","",{"$f":"IF(AND($B408=\"AZIONE_2\",C408=1),'3 - SPECIE DA IMPIANTARE'!$U9,\"\")","v":""},null,"",{"$f":"IF(AND($B408=\"AZIONE_2\",F408=2),'3 - SPECIE DA IMPIANTARE'!$U9,\"\")","v":""},null,"",{"$f":"IF(AND($B408=\"AZIONE_2\",$I408=3),'3 - SPECIE DA IMPIANTARE'!$U9,\"\")","v":""},null,"",{"$f":"IF(AND($B408=\"AZIONE_2\",$L408=4),'3 - SPECIE DA IMPIANTARE'!$U9,\"\")","v":""},null,"",{"$f":"IF(AND($B408=\"AZIONE_2\",$O408=5),'3 - SPECIE DA IMPIANTARE'!$U9,\"\")","v":""},null,"",{"$f":"IF(AND($B408=\"AZIONE_2\",$R408=6),'3 - SPECIE DA IMPIANTARE'!$U9,\"\")","v":""}]
[5,"","",{"$f":"IF(AND($B409=\"AZIONE_2\",C409=1),'3 - SPECIE DA IMPIANTARE'!$U10,\"\")","v":""},null,"",{"$f":"IF(AND($B409=\"AZIONE_2\",F409=2),'3 - SPECIE DA IMPIANTARE'!$U10,\"\")","v":""},null,"",{"$f":"IF(AND($B409=\"AZIONE_2\",$I409=3),'3 - SPECIE DA IMPIANTARE'!$U10,\"\")","v":""},null,"",{"$f":"IF(AND($B409=\"AZIONE_2\",$L409=4),'3 - SPECIE DA IMPIANTARE'!$U10,\"\")","v":""},null,"",{"$f":"IF(AND($B409=\"AZIONE_2\",$O409=5),'3 - SPECIE DA IMPIANTARE'!$U10,\"\")","v":""},null,"",{"$f":"IF(AND($B409=\"AZIONE_2\",$R409=6),'3 - SPECIE DA IMPIANTARE'!$U10,\"\")","v":""}]
[5,"","",{"$f":"IF(AND($B410=\"AZIONE_2\",C410=1),'3 - SPECIE DA IMPIANTARE'!$U11,\"\")","v":""},null,"",{"$f":"IF(AND($B410=\"AZIONE_2\",F410=2),'3 - SPECIE DA IMPIANTARE'!$U11,\"\")","v":""},null,"",{"$f":"IF(AND($B410=\"AZIONE_2\",$I410=3),'3 - SPECIE DA IMPIANTARE'!$U11,\"\")","v":""},null,"",{"$f":"IF(AND($B410=\"AZIONE_2\",$L410=4),'3 - SPECIE DA IMPIANTARE'!$U11,\"\")","v":""},null,"",{"$f":"IF(AND($B410=\"AZIONE_2\",$O410=5),'3 - SPECIE DA IMPIANTARE'!$U11,\"\")","v":""},null,"",{"$f":"IF(AND($B410=\"AZIONE_2\",$R410=6),'3 - SPECIE DA IMPIANTARE'!$U11,\"\")","v":""}]
[5,"","",{"$f":"IF(AND($B411=\"AZIONE_2\",C411=1),'3 - SPECIE DA IMPIANTARE'!$U12,\"\")","v":""},null,"",{"$f":"IF(AND($B411=\"AZIONE_2\",F411=2),'3 - SPECIE DA IMPIANTARE'!$U12,\"\")","v":""},null,"",{"$f":"IF(AND($B411=\"AZIONE_2\",$I411=3),'3 - SPECIE DA IMPIANTARE'!$U12,\"\")","v":""},null,"",{"$f":"IF(AND($B411=\"AZIONE_2\",$L411=4),'3 - SPECIE DA IMPIANTARE'!$U12,\"\")","v":""},null,"",{"$f":"IF(AND($B411=\"AZIONE_2\",$O411=5),'3 - SPECIE DA IMPIANTARE'!$U12,\"\")","v":""},null,"",{"$f":"IF(AND($B411=\"AZIONE_2\",$R411=6),'3 - SPECIE DA IMPIANTARE'!$U12,\"\")","v":""}]
[5,"","",{"$f":"IF(AND($B412=\"AZIONE_2\",C412=1),'3 - SPECIE DA IMPIANTARE'!$U13,\"\")","v":""},null,"",{"$f":"IF(AND($B412=\"AZIONE_2\",F412=2),'3 - SPECIE DA IMPIANTARE'!$U13,\"\")","v":""},null,"",{"$f":"IF(AND($B412=\"AZIONE_2\",$I412=3),'3 - SPECIE DA IMPIANTARE'!$U13,\"\")","v":""},null,"",{"$f":"IF(AND($B412=\"AZIONE_2\",$L412=4),'3 - SPECIE DA IMPIANTARE'!$U13,\"\")","v":""},null,"",{"$f":"IF(AND($B412=\"AZIONE_2\",$O412=5),'3 - SPECIE DA IMPIANTARE'!$U13,\"\")","v":""},null,"",{"$f":"IF(AND($B412=\"AZIONE_2\",$R412=6),'3 - SPECIE DA IMPIANTARE'!$U13,\"\")","v":""}]
[5,"","",{"$f":"IF(AND($B413=\"AZIONE_2\",C413=1),'3 - SPECIE DA IMPIANTARE'!$U14,\"\")","v":""},null,"",{"$f":"IF(AND($B413=\"AZIONE_2\",F413=2),'3 - SPECIE DA IMPIANTARE'!$U14,\"\")","v":""},null,"",{"$f":"IF(AND($B413=\"AZIONE_2\",$I413=3),'3 - SPECIE DA IMPIANTARE'!$U14,\"\")","v":""},null,"",{"$f":"IF(AND($B413=\"AZIONE_2\",$L413=4),'3 - SPECIE DA IMPIANTARE'!$U14,\"\")","v":""},null,"",{"$f":"IF(AND($B413=\"AZIONE_2\",$O413=5),'3 - SPECIE DA IMPIANTARE'!$U14,\"\")","v":""},null,"",{"$f":"IF(AND($B413=\"AZIONE_2\",$R413=6),'3 - SPECIE DA IMPIANTARE'!$U14,\"\")","v":""}]
[5,"","",{"$f":"IF(AND($B414=\"AZIONE_2\",C414=1),'3 - SPECIE DA IMPIANTARE'!$U15,\"\")","v":""},null,"",{"$f":"IF(AND($B414=\"AZIONE_2\",F414=2),'3 - SPECIE DA IMPIANTARE'!$U15,\"\")","v":""},null,"",{"$f":"IF(AND($B414=\"AZIONE_2\",$I414=3),'3 - SPECIE DA IMPIANTARE'!$U15,\"\")","v":""},null,"",{"$f":"IF(AND($B414=\"AZIONE_2\",$L414=4),'3 - SPECIE DA IMPIANTARE'!$U15,\"\")","v":""},null,"",{"$f":"IF(AND($B414=\"AZIONE_2\",$O414=5),'3 - SPECIE DA IMPIANTARE'!$U15,\"\")","v":""},null,"",{"$f":"IF(AND($B414=\"AZIONE_2\",$R414=6),'3 - SPECIE DA IMPIANTARE'!$U15,\"\")","v":""}]
[5,"","",{"$f":"IF(AND($B415=\"AZIONE_2\",C415=1),'3 - SPECIE DA IMPIANTARE'!$U16,\"\")","v":""},null,"",{"$f":"IF(AND($B415=\"AZIONE_2\",F415=2),'3 - SPECIE DA IMPIANTARE'!$U16,\"\")","v":""},null,"",{"$f":"IF(AND($B415=\"AZIONE_2\",$I415=3),'3 - SPECIE DA IMPIANTARE'!$U16,\"\")","v":""},null,"",{"$f":"IF(AND($B415=\"AZIONE_2\",$L415=4),'3 - SPECIE DA IMPIANTARE'!$U16,\"\")","v":""},null,"",{"$f":"IF(AND($B415=\"AZIONE_2\",$O415=5),'3 - SPECIE DA IMPIANTARE'!$U16,\"\")","v":""},null,"",{"$f":"IF(AND($B415=\"AZIONE_2\",$R415=6),'3 - SPECIE DA IMPIANTARE'!$U16,\"\")","v":""}]
[5,"","",{"$f":"IF(AND($B416=\"AZIONE_2\",C416=1),'3 - SPECIE DA IMPIANTARE'!$U17,\"\")","v":""},null,"",{"$f":"IF(AND($B416=\"AZIONE_2\",F416=2),'3 - SPECIE DA IMPIANTARE'!$U17,\"\")","v":""},null,"",{"$f":"IF(AND($B416=\"AZIONE_2\",$I416=3),'3 - SPECIE DA IMPIANTARE'!$U17,\"\")","v":""},null,"",{"$f":"IF(AND($B416=\"AZIONE_2\",$L416=4),'3 - SPECIE DA IMPIANTARE'!$U17,\"\")","v":""},null,"",{"$f":"IF(AND($B416=\"AZIONE_2\",$O416=5),'3 - SPECIE DA IMPIANTARE'!$U17,\"\")","v":""},null,"",{"$f":"IF(AND($B416=\"AZIONE_2\",$R416=6),'3 - SPECIE DA IMPIANTARE'!$U17,\"\")","v":""}]
[5,"","",{"$f":"IF(AND($B417=\"AZIONE_2\",C417=1),'3 - SPECIE DA IMPIANTARE'!$U18,\"\")","v":""},null,"",{"$f":"IF(AND($B417=\"AZIONE_2\",F417=2),'3 - SPECIE DA IMPIANTARE'!$U18,\"\")","v":""},null,"",{"$f":"IF(AND($B417=\"AZIONE_2\",$I417=3),'3 - SPECIE DA IMPIANTARE'!$U18,\"\")","v":""},null,"",{"$f":"IF(AND($B417=\"AZIONE_2\",$L417=4),'3 - SPECIE DA IMPIANTARE'!$U18,\"\")","v":""},null,"",{"$f":"IF(AND($B417=\"AZIONE_2\",$O417=5),'3 - SPECIE DA IMPIANTARE'!$U18,\"\")","v":""},null,"",{"$f":"IF(AND($B417=\"AZIONE_2\",$R417=6),'3 - SPECIE DA IMPIANTARE'!$U18,\"\")","v":""}]
[5,"","",{"$f":"IF(AND($B418=\"AZIONE_2\",C418=1),'3 - SPECIE DA IMPIANTARE'!$U19,\"\")","v":""},null,"",{"$f":"IF(AND($B418=\"AZIONE_2\",F418=2),'3 - SPECIE DA IMPIANTARE'!$U19,\"\")","v":""},null,"",{"$f":"IF(AND($B418=\"AZIONE_2\",$I418=3),'3 - SPECIE DA IMPIANTARE'!$U19,\"\")","v":""},null,"",{"$f":"IF(AND($B418=\"AZIONE_2\",$L418=4),'3 - SPECIE DA IMPIANTARE'!$U19,\"\")","v":""},null,"",{"$f":"IF(AND($B418=\"AZIONE_2\",$O418=5),'3 - SPECIE DA IMPIANTARE'!$U19,\"\")","v":""},null,"",{"$f":"IF(AND($B418=\"AZIONE_2\",$R418=6),'3 - SPECIE DA IMPIANTARE'!$U19,\"\")","v":""}]
[5,"","",{"$f":"IF(AND($B419=\"AZIONE_2\",C419=1),'3 - SPECIE DA IMPIANTARE'!$U20,\"\")","v":""},null,"",{"$f":"IF(AND($B419=\"AZIONE_2\",F419=2),'3 - SPECIE DA IMPIANTARE'!$U20,\"\")","v":""},null,"",{"$f":"IF(AND($B419=\"AZIONE_2\",$I419=3),'3 - SPECIE DA IMPIANTARE'!$U20,\"\")","v":""},null,"",{"$f":"IF(AND($B419=\"AZIONE_2\",$L419=4),'3 - SPECIE DA IMPIANTARE'!$U20,\"\")","v":""},null,"",{"$f":"IF(AND($B419=\"AZIONE_2\",$O419=5),'3 - SPECIE DA IMPIANTARE'!$U20,\"\")","v":""},null,"",{"$f":"IF(AND($B419=\"AZIONE_2\",$R419=6),'3 - SPECIE DA IMPIANTARE'!$U20,\"\")","v":""}]
[5,"","",{"$f":"IF(AND($B420=\"AZIONE_2\",C420=1),'3 - SPECIE DA IMPIANTARE'!$U21,\"\")","v":""},null,"",{"$f":"IF(AND($B420=\"AZIONE_2\",F420=2),'3 - SPECIE DA IMPIANTARE'!$U21,\"\")","v":""},null,"",{"$f":"IF(AND($B420=\"AZIONE_2\",$I420=3),'3 - SPECIE DA IMPIANTARE'!$U21,\"\")","v":""},null,"",{"$f":"IF(AND($B420=\"AZIONE_2\",$L420=4),'3 - SPECIE DA IMPIANTARE'!$U21,\"\")","v":""},null,"",{"$f":"IF(AND($B420=\"AZIONE_2\",$O420=5),'3 - SPECIE DA IMPIANTARE'!$U21,\"\")","v":""},null,"",{"$f":"IF(AND($B420=\"AZIONE_2\",$R420=6),'3 - SPECIE DA IMPIANTARE'!$U21,\"\")","v":""}]
[5,"","",{"$f":"IF(AND($B421=\"AZIONE_2\",C421=1),'3 - SPECIE DA IMPIANTARE'!$U22,\"\")","v":""},null,"",{"$f":"IF(AND($B421=\"AZIONE_2\",F421=2),'3 - SPECIE DA IMPIANTARE'!$U22,\"\")","v":""},null,"",{"$f":"IF(AND($B421=\"AZIONE_2\",$I421=3),'3 - SPECIE DA IMPIANTARE'!$U22,\"\")","v":""},null,"",{"$f":"IF(AND($B421=\"AZIONE_2\",$L421=4),'3 - SPECIE DA IMPIANTARE'!$U22,\"\")","v":""},null,"",{"$f":"IF(AND($B421=\"AZIONE_2\",$O421=5),'3 - SPECIE DA IMPIANTARE'!$U22,\"\")","v":""},null,"",{"$f":"IF(AND($B421=\"AZIONE_2\",$R421=6),'3 - SPECIE DA IMPIANTARE'!$U22,\"\")","v":""}]
[5,"","",{"$f":"IF(AND($B422=\"AZIONE_2\",C422=1),'3 - SPECIE DA IMPIANTARE'!$U23,\"\")","v":""},null,"",{"$f":"IF(AND($B422=\"AZIONE_2\",F422=2),'3 - SPECIE DA IMPIANTARE'!$U23,\"\")","v":""},null,"",{"$f":"IF(AND($B422=\"AZIONE_2\",$I422=3),'3 - SPECIE DA IMPIANTARE'!$U23,\"\")","v":""},null,"",{"$f":"IF(AND($B422=\"AZIONE_2\",$L422=4),'3 - SPECIE DA IMPIANTARE'!$U23,\"\")","v":""},null,"",{"$f":"IF(AND($B422=\"AZIONE_2\",$O422=5),'3 - SPECIE DA IMPIANTARE'!$U23,\"\")","v":""},null,"",{"$f":"IF(AND($B422=\"AZIONE_2\",$R422=6),'3 - SPECIE DA IMPIANTARE'!$U23,\"\")","v":""}]
[5,{"$f":"B323","v":""},"",{"$f":"IF(AND($B423=\"AZIONE_2\",C423=1),'3 - SPECIE DA IMPIANTARE'!$U24,\"\")","v":""},null,{"$f":"F323","v":""},{"$f":"IF(AND($B423=\"AZIONE_2\",F423=2),'3 - SPECIE DA IMPIANTARE'!$U24,\"\")","v":""},null,{"$f":"I323","v":""},{"$f":"IF(AND($B423=\"AZIONE_2\",$I423=3),'3 - SPECIE DA IMPIANTARE'!$U24,\"\")","v":""},null,{"$f":"L323","v":""},{"$f":"IF(AND($B423=\"AZIONE_2\",$L423=4),'3 - SPECIE DA IMPIANTARE'!$U24,\"\")","v":""},null,{"$f":"O323","v":""},{"$f":"IF(AND($B423=\"AZIONE_2\",$O423=5),'3 - SPECIE DA IMPIANTARE'!$U24,\"\")","v":""},null,{"$f":"R323","v":""},{"$f":"IF(AND($B423=\"AZIONE_2\",$R423=6),'3 - SPECIE DA IMPIANTARE'!$U24,\"\")","v":""}]
[5,"","",{"$f":"IF(AND($B424=\"AZIONE_2\",C424=1),'3 - SPECIE DA IMPIANTARE'!$U25,\"\")","v":""},null,"",{"$f":"IF(AND($B424=\"AZIONE_2\",F424=2),'3 - SPECIE DA IMPIANTARE'!$U25,\"\")","v":""},null,"",{"$f":"IF(AND($B424=\"AZIONE_2\",$I424=3),'3 - SPECIE DA IMPIANTARE'!$U25,\"\")","v":""},null,"",{"$f":"IF(AND($B424=\"AZIONE_2\",$L424=4),'3 - SPECIE DA IMPIANTARE'!$U25,\"\")","v":""},null,"",{"$f":"IF(AND($B424=\"AZIONE_2\",$O424=5),'3 - SPECIE DA IMPIANTARE'!$U25,\"\")","v":""},null,"",{"$f":"IF(AND($B424=\"AZIONE_2\",$R424=6),'3 - SPECIE DA IMPIANTARE'!$U25,\"\")","v":""}]
[5,"","",{"$f":"IF(AND($B425=\"AZIONE_2\",C425=1),'3 - SPECIE DA IMPIANTARE'!$U26,\"\")","v":""},null,"",{"$f":"IF(AND($B425=\"AZIONE_2\",F425=2),'3 - SPECIE DA IMPIANTARE'!$U26,\"\")","v":""},null,"",{"$f":"IF(AND($B425=\"AZIONE_2\",$I425=3),'3 - SPECIE DA IMPIANTARE'!$U26,\"\")","v":""},null,"",{"$f":"IF(AND($B425=\"AZIONE_2\",$L425=4),'3 - SPECIE DA IMPIANTARE'!$U26,\"\")","v":""},null,"",{"$f":"IF(AND($B425=\"AZIONE_2\",$O425=5),'3 - SPECIE DA IMPIANTARE'!$U26,\"\")","v":""},null,"",{"$f":"IF(AND($B425=\"AZIONE_2\",$R425=6),'3 - SPECIE DA IMPIANTARE'!$U26,\"\")","v":""}]
[5,"","",{"$f":"IF(AND($B426=\"AZIONE_2\",C426=1),'3 - SPECIE DA IMPIANTARE'!$U27,\"\")","v":""},null,"",{"$f":"IF(AND($B426=\"AZIONE_2\",F426=2),'3 - SPECIE DA IMPIANTARE'!$U27,\"\")","v":""},null,"",{"$f":"IF(AND($B426=\"AZIONE_2\",$I426=3),'3 - SPECIE DA IMPIANTARE'!$U27,\"\")","v":""},null,"",{"$f":"IF(AND($B426=\"AZIONE_2\",$L426=4),'3 - SPECIE DA IMPIANTARE'!$U27,\"\")","v":""},null,"",{"$f":"IF(AND($B426=\"AZIONE_2\",$O426=5),'3 - SPECIE DA IMPIANTARE'!$U27,\"\")","v":""},null,"",{"$f":"IF(AND($B426=\"AZIONE_2\",$R426=6),'3 - SPECIE DA IMPIANTARE'!$U27,\"\")","v":""}]
[5,"","",{"$f":"IF(AND($B427=\"AZIONE_2\",C427=1),'3 - SPECIE DA IMPIANTARE'!$U28,\"\")","v":""},null,"",{"$f":"IF(AND($B427=\"AZIONE_2\",F427=2),'3 - SPECIE DA IMPIANTARE'!$U28,\"\")","v":""},null,"",{"$f":"IF(AND($B427=\"AZIONE_2\",$I427=3),'3 - SPECIE DA IMPIANTARE'!$U28,\"\")","v":""},null,"",{"$f":"IF(AND($B427=\"AZIONE_2\",$L427=4),'3 - SPECIE DA IMPIANTARE'!$U28,\"\")","v":""},null,"",{"$f":"IF(AND($B427=\"AZIONE_2\",$O427=5),'3 - SPECIE DA IMPIANTARE'!$U28,\"\")","v":""},null,"",{"$f":"IF(AND($B427=\"AZIONE_2\",$R427=6),'3 - SPECIE DA IMPIANTARE'!$U28,\"\")","v":""}]
[5,"","",{"$f":"IF(AND($B428=\"AZIONE_2\",C428=1),'3 - SPECIE DA IMPIANTARE'!$U29,\"\")","v":""},null,"",{"$f":"IF(AND($B428=\"AZIONE_2\",F428=2),'3 - SPECIE DA IMPIANTARE'!$U29,\"\")","v":""},null,"",{"$f":"IF(AND($B428=\"AZIONE_2\",$I428=3),'3 - SPECIE DA IMPIANTARE'!$U29,\"\")","v":""},null,"",{"$f":"IF(AND($B428=\"AZIONE_2\",$L428=4),'3 - SPECIE DA IMPIANTARE'!$U29,\"\")","v":""},null,"",{"$f":"IF(AND($B428=\"AZIONE_2\",$O428=5),'3 - SPECIE DA IMPIANTARE'!$U29,\"\")","v":""},null,"",{"$f":"IF(AND($B428=\"AZIONE_2\",$R428=6),'3 - SPECIE DA IMPIANTARE'!$U29,\"\")","v":""}]
[5,"","",{"$f":"IF(AND($B429=\"AZIONE_2\",C429=1),'3 - SPECIE DA IMPIANTARE'!$U30,\"\")","v":""},null,"",{"$f":"IF(AND($B429=\"AZIONE_2\",F429=2),'3 - SPECIE DA IMPIANTARE'!$U30,\"\")","v":""},null,"",{"$f":"IF(AND($B429=\"AZIONE_2\",$I429=3),'3 - SPECIE DA IMPIANTARE'!$U30,\"\")","v":""},null,"",{"$f":"IF(AND($B429=\"AZIONE_2\",$L429=4),'3 - SPECIE DA IMPIANTARE'!$U30,\"\")","v":""},null,"",{"$f":"IF(AND($B429=\"AZIONE_2\",$O429=5),'3 - SPECIE DA IMPIANTARE'!$U30,\"\")","v":""},null,"",{"$f":"IF(AND($B429=\"AZIONE_2\",$R429=6),'3 - SPECIE DA IMPIANTARE'!$U30,\"\")","v":""}]
[5,"","",{"$f":"IF(AND($B430=\"AZIONE_2\",C430=1),'3 - SPECIE DA IMPIANTARE'!$U31,\"\")","v":""},null,"",{"$f":"IF(AND($B430=\"AZIONE_2\",F430=2),'3 - SPECIE DA IMPIANTARE'!$U31,\"\")","v":""},null,"",{"$f":"IF(AND($B430=\"AZIONE_2\",$I430=3),'3 - SPECIE DA IMPIANTARE'!$U31,\"\")","v":""},null,"",{"$f":"IF(AND($B430=\"AZIONE_2\",$L430=4),'3 - SPECIE DA IMPIANTARE'!$U31,\"\")","v":""},null,"",{"$f":"IF(AND($B430=\"AZIONE_2\",$O430=5),'3 - SPECIE DA IMPIANTARE'!$U31,\"\")","v":""},null,"",{"$f":"IF(AND($B430=\"AZIONE_2\",$R430=6),'3 - SPECIE DA IMPIANTARE'!$U31,\"\")","v":""}]
[5,"","",{"$f":"IF(AND($B431=\"AZIONE_2\",C431=1),'3 - SPECIE DA IMPIANTARE'!$U32,\"\")","v":""},null,"",{"$f":"IF(AND($B431=\"AZIONE_2\",F431=2),'3 - SPECIE DA IMPIANTARE'!$U32,\"\")","v":""},null,"",{"$f":"IF(AND($B431=\"AZIONE_2\",$I431=3),'3 - SPECIE DA IMPIANTARE'!$U32,\"\")","v":""},null,"",{"$f":"IF(AND($B431=\"AZIONE_2\",$L431=4),'3 - SPECIE DA IMPIANTARE'!$U32,\"\")","v":""},null,"",{"$f":"IF(AND($B431=\"AZIONE_2\",$O431=5),'3 - SPECIE DA IMPIANTARE'!$U32,\"\")","v":""},null,"",{"$f":"IF(AND($B431=\"AZIONE_2\",$R431=6),'3 - SPECIE DA IMPIANTARE'!$U32,\"\")","v":""}]
[5,"","",{"$f":"IF(AND($B432=\"AZIONE_2\",C432=1),'3 - SPECIE DA IMPIANTARE'!$U33,\"\")","v":""},null,"",{"$f":"IF(AND($B432=\"AZIONE_2\",F432=2),'3 - SPECIE DA IMPIANTARE'!$U33,\"\")","v":""},null,"",{"$f":"IF(AND($B432=\"AZIONE_2\",$I432=3),'3 - SPECIE DA IMPIANTARE'!$U33,\"\")","v":""},null,"",{"$f":"IF(AND($B432=\"AZIONE_2\",$L432=4),'3 - SPECIE DA IMPIANTARE'!$U33,\"\")","v":""},null,"",{"$f":"IF(AND($B432=\"AZIONE_2\",$O432=5),'3 - SPECIE DA IMPIANTARE'!$U33,\"\")","v":""},null,"",{"$f":"IF(AND($B432=\"AZIONE_2\",$R432=6),'3 - SPECIE DA IMPIANTARE'!$U33,\"\")","v":""}]
[5,"","",{"$f":"IF(AND($B433=\"AZIONE_2\",C433=1),'3 - SPECIE DA IMPIANTARE'!$U34,\"\")","v":""},null,"",{"$f":"IF(AND($B433=\"AZIONE_2\",F433=2),'3 - SPECIE DA IMPIANTARE'!$U34,\"\")","v":""},null,"",{"$f":"IF(AND($B433=\"AZIONE_2\",$I433=3),'3 - SPECIE DA IMPIANTARE'!$U34,\"\")","v":""},null,"",{"$f":"IF(AND($B433=\"AZIONE_2\",$L433=4),'3 - SPECIE DA IMPIANTARE'!$U34,\"\")","v":""},null,"",{"$f":"IF(AND($B433=\"AZIONE_2\",$O433=5),'3 - SPECIE DA IMPIANTARE'!$U34,\"\")","v":""},null,"",{"$f":"IF(AND($B433=\"AZIONE_2\",$R433=6),'3 - SPECIE DA IMPIANTARE'!$U34,\"\")","v":""}]
[5,"","",{"$f":"IF(AND($B434=\"AZIONE_2\",C434=1),'3 - SPECIE DA IMPIANTARE'!$U35,\"\")","v":""},null,"",{"$f":"IF(AND($B434=\"AZIONE_2\",F434=2),'3 - SPECIE DA IMPIANTARE'!$U35,\"\")","v":""},null,"",{"$f":"IF(AND($B434=\"AZIONE_2\",$I434=3),'3 - SPECIE DA IMPIANTARE'!$U35,\"\")","v":""},null,"",{"$f":"IF(AND($B434=\"AZIONE_2\",$L434=4),'3 - SPECIE DA IMPIANTARE'!$U35,\"\")","v":""},null,"",{"$f":"IF(AND($B434=\"AZIONE_2\",$O434=5),'3 - SPECIE DA IMPIANTARE'!$U35,\"\")","v":""},null,"",{"$f":"IF(AND($B434=\"AZIONE_2\",$R434=6),'3 - SPECIE DA IMPIANTARE'!$U35,\"\")","v":""}]
[5,"","",{"$f":"IF(AND($B435=\"AZIONE_2\",C435=1),'3 - SPECIE DA IMPIANTARE'!$U36,\"\")","v":""},null,"",{"$f":"IF(AND($B435=\"AZIONE_2\",F435=2),'3 - SPECIE DA IMPIANTARE'!$U36,\"\")","v":""},null,"",{"$f":"IF(AND($B435=\"AZIONE_2\",$I435=3),'3 - SPECIE DA IMPIANTARE'!$U36,\"\")","v":""},null,"",{"$f":"IF(AND($B435=\"AZIONE_2\",$L435=4),'3 - SPECIE DA IMPIANTARE'!$U36,\"\")","v":""},null,"",{"$f":"IF(AND($B435=\"AZIONE_2\",$O435=5),'3 - SPECIE DA IMPIANTARE'!$U36,\"\")","v":""},null,"",{"$f":"IF(AND($B435=\"AZIONE_2\",$R435=6),'3 - SPECIE DA IMPIANTARE'!$U36,\"\")","v":""}]
[5,"","",{"$f":"IF(AND($B436=\"AZIONE_2\",C436=1),'3 - SPECIE DA IMPIANTARE'!$U37,\"\")","v":""},null,"",{"$f":"IF(AND($B436=\"AZIONE_2\",F436=2),'3 - SPECIE DA IMPIANTARE'!$U37,\"\")","v":""},null,"",{"$f":"IF(AND($B436=\"AZIONE_2\",$I436=3),'3 - SPECIE DA IMPIANTARE'!$U37,\"\")","v":""},null,"",{"$f":"IF(AND($B436=\"AZIONE_2\",$L436=4),'3 - SPECIE DA IMPIANTARE'!$U37,\"\")","v":""},null,"",{"$f":"IF(AND($B436=\"AZIONE_2\",$O436=5),'3 - SPECIE DA IMPIANTARE'!$U37,\"\")","v":""},null,"",{"$f":"IF(AND($B436=\"AZIONE_2\",$R436=6),'3 - SPECIE DA IMPIANTARE'!$U37,\"\")","v":""}]
[5,"","",{"$f":"IF(AND($B437=\"AZIONE_2\",C437=1),'3 - SPECIE DA IMPIANTARE'!$U38,\"\")","v":""},null,"",{"$f":"IF(AND($B437=\"AZIONE_2\",F437=2),'3 - SPECIE DA IMPIANTARE'!$U38,\"\")","v":""},null,"",{"$f":"IF(AND($B437=\"AZIONE_2\",$I437=3),'3 - SPECIE DA IMPIANTARE'!$U38,\"\")","v":""},null,"",{"$f":"IF(AND($B437=\"AZIONE_2\",$L437=4),'3 - SPECIE DA IMPIANTARE'!$U38,\"\")","v":""},null,"",{"$f":"IF(AND($B437=\"AZIONE_2\",$O437=5),'3 - SPECIE DA IMPIANTARE'!$U38,\"\")","v":""},null,"",{"$f":"IF(AND($B437=\"AZIONE_2\",$R437=6),'3 - SPECIE DA IMPIANTARE'!$U38,\"\")","v":""}]
[5,"","",{"$f":"IF(AND($B438=\"AZIONE_2\",C438=1),'3 - SPECIE DA IMPIANTARE'!$U39,\"\")","v":""},null,"",{"$f":"IF(AND($B438=\"AZIONE_2\",F438=2),'3 - SPECIE DA IMPIANTARE'!$U39,\"\")","v":""},null,"",{"$f":"IF(AND($B438=\"AZIONE_2\",$I438=3),'3 - SPECIE DA IMPIANTARE'!$U39,\"\")","v":""},null,"",{"$f":"IF(AND($B438=\"AZIONE_2\",$L438=4),'3 - SPECIE DA IMPIANTARE'!$U39,\"\")","v":""},null,"",{"$f":"IF(AND($B438=\"AZIONE_2\",$O438=5),'3 - SPECIE DA IMPIANTARE'!$U39,\"\")","v":""},null,"",{"$f":"IF(AND($B438=\"AZIONE_2\",$R438=6),'3 - SPECIE DA IMPIANTARE'!$U39,\"\")","v":""}]
[5,{"$f":"B339","v":""},"",{"$f":"IF(AND($B439=\"AZIONE_2\",C439=1),'3 - SPECIE DA IMPIANTARE'!$U40,\"\")","v":""},null,"",{"$f":"IF(AND($B439=\"AZIONE_2\",F439=2),'3 - SPECIE DA IMPIANTARE'!$U40,\"\")","v":""},null,"",{"$f":"IF(AND($B439=\"AZIONE_2\",$I439=3),'3 - SPECIE DA IMPIANTARE'!$U40,\"\")","v":""},null,"",{"$f":"IF(AND($B439=\"AZIONE_2\",$L439=4),'3 - SPECIE DA IMPIANTARE'!$U40,\"\")","v":""},null,"",{"$f":"IF(AND($B439=\"AZIONE_2\",$O439=5),'3 - SPECIE DA IMPIANTARE'!$U40,\"\")","v":""},null,"",{"$f":"IF(AND($B439=\"AZIONE_2\",$R439=6),'3 - SPECIE DA IMPIANTARE'!$U40,\"\")","v":""}]
[5,"","",{"$f":"IF(AND($B440=\"AZIONE_2\",C440=1),'3 - SPECIE DA IMPIANTARE'!$U41,\"\")","v":""},null,"",{"$f":"IF(AND($B440=\"AZIONE_2\",F440=2),'3 - SPECIE DA IMPIANTARE'!$U41,\"\")","v":""},null,"",{"$f":"IF(AND($B440=\"AZIONE_2\",$I440=3),'3 - SPECIE DA IMPIANTARE'!$U41,\"\")","v":""},null,"",{"$f":"IF(AND($B440=\"AZIONE_2\",$L440=4),'3 - SPECIE DA IMPIANTARE'!$U41,\"\")","v":""},null,"",{"$f":"IF(AND($B440=\"AZIONE_2\",$O440=5),'3 - SPECIE DA IMPIANTARE'!$U41,\"\")","v":""},null,"",{"$f":"IF(AND($B440=\"AZIONE_2\",$R440=6),'3 - SPECIE DA IMPIANTARE'!$U41,\"\")","v":""}]
[5,"","",{"$f":"IF(AND($B441=\"AZIONE_2\",C441=1),'3 - SPECIE DA IMPIANTARE'!$U42,\"\")","v":""},null,"",{"$f":"IF(AND($B441=\"AZIONE_2\",F441=2),'3 - SPECIE DA IMPIANTARE'!$U42,\"\")","v":""},null,"",{"$f":"IF(AND($B441=\"AZIONE_2\",$I441=3),'3 - SPECIE DA IMPIANTARE'!$U42,\"\")","v":""},null,"",{"$f":"IF(AND($B441=\"AZIONE_2\",$L441=4),'3 - SPECIE DA IMPIANTARE'!$U42,\"\")","v":""},null,"",{"$f":"IF(AND($B441=\"AZIONE_2\",$O441=5),'3 - SPECIE DA IMPIANTARE'!$U42,\"\")","v":""},null,"",{"$f":"IF(AND($B441=\"AZIONE_2\",$R441=6),'3 - SPECIE DA IMPIANTARE'!$U42,\"\")","v":""}]
[5,"","",{"$f":"IF(AND($B442=\"AZIONE_2\",C442=1),'3 - SPECIE DA IMPIANTARE'!$U43,\"\")","v":""},null,"",{"$f":"IF(AND($B442=\"AZIONE_2\",F442=2),'3 - SPECIE DA IMPIANTARE'!$U43,\"\")","v":""},null,"",{"$f":"IF(AND($B442=\"AZIONE_2\",$I442=3),'3 - SPECIE DA IMPIANTARE'!$U43,\"\")","v":""},null,"",{"$f":"IF(AND($B442=\"AZIONE_2\",$L442=4),'3 - SPECIE DA IMPIANTARE'!$U43,\"\")","v":""},null,"",{"$f":"IF(AND($B442=\"AZIONE_2\",$O442=5),'3 - SPECIE DA IMPIANTARE'!$U43,\"\")","v":""},null,"",{"$f":"IF(AND($B442=\"AZIONE_2\",$R442=6),'3 - SPECIE DA IMPIANTARE'!$U43,\"\")","v":""}]
[5,"","",{"$f":"IF(AND($B443=\"AZIONE_2\",C443=1),'3 - SPECIE DA IMPIANTARE'!$U44,\"\")","v":""},null,"",{"$f":"IF(AND($B443=\"AZIONE_2\",F443=2),'3 - SPECIE DA IMPIANTARE'!$U44,\"\")","v":""},null,"",{"$f":"IF(AND($B443=\"AZIONE_2\",$I443=3),'3 - SPECIE DA IMPIANTARE'!$U44,\"\")","v":""},null,"",{"$f":"IF(AND($B443=\"AZIONE_2\",$L443=4),'3 - SPECIE DA IMPIANTARE'!$U44,\"\")","v":""},null,"",{"$f":"IF(AND($B443=\"AZIONE_2\",$O443=5),'3 - SPECIE DA IMPIANTARE'!$U44,\"\")","v":""},null,"",{"$f":"IF(AND($B443=\"AZIONE_2\",$R443=6),'3 - SPECIE DA IMPIANTARE'!$U44,\"\")","v":""}]
[5,"","",{"$f":"IF(AND($B444=\"AZIONE_2\",C444=1),'3 - SPECIE DA IMPIANTARE'!$U45,\"\")","v":""},null,"",{"$f":"IF(AND($B444=\"AZIONE_2\",F444=2),'3 - SPECIE DA IMPIANTARE'!$U45,\"\")","v":""},null,"",{"$f":"IF(AND($B444=\"AZIONE_2\",$I444=3),'3 - SPECIE DA IMPIANTARE'!$U45,\"\")","v":""},null,"",{"$f":"IF(AND($B444=\"AZIONE_2\",$L444=4),'3 - SPECIE DA IMPIANTARE'!$U45,\"\")","v":""},null,"",{"$f":"IF(AND($B444=\"AZIONE_2\",$O444=5),'3 - SPECIE DA IMPIANTARE'!$U45,\"\")","v":""},null,"",{"$f":"IF(AND($B444=\"AZIONE_2\",$R444=6),'3 - SPECIE DA IMPIANTARE'!$U45,\"\")","v":""}]
[5,"","",{"$f":"IF(AND($B445=\"AZIONE_2\",C445=1),'3 - SPECIE DA IMPIANTARE'!$U46,\"\")","v":""},null,"",{"$f":"IF(AND($B445=\"AZIONE_2\",F445=2),'3 - SPECIE DA IMPIANTARE'!$U46,\"\")","v":""},null,"",{"$f":"IF(AND($B445=\"AZIONE_2\",$I445=3),'3 - SPECIE DA IMPIANTARE'!$U46,\"\")","v":""},null,"",{"$f":"IF(AND($B445=\"AZIONE_2\",$L445=4),'3 - SPECIE DA IMPIANTARE'!$U46,\"\")","v":""},null,"",{"$f":"IF(AND($B445=\"AZIONE_2\",$O445=5),'3 - SPECIE DA IMPIANTARE'!$U46,\"\")","v":""},null,"",{"$f":"IF(AND($B445=\"AZIONE_2\",$R445=6),'3 - SPECIE DA IMPIANTARE'!$U46,\"\")","v":""}]
[5,"","",{"$f":"IF(AND($B446=\"AZIONE_2\",C446=1),'3 - SPECIE DA IMPIANTARE'!$U47,\"\")","v":""},null,"",{"$f":"IF(AND($B446=\"AZIONE_2\",F446=2),'3 - SPECIE DA IMPIANTARE'!$U47,\"\")","v":""},null,"",{"$f":"IF(AND($B446=\"AZIONE_2\",$I446=3),'3 - SPECIE DA IMPIANTARE'!$U47,\"\")","v":""},null,"",{"$f":"IF(AND($B446=\"AZIONE_2\",$L446=4),'3 - SPECIE DA IMPIANTARE'!$U47,\"\")","v":""},null,"",{"$f":"IF(AND($B446=\"AZIONE_2\",$O446=5),'3 - SPECIE DA IMPIANTARE'!$U47,\"\")","v":""},null,"",{"$f":"IF(AND($B446=\"AZIONE_2\",$R446=6),'3 - SPECIE DA IMPIANTARE'!$U47,\"\")","v":""}]
[5,"","",{"$f":"IF(AND($B447=\"AZIONE_2\",C447=1),'3 - SPECIE DA IMPIANTARE'!$U48,\"\")","v":""},null,"",{"$f":"IF(AND($B447=\"AZIONE_2\",F447=2),'3 - SPECIE DA IMPIANTARE'!$U48,\"\")","v":""},null,"",{"$f":"IF(AND($B447=\"AZIONE_2\",$I447=3),'3 - SPECIE DA IMPIANTARE'!$U48,\"\")","v":""},null,"",{"$f":"IF(AND($B447=\"AZIONE_2\",$L447=4),'3 - SPECIE DA IMPIANTARE'!$U48,\"\")","v":""},null,"",{"$f":"IF(AND($B447=\"AZIONE_2\",$O447=5),'3 - SPECIE DA IMPIANTARE'!$U48,\"\")","v":""},null,"",{"$f":"IF(AND($B447=\"AZIONE_2\",$R447=6),'3 - SPECIE DA IMPIANTARE'!$U48,\"\")","v":""}]
[5,"","",{"$f":"IF(AND($B448=\"AZIONE_2\",C448=1),'3 - SPECIE DA IMPIANTARE'!$U49,\"\")","v":""},null,"",{"$f":"IF(AND($B448=\"AZIONE_2\",F448=2),'3 - SPECIE DA IMPIANTARE'!$U49,\"\")","v":""},null,"",{"$f":"IF(AND($B448=\"AZIONE_2\",$I448=3),'3 - SPECIE DA IMPIANTARE'!$U49,\"\")","v":""},null,"",{"$f":"IF(AND($B448=\"AZIONE_2\",$L448=4),'3 - SPECIE DA IMPIANTARE'!$U49,\"\")","v":""},null,"",{"$f":"IF(AND($B448=\"AZIONE_2\",$O448=5),'3 - SPECIE DA IMPIANTARE'!$U49,\"\")","v":""},null,"",{"$f":"IF(AND($B448=\"AZIONE_2\",$R448=6),'3 - SPECIE DA IMPIANTARE'!$U49,\"\")","v":""}]
[5,"","",{"$f":"IF(AND($B449=\"AZIONE_2\",C449=1),'3 - SPECIE DA IMPIANTARE'!$U50,\"\")","v":""},null,"",{"$f":"IF(AND($B449=\"AZIONE_2\",F449=2),'3 - SPECIE DA IMPIANTARE'!$U50,\"\")","v":""},null,"",{"$f":"IF(AND($B449=\"AZIONE_2\",$I449=3),'3 - SPECIE DA IMPIANTARE'!$U50,\"\")","v":""},null,"",{"$f":"IF(AND($B449=\"AZIONE_2\",$L449=4),'3 - SPECIE DA IMPIANTARE'!$U50,\"\")","v":""},null,"",{"$f":"IF(AND($B449=\"AZIONE_2\",$O449=5),'3 - SPECIE DA IMPIANTARE'!$U50,\"\")","v":""},null,"",{"$f":"IF(AND($B449=\"AZIONE_2\",$R449=6),'3 - SPECIE DA IMPIANTARE'!$U50,\"\")","v":""}]
[5,"","",{"$f":"IF(AND($B450=\"AZIONE_2\",C450=1),'3 - SPECIE DA IMPIANTARE'!$U51,\"\")","v":""},null,"",{"$f":"IF(AND($B450=\"AZIONE_2\",F450=2),'3 - SPECIE DA IMPIANTARE'!$U51,\"\")","v":""},null,"",{"$f":"IF(AND($B450=\"AZIONE_2\",$I450=3),'3 - SPECIE DA IMPIANTARE'!$U51,\"\")","v":""},null,"",{"$f":"IF(AND($B450=\"AZIONE_2\",$L450=4),'3 - SPECIE DA IMPIANTARE'!$U51,\"\")","v":""},null,"",{"$f":"IF(AND($B450=\"AZIONE_2\",$O450=5),'3 - SPECIE DA IMPIANTARE'!$U51,\"\")","v":""},null,"",{"$f":"IF(AND($B450=\"AZIONE_2\",$R450=6),'3 - SPECIE DA IMPIANTARE'!$U51,\"\")","v":""}]
[5,"","",{"$f":"IF(AND($B451=\"AZIONE_2\",C451=1),'3 - SPECIE DA IMPIANTARE'!$U52,\"\")","v":""},null,"",{"$f":"IF(AND($B451=\"AZIONE_2\",F451=2),'3 - SPECIE DA IMPIANTARE'!$U52,\"\")","v":""},null,"",{"$f":"IF(AND($B451=\"AZIONE_2\",$I451=3),'3 - SPECIE DA IMPIANTARE'!$U52,\"\")","v":""},null,"",{"$f":"IF(AND($B451=\"AZIONE_2\",$L451=4),'3 - SPECIE DA IMPIANTARE'!$U52,\"\")","v":""},null,"",{"$f":"IF(AND($B451=\"AZIONE_2\",$O451=5),'3 - SPECIE DA IMPIANTARE'!$U52,\"\")","v":""},null,"",{"$f":"IF(AND($B451=\"AZIONE_2\",$R451=6),'3 - SPECIE DA IMPIANTARE'!$U52,\"\")","v":""}]
[5,"","",{"$f":"IF(AND($B452=\"AZIONE_2\",C452=1),'3 - SPECIE DA IMPIANTARE'!$U53,\"\")","v":""},null,"",{"$f":"IF(AND($B452=\"AZIONE_2\",F452=2),'3 - SPECIE DA IMPIANTARE'!$U53,\"\")","v":""},null,"",{"$f":"IF(AND($B452=\"AZIONE_2\",$I452=3),'3 - SPECIE DA IMPIANTARE'!$U53,\"\")","v":""},null,"",{"$f":"IF(AND($B452=\"AZIONE_2\",$L452=4),'3 - SPECIE DA IMPIANTARE'!$U53,\"\")","v":""},null,"",{"$f":"IF(AND($B452=\"AZIONE_2\",$O452=5),'3 - SPECIE DA IMPIANTARE'!$U53,\"\")","v":""},null,"",{"$f":"IF(AND($B452=\"AZIONE_2\",$R452=6),'3 - SPECIE DA IMPIANTARE'!$U53,\"\")","v":""}]
[5,"","",{"$f":"IF(AND($B453=\"AZIONE_2\",C453=1),'3 - SPECIE DA IMPIANTARE'!$U54,\"\")","v":""},null,"",{"$f":"IF(AND($B453=\"AZIONE_2\",F453=2),'3 - SPECIE DA IMPIANTARE'!$U54,\"\")","v":""},null,"",{"$f":"IF(AND($B453=\"AZIONE_2\",$I453=3),'3 - SPECIE DA IMPIANTARE'!$U54,\"\")","v":""},null,"",{"$f":"IF(AND($B453=\"AZIONE_2\",$L453=4),'3 - SPECIE DA IMPIANTARE'!$U54,\"\")","v":""},null,"",{"$f":"IF(AND($B453=\"AZIONE_2\",$O453=5),'3 - SPECIE DA IMPIANTARE'!$U54,\"\")","v":""},null,"",{"$f":"IF(AND($B453=\"AZIONE_2\",$R453=6),'3 - SPECIE DA IMPIANTARE'!$U54,\"\")","v":""}]
[5,"","",{"$f":"IF(AND($B454=\"AZIONE_2\",C454=1),'3 - SPECIE DA IMPIANTARE'!$U55,\"\")","v":""},null,"",{"$f":"IF(AND($B454=\"AZIONE_2\",F454=2),'3 - SPECIE DA IMPIANTARE'!$U55,\"\")","v":""},null,"",{"$f":"IF(AND($B454=\"AZIONE_2\",$I454=3),'3 - SPECIE DA IMPIANTARE'!$U55,\"\")","v":""},null,"",{"$f":"IF(AND($B454=\"AZIONE_2\",$L454=4),'3 - SPECIE DA IMPIANTARE'!$U55,\"\")","v":""},null,"",{"$f":"IF(AND($B454=\"AZIONE_2\",$O454=5),'3 - SPECIE DA IMPIANTARE'!$U55,\"\")","v":""},null,"",{"$f":"IF(AND($B454=\"AZIONE_2\",$R454=6),'3 - SPECIE DA IMPIANTARE'!$U55,\"\")","v":""}]
[5,{"$f":"B355","v":""},"",{"$f":"IF(AND($B455=\"AZIONE_2\",C455=1),'3 - SPECIE DA IMPIANTARE'!$U56,\"\")","v":""},null,"",{"$f":"IF(AND($B455=\"AZIONE_2\",F455=2),'3 - SPECIE DA IMPIANTARE'!$U56,\"\")","v":""},null,"",{"$f":"IF(AND($B455=\"AZIONE_2\",$I455=3),'3 - SPECIE DA IMPIANTARE'!$U56,\"\")","v":""},null,"",{"$f":"IF(AND($B455=\"AZIONE_2\",$L455=4),'3 - SPECIE DA IMPIANTARE'!$U56,\"\")","v":""},null,"",{"$f":"IF(AND($B455=\"AZIONE_2\",$O455=5),'3 - SPECIE DA IMPIANTARE'!$U56,\"\")","v":""},null,"",{"$f":"IF(AND($B455=\"AZIONE_2\",$R455=6),'3 - SPECIE DA IMPIANTARE'!$U56,\"\")","v":""}]
[5,"","",{"$f":"IF(AND($B456=\"AZIONE_2\",C456=1),'3 - SPECIE DA IMPIANTARE'!$U57,\"\")","v":""},null,"",{"$f":"IF(AND($B456=\"AZIONE_2\",F456=2),'3 - SPECIE DA IMPIANTARE'!$U57,\"\")","v":""},null,"",{"$f":"IF(AND($B456=\"AZIONE_2\",$I456=3),'3 - SPECIE DA IMPIANTARE'!$U57,\"\")","v":""},null,"",{"$f":"IF(AND($B456=\"AZIONE_2\",$L456=4),'3 - SPECIE DA IMPIANTARE'!$U57,\"\")","v":""},null,"",{"$f":"IF(AND($B456=\"AZIONE_2\",$O456=5),'3 - SPECIE DA IMPIANTARE'!$U57,\"\")","v":""},null,"",{"$f":"IF(AND($B456=\"AZIONE_2\",$R456=6),'3 - SPECIE DA IMPIANTARE'!$U57,\"\")","v":""}]
[5,"","",{"$f":"IF(AND($B457=\"AZIONE_2\",C457=1),'3 - SPECIE DA IMPIANTARE'!$U58,\"\")","v":""},null,"",{"$f":"IF(AND($B457=\"AZIONE_2\",F457=2),'3 - SPECIE DA IMPIANTARE'!$U58,\"\")","v":""},null,"",{"$f":"IF(AND($B457=\"AZIONE_2\",$I457=3),'3 - SPECIE DA IMPIANTARE'!$U58,\"\")","v":""},null,"",{"$f":"IF(AND($B457=\"AZIONE_2\",$L457=4),'3 - SPECIE DA IMPIANTARE'!$U58,\"\")","v":""},null,"",{"$f":"IF(AND($B457=\"AZIONE_2\",$O457=5),'3 - SPECIE DA IMPIANTARE'!$U58,\"\")","v":""},null,"",{"$f":"IF(AND($B457=\"AZIONE_2\",$R457=6),'3 - SPECIE DA IMPIANTARE'!$U58,\"\")","v":""}]
[5,"","",{"$f":"IF(AND($B458=\"AZIONE_2\",C458=1),'3 - SPECIE DA IMPIANTARE'!$U59,\"\")","v":""},null,"",{"$f":"IF(AND($B458=\"AZIONE_2\",F458=2),'3 - SPECIE DA IMPIANTARE'!$U59,\"\")","v":""},null,"",{"$f":"IF(AND($B458=\"AZIONE_2\",$I458=3),'3 - SPECIE DA IMPIANTARE'!$U59,\"\")","v":""},null,"",{"$f":"IF(AND($B458=\"AZIONE_2\",$L458=4),'3 - SPECIE DA IMPIANTARE'!$U59,\"\")","v":""},null,"",{"$f":"IF(AND($B458=\"AZIONE_2\",$O458=5),'3 - SPECIE DA IMPIANTARE'!$U59,\"\")","v":""},null,"",{"$f":"IF(AND($B458=\"AZIONE_2\",$R458=6),'3 - SPECIE DA IMPIANTARE'!$U59,\"\")","v":""}]
[5,"","",{"$f":"IF(AND($B459=\"AZIONE_2\",C459=1),'3 - SPECIE DA IMPIANTARE'!$U60,\"\")","v":""},null,"",{"$f":"IF(AND($B459=\"AZIONE_2\",F459=2),'3 - SPECIE DA IMPIANTARE'!$U60,\"\")","v":""},null,"",{"$f":"IF(AND($B459=\"AZIONE_2\",$I459=3),'3 - SPECIE DA IMPIANTARE'!$U60,\"\")","v":""},null,"",{"$f":"IF(AND($B459=\"AZIONE_2\",$L459=4),'3 - SPECIE DA IMPIANTARE'!$U60,\"\")","v":""},null,"",{"$f":"IF(AND($B459=\"AZIONE_2\",$O459=5),'3 - SPECIE DA IMPIANTARE'!$U60,\"\")","v":""},null,"",{"$f":"IF(AND($B459=\"AZIONE_2\",$R459=6),'3 - SPECIE DA IMPIANTARE'!$U60,\"\")","v":""}]
[5,"","",{"$f":"IF(AND($B460=\"AZIONE_2\",C460=1),'3 - SPECIE DA IMPIANTARE'!$U61,\"\")","v":""},null,"",{"$f":"IF(AND($B460=\"AZIONE_2\",F460=2),'3 - SPECIE DA IMPIANTARE'!$U61,\"\")","v":""},null,"",{"$f":"IF(AND($B460=\"AZIONE_2\",$I460=3),'3 - SPECIE DA IMPIANTARE'!$U61,\"\")","v":""},null,"",{"$f":"IF(AND($B460=\"AZIONE_2\",$L460=4),'3 - SPECIE DA IMPIANTARE'!$U61,\"\")","v":""},null,"",{"$f":"IF(AND($B460=\"AZIONE_2\",$O460=5),'3 - SPECIE DA IMPIANTARE'!$U61,\"\")","v":""},null,"",{"$f":"IF(AND($B460=\"AZIONE_2\",$R460=6),'3 - SPECIE DA IMPIANTARE'!$U61,\"\")","v":""}]
[5,"","",{"$f":"IF(AND($B461=\"AZIONE_2\",C461=1),'3 - SPECIE DA IMPIANTARE'!$U62,\"\")","v":""},null,"",{"$f":"IF(AND($B461=\"AZIONE_2\",F461=2),'3 - SPECIE DA IMPIANTARE'!$U62,\"\")","v":""},null,"",{"$f":"IF(AND($B461=\"AZIONE_2\",$I461=3),'3 - SPECIE DA IMPIANTARE'!$U62,\"\")","v":""},null,"",{"$f":"IF(AND($B461=\"AZIONE_2\",$L461=4),'3 - SPECIE DA IMPIANTARE'!$U62,\"\")","v":""},null,"",{"$f":"IF(AND($B461=\"AZIONE_2\",$O461=5),'3 - SPECIE DA IMPIANTARE'!$U62,\"\")","v":""},null,"",{"$f":"IF(AND($B461=\"AZIONE_2\",$R461=6),'3 - SPECIE DA IMPIANTARE'!$U62,\"\")","v":""}]
[5,"","",{"$f":"IF(AND($B462=\"AZIONE_2\",C462=1),'3 - SPECIE DA IMPIANTARE'!$U63,\"\")","v":""},null,"",{"$f":"IF(AND($B462=\"AZIONE_2\",F462=2),'3 - SPECIE DA IMPIANTARE'!$U63,\"\")","v":""},null,"",{"$f":"IF(AND($B462=\"AZIONE_2\",$I462=3),'3 - SPECIE DA IMPIANTARE'!$U63,\"\")","v":""},null,"",{"$f":"IF(AND($B462=\"AZIONE_2\",$L462=4),'3 - SPECIE DA IMPIANTARE'!$U63,\"\")","v":""},null,"",{"$f":"IF(AND($B462=\"AZIONE_2\",$O462=5),'3 - SPECIE DA IMPIANTARE'!$U63,\"\")","v":""},null,"",{"$f":"IF(AND($B462=\"AZIONE_2\",$R462=6),'3 - SPECIE DA IMPIANTARE'!$U63,\"\")","v":""}]
[5,"","",{"$f":"IF(AND($B463=\"AZIONE_2\",C463=1),'3 - SPECIE DA IMPIANTARE'!$U64,\"\")","v":""},null,"",{"$f":"IF(AND($B463=\"AZIONE_2\",F463=2),'3 - SPECIE DA IMPIANTARE'!$U64,\"\")","v":""},null,"",{"$f":"IF(AND($B463=\"AZIONE_2\",$I463=3),'3 - SPECIE DA IMPIANTARE'!$U64,\"\")","v":""},null,"",{"$f":"IF(AND($B463=\"AZIONE_2\",$L463=4),'3 - SPECIE DA IMPIANTARE'!$U64,\"\")","v":""},null,"",{"$f":"IF(AND($B463=\"AZIONE_2\",$O463=5),'3 - SPECIE DA IMPIANTARE'!$U64,\"\")","v":""},null,"",{"$f":"IF(AND($B463=\"AZIONE_2\",$R463=6),'3 - SPECIE DA IMPIANTARE'!$U64,\"\")","v":""}]
[5,"","",{"$f":"IF(AND($B464=\"AZIONE_2\",C464=1),'3 - SPECIE DA IMPIANTARE'!$U65,\"\")","v":""},null,"",{"$f":"IF(AND($B464=\"AZIONE_2\",F464=2),'3 - SPECIE DA IMPIANTARE'!$U65,\"\")","v":""},null,"",{"$f":"IF(AND($B464=\"AZIONE_2\",$I464=3),'3 - SPECIE DA IMPIANTARE'!$U65,\"\")","v":""},null,"",{"$f":"IF(AND($B464=\"AZIONE_2\",$L464=4),'3 - SPECIE DA IMPIANTARE'!$U65,\"\")","v":""},null,"",{"$f":"IF(AND($B464=\"AZIONE_2\",$O464=5),'3 - SPECIE DA IMPIANTARE'!$U65,\"\")","v":""},null,"",{"$f":"IF(AND($B464=\"AZIONE_2\",$R464=6),'3 - SPECIE DA IMPIANTARE'!$U65,\"\")","v":""}]
[5,"","",{"$f":"IF(AND($B465=\"AZIONE_2\",C465=1),'3 - SPECIE DA IMPIANTARE'!$U66,\"\")","v":""},null,"",{"$f":"IF(AND($B465=\"AZIONE_2\",F465=2),'3 - SPECIE DA IMPIANTARE'!$U66,\"\")","v":""},null,"",{"$f":"IF(AND($B465=\"AZIONE_2\",$I465=3),'3 - SPECIE DA IMPIANTARE'!$U66,\"\")","v":""},null,"",{"$f":"IF(AND($B465=\"AZIONE_2\",$L465=4),'3 - SPECIE DA IMPIANTARE'!$U66,\"\")","v":""},null,"",{"$f":"IF(AND($B465=\"AZIONE_2\",$O465=5),'3 - SPECIE DA IMPIANTARE'!$U66,\"\")","v":""},null,"",{"$f":"IF(AND($B465=\"AZIONE_2\",$R465=6),'3 - SPECIE DA IMPIANTARE'!$U66,\"\")","v":""}]
[5,"","",{"$f":"IF(AND($B466=\"AZIONE_2\",C466=1),'3 - SPECIE DA IMPIANTARE'!$U67,\"\")","v":""},null,"",{"$f":"IF(AND($B466=\"AZIONE_2\",F466=2),'3 - SPECIE DA IMPIANTARE'!$U67,\"\")","v":""},null,"",{"$f":"IF(AND($B466=\"AZIONE_2\",$I466=3),'3 - SPECIE DA IMPIANTARE'!$U67,\"\")","v":""},null,"",{"$f":"IF(AND($B466=\"AZIONE_2\",$L466=4),'3 - SPECIE DA IMPIANTARE'!$U67,\"\")","v":""},null,"",{"$f":"IF(AND($B466=\"AZIONE_2\",$O466=5),'3 - SPECIE DA IMPIANTARE'!$U67,\"\")","v":""},null,"",{"$f":"IF(AND($B466=\"AZIONE_2\",$R466=6),'3 - SPECIE DA IMPIANTARE'!$U67,\"\")","v":""}]
[5,"","",{"$f":"IF(AND($B467=\"AZIONE_2\",C467=1),'3 - SPECIE DA IMPIANTARE'!$U68,\"\")","v":""},null,"",{"$f":"IF(AND($B467=\"AZIONE_2\",F467=2),'3 - SPECIE DA IMPIANTARE'!$U68,\"\")","v":""},null,"",{"$f":"IF(AND($B467=\"AZIONE_2\",$I467=3),'3 - SPECIE DA IMPIANTARE'!$U68,\"\")","v":""},null,"",{"$f":"IF(AND($B467=\"AZIONE_2\",$L467=4),'3 - SPECIE DA IMPIANTARE'!$U68,\"\")","v":""},null,"",{"$f":"IF(AND($B467=\"AZIONE_2\",$O467=5),'3 - SPECIE DA IMPIANTARE'!$U68,\"\")","v":""},null,"",{"$f":"IF(AND($B467=\"AZIONE_2\",$R467=6),'3 - SPECIE DA IMPIANTARE'!$U68,\"\")","v":""}]
[5,"","",{"$f":"IF(AND($B468=\"AZIONE_2\",C468=1),'3 - SPECIE DA IMPIANTARE'!$U69,\"\")","v":""},null,"",{"$f":"IF(AND($B468=\"AZIONE_2\",F468=2),'3 - SPECIE DA IMPIANTARE'!$U69,\"\")","v":""},null,"",{"$f":"IF(AND($B468=\"AZIONE_2\",$I468=3),'3 - SPECIE DA IMPIANTARE'!$U69,\"\")","v":""},null,"",{"$f":"IF(AND($B468=\"AZIONE_2\",$L468=4),'3 - SPECIE DA IMPIANTARE'!$U69,\"\")","v":""},null,"",{"$f":"IF(AND($B468=\"AZIONE_2\",$O468=5),'3 - SPECIE DA IMPIANTARE'!$U69,\"\")","v":""},null,"",{"$f":"IF(AND($B468=\"AZIONE_2\",$R468=6),'3 - SPECIE DA IMPIANTARE'!$U69,\"\")","v":""}]
[5,"","",{"$f":"IF(AND($B469=\"AZIONE_2\",C469=1),'3 - SPECIE DA IMPIANTARE'!$U70,\"\")","v":""},null,"",{"$f":"IF(AND($B469=\"AZIONE_2\",F469=2),'3 - SPECIE DA IMPIANTARE'!$U70,\"\")","v":""},null,"",{"$f":"IF(AND($B469=\"AZIONE_2\",$I469=3),'3 - SPECIE DA IMPIANTARE'!$U70,\"\")","v":""},null,"",{"$f":"IF(AND($B469=\"AZIONE_2\",$L469=4),'3 - SPECIE DA IMPIANTARE'!$U70,\"\")","v":""},null,"",{"$f":"IF(AND($B469=\"AZIONE_2\",$O469=5),'3 - SPECIE DA IMPIANTARE'!$U70,\"\")","v":""},null,"",{"$f":"IF(AND($B469=\"AZIONE_2\",$R469=6),'3 - SPECIE DA IMPIANTARE'!$U70,\"\")","v":""}]
[5,"","",{"$f":"IF(AND($B470=\"AZIONE_2\",C470=1),'3 - SPECIE DA IMPIANTARE'!$U71,\"\")","v":""},null,"",{"$f":"IF(AND($B470=\"AZIONE_2\",F470=2),'3 - SPECIE DA IMPIANTARE'!$U71,\"\")","v":""},null,"",{"$f":"IF(AND($B470=\"AZIONE_2\",$I470=3),'3 - SPECIE DA IMPIANTARE'!$U71,\"\")","v":""},null,"",{"$f":"IF(AND($B470=\"AZIONE_2\",$L470=4),'3 - SPECIE DA IMPIANTARE'!$U71,\"\")","v":""},null,"",{"$f":"IF(AND($B470=\"AZIONE_2\",$O470=5),'3 - SPECIE DA IMPIANTARE'!$U71,\"\")","v":""},null,"",{"$f":"IF(AND($B470=\"AZIONE_2\",$R470=6),'3 - SPECIE DA IMPIANTARE'!$U71,\"\")","v":""}]
[5,{"$f":"B371","v":""},"",{"$f":"IF(AND($B471=\"AZIONE_2\",C471=1),'3 - SPECIE DA IMPIANTARE'!$U72,\"\")","v":""},null,"",{"$f":"IF(AND($B471=\"AZIONE_2\",F471=2),'3 - SPECIE DA IMPIANTARE'!$U72,\"\")","v":""},null,"",{"$f":"IF(AND($B471=\"AZIONE_2\",$I471=3),'3 - SPECIE DA IMPIANTARE'!$U72,\"\")","v":""},null,"",{"$f":"IF(AND($B471=\"AZIONE_2\",$L471=4),'3 - SPECIE DA IMPIANTARE'!$U72,\"\")","v":""},null,"",{"$f":"IF(AND($B471=\"AZIONE_2\",$O471=5),'3 - SPECIE DA IMPIANTARE'!$U72,\"\")","v":""},null,"",{"$f":"IF(AND($B471=\"AZIONE_2\",$R471=6),'3 - SPECIE DA IMPIANTARE'!$U72,\"\")","v":""}]
[5,"","",{"$f":"IF(AND($B472=\"AZIONE_2\",C472=1),'3 - SPECIE DA IMPIANTARE'!$U73,\"\")","v":""},null,"",{"$f":"IF(AND($B472=\"AZIONE_2\",F472=2),'3 - SPECIE DA IMPIANTARE'!$U73,\"\")","v":""},null,"",{"$f":"IF(AND($B472=\"AZIONE_2\",$I472=3),'3 - SPECIE DA IMPIANTARE'!$U73,\"\")","v":""},null,"",{"$f":"IF(AND($B472=\"AZIONE_2\",$L472=4),'3 - SPECIE DA IMPIANTARE'!$U73,\"\")","v":""},null,"",{"$f":"IF(AND($B472=\"AZIONE_2\",$O472=5),'3 - SPECIE DA IMPIANTARE'!$U73,\"\")","v":""},null,"",{"$f":"IF(AND($B472=\"AZIONE_2\",$R472=6),'3 - SPECIE DA IMPIANTARE'!$U73,\"\")","v":""}]
[5,"","",{"$f":"IF(AND($B473=\"AZIONE_2\",C473=1),'3 - SPECIE DA IMPIANTARE'!$U74,\"\")","v":""},null,"",{"$f":"IF(AND($B473=\"AZIONE_2\",F473=2),'3 - SPECIE DA IMPIANTARE'!$U74,\"\")","v":""},null,"",{"$f":"IF(AND($B473=\"AZIONE_2\",$I473=3),'3 - SPECIE DA IMPIANTARE'!$U74,\"\")","v":""},null,"",{"$f":"IF(AND($B473=\"AZIONE_2\",$L473=4),'3 - SPECIE DA IMPIANTARE'!$U74,\"\")","v":""},null,"",{"$f":"IF(AND($B473=\"AZIONE_2\",$O473=5),'3 - SPECIE DA IMPIANTARE'!$U74,\"\")","v":""},null,"",{"$f":"IF(AND($B473=\"AZIONE_2\",$R473=6),'3 - SPECIE DA IMPIANTARE'!$U74,\"\")","v":""}]
[5,"","",{"$f":"IF(AND($B474=\"AZIONE_2\",C474=1),'3 - SPECIE DA IMPIANTARE'!$U75,\"\")","v":""},null,"",{"$f":"IF(AND($B474=\"AZIONE_2\",F474=2),'3 - SPECIE DA IMPIANTARE'!$U75,\"\")","v":""},null,"",{"$f":"IF(AND($B474=\"AZIONE_2\",$I474=3),'3 - SPECIE DA IMPIANTARE'!$U75,\"\")","v":""},null,"",{"$f":"IF(AND($B474=\"AZIONE_2\",$L474=4),'3 - SPECIE DA IMPIANTARE'!$U75,\"\")","v":""},null,"",{"$f":"IF(AND($B474=\"AZIONE_2\",$O474=5),'3 - SPECIE DA IMPIANTARE'!$U75,\"\")","v":""},null,"",{"$f":"IF(AND($B474=\"AZIONE_2\",$R474=6),'3 - SPECIE DA IMPIANTARE'!$U75,\"\")","v":""}]
[5,"","",{"$f":"IF(AND($B475=\"AZIONE_2\",C475=1),'3 - SPECIE DA IMPIANTARE'!$U76,\"\")","v":""},null,"",{"$f":"IF(AND($B475=\"AZIONE_2\",F475=2),'3 - SPECIE DA IMPIANTARE'!$U76,\"\")","v":""},null,"",{"$f":"IF(AND($B475=\"AZIONE_2\",$I475=3),'3 - SPECIE DA IMPIANTARE'!$U76,\"\")","v":""},null,"",{"$f":"IF(AND($B475=\"AZIONE_2\",$L475=4),'3 - SPECIE DA IMPIANTARE'!$U76,\"\")","v":""},null,"",{"$f":"IF(AND($B475=\"AZIONE_2\",$O475=5),'3 - SPECIE DA IMPIANTARE'!$U76,\"\")","v":""},null,"",{"$f":"IF(AND($B475=\"AZIONE_2\",$R475=6),'3 - SPECIE DA IMPIANTARE'!$U76,\"\")","v":""}]
[5,"","",{"$f":"IF(AND($B476=\"AZIONE_2\",C476=1),'3 - SPECIE DA IMPIANTARE'!$U77,\"\")","v":""},null,"",{"$f":"IF(AND($B476=\"AZIONE_2\",F476=2),'3 - SPECIE DA IMPIANTARE'!$U77,\"\")","v":""},null,"",{"$f":"IF(AND($B476=\"AZIONE_2\",$I476=3),'3 - SPECIE DA IMPIANTARE'!$U77,\"\")","v":""},null,"",{"$f":"IF(AND($B476=\"AZIONE_2\",$L476=4),'3 - SPECIE DA IMPIANTARE'!$U77,\"\")","v":""},null,"",{"$f":"IF(AND($B476=\"AZIONE_2\",$O476=5),'3 - SPECIE DA IMPIANTARE'!$U77,\"\")","v":""},null,"",{"$f":"IF(AND($B476=\"AZIONE_2\",$R476=6),'3 - SPECIE DA IMPIANTARE'!$U77,\"\")","v":""}]
[5,"","",{"$f":"IF(AND($B477=\"AZIONE_2\",C477=1),'3 - SPECIE DA IMPIANTARE'!$U78,\"\")","v":""},null,"",{"$f":"IF(AND($B477=\"AZIONE_2\",F477=2),'3 - SPECIE DA IMPIANTARE'!$U78,\"\")","v":""},null,"",{"$f":"IF(AND($B477=\"AZIONE_2\",$I477=3),'3 - SPECIE DA IMPIANTARE'!$U78,\"\")","v":""},null,"",{"$f":"IF(AND($B477=\"AZIONE_2\",$L477=4),'3 - SPECIE DA IMPIANTARE'!$U78,\"\")","v":""},null,"",{"$f":"IF(AND($B477=\"AZIONE_2\",$O477=5),'3 - SPECIE DA IMPIANTARE'!$U78,\"\")","v":""},null,"",{"$f":"IF(AND($B477=\"AZIONE_2\",$R477=6),'3 - SPECIE DA IMPIANTARE'!$U78,\"\")","v":""}]
[5,"","",{"$f":"IF(AND($B478=\"AZIONE_2\",C478=1),'3 - SPECIE DA IMPIANTARE'!$U79,\"\")","v":""},null,"",{"$f":"IF(AND($B478=\"AZIONE_2\",F478=2),'3 - SPECIE DA IMPIANTARE'!$U79,\"\")","v":""},null,"",{"$f":"IF(AND($B478=\"AZIONE_2\",$I478=3),'3 - SPECIE DA IMPIANTARE'!$U79,\"\")","v":""},null,"",{"$f":"IF(AND($B478=\"AZIONE_2\",$L478=4),'3 - SPECIE DA IMPIANTARE'!$U79,\"\")","v":""},null,"",{"$f":"IF(AND($B478=\"AZIONE_2\",$O478=5),'3 - SPECIE DA IMPIANTARE'!$U79,\"\")","v":""},null,"",{"$f":"IF(AND($B478=\"AZIONE_2\",$R478=6),'3 - SPECIE DA IMPIANTARE'!$U79,\"\")","v":""}]
[5,"","",{"$f":"IF(AND($B479=\"AZIONE_2\",C479=1),'3 - SPECIE DA IMPIANTARE'!$U80,\"\")","v":""},null,"",{"$f":"IF(AND($B479=\"AZIONE_2\",F479=2),'3 - SPECIE DA IMPIANTARE'!$U80,\"\")","v":""},null,"",{"$f":"IF(AND($B479=\"AZIONE_2\",$I479=3),'3 - SPECIE DA IMPIANTARE'!$U80,\"\")","v":""},null,"",{"$f":"IF(AND($B479=\"AZIONE_2\",$L479=4),'3 - SPECIE DA IMPIANTARE'!$U80,\"\")","v":""},null,"",{"$f":"IF(AND($B479=\"AZIONE_2\",$O479=5),'3 - SPECIE DA IMPIANTARE'!$U80,\"\")","v":""},null,"",{"$f":"IF(AND($B479=\"AZIONE_2\",$R479=6),'3 - SPECIE DA IMPIANTARE'!$U80,\"\")","v":""}]
[5,"","",{"$f":"IF(AND($B480=\"AZIONE_2\",C480=1),'3 - SPECIE DA IMPIANTARE'!$U81,\"\")","v":""},null,"",{"$f":"IF(AND($B480=\"AZIONE_2\",F480=2),'3 - SPECIE DA IMPIANTARE'!$U81,\"\")","v":""},null,"",{"$f":"IF(AND($B480=\"AZIONE_2\",$I480=3),'3 - SPECIE DA IMPIANTARE'!$U81,\"\")","v":""},null,"",{"$f":"IF(AND($B480=\"AZIONE_2\",$L480=4),'3 - SPECIE DA IMPIANTARE'!$U81,\"\")","v":""},null,"",{"$f":"IF(AND($B480=\"AZIONE_2\",$O480=5),'3 - SPECIE DA IMPIANTARE'!$U81,\"\")","v":""},null,"",{"$f":"IF(AND($B480=\"AZIONE_2\",$R480=6),'3 - SPECIE DA IMPIANTARE'!$U81,\"\")","v":""}]
[5,"","",{"$f":"IF(AND($B481=\"AZIONE_2\",C481=1),'3 - SPECIE DA IMPIANTARE'!$U82,\"\")","v":""},null,"",{"$f":"IF(AND($B481=\"AZIONE_2\",F481=2),'3 - SPECIE DA IMPIANTARE'!$U82,\"\")","v":""},null,"",{"$f":"IF(AND($B481=\"AZIONE_2\",$I481=3),'3 - SPECIE DA IMPIANTARE'!$U82,\"\")","v":""},null,"",{"$f":"IF(AND($B481=\"AZIONE_2\",$L481=4),'3 - SPECIE DA IMPIANTARE'!$U82,\"\")","v":""},null,"",{"$f":"IF(AND($B481=\"AZIONE_2\",$O481=5),'3 - SPECIE DA IMPIANTARE'!$U82,\"\")","v":""},null,"",{"$f":"IF(AND($B481=\"AZIONE_2\",$R481=6),'3 - SPECIE DA IMPIANTARE'!$U82,\"\")","v":""}]
[5,"","",{"$f":"IF(AND($B482=\"AZIONE_2\",C482=1),'3 - SPECIE DA IMPIANTARE'!$U83,\"\")","v":""},null,"",{"$f":"IF(AND($B482=\"AZIONE_2\",F482=2),'3 - SPECIE DA IMPIANTARE'!$U83,\"\")","v":""},null,"",{"$f":"IF(AND($B482=\"AZIONE_2\",$I482=3),'3 - SPECIE DA IMPIANTARE'!$U83,\"\")","v":""},null,"",{"$f":"IF(AND($B482=\"AZIONE_2\",$L482=4),'3 - SPECIE DA IMPIANTARE'!$U83,\"\")","v":""},null,"",{"$f":"IF(AND($B482=\"AZIONE_2\",$O482=5),'3 - SPECIE DA IMPIANTARE'!$U83,\"\")","v":""},null,"",{"$f":"IF(AND($B482=\"AZIONE_2\",$R482=6),'3 - SPECIE DA IMPIANTARE'!$U83,\"\")","v":""}]
[5,"","",{"$f":"IF(AND($B483=\"AZIONE_2\",C483=1),'3 - SPECIE DA IMPIANTARE'!$U84,\"\")","v":""},null,"",{"$f":"IF(AND($B483=\"AZIONE_2\",F483=2),'3 - SPECIE DA IMPIANTARE'!$U84,\"\")","v":""},null,"",{"$f":"IF(AND($B483=\"AZIONE_2\",$I483=3),'3 - SPECIE DA IMPIANTARE'!$U84,\"\")","v":""},null,"",{"$f":"IF(AND($B483=\"AZIONE_2\",$L483=4),'3 - SPECIE DA IMPIANTARE'!$U84,\"\")","v":""},null,"",{"$f":"IF(AND($B483=\"AZIONE_2\",$O483=5),'3 - SPECIE DA IMPIANTARE'!$U84,\"\")","v":""},null,"",{"$f":"IF(AND($B483=\"AZIONE_2\",$R483=6),'3 - SPECIE DA IMPIANTARE'!$U84,\"\")","v":""}]
[5,"","",{"$f":"IF(AND($B484=\"AZIONE_2\",C484=1),'3 - SPECIE DA IMPIANTARE'!$U85,\"\")","v":""},null,"",{"$f":"IF(AND($B484=\"AZIONE_2\",F484=2),'3 - SPECIE DA IMPIANTARE'!$U85,\"\")","v":""},null,"",{"$f":"IF(AND($B484=\"AZIONE_2\",$I484=3),'3 - SPECIE DA IMPIANTARE'!$U85,\"\")","v":""},null,"",{"$f":"IF(AND($B484=\"AZIONE_2\",$L484=4),'3 - SPECIE DA IMPIANTARE'!$U85,\"\")","v":""},null,"",{"$f":"IF(AND($B484=\"AZIONE_2\",$O484=5),'3 - SPECIE DA IMPIANTARE'!$U85,\"\")","v":""},null,"",{"$f":"IF(AND($B484=\"AZIONE_2\",$R484=6),'3 - SPECIE DA IMPIANTARE'!$U85,\"\")","v":""}]
[5,"","",{"$f":"IF(AND($B485=\"AZIONE_2\",C485=1),'3 - SPECIE DA IMPIANTARE'!$U86,\"\")","v":""},null,"",{"$f":"IF(AND($B485=\"AZIONE_2\",F485=2),'3 - SPECIE DA IMPIANTARE'!$U86,\"\")","v":""},null,"",{"$f":"IF(AND($B485=\"AZIONE_2\",$I485=3),'3 - SPECIE DA IMPIANTARE'!$U86,\"\")","v":""},null,"",{"$f":"IF(AND($B485=\"AZIONE_2\",$L485=4),'3 - SPECIE DA IMPIANTARE'!$U86,\"\")","v":""},null,"",{"$f":"IF(AND($B485=\"AZIONE_2\",$O485=5),'3 - SPECIE DA IMPIANTARE'!$U86,\"\")","v":""},null,"",{"$f":"IF(AND($B485=\"AZIONE_2\",$R485=6),'3 - SPECIE DA IMPIANTARE'!$U86,\"\")","v":""}]
[5,"","",{"$f":"IF(AND($B486=\"AZIONE_2\",C486=1),'3 - SPECIE DA IMPIANTARE'!$U87,\"\")","v":""},null,"",{"$f":"IF(AND($B486=\"AZIONE_2\",F486=2),'3 - SPECIE DA IMPIANTARE'!$U87,\"\")","v":""},null,"",{"$f":"IF(AND($B486=\"AZIONE_2\",$I486=3),'3 - SPECIE DA IMPIANTARE'!$U87,\"\")","v":""},null,"",{"$f":"IF(AND($B486=\"AZIONE_2\",$L486=4),'3 - SPECIE DA IMPIANTARE'!$U87,\"\")","v":""},null,"",{"$f":"IF(AND($B486=\"AZIONE_2\",$O486=5),'3 - SPECIE DA IMPIANTARE'!$U87,\"\")","v":""},null,"",{"$f":"IF(AND($B486=\"AZIONE_2\",$R486=6),'3 - SPECIE DA IMPIANTARE'!$U87,\"\")","v":""}]
[5,{"$f":"B387","v":""},"",{"$f":"IF(AND($B487=\"AZIONE_2\",C487=1),'3 - SPECIE DA IMPIANTARE'!$U88,\"\")","v":""},null,{"$f":"F387","v":""},{"$f":"IF(AND($B487=\"AZIONE_2\",F487=2),'3 - SPECIE DA IMPIANTARE'!$U88,\"\")","v":""},null,{"$f":"I387","v":""},{"$f":"IF(AND($B487=\"AZIONE_2\",$I487=3),'3 - SPECIE DA IMPIANTARE'!$U88,\"\")","v":""},null,{"$f":"L387","v":""},{"$f":"IF(AND($B487=\"AZIONE_2\",$L487=4),'3 - SPECIE DA IMPIANTARE'!$U88,\"\")","v":""},null,{"$f":"O387","v":""},{"$f":"IF(AND($B487=\"AZIONE_2\",$O487=5),'3 - SPECIE DA IMPIANTARE'!$U88,\"\")","v":""},null,{"$f":"R387","v":""},{"$f":"IF(AND($B487=\"AZIONE_2\",$R487=6),'3 - SPECIE DA IMPIANTARE'!$U88,\"\")","v":""}]
[5,"","",{"$f":"IF(AND($B488=\"AZIONE_2\",C488=1),'3 - SPECIE DA IMPIANTARE'!$U89,\"\")","v":""},null,"",{"$f":"IF(AND($B488=\"AZIONE_2\",F488=2),'3 - SPECIE DA IMPIANTARE'!$U89,\"\")","v":""},null,"",{"$f":"IF(AND($B488=\"AZIONE_2\",$I488=3),'3 - SPECIE DA IMPIANTARE'!$U89,\"\")","v":""},null,"",{"$f":"IF(AND($B488=\"AZIONE_2\",$L488=4),'3 - SPECIE DA IMPIANTARE'!$U89,\"\")","v":""},null,"",{"$f":"IF(AND($B488=\"AZIONE_2\",$O488=5),'3 - SPECIE DA IMPIANTARE'!$U89,\"\")","v":""},null,"",{"$f":"IF(AND($B488=\"AZIONE_2\",$R488=6),'3 - SPECIE DA IMPIANTARE'!$U89,\"\")","v":""}]
[5,"","",{"$f":"IF(AND($B489=\"AZIONE_2\",C489=1),'3 - SPECIE DA IMPIANTARE'!$U90,\"\")","v":""},null,"",{"$f":"IF(AND($B489=\"AZIONE_2\",F489=2),'3 - SPECIE DA IMPIANTARE'!$U90,\"\")","v":""},null,"",{"$f":"IF(AND($B489=\"AZIONE_2\",$I489=3),'3 - SPECIE DA IMPIANTARE'!$U90,\"\")","v":""},null,"",{"$f":"IF(AND($B489=\"AZIONE_2\",$L489=4),'3 - SPECIE DA IMPIANTARE'!$U90,\"\")","v":""},null,"",{"$f":"IF(AND($B489=\"AZIONE_2\",$O489=5),'3 - SPECIE DA IMPIANTARE'!$U90,\"\")","v":""},null,"",{"$f":"IF(AND($B489=\"AZIONE_2\",$R489=6),'3 - SPECIE DA IMPIANTARE'!$U90,\"\")","v":""}]
[5,"","",{"$f":"IF(AND($B490=\"AZIONE_2\",C490=1),'3 - SPECIE DA IMPIANTARE'!$U91,\"\")","v":""},null,"",{"$f":"IF(AND($B490=\"AZIONE_2\",F490=2),'3 - SPECIE DA IMPIANTARE'!$U91,\"\")","v":""},null,"",{"$f":"IF(AND($B490=\"AZIONE_2\",$I490=3),'3 - SPECIE DA IMPIANTARE'!$U91,\"\")","v":""},null,"",{"$f":"IF(AND($B490=\"AZIONE_2\",$L490=4),'3 - SPECIE DA IMPIANTARE'!$U91,\"\")","v":""},null,"",{"$f":"IF(AND($B490=\"AZIONE_2\",$O490=5),'3 - SPECIE DA IMPIANTARE'!$U91,\"\")","v":""},null,"",{"$f":"IF(AND($B490=\"AZIONE_2\",$R490=6),'3 - SPECIE DA IMPIANTARE'!$U91,\"\")","v":""}]
[5,"","",{"$f":"IF(AND($B491=\"AZIONE_2\",C491=1),'3 - SPECIE DA IMPIANTARE'!$U92,\"\")","v":""},null,"",{"$f":"IF(AND($B491=\"AZIONE_2\",F491=2),'3 - SPECIE DA IMPIANTARE'!$U92,\"\")","v":""},null,"",{"$f":"IF(AND($B491=\"AZIONE_2\",$I491=3),'3 - SPECIE DA IMPIANTARE'!$U92,\"\")","v":""},null,"",{"$f":"IF(AND($B491=\"AZIONE_2\",$L491=4),'3 - SPECIE DA IMPIANTARE'!$U92,\"\")","v":""},null,"",{"$f":"IF(AND($B491=\"AZIONE_2\",$O491=5),'3 - SPECIE DA IMPIANTARE'!$U92,\"\")","v":""},null,"",{"$f":"IF(AND($B491=\"AZIONE_2\",$R491=6),'3 - SPECIE DA IMPIANTARE'!$U92,\"\")","v":""}]
[5,"","",{"$f":"IF(AND($B492=\"AZIONE_2\",C492=1),'3 - SPECIE DA IMPIANTARE'!$U93,\"\")","v":""},null,"",{"$f":"IF(AND($B492=\"AZIONE_2\",F492=2),'3 - SPECIE DA IMPIANTARE'!$U93,\"\")","v":""},null,"",{"$f":"IF(AND($B492=\"AZIONE_2\",$I492=3),'3 - SPECIE DA IMPIANTARE'!$U93,\"\")","v":""},null,"",{"$f":"IF(AND($B492=\"AZIONE_2\",$L492=4),'3 - SPECIE DA IMPIANTARE'!$U93,\"\")","v":""},null,"",{"$f":"IF(AND($B492=\"AZIONE_2\",$O492=5),'3 - SPECIE DA IMPIANTARE'!$U93,\"\")","v":""},null,"",{"$f":"IF(AND($B492=\"AZIONE_2\",$R492=6),'3 - SPECIE DA IMPIANTARE'!$U93,\"\")","v":""}]
[5,"","",{"$f":"IF(AND($B493=\"AZIONE_2\",C493=1),'3 - SPECIE DA IMPIANTARE'!$U94,\"\")","v":""},null,"",{"$f":"IF(AND($B493=\"AZIONE_2\",F493=2),'3 - SPECIE DA IMPIANTARE'!$U94,\"\")","v":""},null,"",{"$f":"IF(AND($B493=\"AZIONE_2\",$I493=3),'3 - SPECIE DA IMPIANTARE'!$U94,\"\")","v":""},null,"",{"$f":"IF(AND($B493=\"AZIONE_2\",$L493=4),'3 - SPECIE DA IMPIANTARE'!$U94,\"\")","v":""},null,"",{"$f":"IF(AND($B493=\"AZIONE_2\",$O493=5),'3 - SPECIE DA IMPIANTARE'!$U94,\"\")","v":""},null,"",{"$f":"IF(AND($B493=\"AZIONE_2\",$R493=6),'3 - SPECIE DA IMPIANTARE'!$U94,\"\")","v":""}]
[5,"","",{"$f":"IF(AND($B494=\"AZIONE_2\",C494=1),'3 - SPECIE DA IMPIANTARE'!$U95,\"\")","v":""},null,"",{"$f":"IF(AND($B494=\"AZIONE_2\",F494=2),'3 - SPECIE DA IMPIANTARE'!$U95,\"\")","v":""},null,"",{"$f":"IF(AND($B494=\"AZIONE_2\",$I494=3),'3 - SPECIE DA IMPIANTARE'!$U95,\"\")","v":""},null,"",{"$f":"IF(AND($B494=\"AZIONE_2\",$L494=4),'3 - SPECIE DA IMPIANTARE'!$U95,\"\")","v":""},null,"",{"$f":"IF(AND($B494=\"AZIONE_2\",$O494=5),'3 - SPECIE DA IMPIANTARE'!$U95,\"\")","v":""},null,"",{"$f":"IF(AND($B494=\"AZIONE_2\",$R494=6),'3 - SPECIE DA IMPIANTARE'!$U95,\"\")","v":""}]
[5,"","",{"$f":"IF(AND($B495=\"AZIONE_2\",C495=1),'3 - SPECIE DA IMPIANTARE'!$U96,\"\")","v":""},null,"",{"$f":"IF(AND($B495=\"AZIONE_2\",F495=2),'3 - SPECIE DA IMPIANTARE'!$U96,\"\")","v":""},null,"",{"$f":"IF(AND($B495=\"AZIONE_2\",$I495=3),'3 - SPECIE DA IMPIANTARE'!$U96,\"\")","v":""},null,"",{"$f":"IF(AND($B495=\"AZIONE_2\",$L495=4),'3 - SPECIE DA IMPIANTARE'!$U96,\"\")","v":""},null,"",{"$f":"IF(AND($B495=\"AZIONE_2\",$O495=5),'3 - SPECIE DA IMPIANTARE'!$U96,\"\")","v":""},null,"",{"$f":"IF(AND($B495=\"AZIONE_2\",$R495=6),'3 - SPECIE DA IMPIANTARE'!$U96,\"\")","v":""}]
[5,"","",{"$f":"IF(AND($B496=\"AZIONE_2\",C496=1),'3 - SPECIE DA IMPIANTARE'!$U97,\"\")","v":""},null,"",{"$f":"IF(AND($B496=\"AZIONE_2\",F496=2),'3 - SPECIE DA IMPIANTARE'!$U97,\"\")","v":""},null,"",{"$f":"IF(AND($B496=\"AZIONE_2\",$I496=3),'3 - SPECIE DA IMPIANTARE'!$U97,\"\")","v":""},null,"",{"$f":"IF(AND($B496=\"AZIONE_2\",$L496=4),'3 - SPECIE DA IMPIANTARE'!$U97,\"\")","v":""},null,"",{"$f":"IF(AND($B496=\"AZIONE_2\",$O496=5),'3 - SPECIE DA IMPIANTARE'!$U97,\"\")","v":""},null,"",{"$f":"IF(AND($B496=\"AZIONE_2\",$R496=6),'3 - SPECIE DA IMPIANTARE'!$U97,\"\")","v":""}]
[5,"","",{"$f":"IF(AND($B497=\"AZIONE_2\",C497=1),'3 - SPECIE DA IMPIANTARE'!$U98,\"\")","v":""},null,"",{"$f":"IF(AND($B497=\"AZIONE_2\",F497=2),'3 - SPECIE DA IMPIANTARE'!$U98,\"\")","v":""},null,"",{"$f":"IF(AND($B497=\"AZIONE_2\",$I497=3),'3 - SPECIE DA IMPIANTARE'!$U98,\"\")","v":""},null,"",{"$f":"IF(AND($B497=\"AZIONE_2\",$L497=4),'3 - SPECIE DA IMPIANTARE'!$U98,\"\")","v":""},null,"",{"$f":"IF(AND($B497=\"AZIONE_2\",$O497=5),'3 - SPECIE DA IMPIANTARE'!$U98,\"\")","v":""},null,"",{"$f":"IF(AND($B497=\"AZIONE_2\",$R497=6),'3 - SPECIE DA IMPIANTARE'!$U98,\"\")","v":""}]
[5,"","",{"$f":"IF(AND($B498=\"AZIONE_2\",C498=1),'3 - SPECIE DA IMPIANTARE'!$U99,\"\")","v":""},null,"",{"$f":"IF(AND($B498=\"AZIONE_2\",F498=2),'3 - SPECIE DA IMPIANTARE'!$U99,\"\")","v":""},null,"",{"$f":"IF(AND($B498=\"AZIONE_2\",$I498=3),'3 - SPECIE DA IMPIANTARE'!$U99,\"\")","v":""},null,"",{"$f":"IF(AND($B498=\"AZIONE_2\",$L498=4),'3 - SPECIE DA IMPIANTARE'!$U99,\"\")","v":""},null,"",{"$f":"IF(AND($B498=\"AZIONE_2\",$O498=5),'3 - SPECIE DA IMPIANTARE'!$U99,\"\")","v":""},null,"",{"$f":"IF(AND($B498=\"AZIONE_2\",$R498=6),'3 - SPECIE DA IMPIANTARE'!$U99,\"\")","v":""}]
[5,"","",{"$f":"IF(AND($B499=\"AZIONE_2\",C499=1),'3 - SPECIE DA IMPIANTARE'!$U100,\"\")","v":""},null,"",{"$f":"IF(AND($B499=\"AZIONE_2\",F499=2),'3 - SPECIE DA IMPIANTARE'!$U100,\"\")","v":""},null,"",{"$f":"IF(AND($B499=\"AZIONE_2\",$I499=3),'3 - SPECIE DA IMPIANTARE'!$U100,\"\")","v":""},null,"",{"$f":"IF(AND($B499=\"AZIONE_2\",$L499=4),'3 - SPECIE DA IMPIANTARE'!$U100,\"\")","v":""},null,"",{"$f":"IF(AND($B499=\"AZIONE_2\",$O499=5),'3 - SPECIE DA IMPIANTARE'!$U100,\"\")","v":""},null,"",{"$f":"IF(AND($B499=\"AZIONE_2\",$R499=6),'3 - SPECIE DA IMPIANTARE'!$U100,\"\")","v":""}]
[5,"","",{"$f":"IF(AND($B500=\"AZIONE_2\",C500=1),'3 - SPECIE DA IMPIANTARE'!$U101,\"\")","v":""},null,"",{"$f":"IF(AND($B500=\"AZIONE_2\",F500=2),'3 - SPECIE DA IMPIANTARE'!$U101,\"\")","v":""},null,"",{"$f":"IF(AND($B500=\"AZIONE_2\",$I500=3),'3 - SPECIE DA IMPIANTARE'!$U101,\"\")","v":""},null,"",{"$f":"IF(AND($B500=\"AZIONE_2\",$L500=4),'3 - SPECIE DA IMPIANTARE'!$U101,\"\")","v":""},null,"",{"$f":"IF(AND($B500=\"AZIONE_2\",$O500=5),'3 - SPECIE DA IMPIANTARE'!$U101,\"\")","v":""},null,"",{"$f":"IF(AND($B500=\"AZIONE_2\",$R500=6),'3 - SPECIE DA IMPIANTARE'!$U101,\"\")","v":""}]
[5,"","",{"$f":"IF(AND($B501=\"AZIONE_2\",C501=1),'3 - SPECIE DA IMPIANTARE'!$U102,\"\")","v":""},null,"",{"$f":"IF(AND($B501=\"AZIONE_2\",F501=2),'3 - SPECIE DA IMPIANTARE'!$U102,\"\")","v":""},null,"",{"$f":"IF(AND($B501=\"AZIONE_2\",$I501=3),'3 - SPECIE DA IMPIANTARE'!$U102,\"\")","v":""},null,"",{"$f":"IF(AND($B501=\"AZIONE_2\",$L501=4),'3 - SPECIE DA IMPIANTARE'!$U102,\"\")","v":""},null,"",{"$f":"IF(AND($B501=\"AZIONE_2\",$O501=5),'3 - SPECIE DA IMPIANTARE'!$U102,\"\")","v":""},null,"",{"$f":"IF(AND($B501=\"AZIONE_2\",$R501=6),'3 - SPECIE DA IMPIANTARE'!$U102,\"\")","v":""}]
[6,"","",{"$f":"IF(AND($B502=\"AZIONE_2\",C502=1),'3 - SPECIE DA IMPIANTARE'!$X3,\"\")","v":""},null,"",{"$f":"IF(AND($B502=\"AZIONE_2\",F502=2),'3 - SPECIE DA IMPIANTARE'!$X3,\"\")","v":""},null,"",{"$f":"IF(AND($B502=\"AZIONE_2\",$I502=3),'3 - SPECIE DA IMPIANTARE'!$X3,\"\")","v":""},null,"",{"$f":"IF(AND($B502=\"AZIONE_2\",$L502=4),'3 - SPECIE DA IMPIANTARE'!$X3,\"\")","v":""},null,"",{"$f":"IF(AND($B502=\"AZIONE_2\",$O502=5),'3 - SPECIE DA IMPIANTARE'!$X3,\"\")","v":""},null,"",{"$f":"IF(AND($B502=\"AZIONE_2\",$R502=6),'3 - SPECIE DA IMPIANTARE'!$X3,\"\")","v":""}]
[6,{"$f":"B403","v":""},"",{"$f":"IF(AND($B503=\"AZIONE_2\",C503=1),'3 - SPECIE DA IMPIANTARE'!$X4,\"\")","v":""},null,"",{"$f":"IF(AND($B503=\"AZIONE_2\",F503=2),'3 - SPECIE DA IMPIANTARE'!$X4,\"\")","v":""},null,"",{"$f":"IF(AND($B503=\"AZIONE_2\",$I503=3),'3 - SPECIE DA IMPIANTARE'!$X4,\"\")","v":""},null,"",{"$f":"IF(AND($B503=\"AZIONE_2\",$L503=4),'3 - SPECIE DA IMPIANTARE'!$X4,\"\")","v":""},null,"",{"$f":"IF(AND($B503=\"AZIONE_2\",$O503=5),'3 - SPECIE DA IMPIANTARE'!$X4,\"\")","v":""},null,"",{"$f":"IF(AND($B503=\"AZIONE_2\",$R503=6),'3 - SPECIE DA IMPIANTARE'!$X4,\"\")","v":""}]
[6,"","",{"$f":"IF(AND($B504=\"AZIONE_2\",C504=1),'3 - SPECIE DA IMPIANTARE'!$X5,\"\")","v":""},null,"",{"$f":"IF(AND($B504=\"AZIONE_2\",F504=2),'3 - SPECIE DA IMPIANTARE'!$X5,\"\")","v":""},null,"",{"$f":"IF(AND($B504=\"AZIONE_2\",$I504=3),'3 - SPECIE DA IMPIANTARE'!$X5,\"\")","v":""},null,"",{"$f":"IF(AND($B504=\"AZIONE_2\",$L504=4),'3 - SPECIE DA IMPIANTARE'!$X5,\"\")","v":""},null,"",{"$f":"IF(AND($B504=\"AZIONE_2\",$O504=5),'3 - SPECIE DA IMPIANTARE'!$X5,\"\")","v":""},null,"",{"$f":"IF(AND($B504=\"AZIONE_2\",$R504=6),'3 - SPECIE DA IMPIANTARE'!$X5,\"\")","v":""}]
[6,"","",{"$f":"IF(AND($B505=\"AZIONE_2\",C505=1),'3 - SPECIE DA IMPIANTARE'!$X6,\"\")","v":""},null,"",{"$f":"IF(AND($B505=\"AZIONE_2\",F505=2),'3 - SPECIE DA IMPIANTARE'!$X6,\"\")","v":""},null,"",{"$f":"IF(AND($B505=\"AZIONE_2\",$I505=3),'3 - SPECIE DA IMPIANTARE'!$X6,\"\")","v":""},null,"",{"$f":"IF(AND($B505=\"AZIONE_2\",$L505=4),'3 - SPECIE DA IMPIANTARE'!$X6,\"\")","v":""},null,"",{"$f":"IF(AND($B505=\"AZIONE_2\",$O505=5),'3 - SPECIE DA IMPIANTARE'!$X6,\"\")","v":""},null,"",{"$f":"IF(AND($B505=\"AZIONE_2\",$R505=6),'3 - SPECIE DA IMPIANTARE'!$X6,\"\")","v":""}]
[6,"","",{"$f":"IF(AND($B506=\"AZIONE_2\",C506=1),'3 - SPECIE DA IMPIANTARE'!$X7,\"\")","v":""},null,"",{"$f":"IF(AND($B506=\"AZIONE_2\",F506=2),'3 - SPECIE DA IMPIANTARE'!$X7,\"\")","v":""},null,"",{"$f":"IF(AND($B506=\"AZIONE_2\",$I506=3),'3 - SPECIE DA IMPIANTARE'!$X7,\"\")","v":""},null,"",{"$f":"IF(AND($B506=\"AZIONE_2\",$L506=4),'3 - SPECIE DA IMPIANTARE'!$X7,\"\")","v":""},null,"",{"$f":"IF(AND($B506=\"AZIONE_2\",$O506=5),'3 - SPECIE DA IMPIANTARE'!$X7,\"\")","v":""},null,"",{"$f":"IF(AND($B506=\"AZIONE_2\",$R506=6),'3 - SPECIE DA IMPIANTARE'!$X7,\"\")","v":""}]
[6,"","",{"$f":"IF(AND($B507=\"AZIONE_2\",C507=1),'3 - SPECIE DA IMPIANTARE'!$X8,\"\")","v":""},null,"",{"$f":"IF(AND($B507=\"AZIONE_2\",F507=2),'3 - SPECIE DA IMPIANTARE'!$X8,\"\")","v":""},null,"",{"$f":"IF(AND($B507=\"AZIONE_2\",$I507=3),'3 - SPECIE DA IMPIANTARE'!$X8,\"\")","v":""},null,"",{"$f":"IF(AND($B507=\"AZIONE_2\",$L507=4),'3 - SPECIE DA IMPIANTARE'!$X8,\"\")","v":""},null,"",{"$f":"IF(AND($B507=\"AZIONE_2\",$O507=5),'3 - SPECIE DA IMPIANTARE'!$X8,\"\")","v":""},null,"",{"$f":"IF(AND($B507=\"AZIONE_2\",$R507=6),'3 - SPECIE DA IMPIANTARE'!$X8,\"\")","v":""}]
[6,"","",{"$f":"IF(AND($B508=\"AZIONE_2\",C508=1),'3 - SPECIE DA IMPIANTARE'!$X9,\"\")","v":""},null,"",{"$f":"IF(AND($B508=\"AZIONE_2\",F508=2),'3 - SPECIE DA IMPIANTARE'!$X9,\"\")","v":""},null,"",{"$f":"IF(AND($B508=\"AZIONE_2\",$I508=3),'3 - SPECIE DA IMPIANTARE'!$X9,\"\")","v":""},null,"",{"$f":"IF(AND($B508=\"AZIONE_2\",$L508=4),'3 - SPECIE DA IMPIANTARE'!$X9,\"\")","v":""},null,"",{"$f":"IF(AND($B508=\"AZIONE_2\",$O508=5),'3 - SPECIE DA IMPIANTARE'!$X9,\"\")","v":""},null,"",{"$f":"IF(AND($B508=\"AZIONE_2\",$R508=6),'3 - SPECIE DA IMPIANTARE'!$X9,\"\")","v":""}]
[6,"","",{"$f":"IF(AND($B509=\"AZIONE_2\",C509=1),'3 - SPECIE DA IMPIANTARE'!$X10,\"\")","v":""},null,"",{"$f":"IF(AND($B509=\"AZIONE_2\",F509=2),'3 - SPECIE DA IMPIANTARE'!$X10,\"\")","v":""},null,"",{"$f":"IF(AND($B509=\"AZIONE_2\",$I509=3),'3 - SPECIE DA IMPIANTARE'!$X10,\"\")","v":""},null,"",{"$f":"IF(AND($B509=\"AZIONE_2\",$L509=4),'3 - SPECIE DA IMPIANTARE'!$X10,\"\")","v":""},null,"",{"$f":"IF(AND($B509=\"AZIONE_2\",$O509=5),'3 - SPECIE DA IMPIANTARE'!$X10,\"\")","v":""},null,"",{"$f":"IF(AND($B509=\"AZIONE_2\",$R509=6),'3 - SPECIE DA IMPIANTARE'!$X10,\"\")","v":""}]
[6,"","",{"$f":"IF(AND($B510=\"AZIONE_2\",C510=1),'3 - SPECIE DA IMPIANTARE'!$X11,\"\")","v":""},null,"",{"$f":"IF(AND($B510=\"AZIONE_2\",F510=2),'3 - SPECIE DA IMPIANTARE'!$X11,\"\")","v":""},null,"",{"$f":"IF(AND($B510=\"AZIONE_2\",$I510=3),'3 - SPECIE DA IMPIANTARE'!$X11,\"\")","v":""},null,"",{"$f":"IF(AND($B510=\"AZIONE_2\",$L510=4),'3 - SPECIE DA IMPIANTARE'!$X11,\"\")","v":""},null,"",{"$f":"IF(AND($B510=\"AZIONE_2\",$O510=5),'3 - SPECIE DA IMPIANTARE'!$X11,\"\")","v":""},null,"",{"$f":"IF(AND($B510=\"AZIONE_2\",$R510=6),'3 - SPECIE DA IMPIANTARE'!$X11,\"\")","v":""}]
[6,"","",{"$f":"IF(AND($B511=\"AZIONE_2\",C511=1),'3 - SPECIE DA IMPIANTARE'!$X12,\"\")","v":""},null,"",{"$f":"IF(AND($B511=\"AZIONE_2\",F511=2),'3 - SPECIE DA IMPIANTARE'!$X12,\"\")","v":""},null,"",{"$f":"IF(AND($B511=\"AZIONE_2\",$I511=3),'3 - SPECIE DA IMPIANTARE'!$X12,\"\")","v":""},null,"",{"$f":"IF(AND($B511=\"AZIONE_2\",$L511=4),'3 - SPECIE DA IMPIANTARE'!$X12,\"\")","v":""},null,"",{"$f":"IF(AND($B511=\"AZIONE_2\",$O511=5),'3 - SPECIE DA IMPIANTARE'!$X12,\"\")","v":""},null,"",{"$f":"IF(AND($B511=\"AZIONE_2\",$R511=6),'3 - SPECIE DA IMPIANTARE'!$X12,\"\")","v":""}]
[6,"","",{"$f":"IF(AND($B512=\"AZIONE_2\",C512=1),'3 - SPECIE DA IMPIANTARE'!$X13,\"\")","v":""},null,"",{"$f":"IF(AND($B512=\"AZIONE_2\",F512=2),'3 - SPECIE DA IMPIANTARE'!$X13,\"\")","v":""},null,"",{"$f":"IF(AND($B512=\"AZIONE_2\",$I512=3),'3 - SPECIE DA IMPIANTARE'!$X13,\"\")","v":""},null,"",{"$f":"IF(AND($B512=\"AZIONE_2\",$L512=4),'3 - SPECIE DA IMPIANTARE'!$X13,\"\")","v":""},null,"",{"$f":"IF(AND($B512=\"AZIONE_2\",$O512=5),'3 - SPECIE DA IMPIANTARE'!$X13,\"\")","v":""},null,"",{"$f":"IF(AND($B512=\"AZIONE_2\",$R512=6),'3 - SPECIE DA IMPIANTARE'!$X13,\"\")","v":""}]
[6,"","",{"$f":"IF(AND($B513=\"AZIONE_2\",C513=1),'3 - SPECIE DA IMPIANTARE'!$X14,\"\")","v":""},null,"",{"$f":"IF(AND($B513=\"AZIONE_2\",F513=2),'3 - SPECIE DA IMPIANTARE'!$X14,\"\")","v":""},null,"",{"$f":"IF(AND($B513=\"AZIONE_2\",$I513=3),'3 - SPECIE DA IMPIANTARE'!$X14,\"\")","v":""},null,"",{"$f":"IF(AND($B513=\"AZIONE_2\",$L513=4),'3 - SPECIE DA IMPIANTARE'!$X14,\"\")","v":""},null,"",{"$f":"IF(AND($B513=\"AZIONE_2\",$O513=5),'3 - SPECIE DA IMPIANTARE'!$X14,\"\")","v":""},null,"",{"$f":"IF(AND($B513=\"AZIONE_2\",$R513=6),'3 - SPECIE DA IMPIANTARE'!$X14,\"\")","v":""}]
[6,"","",{"$f":"IF(AND($B514=\"AZIONE_2\",C514=1),'3 - SPECIE DA IMPIANTARE'!$X15,\"\")","v":""},null,"",{"$f":"IF(AND($B514=\"AZIONE_2\",F514=2),'3 - SPECIE DA IMPIANTARE'!$X15,\"\")","v":""},null,"",{"$f":"IF(AND($B514=\"AZIONE_2\",$I514=3),'3 - SPECIE DA IMPIANTARE'!$X15,\"\")","v":""},null,"",{"$f":"IF(AND($B514=\"AZIONE_2\",$L514=4),'3 - SPECIE DA IMPIANTARE'!$X15,\"\")","v":""},null,"",{"$f":"IF(AND($B514=\"AZIONE_2\",$O514=5),'3 - SPECIE DA IMPIANTARE'!$X15,\"\")","v":""},null,"",{"$f":"IF(AND($B514=\"AZIONE_2\",$R514=6),'3 - SPECIE DA IMPIANTARE'!$X15,\"\")","v":""}]
[6,"","",{"$f":"IF(AND($B515=\"AZIONE_2\",C515=1),'3 - SPECIE DA IMPIANTARE'!$X16,\"\")","v":""},null,"",{"$f":"IF(AND($B515=\"AZIONE_2\",F515=2),'3 - SPECIE DA IMPIANTARE'!$X16,\"\")","v":""},null,"",{"$f":"IF(AND($B515=\"AZIONE_2\",$I515=3),'3 - SPECIE DA IMPIANTARE'!$X16,\"\")","v":""},null,"",{"$f":"IF(AND($B515=\"AZIONE_2\",$L515=4),'3 - SPECIE DA IMPIANTARE'!$X16,\"\")","v":""},null,"",{"$f":"IF(AND($B515=\"AZIONE_2\",$O515=5),'3 - SPECIE DA IMPIANTARE'!$X16,\"\")","v":""},null,"",{"$f":"IF(AND($B515=\"AZIONE_2\",$R515=6),'3 - SPECIE DA IMPIANTARE'!$X16,\"\")","v":""}]
[6,"","",{"$f":"IF(AND($B516=\"AZIONE_2\",C516=1),'3 - SPECIE DA IMPIANTARE'!$X17,\"\")","v":""},null,"",{"$f":"IF(AND($B516=\"AZIONE_2\",F516=2),'3 - SPECIE DA IMPIANTARE'!$X17,\"\")","v":""},null,"",{"$f":"IF(AND($B516=\"AZIONE_2\",$I516=3),'3 - SPECIE DA IMPIANTARE'!$X17,\"\")","v":""},null,"",{"$f":"IF(AND($B516=\"AZIONE_2\",$L516=4),'3 - SPECIE DA IMPIANTARE'!$X17,\"\")","v":""},null,"",{"$f":"IF(AND($B516=\"AZIONE_2\",$O516=5),'3 - SPECIE DA IMPIANTARE'!$X17,\"\")","v":""},null,"",{"$f":"IF(AND($B516=\"AZIONE_2\",$R516=6),'3 - SPECIE DA IMPIANTARE'!$X17,\"\")","v":""}]
[6,"","",{"$f":"IF(AND($B517=\"AZIONE_2\",C517=1),'3 - SPECIE DA IMPIANTARE'!$X18,\"\")","v":""},null,"",{"$f":"IF(AND($B517=\"AZIONE_2\",F517=2),'3 - SPECIE DA IMPIANTARE'!$X18,\"\")","v":""},null,"",{"$f":"IF(AND($B517=\"AZIONE_2\",$I517=3),'3 - SPECIE DA IMPIANTARE'!$X18,\"\")","v":""},null,"",{"$f":"IF(AND($B517=\"AZIONE_2\",$L517=4),'3 - SPECIE DA IMPIANTARE'!$X18,\"\")","v":""},null,"",{"$f":"IF(AND($B517=\"AZIONE_2\",$O517=5),'3 - SPECIE DA IMPIANTARE'!$X18,\"\")","v":""},null,"",{"$f":"IF(AND($B517=\"AZIONE_2\",$R517=6),'3 - SPECIE DA IMPIANTARE'!$X18,\"\")","v":""}]
[6,"","",{"$f":"IF(AND($B518=\"AZIONE_2\",C518=1),'3 - SPECIE DA IMPIANTARE'!$X19,\"\")","v":""},null,"",{"$f":"IF(AND($B518=\"AZIONE_2\",F518=2),'3 - SPECIE DA IMPIANTARE'!$X19,\"\")","v":""},null,"",{"$f":"IF(AND($B518=\"AZIONE_2\",$I518=3),'3 - SPECIE DA IMPIANTARE'!$X19,\"\")","v":""},null,"",{"$f":"IF(AND($B518=\"AZIONE_2\",$L518=4),'3 - SPECIE DA IMPIANTARE'!$X19,\"\")","v":""},null,"",{"$f":"IF(AND($B518=\"AZIONE_2\",$O518=5),'3 - SPECIE DA IMPIANTARE'!$X19,\"\")","v":""},null,"",{"$f":"IF(AND($B518=\"AZIONE_2\",$R518=6),'3 - SPECIE DA IMPIANTARE'!$X19,\"\")","v":""}]
[6,{"$f":"B419","v":""},"",{"$f":"IF(AND($B519=\"AZIONE_2\",C519=1),'3 - SPECIE DA IMPIANTARE'!$X20,\"\")","v":""},null,"",{"$f":"IF(AND($B519=\"AZIONE_2\",F519=2),'3 - SPECIE DA IMPIANTARE'!$X20,\"\")","v":""},null,"",{"$f":"IF(AND($B519=\"AZIONE_2\",$I519=3),'3 - SPECIE DA IMPIANTARE'!$X20,\"\")","v":""},null,"",{"$f":"IF(AND($B519=\"AZIONE_2\",$L519=4),'3 - SPECIE DA IMPIANTARE'!$X20,\"\")","v":""},null,"",{"$f":"IF(AND($B519=\"AZIONE_2\",$O519=5),'3 - SPECIE DA IMPIANTARE'!$X20,\"\")","v":""},null,"",{"$f":"IF(AND($B519=\"AZIONE_2\",$R519=6),'3 - SPECIE DA IMPIANTARE'!$X20,\"\")","v":""}]
[6,"","",{"$f":"IF(AND($B520=\"AZIONE_2\",C520=1),'3 - SPECIE DA IMPIANTARE'!$X21,\"\")","v":""},null,"",{"$f":"IF(AND($B520=\"AZIONE_2\",F520=2),'3 - SPECIE DA IMPIANTARE'!$X21,\"\")","v":""},null,"",{"$f":"IF(AND($B520=\"AZIONE_2\",$I520=3),'3 - SPECIE DA IMPIANTARE'!$X21,\"\")","v":""},null,"",{"$f":"IF(AND($B520=\"AZIONE_2\",$L520=4),'3 - SPECIE DA IMPIANTARE'!$X21,\"\")","v":""},null,"",{"$f":"IF(AND($B520=\"AZIONE_2\",$O520=5),'3 - SPECIE DA IMPIANTARE'!$X21,\"\")","v":""},null,"",{"$f":"IF(AND($B520=\"AZIONE_2\",$R520=6),'3 - SPECIE DA IMPIANTARE'!$X21,\"\")","v":""}]
[6,"","",{"$f":"IF(AND($B521=\"AZIONE_2\",C521=1),'3 - SPECIE DA IMPIANTARE'!$X22,\"\")","v":""},null,"",{"$f":"IF(AND($B521=\"AZIONE_2\",F521=2),'3 - SPECIE DA IMPIANTARE'!$X22,\"\")","v":""},null,"",{"$f":"IF(AND($B521=\"AZIONE_2\",$I521=3),'3 - SPECIE DA IMPIANTARE'!$X22,\"\")","v":""},null,"",{"$f":"IF(AND($B521=\"AZIONE_2\",$L521=4),'3 - SPECIE DA IMPIANTARE'!$X22,\"\")","v":""},null,"",{"$f":"IF(AND($B521=\"AZIONE_2\",$O521=5),'3 - SPECIE DA IMPIANTARE'!$X22,\"\")","v":""},null,"",{"$f":"IF(AND($B521=\"AZIONE_2\",$R521=6),'3 - SPECIE DA IMPIANTARE'!$X22,\"\")","v":""}]
[6,"","",{"$f":"IF(AND($B522=\"AZIONE_2\",C522=1),'3 - SPECIE DA IMPIANTARE'!$X23,\"\")","v":""},null,"",{"$f":"IF(AND($B522=\"AZIONE_2\",F522=2),'3 - SPECIE DA IMPIANTARE'!$X23,\"\")","v":""},null,"",{"$f":"IF(AND($B522=\"AZIONE_2\",$I522=3),'3 - SPECIE DA IMPIANTARE'!$X23,\"\")","v":""},null,"",{"$f":"IF(AND($B522=\"AZIONE_2\",$L522=4),'3 - SPECIE DA IMPIANTARE'!$X23,\"\")","v":""},null,"",{"$f":"IF(AND($B522=\"AZIONE_2\",$O522=5),'3 - SPECIE DA IMPIANTARE'!$X23,\"\")","v":""},null,"",{"$f":"IF(AND($B522=\"AZIONE_2\",$R522=6),'3 - SPECIE DA IMPIANTARE'!$X23,\"\")","v":""}]
[6,"","",{"$f":"IF(AND($B523=\"AZIONE_2\",C523=1),'3 - SPECIE DA IMPIANTARE'!$X24,\"\")","v":""},null,"",{"$f":"IF(AND($B523=\"AZIONE_2\",F523=2),'3 - SPECIE DA IMPIANTARE'!$X24,\"\")","v":""},null,"",{"$f":"IF(AND($B523=\"AZIONE_2\",$I523=3),'3 - SPECIE DA IMPIANTARE'!$X24,\"\")","v":""},null,"",{"$f":"IF(AND($B523=\"AZIONE_2\",$L523=4),'3 - SPECIE DA IMPIANTARE'!$X24,\"\")","v":""},null,"",{"$f":"IF(AND($B523=\"AZIONE_2\",$O523=5),'3 - SPECIE DA IMPIANTARE'!$X24,\"\")","v":""},null,"",{"$f":"IF(AND($B523=\"AZIONE_2\",$R523=6),'3 - SPECIE DA IMPIANTARE'!$X24,\"\")","v":""}]
[6,"","",{"$f":"IF(AND($B524=\"AZIONE_2\",C524=1),'3 - SPECIE DA IMPIANTARE'!$X25,\"\")","v":""},null,"",{"$f":"IF(AND($B524=\"AZIONE_2\",F524=2),'3 - SPECIE DA IMPIANTARE'!$X25,\"\")","v":""},null,"",{"$f":"IF(AND($B524=\"AZIONE_2\",$I524=3),'3 - SPECIE DA IMPIANTARE'!$X25,\"\")","v":""},null,"",{"$f":"IF(AND($B524=\"AZIONE_2\",$L524=4),'3 - SPECIE DA IMPIANTARE'!$X25,\"\")","v":""},null,"",{"$f":"IF(AND($B524=\"AZIONE_2\",$O524=5),'3 - SPECIE DA IMPIANTARE'!$X25,\"\")","v":""},null,"",{"$f":"IF(AND($B524=\"AZIONE_2\",$R524=6),'3 - SPECIE DA IMPIANTARE'!$X25,\"\")","v":""}]
[6,"","",{"$f":"IF(AND($B525=\"AZIONE_2\",C525=1),'3 - SPECIE DA IMPIANTARE'!$X26,\"\")","v":""},null,"",{"$f":"IF(AND($B525=\"AZIONE_2\",F525=2),'3 - SPECIE DA IMPIANTARE'!$X26,\"\")","v":""},null,"",{"$f":"IF(AND($B525=\"AZIONE_2\",$I525=3),'3 - SPECIE DA IMPIANTARE'!$X26,\"\")","v":""},null,"",{"$f":"IF(AND($B525=\"AZIONE_2\",$L525=4),'3 - SPECIE DA IMPIANTARE'!$X26,\"\")","v":""},null,"",{"$f":"IF(AND($B525=\"AZIONE_2\",$O525=5),'3 - SPECIE DA IMPIANTARE'!$X26,\"\")","v":""},null,"",{"$f":"IF(AND($B525=\"AZIONE_2\",$R525=6),'3 - SPECIE DA IMPIANTARE'!$X26,\"\")","v":""}]
[6,"","",{"$f":"IF(AND($B526=\"AZIONE_2\",C526=1),'3 - SPECIE DA IMPIANTARE'!$X27,\"\")","v":""},null,"",{"$f":"IF(AND($B526=\"AZIONE_2\",F526=2),'3 - SPECIE DA IMPIANTARE'!$X27,\"\")","v":""},null,"",{"$f":"IF(AND($B526=\"AZIONE_2\",$I526=3),'3 - SPECIE DA IMPIANTARE'!$X27,\"\")","v":""},null,"",{"$f":"IF(AND($B526=\"AZIONE_2\",$L526=4),'3 - SPECIE DA IMPIANTARE'!$X27,\"\")","v":""},null,"",{"$f":"IF(AND($B526=\"AZIONE_2\",$O526=5),'3 - SPECIE DA IMPIANTARE'!$X27,\"\")","v":""},null,"",{"$f":"IF(AND($B526=\"AZIONE_2\",$R526=6),'3 - SPECIE DA IMPIANTARE'!$X27,\"\")","v":""}]
[6,"","",{"$f":"IF(AND($B527=\"AZIONE_2\",C527=1),'3 - SPECIE DA IMPIANTARE'!$X28,\"\")","v":""},null,"",{"$f":"IF(AND($B527=\"AZIONE_2\",F527=2),'3 - SPECIE DA IMPIANTARE'!$X28,\"\")","v":""},null,"",{"$f":"IF(AND($B527=\"AZIONE_2\",$I527=3),'3 - SPECIE DA IMPIANTARE'!$X28,\"\")","v":""},null,"",{"$f":"IF(AND($B527=\"AZIONE_2\",$L527=4),'3 - SPECIE DA IMPIANTARE'!$X28,\"\")","v":""},null,"",{"$f":"IF(AND($B527=\"AZIONE_2\",$O527=5),'3 - SPECIE DA IMPIANTARE'!$X28,\"\")","v":""},null,"",{"$f":"IF(AND($B527=\"AZIONE_2\",$R527=6),'3 - SPECIE DA IMPIANTARE'!$X28,\"\")","v":""}]
[6,"","",{"$f":"IF(AND($B528=\"AZIONE_2\",C528=1),'3 - SPECIE DA IMPIANTARE'!$X29,\"\")","v":""},null,"",{"$f":"IF(AND($B528=\"AZIONE_2\",F528=2),'3 - SPECIE DA IMPIANTARE'!$X29,\"\")","v":""},null,"",{"$f":"IF(AND($B528=\"AZIONE_2\",$I528=3),'3 - SPECIE DA IMPIANTARE'!$X29,\"\")","v":""},null,"",{"$f":"IF(AND($B528=\"AZIONE_2\",$L528=4),'3 - SPECIE DA IMPIANTARE'!$X29,\"\")","v":""},null,"",{"$f":"IF(AND($B528=\"AZIONE_2\",$O528=5),'3 - SPECIE DA IMPIANTARE'!$X29,\"\")","v":""},null,"",{"$f":"IF(AND($B528=\"AZIONE_2\",$R528=6),'3 - SPECIE DA IMPIANTARE'!$X29,\"\")","v":""}]
[6,"","",{"$f":"IF(AND($B529=\"AZIONE_2\",C529=1),'3 - SPECIE DA IMPIANTARE'!$X30,\"\")","v":""},null,"",{"$f":"IF(AND($B529=\"AZIONE_2\",F529=2),'3 - SPECIE DA IMPIANTARE'!$X30,\"\")","v":""},null,"",{"$f":"IF(AND($B529=\"AZIONE_2\",$I529=3),'3 - SPECIE DA IMPIANTARE'!$X30,\"\")","v":""},null,"",{"$f":"IF(AND($B529=\"AZIONE_2\",$L529=4),'3 - SPECIE DA IMPIANTARE'!$X30,\"\")","v":""},null,"",{"$f":"IF(AND($B529=\"AZIONE_2\",$O529=5),'3 - SPECIE DA IMPIANTARE'!$X30,\"\")","v":""},null,"",{"$f":"IF(AND($B529=\"AZIONE_2\",$R529=6),'3 - SPECIE DA IMPIANTARE'!$X30,\"\")","v":""}]
[6,"","",{"$f":"IF(AND($B530=\"AZIONE_2\",C530=1),'3 - SPECIE DA IMPIANTARE'!$X31,\"\")","v":""},null,"",{"$f":"IF(AND($B530=\"AZIONE_2\",F530=2),'3 - SPECIE DA IMPIANTARE'!$X31,\"\")","v":""},null,"",{"$f":"IF(AND($B530=\"AZIONE_2\",$I530=3),'3 - SPECIE DA IMPIANTARE'!$X31,\"\")","v":""},null,"",{"$f":"IF(AND($B530=\"AZIONE_2\",$L530=4),'3 - SPECIE DA IMPIANTARE'!$X31,\"\")","v":""},null,"",{"$f":"IF(AND($B530=\"AZIONE_2\",$O530=5),'3 - SPECIE DA IMPIANTARE'!$X31,\"\")","v":""},null,"",{"$f":"IF(AND($B530=\"AZIONE_2\",$R530=6),'3 - SPECIE DA IMPIANTARE'!$X31,\"\")","v":""}]
[6,"","",{"$f":"IF(AND($B531=\"AZIONE_2\",C531=1),'3 - SPECIE DA IMPIANTARE'!$X32,\"\")","v":""},null,"",{"$f":"IF(AND($B531=\"AZIONE_2\",F531=2),'3 - SPECIE DA IMPIANTARE'!$X32,\"\")","v":""},null,"",{"$f":"IF(AND($B531=\"AZIONE_2\",$I531=3),'3 - SPECIE DA IMPIANTARE'!$X32,\"\")","v":""},null,"",{"$f":"IF(AND($B531=\"AZIONE_2\",$L531=4),'3 - SPECIE DA IMPIANTARE'!$X32,\"\")","v":""},null,"",{"$f":"IF(AND($B531=\"AZIONE_2\",$O531=5),'3 - SPECIE DA IMPIANTARE'!$X32,\"\")","v":""},null,"",{"$f":"IF(AND($B531=\"AZIONE_2\",$R531=6),'3 - SPECIE DA IMPIANTARE'!$X32,\"\")","v":""}]
[6,"","",{"$f":"IF(AND($B532=\"AZIONE_2\",C532=1),'3 - SPECIE DA IMPIANTARE'!$X33,\"\")","v":""},null,"",{"$f":"IF(AND($B532=\"AZIONE_2\",F532=2),'3 - SPECIE DA IMPIANTARE'!$X33,\"\")","v":""},null,"",{"$f":"IF(AND($B532=\"AZIONE_2\",$I532=3),'3 - SPECIE DA IMPIANTARE'!$X33,\"\")","v":""},null,"",{"$f":"IF(AND($B532=\"AZIONE_2\",$L532=4),'3 - SPECIE DA IMPIANTARE'!$X33,\"\")","v":""},null,"",{"$f":"IF(AND($B532=\"AZIONE_2\",$O532=5),'3 - SPECIE DA IMPIANTARE'!$X33,\"\")","v":""},null,"",{"$f":"IF(AND($B532=\"AZIONE_2\",$R532=6),'3 - SPECIE DA IMPIANTARE'!$X33,\"\")","v":""}]
[6,"","",{"$f":"IF(AND($B533=\"AZIONE_2\",C533=1),'3 - SPECIE DA IMPIANTARE'!$X34,\"\")","v":""},null,"",{"$f":"IF(AND($B533=\"AZIONE_2\",F533=2),'3 - SPECIE DA IMPIANTARE'!$X34,\"\")","v":""},null,"",{"$f":"IF(AND($B533=\"AZIONE_2\",$I533=3),'3 - SPECIE DA IMPIANTARE'!$X34,\"\")","v":""},null,"",{"$f":"IF(AND($B533=\"AZIONE_2\",$L533=4),'3 - SPECIE DA IMPIANTARE'!$X34,\"\")","v":""},null,"",{"$f":"IF(AND($B533=\"AZIONE_2\",$O533=5),'3 - SPECIE DA IMPIANTARE'!$X34,\"\")","v":""},null,"",{"$f":"IF(AND($B533=\"AZIONE_2\",$R533=6),'3 - SPECIE DA IMPIANTARE'!$X34,\"\")","v":""}]
[6,"","",{"$f":"IF(AND($B534=\"AZIONE_2\",C534=1),'3 - SPECIE DA IMPIANTARE'!$X35,\"\")","v":""},null,"",{"$f":"IF(AND($B534=\"AZIONE_2\",F534=2),'3 - SPECIE DA IMPIANTARE'!$X35,\"\")","v":""},null,"",{"$f":"IF(AND($B534=\"AZIONE_2\",$I534=3),'3 - SPECIE DA IMPIANTARE'!$X35,\"\")","v":""},null,"",{"$f":"IF(AND($B534=\"AZIONE_2\",$L534=4),'3 - SPECIE DA IMPIANTARE'!$X35,\"\")","v":""},null,"",{"$f":"IF(AND($B534=\"AZIONE_2\",$O534=5),'3 - SPECIE DA IMPIANTARE'!$X35,\"\")","v":""},null,"",{"$f":"IF(AND($B534=\"AZIONE_2\",$R534=6),'3 - SPECIE DA IMPIANTARE'!$X35,\"\")","v":""}]
[6,{"$f":"B435","v":""},"",{"$f":"IF(AND($B535=\"AZIONE_2\",C535=1),'3 - SPECIE DA IMPIANTARE'!$X36,\"\")","v":""},null,"",{"$f":"IF(AND($B535=\"AZIONE_2\",F535=2),'3 - SPECIE DA IMPIANTARE'!$X36,\"\")","v":""},null,"",{"$f":"IF(AND($B535=\"AZIONE_2\",$I535=3),'3 - SPECIE DA IMPIANTARE'!$X36,\"\")","v":""},null,"",{"$f":"IF(AND($B535=\"AZIONE_2\",$L535=4),'3 - SPECIE DA IMPIANTARE'!$X36,\"\")","v":""},null,"",{"$f":"IF(AND($B535=\"AZIONE_2\",$O535=5),'3 - SPECIE DA IMPIANTARE'!$X36,\"\")","v":""},null,"",{"$f":"IF(AND($B535=\"AZIONE_2\",$R535=6),'3 - SPECIE DA IMPIANTARE'!$X36,\"\")","v":""}]
[6,"","",{"$f":"IF(AND($B536=\"AZIONE_2\",C536=1),'3 - SPECIE DA IMPIANTARE'!$X37,\"\")","v":""},null,"",{"$f":"IF(AND($B536=\"AZIONE_2\",F536=2),'3 - SPECIE DA IMPIANTARE'!$X37,\"\")","v":""},null,"",{"$f":"IF(AND($B536=\"AZIONE_2\",$I536=3),'3 - SPECIE DA IMPIANTARE'!$X37,\"\")","v":""},null,"",{"$f":"IF(AND($B536=\"AZIONE_2\",$L536=4),'3 - SPECIE DA IMPIANTARE'!$X37,\"\")","v":""},null,"",{"$f":"IF(AND($B536=\"AZIONE_2\",$O536=5),'3 - SPECIE DA IMPIANTARE'!$X37,\"\")","v":""},null,"",{"$f":"IF(AND($B536=\"AZIONE_2\",$R536=6),'3 - SPECIE DA IMPIANTARE'!$X37,\"\")","v":""}]
[6,"","",{"$f":"IF(AND($B537=\"AZIONE_2\",C537=1),'3 - SPECIE DA IMPIANTARE'!$X38,\"\")","v":""},null,"",{"$f":"IF(AND($B537=\"AZIONE_2\",F537=2),'3 - SPECIE DA IMPIANTARE'!$X38,\"\")","v":""},null,"",{"$f":"IF(AND($B537=\"AZIONE_2\",$I537=3),'3 - SPECIE DA IMPIANTARE'!$X38,\"\")","v":""},null,"",{"$f":"IF(AND($B537=\"AZIONE_2\",$L537=4),'3 - SPECIE DA IMPIANTARE'!$X38,\"\")","v":""},null,"",{"$f":"IF(AND($B537=\"AZIONE_2\",$O537=5),'3 - SPECIE DA IMPIANTARE'!$X38,\"\")","v":""},null,"",{"$f":"IF(AND($B537=\"AZIONE_2\",$R537=6),'3 - SPECIE DA IMPIANTARE'!$X38,\"\")","v":""}]
[6,"","",{"$f":"IF(AND($B538=\"AZIONE_2\",C538=1),'3 - SPECIE DA IMPIANTARE'!$X39,\"\")","v":""},null,"",{"$f":"IF(AND($B538=\"AZIONE_2\",F538=2),'3 - SPECIE DA IMPIANTARE'!$X39,\"\")","v":""},null,"",{"$f":"IF(AND($B538=\"AZIONE_2\",$I538=3),'3 - SPECIE DA IMPIANTARE'!$X39,\"\")","v":""},null,"",{"$f":"IF(AND($B538=\"AZIONE_2\",$L538=4),'3 - SPECIE DA IMPIANTARE'!$X39,\"\")","v":""},null,"",{"$f":"IF(AND($B538=\"AZIONE_2\",$O538=5),'3 - SPECIE DA IMPIANTARE'!$X39,\"\")","v":""},null,"",{"$f":"IF(AND($B538=\"AZIONE_2\",$R538=6),'3 - SPECIE DA IMPIANTARE'!$X39,\"\")","v":""}]
[6,"","",{"$f":"IF(AND($B539=\"AZIONE_2\",C539=1),'3 - SPECIE DA IMPIANTARE'!$X40,\"\")","v":""},null,"",{"$f":"IF(AND($B539=\"AZIONE_2\",F539=2),'3 - SPECIE DA IMPIANTARE'!$X40,\"\")","v":""},null,"",{"$f":"IF(AND($B539=\"AZIONE_2\",$I539=3),'3 - SPECIE DA IMPIANTARE'!$X40,\"\")","v":""},null,"",{"$f":"IF(AND($B539=\"AZIONE_2\",$L539=4),'3 - SPECIE DA IMPIANTARE'!$X40,\"\")","v":""},null,"",{"$f":"IF(AND($B539=\"AZIONE_2\",$O539=5),'3 - SPECIE DA IMPIANTARE'!$X40,\"\")","v":""},null,"",{"$f":"IF(AND($B539=\"AZIONE_2\",$R539=6),'3 - SPECIE DA IMPIANTARE'!$X40,\"\")","v":""}]
[6,"","",{"$f":"IF(AND($B540=\"AZIONE_2\",C540=1),'3 - SPECIE DA IMPIANTARE'!$X41,\"\")","v":""},null,"",{"$f":"IF(AND($B540=\"AZIONE_2\",F540=2),'3 - SPECIE DA IMPIANTARE'!$X41,\"\")","v":""},null,"",{"$f":"IF(AND($B540=\"AZIONE_2\",$I540=3),'3 - SPECIE DA IMPIANTARE'!$X41,\"\")","v":""},null,"",{"$f":"IF(AND($B540=\"AZIONE_2\",$L540=4),'3 - SPECIE DA IMPIANTARE'!$X41,\"\")","v":""},null,"",{"$f":"IF(AND($B540=\"AZIONE_2\",$O540=5),'3 - SPECIE DA IMPIANTARE'!$X41,\"\")","v":""},null,"",{"$f":"IF(AND($B540=\"AZIONE_2\",$R540=6),'3 - SPECIE DA IMPIANTARE'!$X41,\"\")","v":""}]
[6,"","",{"$f":"IF(AND($B541=\"AZIONE_2\",C541=1),'3 - SPECIE DA IMPIANTARE'!$X42,\"\")","v":""},null,"",{"$f":"IF(AND($B541=\"AZIONE_2\",F541=2),'3 - SPECIE DA IMPIANTARE'!$X42,\"\")","v":""},null,"",{"$f":"IF(AND($B541=\"AZIONE_2\",$I541=3),'3 - SPECIE DA IMPIANTARE'!$X42,\"\")","v":""},null,"",{"$f":"IF(AND($B541=\"AZIONE_2\",$L541=4),'3 - SPECIE DA IMPIANTARE'!$X42,\"\")","v":""},null,"",{"$f":"IF(AND($B541=\"AZIONE_2\",$O541=5),'3 - SPECIE DA IMPIANTARE'!$X42,\"\")","v":""},null,"",{"$f":"IF(AND($B541=\"AZIONE_2\",$R541=6),'3 - SPECIE DA IMPIANTARE'!$X42,\"\")","v":""}]
[6,"","",{"$f":"IF(AND($B542=\"AZIONE_2\",C542=1),'3 - SPECIE DA IMPIANTARE'!$X43,\"\")","v":""},null,"",{"$f":"IF(AND($B542=\"AZIONE_2\",F542=2),'3 - SPECIE DA IMPIANTARE'!$X43,\"\")","v":""},null,"",{"$f":"IF(AND($B542=\"AZIONE_2\",$I542=3),'3 - SPECIE DA IMPIANTARE'!$X43,\"\")","v":""},null,"",{"$f":"IF(AND($B542=\"AZIONE_2\",$L542=4),'3 - SPECIE DA IMPIANTARE'!$X43,\"\")","v":""},null,"",{"$f":"IF(AND($B542=\"AZIONE_2\",$O542=5),'3 - SPECIE DA IMPIANTARE'!$X43,\"\")","v":""},null,"",{"$f":"IF(AND($B542=\"AZIONE_2\",$R542=6),'3 - SPECIE DA IMPIANTARE'!$X43,\"\")","v":""}]
[6,"","",{"$f":"IF(AND($B543=\"AZIONE_2\",C543=1),'3 - SPECIE DA IMPIANTARE'!$X44,\"\")","v":""},null,"",{"$f":"IF(AND($B543=\"AZIONE_2\",F543=2),'3 - SPECIE DA IMPIANTARE'!$X44,\"\")","v":""},null,"",{"$f":"IF(AND($B543=\"AZIONE_2\",$I543=3),'3 - SPECIE DA IMPIANTARE'!$X44,\"\")","v":""},null,"",{"$f":"IF(AND($B543=\"AZIONE_2\",$L543=4),'3 - SPECIE DA IMPIANTARE'!$X44,\"\")","v":""},null,"",{"$f":"IF(AND($B543=\"AZIONE_2\",$O543=5),'3 - SPECIE DA IMPIANTARE'!$X44,\"\")","v":""},null,"",{"$f":"IF(AND($B543=\"AZIONE_2\",$R543=6),'3 - SPECIE DA IMPIANTARE'!$X44,\"\")","v":""}]
[6,"","",{"$f":"IF(AND($B544=\"AZIONE_2\",C544=1),'3 - SPECIE DA IMPIANTARE'!$X45,\"\")","v":""},null,"",{"$f":"IF(AND($B544=\"AZIONE_2\",F544=2),'3 - SPECIE DA IMPIANTARE'!$X45,\"\")","v":""},null,"",{"$f":"IF(AND($B544=\"AZIONE_2\",$I544=3),'3 - SPECIE DA IMPIANTARE'!$X45,\"\")","v":""},null,"",{"$f":"IF(AND($B544=\"AZIONE_2\",$L544=4),'3 - SPECIE DA IMPIANTARE'!$X45,\"\")","v":""},null,"",{"$f":"IF(AND($B544=\"AZIONE_2\",$O544=5),'3 - SPECIE DA IMPIANTARE'!$X45,\"\")","v":""},null,"",{"$f":"IF(AND($B544=\"AZIONE_2\",$R544=6),'3 - SPECIE DA IMPIANTARE'!$X45,\"\")","v":""}]
[6,"","",{"$f":"IF(AND($B545=\"AZIONE_2\",C545=1),'3 - SPECIE DA IMPIANTARE'!$X46,\"\")","v":""},null,"",{"$f":"IF(AND($B545=\"AZIONE_2\",F545=2),'3 - SPECIE DA IMPIANTARE'!$X46,\"\")","v":""},null,"",{"$f":"IF(AND($B545=\"AZIONE_2\",$I545=3),'3 - SPECIE DA IMPIANTARE'!$X46,\"\")","v":""},null,"",{"$f":"IF(AND($B545=\"AZIONE_2\",$L545=4),'3 - SPECIE DA IMPIANTARE'!$X46,\"\")","v":""},null,"",{"$f":"IF(AND($B545=\"AZIONE_2\",$O545=5),'3 - SPECIE DA IMPIANTARE'!$X46,\"\")","v":""},null,"",{"$f":"IF(AND($B545=\"AZIONE_2\",$R545=6),'3 - SPECIE DA IMPIANTARE'!$X46,\"\")","v":""}]
[6,"","",{"$f":"IF(AND($B546=\"AZIONE_2\",C546=1),'3 - SPECIE DA IMPIANTARE'!$X47,\"\")","v":""},null,"",{"$f":"IF(AND($B546=\"AZIONE_2\",F546=2),'3 - SPECIE DA IMPIANTARE'!$X47,\"\")","v":""},null,"",{"$f":"IF(AND($B546=\"AZIONE_2\",$I546=3),'3 - SPECIE DA IMPIANTARE'!$X47,\"\")","v":""},null,"",{"$f":"IF(AND($B546=\"AZIONE_2\",$L546=4),'3 - SPECIE DA IMPIANTARE'!$X47,\"\")","v":""},null,"",{"$f":"IF(AND($B546=\"AZIONE_2\",$O546=5),'3 - SPECIE DA IMPIANTARE'!$X47,\"\")","v":""},null,"",{"$f":"IF(AND($B546=\"AZIONE_2\",$R546=6),'3 - SPECIE DA IMPIANTARE'!$X47,\"\")","v":""}]
[6,"","",{"$f":"IF(AND($B547=\"AZIONE_2\",C547=1),'3 - SPECIE DA IMPIANTARE'!$X48,\"\")","v":""},null,"",{"$f":"IF(AND($B547=\"AZIONE_2\",F547=2),'3 - SPECIE DA IMPIANTARE'!$X48,\"\")","v":""},null,"",{"$f":"IF(AND($B547=\"AZIONE_2\",$I547=3),'3 - SPECIE DA IMPIANTARE'!$X48,\"\")","v":""},null,"",{"$f":"IF(AND($B547=\"AZIONE_2\",$L547=4),'3 - SPECIE DA IMPIANTARE'!$X48,\"\")","v":""},null,"",{"$f":"IF(AND($B547=\"AZIONE_2\",$O547=5),'3 - SPECIE DA IMPIANTARE'!$X48,\"\")","v":""},null,"",{"$f":"IF(AND($B547=\"AZIONE_2\",$R547=6),'3 - SPECIE DA IMPIANTARE'!$X48,\"\")","v":""}]
[6,"","",{"$f":"IF(AND($B548=\"AZIONE_2\",C548=1),'3 - SPECIE DA IMPIANTARE'!$X49,\"\")","v":""},null,"",{"$f":"IF(AND($B548=\"AZIONE_2\",F548=2),'3 - SPECIE DA IMPIANTARE'!$X49,\"\")","v":""},null,"",{"$f":"IF(AND($B548=\"AZIONE_2\",$I548=3),'3 - SPECIE DA IMPIANTARE'!$X49,\"\")","v":""},null,"",{"$f":"IF(AND($B548=\"AZIONE_2\",$L548=4),'3 - SPECIE DA IMPIANTARE'!$X49,\"\")","v":""},null,"",{"$f":"IF(AND($B548=\"AZIONE_2\",$O548=5),'3 - SPECIE DA IMPIANTARE'!$X49,\"\")","v":""},null,"",{"$f":"IF(AND($B548=\"AZIONE_2\",$R548=6),'3 - SPECIE DA IMPIANTARE'!$X49,\"\")","v":""}]
[6,"","",{"$f":"IF(AND($B549=\"AZIONE_2\",C549=1),'3 - SPECIE DA IMPIANTARE'!$X50,\"\")","v":""},null,"",{"$f":"IF(AND($B549=\"AZIONE_2\",F549=2),'3 - SPECIE DA IMPIANTARE'!$X50,\"\")","v":""},null,"",{"$f":"IF(AND($B549=\"AZIONE_2\",$I549=3),'3 - SPECIE DA IMPIANTARE'!$X50,\"\")","v":""},null,"",{"$f":"IF(AND($B549=\"AZIONE_2\",$L549=4),'3 - SPECIE DA IMPIANTARE'!$X50,\"\")","v":""},null,"",{"$f":"IF(AND($B549=\"AZIONE_2\",$O549=5),'3 - SPECIE DA IMPIANTARE'!$X50,\"\")","v":""},null,"",{"$f":"IF(AND($B549=\"AZIONE_2\",$R549=6),'3 - SPECIE DA IMPIANTARE'!$X50,\"\")","v":""}]
[6,"","",{"$f":"IF(AND($B550=\"AZIONE_2\",C550=1),'3 - SPECIE DA IMPIANTARE'!$X51,\"\")","v":""},null,"",{"$f":"IF(AND($B550=\"AZIONE_2\",F550=2),'3 - SPECIE DA IMPIANTARE'!$X51,\"\")","v":""},null,"",{"$f":"IF(AND($B550=\"AZIONE_2\",$I550=3),'3 - SPECIE DA IMPIANTARE'!$X51,\"\")","v":""},null,"",{"$f":"IF(AND($B550=\"AZIONE_2\",$L550=4),'3 - SPECIE DA IMPIANTARE'!$X51,\"\")","v":""},null,"",{"$f":"IF(AND($B550=\"AZIONE_2\",$O550=5),'3 - SPECIE DA IMPIANTARE'!$X51,\"\")","v":""},null,"",{"$f":"IF(AND($B550=\"AZIONE_2\",$R550=6),'3 - SPECIE DA IMPIANTARE'!$X51,\"\")","v":""}]
[6,{"$f":"B451","v":""},"",{"$f":"IF(AND($B551=\"AZIONE_2\",C551=1),'3 - SPECIE DA IMPIANTARE'!$X52,\"\")","v":""},null,{"$f":"F451","v":""},{"$f":"IF(AND($B551=\"AZIONE_2\",F551=2),'3 - SPECIE DA IMPIANTARE'!$X52,\"\")","v":""},null,{"$f":"I451","v":""},{"$f":"IF(AND($B551=\"AZIONE_2\",$I551=3),'3 - SPECIE DA IMPIANTARE'!$X52,\"\")","v":""},null,{"$f":"L451","v":""},{"$f":"IF(AND($B551=\"AZIONE_2\",$L551=4),'3 - SPECIE DA IMPIANTARE'!$X52,\"\")","v":""},null,{"$f":"O451","v":""},{"$f":"IF(AND($B551=\"AZIONE_2\",$O551=5),'3 - SPECIE DA IMPIANTARE'!$X52,\"\")","v":""},null,{"$f":"R451","v":""},{"$f":"IF(AND($B551=\"AZIONE_2\",$R551=6),'3 - SPECIE DA IMPIANTARE'!$X52,\"\")","v":""}]
[6,"","",{"$f":"IF(AND($B552=\"AZIONE_2\",C552=1),'3 - SPECIE DA IMPIANTARE'!$X53,\"\")","v":""},null,"",{"$f":"IF(AND($B552=\"AZIONE_2\",F552=2),'3 - SPECIE DA IMPIANTARE'!$X53,\"\")","v":""},null,"",{"$f":"IF(AND($B552=\"AZIONE_2\",$I552=3),'3 - SPECIE DA IMPIANTARE'!$X53,\"\")","v":""},null,"",{"$f":"IF(AND($B552=\"AZIONE_2\",$L552=4),'3 - SPECIE DA IMPIANTARE'!$X53,\"\")","v":""},null,"",{"$f":"IF(AND($B552=\"AZIONE_2\",$O552=5),'3 - SPECIE DA IMPIANTARE'!$X53,\"\")","v":""},null,"",{"$f":"IF(AND($B552=\"AZIONE_2\",$R552=6),'3 - SPECIE DA IMPIANTARE'!$X53,\"\")","v":""}]
[6,"","",{"$f":"IF(AND($B553=\"AZIONE_2\",C553=1),'3 - SPECIE DA IMPIANTARE'!$X54,\"\")","v":""},null,"",{"$f":"IF(AND($B553=\"AZIONE_2\",F553=2),'3 - SPECIE DA IMPIANTARE'!$X54,\"\")","v":""},null,"",{"$f":"IF(AND($B553=\"AZIONE_2\",$I553=3),'3 - SPECIE DA IMPIANTARE'!$X54,\"\")","v":""},null,"",{"$f":"IF(AND($B553=\"AZIONE_2\",$L553=4),'3 - SPECIE DA IMPIANTARE'!$X54,\"\")","v":""},null,"",{"$f":"IF(AND($B553=\"AZIONE_2\",$O553=5),'3 - SPECIE DA IMPIANTARE'!$X54,\"\")","v":""},null,"",{"$f":"IF(AND($B553=\"AZIONE_2\",$R553=6),'3 - SPECIE DA IMPIANTARE'!$X54,\"\")","v":""}]
[6,"","",{"$f":"IF(AND($B554=\"AZIONE_2\",C554=1),'3 - SPECIE DA IMPIANTARE'!$X55,\"\")","v":""},null,"",{"$f":"IF(AND($B554=\"AZIONE_2\",F554=2),'3 - SPECIE DA IMPIANTARE'!$X55,\"\")","v":""},null,"",{"$f":"IF(AND($B554=\"AZIONE_2\",$I554=3),'3 - SPECIE DA IMPIANTARE'!$X55,\"\")","v":""},null,"",{"$f":"IF(AND($B554=\"AZIONE_2\",$L554=4),'3 - SPECIE DA IMPIANTARE'!$X55,\"\")","v":""},null,"",{"$f":"IF(AND($B554=\"AZIONE_2\",$O554=5),'3 - SPECIE DA IMPIANTARE'!$X55,\"\")","v":""},null,"",{"$f":"IF(AND($B554=\"AZIONE_2\",$R554=6),'3 - SPECIE DA IMPIANTARE'!$X55,\"\")","v":""}]
[6,"","",{"$f":"IF(AND($B555=\"AZIONE_2\",C555=1),'3 - SPECIE DA IMPIANTARE'!$X56,\"\")","v":""},null,"",{"$f":"IF(AND($B555=\"AZIONE_2\",F555=2),'3 - SPECIE DA IMPIANTARE'!$X56,\"\")","v":""},null,"",{"$f":"IF(AND($B555=\"AZIONE_2\",$I555=3),'3 - SPECIE DA IMPIANTARE'!$X56,\"\")","v":""},null,"",{"$f":"IF(AND($B555=\"AZIONE_2\",$L555=4),'3 - SPECIE DA IMPIANTARE'!$X56,\"\")","v":""},null,"",{"$f":"IF(AND($B555=\"AZIONE_2\",$O555=5),'3 - SPECIE DA IMPIANTARE'!$X56,\"\")","v":""},null,"",{"$f":"IF(AND($B555=\"AZIONE_2\",$R555=6),'3 - SPECIE DA IMPIANTARE'!$X56,\"\")","v":""}]
[6,"","",{"$f":"IF(AND($B556=\"AZIONE_2\",C556=1),'3 - SPECIE DA IMPIANTARE'!$X57,\"\")","v":""},null,"",{"$f":"IF(AND($B556=\"AZIONE_2\",F556=2),'3 - SPECIE DA IMPIANTARE'!$X57,\"\")","v":""},null,"",{"$f":"IF(AND($B556=\"AZIONE_2\",$I556=3),'3 - SPECIE DA IMPIANTARE'!$X57,\"\")","v":""},null,"",{"$f":"IF(AND($B556=\"AZIONE_2\",$L556=4),'3 - SPECIE DA IMPIANTARE'!$X57,\"\")","v":""},null,"",{"$f":"IF(AND($B556=\"AZIONE_2\",$O556=5),'3 - SPECIE DA IMPIANTARE'!$X57,\"\")","v":""},null,"",{"$f":"IF(AND($B556=\"AZIONE_2\",$R556=6),'3 - SPECIE DA IMPIANTARE'!$X57,\"\")","v":""}]
[6,"","",{"$f":"IF(AND($B557=\"AZIONE_2\",C557=1),'3 - SPECIE DA IMPIANTARE'!$X58,\"\")","v":""},null,"",{"$f":"IF(AND($B557=\"AZIONE_2\",F557=2),'3 - SPECIE DA IMPIANTARE'!$X58,\"\")","v":""},null,"",{"$f":"IF(AND($B557=\"AZIONE_2\",$I557=3),'3 - SPECIE DA IMPIANTARE'!$X58,\"\")","v":""},null,"",{"$f":"IF(AND($B557=\"AZIONE_2\",$L557=4),'3 - SPECIE DA IMPIANTARE'!$X58,\"\")","v":""},null,"",{"$f":"IF(AND($B557=\"AZIONE_2\",$O557=5),'3 - SPECIE DA IMPIANTARE'!$X58,\"\")","v":""},null,"",{"$f":"IF(AND($B557=\"AZIONE_2\",$R557=6),'3 - SPECIE DA IMPIANTARE'!$X58,\"\")","v":""}]
[6,"","",{"$f":"IF(AND($B558=\"AZIONE_2\",C558=1),'3 - SPECIE DA IMPIANTARE'!$X59,\"\")","v":""},null,"",{"$f":"IF(AND($B558=\"AZIONE_2\",F558=2),'3 - SPECIE DA IMPIANTARE'!$X59,\"\")","v":""},null,"",{"$f":"IF(AND($B558=\"AZIONE_2\",$I558=3),'3 - SPECIE DA IMPIANTARE'!$X59,\"\")","v":""},null,"",{"$f":"IF(AND($B558=\"AZIONE_2\",$L558=4),'3 - SPECIE DA IMPIANTARE'!$X59,\"\")","v":""},null,"",{"$f":"IF(AND($B558=\"AZIONE_2\",$O558=5),'3 - SPECIE DA IMPIANTARE'!$X59,\"\")","v":""},null,"",{"$f":"IF(AND($B558=\"AZIONE_2\",$R558=6),'3 - SPECIE DA IMPIANTARE'!$X59,\"\")","v":""}]
[6,"","",{"$f":"IF(AND($B559=\"AZIONE_2\",C559=1),'3 - SPECIE DA IMPIANTARE'!$X60,\"\")","v":""},null,"",{"$f":"IF(AND($B559=\"AZIONE_2\",F559=2),'3 - SPECIE DA IMPIANTARE'!$X60,\"\")","v":""},null,"",{"$f":"IF(AND($B559=\"AZIONE_2\",$I559=3),'3 - SPECIE DA IMPIANTARE'!$X60,\"\")","v":""},null,"",{"$f":"IF(AND($B559=\"AZIONE_2\",$L559=4),'3 - SPECIE DA IMPIANTARE'!$X60,\"\")","v":""},null,"",{"$f":"IF(AND($B559=\"AZIONE_2\",$O559=5),'3 - SPECIE DA IMPIANTARE'!$X60,\"\")","v":""},null,"",{"$f":"IF(AND($B559=\"AZIONE_2\",$R559=6),'3 - SPECIE DA IMPIANTARE'!$X60,\"\")","v":""}]
[6,"","",{"$f":"IF(AND($B560=\"AZIONE_2\",C560=1),'3 - SPECIE DA IMPIANTARE'!$X61,\"\")","v":""},null,"",{"$f":"IF(AND($B560=\"AZIONE_2\",F560=2),'3 - SPECIE DA IMPIANTARE'!$X61,\"\")","v":""},null,"",{"$f":"IF(AND($B560=\"AZIONE_2\",$I560=3),'3 - SPECIE DA IMPIANTARE'!$X61,\"\")","v":""},null,"",{"$f":"IF(AND($B560=\"AZIONE_2\",$L560=4),'3 - SPECIE DA IMPIANTARE'!$X61,\"\")","v":""},null,"",{"$f":"IF(AND($B560=\"AZIONE_2\",$O560=5),'3 - SPECIE DA IMPIANTARE'!$X61,\"\")","v":""},null,"",{"$f":"IF(AND($B560=\"AZIONE_2\",$R560=6),'3 - SPECIE DA IMPIANTARE'!$X61,\"\")","v":""}]
[6,"","",{"$f":"IF(AND($B561=\"AZIONE_2\",C561=1),'3 - SPECIE DA IMPIANTARE'!$X62,\"\")","v":""},null,"",{"$f":"IF(AND($B561=\"AZIONE_2\",F561=2),'3 - SPECIE DA IMPIANTARE'!$X62,\"\")","v":""},null,"",{"$f":"IF(AND($B561=\"AZIONE_2\",$I561=3),'3 - SPECIE DA IMPIANTARE'!$X62,\"\")","v":""},null,"",{"$f":"IF(AND($B561=\"AZIONE_2\",$L561=4),'3 - SPECIE DA IMPIANTARE'!$X62,\"\")","v":""},null,"",{"$f":"IF(AND($B561=\"AZIONE_2\",$O561=5),'3 - SPECIE DA IMPIANTARE'!$X62,\"\")","v":""},null,"",{"$f":"IF(AND($B561=\"AZIONE_2\",$R561=6),'3 - SPECIE DA IMPIANTARE'!$X62,\"\")","v":""}]
[6,"","",{"$f":"IF(AND($B562=\"AZIONE_2\",C562=1),'3 - SPECIE DA IMPIANTARE'!$X63,\"\")","v":""},null,"",{"$f":"IF(AND($B562=\"AZIONE_2\",F562=2),'3 - SPECIE DA IMPIANTARE'!$X63,\"\")","v":""},null,"",{"$f":"IF(AND($B562=\"AZIONE_2\",$I562=3),'3 - SPECIE DA IMPIANTARE'!$X63,\"\")","v":""},null,"",{"$f":"IF(AND($B562=\"AZIONE_2\",$L562=4),'3 - SPECIE DA IMPIANTARE'!$X63,\"\")","v":""},null,"",{"$f":"IF(AND($B562=\"AZIONE_2\",$O562=5),'3 - SPECIE DA IMPIANTARE'!$X63,\"\")","v":""},null,"",{"$f":"IF(AND($B562=\"AZIONE_2\",$R562=6),'3 - SPECIE DA IMPIANTARE'!$X63,\"\")","v":""}]
[6,"","",{"$f":"IF(AND($B563=\"AZIONE_2\",C563=1),'3 - SPECIE DA IMPIANTARE'!$X64,\"\")","v":""},null,"",{"$f":"IF(AND($B563=\"AZIONE_2\",F563=2),'3 - SPECIE DA IMPIANTARE'!$X64,\"\")","v":""},null,"",{"$f":"IF(AND($B563=\"AZIONE_2\",$I563=3),'3 - SPECIE DA IMPIANTARE'!$X64,\"\")","v":""},null,"",{"$f":"IF(AND($B563=\"AZIONE_2\",$L563=4),'3 - SPECIE DA IMPIANTARE'!$X64,\"\")","v":""},null,"",{"$f":"IF(AND($B563=\"AZIONE_2\",$O563=5),'3 - SPECIE DA IMPIANTARE'!$X64,\"\")","v":""},null,"",{"$f":"IF(AND($B563=\"AZIONE_2\",$R563=6),'3 - SPECIE DA IMPIANTARE'!$X64,\"\")","v":""}]
[6,"","",{"$f":"IF(AND($B564=\"AZIONE_2\",C564=1),'3 - SPECIE DA IMPIANTARE'!$X65,\"\")","v":""},null,"",{"$f":"IF(AND($B564=\"AZIONE_2\",F564=2),'3 - SPECIE DA IMPIANTARE'!$X65,\"\")","v":""},null,"",{"$f":"IF(AND($B564=\"AZIONE_2\",$I564=3),'3 - SPECIE DA IMPIANTARE'!$X65,\"\")","v":""},null,"",{"$f":"IF(AND($B564=\"AZIONE_2\",$L564=4),'3 - SPECIE DA IMPIANTARE'!$X65,\"\")","v":""},null,"",{"$f":"IF(AND($B564=\"AZIONE_2\",$O564=5),'3 - SPECIE DA IMPIANTARE'!$X65,\"\")","v":""},null,"",{"$f":"IF(AND($B564=\"AZIONE_2\",$R564=6),'3 - SPECIE DA IMPIANTARE'!$X65,\"\")","v":""}]
[6,"","",{"$f":"IF(AND($B565=\"AZIONE_2\",C565=1),'3 - SPECIE DA IMPIANTARE'!$X66,\"\")","v":""},null,"",{"$f":"IF(AND($B565=\"AZIONE_2\",F565=2),'3 - SPECIE DA IMPIANTARE'!$X66,\"\")","v":""},null,"",{"$f":"IF(AND($B565=\"AZIONE_2\",$I565=3),'3 - SPECIE DA IMPIANTARE'!$X66,\"\")","v":""},null,"",{"$f":"IF(AND($B565=\"AZIONE_2\",$L565=4),'3 - SPECIE DA IMPIANTARE'!$X66,\"\")","v":""},null,"",{"$f":"IF(AND($B565=\"AZIONE_2\",$O565=5),'3 - SPECIE DA IMPIANTARE'!$X66,\"\")","v":""},null,"",{"$f":"IF(AND($B565=\"AZIONE_2\",$R565=6),'3 - SPECIE DA IMPIANTARE'!$X66,\"\")","v":""}]
[6,"","",{"$f":"IF(AND($B566=\"AZIONE_2\",C566=1),'3 - SPECIE DA IMPIANTARE'!$X67,\"\")","v":""},null,"",{"$f":"IF(AND($B566=\"AZIONE_2\",F566=2),'3 - SPECIE DA IMPIANTARE'!$X67,\"\")","v":""},null,"",{"$f":"IF(AND($B566=\"AZIONE_2\",$I566=3),'3 - SPECIE DA IMPIANTARE'!$X67,\"\")","v":""},null,"",{"$f":"IF(AND($B566=\"AZIONE_2\",$L566=4),'3 - SPECIE DA IMPIANTARE'!$X67,\"\")","v":""},null,"",{"$f":"IF(AND($B566=\"AZIONE_2\",$O566=5),'3 - SPECIE DA IMPIANTARE'!$X67,\"\")","v":""},null,"",{"$f":"IF(AND($B566=\"AZIONE_2\",$R566=6),'3 - SPECIE DA IMPIANTARE'!$X67,\"\")","v":""}]
[6,{"$f":"B467","v":""},"",{"$f":"IF(AND($B567=\"AZIONE_2\",C567=1),'3 - SPECIE DA IMPIANTARE'!$X68,\"\")","v":""},null,"",{"$f":"IF(AND($B567=\"AZIONE_2\",F567=2),'3 - SPECIE DA IMPIANTARE'!$X68,\"\")","v":""},null,"",{"$f":"IF(AND($B567=\"AZIONE_2\",$I567=3),'3 - SPECIE DA IMPIANTARE'!$X68,\"\")","v":""},null,"",{"$f":"IF(AND($B567=\"AZIONE_2\",$L567=4),'3 - SPECIE DA IMPIANTARE'!$X68,\"\")","v":""},null,"",{"$f":"IF(AND($B567=\"AZIONE_2\",$O567=5),'3 - SPECIE DA IMPIANTARE'!$X68,\"\")","v":""},null,"",{"$f":"IF(AND($B567=\"AZIONE_2\",$R567=6),'3 - SPECIE DA IMPIANTARE'!$X68,\"\")","v":""}]
[6,"","",{"$f":"IF(AND($B568=\"AZIONE_2\",C568=1),'3 - SPECIE DA IMPIANTARE'!$X69,\"\")","v":""},null,"",{"$f":"IF(AND($B568=\"AZIONE_2\",F568=2),'3 - SPECIE DA IMPIANTARE'!$X69,\"\")","v":""},null,"",{"$f":"IF(AND($B568=\"AZIONE_2\",$I568=3),'3 - SPECIE DA IMPIANTARE'!$X69,\"\")","v":""},null,"",{"$f":"IF(AND($B568=\"AZIONE_2\",$L568=4),'3 - SPECIE DA IMPIANTARE'!$X69,\"\")","v":""},null,"",{"$f":"IF(AND($B568=\"AZIONE_2\",$O568=5),'3 - SPECIE DA IMPIANTARE'!$X69,\"\")","v":""},null,"",{"$f":"IF(AND($B568=\"AZIONE_2\",$R568=6),'3 - SPECIE DA IMPIANTARE'!$X69,\"\")","v":""}]
[6,"","",{"$f":"IF(AND($B569=\"AZIONE_2\",C569=1),'3 - SPECIE DA IMPIANTARE'!$X70,\"\")","v":""},null,"",{"$f":"IF(AND($B569=\"AZIONE_2\",F569=2),'3 - SPECIE DA IMPIANTARE'!$X70,\"\")","v":""},null,"",{"$f":"IF(AND($B569=\"AZIONE_2\",$I569=3),'3 - SPECIE DA IMPIANTARE'!$X70,\"\")","v":""},null,"",{"$f":"IF(AND($B569=\"AZIONE_2\",$L569=4),'3 - SPECIE DA IMPIANTARE'!$X70,\"\")","v":""},null,"",{"$f":"IF(AND($B569=\"AZIONE_2\",$O569=5),'3 - SPECIE DA IMPIANTARE'!$X70,\"\")","v":""},null,"",{"$f":"IF(AND($B569=\"AZIONE_2\",$R569=6),'3 - SPECIE DA IMPIANTARE'!$X70,\"\")","v":""}]
[6,"","",{"$f":"IF(AND($B570=\"AZIONE_2\",C570=1),'3 - SPECIE DA IMPIANTARE'!$X71,\"\")","v":""},null,"",{"$f":"IF(AND($B570=\"AZIONE_2\",F570=2),'3 - SPECIE DA IMPIANTARE'!$X71,\"\")","v":""},null,"",{"$f":"IF(AND($B570=\"AZIONE_2\",$I570=3),'3 - SPECIE DA IMPIANTARE'!$X71,\"\")","v":""},null,"",{"$f":"IF(AND($B570=\"AZIONE_2\",$L570=4),'3 - SPECIE DA IMPIANTARE'!$X71,\"\")","v":""},null,"",{"$f":"IF(AND($B570=\"AZIONE_2\",$O570=5),'3 - SPECIE DA IMPIANTARE'!$X71,\"\")","v":""},null,"",{"$f":"IF(AND($B570=\"AZIONE_2\",$R570=6),'3 - SPECIE DA IMPIANTARE'!$X71,\"\")","v":""}]
[6,"","",{"$f":"IF(AND($B571=\"AZIONE_2\",C571=1),'3 - SPECIE DA IMPIANTARE'!$X72,\"\")","v":""},null,"",{"$f":"IF(AND($B571=\"AZIONE_2\",F571=2),'3 - SPECIE DA IMPIANTARE'!$X72,\"\")","v":""},null,"",{"$f":"IF(AND($B571=\"AZIONE_2\",$I571=3),'3 - SPECIE DA IMPIANTARE'!$X72,\"\")","v":""},null,"",{"$f":"IF(AND($B571=\"AZIONE_2\",$L571=4),'3 - SPECIE DA IMPIANTARE'!$X72,\"\")","v":""},null,"",{"$f":"IF(AND($B571=\"AZIONE_2\",$O571=5),'3 - SPECIE DA IMPIANTARE'!$X72,\"\")","v":""},null,"",{"$f":"IF(AND($B571=\"AZIONE_2\",$R571=6),'3 - SPECIE DA IMPIANTARE'!$X72,\"\")","v":""}]
[6,"","",{"$f":"IF(AND($B572=\"AZIONE_2\",C572=1),'3 - SPECIE DA IMPIANTARE'!$X73,\"\")","v":""},null,"",{"$f":"IF(AND($B572=\"AZIONE_2\",F572=2),'3 - SPECIE DA IMPIANTARE'!$X73,\"\")","v":""},null,"",{"$f":"IF(AND($B572=\"AZIONE_2\",$I572=3),'3 - SPECIE DA IMPIANTARE'!$X73,\"\")","v":""},null,"",{"$f":"IF(AND($B572=\"AZIONE_2\",$L572=4),'3 - SPECIE DA IMPIANTARE'!$X73,\"\")","v":""},null,"",{"$f":"IF(AND($B572=\"AZIONE_2\",$O572=5),'3 - SPECIE DA IMPIANTARE'!$X73,\"\")","v":""},null,"",{"$f":"IF(AND($B572=\"AZIONE_2\",$R572=6),'3 - SPECIE DA IMPIANTARE'!$X73,\"\")","v":""}]
[6,"","",{"$f":"IF(AND($B573=\"AZIONE_2\",C573=1),'3 - SPECIE DA IMPIANTARE'!$X74,\"\")","v":""},null,"",{"$f":"IF(AND($B573=\"AZIONE_2\",F573=2),'3 - SPECIE DA IMPIANTARE'!$X74,\"\")","v":""},null,"",{"$f":"IF(AND($B573=\"AZIONE_2\",$I573=3),'3 - SPECIE DA IMPIANTARE'!$X74,\"\")","v":""},null,"",{"$f":"IF(AND($B573=\"AZIONE_2\",$L573=4),'3 - SPECIE DA IMPIANTARE'!$X74,\"\")","v":""},null,"",{"$f":"IF(AND($B573=\"AZIONE_2\",$O573=5),'3 - SPECIE DA IMPIANTARE'!$X74,\"\")","v":""},null,"",{"$f":"IF(AND($B573=\"AZIONE_2\",$R573=6),'3 - SPECIE DA IMPIANTARE'!$X74,\"\")","v":""}]
[6,"","",{"$f":"IF(AND($B574=\"AZIONE_2\",C574=1),'3 - SPECIE DA IMPIANTARE'!$X75,\"\")","v":""},null,"",{"$f":"IF(AND($B574=\"AZIONE_2\",F574=2),'3 - SPECIE DA IMPIANTARE'!$X75,\"\")","v":""},null,"",{"$f":"IF(AND($B574=\"AZIONE_2\",$I574=3),'3 - SPECIE DA IMPIANTARE'!$X75,\"\")","v":""},null,"",{"$f":"IF(AND($B574=\"AZIONE_2\",$L574=4),'3 - SPECIE DA IMPIANTARE'!$X75,\"\")","v":""},null,"",{"$f":"IF(AND($B574=\"AZIONE_2\",$O574=5),'3 - SPECIE DA IMPIANTARE'!$X75,\"\")","v":""},null,"",{"$f":"IF(AND($B574=\"AZIONE_2\",$R574=6),'3 - SPECIE DA IMPIANTARE'!$X75,\"\")","v":""}]
[6,"","",{"$f":"IF(AND($B575=\"AZIONE_2\",C575=1),'3 - SPECIE DA IMPIANTARE'!$X76,\"\")","v":""},null,"",{"$f":"IF(AND($B575=\"AZIONE_2\",F575=2),'3 - SPECIE DA IMPIANTARE'!$X76,\"\")","v":""},null,"",{"$f":"IF(AND($B575=\"AZIONE_2\",$I575=3),'3 - SPECIE DA IMPIANTARE'!$X76,\"\")","v":""},null,"",{"$f":"IF(AND($B575=\"AZIONE_2\",$L575=4),'3 - SPECIE DA IMPIANTARE'!$X76,\"\")","v":""},null,"",{"$f":"IF(AND($B575=\"AZIONE_2\",$O575=5),'3 - SPECIE DA IMPIANTARE'!$X76,\"\")","v":""},null,"",{"$f":"IF(AND($B575=\"AZIONE_2\",$R575=6),'3 - SPECIE DA IMPIANTARE'!$X76,\"\")","v":""}]
[6,"","",{"$f":"IF(AND($B576=\"AZIONE_2\",C576=1),'3 - SPECIE DA IMPIANTARE'!$X77,\"\")","v":""},null,"",{"$f":"IF(AND($B576=\"AZIONE_2\",F576=2),'3 - SPECIE DA IMPIANTARE'!$X77,\"\")","v":""},null,"",{"$f":"IF(AND($B576=\"AZIONE_2\",$I576=3),'3 - SPECIE DA IMPIANTARE'!$X77,\"\")","v":""},null,"",{"$f":"IF(AND($B576=\"AZIONE_2\",$L576=4),'3 - SPECIE DA IMPIANTARE'!$X77,\"\")","v":""},null,"",{"$f":"IF(AND($B576=\"AZIONE_2\",$O576=5),'3 - SPECIE DA IMPIANTARE'!$X77,\"\")","v":""},null,"",{"$f":"IF(AND($B576=\"AZIONE_2\",$R576=6),'3 - SPECIE DA IMPIANTARE'!$X77,\"\")","v":""}]
[6,"","",{"$f":"IF(AND($B577=\"AZIONE_2\",C577=1),'3 - SPECIE DA IMPIANTARE'!$X78,\"\")","v":""},null,"",{"$f":"IF(AND($B577=\"AZIONE_2\",F577=2),'3 - SPECIE DA IMPIANTARE'!$X78,\"\")","v":""},null,"",{"$f":"IF(AND($B577=\"AZIONE_2\",$I577=3),'3 - SPECIE DA IMPIANTARE'!$X78,\"\")","v":""},null,"",{"$f":"IF(AND($B577=\"AZIONE_2\",$L577=4),'3 - SPECIE DA IMPIANTARE'!$X78,\"\")","v":""},null,"",{"$f":"IF(AND($B577=\"AZIONE_2\",$O577=5),'3 - SPECIE DA IMPIANTARE'!$X78,\"\")","v":""},null,"",{"$f":"IF(AND($B577=\"AZIONE_2\",$R577=6),'3 - SPECIE DA IMPIANTARE'!$X78,\"\")","v":""}]
[6,"","",{"$f":"IF(AND($B578=\"AZIONE_2\",C578=1),'3 - SPECIE DA IMPIANTARE'!$X79,\"\")","v":""},null,"",{"$f":"IF(AND($B578=\"AZIONE_2\",F578=2),'3 - SPECIE DA IMPIANTARE'!$X79,\"\")","v":""},null,"",{"$f":"IF(AND($B578=\"AZIONE_2\",$I578=3),'3 - SPECIE DA IMPIANTARE'!$X79,\"\")","v":""},null,"",{"$f":"IF(AND($B578=\"AZIONE_2\",$L578=4),'3 - SPECIE DA IMPIANTARE'!$X79,\"\")","v":""},null,"",{"$f":"IF(AND($B578=\"AZIONE_2\",$O578=5),'3 - SPECIE DA IMPIANTARE'!$X79,\"\")","v":""},null,"",{"$f":"IF(AND($B578=\"AZIONE_2\",$R578=6),'3 - SPECIE DA IMPIANTARE'!$X79,\"\")","v":""}]
[6,"","",{"$f":"IF(AND($B579=\"AZIONE_2\",C579=1),'3 - SPECIE DA IMPIANTARE'!$X80,\"\")","v":""},null,"",{"$f":"IF(AND($B579=\"AZIONE_2\",F579=2),'3 - SPECIE DA IMPIANTARE'!$X80,\"\")","v":""},null,"",{"$f":"IF(AND($B579=\"AZIONE_2\",$I579=3),'3 - SPECIE DA IMPIANTARE'!$X80,\"\")","v":""},null,"",{"$f":"IF(AND($B579=\"AZIONE_2\",$L579=4),'3 - SPECIE DA IMPIANTARE'!$X80,\"\")","v":""},null,"",{"$f":"IF(AND($B579=\"AZIONE_2\",$O579=5),'3 - SPECIE DA IMPIANTARE'!$X80,\"\")","v":""},null,"",{"$f":"IF(AND($B579=\"AZIONE_2\",$R579=6),'3 - SPECIE DA IMPIANTARE'!$X80,\"\")","v":""}]
[6,"","",{"$f":"IF(AND($B580=\"AZIONE_2\",C580=1),'3 - SPECIE DA IMPIANTARE'!$X81,\"\")","v":""},null,"",{"$f":"IF(AND($B580=\"AZIONE_2\",F580=2),'3 - SPECIE DA IMPIANTARE'!$X81,\"\")","v":""},null,"",{"$f":"IF(AND($B580=\"AZIONE_2\",$I580=3),'3 - SPECIE DA IMPIANTARE'!$X81,\"\")","v":""},null,"",{"$f":"IF(AND($B580=\"AZIONE_2\",$L580=4),'3 - SPECIE DA IMPIANTARE'!$X81,\"\")","v":""},null,"",{"$f":"IF(AND($B580=\"AZIONE_2\",$O580=5),'3 - SPECIE DA IMPIANTARE'!$X81,\"\")","v":""},null,"",{"$f":"IF(AND($B580=\"AZIONE_2\",$R580=6),'3 - SPECIE DA IMPIANTARE'!$X81,\"\")","v":""}]
[6,"","",{"$f":"IF(AND($B581=\"AZIONE_2\",C581=1),'3 - SPECIE DA IMPIANTARE'!$X82,\"\")","v":""},null,"",{"$f":"IF(AND($B581=\"AZIONE_2\",F581=2),'3 - SPECIE DA IMPIANTARE'!$X82,\"\")","v":""},null,"",{"$f":"IF(AND($B581=\"AZIONE_2\",$I581=3),'3 - SPECIE DA IMPIANTARE'!$X82,\"\")","v":""},null,"",{"$f":"IF(AND($B581=\"AZIONE_2\",$L581=4),'3 - SPECIE DA IMPIANTARE'!$X82,\"\")","v":""},null,"",{"$f":"IF(AND($B581=\"AZIONE_2\",$O581=5),'3 - SPECIE DA IMPIANTARE'!$X82,\"\")","v":""},null,"",{"$f":"IF(AND($B581=\"AZIONE_2\",$R581=6),'3 - SPECIE DA IMPIANTARE'!$X82,\"\")","v":""}]
[6,"","",{"$f":"IF(AND($B582=\"AZIONE_2\",C582=1),'3 - SPECIE DA IMPIANTARE'!$X83,\"\")","v":""},null,"",{"$f":"IF(AND($B582=\"AZIONE_2\",F582=2),'3 - SPECIE DA IMPIANTARE'!$X83,\"\")","v":""},null,"",{"$f":"IF(AND($B582=\"AZIONE_2\",$I582=3),'3 - SPECIE DA IMPIANTARE'!$X83,\"\")","v":""},null,"",{"$f":"IF(AND($B582=\"AZIONE_2\",$L582=4),'3 - SPECIE DA IMPIANTARE'!$X83,\"\")","v":""},null,"",{"$f":"IF(AND($B582=\"AZIONE_2\",$O582=5),'3 - SPECIE DA IMPIANTARE'!$X83,\"\")","v":""},null,"",{"$f":"IF(AND($B582=\"AZIONE_2\",$R582=6),'3 - SPECIE DA IMPIANTARE'!$X83,\"\")","v":""}]
[6,{"$f":"B483","v":""},"",{"$f":"IF(AND($B583=\"AZIONE_2\",C583=1),'3 - SPECIE DA IMPIANTARE'!$X84,\"\")","v":""},null,"",{"$f":"IF(AND($B583=\"AZIONE_2\",F583=2),'3 - SPECIE DA IMPIANTARE'!$X84,\"\")","v":""},null,"",{"$f":"IF(AND($B583=\"AZIONE_2\",$I583=3),'3 - SPECIE DA IMPIANTARE'!$X84,\"\")","v":""},null,"",{"$f":"IF(AND($B583=\"AZIONE_2\",$L583=4),'3 - SPECIE DA IMPIANTARE'!$X84,\"\")","v":""},null,"",{"$f":"IF(AND($B583=\"AZIONE_2\",$O583=5),'3 - SPECIE DA IMPIANTARE'!$X84,\"\")","v":""},null,"",{"$f":"IF(AND($B583=\"AZIONE_2\",$R583=6),'3 - SPECIE DA IMPIANTARE'!$X84,\"\")","v":""}]
[6,"","",{"$f":"IF(AND($B584=\"AZIONE_2\",C584=1),'3 - SPECIE DA IMPIANTARE'!$X85,\"\")","v":""},null,"",{"$f":"IF(AND($B584=\"AZIONE_2\",F584=2),'3 - SPECIE DA IMPIANTARE'!$X85,\"\")","v":""},null,"",{"$f":"IF(AND($B584=\"AZIONE_2\",$I584=3),'3 - SPECIE DA IMPIANTARE'!$X85,\"\")","v":""},null,"",{"$f":"IF(AND($B584=\"AZIONE_2\",$L584=4),'3 - SPECIE DA IMPIANTARE'!$X85,\"\")","v":""},null,"",{"$f":"IF(AND($B584=\"AZIONE_2\",$O584=5),'3 - SPECIE DA IMPIANTARE'!$X85,\"\")","v":""},null,"",{"$f":"IF(AND($B584=\"AZIONE_2\",$R584=6),'3 - SPECIE DA IMPIANTARE'!$X85,\"\")","v":""}]
[6,"","",{"$f":"IF(AND($B585=\"AZIONE_2\",C585=1),'3 - SPECIE DA IMPIANTARE'!$X86,\"\")","v":""},null,"",{"$f":"IF(AND($B585=\"AZIONE_2\",F585=2),'3 - SPECIE DA IMPIANTARE'!$X86,\"\")","v":""},null,"",{"$f":"IF(AND($B585=\"AZIONE_2\",$I585=3),'3 - SPECIE DA IMPIANTARE'!$X86,\"\")","v":""},null,"",{"$f":"IF(AND($B585=\"AZIONE_2\",$L585=4),'3 - SPECIE DA IMPIANTARE'!$X86,\"\")","v":""},null,"",{"$f":"IF(AND($B585=\"AZIONE_2\",$O585=5),'3 - SPECIE DA IMPIANTARE'!$X86,\"\")","v":""},null,"",{"$f":"IF(AND($B585=\"AZIONE_2\",$R585=6),'3 - SPECIE DA IMPIANTARE'!$X86,\"\")","v":""}]
[6,"","",{"$f":"IF(AND($B586=\"AZIONE_2\",C586=1),'3 - SPECIE DA IMPIANTARE'!$X87,\"\")","v":""},null,"",{"$f":"IF(AND($B586=\"AZIONE_2\",F586=2),'3 - SPECIE DA IMPIANTARE'!$X87,\"\")","v":""},null,"",{"$f":"IF(AND($B586=\"AZIONE_2\",$I586=3),'3 - SPECIE DA IMPIANTARE'!$X87,\"\")","v":""},null,"",{"$f":"IF(AND($B586=\"AZIONE_2\",$L586=4),'3 - SPECIE DA IMPIANTARE'!$X87,\"\")","v":""},null,"",{"$f":"IF(AND($B586=\"AZIONE_2\",$O586=5),'3 - SPECIE DA IMPIANTARE'!$X87,\"\")","v":""},null,"",{"$f":"IF(AND($B586=\"AZIONE_2\",$R586=6),'3 - SPECIE DA IMPIANTARE'!$X87,\"\")","v":""}]
[6,"","",{"$f":"IF(AND($B587=\"AZIONE_2\",C587=1),'3 - SPECIE DA IMPIANTARE'!$X88,\"\")","v":""},null,"",{"$f":"IF(AND($B587=\"AZIONE_2\",F587=2),'3 - SPECIE DA IMPIANTARE'!$X88,\"\")","v":""},null,"",{"$f":"IF(AND($B587=\"AZIONE_2\",$I587=3),'3 - SPECIE DA IMPIANTARE'!$X88,\"\")","v":""},null,"",{"$f":"IF(AND($B587=\"AZIONE_2\",$L587=4),'3 - SPECIE DA IMPIANTARE'!$X88,\"\")","v":""},null,"",{"$f":"IF(AND($B587=\"AZIONE_2\",$O587=5),'3 - SPECIE DA IMPIANTARE'!$X88,\"\")","v":""},null,"",{"$f":"IF(AND($B587=\"AZIONE_2\",$R587=6),'3 - SPECIE DA IMPIANTARE'!$X88,\"\")","v":""}]
[6,"","",{"$f":"IF(AND($B588=\"AZIONE_2\",C588=1),'3 - SPECIE DA IMPIANTARE'!$X89,\"\")","v":""},null,"",{"$f":"IF(AND($B588=\"AZIONE_2\",F588=2),'3 - SPECIE DA IMPIANTARE'!$X89,\"\")","v":""},null,"",{"$f":"IF(AND($B588=\"AZIONE_2\",$I588=3),'3 - SPECIE DA IMPIANTARE'!$X89,\"\")","v":""},null,"",{"$f":"IF(AND($B588=\"AZIONE_2\",$L588=4),'3 - SPECIE DA IMPIANTARE'!$X89,\"\")","v":""},null,"",{"$f":"IF(AND($B588=\"AZIONE_2\",$O588=5),'3 - SPECIE DA IMPIANTARE'!$X89,\"\")","v":""},null,"",{"$f":"IF(AND($B588=\"AZIONE_2\",$R588=6),'3 - SPECIE DA IMPIANTARE'!$X89,\"\")","v":""}]
[6,"","",{"$f":"IF(AND($B589=\"AZIONE_2\",C589=1),'3 - SPECIE DA IMPIANTARE'!$X90,\"\")","v":""},null,"",{"$f":"IF(AND($B589=\"AZIONE_2\",F589=2),'3 - SPECIE DA IMPIANTARE'!$X90,\"\")","v":""},null,"",{"$f":"IF(AND($B589=\"AZIONE_2\",$I589=3),'3 - SPECIE DA IMPIANTARE'!$X90,\"\")","v":""},null,"",{"$f":"IF(AND($B589=\"AZIONE_2\",$L589=4),'3 - SPECIE DA IMPIANTARE'!$X90,\"\")","v":""},null,"",{"$f":"IF(AND($B589=\"AZIONE_2\",$O589=5),'3 - SPECIE DA IMPIANTARE'!$X90,\"\")","v":""},null,"",{"$f":"IF(AND($B589=\"AZIONE_2\",$R589=6),'3 - SPECIE DA IMPIANTARE'!$X90,\"\")","v":""}]
[6,"","",{"$f":"IF(AND($B590=\"AZIONE_2\",C590=1),'3 - SPECIE DA IMPIANTARE'!$X91,\"\")","v":""},null,"",{"$f":"IF(AND($B590=\"AZIONE_2\",F590=2),'3 - SPECIE DA IMPIANTARE'!$X91,\"\")","v":""},null,"",{"$f":"IF(AND($B590=\"AZIONE_2\",$I590=3),'3 - SPECIE DA IMPIANTARE'!$X91,\"\")","v":""},null,"",{"$f":"IF(AND($B590=\"AZIONE_2\",$L590=4),'3 - SPECIE DA IMPIANTARE'!$X91,\"\")","v":""},null,"",{"$f":"IF(AND($B590=\"AZIONE_2\",$O590=5),'3 - SPECIE DA IMPIANTARE'!$X91,\"\")","v":""},null,"",{"$f":"IF(AND($B590=\"AZIONE_2\",$R590=6),'3 - SPECIE DA IMPIANTARE'!$X91,\"\")","v":""}]
[6,"","",{"$f":"IF(AND($B591=\"AZIONE_2\",C591=1),'3 - SPECIE DA IMPIANTARE'!$X92,\"\")","v":""},null,"",{"$f":"IF(AND($B591=\"AZIONE_2\",F591=2),'3 - SPECIE DA IMPIANTARE'!$X92,\"\")","v":""},null,"",{"$f":"IF(AND($B591=\"AZIONE_2\",$I591=3),'3 - SPECIE DA IMPIANTARE'!$X92,\"\")","v":""},null,"",{"$f":"IF(AND($B591=\"AZIONE_2\",$L591=4),'3 - SPECIE DA IMPIANTARE'!$X92,\"\")","v":""},null,"",{"$f":"IF(AND($B591=\"AZIONE_2\",$O591=5),'3 - SPECIE DA IMPIANTARE'!$X92,\"\")","v":""},null,"",{"$f":"IF(AND($B591=\"AZIONE_2\",$R591=6),'3 - SPECIE DA IMPIANTARE'!$X92,\"\")","v":""}]
[6,"","",{"$f":"IF(AND($B592=\"AZIONE_2\",C592=1),'3 - SPECIE DA IMPIANTARE'!$X93,\"\")","v":""},null,"",{"$f":"IF(AND($B592=\"AZIONE_2\",F592=2),'3 - SPECIE DA IMPIANTARE'!$X93,\"\")","v":""},null,"",{"$f":"IF(AND($B592=\"AZIONE_2\",$I592=3),'3 - SPECIE DA IMPIANTARE'!$X93,\"\")","v":""},null,"",{"$f":"IF(AND($B592=\"AZIONE_2\",$L592=4),'3 - SPECIE DA IMPIANTARE'!$X93,\"\")","v":""},null,"",{"$f":"IF(AND($B592=\"AZIONE_2\",$O592=5),'3 - SPECIE DA IMPIANTARE'!$X93,\"\")","v":""},null,"",{"$f":"IF(AND($B592=\"AZIONE_2\",$R592=6),'3 - SPECIE DA IMPIANTARE'!$X93,\"\")","v":""}]
[6,"","",{"$f":"IF(AND($B593=\"AZIONE_2\",C593=1),'3 - SPECIE DA IMPIANTARE'!$X94,\"\")","v":""},null,"",{"$f":"IF(AND($B593=\"AZIONE_2\",F593=2),'3 - SPECIE DA IMPIANTARE'!$X94,\"\")","v":""},null,"",{"$f":"IF(AND($B593=\"AZIONE_2\",$I593=3),'3 - SPECIE DA IMPIANTARE'!$X94,\"\")","v":""},null,"",{"$f":"IF(AND($B593=\"AZIONE_2\",$L593=4),'3 - SPECIE DA IMPIANTARE'!$X94,\"\")","v":""},null,"",{"$f":"IF(AND($B593=\"AZIONE_2\",$O593=5),'3 - SPECIE DA IMPIANTARE'!$X94,\"\")","v":""},null,"",{"$f":"IF(AND($B593=\"AZIONE_2\",$R593=6),'3 - SPECIE DA IMPIANTARE'!$X94,\"\")","v":""}]
[6,"","",{"$f":"IF(AND($B594=\"AZIONE_2\",C594=1),'3 - SPECIE DA IMPIANTARE'!$X95,\"\")","v":""},null,"",{"$f":"IF(AND($B594=\"AZIONE_2\",F594=2),'3 - SPECIE DA IMPIANTARE'!$X95,\"\")","v":""},null,"",{"$f":"IF(AND($B594=\"AZIONE_2\",$I594=3),'3 - SPECIE DA IMPIANTARE'!$X95,\"\")","v":""},null,"",{"$f":"IF(AND($B594=\"AZIONE_2\",$L594=4),'3 - SPECIE DA IMPIANTARE'!$X95,\"\")","v":""},null,"",{"$f":"IF(AND($B594=\"AZIONE_2\",$O594=5),'3 - SPECIE DA IMPIANTARE'!$X95,\"\")","v":""},null,"",{"$f":"IF(AND($B594=\"AZIONE_2\",$R594=6),'3 - SPECIE DA IMPIANTARE'!$X95,\"\")","v":""}]
[6,"","",{"$f":"IF(AND($B595=\"AZIONE_2\",C595=1),'3 - SPECIE DA IMPIANTARE'!$X96,\"\")","v":""},null,"",{"$f":"IF(AND($B595=\"AZIONE_2\",F595=2),'3 - SPECIE DA IMPIANTARE'!$X96,\"\")","v":""},null,"",{"$f":"IF(AND($B595=\"AZIONE_2\",$I595=3),'3 - SPECIE DA IMPIANTARE'!$X96,\"\")","v":""},null,"",{"$f":"IF(AND($B595=\"AZIONE_2\",$L595=4),'3 - SPECIE DA IMPIANTARE'!$X96,\"\")","v":""},null,"",{"$f":"IF(AND($B595=\"AZIONE_2\",$O595=5),'3 - SPECIE DA IMPIANTARE'!$X96,\"\")","v":""},null,"",{"$f":"IF(AND($B595=\"AZIONE_2\",$R595=6),'3 - SPECIE DA IMPIANTARE'!$X96,\"\")","v":""}]
[6,"","",{"$f":"IF(AND($B596=\"AZIONE_2\",C596=1),'3 - SPECIE DA IMPIANTARE'!$X97,\"\")","v":""},null,"",{"$f":"IF(AND($B596=\"AZIONE_2\",F596=2),'3 - SPECIE DA IMPIANTARE'!$X97,\"\")","v":""},null,"",{"$f":"IF(AND($B596=\"AZIONE_2\",$I596=3),'3 - SPECIE DA IMPIANTARE'!$X97,\"\")","v":""},null,"",{"$f":"IF(AND($B596=\"AZIONE_2\",$L596=4),'3 - SPECIE DA IMPIANTARE'!$X97,\"\")","v":""},null,"",{"$f":"IF(AND($B596=\"AZIONE_2\",$O596=5),'3 - SPECIE DA IMPIANTARE'!$X97,\"\")","v":""},null,"",{"$f":"IF(AND($B596=\"AZIONE_2\",$R596=6),'3 - SPECIE DA IMPIANTARE'!$X97,\"\")","v":""}]
[6,"","",{"$f":"IF(AND($B597=\"AZIONE_2\",C597=1),'3 - SPECIE DA IMPIANTARE'!$X98,\"\")","v":""},null,"",{"$f":"IF(AND($B597=\"AZIONE_2\",F597=2),'3 - SPECIE DA IMPIANTARE'!$X98,\"\")","v":""},null,"",{"$f":"IF(AND($B597=\"AZIONE_2\",$I597=3),'3 - SPECIE DA IMPIANTARE'!$X98,\"\")","v":""},null,"",{"$f":"IF(AND($B597=\"AZIONE_2\",$L597=4),'3 - SPECIE DA IMPIANTARE'!$X98,\"\")","v":""},null,"",{"$f":"IF(AND($B597=\"AZIONE_2\",$O597=5),'3 - SPECIE DA IMPIANTARE'!$X98,\"\")","v":""},null,"",{"$f":"IF(AND($B597=\"AZIONE_2\",$R597=6),'3 - SPECIE DA IMPIANTARE'!$X98,\"\")","v":""}]
[6,"","",{"$f":"IF(AND($B598=\"AZIONE_2\",C598=1),'3 - SPECIE DA IMPIANTARE'!$X99,\"\")","v":""},null,"",{"$f":"IF(AND($B598=\"AZIONE_2\",F598=2),'3 - SPECIE DA IMPIANTARE'!$X99,\"\")","v":""},null,"",{"$f":"IF(AND($B598=\"AZIONE_2\",$I598=3),'3 - SPECIE DA IMPIANTARE'!$X99,\"\")","v":""},null,"",{"$f":"IF(AND($B598=\"AZIONE_2\",$L598=4),'3 - SPECIE DA IMPIANTARE'!$X99,\"\")","v":""},null,"",{"$f":"IF(AND($B598=\"AZIONE_2\",$O598=5),'3 - SPECIE DA IMPIANTARE'!$X99,\"\")","v":""},null,"",{"$f":"IF(AND($B598=\"AZIONE_2\",$R598=6),'3 - SPECIE DA IMPIANTARE'!$X99,\"\")","v":""}]
[6,{"$f":"B499","v":""},"",{"$f":"IF(AND($B599=\"AZIONE_2\",C599=1),'3 - SPECIE DA IMPIANTARE'!$X100,\"\")","v":""},null,"",{"$f":"IF(AND($B599=\"AZIONE_2\",F599=2),'3 - SPECIE DA IMPIANTARE'!$X100,\"\")","v":""},null,"",{"$f":"IF(AND($B599=\"AZIONE_2\",$I599=3),'3 - SPECIE DA IMPIANTARE'!$X100,\"\")","v":""},null,"",{"$f":"IF(AND($B599=\"AZIONE_2\",$L599=4),'3 - SPECIE DA IMPIANTARE'!$X100,\"\")","v":""},null,"",{"$f":"IF(AND($B599=\"AZIONE_2\",$O599=5),'3 - SPECIE DA IMPIANTARE'!$X100,\"\")","v":""},null,"",{"$f":"IF(AND($B599=\"AZIONE_2\",$R599=6),'3 - SPECIE DA IMPIANTARE'!$X100,\"\")","v":""}]
[6,"","",{"$f":"IF(AND($B600=\"AZIONE_2\",C600=1),'3 - SPECIE DA IMPIANTARE'!$X101,\"\")","v":""},null,"",{"$f":"IF(AND($B600=\"AZIONE_2\",F600=2),'3 - SPECIE DA IMPIANTARE'!$X101,\"\")","v":""},null,"",{"$f":"IF(AND($B600=\"AZIONE_2\",$I600=3),'3 - SPECIE DA IMPIANTARE'!$X101,\"\")","v":""},null,"",{"$f":"IF(AND($B600=\"AZIONE_2\",$L600=4),'3 - SPECIE DA IMPIANTARE'!$X101,\"\")","v":""},null,"",{"$f":"IF(AND($B600=\"AZIONE_2\",$O600=5),'3 - SPECIE DA IMPIANTARE'!$X101,\"\")","v":""},null,"",{"$f":"IF(AND($B600=\"AZIONE_2\",$R600=6),'3 - SPECIE DA IMPIANTARE'!$X101,\"\")","v":""}]
[6,"","",{"$f":"IF(AND($B601=\"AZIONE_2\",C601=1),'3 - SPECIE DA IMPIANTARE'!$X102,\"\")","v":""},null,"",{"$f":"IF(AND($B601=\"AZIONE_2\",F601=2),'3 - SPECIE DA IMPIANTARE'!$X102,\"\")","v":""},null,"",{"$f":"IF(AND($B601=\"AZIONE_2\",$I601=3),'3 - SPECIE DA IMPIANTARE'!$X102,\"\")","v":""},null,"",{"$f":"IF(AND($B601=\"AZIONE_2\",$L601=4),'3 - SPECIE DA IMPIANTARE'!$X102,\"\")","v":""},null,"",{"$f":"IF(AND($B601=\"AZIONE_2\",$O601=5),'3 - SPECIE DA IMPIANTARE'!$X102,\"\")","v":""},null,"",{"$f":"IF(AND($B601=\"AZIONE_2\",$R601=6),'3 - SPECIE DA IMPIANTARE'!$X102,\"\")","v":""}]

{"sheet":"VERIFICA AZ. 3","index":11,"n_rows":601,"n_cols":27,"rows_kept":601,"cut":false,"hidden":true,"merged":[]}
["gruppo sp","AZIONE","UNITA' 1","SPECIE ","CONTROLLO_1","UNITA' 2","SPECIE","CONTROLLO_2","UNITA' 3","SPECIE","CONTROLLO_3","UNITA' 4","SPECIE","CONTROLLO_4","UNITA' 5","SPECIE","CONTROLLO_5","UNITA' 6","SPECIE","CONTROLLO_6","ESITO CONTROLLO_1","ESITO CONTROLLO_2","ESITO CONTROLLO_3","ESITO CONTROLLO_4","ESITO CONTROLLO_5","ESITO CONTROLLO_6","ESITO FINALE"]
[1,{"$f":"IF('3 - SPECIE DA IMPIANTARE'!$H3=\"AZIONE_3\",'3 - SPECIE DA IMPIANTARE'!$H3,\"\")","v":""},{"$f":"IF('3 - SPECIE DA IMPIANTARE'!$G3=1,'3 - SPECIE DA IMPIANTARE'!$G3,\"\")","v":""},{"$f":"IF(AND($B2=\"AZIONE_3\",C2=1),'3 - SPECIE DA IMPIANTARE'!$I3,\"\")","v":""},{"$f":"SUM(IF(FREQUENCY(IF(LEN(D2:D653)>1,MATCH(D2:D653,D2:D653,0),\"\"), IF(LEN(D2:D653)>1,MATCH(D2:D653,D2:D653,0),\"\"))>0,1))","v":0},{"$f":"IF('3 - SPECIE DA IMPIANTARE'!$G3=2,'3 - SPECIE DA IMPIANTARE'!$G3,\"\")","v":""},{"$f":"IF(AND($B2=\"AZIONE_3\",F2=2),'3 - SPECIE DA IMPIANTARE'!$I3,\"\")","v":""},{"$f":"SUM(IF(FREQUENCY(IF(LEN(G2:G653)>1,MATCH(G2:G653,G2:G653,0),\"\"), IF(LEN(G2:G653)>1,MATCH(G2:G653,G2:G653,0),\"\"))>0,1))","v":0},{"$f":"IF('3 - SPECIE DA IMPIANTARE'!$G3=3,'3 - SPECIE DA IMPIANTARE'!$G3,\"\")","v":""},{"$f":"IF(AND($B2=\"AZIONE_3\",$I2=3),'3 - SPECIE DA IMPIANTARE'!$I3,\"\")","v":""},{"$f":"SUM(IF(FREQUENCY(IF(LEN(J2:J653)>1,MATCH(J2:J653,J2:J653,0),\"\"), IF(LEN(J2:J653)>1,MATCH(J2:J653,J2:J653,0),\"\"))>0,1))","v":0},{"$f":"IF('3 - SPECIE DA IMPIANTARE'!$G3=4,'3 - SPECIE DA IMPIANTARE'!$G3,\"\")","v":""},{"$f":"IF(AND($B2=\"AZIONE_3\",$L2=4),'3 - SPECIE DA IMPIANTARE'!$I3,\"\")","v":""},{"$f":"SUM(IF(FREQUENCY(IF(LEN(M2:M653)>1,MATCH(M2:M653,M2:M653,0),\"\"), IF(LEN(M2:M653)>1,MATCH(M2:M653,M2:M653,0),\"\"))>0,1))","v":0},{"$f":"IF('3 - SPECIE DA IMPIANTARE'!$G3=5,'3 - SPECIE DA IMPIANTARE'!$G3,\"\")","v":""},{"$f":"IF(AND($B2=\"AZIONE_3\",$O2=5),'3 - SPECIE DA IMPIANTARE'!$I3,\"\")","v":""},{"$f":"SUM(IF(FREQUENCY(IF(LEN(P2:P653)>1,MATCH(P2:P653,P2:P653,0),\"\"), IF(LEN(P2:P653)>1,MATCH(P2:P653,P2:P653,0),\"\"))>0,1))","v":0},{"$f":"IF('3 - SPECIE DA IMPIANTARE'!$G3=6,'3 - SPECIE DA IMPIANTARE'!$G3,\"\")","v":""},{"$f":"IF(AND($B2=\"AZIONE_3\",$R2=6),'3 - SPECIE DA IMPIANTARE'!$I3,\"\")","v":""},{"$f":"SUM(IF(FREQUENCY(IF(LEN(S2:S653)>1,MATCH(S2:S653,S2:S653,0),\"\"), IF(LEN(S2:S653)>1,MATCH(S2:S653,S2:S653,0),\"\"))>0,1))","v":0},{"$f":"IF(E2=0,\"POSITIVO\",IF(E2<2,\"NEGATIVO\",\"POSITIVO\"))","v":"POSITIVO"},{"$f":"IF(H2=0,\"POSITIVO\",IF(H2<2,\"NEGATIVO\",\"POSITIVO\"))","v":"POSITIVO"},{"$f":"IF(K2=0,\"POSITIVO\",IF(K2<2,\"NEGATIVO\",\"POSITIVO\"))","v":"POSITIVO"},{"$f":"IF(N2=0,\"POSITIVO\",IF(N2<2,\"NEGATIVO\",\"POSITIVO\"))","v":"POSITIVO"},{"$f":"IF(Q2=0,\"POSITIVO\",IF(Q2<2,\"NEGATIVO\",\"POSITIVO\"))","v":"POSITIVO"},{"$f":"IF(T2=0,\"POSITIVO\",IF(T2<2,\"NEGATIVO\",\"POSITIVO\"))","v":"POSITIVO"},{"$f":"COUNTIF(U2:Z2,\"NEGATIVO\")","v":0}]
[1,{"$f":"IF('3 - SPECIE DA IMPIANTARE'!$H4=\"AZIONE_3\",'3 - SPECIE DA IMPIANTARE'!$H4,\"\")","v":""},{"$f":"IF('3 - SPECIE DA IMPIANTARE'!$G4=1,'3 - SPECIE DA IMPIANTARE'!$G4,\"\")","v":""},{"$f":"IF(AND($B3=\"AZIONE_3\",C3=1),'3 - SPECIE DA IMPIANTARE'!$I4,\"\")","v":""},null,{"$f":"IF('3 - SPECIE DA IMPIANTARE'!$G4=2,'3 - SPECIE DA IMPIANTARE'!$G4,\"\")","v":""},{"$f":"IF(AND($B3=\"AZIONE_3\",F3=2),'3 - SPECIE DA IMPIANTARE'!$I4,\"\")","v":""},null,{"$f":"IF('3 - SPECIE DA IMPIANTARE'!$G4=3,'3 - SPECIE DA IMPIANTARE'!$G4,\"\")","v":""},{"$f":"IF(AND($B3=\"AZIONE_3\",$I3=3),'3 - SPECIE DA IMPIANTARE'!$I4,\"\")","v":""},null,{"$f":"IF('3 - SPECIE DA IMPIANTARE'!$G4=4,'3 - SPECIE DA IMPIANTARE'!$G4,\"\")","v":""},{"$f":"IF(AND($B3=\"AZIONE_3\",$L3=4),'3 - SPECIE DA IMPIANTARE'!$I4,\"\")","v":""},null,{"$f":"IF('3 - SPECIE DA IMPIANTARE'!$G4=5,'3 - SPECIE DA IMPIANTARE'!$G4,\"\")","v":""},{"$f":"IF(AND($B3=\"AZIONE_3\",$O3=5),'3 - SPECIE DA IMPIANTARE'!$I4,\"\")","v":""},null,{"$f":"IF('3 - SPECIE DA IMPIANTARE'!$G4=6,'3 - SPECIE DA IMPIANTARE'!$G4,\"\")","v":""},{"$f":"IF(AND($B3=\"AZIONE_3\",$R3=6),'3 - SPECIE DA IMPIANTARE'!$I4,\"\")","v":""}]
[1,{"$f":"IF('3 - SPECIE DA IMPIANTARE'!$H5=\"AZIONE_3\",'3 - SPECIE DA IMPIANTARE'!$H5,\"\")","v":""},{"$f":"IF('3 - SPECIE DA IMPIANTARE'!$G5=1,'3 - SPECIE DA IMPIANTARE'!$G5,\"\")","v":""},{"$f":"IF(AND($B4=\"AZIONE_3\",C4=1),'3 - SPECIE DA IMPIANTARE'!$I5,\"\")","v":""},null,{"$f":"IF('3 - SPECIE DA IMPIANTARE'!$G5=2,'3 - SPECIE DA IMPIANTARE'!$G5,\"\")","v":""},{"$f":"IF(AND($B4=\"AZIONE_3\",F4=2),'3 - SPECIE DA IMPIANTARE'!$I5,\"\")","v":""},null,{"$f":"IF('3 - SPECIE DA IMPIANTARE'!$G5=3,'3 - SPECIE DA IMPIANTARE'!$G5,\"\")","v":""},{"$f":"IF(AND($B4=\"AZIONE_3\",$I4=3),'3 - SPECIE DA IMPIANTARE'!$I5,\"\")","v":""},null,{"$f":"IF('3 - SPECIE DA IMPIANTARE'!$G5=4,'3 - SPECIE DA IMPIANTARE'!$G5,\"\")","v":""},{"$f":"IF(AND($B4=\"AZIONE_3\",$L4=4),'3 - SPECIE DA IMPIANTARE'!$I5,\"\")","v":""},null,{"$f":"IF('3 - SPECIE DA IMPIANTARE'!$G5=5,'3 - SPECIE DA IMPIANTARE'!$G5,\"\")","v":""},{"$f":"IF(AND($B4=\"AZIONE_3\",$O4=5),'3 - SPECIE DA IMPIANTARE'!$I5,\"\")","v":""},null,{"$f":"IF('3 - SPECIE DA IMPIANTARE'!$G5=6,'3 - SPECIE DA IMPIANTARE'!$G5,\"\")","v":""},{"$f":"IF(AND($B4=\"AZIONE_3\",$R4=6),'3 - SPECIE DA IMPIANTARE'!$I5,\"\")","v":""}]
[1,{"$f":"IF('3 - SPECIE DA IMPIANTARE'!$H6=\"AZIONE_3\",'3 - SPECIE DA IMPIANTARE'!$H6,\"\")","v":""},{"$f":"IF('3 - SPECIE DA IMPIANTARE'!$G6=1,'3 - SPECIE DA IMPIANTARE'!$G6,\"\")","v":""},{"$f":"IF(AND($B5=\"AZIONE_3\",C5=1),'3 - SPECIE DA IMPIANTARE'!$I6,\"\")","v":""},null,{"$f":"IF('3 - SPECIE DA IMPIANTARE'!$G6=2,'3 - SPECIE DA IMPIANTARE'!$G6,\"\")","v":""},{"$f":"IF(AND($B5=\"AZIONE_3\",F5=2),'3 - SPECIE DA IMPIANTARE'!$I6,\"\")","v":""},null,{"$f":"IF('3 - SPECIE DA IMPIANTARE'!$G6=3,'3 - SPECIE DA IMPIANTARE'!$G6,\"\")","v":""},{"$f":"IF(AND($B5=\"AZIONE_3\",$I5=3),'3 - SPECIE DA IMPIANTARE'!$I6,\"\")","v":""},null,{"$f":"IF('3 - SPECIE DA IMPIANTARE'!$G6=4,'3 - SPECIE DA IMPIANTARE'!$G6,\"\")","v":""},{"$f":"IF(AND($B5=\"AZIONE_3\",$L5=4),'3 - SPECIE DA IMPIANTARE'!$I6,\"\")","v":""},null,{"$f":"IF('3 - SPECIE DA IMPIANTARE'!$G6=5,'3 - SPECIE DA IMPIANTARE'!$G6,\"\")","v":""},{"$f":"IF(AND($B5=\"AZIONE_3\",$O5=5),'3 - SPECIE DA IMPIANTARE'!$I6,\"\")","v":""},null,{"$f":"IF('3 - SPECIE DA IMPIANTARE'!$G6=6,'3 - SPECIE DA IMPIANTARE'!$G6,\"\")","v":""},{"$f":"IF(AND($B5=\"AZIONE_3\",$R5=6),'3 - SPECIE DA IMPIANTARE'!$I6,\"\")","v":""}]
[1,{"$f":"IF('3 - SPECIE DA IMPIANTARE'!$H7=\"AZIONE_3\",'3 - SPECIE DA IMPIANTARE'!$H7,\"\")","v":""},{"$f":"IF('3 - SPECIE DA IMPIANTARE'!$G7=1,'3 - SPECIE DA IMPIANTARE'!$G7,\"\")","v":""},{"$f":"IF(AND($B6=\"AZIONE_3\",C6=1),'3 - SPECIE DA IMPIANTARE'!$I7,\"\")","v":""},null,{"$f":"IF('3 - SPECIE DA IMPIANTARE'!$G7=2,'3 - SPECIE DA IMPIANTARE'!$G7,\"\")","v":""},{"$f":"IF(AND($B6=\"AZIONE_3\",F6=2),'3 - SPECIE DA IMPIANTARE'!$I7,\"\")","v":""},null,{"$f":"IF('3 - SPECIE DA IMPIANTARE'!$G7=3,'3 - SPECIE DA IMPIANTARE'!$G7,\"\")","v":""},{"$f":"IF(AND($B6=\"AZIONE_3\",$I6=3),'3 - SPECIE DA IMPIANTARE'!$I7,\"\")","v":""},null,{"$f":"IF('3 - SPECIE DA IMPIANTARE'!$G7=4,'3 - SPECIE DA IMPIANTARE'!$G7,\"\")","v":""},{"$f":"IF(AND($B6=\"AZIONE_3\",$L6=4),'3 - SPECIE DA IMPIANTARE'!$I7,\"\")","v":""},null,{"$f":"IF('3 - SPECIE DA IMPIANTARE'!$G7=5,'3 - SPECIE DA IMPIANTARE'!$G7,\"\")","v":""},{"$f":"IF(AND($B6=\"AZIONE_3\",$O6=5),'3 - SPECIE DA IMPIANTARE'!$I7,\"\")","v":""},null,{"$f":"IF('3 - SPECIE DA IMPIANTARE'!$G7=6,'3 - SPECIE DA IMPIANTARE'!$G7,\"\")","v":""},{"$f":"IF(AND($B6=\"AZIONE_3\",$R6=6),'3 - SPECIE DA IMPIANTARE'!$I7,\"\")","v":""}]
[1,{"$f":"IF('3 - SPECIE DA IMPIANTARE'!$H8=\"AZIONE_3\",'3 - SPECIE DA IMPIANTARE'!$H8,\"\")","v":""},{"$f":"IF('3 - SPECIE DA IMPIANTARE'!$G8=1,'3 - SPECIE DA IMPIANTARE'!$G8,\"\")","v":""},{"$f":"IF(AND($B7=\"AZIONE_3\",C7=1),'3 - SPECIE DA IMPIANTARE'!$I8,\"\")","v":""},null,{"$f":"IF('3 - SPECIE DA IMPIANTARE'!$G8=2,'3 - SPECIE DA IMPIANTARE'!$G8,\"\")","v":""},{"$f":"IF(AND($B7=\"AZIONE_3\",F7=2),'3 - SPECIE DA IMPIANTARE'!$I8,\"\")","v":""},null,{"$f":"IF('3 - SPECIE DA IMPIANTARE'!$G8=3,'3 - SPECIE DA IMPIANTARE'!$G8,\"\")","v":""},{"$f":"IF(AND($B7=\"AZIONE_3\",$I7=3),'3 - SPECIE DA IMPIANTARE'!$I8,\"\")","v":""},null,{"$f":"IF('3 - SPECIE DA IMPIANTARE'!$G8=4,'3 - SPECIE DA IMPIANTARE'!$G8,\"\")","v":""},{"$f":"IF(AND($B7=\"AZIONE_3\",$L7=4),'3 - SPECIE DA IMPIANTARE'!$I8,\"\")","v":""},null,{"$f":"IF('3 - SPECIE DA IMPIANTARE'!$G8=5,'3 - SPECIE DA IMPIANTARE'!$G8,\"\")","v":""},{"$f":"IF(AND($B7=\"AZIONE_3\",$O7=5),'3 - SPECIE DA IMPIANTARE'!$I8,\"\")","v":""},null,{"$f":"IF('3 - SPECIE DA IMPIANTARE'!$G8=6,'3 - SPECIE DA IMPIANTARE'!$G8,\"\")","v":""},{"$f":"IF(AND($B7=\"AZIONE_3\",$R7=6),'3 - SPECIE DA IMPIANTARE'!$I8,\"\")","v":""}]
[1,{"$f":"IF('3 - SPECIE DA IMPIANTARE'!$H9=\"AZIONE_3\",'3 - SPECIE DA IMPIANTARE'!$H9,\"\")","v":""},{"$f":"IF('3 - SPECIE DA IMPIANTARE'!$G9=1,'3 - SPECIE DA IMPIANTARE'!$G9,\"\")","v":""},{"$f":"IF(AND($B8=\"AZIONE_3\",C8=1),'3 - SPECIE DA IMPIANTARE'!$I9,\"\")","v":""},null,{"$f":"IF('3 - SPECIE DA IMPIANTARE'!$G9=2,'3 - SPECIE DA IMPIANTARE'!$G9,\"\")","v":""},{"$f":"IF(AND($B8=\"AZIONE_3\",F8=2),'3 - SPECIE DA IMPIANTARE'!$I9,\"\")","v":""},null,{"$f":"IF('3 - SPECIE DA IMPIANTARE'!$G9=3,'3 - SPECIE DA IMPIANTARE'!$G9,\"\")","v":""},{"$f":"IF(AND($B8=\"AZIONE_3\",$I8=3),'3 - SPECIE DA IMPIANTARE'!$I9,\"\")","v":""},null,{"$f":"IF('3 - SPECIE DA IMPIANTARE'!$G9=4,'3 - SPECIE DA IMPIANTARE'!$G9,\"\")","v":""},{"$f":"IF(AND($B8=\"AZIONE_3\",$L8=4),'3 - SPECIE DA IMPIANTARE'!$I9,\"\")","v":""},null,{"$f":"IF('3 - SPECIE DA IMPIANTARE'!$G9=5,'3 - SPECIE DA IMPIANTARE'!$G9,\"\")","v":""},{"$f":"IF(AND($B8=\"AZIONE_3\",$O8=5),'3 - SPECIE DA IMPIANTARE'!$I9,\"\")","v":""},null,{"$f":"IF('3 - SPECIE DA IMPIANTARE'!$G9=6,'3 - SPECIE DA IMPIANTARE'!$G9,\"\")","v":""},{"$f":"IF(AND($B8=\"AZIONE_3\",$R8=6),'3 - SPECIE DA IMPIANTARE'!$I9,\"\")","v":""}]
[1,{"$f":"IF('3 - SPECIE DA IMPIANTARE'!$H10=\"AZIONE_3\",'3 - SPECIE DA IMPIANTARE'!$H10,\"\")","v":""},{"$f":"IF('3 - SPECIE DA IMPIANTARE'!$G10=1,'3 - SPECIE DA IMPIANTARE'!$G10,\"\")","v":""},{"$f":"IF(AND($B9=\"AZIONE_3\",C9=1),'3 - SPECIE DA IMPIANTARE'!$I10,\"\")","v":""},null,{"$f":"IF('3 - SPECIE DA IMPIANTARE'!$G10=2,'3 - SPECIE DA IMPIANTARE'!$G10,\"\")","v":""},{"$f":"IF(AND($B9=\"AZIONE_3\",F9=2),'3 - SPECIE DA IMPIANTARE'!$I10,\"\")","v":""},null,{"$f":"IF('3 - SPECIE DA IMPIANTARE'!$G10=3,'3 - SPECIE DA IMPIANTARE'!$G10,\"\")","v":""},{"$f":"IF(AND($B9=\"AZIONE_3\",$I9=3),'3 - SPECIE DA IMPIANTARE'!$I10,\"\")","v":""},null,{"$f":"IF('3 - SPECIE DA IMPIANTARE'!$G10=4,'3 - SPECIE DA IMPIANTARE'!$G10,\"\")","v":""},{"$f":"IF(AND($B9=\"AZIONE_3\",$L9=4),'3 - SPECIE DA IMPIANTARE'!$I10,\"\")","v":""},null,{"$f":"IF('3 - SPECIE DA IMPIANTARE'!$G10=5,'3 - SPECIE DA IMPIANTARE'!$G10,\"\")","v":""},{"$f":"IF(AND($B9=\"AZIONE_3\",$O9=5),'3 - SPECIE DA IMPIANTARE'!$I10,\"\")","v":""},null,{"$f":"IF('3 - SPECIE DA IMPIANTARE'!$G10=6,'3 - SPECIE DA IMPIANTARE'!$G10,\"\")","v":""},{"$f":"IF(AND($B9=\"AZIONE_3\",$R9=6),'3 - SPECIE DA IMPIANTARE'!$I10,\"\")","v":""}]
[1,{"$f":"IF('3 - SPECIE DA IMPIANTARE'!$H11=\"AZIONE_3\",'3 - SPECIE DA IMPIANTARE'!$H11,\"\")","v":""},{"$f":"IF('3 - SPECIE DA IMPIANTARE'!$G11=1,'3 - SPECIE DA IMPIANTARE'!$G11,\"\")","v":""},{"$f":"IF(AND($B10=\"AZIONE_3\",C10=1),'3 - SPECIE DA IMPIANTARE'!$I11,\"\")","v":""},null,{"$f":"IF('3 - SPECIE DA IMPIANTARE'!$G11=2,'3 - SPECIE DA IMPIANTARE'!$G11,\"\")","v":""},{"$f":"IF(AND($B10=\"AZIONE_3\",F10=2),'3 - SPECIE DA IMPIANTARE'!$I11,\"\")","v":""},null,{"$f":"IF('3 - SPECIE DA IMPIANTARE'!$G11=3,'3 - SPECIE DA IMPIANTARE'!$G11,\"\")","v":""},{"$f":"IF(AND($B10=\"AZIONE_3\",$I10=3),'3 - SPECIE DA IMPIANTARE'!$I11,\"\")","v":""},null,{"$f":"IF('3 - SPECIE DA IMPIANTARE'!$G11=4,'3 - SPECIE DA IMPIANTARE'!$G11,\"\")","v":""},{"$f":"IF(AND($B10=\"AZIONE_3\",$L10=4),'3 - SPECIE DA IMPIANTARE'!$I11,\"\")","v":""},null,{"$f":"IF('3 - SPECIE DA IMPIANTARE'!$G11=5,'3 - SPECIE DA IMPIANTARE'!$G11,\"\")","v":""},{"$f":"IF(AND($B10=\"AZIONE_3\",$O10=5),'3 - SPECIE DA IMPIANTARE'!$I11,\"\")","v":""},null,{"$f":"IF('3 - SPECIE DA IMPIANTARE'!$G11=6,'3 - SPECIE DA IMPIANTARE'!$G11,\"\")","v":""},{"$f":"IF(AND($B10=\"AZIONE_3\",$R10=6),'3 - SPECIE DA IMPIANTARE'!$I11,\"\")","v":""}]
[1,{"$f":"IF('3 - SPECIE DA IMPIANTARE'!$H12=\"AZIONE_3\",'3 - SPECIE DA IMPIANTARE'!$H12,\"\")","v":""},{"$f":"IF('3 - SPECIE DA IMPIANTARE'!$G12=1,'3 - SPECIE DA IMPIANTARE'!$G12,\"\")","v":""},{"$f":"IF(AND($B11=\"AZIONE_3\",C11=1),'3 - SPECIE DA IMPIANTARE'!$I12,\"\")","v":""},null,{"$f":"IF('3 - SPECIE DA IMPIANTARE'!$G12=2,'3 - SPECIE DA IMPIANTARE'!$G12,\"\")","v":""},{"$f":"IF(AND($B11=\"AZIONE_3\",F11=2),'3 - SPECIE DA IMPIANTARE'!$I12,\"\")","v":""},null,{"$f":"IF('3 - SPECIE DA IMPIANTARE'!$G12=3,'3 - SPECIE DA IMPIANTARE'!$G12,\"\")","v":""},{"$f":"IF(AND($B11=\"AZIONE_3\",$I11=3),'3 - SPECIE DA IMPIANTARE'!$I12,\"\")","v":""},null,{"$f":"IF('3 - SPECIE DA IMPIANTARE'!$G12=4,'3 - SPECIE DA IMPIANTARE'!$G12,\"\")","v":""},{"$f":"IF(AND($B11=\"AZIONE_3\",$L11=4),'3 - SPECIE DA IMPIANTARE'!$I12,\"\")","v":""},null,{"$f":"IF('3 - SPECIE DA IMPIANTARE'!$G12=5,'3 - SPECIE DA IMPIANTARE'!$G12,\"\")","v":""},{"$f":"IF(AND($B11=\"AZIONE_3\",$O11=5),'3 - SPECIE DA IMPIANTARE'!$I12,\"\")","v":""},null,{"$f":"IF('3 - SPECIE DA IMPIANTARE'!$G12=6,'3 - SPECIE DA IMPIANTARE'!$G12,\"\")","v":""},{"$f":"IF(AND($B11=\"AZIONE_3\",$R11=6),'3 - SPECIE DA IMPIANTARE'!$I12,\"\")","v":""}]
[1,{"$f":"IF('3 - SPECIE DA IMPIANTARE'!$H13=\"AZIONE_3\",'3 - SPECIE DA IMPIANTARE'!$H13,\"\")","v":""},{"$f":"IF('3 - SPECIE DA IMPIANTARE'!$G13=1,'3 - SPECIE DA IMPIANTARE'!$G13,\"\")","v":""},{"$f":"IF(AND($B12=\"AZIONE_3\",C12=1),'3 - SPECIE DA IMPIANTARE'!$I13,\"\")","v":""},null,{"$f":"IF('3 - SPECIE DA IMPIANTARE'!$G13=2,'3 - SPECIE DA IMPIANTARE'!$G13,\"\")","v":""},{"$f":"IF(AND($B12=\"AZIONE_3\",F12=2),'3 - SPECIE DA IMPIANTARE'!$I13,\"\")","v":""},null,{"$f":"IF('3 - SPECIE DA IMPIANTARE'!$G13=3,'3 - SPECIE DA IMPIANTARE'!$G13,\"\")","v":""},{"$f":"IF(AND($B12=\"AZIONE_3\",$I12=3),'3 - SPECIE DA IMPIANTARE'!$I13,\"\")","v":""},null,{"$f":"IF('3 - SPECIE DA IMPIANTARE'!$G13=4,'3 - SPECIE DA IMPIANTARE'!$G13,\"\")","v":""},{"$f":"IF(AND($B12=\"AZIONE_3\",$L12=4),'3 - SPECIE DA IMPIANTARE'!$I13,\"\")","v":""},null,{"$f":"IF('3 - SPECIE DA IMPIANTARE'!$G13=5,'3 - SPECIE DA IMPIANTARE'!$G13,\"\")","v":""},{"$f":"IF(AND($B12=\"AZIONE_3\",$O12=5),'3 - SPECIE DA IMPIANTARE'!$I13,\"\")","v":""},null,{"$f":"IF('3 - SPECIE DA IMPIANTARE'!$G13=6,'3 - SPECIE DA IMPIANTARE'!$G13,\"\")","v":""},{"$f":"IF(AND($B12=\"AZIONE_3\",$R12=6),'3 - SPECIE DA IMPIANTARE'!$I13,\"\")","v":""}]
[1,{"$f":"IF('3 - SPECIE DA IMPIANTARE'!$H14=\"AZIONE_3\",'3 - SPECIE DA IMPIANTARE'!$H14,\"\")","v":""},{"$f":"IF('3 - SPECIE DA IMPIANTARE'!$G14=1,'3 - SPECIE DA IMPIANTARE'!$G14,\"\")","v":""},{"$f":"IF(AND($B13=\"AZIONE_3\",C13=1),'3 - SPECIE DA IMPIANTARE'!$I14,\"\")","v":""},null,{"$f":"IF('3 - SPECIE DA IMPIANTARE'!$G14=2,'3 - SPECIE DA IMPIANTARE'!$G14,\"\")","v":""},{"$f":"IF(AND($B13=\"AZIONE_3\",F13=2),'3 - SPECIE DA IMPIANTARE'!$I14,\"\")","v":""},null,{"$f":"IF('3 - SPECIE DA IMPIANTARE'!$G14=3,'3 - SPECIE DA IMPIANTARE'!$G14,\"\")","v":""},{"$f":"IF(AND($B13=\"AZIONE_3\",$I13=3),'3 - SPECIE DA IMPIANTARE'!$I14,\"\")","v":""},null,{"$f":"IF('3 - SPECIE DA IMPIANTARE'!$G14=4,'3 - SPECIE DA IMPIANTARE'!$G14,\"\")","v":""},{"$f":"IF(AND($B13=\"AZIONE_3\",$L13=4),'3 - SPECIE DA IMPIANTARE'!$I14,\"\")","v":""},null,{"$f":"IF('3 - SPECIE DA IMPIANTARE'!$G14=5,'3 - SPECIE DA IMPIANTARE'!$G14,\"\")","v":""},{"$f":"IF(AND($B13=\"AZIONE_3\",$O13=5),'3 - SPECIE DA IMPIANTARE'!$I14,\"\")","v":""},null,{"$f":"IF('3 - SPECIE DA IMPIANTARE'!$G14=6,'3 - SPECIE DA IMPIANTARE'!$G14,\"\")","v":""},{"$f":"IF(AND($B13=\"AZIONE_3\",$R13=6),'3 - SPECIE DA IMPIANTARE'!$I14,\"\")","v":""}]
[1,{"$f":"IF('3 - SPECIE DA IMPIANTARE'!$H15=\"AZIONE_3\",'3 - SPECIE DA IMPIANTARE'!$H15,\"\")","v":""},{"$f":"IF('3 - SPECIE DA IMPIANTARE'!$G15=1,'3 - SPECIE DA IMPIANTARE'!$G15,\"\")","v":""},{"$f":"IF(AND($B14=\"AZIONE_3\",C14=1),'3 - SPECIE DA IMPIANTARE'!$I15,\"\")","v":""},null,{"$f":"IF('3 - SPECIE DA IMPIANTARE'!$G15=2,'3 - SPECIE DA IMPIANTARE'!$G15,\"\")","v":""},{"$f":"IF(AND($B14=\"AZIONE_3\",F14=2),'3 - SPECIE DA IMPIANTARE'!$I15,\"\")","v":""},null,{"$f":"IF('3 - SPECIE DA IMPIANTARE'!$G15=3,'3 - SPECIE DA IMPIANTARE'!$G15,\"\")","v":""},{"$f":"IF(AND($B14=\"AZIONE_3\",$I14=3),'3 - SPECIE DA IMPIANTARE'!$I15,\"\")","v":""},null,{"$f":"IF('3 - SPECIE DA IMPIANTARE'!$G15=4,'3 - SPECIE DA IMPIANTARE'!$G15,\"\")","v":""},{"$f":"IF(AND($B14=\"AZIONE_3\",$L14=4),'3 - SPECIE DA IMPIANTARE'!$I15,\"\")","v":""},null,{"$f":"IF('3 - SPECIE DA IMPIANTARE'!$G15=5,'3 - SPECIE DA IMPIANTARE'!$G15,\"\")","v":""},{"$f":"IF(AND($B14=\"AZIONE_3\",$O14=5),'3 - SPECIE DA IMPIANTARE'!$I15,\"\")","v":""},null,{"$f":"IF('3 - SPECIE DA IMPIANTARE'!$G15=6,'3 - SPECIE DA IMPIANTARE'!$G15,\"\")","v":""},{"$f":"IF(AND($B14=\"AZIONE_3\",$R14=6),'3 - SPECIE DA IMPIANTARE'!$I15,\"\")","v":""}]
[1,{"$f":"IF('3 - SPECIE DA IMPIANTARE'!$H16=\"AZIONE_3\",'3 - SPECIE DA IMPIANTARE'!$H16,\"\")","v":""},{"$f":"IF('3 - SPECIE DA IMPIANTARE'!$G16=1,'3 - SPECIE DA IMPIANTARE'!$G16,\"\")","v":""},{"$f":"IF(AND($B15=\"AZIONE_3\",C15=1),'3 - SPECIE DA IMPIANTARE'!$I16,\"\")","v":""},null,{"$f":"IF('3 - SPECIE DA IMPIANTARE'!$G16=2,'3 - SPECIE DA IMPIANTARE'!$G16,\"\")","v":""},{"$f":"IF(AND($B15=\"AZIONE_3\",F15=2),'3 - SPECIE DA IMPIANTARE'!$I16,\"\")","v":""},null,{"$f":"IF('3 - SPECIE DA IMPIANTARE'!$G16=3,'3 - SPECIE DA IMPIANTARE'!$G16,\"\")","v":""},{"$f":"IF(AND($B15=\"AZIONE_3\",$I15=3),'3 - SPECIE DA IMPIANTARE'!$I16,\"\")","v":""},null,{"$f":"IF('3 - SPECIE DA IMPIANTARE'!$G16=4,'3 - SPECIE DA IMPIANTARE'!$G16,\"\")","v":""},{"$f":"IF(AND($B15=\"AZIONE_3\",$L15=4),'3 - SPECIE DA IMPIANTARE'!$I16,\"\")","v":""},null,{"$f":"IF('3 - SPECIE DA IMPIANTARE'!$G16=5,'3 - SPECIE DA IMPIANTARE'!$G16,\"\")","v":""},{"$f":"IF(AND($B15=\"AZIONE_3\",$O15=5),'3 - SPECIE DA IMPIANTARE'!$I16,\"\")","v":""},null,{"$f":"IF('3 - SPECIE DA IMPIANTARE'!$G16=6,'3 - SPECIE DA IMPIANTARE'!$G16,\"\")","v":""},{"$f":"IF(AND($B15=\"AZIONE_3\",$R15=6),'3 - SPECIE DA IMPIANTARE'!$I16,\"\")","v":""}]
[1,{"$f":"IF('3 - SPECIE DA IMPIANTARE'!$H17=\"AZIONE_3\",'3 - SPECIE DA IMPIANTARE'!$H17,\"\")","v":""},{"$f":"IF('3 - SPECIE DA IMPIANTARE'!$G17=1,'3 - SPECIE DA IMPIANTARE'!$G17,\"\")","v":""},{"$f":"IF(AND($B16=\"AZIONE_3\",C16=1),'3 - SPECIE DA IMPIANTARE'!$I17,\"\")","v":""},null,{"$f":"IF('3 - SPECIE DA IMPIANTARE'!$G17=2,'3 - SPECIE DA IMPIANTARE'!$G17,\"\")","v":""},{"$f":"IF(AND($B16=\"AZIONE_3\",F16=2),'3 - SPECIE DA IMPIANTARE'!$I17,\"\")","v":""},null,{"$f":"IF('3 - SPECIE DA IMPIANTARE'!$G17=3,'3 - SPECIE DA IMPIANTARE'!$G17,\"\")","v":""},{"$f":"IF(AND($B16=\"AZIONE_3\",$I16=3),'3 - SPECIE DA IMPIANTARE'!$I17,\"\")","v":""},null,{"$f":"IF('3 - SPECIE DA IMPIANTARE'!$G17=4,'3 - SPECIE DA IMPIANTARE'!$G17,\"\")","v":""},{"$f":"IF(AND($B16=\"AZIONE_3\",$L16=4),'3 - SPECIE DA IMPIANTARE'!$I17,\"\")","v":""},null,{"$f":"IF('3 - SPECIE DA IMPIANTARE'!$G17=5,'3 - SPECIE DA IMPIANTARE'!$G17,\"\")","v":""},{"$f":"IF(AND($B16=\"AZIONE_3\",$O16=5),'3 - SPECIE DA IMPIANTARE'!$I17,\"\")","v":""},null,{"$f":"IF('3 - SPECIE DA IMPIANTARE'!$G17=6,'3 - SPECIE DA IMPIANTARE'!$G17,\"\")","v":""},{"$f":"IF(AND($B16=\"AZIONE_3\",$R16=6),'3 - SPECIE DA IMPIANTARE'!$I17,\"\")","v":""}]
[1,{"$f":"IF('3 - SPECIE DA IMPIANTARE'!$H18=\"AZIONE_3\",'3 - SPECIE DA IMPIANTARE'!$H18,\"\")","v":""},{"$f":"IF('3 - SPECIE DA IMPIANTARE'!$G18=1,'3 - SPECIE DA IMPIANTARE'!$G18,\"\")","v":""},{"$f":"IF(AND($B17=\"AZIONE_3\",C17=1),'3 - SPECIE DA IMPIANTARE'!$I18,\"\")","v":""},null,{"$f":"IF('3 - SPECIE DA IMPIANTARE'!$G18=2,'3 - SPECIE DA IMPIANTARE'!$G18,\"\")","v":""},{"$f":"IF(AND($B17=\"AZIONE_3\",F17=2),'3 - SPECIE DA IMPIANTARE'!$I18,\"\")","v":""},null,{"$f":"IF('3 - SPECIE DA IMPIANTARE'!$G18=3,'3 - SPECIE DA IMPIANTARE'!$G18,\"\")","v":""},{"$f":"IF(AND($B17=\"AZIONE_3\",$I17=3),'3 - SPECIE DA IMPIANTARE'!$I18,\"\")","v":""},null,{"$f":"IF('3 - SPECIE DA IMPIANTARE'!$G18=4,'3 - SPECIE DA IMPIANTARE'!$G18,\"\")","v":""},{"$f":"IF(AND($B17=\"AZIONE_3\",$L17=4),'3 - SPECIE DA IMPIANTARE'!$I18,\"\")","v":""},null,{"$f":"IF('3 - SPECIE DA IMPIANTARE'!$G18=5,'3 - SPECIE DA IMPIANTARE'!$G18,\"\")","v":""},{"$f":"IF(AND($B17=\"AZIONE_3\",$O17=5),'3 - SPECIE DA IMPIANTARE'!$I18,\"\")","v":""},null,{"$f":"IF('3 - SPECIE DA IMPIANTARE'!$G18=6,'3 - SPECIE DA IMPIANTARE'!$G18,\"\")","v":""},{"$f":"IF(AND($B17=\"AZIONE_3\",$R17=6),'3 - SPECIE DA IMPIANTARE'!$I18,\"\")","v":""}]
[1,{"$f":"IF('3 - SPECIE DA IMPIANTARE'!$H19=\"AZIONE_3\",'3 - SPECIE DA IMPIANTARE'!$H19,\"\")","v":""},{"$f":"IF('3 - SPECIE DA IMPIANTARE'!$G19=1,'3 - SPECIE DA IMPIANTARE'!$G19,\"\")","v":""},{"$f":"IF(AND($B18=\"AZIONE_3\",C18=1),'3 - SPECIE DA IMPIANTARE'!$I19,\"\")","v":""},null,{"$f":"IF('3 - SPECIE DA IMPIANTARE'!$G19=2,'3 - SPECIE DA IMPIANTARE'!$G19,\"\")","v":""},{"$f":"IF(AND($B18=\"AZIONE_3\",F18=2),'3 - SPECIE DA IMPIANTARE'!$I19,\"\")","v":""},null,{"$f":"IF('3 - SPECIE DA IMPIANTARE'!$G19=3,'3 - SPECIE DA IMPIANTARE'!$G19,\"\")","v":""},{"$f":"IF(AND($B18=\"AZIONE_3\",$I18=3),'3 - SPECIE DA IMPIANTARE'!$I19,\"\")","v":""},null,{"$f":"IF('3 - SPECIE DA IMPIANTARE'!$G19=4,'3 - SPECIE DA IMPIANTARE'!$G19,\"\")","v":""},{"$f":"IF(AND($B18=\"AZIONE_3\",$L18=4),'3 - SPECIE DA IMPIANTARE'!$I19,\"\")","v":""},null,{"$f":"IF('3 - SPECIE DA IMPIANTARE'!$G19=5,'3 - SPECIE DA IMPIANTARE'!$G19,\"\")","v":""},{"$f":"IF(AND($B18=\"AZIONE_3\",$O18=5),'3 - SPECIE DA IMPIANTARE'!$I19,\"\")","v":""},null,{"$f":"IF('3 - SPECIE DA IMPIANTARE'!$G19=6,'3 - SPECIE DA IMPIANTARE'!$G19,\"\")","v":""},{"$f":"IF(AND($B18=\"AZIONE_3\",$R18=6),'3 - SPECIE DA IMPIANTARE'!$I19,\"\")","v":""}]
[1,{"$f":"IF('3 - SPECIE DA IMPIANTARE'!$H20=\"AZIONE_3\",'3 - SPECIE DA IMPIANTARE'!$H20,\"\")","v":""},{"$f":"IF('3 - SPECIE DA IMPIANTARE'!$G20=1,'3 - SPECIE DA IMPIANTARE'!$G20,\"\")","v":""},{"$f":"IF(AND($B19=\"AZIONE_3\",C19=1),'3 - SPECIE DA IMPIANTARE'!$I20,\"\")","v":""},null,{"$f":"IF('3 - SPECIE DA IMPIANTARE'!$G20=2,'3 - SPECIE DA IMPIANTARE'!$G20,\"\")","v":""},{"$f":"IF(AND($B19=\"AZIONE_3\",F19=2),'3 - SPECIE DA IMPIANTARE'!$I20,\"\")","v":""},null,{"$f":"IF('3 - SPECIE DA IMPIANTARE'!$G20=3,'3 - SPECIE DA IMPIANTARE'!$G20,\"\")","v":""},{"$f":"IF(AND($B19=\"AZIONE_3\",$I19=3),'3 - SPECIE DA IMPIANTARE'!$I20,\"\")","v":""},null,{"$f":"IF('3 - SPECIE DA IMPIANTARE'!$G20=4,'3 - SPECIE DA IMPIANTARE'!$G20,\"\")","v":""},{"$f":"IF(AND($B19=\"AZIONE_3\",$L19=4),'3 - SPECIE DA IMPIANTARE'!$I20,\"\")","v":""},null,{"$f":"IF('3 - SPECIE DA IMPIANTARE'!$G20=5,'3 - SPECIE DA IMPIANTARE'!$G20,\"\")","v":""},{"$f":"IF(AND($B19=\"AZIONE_3\",$O19=5),'3 - SPECIE DA IMPIANTARE'!$I20,\"\")","v":""},null,{"$f":"IF('3 - SPECIE DA IMPIANTARE'!$G20=6,'3 - SPECIE DA IMPIANTARE'!$G20,\"\")","v":""},{"$f":"IF(AND($B19=\"AZIONE_3\",$R19=6),'3 - SPECIE DA IMPIANTARE'!$I20,\"\")","v":""}]
[1,{"$f":"IF('3 - SPECIE DA IMPIANTARE'!$H21=\"AZIONE_3\",'3 - SPECIE DA IMPIANTARE'!$H21,\"\")","v":""},{"$f":"IF('3 - SPECIE DA IMPIANTARE'!$G21=1,'3 - SPECIE DA IMPIANTARE'!$G21,\"\")","v":""},{"$f":"IF(AND($B20=\"AZIONE_3\",C20=1),'3 - SPECIE DA IMPIANTARE'!$I21,\"\")","v":""},null,{"$f":"IF('3 - SPECIE DA IMPIANTARE'!$G21=2,'3 - SPECIE DA IMPIANTARE'!$G21,\"\")","v":""},{"$f":"IF(AND($B20=\"AZIONE_3\",F20=2),'3 - SPECIE DA IMPIANTARE'!$I21,\"\")","v":""},null,{"$f":"IF('3 - SPECIE DA IMPIANTARE'!$G21=3,'3 - SPECIE DA IMPIANTARE'!$G21,\"\")","v":""},{"$f":"IF(AND($B20=\"AZIONE_3\",$I20=3),'3 - SPECIE DA IMPIANTARE'!$I21,\"\")","v":""},null,{"$f":"IF('3 - SPECIE DA IMPIANTARE'!$G21=4,'3 - SPECIE DA IMPIANTARE'!$G21,\"\")","v":""},{"$f":"IF(AND($B20=\"AZIONE_3\",$L20=4),'3 - SPECIE DA IMPIANTARE'!$I21,\"\")","v":""},null,{"$f":"IF('3 - SPECIE DA IMPIANTARE'!$G21=5,'3 - SPECIE DA IMPIANTARE'!$G21,\"\")","v":""},{"$f":"IF(AND($B20=\"AZIONE_3\",$O20=5),'3 - SPECIE DA IMPIANTARE'!$I21,\"\")","v":""},null,{"$f":"IF('3 - SPECIE DA IMPIANTARE'!$G21=6,'3 - SPECIE DA IMPIANTARE'!$G21,\"\")","v":""},{"$f":"IF(AND($B20=\"AZIONE_3\",$R20=6),'3 - SPECIE DA IMPIANTARE'!$I21,\"\")","v":""}]
[1,{"$f":"IF('3 - SPECIE DA IMPIANTARE'!$H22=\"AZIONE_3\",'3 - SPECIE DA IMPIANTARE'!$H22,\"\")","v":""},{"$f":"IF('3 - SPECIE DA IMPIANTARE'!$G22=1,'3 - SPECIE DA IMPIANTARE'!$G22,\"\")","v":""},{"$f":"IF(AND($B21=\"AZIONE_3\",C21=1),'3 - SPECIE DA IMPIANTARE'!$I22,\"\")","v":""},null,{"$f":"IF('3 - SPECIE DA IMPIANTARE'!$G22=2,'3 - SPECIE DA IMPIANTARE'!$G22,\"\")","v":""},{"$f":"IF(AND($B21=\"AZIONE_3\",F21=2),'3 - SPECIE DA IMPIANTARE'!$I22,\"\")","v":""},null,{"$f":"IF('3 - SPECIE DA IMPIANTARE'!$G22=3,'3 - SPECIE DA IMPIANTARE'!$G22,\"\")","v":""},{"$f":"IF(AND($B21=\"AZIONE_3\",$I21=3),'3 - SPECIE DA IMPIANTARE'!$I22,\"\")","v":""},null,{"$f":"IF('3 - SPECIE DA IMPIANTARE'!$G22=4,'3 - SPECIE DA IMPIANTARE'!$G22,\"\")","v":""},{"$f":"IF(AND($B21=\"AZIONE_3\",$L21=4),'3 - SPECIE DA IMPIANTARE'!$I22,\"\")","v":""},null,{"$f":"IF('3 - SPECIE DA IMPIANTARE'!$G22=5,'3 - SPECIE DA IMPIANTARE'!$G22,\"\")","v":""},{"$f":"IF(AND($B21=\"AZIONE_3\",$O21=5),'3 - SPECIE DA IMPIANTARE'!$I22,\"\")","v":""},null,{"$f":"IF('3 - SPECIE DA IMPIANTARE'!$G22=6,'3 - SPECIE DA IMPIANTARE'!$G22,\"\")","v":""},{"$f":"IF(AND($B21=\"AZIONE_3\",$R21=6),'3 - SPECIE DA IMPIANTARE'!$I22,\"\")","v":""}]
[1,{"$f":"IF('3 - SPECIE DA IMPIANTARE'!$H23=\"AZIONE_3\",'3 - SPECIE DA IMPIANTARE'!$H23,\"\")","v":""},{"$f":"IF('3 - SPECIE DA IMPIANTARE'!$G23=1,'3 - SPECIE DA IMPIANTARE'!$G23,\"\")","v":""},{"$f":"IF(AND($B22=\"AZIONE_3\",C22=1),'3 - SPECIE DA IMPIANTARE'!$I23,\"\")","v":""},null,{"$f":"IF('3 - SPECIE DA IMPIANTARE'!$G23=2,'3 - SPECIE DA IMPIANTARE'!$G23,\"\")","v":""},{"$f":"IF(AND($B22=\"AZIONE_3\",F22=2),'3 - SPECIE DA IMPIANTARE'!$I23,\"\")","v":""},null,{"$f":"IF('3 - SPECIE DA IMPIANTARE'!$G23=3,'3 - SPECIE DA IMPIANTARE'!$G23,\"\")","v":""},{"$f":"IF(AND($B22=\"AZIONE_3\",$I22=3),'3 - SPECIE DA IMPIANTARE'!$I23,\"\")","v":""},null,{"$f":"IF('3 - SPECIE DA IMPIANTARE'!$G23=4,'3 - SPECIE DA IMPIANTARE'!$G23,\"\")","v":""},{"$f":"IF(AND($B22=\"AZIONE_3\",$L22=4),'3 - SPECIE DA IMPIANTARE'!$I23,\"\")","v":""},null,{"$f":"IF('3 - SPECIE DA IMPIANTARE'!$G23=5,'3 - SPECIE DA IMPIANTARE'!$G23,\"\")","v":""},{"$f":"IF(AND($B22=\"AZIONE_3\",$O22=5),'3 - SPECIE DA IMPIANTARE'!$I23,\"\")","v":""},null,{"$f":"IF('3 - SPECIE DA IMPIANTARE'!$G23=6,'3 - SPECIE DA IMPIANTARE'!$G23,\"\")","v":""},{"$f":"IF(AND($B22=\"AZIONE_3\",$R22=6),'3 - SPECIE DA IMPIANTARE'!$I23,\"\")","v":""}]
[1,{"$f":"IF('3 - SPECIE DA IMPIANTARE'!$H24=\"AZIONE_3\",'3 - SPECIE DA IMPIANTARE'!$H24,\"\")","v":""},{"$f":"IF('3 - SPECIE DA IMPIANTARE'!$G24=1,'3 - SPECIE DA IMPIANTARE'!$G24,\"\")","v":""},{"$f":"IF(AND($B23=\"AZIONE_3\",C23=1),'3 - SPECIE DA IMPIANTARE'!$I24,\"\")","v":""},null,{"$f":"IF('3 - SPECIE DA IMPIANTARE'!$G24=2,'3 - SPECIE DA IMPIANTARE'!$G24,\"\")","v":""},{"$f":"IF(AND($B23=\"AZIONE_3\",F23=2),'3 - SPECIE DA IMPIANTARE'!$I24,\"\")","v":""},null,{"$f":"IF('3 - SPECIE DA IMPIANTARE'!$G24=3,'3 - SPECIE DA IMPIANTARE'!$G24,\"\")","v":""},{"$f":"IF(AND($B23=\"AZIONE_3\",$I23=3),'3 - SPECIE DA IMPIANTARE'!$I24,\"\")","v":""},null,{"$f":"IF('3 - SPECIE DA IMPIANTARE'!$G24=4,'3 - SPECIE DA IMPIANTARE'!$G24,\"\")","v":""},{"$f":"IF(AND($B23=\"AZIONE_3\",$L23=4),'3 - SPECIE DA IMPIANTARE'!$I24,\"\")","v":""},null,{"$f":"IF('3 - SPECIE DA IMPIANTARE'!$G24=5,'3 - SPECIE DA IMPIANTARE'!$G24,\"\")","v":""},{"$f":"IF(AND($B23=\"AZIONE_3\",$O23=5),'3 - SPECIE DA IMPIANTARE'!$I24,\"\")","v":""},null,{"$f":"IF('3 - SPECIE DA IMPIANTARE'!$G24=6,'3 - SPECIE DA IMPIANTARE'!$G24,\"\")","v":""},{"$f":"IF(AND($B23=\"AZIONE_3\",$R23=6),'3 - SPECIE DA IMPIANTARE'!$I24,\"\")","v":""}]
[1,{"$f":"IF('3 - SPECIE DA IMPIANTARE'!$H25=\"AZIONE_3\",'3 - SPECIE DA IMPIANTARE'!$H25,\"\")","v":""},{"$f":"IF('3 - SPECIE DA IMPIANTARE'!$G25=1,'3 - SPECIE DA IMPIANTARE'!$G25,\"\")","v":""},{"$f":"IF(AND($B24=\"AZIONE_3\",C24=1),'3 - SPECIE DA IMPIANTARE'!$I25,\"\")","v":""},null,{"$f":"IF('3 - SPECIE DA IMPIANTARE'!$G25=2,'3 - SPECIE DA IMPIANTARE'!$G25,\"\")","v":""},{"$f":"IF(AND($B24=\"AZIONE_3\",F24=2),'3 - SPECIE DA IMPIANTARE'!$I25,\"\")","v":""},null,{"$f":"IF('3 - SPECIE DA IMPIANTARE'!$G25=3,'3 - SPECIE DA IMPIANTARE'!$G25,\"\")","v":""},{"$f":"IF(AND($B24=\"AZIONE_3\",$I24=3),'3 - SPECIE DA IMPIANTARE'!$I25,\"\")","v":""},null,{"$f":"IF('3 - SPECIE DA IMPIANTARE'!$G25=4,'3 - SPECIE DA IMPIANTARE'!$G25,\"\")","v":""},{"$f":"IF(AND($B24=\"AZIONE_3\",$L24=4),'3 - SPECIE DA IMPIANTARE'!$I25,\"\")","v":""},null,{"$f":"IF('3 - SPECIE DA IMPIANTARE'!$G25=5,'3 - SPECIE DA IMPIANTARE'!$G25,\"\")","v":""},{"$f":"IF(AND($B24=\"AZIONE_3\",$O24=5),'3 - SPECIE DA IMPIANTARE'!$I25,\"\")","v":""},null,{"$f":"IF('3 - SPECIE DA IMPIANTARE'!$G25=6,'3 - SPECIE DA IMPIANTARE'!$G25,\"\")","v":""},{"$f":"IF(AND($B24=\"AZIONE_3\",$R24=6),'3 - SPECIE DA IMPIANTARE'!$I25,\"\")","v":""}]
[1,{"$f":"IF('3 - SPECIE DA IMPIANTARE'!$H26=\"AZIONE_3\",'3 - SPECIE DA IMPIANTARE'!$H26,\"\")","v":""},{"$f":"IF('3 - SPECIE DA IMPIANTARE'!$G26=1,'3 - SPECIE DA IMPIANTARE'!$G26,\"\")","v":""},{"$f":"IF(AND($B25=\"AZIONE_3\",C25=1),'3 - SPECIE DA IMPIANTARE'!$I26,\"\")","v":""},null,{"$f":"IF('3 - SPECIE DA IMPIANTARE'!$G26=2,'3 - SPECIE DA IMPIANTARE'!$G26,\"\")","v":""},{"$f":"IF(AND($B25=\"AZIONE_3\",F25=2),'3 - SPECIE DA IMPIANTARE'!$I26,\"\")","v":""},null,{"$f":"IF('3 - SPECIE DA IMPIANTARE'!$G26=3,'3 - SPECIE DA IMPIANTARE'!$G26,\"\")","v":""},{"$f":"IF(AND($B25=\"AZIONE_3\",$I25=3),'3 - SPECIE DA IMPIANTARE'!$I26,\"\")","v":""},null,{"$f":"IF('3 - SPECIE DA IMPIANTARE'!$G26=4,'3 - SPECIE DA IMPIANTARE'!$G26,\"\")","v":""},{"$f":"IF(AND($B25=\"AZIONE_3\",$L25=4),'3 - SPECIE DA IMPIANTARE'!$I26,\"\")","v":""},null,{"$f":"IF('3 - SPECIE DA IMPIANTARE'!$G26=5,'3 - SPECIE DA IMPIANTARE'!$G26,\"\")","v":""},{"$f":"IF(AND($B25=\"AZIONE_3\",$O25=5),'3 - SPECIE DA IMPIANTARE'!$I26,\"\")","v":""},null,{"$f":"IF('3 - SPECIE DA IMPIANTARE'!$G26=6,'3 - SPECIE DA IMPIANTARE'!$G26,\"\")","v":""},{"$f":"IF(AND($B25=\"AZIONE_3\",$R25=6),'3 - SPECIE DA IMPIANTARE'!$I26,\"\")","v":""}]
[1,{"$f":"IF('3 - SPECIE DA IMPIANTARE'!$H27=\"AZIONE_3\",'3 - SPECIE DA IMPIANTARE'!$H27,\"\")","v":""},{"$f":"IF('3 - SPECIE DA IMPIANTARE'!$G27=1,'3 - SPECIE DA IMPIANTARE'!$G27,\"\")","v":""},{"$f":"IF(AND($B26=\"AZIONE_3\",C26=1),'3 - SPECIE DA IMPIANTARE'!$I27,\"\")","v":""},null,{"$f":"IF('3 - SPECIE DA IMPIANTARE'!$G27=2,'3 - SPECIE DA IMPIANTARE'!$G27,\"\")","v":""},{"$f":"IF(AND($B26=\"AZIONE_3\",F26=2),'3 - SPECIE DA IMPIANTARE'!$I27,\"\")","v":""},null,{"$f":"IF('3 - SPECIE DA IMPIANTARE'!$G27=3,'3 - SPECIE DA IMPIANTARE'!$G27,\"\")","v":""},{"$f":"IF(AND($B26=\"AZIONE_3\",$I26=3),'3 - SPECIE DA IMPIANTARE'!$I27,\"\")","v":""},null,{"$f":"IF('3 - SPECIE DA IMPIANTARE'!$G27=4,'3 - SPECIE DA IMPIANTARE'!$G27,\"\")","v":""},{"$f":"IF(AND($B26=\"AZIONE_3\",$L26=4),'3 - SPECIE DA IMPIANTARE'!$I27,\"\")","v":""},null,{"$f":"IF('3 - SPECIE DA IMPIANTARE'!$G27=5,'3 - SPECIE DA IMPIANTARE'!$G27,\"\")","v":""},{"$f":"IF(AND($B26=\"AZIONE_3\",$O26=5),'3 - SPECIE DA IMPIANTARE'!$I27,\"\")","v":""},null,{"$f":"IF('3 - SPECIE DA IMPIANTARE'!$G27=6,'3 - SPECIE DA IMPIANTARE'!$G27,\"\")","v":""},{"$f":"IF(AND($B26=\"AZIONE_3\",$R26=6),'3 - SPECIE DA IMPIANTARE'!$I27,\"\")","v":""}]
[1,{"$f":"IF('3 - SPECIE DA IMPIANTARE'!$H28=\"AZIONE_3\",'3 - SPECIE DA IMPIANTARE'!$H28,\"\")","v":""},{"$f":"IF('3 - SPECIE DA IMPIANTARE'!$G28=1,'3 - SPECIE DA IMPIANTARE'!$G28,\"\")","v":""},{"$f":"IF(AND($B27=\"AZIONE_3\",C27=1),'3 - SPECIE DA IMPIANTARE'!$I28,\"\")","v":""},null,{"$f":"IF('3 - SPECIE DA IMPIANTARE'!$G28=2,'3 - SPECIE DA IMPIANTARE'!$G28,\"\")","v":""},{"$f":"IF(AND($B27=\"AZIONE_3\",F27=2),'3 - SPECIE DA IMPIANTARE'!$I28,\"\")","v":""},null,{"$f":"IF('3 - SPECIE DA IMPIANTARE'!$G28=3,'3 - SPECIE DA IMPIANTARE'!$G28,\"\")","v":""},{"$f":"IF(AND($B27=\"AZIONE_3\",$I27=3),'3 - SPECIE DA IMPIANTARE'!$I28,\"\")","v":""},null,{"$f":"IF('3 - SPECIE DA IMPIANTARE'!$G28=4,'3 - SPECIE DA IMPIANTARE'!$G28,\"\")","v":""},{"$f":"IF(AND($B27=\"AZIONE_3\",$L27=4),'3 - SPECIE DA IMPIANTARE'!$I28,\"\")","v":""},null,{"$f":"IF('3 - SPECIE DA IMPIANTARE'!$G28=5,'3 - SPECIE DA IMPIANTARE'!$G28,\"\")","v":""},{"$f":"IF(AND($B27=\"AZIONE_3\",$O27=5),'3 - SPECIE DA IMPIANTARE'!$I28,\"\")","v":""},null,{"$f":"IF('3 - SPECIE DA IMPIANTARE'!$G28=6,'3 - SPECIE DA IMPIANTARE'!$G28,\"\")","v":""},{"$f":"IF(AND($B27=\"AZIONE_3\",$R27=6),'3 - SPECIE DA IMPIANTARE'!$I28,\"\")","v":""}]
[1,{"$f":"IF('3 - SPECIE DA IMPIANTARE'!$H29=\"AZIONE_3\",'3 - SPECIE DA IMPIANTARE'!$H29,\"\")","v":""},{"$f":"IF('3 - SPECIE DA IMPIANTARE'!$G29=1,'3 - SPECIE DA IMPIANTARE'!$G29,\"\")","v":""},{"$f":"IF(AND($B28=\"AZIONE_3\",C28=1),'3 - SPECIE DA IMPIANTARE'!$I29,\"\")","v":""},null,{"$f":"IF('3 - SPECIE DA IMPIANTARE'!$G29=2,'3 - SPECIE DA IMPIANTARE'!$G29,\"\")","v":""},{"$f":"IF(AND($B28=\"AZIONE_3\",F28=2),'3 - SPECIE DA IMPIANTARE'!$I29,\"\")","v":""},null,{"$f":"IF('3 - SPECIE DA IMPIANTARE'!$G29=3,'3 - SPECIE DA IMPIANTARE'!$G29,\"\")","v":""},{"$f":"IF(AND($B28=\"AZIONE_3\",$I28=3),'3 - SPECIE DA IMPIANTARE'!$I29,\"\")","v":""},null,{"$f":"IF('3 - SPECIE DA IMPIANTARE'!$G29=4,'3 - SPECIE DA IMPIANTARE'!$G29,\"\")","v":""},{"$f":"IF(AND($B28=\"AZIONE_3\",$L28=4),'3 - SPECIE DA IMPIANTARE'!$I29,\"\")","v":""},null,{"$f":"IF('3 - SPECIE DA IMPIANTARE'!$G29=5,'3 - SPECIE DA IMPIANTARE'!$G29,\"\")","v":""},{"$f":"IF(AND($B28=\"AZIONE_3\",$O28=5),'3 - SPECIE DA IMPIANTARE'!$I29,\"\")","v":""},null,{"$f":"IF('3 - SPECIE DA IMPIANTARE'!$G29=6,'3 - SPECIE DA IMPIANTARE'!$G29,\"\")","v":""},{"$f":"IF(AND($B28=\"AZIONE_3\",$R28=6),'3 - SPECIE DA IMPIANTARE'!$I29,\"\")","v":""}]
[1,{"$f":"IF('3 - SPECIE DA IMPIANTARE'!$H30=\"AZIONE_3\",'3 - SPECIE DA IMPIANTARE'!$H30,\"\")","v":""},{"$f":"IF('3 - SPECIE DA IMPIANTARE'!$G30=1,'3 - SPECIE DA IMPIANTARE'!$G30,\"\")","v":""},{"$f":"IF(AND($B29=\"AZIONE_3\",C29=1),'3 - SPECIE DA IMPIANTARE'!$I30,\"\")","v":""},null,{"$f":"IF('3 - SPECIE DA IMPIANTARE'!$G30=2,'3 - SPECIE DA IMPIANTARE'!$G30,\"\")","v":""},{"$f":"IF(AND($B29=\"AZIONE_3\",F29=2),'3 - SPECIE DA IMPIANTARE'!$I30,\"\")","v":""},null,{"$f":"IF('3 - SPECIE DA IMPIANTARE'!$G30=3,'3 - SPECIE DA IMPIANTARE'!$G30,\"\")","v":""},{"$f":"IF(AND($B29=\"AZIONE_3\",$I29=3),'3 - SPECIE DA IMPIANTARE'!$I30,\"\")","v":""},null,{"$f":"IF('3 - SPECIE DA IMPIANTARE'!$G30=4,'3 - SPECIE DA IMPIANTARE'!$G30,\"\")","v":""},{"$f":"IF(AND($B29=\"AZIONE_3\",$L29=4),'3 - SPECIE DA IMPIANTARE'!$I30,\"\")","v":""},null,{"$f":"IF('3 - SPECIE DA IMPIANTARE'!$G30=5,'3 - SPECIE DA IMPIANTARE'!$G30,\"\")","v":""},{"$f":"IF(AND($B29=\"AZIONE_3\",$O29=5),'3 - SPECIE DA IMPIANTARE'!$I30,\"\")","v":""},null,{"$f":"IF('3 - SPECIE DA IMPIANTARE'!$G30=6,'3 - SPECIE DA IMPIANTARE'!$G30,\"\")","v":""},{"$f":"IF(AND($B29=\"AZIONE_3\",$R29=6),'3 - SPECIE DA IMPIANTARE'!$I30,\"\")","v":""}]
[1,{"$f":"IF('3 - SPECIE DA IMPIANTARE'!$H31=\"AZIONE_3\",'3 - SPECIE DA IMPIANTARE'!$H31,\"\")","v":""},{"$f":"IF('3 - SPECIE DA IMPIANTARE'!$G31=1,'3 - SPECIE DA IMPIANTARE'!$G31,\"\")","v":""},{"$f":"IF(AND($B30=\"AZIONE_3\",C30=1),'3 - SPECIE DA IMPIANTARE'!$I31,\"\")","v":""},null,{"$f":"IF('3 - SPECIE DA IMPIANTARE'!$G31=2,'3 - SPECIE DA IMPIANTARE'!$G31,\"\")","v":""},{"$f":"IF(AND($B30=\"AZIONE_3\",F30=2),'3 - SPECIE DA IMPIANTARE'!$I31,\"\")","v":""},null,{"$f":"IF('3 - SPECIE DA IMPIANTARE'!$G31=3,'3 - SPECIE DA IMPIANTARE'!$G31,\"\")","v":""},{"$f":"IF(AND($B30=\"AZIONE_3\",$I30=3),'3 - SPECIE DA IMPIANTARE'!$I31,\"\")","v":""},null,{"$f":"IF('3 - SPECIE DA IMPIANTARE'!$G31=4,'3 - SPECIE DA IMPIANTARE'!$G31,\"\")","v":""},{"$f":"IF(AND($B30=\"AZIONE_3\",$L30=4),'3 - SPECIE DA IMPIANTARE'!$I31,\"\")","v":""},null,{"$f":"IF('3 - SPECIE DA IMPIANTARE'!$G31=5,'3 - SPECIE DA IMPIANTARE'!$G31,\"\")","v":""},{"$f":"IF(AND($B30=\"AZIONE_3\",$O30=5),'3 - SPECIE DA IMPIANTARE'!$I31,\"\")","v":""},null,{"$f":"IF('3 - SPECIE DA IMPIANTARE'!$G31=6,'3 - SPECIE DA IMPIANTARE'!$G31,\"\")","v":""},{"$f":"IF(AND($B30=\"AZIONE_3\",$R30=6),'3 - SPECIE DA IMPIANTARE'!$I31,\"\")","v":""}]
[1,{"$f":"IF('3 - SPECIE DA IMPIANTARE'!$H32=\"AZIONE_3\",'3 - SPECIE DA IMPIANTARE'!$H32,\"\")","v":""},{"$f":"IF('3 - SPECIE DA IMPIANTARE'!$G32=1,'3 - SPECIE DA IMPIANTARE'!$G32,\"\")","v":""},{"$f":"IF(AND($B31=\"AZIONE_3\",C31=1),'3 - SPECIE DA IMPIANTARE'!$I32,\"\")","v":""},null,{"$f":"IF('3 - SPECIE DA IMPIANTARE'!$G32=2,'3 - SPECIE DA IMPIANTARE'!$G32,\"\")","v":""},{"$f":"IF(AND($B31=\"AZIONE_3\",F31=2),'3 - SPECIE DA IMPIANTARE'!$I32,\"\")","v":""},null,{"$f":"IF('3 - SPECIE DA IMPIANTARE'!$G32=3,'3 - SPECIE DA IMPIANTARE'!$G32,\"\")","v":""},{"$f":"IF(AND($B31=\"AZIONE_3\",$I31=3),'3 - SPECIE DA IMPIANTARE'!$I32,\"\")","v":""},null,{"$f":"IF('3 - SPECIE DA IMPIANTARE'!$G32=4,'3 - SPECIE DA IMPIANTARE'!$G32,\"\")","v":""},{"$f":"IF(AND($B31=\"AZIONE_3\",$L31=4),'3 - SPECIE DA IMPIANTARE'!$I32,\"\")","v":""},null,{"$f":"IF('3 - SPECIE DA IMPIANTARE'!$G32=5,'3 - SPECIE DA IMPIANTARE'!$G32,\"\")","v":""},{"$f":"IF(AND($B31=\"AZIONE_3\",$O31=5),'3 - SPECIE DA IMPIANTARE'!$I32,\"\")","v":""},null,{"$f":"IF('3 - SPECIE DA IMPIANTARE'!$G32=6,'3 - SPECIE DA IMPIANTARE'!$G32,\"\")","v":""},{"$f":"IF(AND($B31=\"AZIONE_3\",$R31=6),'3 - SPECIE DA IMPIANTARE'!$I32,\"\")","v":""}]
[1,{"$f":"IF('3 - SPECIE DA IMPIANTARE'!$H33=\"AZIONE_3\",'3 - SPECIE DA IMPIANTARE'!$H33,\"\")","v":""},{"$f":"IF('3 - SPECIE DA IMPIANTARE'!$G33=1,'3 - SPECIE DA IMPIANTARE'!$G33,\"\")","v":""},{"$f":"IF(AND($B32=\"AZIONE_3\",C32=1),'3 - SPECIE DA IMPIANTARE'!$I33,\"\")","v":""},null,{"$f":"IF('3 - SPECIE DA IMPIANTARE'!$G33=2,'3 - SPECIE DA IMPIANTARE'!$G33,\"\")","v":""},{"$f":"IF(AND($B32=\"AZIONE_3\",F32=2),'3 - SPECIE DA IMPIANTARE'!$I33,\"\")","v":""},null,{"$f":"IF('3 - SPECIE DA IMPIANTARE'!$G33=3,'3 - SPECIE DA IMPIANTARE'!$G33,\"\")","v":""},{"$f":"IF(AND($B32=\"AZIONE_3\",$I32=3),'3 - SPECIE DA IMPIANTARE'!$I33,\"\")","v":""},null,{"$f":"IF('3 - SPECIE DA IMPIANTARE'!$G33=4,'3 - SPECIE DA IMPIANTARE'!$G33,\"\")","v":""},{"$f":"IF(AND($B32=\"AZIONE_3\",$L32=4),'3 - SPECIE DA IMPIANTARE'!$I33,\"\")","v":""},null,{"$f":"IF('3 - SPECIE DA IMPIANTARE'!$G33=5,'3 - SPECIE DA IMPIANTARE'!$G33,\"\")","v":""},{"$f":"IF(AND($B32=\"AZIONE_3\",$O32=5),'3 - SPECIE DA IMPIANTARE'!$I33,\"\")","v":""},null,{"$f":"IF('3 - SPECIE DA IMPIANTARE'!$G33=6,'3 - SPECIE DA IMPIANTARE'!$G33,\"\")","v":""},{"$f":"IF(AND($B32=\"AZIONE_3\",$R32=6),'3 - SPECIE DA IMPIANTARE'!$I33,\"\")","v":""}]
[1,{"$f":"IF('3 - SPECIE DA IMPIANTARE'!$H34=\"AZIONE_3\",'3 - SPECIE DA IMPIANTARE'!$H34,\"\")","v":""},{"$f":"IF('3 - SPECIE DA IMPIANTARE'!$G34=1,'3 - SPECIE DA IMPIANTARE'!$G34,\"\")","v":""},{"$f":"IF(AND($B33=\"AZIONE_3\",C33=1),'3 - SPECIE DA IMPIANTARE'!$I34,\"\")","v":""},null,{"$f":"IF('3 - SPECIE DA IMPIANTARE'!$G34=2,'3 - SPECIE DA IMPIANTARE'!$G34,\"\")","v":""},{"$f":"IF(AND($B33=\"AZIONE_3\",F33=2),'3 - SPECIE DA IMPIANTARE'!$I34,\"\")","v":""},null,{"$f":"IF('3 - SPECIE DA IMPIANTARE'!$G34=3,'3 - SPECIE DA IMPIANTARE'!$G34,\"\")","v":""},{"$f":"IF(AND($B33=\"AZIONE_3\",$I33=3),'3 - SPECIE DA IMPIANTARE'!$I34,\"\")","v":""},null,{"$f":"IF('3 - SPECIE DA IMPIANTARE'!$G34=4,'3 - SPECIE DA IMPIANTARE'!$G34,\"\")","v":""},{"$f":"IF(AND($B33=\"AZIONE_3\",$L33=4),'3 - SPECIE DA IMPIANTARE'!$I34,\"\")","v":""},null,{"$f":"IF('3 - SPECIE DA IMPIANTARE'!$G34=5,'3 - SPECIE DA IMPIANTARE'!$G34,\"\")","v":""},{"$f":"IF(AND($B33=\"AZIONE_3\",$O33=5),'3 - SPECIE DA IMPIANTARE'!$I34,\"\")","v":""},null,{"$f":"IF('3 - SPECIE DA IMPIANTARE'!$G34=6,'3 - SPECIE DA IMPIANTARE'!$G34,\"\")","v":""},{"$f":"IF(AND($B33=\"AZIONE_3\",$R33=6),'3 - SPECIE DA IMPIANTARE'!$I34,\"\")","v":""}]
[1,{"$f":"IF('3 - SPECIE DA IMPIANTARE'!$H35=\"AZIONE_3\",'3 - SPECIE DA IMPIANTARE'!$H35,\"\")","v":""},{"$f":"IF('3 - SPECIE DA IMPIANTARE'!$G35=1,'3 - SPECIE DA IMPIANTARE'!$G35,\"\")","v":""},{"$f":"IF(AND($B34=\"AZIONE_3\",C34=1),'3 - SPECIE DA IMPIANTARE'!$I35,\"\")","v":""},null,{"$f":"IF('3 - SPECIE DA IMPIANTARE'!$G35=2,'3 - SPECIE DA IMPIANTARE'!$G35,\"\")","v":""},{"$f":"IF(AND($B34=\"AZIONE_3\",F34=2),'3 - SPECIE DA IMPIANTARE'!$I35,\"\")","v":""},null,{"$f":"IF('3 - SPECIE DA IMPIANTARE'!$G35=3,'3 - SPECIE DA IMPIANTARE'!$G35,\"\")","v":""},{"$f":"IF(AND($B34=\"AZIONE_3\",$I34=3),'3 - SPECIE DA IMPIANTARE'!$I35,\"\")","v":""},null,{"$f":"IF('3 - SPECIE DA IMPIANTARE'!$G35=4,'3 - SPECIE DA IMPIANTARE'!$G35,\"\")","v":""},{"$f":"IF(AND($B34=\"AZIONE_3\",$L34=4),'3 - SPECIE DA IMPIANTARE'!$I35,\"\")","v":""},null,{"$f":"IF('3 - SPECIE DA IMPIANTARE'!$G35=5,'3 - SPECIE DA IMPIANTARE'!$G35,\"\")","v":""},{"$f":"IF(AND($B34=\"AZIONE_3\",$O34=5),'3 - SPECIE DA IMPIANTARE'!$I35,\"\")","v":""},null,{"$f":"IF('3 - SPECIE DA IMPIANTARE'!$G35=6,'3 - SPECIE DA IMPIANTARE'!$G35,\"\")","v":""},{"$f":"IF(AND($B34=\"AZIONE_3\",$R34=6),'3 - SPECIE DA IMPIANTARE'!$I35,\"\")","v":""}]
[1,{"$f":"IF('3 - SPECIE DA IMPIANTARE'!$H36=\"AZIONE_3\",'3 - SPECIE DA IMPIANTARE'!$H36,\"\")","v":""},{"$f":"IF('3 - SPECIE DA IMPIANTARE'!$G36=1,'3 - SPECIE DA IMPIANTARE'!$G36,\"\")","v":""},{"$f":"IF(AND($B35=\"AZIONE_3\",C35=1),'3 - SPECIE DA IMPIANTARE'!$I36,\"\")","v":""},null,{"$f":"IF('3 - SPECIE DA IMPIANTARE'!$G36=2,'3 - SPECIE DA IMPIANTARE'!$G36,\"\")","v":""},{"$f":"IF(AND($B35=\"AZIONE_3\",F35=2),'3 - SPECIE DA IMPIANTARE'!$I36,\"\")","v":""},null,{"$f":"IF('3 - SPECIE DA IMPIANTARE'!$G36=3,'3 - SPECIE DA IMPIANTARE'!$G36,\"\")","v":""},{"$f":"IF(AND($B35=\"AZIONE_3\",$I35=3),'3 - SPECIE DA IMPIANTARE'!$I36,\"\")","v":""},null,{"$f":"IF('3 - SPECIE DA IMPIANTARE'!$G36=4,'3 - SPECIE DA IMPIANTARE'!$G36,\"\")","v":""},{"$f":"IF(AND($B35=\"AZIONE_3\",$L35=4),'3 - SPECIE DA IMPIANTARE'!$I36,\"\")","v":""},null,{"$f":"IF('3 - SPECIE DA IMPIANTARE'!$G36=5,'3 - SPECIE DA IMPIANTARE'!$G36,\"\")","v":""},{"$f":"IF(AND($B35=\"AZIONE_3\",$O35=5),'3 - SPECIE DA IMPIANTARE'!$I36,\"\")","v":""},null,{"$f":"IF('3 - SPECIE DA IMPIANTARE'!$G36=6,'3 - SPECIE DA IMPIANTARE'!$G36,\"\")","v":""},{"$f":"IF(AND($B35=\"AZIONE_3\",$R35=6),'3 - SPECIE DA IMPIANTARE'!$I36,\"\")","v":""}]
[1,{"$f":"IF('3 - SPECIE DA IMPIANTARE'!$H37=\"AZIONE_3\",'3 - SPECIE DA IMPIANTARE'!$H37,\"\")","v":""},{"$f":"IF('3 - SPECIE DA IMPIANTARE'!$G37=1,'3 - SPECIE DA IMPIANTARE'!$G37,\"\")","v":""},{"$f":"IF(AND($B36=\"AZIONE_3\",C36=1),'3 - SPECIE DA IMPIANTARE'!$I37,\"\")","v":""},null,{"$f":"IF('3 - SPECIE DA IMPIANTARE'!$G37=2,'3 - SPECIE DA IMPIANTARE'!$G37,\"\")","v":""},{"$f":"IF(AND($B36=\"AZIONE_3\",F36=2),'3 - SPECIE DA IMPIANTARE'!$I37,\"\")","v":""},null,{"$f":"IF('3 - SPECIE DA IMPIANTARE'!$G37=3,'3 - SPECIE DA IMPIANTARE'!$G37,\"\")","v":""},{"$f":"IF(AND($B36=\"AZIONE_3\",$I36=3),'3 - SPECIE DA IMPIANTARE'!$I37,\"\")","v":""},null,{"$f":"IF('3 - SPECIE DA IMPIANTARE'!$G37=4,'3 - SPECIE DA IMPIANTARE'!$G37,\"\")","v":""},{"$f":"IF(AND($B36=\"AZIONE_3\",$L36=4),'3 - SPECIE DA IMPIANTARE'!$I37,\"\")","v":""},null,{"$f":"IF('3 - SPECIE DA IMPIANTARE'!$G37=5,'3 - SPECIE DA IMPIANTARE'!$G37,\"\")","v":""},{"$f":"IF(AND($B36=\"AZIONE_3\",$O36=5),'3 - SPECIE DA IMPIANTARE'!$I37,\"\")","v":""},null,{"$f":"IF('3 - SPECIE DA IMPIANTARE'!$G37=6,'3 - SPECIE DA IMPIANTARE'!$G37,\"\")","v":""},{"$f":"IF(AND($B36=\"AZIONE_3\",$R36=6),'3 - SPECIE DA IMPIANTARE'!$I37,\"\")","v":""}]
[1,{"$f":"IF('3 - SPECIE DA IMPIANTARE'!$H38=\"AZIONE_3\",'3 - SPECIE DA IMPIANTARE'!$H38,\"\")","v":""},{"$f":"IF('3 - SPECIE DA IMPIANTARE'!$G38=1,'3 - SPECIE DA IMPIANTARE'!$G38,\"\")","v":""},{"$f":"IF(AND($B37=\"AZIONE_3\",C37=1),'3 - SPECIE DA IMPIANTARE'!$I38,\"\")","v":""},null,{"$f":"IF('3 - SPECIE DA IMPIANTARE'!$G38=2,'3 - SPECIE DA IMPIANTARE'!$G38,\"\")","v":""},{"$f":"IF(AND($B37=\"AZIONE_3\",F37=2),'3 - SPECIE DA IMPIANTARE'!$I38,\"\")","v":""},null,{"$f":"IF('3 - SPECIE DA IMPIANTARE'!$G38=3,'3 - SPECIE DA IMPIANTARE'!$G38,\"\")","v":""},{"$f":"IF(AND($B37=\"AZIONE_3\",$I37=3),'3 - SPECIE DA IMPIANTARE'!$I38,\"\")","v":""},null,{"$f":"IF('3 - SPECIE DA IMPIANTARE'!$G38=4,'3 - SPECIE DA IMPIANTARE'!$G38,\"\")","v":""},{"$f":"IF(AND($B37=\"AZIONE_3\",$L37=4),'3 - SPECIE DA IMPIANTARE'!$I38,\"\")","v":""},null,{"$f":"IF('3 - SPECIE DA IMPIANTARE'!$G38=5,'3 - SPECIE DA IMPIANTARE'!$G38,\"\")","v":""},{"$f":"IF(AND($B37=\"AZIONE_3\",$O37=5),'3 - SPECIE DA IMPIANTARE'!$I38,\"\")","v":""},null,{"$f":"IF('3 - SPECIE DA IMPIANTARE'!$G38=6,'3 - SPECIE DA IMPIANTARE'!$G38,\"\")","v":""},{"$f":"IF(AND($B37=\"AZIONE_3\",$R37=6),'3 - SPECIE DA IMPIANTARE'!$I38,\"\")","v":""}]
[1,{"$f":"IF('3 - SPECIE DA IMPIANTARE'!$H39=\"AZIONE_3\",'3 - SPECIE DA IMPIANTARE'!$H39,\"\")","v":""},{"$f":"IF('3 - SPECIE DA IMPIANTARE'!$G39=1,'3 - SPECIE DA IMPIANTARE'!$G39,\"\")","v":""},{"$f":"IF(AND($B38=\"AZIONE_3\",C38=1),'3 - SPECIE DA IMPIANTARE'!$I39,\"\")","v":""},null,{"$f":"IF('3 - SPECIE DA IMPIANTARE'!$G39=2,'3 - SPECIE DA IMPIANTARE'!$G39,\"\")","v":""},{"$f":"IF(AND($B38=\"AZIONE_3\",F38=2),'3 - SPECIE DA IMPIANTARE'!$I39,\"\")","v":""},null,{"$f":"IF('3 - SPECIE DA IMPIANTARE'!$G39=3,'3 - SPECIE DA IMPIANTARE'!$G39,\"\")","v":""},{"$f":"IF(AND($B38=\"AZIONE_3\",$I38=3),'3 - SPECIE DA IMPIANTARE'!$I39,\"\")","v":""},null,{"$f":"IF('3 - SPECIE DA IMPIANTARE'!$G39=4,'3 - SPECIE DA IMPIANTARE'!$G39,\"\")","v":""},{"$f":"IF(AND($B38=\"AZIONE_3\",$L38=4),'3 - SPECIE DA IMPIANTARE'!$I39,\"\")","v":""},null,{"$f":"IF('3 - SPECIE DA IMPIANTARE'!$G39=5,'3 - SPECIE DA IMPIANTARE'!$G39,\"\")","v":""},{"$f":"IF(AND($B38=\"AZIONE_3\",$O38=5),'3 - SPECIE DA IMPIANTARE'!$I39,\"\")","v":""},null,{"$f":"IF('3 - SPECIE DA IMPIANTARE'!$G39=6,'3 - SPECIE DA IMPIANTARE'!$G39,\"\")","v":""},{"$f":"IF(AND($B38=\"AZIONE_3\",$R38=6),'3 - SPECIE DA IMPIANTARE'!$I39,\"\")","v":""}]
[1,{"$f":"IF('3 - SPECIE DA IMPIANTARE'!$H40=\"AZIONE_3\",'3 - SPECIE DA IMPIANTARE'!$H40,\"\")","v":""},{"$f":"IF('3 - SPECIE DA IMPIANTARE'!$G40=1,'3 - SPECIE DA IMPIANTARE'!$G40,\"\")","v":""},{"$f":"IF(AND($B39=\"AZIONE_3\",C39=1),'3 - SPECIE DA IMPIANTARE'!$I40,\"\")","v":""},null,{"$f":"IF('3 - SPECIE DA IMPIANTARE'!$G40=2,'3 - SPECIE DA IMPIANTARE'!$G40,\"\")","v":""},{"$f":"IF(AND($B39=\"AZIONE_3\",F39=2),'3 - SPECIE DA IMPIANTARE'!$I40,\"\")","v":""},null,{"$f":"IF('3 - SPECIE DA IMPIANTARE'!$G40=3,'3 - SPECIE DA IMPIANTARE'!$G40,\"\")","v":""},{"$f":"IF(AND($B39=\"AZIONE_3\",$I39=3),'3 - SPECIE DA IMPIANTARE'!$I40,\"\")","v":""},null,{"$f":"IF('3 - SPECIE DA IMPIANTARE'!$G40=4,'3 - SPECIE DA IMPIANTARE'!$G40,\"\")","v":""},{"$f":"IF(AND($B39=\"AZIONE_3\",$L39=4),'3 - SPECIE DA IMPIANTARE'!$I40,\"\")","v":""},null,{"$f":"IF('3 - SPECIE DA IMPIANTARE'!$G40=5,'3 - SPECIE DA IMPIANTARE'!$G40,\"\")","v":""},{"$f":"IF(AND($B39=\"AZIONE_3\",$O39=5),'3 - SPECIE DA IMPIANTARE'!$I40,\"\")","v":""},null,{"$f":"IF('3 - SPECIE DA IMPIANTARE'!$G40=6,'3 - SPECIE DA IMPIANTARE'!$G40,\"\")","v":""},{"$f":"IF(AND($B39=\"AZIONE_3\",$R39=6),'3 - SPECIE DA IMPIANTARE'!$I40,\"\")","v":""}]
[1,{"$f":"IF('3 - SPECIE DA IMPIANTARE'!$H41=\"AZIONE_3\",'3 - SPECIE DA IMPIANTARE'!$H41,\"\")","v":""},{"$f":"IF('3 - SPECIE DA IMPIANTARE'!$G41=1,'3 - SPECIE DA IMPIANTARE'!$G41,\"\")","v":""},{"$f":"IF(AND($B40=\"AZIONE_3\",C40=1),'3 - SPECIE DA IMPIANTARE'!$I41,\"\")","v":""},null,{"$f":"IF('3 - SPECIE DA IMPIANTARE'!$G41=2,'3 - SPECIE DA IMPIANTARE'!$G41,\"\")","v":""},{"$f":"IF(AND($B40=\"AZIONE_3\",F40=2),'3 - SPECIE DA IMPIANTARE'!$I41,\"\")","v":""},null,{"$f":"IF('3 - SPECIE DA IMPIANTARE'!$G41=3,'3 - SPECIE DA IMPIANTARE'!$G41,\"\")","v":""},{"$f":"IF(AND($B40=\"AZIONE_3\",$I40=3),'3 - SPECIE DA IMPIANTARE'!$I41,\"\")","v":""},null,{"$f":"IF('3 - SPECIE DA IMPIANTARE'!$G41=4,'3 - SPECIE DA IMPIANTARE'!$G41,\"\")","v":""},{"$f":"IF(AND($B40=\"AZIONE_3\",$L40=4),'3 - SPECIE DA IMPIANTARE'!$I41,\"\")","v":""},null,{"$f":"IF('3 - SPECIE DA IMPIANTARE'!$G41=5,'3 - SPECIE DA IMPIANTARE'!$G41,\"\")","v":""},{"$f":"IF(AND($B40=\"AZIONE_3\",$O40=5),'3 - SPECIE DA IMPIANTARE'!$I41,\"\")","v":""},null,{"$f":"IF('3 - SPECIE DA IMPIANTARE'!$G41=6,'3 - SPECIE DA IMPIANTARE'!$G41,\"\")","v":""},{"$f":"IF(AND($B40=\"AZIONE_3\",$R40=6),'3 - SPECIE DA IMPIANTARE'!$I41,\"\")","v":""}]
[1,{"$f":"IF('3 - SPECIE DA IMPIANTARE'!$H42=\"AZIONE_3\",'3 - SPECIE DA IMPIANTARE'!$H42,\"\")","v":""},{"$f":"IF('3 - SPECIE DA IMPIANTARE'!$G42=1,'3 - SPECIE DA IMPIANTARE'!$G42,\"\")","v":""},{"$f":"IF(AND($B41=\"AZIONE_3\",C41=1),'3 - SPECIE DA IMPIANTARE'!$I42,\"\")","v":""},null,{"$f":"IF('3 - SPECIE DA IMPIANTARE'!$G42=2,'3 - SPECIE DA IMPIANTARE'!$G42,\"\")","v":""},{"$f":"IF(AND($B41=\"AZIONE_3\",F41=2),'3 - SPECIE DA IMPIANTARE'!$I42,\"\")","v":""},null,{"$f":"IF('3 - SPECIE DA IMPIANTARE'!$G42=3,'3 - SPECIE DA IMPIANTARE'!$G42,\"\")","v":""},{"$f":"IF(AND($B41=\"AZIONE_3\",$I41=3),'3 - SPECIE DA IMPIANTARE'!$I42,\"\")","v":""},null,{"$f":"IF('3 - SPECIE DA IMPIANTARE'!$G42=4,'3 - SPECIE DA IMPIANTARE'!$G42,\"\")","v":""},{"$f":"IF(AND($B41=\"AZIONE_3\",$L41=4),'3 - SPECIE DA IMPIANTARE'!$I42,\"\")","v":""},null,{"$f":"IF('3 - SPECIE DA IMPIANTARE'!$G42=5,'3 - SPECIE DA IMPIANTARE'!$G42,\"\")","v":""},{"$f":"IF(AND($B41=\"AZIONE_3\",$O41=5),'3 - SPECIE DA IMPIANTARE'!$I42,\"\")","v":""},null,{"$f":"IF('3 - SPECIE DA IMPIANTARE'!$G42=6,'3 - SPECIE DA IMPIANTARE'!$G42,\"\")","v":""},{"$f":"IF(AND($B41=\"AZIONE_3\",$R41=6),'3 - SPECIE DA IMPIANTARE'!$I42,\"\")","v":""}]
[1,{"$f":"IF('3 - SPECIE DA IMPIANTARE'!$H43=\"AZIONE_3\",'3 - SPECIE DA IMPIANTARE'!$H43,\"\")","v":""},{"$f":"IF('3 - SPECIE DA IMPIANTARE'!$G43=1,'3 - SPECIE DA IMPIANTARE'!$G43,\"\")","v":""},{"$f":"IF(AND($B42=\"AZIONE_3\",C42=1),'3 - SPECIE DA IMPIANTARE'!$I43,\"\")","v":""},null,{"$f":"IF('3 - SPECIE DA IMPIANTARE'!$G43=2,'3 - SPECIE DA IMPIANTARE'!$G43,\"\")","v":""},{"$f":"IF(AND($B42=\"AZIONE_3\",F42=2),'3 - SPECIE DA IMPIANTARE'!$I43,\"\")","v":""},null,{"$f":"IF('3 - SPECIE DA IMPIANTARE'!$G43=3,'3 - SPECIE DA IMPIANTARE'!$G43,\"\")","v":""},{"$f":"IF(AND($B42=\"AZIONE_3\",$I42=3),'3 - SPECIE DA IMPIANTARE'!$I43,\"\")","v":""},null,{"$f":"IF('3 - SPECIE DA IMPIANTARE'!$G43=4,'3 - SPECIE DA IMPIANTARE'!$G43,\"\")","v":""},{"$f":"IF(AND($B42=\"AZIONE_3\",$L42=4),'3 - SPECIE DA IMPIANTARE'!$I43,\"\")","v":""},null,{"$f":"IF('3 - SPECIE DA IMPIANTARE'!$G43=5,'3 - SPECIE DA IMPIANTARE'!$G43,\"\")","v":""},{"$f":"IF(AND($B42=\"AZIONE_3\",$O42=5),'3 - SPECIE DA IMPIANTARE'!$I43,\"\")","v":""},null,{"$f":"IF('3 - SPECIE DA IMPIANTARE'!$G43=6,'3 - SPECIE DA IMPIANTARE'!$G43,\"\")","v":""},{"$f":"IF(AND($B42=\"AZIONE_3\",$R42=6),'3 - SPECIE DA IMPIANTARE'!$I43,\"\")","v":""}]
[1,{"$f":"IF('3 - SPECIE DA IMPIANTARE'!$H44=\"AZIONE_3\",'3 - SPECIE DA IMPIANTARE'!$H44,\"\")","v":""},{"$f":"IF('3 - SPECIE DA IMPIANTARE'!$G44=1,'3 - SPECIE DA IMPIANTARE'!$G44,\"\")","v":""},{"$f":"IF(AND($B43=\"AZIONE_3\",C43=1),'3 - SPECIE DA IMPIANTARE'!$I44,\"\")","v":""},null,{"$f":"IF('3 - SPECIE DA IMPIANTARE'!$G44=2,'3 - SPECIE DA IMPIANTARE'!$G44,\"\")","v":""},{"$f":"IF(AND($B43=\"AZIONE_3\",F43=2),'3 - SPECIE DA IMPIANTARE'!$I44,\"\")","v":""},null,{"$f":"IF('3 - SPECIE DA IMPIANTARE'!$G44=3,'3 - SPECIE DA IMPIANTARE'!$G44,\"\")","v":""},{"$f":"IF(AND($B43=\"AZIONE_3\",$I43=3),'3 - SPECIE DA IMPIANTARE'!$I44,\"\")","v":""},null,{"$f":"IF('3 - SPECIE DA IMPIANTARE'!$G44=4,'3 - SPECIE DA IMPIANTARE'!$G44,\"\")","v":""},{"$f":"IF(AND($B43=\"AZIONE_3\",$L43=4),'3 - SPECIE DA IMPIANTARE'!$I44,\"\")","v":""},null,{"$f":"IF('3 - SPECIE DA IMPIANTARE'!$G44=5,'3 - SPECIE DA IMPIANTARE'!$G44,\"\")","v":""},{"$f":"IF(AND($B43=\"AZIONE_3\",$O43=5),'3 - SPECIE DA IMPIANTARE'!$I44,\"\")","v":""},null,{"$f":"IF('3 - SPECIE DA IMPIANTARE'!$G44=6,'3 - SPECIE DA IMPIANTARE'!$G44,\"\")","v":""},{"$f":"IF(AND($B43=\"AZIONE_3\",$R43=6),'3 - SPECIE DA IMPIANTARE'!$I44,\"\")","v":""}]
[1,{"$f":"IF('3 - SPECIE DA IMPIANTARE'!$H45=\"AZIONE_3\",'3 - SPECIE DA IMPIANTARE'!$H45,\"\")","v":""},{"$f":"IF('3 - SPECIE DA IMPIANTARE'!$G45=1,'3 - SPECIE DA IMPIANTARE'!$G45,\"\")","v":""},{"$f":"IF(AND($B44=\"AZIONE_3\",C44=1),'3 - SPECIE DA IMPIANTARE'!$I45,\"\")","v":""},null,{"$f":"IF('3 - SPECIE DA IMPIANTARE'!$G45=2,'3 - SPECIE DA IMPIANTARE'!$G45,\"\")","v":""},{"$f":"IF(AND($B44=\"AZIONE_3\",F44=2),'3 - SPECIE DA IMPIANTARE'!$I45,\"\")","v":""},null,{"$f":"IF('3 - SPECIE DA IMPIANTARE'!$G45=3,'3 - SPECIE DA IMPIANTARE'!$G45,\"\")","v":""},{"$f":"IF(AND($B44=\"AZIONE_3\",$I44=3),'3 - SPECIE DA IMPIANTARE'!$I45,\"\")","v":""},null,{"$f":"IF('3 - SPECIE DA IMPIANTARE'!$G45=4,'3 - SPECIE DA IMPIANTARE'!$G45,\"\")","v":""},{"$f":"IF(AND($B44=\"AZIONE_3\",$L44=4),'3 - SPECIE DA IMPIANTARE'!$I45,\"\")","v":""},null,{"$f":"IF('3 - SPECIE DA IMPIANTARE'!$G45=5,'3 - SPECIE DA IMPIANTARE'!$G45,\"\")","v":""},{"$f":"IF(AND($B44=\"AZIONE_3\",$O44=5),'3 - SPECIE DA IMPIANTARE'!$I45,\"\")","v":""},null,{"$f":"IF('3 - SPECIE DA IMPIANTARE'!$G45=6,'3 - SPECIE DA IMPIANTARE'!$G45,\"\")","v":""},{"$f":"IF(AND($B44=\"AZIONE_3\",$R44=6),'3 - SPECIE DA IMPIANTARE'!$I45,\"\")","v":""}]
[1,{"$f":"IF('3 - SPECIE DA IMPIANTARE'!$H46=\"AZIONE_3\",'3 - SPECIE DA IMPIANTARE'!$H46,\"\")","v":""},{"$f":"IF('3 - SPECIE DA IMPIANTARE'!$G46=1,'3 - SPECIE DA IMPIANTARE'!$G46,\"\")","v":""},{"$f":"IF(AND($B45=\"AZIONE_3\",C45=1),'3 - SPECIE DA IMPIANTARE'!$I46,\"\")","v":""},null,{"$f":"IF('3 - SPECIE DA IMPIANTARE'!$G46=2,'3 - SPECIE DA IMPIANTARE'!$G46,\"\")","v":""},{"$f":"IF(AND($B45=\"AZIONE_3\",F45=2),'3 - SPECIE DA IMPIANTARE'!$I46,\"\")","v":""},null,{"$f":"IF('3 - SPECIE DA IMPIANTARE'!$G46=3,'3 - SPECIE DA IMPIANTARE'!$G46,\"\")","v":""},{"$f":"IF(AND($B45=\"AZIONE_3\",$I45=3),'3 - SPECIE DA IMPIANTARE'!$I46,\"\")","v":""},null,{"$f":"IF('3 - SPECIE DA IMPIANTARE'!$G46=4,'3 - SPECIE DA IMPIANTARE'!$G46,\"\")","v":""},{"$f":"IF(AND($B45=\"AZIONE_3\",$L45=4),'3 - SPECIE DA IMPIANTARE'!$I46,\"\")","v":""},null,{"$f":"IF('3 - SPECIE DA IMPIANTARE'!$G46=5,'3 - SPECIE DA IMPIANTARE'!$G46,\"\")","v":""},{"$f":"IF(AND($B45=\"AZIONE_3\",$O45=5),'3 - SPECIE DA IMPIANTARE'!$I46,\"\")","v":""},null,{"$f":"IF('3 - SPECIE DA IMPIANTARE'!$G46=6,'3 - SPECIE DA IMPIANTARE'!$G46,\"\")","v":""},{"$f":"IF(AND($B45=\"AZIONE_3\",$R45=6),'3 - SPECIE DA IMPIANTARE'!$I46,\"\")","v":""}]
[1,{"$f":"IF('3 - SPECIE DA IMPIANTARE'!$H47=\"AZIONE_3\",'3 - SPECIE DA IMPIANTARE'!$H47,\"\")","v":""},{"$f":"IF('3 - SPECIE DA IMPIANTARE'!$G47=1,'3 - SPECIE DA IMPIANTARE'!$G47,\"\")","v":""},{"$f":"IF(AND($B46=\"AZIONE_3\",C46=1),'3 - SPECIE DA IMPIANTARE'!$I47,\"\")","v":""},null,{"$f":"IF('3 - SPECIE DA IMPIANTARE'!$G47=2,'3 - SPECIE DA IMPIANTARE'!$G47,\"\")","v":""},{"$f":"IF(AND($B46=\"AZIONE_3\",F46=2),'3 - SPECIE DA IMPIANTARE'!$I47,\"\")","v":""},null,{"$f":"IF('3 - SPECIE DA IMPIANTARE'!$G47=3,'3 - SPECIE DA IMPIANTARE'!$G47,\"\")","v":""},{"$f":"IF(AND($B46=\"AZIONE_3\",$I46=3),'3 - SPECIE DA IMPIANTARE'!$I47,\"\")","v":""},null,{"$f":"IF('3 - SPECIE DA IMPIANTARE'!$G47=4,'3 - SPECIE DA IMPIANTARE'!$G47,\"\")","v":""},{"$f":"IF(AND($B46=\"AZIONE_3\",$L46=4),'3 - SPECIE DA IMPIANTARE'!$I47,\"\")","v":""},null,{"$f":"IF('3 - SPECIE DA IMPIANTARE'!$G47=5,'3 - SPECIE DA IMPIANTARE'!$G47,\"\")","v":""},{"$f":"IF(AND($B46=\"AZIONE_3\",$O46=5),'3 - SPECIE DA IMPIANTARE'!$I47,\"\")","v":""},null,{"$f":"IF('3 - SPECIE DA IMPIANTARE'!$G47=6,'3 - SPECIE DA IMPIANTARE'!$G47,\"\")","v":""},{"$f":"IF(AND($B46=\"AZIONE_3\",$R46=6),'3 - SPECIE DA IMPIANTARE'!$I47,\"\")","v":""}]
[1,{"$f":"IF('3 - SPECIE DA IMPIANTARE'!$H48=\"AZIONE_3\",'3 - SPECIE DA IMPIANTARE'!$H48,\"\")","v":""},{"$f":"IF('3 - SPECIE DA IMPIANTARE'!$G48=1,'3 - SPECIE DA IMPIANTARE'!$G48,\"\")","v":""},{"$f":"IF(AND($B47=\"AZIONE_3\",C47=1),'3 - SPECIE DA IMPIANTARE'!$I48,\"\")","v":""},null,{"$f":"IF('3 - SPECIE DA IMPIANTARE'!$G48=2,'3 - SPECIE DA IMPIANTARE'!$G48,\"\")","v":""},{"$f":"IF(AND($B47=\"AZIONE_3\",F47=2),'3 - SPECIE DA IMPIANTARE'!$I48,\"\")","v":""},null,{"$f":"IF('3 - SPECIE DA IMPIANTARE'!$G48=3,'3 - SPECIE DA IMPIANTARE'!$G48,\"\")","v":""},{"$f":"IF(AND($B47=\"AZIONE_3\",$I47=3),'3 - SPECIE DA IMPIANTARE'!$I48,\"\")","v":""},null,{"$f":"IF('3 - SPECIE DA IMPIANTARE'!$G48=4,'3 - SPECIE DA IMPIANTARE'!$G48,\"\")","v":""},{"$f":"IF(AND($B47=\"AZIONE_3\",$L47=4),'3 - SPECIE DA IMPIANTARE'!$I48,\"\")","v":""},null,{"$f":"IF('3 - SPECIE DA IMPIANTARE'!$G48=5,'3 - SPECIE DA IMPIANTARE'!$G48,\"\")","v":""},{"$f":"IF(AND($B47=\"AZIONE_3\",$O47=5),'3 - SPECIE DA IMPIANTARE'!$I48,\"\")","v":""},null,{"$f":"IF('3 - SPECIE DA IMPIANTARE'!$G48=6,'3 - SPECIE DA IMPIANTARE'!$G48,\"\")","v":""},{"$f":"IF(AND($B47=\"AZIONE_3\",$R47=6),'3 - SPECIE DA IMPIANTARE'!$I48,\"\")","v":""}]
[1,{"$f":"IF('3 - SPECIE DA IMPIANTARE'!$H49=\"AZIONE_3\",'3 - SPECIE DA IMPIANTARE'!$H49,\"\")","v":""},{"$f":"IF('3 - SPECIE DA IMPIANTARE'!$G49=1,'3 - SPECIE DA IMPIANTARE'!$G49,\"\")","v":""},{"$f":"IF(AND($B48=\"AZIONE_3\",C48=1),'3 - SPECIE DA IMPIANTARE'!$I49,\"\")","v":""},null,{"$f":"IF('3 - SPECIE DA IMPIANTARE'!$G49=2,'3 - SPECIE DA IMPIANTARE'!$G49,\"\")","v":""},{"$f":"IF(AND($B48=\"AZIONE_3\",F48=2),'3 - SPECIE DA IMPIANTARE'!$I49,\"\")","v":""},null,{"$f":"IF('3 - SPECIE DA IMPIANTARE'!$G49=3,'3 - SPECIE DA IMPIANTARE'!$G49,\"\")","v":""},{"$f":"IF(AND($B48=\"AZIONE_3\",$I48=3),'3 - SPECIE DA IMPIANTARE'!$I49,\"\")","v":""},null,{"$f":"IF('3 - SPECIE DA IMPIANTARE'!$G49=4,'3 - SPECIE DA IMPIANTARE'!$G49,\"\")","v":""},{"$f":"IF(AND($B48=\"AZIONE_3\",$L48=4),'3 - SPECIE DA IMPIANTARE'!$I49,\"\")","v":""},null,{"$f":"IF('3 - SPECIE DA IMPIANTARE'!$G49=5,'3 - SPECIE DA IMPIANTARE'!$G49,\"\")","v":""},{"$f":"IF(AND($B48=\"AZIONE_3\",$O48=5),'3 - SPECIE DA IMPIANTARE'!$I49,\"\")","v":""},null,{"$f":"IF('3 - SPECIE DA IMPIANTARE'!$G49=6,'3 - SPECIE DA IMPIANTARE'!$G49,\"\")","v":""},{"$f":"IF(AND($B48=\"AZIONE_3\",$R48=6),'3 - SPECIE DA IMPIANTARE'!$I49,\"\")","v":""}]
[1,{"$f":"IF('3 - SPECIE DA IMPIANTARE'!$H50=\"AZIONE_3\",'3 - SPECIE DA IMPIANTARE'!$H50,\"\")","v":""},{"$f":"IF('3 - SPECIE DA IMPIANTARE'!$G50=1,'3 - SPECIE DA IMPIANTARE'!$G50,\"\")","v":""},{"$f":"IF(AND($B49=\"AZIONE_3\",C49=1),'3 - SPECIE DA IMPIANTARE'!$I50,\"\")","v":""},null,{"$f":"IF('3 - SPECIE DA IMPIANTARE'!$G50=2,'3 - SPECIE DA IMPIANTARE'!$G50,\"\")","v":""},{"$f":"IF(AND($B49=\"AZIONE_3\",F49=2),'3 - SPECIE DA IMPIANTARE'!$I50,\"\")","v":""},null,{"$f":"IF('3 - SPECIE DA IMPIANTARE'!$G50=3,'3 - SPECIE DA IMPIANTARE'!$G50,\"\")","v":""},{"$f":"IF(AND($B49=\"AZIONE_3\",$I49=3),'3 - SPECIE DA IMPIANTARE'!$I50,\"\")","v":""},null,{"$f":"IF('3 - SPECIE DA IMPIANTARE'!$G50=4,'3 - SPECIE DA IMPIANTARE'!$G50,\"\")","v":""},{"$f":"IF(AND($B49=\"AZIONE_3\",$L49=4),'3 - SPECIE DA IMPIANTARE'!$I50,\"\")","v":""},null,{"$f":"IF('3 - SPECIE DA IMPIANTARE'!$G50=5,'3 - SPECIE DA IMPIANTARE'!$G50,\"\")","v":""},{"$f":"IF(AND($B49=\"AZIONE_3\",$O49=5),'3 - SPECIE DA IMPIANTARE'!$I50,\"\")","v":""},null,{"$f":"IF('3 - SPECIE DA IMPIANTARE'!$G50=6,'3 - SPECIE DA IMPIANTARE'!$G50,\"\")","v":""},{"$f":"IF(AND($B49=\"AZIONE_3\",$R49=6),'3 - SPECIE DA IMPIANTARE'!$I50,\"\")","v":""}]
[1,{"$f":"IF('3 - SPECIE DA IMPIANTARE'!$H51=\"AZIONE_3\",'3 - SPECIE DA IMPIANTARE'!$H51,\"\")","v":""},{"$f":"IF('3 - SPECIE DA IMPIANTARE'!$G51=1,'3 - SPECIE DA IMPIANTARE'!$G51,\"\")","v":""},{"$f":"IF(AND($B50=\"AZIONE_3\",C50=1),'3 - SPECIE DA IMPIANTARE'!$I51,\"\")","v":""},null,{"$f":"IF('3 - SPECIE DA IMPIANTARE'!$G51=2,'3 - SPECIE DA IMPIANTARE'!$G51,\"\")","v":""},{"$f":"IF(AND($B50=\"AZIONE_3\",F50=2),'3 - SPECIE DA IMPIANTARE'!$I51,\"\")","v":""},null,{"$f":"IF('3 - SPECIE DA IMPIANTARE'!$G51=3,'3 - SPECIE DA IMPIANTARE'!$G51,\"\")","v":""},{"$f":"IF(AND($B50=\"AZIONE_3\",$I50=3),'3 - SPECIE DA IMPIANTARE'!$I51,\"\")","v":""},null,{"$f":"IF('3 - SPECIE DA IMPIANTARE'!$G51=4,'3 - SPECIE DA IMPIANTARE'!$G51,\"\")","v":""},{"$f":"IF(AND($B50=\"AZIONE_3\",$L50=4),'3 - SPECIE DA IMPIANTARE'!$I51,\"\")","v":""},null,{"$f":"IF('3 - SPECIE DA IMPIANTARE'!$G51=5,'3 - SPECIE DA IMPIANTARE'!$G51,\"\")","v":""},{"$f":"IF(AND($B50=\"AZIONE_3\",$O50=5),'3 - SPECIE DA IMPIANTARE'!$I51,\"\")","v":""},null,{"$f":"IF('3 - SPECIE DA IMPIANTARE'!$G51=6,'3 - SPECIE DA IMPIANTARE'!$G51,\"\")","v":""},{"$f":"IF(AND($B50=\"AZIONE_3\",$R50=6),'3 - SPECIE DA IMPIANTARE'!$I51,\"\")","v":""}]
[1,{"$f":"IF('3 - SPECIE DA IMPIANTARE'!$H52=\"AZIONE_3\",'3 - SPECIE DA IMPIANTARE'!$H52,\"\")","v":""},{"$f":"IF('3 - SPECIE DA IMPIANTARE'!$G52=1,'3 - SPECIE DA IMPIANTARE'!$G52,\"\")","v":""},{"$f":"IF(AND($B51=\"AZIONE_3\",C51=1),'3 - SPECIE DA IMPIANTARE'!$I52,\"\")","v":""},null,{"$f":"IF('3 - SPECIE DA IMPIANTARE'!$G52=2,'3 - SPECIE DA IMPIANTARE'!$G52,\"\")","v":""},{"$f":"IF(AND($B51=\"AZIONE_3\",F51=2),'3 - SPECIE DA IMPIANTARE'!$I52,\"\")","v":""},null,{"$f":"IF('3 - SPECIE DA IMPIANTARE'!$G52=3,'3 - SPECIE DA IMPIANTARE'!$G52,\"\")","v":""},{"$f":"IF(AND($B51=\"AZIONE_3\",$I51=3),'3 - SPECIE DA IMPIANTARE'!$I52,\"\")","v":""},null,{"$f":"IF('3 - SPECIE DA IMPIANTARE'!$G52=4,'3 - SPECIE DA IMPIANTARE'!$G52,\"\")","v":""},{"$f":"IF(AND($B51=\"AZIONE_3\",$L51=4),'3 - SPECIE DA IMPIANTARE'!$I52,\"\")","v":""},null,{"$f":"IF('3 - SPECIE DA IMPIANTARE'!$G52=5,'3 - SPECIE DA IMPIANTARE'!$G52,\"\")","v":""},{"$f":"IF(AND($B51=\"AZIONE_3\",$O51=5),'3 - SPECIE DA IMPIANTARE'!$I52,\"\")","v":""},null,{"$f":"IF('3 - SPECIE DA IMPIANTARE'!$G52=6,'3 - SPECIE DA IMPIANTARE'!$G52,\"\")","v":""},{"$f":"IF(AND($B51=\"AZIONE_3\",$R51=6),'3 - SPECIE DA IMPIANTARE'!$I52,\"\")","v":""}]
[1,{"$f":"IF('3 - SPECIE DA IMPIANTARE'!$H53=\"AZIONE_3\",'3 - SPECIE DA IMPIANTARE'!$H53,\"\")","v":""},{"$f":"IF('3 - SPECIE DA IMPIANTARE'!$G53=1,'3 - SPECIE DA IMPIANTARE'!$G53,\"\")","v":""},{"$f":"IF(AND($B52=\"AZIONE_3\",C52=1),'3 - SPECIE DA IMPIANTARE'!$I53,\"\")","v":""},null,{"$f":"IF('3 - SPECIE DA IMPIANTARE'!$G53=2,'3 - SPECIE DA IMPIANTARE'!$G53,\"\")","v":""},{"$f":"IF(AND($B52=\"AZIONE_3\",F52=2),'3 - SPECIE DA IMPIANTARE'!$I53,\"\")","v":""},null,{"$f":"IF('3 - SPECIE DA IMPIANTARE'!$G53=3,'3 - SPECIE DA IMPIANTARE'!$G53,\"\")","v":""},{"$f":"IF(AND($B52=\"AZIONE_3\",$I52=3),'3 - SPECIE DA IMPIANTARE'!$I53,\"\")","v":""},null,{"$f":"IF('3 - SPECIE DA IMPIANTARE'!$G53=4,'3 - SPECIE DA IMPIANTARE'!$G53,\"\")","v":""},{"$f":"IF(AND($B52=\"AZIONE_3\",$L52=4),'3 - SPECIE DA IMPIANTARE'!$I53,\"\")","v":""},null,{"$f":"IF('3 - SPECIE DA IMPIANTARE'!$G53=5,'3 - SPECIE DA IMPIANTARE'!$G53,\"\")","v":""},{"$f":"IF(AND($B52=\"AZIONE_3\",$O52=5),'3 - SPECIE DA IMPIANTARE'!$I53,\"\")","v":""},null,{"$f":"IF('3 - SPECIE DA IMPIANTARE'!$G53=6,'3 - SPECIE DA IMPIANTARE'!$G53,\"\")","v":""},{"$f":"IF(AND($B52=\"AZIONE_3\",$R52=6),'3 - SPECIE DA IMPIANTARE'!$I53,\"\")","v":""}]
[1,{"$f":"IF('3 - SPECIE DA IMPIANTARE'!$H54=\"AZIONE_3\",'3 - SPECIE DA IMPIANTARE'!$H54,\"\")","v":""},{"$f":"IF('3 - SPECIE DA IMPIANTARE'!$G54=1,'3 - SPECIE DA IMPIANTARE'!$G54,\"\")","v":""},{"$f":"IF(AND($B53=\"AZIONE_3\",C53=1),'3 - SPECIE DA IMPIANTARE'!$I54,\"\")","v":""},null,{"$f":"IF('3 - SPECIE DA IMPIANTARE'!$G54=2,'3 - SPECIE DA IMPIANTARE'!$G54,\"\")","v":""},{"$f":"IF(AND($B53=\"AZIONE_3\",F53=2),'3 - SPECIE DA IMPIANTARE'!$I54,\"\")","v":""},null,{"$f":"IF('3 - SPECIE DA IMPIANTARE'!$G54=3,'3 - SPECIE DA IMPIANTARE'!$G54,\"\")","v":""},{"$f":"IF(AND($B53=\"AZIONE_3\",$I53=3),'3 - SPECIE DA IMPIANTARE'!$I54,\"\")","v":""},null,{"$f":"IF('3 - SPECIE DA IMPIANTARE'!$G54=4,'3 - SPECIE DA IMPIANTARE'!$G54,\"\")","v":""},{"$f":"IF(AND($B53=\"AZIONE_3\",$L53=4),'3 - SPECIE DA IMPIANTARE'!$I54,\"\")","v":""},null,{"$f":"IF('3 - SPECIE DA IMPIANTARE'!$G54=5,'3 - SPECIE DA IMPIANTARE'!$G54,\"\")","v":""},{"$f":"IF(AND($B53=\"AZIONE_3\",$O53=5),'3 - SPECIE DA IMPIANTARE'!$I54,\"\")","v":""},null,{"$f":"IF('3 - SPECIE DA IMPIANTARE'!$G54=6,'3 - SPECIE DA IMPIANTARE'!$G54,\"\")","v":""},{"$f":"IF(AND($B53=\"AZIONE_3\",$R53=6),'3 - SPECIE DA IMPIANTARE'!$I54,\"\")","v":""}]
[1,{"$f":"IF('3 - SPECIE DA IMPIANTARE'!$H55=\"AZIONE_3\",'3 - SPECIE DA IMPIANTARE'!$H55,\"\")","v":""},{"$f":"IF('3 - SPECIE DA IMPIANTARE'!$G55=1,'3 - SPECIE DA IMPIANTARE'!$G55,\"\")","v":""},{"$f":"IF(AND($B54=\"AZIONE_3\",C54=1),'3 - SPECIE DA IMPIANTARE'!$I55,\"\")","v":""},null,{"$f":"IF('3 - SPECIE DA IMPIANTARE'!$G55=2,'3 - SPECIE DA IMPIANTARE'!$G55,\"\")","v":""},{"$f":"IF(AND($B54=\"AZIONE_3\",F54=2),'3 - SPECIE DA IMPIANTARE'!$I55,\"\")","v":""},null,{"$f":"IF('3 - SPECIE DA IMPIANTARE'!$G55=3,'3 - SPECIE DA IMPIANTARE'!$G55,\"\")","v":""},{"$f":"IF(AND($B54=\"AZIONE_3\",$I54=3),'3 - SPECIE DA IMPIANTARE'!$I55,\"\")","v":""},null,{"$f":"IF('3 - SPECIE DA IMPIANTARE'!$G55=4,'3 - SPECIE DA IMPIANTARE'!$G55,\"\")","v":""},{"$f":"IF(AND($B54=\"AZIONE_3\",$L54=4),'3 - SPECIE DA IMPIANTARE'!$I55,\"\")","v":""},null,{"$f":"IF('3 - SPECIE DA IMPIANTARE'!$G55=5,'3 - SPECIE DA IMPIANTARE'!$G55,\"\")","v":""},{"$f":"IF(AND($B54=\"AZIONE_3\",$O54=5),'3 - SPECIE DA IMPIANTARE'!$I55,\"\")","v":""},null,{"$f":"IF('3 - SPECIE DA IMPIANTARE'!$G55=6,'3 - SPECIE DA IMPIANTARE'!$G55,\"\")","v":""},{"$f":"IF(AND($B54=\"AZIONE_3\",$R54=6),'3 - SPECIE DA IMPIANTARE'!$I55,\"\")","v":""}]
[1,{"$f":"IF('3 - SPECIE DA IMPIANTARE'!$H56=\"AZIONE_3\",'3 - SPECIE DA IMPIANTARE'!$H56,\"\")","v":""},{"$f":"IF('3 - SPECIE DA IMPIANTARE'!$G56=1,'3 - SPECIE DA IMPIANTARE'!$G56,\"\")","v":""},{"$f":"IF(AND($B55=\"AZIONE_3\",C55=1),'3 - SPECIE DA IMPIANTARE'!$I56,\"\")","v":""},null,{"$f":"IF('3 - SPECIE DA IMPIANTARE'!$G56=2,'3 - SPECIE DA IMPIANTARE'!$G56,\"\")","v":""},{"$f":"IF(AND($B55=\"AZIONE_3\",F55=2),'3 - SPECIE DA IMPIANTARE'!$I56,\"\")","v":""},null,{"$f":"IF('3 - SPECIE DA IMPIANTARE'!$G56=3,'3 - SPECIE DA IMPIANTARE'!$G56,\"\")","v":""},{"$f":"IF(AND($B55=\"AZIONE_3\",$I55=3),'3 - SPECIE DA IMPIANTARE'!$I56,\"\")","v":""},null,{"$f":"IF('3 - SPECIE DA IMPIANTARE'!$G56=4,'3 - SPECIE DA IMPIANTARE'!$G56,\"\")","v":""},{"$f":"IF(AND($B55=\"AZIONE_3\",$L55=4),'3 - SPECIE DA IMPIANTARE'!$I56,\"\")","v":""},null,{"$f":"IF('3 - SPECIE DA IMPIANTARE'!$G56=5,'3 - SPECIE DA IMPIANTARE'!$G56,\"\")","v":""},{"$f":"IF(AND($B55=\"AZIONE_3\",$O55=5),'3 - SPECIE DA IMPIANTARE'!$I56,\"\")","v":""},null,{"$f":"IF('3 - SPECIE DA IMPIANTARE'!$G56=6,'3 - SPECIE DA IMPIANTARE'!$G56,\"\")","v":""},{"$f":"IF(AND($B55=\"AZIONE_3\",$R55=6),'3 - SPECIE DA IMPIANTARE'!$I56,\"\")","v":""}]
[1,{"$f":"IF('3 - SPECIE DA IMPIANTARE'!$H57=\"AZIONE_3\",'3 - SPECIE DA IMPIANTARE'!$H57,\"\")","v":""},{"$f":"IF('3 - SPECIE DA IMPIANTARE'!$G57=1,'3 - SPECIE DA IMPIANTARE'!$G57,\"\")","v":""},{"$f":"IF(AND($B56=\"AZIONE_3\",C56=1),'3 - SPECIE DA IMPIANTARE'!$I57,\"\")","v":""},null,{"$f":"IF('3 - SPECIE DA IMPIANTARE'!$G57=2,'3 - SPECIE DA IMPIANTARE'!$G57,\"\")","v":""},{"$f":"IF(AND($B56=\"AZIONE_3\",F56=2),'3 - SPECIE DA IMPIANTARE'!$I57,\"\")","v":""},null,{"$f":"IF('3 - SPECIE DA IMPIANTARE'!$G57=3,'3 - SPECIE DA IMPIANTARE'!$G57,\"\")","v":""},{"$f":"IF(AND($B56=\"AZIONE_3\",$I56=3),'3 - SPECIE DA IMPIANTARE'!$I57,\"\")","v":""},null,{"$f":"IF('3 - SPECIE DA IMPIANTARE'!$G57=4,'3 - SPECIE DA IMPIANTARE'!$G57,\"\")","v":""},{"$f":"IF(AND($B56=\"AZIONE_3\",$L56=4),'3 - SPECIE DA IMPIANTARE'!$I57,\"\")","v":""},null,{"$f":"IF('3 - SPECIE DA IMPIANTARE'!$G57=5,'3 - SPECIE DA IMPIANTARE'!$G57,\"\")","v":""},{"$f":"IF(AND($B56=\"AZIONE_3\",$O56=5),'3 - SPECIE DA IMPIANTARE'!$I57,\"\")","v":""},null,{"$f":"IF('3 - SPECIE DA IMPIANTARE'!$G57=6,'3 - SPECIE DA IMPIANTARE'!$G57,\"\")","v":""},{"$f":"IF(AND($B56=\"AZIONE_3\",$R56=6),'3 - SPECIE DA IMPIANTARE'!$I57,\"\")","v":""}]
[1,{"$f":"IF('3 - SPECIE DA IMPIANTARE'!$H58=\"AZIONE_3\",'3 - SPECIE DA IMPIANTARE'!$H58,\"\")","v":""},{"$f":"IF('3 - SPECIE DA IMPIANTARE'!$G58=1,'3 - SPECIE DA IMPIANTARE'!$G58,\"\")","v":""},{"$f":"IF(AND($B57=\"AZIONE_3\",C57=1),'3 - SPECIE DA IMPIANTARE'!$I58,\"\")","v":""},null,{"$f":"IF('3 - SPECIE DA IMPIANTARE'!$G58=2,'3 - SPECIE DA IMPIANTARE'!$G58,\"\")","v":""},{"$f":"IF(AND($B57=\"AZIONE_3\",F57=2),'3 - SPECIE DA IMPIANTARE'!$I58,\"\")","v":""},null,{"$f":"IF('3 - SPECIE DA IMPIANTARE'!$G58=3,'3 - SPECIE DA IMPIANTARE'!$G58,\"\")","v":""},{"$f":"IF(AND($B57=\"AZIONE_3\",$I57=3),'3 - SPECIE DA IMPIANTARE'!$I58,\"\")","v":""},null,{"$f":"IF('3 - SPECIE DA IMPIANTARE'!$G58=4,'3 - SPECIE DA IMPIANTARE'!$G58,\"\")","v":""},{"$f":"IF(AND($B57=\"AZIONE_3\",$L57=4),'3 - SPECIE DA IMPIANTARE'!$I58,\"\")","v":""},null,{"$f":"IF('3 - SPECIE DA IMPIANTARE'!$G58=5,'3 - SPECIE DA IMPIANTARE'!$G58,\"\")","v":""},{"$f":"IF(AND($B57=\"AZIONE_3\",$O57=5),'3 - SPECIE DA IMPIANTARE'!$I58,\"\")","v":""},null,{"$f":"IF('3 - SPECIE DA IMPIANTARE'!$G58=6,'3 - SPECIE DA IMPIANTARE'!$G58,\"\")","v":""},{"$f":"IF(AND($B57=\"AZIONE_3\",$R57=6),'3 - SPECIE DA IMPIANTARE'!$I58,\"\")","v":""}]
[1,{"$f":"IF('3 - SPECIE DA IMPIANTARE'!$H59=\"AZIONE_3\",'3 - SPECIE DA IMPIANTARE'!$H59,\"\")","v":""},{"$f":"IF('3 - SPECIE DA IMPIANTARE'!$G59=1,'3 - SPECIE DA IMPIANTARE'!$G59,\"\")","v":""},{"$f":"IF(AND($B58=\"AZIONE_3\",C58=1),'3 - SPECIE DA IMPIANTARE'!$I59,\"\")","v":""},null,{"$f":"IF('3 - SPECIE DA IMPIANTARE'!$G59=2,'3 - SPECIE DA IMPIANTARE'!$G59,\"\")","v":""},{"$f":"IF(AND($B58=\"AZIONE_3\",F58=2),'3 - SPECIE DA IMPIANTARE'!$I59,\"\")","v":""},null,{"$f":"IF('3 - SPECIE DA IMPIANTARE'!$G59=3,'3 - SPECIE DA IMPIANTARE'!$G59,\"\")","v":""},{"$f":"IF(AND($B58=\"AZIONE_3\",$I58=3),'3 - SPECIE DA IMPIANTARE'!$I59,\"\")","v":""},null,{"$f":"IF('3 - SPECIE DA IMPIANTARE'!$G59=4,'3 - SPECIE DA IMPIANTARE'!$G59,\"\")","v":""},{"$f":"IF(AND($B58=\"AZIONE_3\",$L58=4),'3 - SPECIE DA IMPIANTARE'!$I59,\"\")","v":""},null,{"$f":"IF('3 - SPECIE DA IMPIANTARE'!$G59=5,'3 - SPECIE DA IMPIANTARE'!$G59,\"\")","v":""},{"$f":"IF(AND($B58=\"AZIONE_3\",$O58=5),'3 - SPECIE DA IMPIANTARE'!$I59,\"\")","v":""},null,{"$f":"IF('3 - SPECIE DA IMPIANTARE'!$G59=6,'3 - SPECIE DA IMPIANTARE'!$G59,\"\")","v":""},{"$f":"IF(AND($B58=\"AZIONE_3\",$R58=6),'3 - SPECIE DA IMPIANTARE'!$I59,\"\")","v":""}]
[1,{"$f":"IF('3 - SPECIE DA IMPIANTARE'!$H60=\"AZIONE_3\",'3 - SPECIE DA IMPIANTARE'!$H60,\"\")","v":""},{"$f":"IF('3 - SPECIE DA IMPIANTARE'!$G60=1,'3 - SPECIE DA IMPIANTARE'!$G60,\"\")","v":""},{"$f":"IF(AND($B59=\"AZIONE_3\",C59=1),'3 - SPECIE DA IMPIANTARE'!$I60,\"\")","v":""},null,{"$f":"IF('3 - SPECIE DA IMPIANTARE'!$G60=2,'3 - SPECIE DA IMPIANTARE'!$G60,\"\")","v":""},{"$f":"IF(AND($B59=\"AZIONE_3\",F59=2),'3 - SPECIE DA IMPIANTARE'!$I60,\"\")","v":""},null,{"$f":"IF('3 - SPECIE DA IMPIANTARE'!$G60=3,'3 - SPECIE DA IMPIANTARE'!$G60,\"\")","v":""},{"$f":"IF(AND($B59=\"AZIONE_3\",$I59=3),'3 - SPECIE DA IMPIANTARE'!$I60,\"\")","v":""},null,{"$f":"IF('3 - SPECIE DA IMPIANTARE'!$G60=4,'3 - SPECIE DA IMPIANTARE'!$G60,\"\")","v":""},{"$f":"IF(AND($B59=\"AZIONE_3\",$L59=4),'3 - SPECIE DA IMPIANTARE'!$I60,\"\")","v":""},null,{"$f":"IF('3 - SPECIE DA IMPIANTARE'!$G60=5,'3 - SPECIE DA IMPIANTARE'!$G60,\"\")","v":""},{"$f":"IF(AND($B59=\"AZIONE_3\",$O59=5),'3 - SPECIE DA IMPIANTARE'!$I60,\"\")","v":""},null,{"$f":"IF('3 - SPECIE DA IMPIANTARE'!$G60=6,'3 - SPECIE DA IMPIANTARE'!$G60,\"\")","v":""},{"$f":"IF(AND($B59=\"AZIONE_3\",$R59=6),'3 - SPECIE DA IMPIANTARE'!$I60,\"\")","v":""}]
[1,{"$f":"IF('3 - SPECIE DA IMPIANTARE'!$H61=\"AZIONE_3\",'3 - SPECIE DA IMPIANTARE'!$H61,\"\")","v":""},{"$f":"IF('3 - SPECIE DA IMPIANTARE'!$G61=1,'3 - SPECIE DA IMPIANTARE'!$G61,\"\")","v":""},{"$f":"IF(AND($B60=\"AZIONE_3\",C60=1),'3 - SPECIE DA IMPIANTARE'!$I61,\"\")","v":""},null,{"$f":"IF('3 - SPECIE DA IMPIANTARE'!$G61=2,'3 - SPECIE DA IMPIANTARE'!$G61,\"\")","v":""},{"$f":"IF(AND($B60=\"AZIONE_3\",F60=2),'3 - SPECIE DA IMPIANTARE'!$I61,\"\")","v":""},null,{"$f":"IF('3 - SPECIE DA IMPIANTARE'!$G61=3,'3 - SPECIE DA IMPIANTARE'!$G61,\"\")","v":""},{"$f":"IF(AND($B60=\"AZIONE_3\",$I60=3),'3 - SPECIE DA IMPIANTARE'!$I61,\"\")","v":""},null,{"$f":"IF('3 - SPECIE DA IMPIANTARE'!$G61=4,'3 - SPECIE DA IMPIANTARE'!$G61,\"\")","v":""},{"$f":"IF(AND($B60=\"AZIONE_3\",$L60=4),'3 - SPECIE DA IMPIANTARE'!$I61,\"\")","v":""},null,{"$f":"IF('3 - SPECIE DA IMPIANTARE'!$G61=5,'3 - SPECIE DA IMPIANTARE'!$G61,\"\")","v":""},{"$f":"IF(AND($B60=\"AZIONE_3\",$O60=5),'3 - SPECIE DA IMPIANTARE'!$I61,\"\")","v":""},null,{"$f":"IF('3 - SPECIE DA IMPIANTARE'!$G61=6,'3 - SPECIE DA IMPIANTARE'!$G61,\"\")","v":""},{"$f":"IF(AND($B60=\"AZIONE_3\",$R60=6),'3 - SPECIE DA IMPIANTARE'!$I61,\"\")","v":""}]
[1,{"$f":"IF('3 - SPECIE DA IMPIANTARE'!$H62=\"AZIONE_3\",'3 - SPECIE DA IMPIANTARE'!$H62,\"\")","v":""},{"$f":"IF('3 - SPECIE DA IMPIANTARE'!$G62=1,'3 - SPECIE DA IMPIANTARE'!$G62,\"\")","v":""},{"$f":"IF(AND($B61=\"AZIONE_3\",C61=1),'3 - SPECIE DA IMPIANTARE'!$I62,\"\")","v":""},null,{"$f":"IF('3 - SPECIE DA IMPIANTARE'!$G62=2,'3 - SPECIE DA IMPIANTARE'!$G62,\"\")","v":""},{"$f":"IF(AND($B61=\"AZIONE_3\",F61=2),'3 - SPECIE DA IMPIANTARE'!$I62,\"\")","v":""},null,{"$f":"IF('3 - SPECIE DA IMPIANTARE'!$G62=3,'3 - SPECIE DA IMPIANTARE'!$G62,\"\")","v":""},{"$f":"IF(AND($B61=\"AZIONE_3\",$I61=3),'3 - SPECIE DA IMPIANTARE'!$I62,\"\")","v":""},null,{"$f":"IF('3 - SPECIE DA IMPIANTARE'!$G62=4,'3 - SPECIE DA IMPIANTARE'!$G62,\"\")","v":""},{"$f":"IF(AND($B61=\"AZIONE_3\",$L61=4),'3 - SPECIE DA IMPIANTARE'!$I62,\"\")","v":""},null,{"$f":"IF('3 - SPECIE DA IMPIANTARE'!$G62=5,'3 - SPECIE DA IMPIANTARE'!$G62,\"\")","v":""},{"$f":"IF(AND($B61=\"AZIONE_3\",$O61=5),'3 - SPECIE DA IMPIANTARE'!$I62,\"\")","v":""},null,{"$f":"IF('3 - SPECIE DA IMPIANTARE'!$G62=6,'3 - SPECIE DA IMPIANTARE'!$G62,\"\")","v":""},{"$f":"IF(AND($B61=\"AZIONE_3\",$R61=6),'3 - SPECIE DA IMPIANTARE'!$I62,\"\")","v":""}]
[1,{"$f":"IF('3 - SPECIE DA IMPIANTARE'!$H63=\"AZIONE_3\",'3 - SPECIE DA IMPIANTARE'!$H63,\"\")","v":""},{"$f":"IF('3 - SPECIE DA IMPIANTARE'!$G63=1,'3 - SPECIE DA IMPIANTARE'!$G63,\"\")","v":""},{"$f":"IF(AND($B62=\"AZIONE_3\",C62=1),'3 - SPECIE DA IMPIANTARE'!$I63,\"\")","v":""},null,{"$f":"IF('3 - SPECIE DA IMPIANTARE'!$G63=2,'3 - SPECIE DA IMPIANTARE'!$G63,\"\")","v":""},{"$f":"IF(AND($B62=\"AZIONE_3\",F62=2),'3 - SPECIE DA IMPIANTARE'!$I63,\"\")","v":""},null,{"$f":"IF('3 - SPECIE DA IMPIANTARE'!$G63=3,'3 - SPECIE DA IMPIANTARE'!$G63,\"\")","v":""},{"$f":"IF(AND($B62=\"AZIONE_3\",$I62=3),'3 - SPECIE DA IMPIANTARE'!$I63,\"\")","v":""},null,{"$f":"IF('3 - SPECIE DA IMPIANTARE'!$G63=4,'3 - SPECIE DA IMPIANTARE'!$G63,\"\")","v":""},{"$f":"IF(AND($B62=\"AZIONE_3\",$L62=4),'3 - SPECIE DA IMPIANTARE'!$I63,\"\")","v":""},null,{"$f":"IF('3 - SPECIE DA IMPIANTARE'!$G63=5,'3 - SPECIE DA IMPIANTARE'!$G63,\"\")","v":""},{"$f":"IF(AND($B62=\"AZIONE_3\",$O62=5),'3 - SPECIE DA IMPIANTARE'!$I63,\"\")","v":""},null,{"$f":"IF('3 - SPECIE DA IMPIANTARE'!$G63=6,'3 - SPECIE DA IMPIANTARE'!$G63,\"\")","v":""},{"$f":"IF(AND($B62=\"AZIONE_3\",$R62=6),'3 - SPECIE DA IMPIANTARE'!$I63,\"\")","v":""}]
[1,{"$f":"IF('3 - SPECIE DA IMPIANTARE'!$H64=\"AZIONE_3\",'3 - SPECIE DA IMPIANTARE'!$H64,\"\")","v":""},{"$f":"IF('3 - SPECIE DA IMPIANTARE'!$G64=1,'3 - SPECIE DA IMPIANTARE'!$G64,\"\")","v":""},{"$f":"IF(AND($B63=\"AZIONE_3\",C63=1),'3 - SPECIE DA IMPIANTARE'!$I64,\"\")","v":""},null,{"$f":"IF('3 - SPECIE DA IMPIANTARE'!$G64=2,'3 - SPECIE DA IMPIANTARE'!$G64,\"\")","v":""},{"$f":"IF(AND($B63=\"AZIONE_3\",F63=2),'3 - SPECIE DA IMPIANTARE'!$I64,\"\")","v":""},null,{"$f":"IF('3 - SPECIE DA IMPIANTARE'!$G64=3,'3 - SPECIE DA IMPIANTARE'!$G64,\"\")","v":""},{"$f":"IF(AND($B63=\"AZIONE_3\",$I63=3),'3 - SPECIE DA IMPIANTARE'!$I64,\"\")","v":""},null,{"$f":"IF('3 - SPECIE DA IMPIANTARE'!$G64=4,'3 - SPECIE DA IMPIANTARE'!$G64,\"\")","v":""},{"$f":"IF(AND($B63=\"AZIONE_3\",$L63=4),'3 - SPECIE DA IMPIANTARE'!$I64,\"\")","v":""},null,{"$f":"IF('3 - SPECIE DA IMPIANTARE'!$G64=5,'3 - SPECIE DA IMPIANTARE'!$G64,\"\")","v":""},{"$f":"IF(AND($B63=\"AZIONE_3\",$O63=5),'3 - SPECIE DA IMPIANTARE'!$I64,\"\")","v":""},null,{"$f":"IF('3 - SPECIE DA IMPIANTARE'!$G64=6,'3 - SPECIE DA IMPIANTARE'!$G64,\"\")","v":""},{"$f":"IF(AND($B63=\"AZIONE_3\",$R63=6),'3 - SPECIE DA IMPIANTARE'!$I64,\"\")","v":""}]
[1,{"$f":"IF('3 - SPECIE DA IMPIANTARE'!$H65=\"AZIONE_3\",'3 - SPECIE DA IMPIANTARE'!$H65,\"\")","v":""},{"$f":"IF('3 - SPECIE DA IMPIANTARE'!$G65=1,'3 - SPECIE DA IMPIANTARE'!$G65,\"\")","v":""},{"$f":"IF(AND($B64=\"AZIONE_3\",C64=1),'3 - SPECIE DA IMPIANTARE'!$I65,\"\")","v":""},null,{"$f":"IF('3 - SPECIE DA IMPIANTARE'!$G65=2,'3 - SPECIE DA IMPIANTARE'!$G65,\"\")","v":""},{"$f":"IF(AND($B64=\"AZIONE_3\",F64=2),'3 - SPECIE DA IMPIANTARE'!$I65,\"\")","v":""},null,{"$f":"IF('3 - SPECIE DA IMPIANTARE'!$G65=3,'3 - SPECIE DA IMPIANTARE'!$G65,\"\")","v":""},{"$f":"IF(AND($B64=\"AZIONE_3\",$I64=3),'3 - SPECIE DA IMPIANTARE'!$I65,\"\")","v":""},null,{"$f":"IF('3 - SPECIE DA IMPIANTARE'!$G65=4,'3 - SPECIE DA IMPIANTARE'!$G65,\"\")","v":""},{"$f":"IF(AND($B64=\"AZIONE_3\",$L64=4),'3 - SPECIE DA IMPIANTARE'!$I65,\"\")","v":""},null,{"$f":"IF('3 - SPECIE DA IMPIANTARE'!$G65=5,'3 - SPECIE DA IMPIANTARE'!$G65,\"\")","v":""},{"$f":"IF(AND($B64=\"AZIONE_3\",$O64=5),'3 - SPECIE DA IMPIANTARE'!$I65,\"\")","v":""},null,{"$f":"IF('3 - SPECIE DA IMPIANTARE'!$G65=6,'3 - SPECIE DA IMPIANTARE'!$G65,\"\")","v":""},{"$f":"IF(AND($B64=\"AZIONE_3\",$R64=6),'3 - SPECIE DA IMPIANTARE'!$I65,\"\")","v":""}]
[1,{"$f":"IF('3 - SPECIE DA IMPIANTARE'!$H66=\"AZIONE_3\",'3 - SPECIE DA IMPIANTARE'!$H66,\"\")","v":""},{"$f":"IF('3 - SPECIE DA IMPIANTARE'!$G66=1,'3 - SPECIE DA IMPIANTARE'!$G66,\"\")","v":""},{"$f":"IF(AND($B65=\"AZIONE_3\",C65=1),'3 - SPECIE DA IMPIANTARE'!$I66,\"\")","v":""},null,{"$f":"IF('3 - SPECIE DA IMPIANTARE'!$G66=2,'3 - SPECIE DA IMPIANTARE'!$G66,\"\")","v":""},{"$f":"IF(AND($B65=\"AZIONE_3\",F65=2),'3 - SPECIE DA IMPIANTARE'!$I66,\"\")","v":""},null,{"$f":"IF('3 - SPECIE DA IMPIANTARE'!$G66=3,'3 - SPECIE DA IMPIANTARE'!$G66,\"\")","v":""},{"$f":"IF(AND($B65=\"AZIONE_3\",$I65=3),'3 - SPECIE DA IMPIANTARE'!$I66,\"\")","v":""},null,{"$f":"IF('3 - SPECIE DA IMPIANTARE'!$G66=4,'3 - SPECIE DA IMPIANTARE'!$G66,\"\")","v":""},{"$f":"IF(AND($B65=\"AZIONE_3\",$L65=4),'3 - SPECIE DA IMPIANTARE'!$I66,\"\")","v":""},null,{"$f":"IF('3 - SPECIE DA IMPIANTARE'!$G66=5,'3 - SPECIE DA IMPIANTARE'!$G66,\"\")","v":""},{"$f":"IF(AND($B65=\"AZIONE_3\",$O65=5),'3 - SPECIE DA IMPIANTARE'!$I66,\"\")","v":""},null,{"$f":"IF('3 - SPECIE DA IMPIANTARE'!$G66=6,'3 - SPECIE DA IMPIANTARE'!$G66,\"\")","v":""},{"$f":"IF(AND($B65=\"AZIONE_3\",$R65=6),'3 - SPECIE DA IMPIANTARE'!$I66,\"\")","v":""}]
[1,{"$f":"IF('3 - SPECIE DA IMPIANTARE'!$H67=\"AZIONE_3\",'3 - SPECIE DA IMPIANTARE'!$H67,\"\")","v":""},{"$f":"IF('3 - SPECIE DA IMPIANTARE'!$G67=1,'3 - SPECIE DA IMPIANTARE'!$G67,\"\")","v":""},{"$f":"IF(AND($B66=\"AZIONE_3\",C66=1),'3 - SPECIE DA IMPIANTARE'!$I67,\"\")","v":""},null,{"$f":"IF('3 - SPECIE DA IMPIANTARE'!$G67=2,'3 - SPECIE DA IMPIANTARE'!$G67,\"\")","v":""},{"$f":"IF(AND($B66=\"AZIONE_3\",F66=2),'3 - SPECIE DA IMPIANTARE'!$I67,\"\")","v":""},null,{"$f":"IF('3 - SPECIE DA IMPIANTARE'!$G67=3,'3 - SPECIE DA IMPIANTARE'!$G67,\"\")","v":""},{"$f":"IF(AND($B66=\"AZIONE_3\",$I66=3),'3 - SPECIE DA IMPIANTARE'!$I67,\"\")","v":""},null,{"$f":"IF('3 - SPECIE DA IMPIANTARE'!$G67=4,'3 - SPECIE DA IMPIANTARE'!$G67,\"\")","v":""},{"$f":"IF(AND($B66=\"AZIONE_3\",$L66=4),'3 - SPECIE DA IMPIANTARE'!$I67,\"\")","v":""},null,{"$f":"IF('3 - SPECIE DA IMPIANTARE'!$G67=5,'3 - SPECIE DA IMPIANTARE'!$G67,\"\")","v":""},{"$f":"IF(AND($B66=\"AZIONE_3\",$O66=5),'3 - SPECIE DA IMPIANTARE'!$I67,\"\")","v":""},null,{"$f":"IF('3 - SPECIE DA IMPIANTARE'!$G67=6,'3 - SPECIE DA IMPIANTARE'!$G67,\"\")","v":""},{"$f":"IF(AND($B66=\"AZIONE_3\",$R66=6),'3 - SPECIE DA IMPIANTARE'!$I67,\"\")","v":""}]
[1,{"$f":"IF('3 - SPECIE DA IMPIANTARE'!$H68=\"AZIONE_3\",'3 - SPECIE DA IMPIANTARE'!$H68,\"\")","v":""},{"$f":"IF('3 - SPECIE DA IMPIANTARE'!$G68=1,'3 - SPECIE DA IMPIANTARE'!$G68,\"\")","v":""},{"$f":"IF(AND($B67=\"AZIONE_3\",C67=1),'3 - SPECIE DA IMPIANTARE'!$I68,\"\")","v":""},null,{"$f":"IF('3 - SPECIE DA IMPIANTARE'!$G68=2,'3 - SPECIE DA IMPIANTARE'!$G68,\"\")","v":""},{"$f":"IF(AND($B67=\"AZIONE_3\",F67=2),'3 - SPECIE DA IMPIANTARE'!$I68,\"\")","v":""},null,{"$f":"IF('3 - SPECIE DA IMPIANTARE'!$G68=3,'3 - SPECIE DA IMPIANTARE'!$G68,\"\")","v":""},{"$f":"IF(AND($B67=\"AZIONE_3\",$I67=3),'3 - SPECIE DA IMPIANTARE'!$I68,\"\")","v":""},null,{"$f":"IF('3 - SPECIE DA IMPIANTARE'!$G68=4,'3 - SPECIE DA IMPIANTARE'!$G68,\"\")","v":""},{"$f":"IF(AND($B67=\"AZIONE_3\",$L67=4),'3 - SPECIE DA IMPIANTARE'!$I68,\"\")","v":""},null,{"$f":"IF('3 - SPECIE DA IMPIANTARE'!$G68=5,'3 - SPECIE DA IMPIANTARE'!$G68,\"\")","v":""},{"$f":"IF(AND($B67=\"AZIONE_3\",$O67=5),'3 - SPECIE DA IMPIANTARE'!$I68,\"\")","v":""},null,{"$f":"IF('3 - SPECIE DA IMPIANTARE'!$G68=6,'3 - SPECIE DA IMPIANTARE'!$G68,\"\")","v":""},{"$f":"IF(AND($B67=\"AZIONE_3\",$R67=6),'3 - SPECIE DA IMPIANTARE'!$I68,\"\")","v":""}]
[1,{"$f":"IF('3 - SPECIE DA IMPIANTARE'!$H69=\"AZIONE_3\",'3 - SPECIE DA IMPIANTARE'!$H69,\"\")","v":""},{"$f":"IF('3 - SPECIE DA IMPIANTARE'!$G69=1,'3 - SPECIE DA IMPIANTARE'!$G69,\"\")","v":""},{"$f":"IF(AND($B68=\"AZIONE_3\",C68=1),'3 - SPECIE DA IMPIANTARE'!$I69,\"\")","v":""},null,{"$f":"IF('3 - SPECIE DA IMPIANTARE'!$G69=2,'3 - SPECIE DA IMPIANTARE'!$G69,\"\")","v":""},{"$f":"IF(AND($B68=\"AZIONE_3\",F68=2),'3 - SPECIE DA IMPIANTARE'!$I69,\"\")","v":""},null,{"$f":"IF('3 - SPECIE DA IMPIANTARE'!$G69=3,'3 - SPECIE DA IMPIANTARE'!$G69,\"\")","v":""},{"$f":"IF(AND($B68=\"AZIONE_3\",$I68=3),'3 - SPECIE DA IMPIANTARE'!$I69,\"\")","v":""},null,{"$f":"IF('3 - SPECIE DA IMPIANTARE'!$G69=4,'3 - SPECIE DA IMPIANTARE'!$G69,\"\")","v":""},{"$f":"IF(AND($B68=\"AZIONE_3\",$L68=4),'3 - SPECIE DA IMPIANTARE'!$I69,\"\")","v":""},null,{"$f":"IF('3 - SPECIE DA IMPIANTARE'!$G69=5,'3 - SPECIE DA IMPIANTARE'!$G69,\"\")","v":""},{"$f":"IF(AND($B68=\"AZIONE_3\",$O68=5),'3 - SPECIE DA IMPIANTARE'!$I69,\"\")","v":""},null,{"$f":"IF('3 - SPECIE DA IMPIANTARE'!$G69=6,'3 - SPECIE DA IMPIANTARE'!$G69,\"\")","v":""},{"$f":"IF(AND($B68=\"AZIONE_3\",$R68=6),'3 - SPECIE DA IMPIANTARE'!$I69,\"\")","v":""}]
[1,{"$f":"IF('3 - SPECIE DA IMPIANTARE'!$H70=\"AZIONE_3\",'3 - SPECIE DA IMPIANTARE'!$H70,\"\")","v":""},{"$f":"IF('3 - SPECIE DA IMPIANTARE'!$G70=1,'3 - SPECIE DA IMPIANTARE'!$G70,\"\")","v":""},{"$f":"IF(AND($B69=\"AZIONE_3\",C69=1),'3 - SPECIE DA IMPIANTARE'!$I70,\"\")","v":""},null,{"$f":"IF('3 - SPECIE DA IMPIANTARE'!$G70=2,'3 - SPECIE DA IMPIANTARE'!$G70,\"\")","v":""},{"$f":"IF(AND($B69=\"AZIONE_3\",F69=2),'3 - SPECIE DA IMPIANTARE'!$I70,\"\")","v":""},null,{"$f":"IF('3 - SPECIE DA IMPIANTARE'!$G70=3,'3 - SPECIE DA IMPIANTARE'!$G70,\"\")","v":""},{"$f":"IF(AND($B69=\"AZIONE_3\",$I69=3),'3 - SPECIE DA IMPIANTARE'!$I70,\"\")","v":""},null,{"$f":"IF('3 - SPECIE DA IMPIANTARE'!$G70=4,'3 - SPECIE DA IMPIANTARE'!$G70,\"\")","v":""},{"$f":"IF(AND($B69=\"AZIONE_3\",$L69=4),'3 - SPECIE DA IMPIANTARE'!$I70,\"\")","v":""},null,{"$f":"IF('3 - SPECIE DA IMPIANTARE'!$G70=5,'3 - SPECIE DA IMPIANTARE'!$G70,\"\")","v":""},{"$f":"IF(AND($B69=\"AZIONE_3\",$O69=5),'3 - SPECIE DA IMPIANTARE'!$I70,\"\")","v":""},null,{"$f":"IF('3 - SPECIE DA IMPIANTARE'!$G70=6,'3 - SPECIE DA IMPIANTARE'!$G70,\"\")","v":""},{"$f":"IF(AND($B69=\"AZIONE_3\",$R69=6),'3 - SPECIE DA IMPIANTARE'!$I70,\"\")","v":""}]
[1,{"$f":"IF('3 - SPECIE DA IMPIANTARE'!$H71=\"AZIONE_3\",'3 - SPECIE DA IMPIANTARE'!$H71,\"\")","v":""},{"$f":"IF('3 - SPECIE DA IMPIANTARE'!$G71=1,'3 - SPECIE DA IMPIANTARE'!$G71,\"\")","v":""},{"$f":"IF(AND($B70=\"AZIONE_3\",C70=1),'3 - SPECIE DA IMPIANTARE'!$I71,\"\")","v":""},null,{"$f":"IF('3 - SPECIE DA IMPIANTARE'!$G71=2,'3 - SPECIE DA IMPIANTARE'!$G71,\"\")","v":""},{"$f":"IF(AND($B70=\"AZIONE_3\",F70=2),'3 - SPECIE DA IMPIANTARE'!$I71,\"\")","v":""},null,{"$f":"IF('3 - SPECIE DA IMPIANTARE'!$G71=3,'3 - SPECIE DA IMPIANTARE'!$G71,\"\")","v":""},{"$f":"IF(AND($B70=\"AZIONE_3\",$I70=3),'3 - SPECIE DA IMPIANTARE'!$I71,\"\")","v":""},null,{"$f":"IF('3 - SPECIE DA IMPIANTARE'!$G71=4,'3 - SPECIE DA IMPIANTARE'!$G71,\"\")","v":""},{"$f":"IF(AND($B70=\"AZIONE_3\",$L70=4),'3 - SPECIE DA IMPIANTARE'!$I71,\"\")","v":""},null,{"$f":"IF('3 - SPECIE DA IMPIANTARE'!$G71=5,'3 - SPECIE DA IMPIANTARE'!$G71,\"\")","v":""},{"$f":"IF(AND($B70=\"AZIONE_3\",$O70=5),'3 - SPECIE DA IMPIANTARE'!$I71,\"\")","v":""},null,{"$f":"IF('3 - SPECIE DA IMPIANTARE'!$G71=6,'3 - SPECIE DA IMPIANTARE'!$G71,\"\")","v":""},{"$f":"IF(AND($B70=\"AZIONE_3\",$R70=6),'3 - SPECIE DA IMPIANTARE'!$I71,\"\")","v":""}]
[1,{"$f":"IF('3 - SPECIE DA IMPIANTARE'!$H72=\"AZIONE_3\",'3 - SPECIE DA IMPIANTARE'!$H72,\"\")","v":""},{"$f":"IF('3 - SPECIE DA IMPIANTARE'!$G72=1,'3 - SPECIE DA IMPIANTARE'!$G72,\"\")","v":""},{"$f":"IF(AND($B71=\"AZIONE_3\",C71=1),'3 - SPECIE DA IMPIANTARE'!$I72,\"\")","v":""},null,{"$f":"IF('3 - SPECIE DA IMPIANTARE'!$G72=2,'3 - SPECIE DA IMPIANTARE'!$G72,\"\")","v":""},{"$f":"IF(AND($B71=\"AZIONE_3\",F71=2),'3 - SPECIE DA IMPIANTARE'!$I72,\"\")","v":""},null,{"$f":"IF('3 - SPECIE DA IMPIANTARE'!$G72=3,'3 - SPECIE DA IMPIANTARE'!$G72,\"\")","v":""},{"$f":"IF(AND($B71=\"AZIONE_3\",$I71=3),'3 - SPECIE DA IMPIANTARE'!$I72,\"\")","v":""},null,{"$f":"IF('3 - SPECIE DA IMPIANTARE'!$G72=4,'3 - SPECIE DA IMPIANTARE'!$G72,\"\")","v":""},{"$f":"IF(AND($B71=\"AZIONE_3\",$L71=4),'3 - SPECIE DA IMPIANTARE'!$I72,\"\")","v":""},null,{"$f":"IF('3 - SPECIE DA IMPIANTARE'!$G72=5,'3 - SPECIE DA IMPIANTARE'!$G72,\"\")","v":""},{"$f":"IF(AND($B71=\"AZIONE_3\",$O71=5),'3 - SPECIE DA IMPIANTARE'!$I72,\"\")","v":""},null,{"$f":"IF('3 - SPECIE DA IMPIANTARE'!$G72=6,'3 - SPECIE DA IMPIANTARE'!$G72,\"\")","v":""},{"$f":"IF(AND($B71=\"AZIONE_3\",$R71=6),'3 - SPECIE DA IMPIANTARE'!$I72,\"\")","v":""}]
[1,{"$f":"IF('3 - SPECIE DA IMPIANTARE'!$H73=\"AZIONE_3\",'3 - SPECIE DA IMPIANTARE'!$H73,\"\")","v":""},{"$f":"IF('3 - SPECIE DA IMPIANTARE'!$G73=1,'3 - SPECIE DA IMPIANTARE'!$G73,\"\")","v":""},{"$f":"IF(AND($B72=\"AZIONE_3\",C72=1),'3 - SPECIE DA IMPIANTARE'!$I73,\"\")","v":""},null,{"$f":"IF('3 - SPECIE DA IMPIANTARE'!$G73=2,'3 - SPECIE DA IMPIANTARE'!$G73,\"\")","v":""},{"$f":"IF(AND($B72=\"AZIONE_3\",F72=2),'3 - SPECIE DA IMPIANTARE'!$I73,\"\")","v":""},null,{"$f":"IF('3 - SPECIE DA IMPIANTARE'!$G73=3,'3 - SPECIE DA IMPIANTARE'!$G73,\"\")","v":""},{"$f":"IF(AND($B72=\"AZIONE_3\",$I72=3),'3 - SPECIE DA IMPIANTARE'!$I73,\"\")","v":""},null,{"$f":"IF('3 - SPECIE DA IMPIANTARE'!$G73=4,'3 - SPECIE DA IMPIANTARE'!$G73,\"\")","v":""},{"$f":"IF(AND($B72=\"AZIONE_3\",$L72=4),'3 - SPECIE DA IMPIANTARE'!$I73,\"\")","v":""},null,{"$f":"IF('3 - SPECIE DA IMPIANTARE'!$G73=5,'3 - SPECIE DA IMPIANTARE'!$G73,\"\")","v":""},{"$f":"IF(AND($B72=\"AZIONE_3\",$O72=5),'3 - SPECIE DA IMPIANTARE'!$I73,\"\")","v":""},null,{"$f":"IF('3 - SPECIE DA IMPIANTARE'!$G73=6,'3 - SPECIE DA IMPIANTARE'!$G73,\"\")","v":""},{"$f":"IF(AND($B72=\"AZIONE_3\",$R72=6),'3 - SPECIE DA IMPIANTARE'!$I73,\"\")","v":""}]
[1,{"$f":"IF('3 - SPECIE DA IMPIANTARE'!$H74=\"AZIONE_3\",'3 - SPECIE DA IMPIANTARE'!$H74,\"\")","v":""},{"$f":"IF('3 - SPECIE DA IMPIANTARE'!$G74=1,'3 - SPECIE DA IMPIANTARE'!$G74,\"\")","v":""},{"$f":"IF(AND($B73=\"AZIONE_3\",C73=1),'3 - SPECIE DA IMPIANTARE'!$I74,\"\")","v":""},null,{"$f":"IF('3 - SPECIE DA IMPIANTARE'!$G74=2,'3 - SPECIE DA IMPIANTARE'!$G74,\"\")","v":""},{"$f":"IF(AND($B73=\"AZIONE_3\",F73=2),'3 - SPECIE DA IMPIANTARE'!$I74,\"\")","v":""},null,{"$f":"IF('3 - SPECIE DA IMPIANTARE'!$G74=3,'3 - SPECIE DA IMPIANTARE'!$G74,\"\")","v":""},{"$f":"IF(AND($B73=\"AZIONE_3\",$I73=3),'3 - SPECIE DA IMPIANTARE'!$I74,\"\")","v":""},null,{"$f":"IF('3 - SPECIE DA IMPIANTARE'!$G74=4,'3 - SPECIE DA IMPIANTARE'!$G74,\"\")","v":""},{"$f":"IF(AND($B73=\"AZIONE_3\",$L73=4),'3 - SPECIE DA IMPIANTARE'!$I74,\"\")","v":""},null,{"$f":"IF('3 - SPECIE DA IMPIANTARE'!$G74=5,'3 - SPECIE DA IMPIANTARE'!$G74,\"\")","v":""},{"$f":"IF(AND($B73=\"AZIONE_3\",$O73=5),'3 - SPECIE DA IMPIANTARE'!$I74,\"\")","v":""},null,{"$f":"IF('3 - SPECIE DA IMPIANTARE'!$G74=6,'3 - SPECIE DA IMPIANTARE'!$G74,\"\")","v":""},{"$f":"IF(AND($B73=\"AZIONE_3\",$R73=6),'3 - SPECIE DA IMPIANTARE'!$I74,\"\")","v":""}]
[1,{"$f":"IF('3 - SPECIE DA IMPIANTARE'!$H75=\"AZIONE_3\",'3 - SPECIE DA IMPIANTARE'!$H75,\"\")","v":""},{"$f":"IF('3 - SPECIE DA IMPIANTARE'!$G75=1,'3 - SPECIE DA IMPIANTARE'!$G75,\"\")","v":""},{"$f":"IF(AND($B74=\"AZIONE_3\",C74=1),'3 - SPECIE DA IMPIANTARE'!$I75,\"\")","v":""},null,{"$f":"IF('3 - SPECIE DA IMPIANTARE'!$G75=2,'3 - SPECIE DA IMPIANTARE'!$G75,\"\")","v":""},{"$f":"IF(AND($B74=\"AZIONE_3\",F74=2),'3 - SPECIE DA IMPIANTARE'!$I75,\"\")","v":""},null,{"$f":"IF('3 - SPECIE DA IMPIANTARE'!$G75=3,'3 - SPECIE DA IMPIANTARE'!$G75,\"\")","v":""},{"$f":"IF(AND($B74=\"AZIONE_3\",$I74=3),'3 - SPECIE DA IMPIANTARE'!$I75,\"\")","v":""},null,{"$f":"IF('3 - SPECIE DA IMPIANTARE'!$G75=4,'3 - SPECIE DA IMPIANTARE'!$G75,\"\")","v":""},{"$f":"IF(AND($B74=\"AZIONE_3\",$L74=4),'3 - SPECIE DA IMPIANTARE'!$I75,\"\")","v":""},null,{"$f":"IF('3 - SPECIE DA IMPIANTARE'!$G75=5,'3 - SPECIE DA IMPIANTARE'!$G75,\"\")","v":""},{"$f":"IF(AND($B74=\"AZIONE_3\",$O74=5),'3 - SPECIE DA IMPIANTARE'!$I75,\"\")","v":""},null,{"$f":"IF('3 - SPECIE DA IMPIANTARE'!$G75=6,'3 - SPECIE DA IMPIANTARE'!$G75,\"\")","v":""},{"$f":"IF(AND($B74=\"AZIONE_3\",$R74=6),'3 - SPECIE DA IMPIANTARE'!$I75,\"\")","v":""}]
[1,{"$f":"IF('3 - SPECIE DA IMPIANTARE'!$H76=\"AZIONE_3\",'3 - SPECIE DA IMPIANTARE'!$H76,\"\")","v":""},{"$f":"IF('3 - SPECIE DA IMPIANTARE'!$G76=1,'3 - SPECIE DA IMPIANTARE'!$G76,\"\")","v":""},{"$f":"IF(AND($B75=\"AZIONE_3\",C75=1),'3 - SPECIE DA IMPIANTARE'!$I76,\"\")","v":""},null,{"$f":"IF('3 - SPECIE DA IMPIANTARE'!$G76=2,'3 - SPECIE DA IMPIANTARE'!$G76,\"\")","v":""},{"$f":"IF(AND($B75=\"AZIONE_3\",F75=2),'3 - SPECIE DA IMPIANTARE'!$I76,\"\")","v":""},null,{"$f":"IF('3 - SPECIE DA IMPIANTARE'!$G76=3,'3 - SPECIE DA IMPIANTARE'!$G76,\"\")","v":""},{"$f":"IF(AND($B75=\"AZIONE_3\",$I75=3),'3 - SPECIE DA IMPIANTARE'!$I76,\"\")","v":""},null,{"$f":"IF('3 - SPECIE DA IMPIANTARE'!$G76=4,'3 - SPECIE DA IMPIANTARE'!$G76,\"\")","v":""},{"$f":"IF(AND($B75=\"AZIONE_3\",$L75=4),'3 - SPECIE DA IMPIANTARE'!$I76,\"\")","v":""},null,{"$f":"IF('3 - SPECIE DA IMPIANTARE'!$G76=5,'3 - SPECIE DA IMPIANTARE'!$G76,\"\")","v":""},{"$f":"IF(AND($B75=\"AZIONE_3\",$O75=5),'3 - SPECIE DA IMPIANTARE'!$I76,\"\")","v":""},null,{"$f":"IF('3 - SPECIE DA IMPIANTARE'!$G76=6,'3 - SPECIE DA IMPIANTARE'!$G76,\"\")","v":""},{"$f":"IF(AND($B75=\"AZIONE_3\",$R75=6),'3 - SPECIE DA IMPIANTARE'!$I76,\"\")","v":""}]
[1,{"$f":"IF('3 - SPECIE DA IMPIANTARE'!$H77=\"AZIONE_3\",'3 - SPECIE DA IMPIANTARE'!$H77,\"\")","v":""},{"$f":"IF('3 - SPECIE DA IMPIANTARE'!$G77=1,'3 - SPECIE DA IMPIANTARE'!$G77,\"\")","v":""},{"$f":"IF(AND($B76=\"AZIONE_3\",C76=1),'3 - SPECIE DA IMPIANTARE'!$I77,\"\")","v":""},null,{"$f":"IF('3 - SPECIE DA IMPIANTARE'!$G77=2,'3 - SPECIE DA IMPIANTARE'!$G77,\"\")","v":""},{"$f":"IF(AND($B76=\"AZIONE_3\",F76=2),'3 - SPECIE DA IMPIANTARE'!$I77,\"\")","v":""},null,{"$f":"IF('3 - SPECIE DA IMPIANTARE'!$G77=3,'3 - SPECIE DA IMPIANTARE'!$G77,\"\")","v":""},{"$f":"IF(AND($B76=\"AZIONE_3\",$I76=3),'3 - SPECIE DA IMPIANTARE'!$I77,\"\")","v":""},null,{"$f":"IF('3 - SPECIE DA IMPIANTARE'!$G77=4,'3 - SPECIE DA IMPIANTARE'!$G77,\"\")","v":""},{"$f":"IF(AND($B76=\"AZIONE_3\",$L76=4),'3 - SPECIE DA IMPIANTARE'!$I77,\"\")","v":""},null,{"$f":"IF('3 - SPECIE DA IMPIANTARE'!$G77=5,'3 - SPECIE DA IMPIANTARE'!$G77,\"\")","v":""},{"$f":"IF(AND($B76=\"AZIONE_3\",$O76=5),'3 - SPECIE DA IMPIANTARE'!$I77,\"\")","v":""},null,{"$f":"IF('3 - SPECIE DA IMPIANTARE'!$G77=6,'3 - SPECIE DA IMPIANTARE'!$G77,\"\")","v":""},{"$f":"IF(AND($B76=\"AZIONE_3\",$R76=6),'3 - SPECIE DA IMPIANTARE'!$I77,\"\")","v":""}]
[1,{"$f":"IF('3 - SPECIE DA IMPIANTARE'!$H78=\"AZIONE_3\",'3 - SPECIE DA IMPIANTARE'!$H78,\"\")","v":""},{"$f":"IF('3 - SPECIE DA IMPIANTARE'!$G78=1,'3 - SPECIE DA IMPIANTARE'!$G78,\"\")","v":""},{"$f":"IF(AND($B77=\"AZIONE_3\",C77=1),'3 - SPECIE DA IMPIANTARE'!$I78,\"\")","v":""},null,{"$f":"IF('3 - SPECIE DA IMPIANTARE'!$G78=2,'3 - SPECIE DA IMPIANTARE'!$G78,\"\")","v":""},{"$f":"IF(AND($B77=\"AZIONE_3\",F77=2),'3 - SPECIE DA IMPIANTARE'!$I78,\"\")","v":""},null,{"$f":"IF('3 - SPECIE DA IMPIANTARE'!$G78=3,'3 - SPECIE DA IMPIANTARE'!$G78,\"\")","v":""},{"$f":"IF(AND($B77=\"AZIONE_3\",$I77=3),'3 - SPECIE DA IMPIANTARE'!$I78,\"\")","v":""},null,{"$f":"IF('3 - SPECIE DA IMPIANTARE'!$G78=4,'3 - SPECIE DA IMPIANTARE'!$G78,\"\")","v":""},{"$f":"IF(AND($B77=\"AZIONE_3\",$L77=4),'3 - SPECIE DA IMPIANTARE'!$I78,\"\")","v":""},null,{"$f":"IF('3 - SPECIE DA IMPIANTARE'!$G78=5,'3 - SPECIE DA IMPIANTARE'!$G78,\"\")","v":""},{"$f":"IF(AND($B77=\"AZIONE_3\",$O77=5),'3 - SPECIE DA IMPIANTARE'!$I78,\"\")","v":""},null,{"$f":"IF('3 - SPECIE DA IMPIANTARE'!$G78=6,'3 - SPECIE DA IMPIANTARE'!$G78,\"\")","v":""},{"$f":"IF(AND($B77=\"AZIONE_3\",$R77=6),'3 - SPECIE DA IMPIANTARE'!$I78,\"\")","v":""}]
[1,{"$f":"IF('3 - SPECIE DA IMPIANTARE'!$H79=\"AZIONE_3\",'3 - SPECIE DA IMPIANTARE'!$H79,\"\")","v":""},{"$f":"IF('3 - SPECIE DA IMPIANTARE'!$G79=1,'3 - SPECIE DA IMPIANTARE'!$G79,\"\")","v":""},{"$f":"IF(AND($B78=\"AZIONE_3\",C78=1),'3 - SPECIE DA IMPIANTARE'!$I79,\"\")","v":""},null,{"$f":"IF('3 - SPECIE DA IMPIANTARE'!$G79=2,'3 - SPECIE DA IMPIANTARE'!$G79,\"\")","v":""},{"$f":"IF(AND($B78=\"AZIONE_3\",F78=2),'3 - SPECIE DA IMPIANTARE'!$I79,\"\")","v":""},null,{"$f":"IF('3 - SPECIE DA IMPIANTARE'!$G79=3,'3 - SPECIE DA IMPIANTARE'!$G79,\"\")","v":""},{"$f":"IF(AND($B78=\"AZIONE_3\",$I78=3),'3 - SPECIE DA IMPIANTARE'!$I79,\"\")","v":""},null,{"$f":"IF('3 - SPECIE DA IMPIANTARE'!$G79=4,'3 - SPECIE DA IMPIANTARE'!$G79,\"\")","v":""},{"$f":"IF(AND($B78=\"AZIONE_3\",$L78=4),'3 - SPECIE DA IMPIANTARE'!$I79,\"\")","v":""},null,{"$f":"IF('3 - SPECIE DA IMPIANTARE'!$G79=5,'3 - SPECIE DA IMPIANTARE'!$G79,\"\")","v":""},{"$f":"IF(AND($B78=\"AZIONE_3\",$O78=5),'3 - SPECIE DA IMPIANTARE'!$I79,\"\")","v":""},null,{"$f":"IF('3 - SPECIE DA IMPIANTARE'!$G79=6,'3 - SPECIE DA IMPIANTARE'!$G79,\"\")","v":""},{"$f":"IF(AND($B78=\"AZIONE_3\",$R78=6),'3 - SPECIE DA IMPIANTARE'!$I79,\"\")","v":""}]
[1,{"$f":"IF('3 - SPECIE DA IMPIANTARE'!$H80=\"AZIONE_3\",'3 - SPECIE DA IMPIANTARE'!$H80,\"\")","v":""},{"$f":"IF('3 - SPECIE DA IMPIANTARE'!$G80=1,'3 - SPECIE DA IMPIANTARE'!$G80,\"\")","v":""},{"$f":"IF(AND($B79=\"AZIONE_3\",C79=1),'3 - SPECIE DA IMPIANTARE'!$I80,\"\")","v":""},null,{"$f":"IF('3 - SPECIE DA IMPIANTARE'!$G80=2,'3 - SPECIE DA IMPIANTARE'!$G80,\"\")","v":""},{"$f":"IF(AND($B79=\"AZIONE_3\",F79=2),'3 - SPECIE DA IMPIANTARE'!$I80,\"\")","v":""},null,{"$f":"IF('3 - SPECIE DA IMPIANTARE'!$G80=3,'3 - SPECIE DA IMPIANTARE'!$G80,\"\")","v":""},{"$f":"IF(AND($B79=\"AZIONE_3\",$I79=3),'3 - SPECIE DA IMPIANTARE'!$I80,\"\")","v":""},null,{"$f":"IF('3 - SPECIE DA IMPIANTARE'!$G80=4,'3 - SPECIE DA IMPIANTARE'!$G80,\"\")","v":""},{"$f":"IF(AND($B79=\"AZIONE_3\",$L79=4),'3 - SPECIE DA IMPIANTARE'!$I80,\"\")","v":""},null,{"$f":"IF('3 - SPECIE DA IMPIANTARE'!$G80=5,'3 - SPECIE DA IMPIANTARE'!$G80,\"\")","v":""},{"$f":"IF(AND($B79=\"AZIONE_3\",$O79=5),'3 - SPECIE DA IMPIANTARE'!$I80,\"\")","v":""},null,{"$f":"IF('3 - SPECIE DA IMPIANTARE'!$G80=6,'3 - SPECIE DA IMPIANTARE'!$G80,\"\")","v":""},{"$f":"IF(AND($B79=\"AZIONE_3\",$R79=6),'3 - SPECIE DA IMPIANTARE'!$I80,\"\")","v":""}]
[1,{"$f":"IF('3 - SPECIE DA IMPIANTARE'!$H81=\"AZIONE_3\",'3 - SPECIE DA IMPIANTARE'!$H81,\"\")","v":""},{"$f":"IF('3 - SPECIE DA IMPIANTARE'!$G81=1,'3 - SPECIE DA IMPIANTARE'!$G81,\"\")","v":""},{"$f":"IF(AND($B80=\"AZIONE_3\",C80=1),'3 - SPECIE DA IMPIANTARE'!$I81,\"\")","v":""},null,{"$f":"IF('3 - SPECIE DA IMPIANTARE'!$G81=2,'3 - SPECIE DA IMPIANTARE'!$G81,\"\")","v":""},{"$f":"IF(AND($B80=\"AZIONE_3\",F80=2),'3 - SPECIE DA IMPIANTARE'!$I81,\"\")","v":""},null,{"$f":"IF('3 - SPECIE DA IMPIANTARE'!$G81=3,'3 - SPECIE DA IMPIANTARE'!$G81,\"\")","v":""},{"$f":"IF(AND($B80=\"AZIONE_3\",$I80=3),'3 - SPECIE DA IMPIANTARE'!$I81,\"\")","v":""},null,{"$f":"IF('3 - SPECIE DA IMPIANTARE'!$G81=4,'3 - SPECIE DA IMPIANTARE'!$G81,\"\")","v":""},{"$f":"IF(AND($B80=\"AZIONE_3\",$L80=4),'3 - SPECIE DA IMPIANTARE'!$I81,\"\")","v":""},null,{"$f":"IF('3 - SPECIE DA IMPIANTARE'!$G81=5,'3 - SPECIE DA IMPIANTARE'!$G81,\"\")","v":""},{"$f":"IF(AND($B80=\"AZIONE_3\",$O80=5),'3 - SPECIE DA IMPIANTARE'!$I81,\"\")","v":""},null,{"$f":"IF('3 - SPECIE DA IMPIANTARE'!$G81=6,'3 - SPECIE DA IMPIANTARE'!$G81,\"\")","v":""},{"$f":"IF(AND($B80=\"AZIONE_3\",$R80=6),'3 - SPECIE DA IMPIANTARE'!$I81,\"\")","v":""}]
[1,{"$f":"IF('3 - SPECIE DA IMPIANTARE'!$H82=\"AZIONE_3\",'3 - SPECIE DA IMPIANTARE'!$H82,\"\")","v":""},{"$f":"IF('3 - SPECIE DA IMPIANTARE'!$G82=1,'3 - SPECIE DA IMPIANTARE'!$G82,\"\")","v":""},{"$f":"IF(AND($B81=\"AZIONE_3\",C81=1),'3 - SPECIE DA IMPIANTARE'!$I82,\"\")","v":""},null,{"$f":"IF('3 - SPECIE DA IMPIANTARE'!$G82=2,'3 - SPECIE DA IMPIANTARE'!$G82,\"\")","v":""},{"$f":"IF(AND($B81=\"AZIONE_3\",F81=2),'3 - SPECIE DA IMPIANTARE'!$I82,\"\")","v":""},null,{"$f":"IF('3 - SPECIE DA IMPIANTARE'!$G82=3,'3 - SPECIE DA IMPIANTARE'!$G82,\"\")","v":""},{"$f":"IF(AND($B81=\"AZIONE_3\",$I81=3),'3 - SPECIE DA IMPIANTARE'!$I82,\"\")","v":""},null,{"$f":"IF('3 - SPECIE DA IMPIANTARE'!$G82=4,'3 - SPECIE DA IMPIANTARE'!$G82,\"\")","v":""},{"$f":"IF(AND($B81=\"AZIONE_3\",$L81=4),'3 - SPECIE DA IMPIANTARE'!$I82,\"\")","v":""},null,{"$f":"IF('3 - SPECIE DA IMPIANTARE'!$G82=5,'3 - SPECIE DA IMPIANTARE'!$G82,\"\")","v":""},{"$f":"IF(AND($B81=\"AZIONE_3\",$O81=5),'3 - SPECIE DA IMPIANTARE'!$I82,\"\")","v":""},null,{"$f":"IF('3 - SPECIE DA IMPIANTARE'!$G82=6,'3 - SPECIE DA IMPIANTARE'!$G82,\"\")","v":""},{"$f":"IF(AND($B81=\"AZIONE_3\",$R81=6),'3 - SPECIE DA IMPIANTARE'!$I82,\"\")","v":""}]
[1,{"$f":"IF('3 - SPECIE DA IMPIANTARE'!$H83=\"AZIONE_3\",'3 - SPECIE DA IMPIANTARE'!$H83,\"\")","v":""},{"$f":"IF('3 - SPECIE DA IMPIANTARE'!$G83=1,'3 - SPECIE DA IMPIANTARE'!$G83,\"\")","v":""},{"$f":"IF(AND($B82=\"AZIONE_3\",C82=1),'3 - SPECIE DA IMPIANTARE'!$I83,\"\")","v":""},null,{"$f":"IF('3 - SPECIE DA IMPIANTARE'!$G83=2,'3 - SPECIE DA IMPIANTARE'!$G83,\"\")","v":""},{"$f":"IF(AND($B82=\"AZIONE_3\",F82=2),'3 - SPECIE DA IMPIANTARE'!$I83,\"\")","v":""},null,{"$f":"IF('3 - SPECIE DA IMPIANTARE'!$G83=3,'3 - SPECIE DA IMPIANTARE'!$G83,\"\")","v":""},{"$f":"IF(AND($B82=\"AZIONE_3\",$I82=3),'3 - SPECIE DA IMPIANTARE'!$I83,\"\")","v":""},null,{"$f":"IF('3 - SPECIE DA IMPIANTARE'!$G83=4,'3 - SPECIE DA IMPIANTARE'!$G83,\"\")","v":""},{"$f":"IF(AND($B82=\"AZIONE_3\",$L82=4),'3 - SPECIE DA IMPIANTARE'!$I83,\"\")","v":""},null,{"$f":"IF('3 - SPECIE DA IMPIANTARE'!$G83=5,'3 - SPECIE DA IMPIANTARE'!$G83,\"\")","v":""},{"$f":"IF(AND($B82=\"AZIONE_3\",$O82=5),'3 - SPECIE DA IMPIANTARE'!$I83,\"\")","v":""},null,{"$f":"IF('3 - SPECIE DA IMPIANTARE'!$G83=6,'3 - SPECIE DA IMPIANTARE'!$G83,\"\")","v":""},{"$f":"IF(AND($B82=\"AZIONE_3\",$R82=6),'3 - SPECIE DA IMPIANTARE'!$I83,\"\")","v":""}]
[1,{"$f":"IF('3 - SPECIE DA IMPIANTARE'!$H84=\"AZIONE_3\",'3 - SPECIE DA IMPIANTARE'!$H84,\"\")","v":""},{"$f":"IF('3 - SPECIE DA IMPIANTARE'!$G84=1,'3 - SPECIE DA IMPIANTARE'!$G84,\"\")","v":""},{"$f":"IF(AND($B83=\"AZIONE_3\",C83=1),'3 - SPECIE DA IMPIANTARE'!$I84,\"\")","v":""},null,{"$f":"IF('3 - SPECIE DA IMPIANTARE'!$G84=2,'3 - SPECIE DA IMPIANTARE'!$G84,\"\")","v":""},{"$f":"IF(AND($B83=\"AZIONE_3\",F83=2),'3 - SPECIE DA IMPIANTARE'!$I84,\"\")","v":""},null,{"$f":"IF('3 - SPECIE DA IMPIANTARE'!$G84=3,'3 - SPECIE DA IMPIANTARE'!$G84,\"\")","v":""},{"$f":"IF(AND($B83=\"AZIONE_3\",$I83=3),'3 - SPECIE DA IMPIANTARE'!$I84,\"\")","v":""},null,{"$f":"IF('3 - SPECIE DA IMPIANTARE'!$G84=4,'3 - SPECIE DA IMPIANTARE'!$G84,\"\")","v":""},{"$f":"IF(AND($B83=\"AZIONE_3\",$L83=4),'3 - SPECIE DA IMPIANTARE'!$I84,\"\")","v":""},null,{"$f":"IF('3 - SPECIE DA IMPIANTARE'!$G84=5,'3 - SPECIE DA IMPIANTARE'!$G84,\"\")","v":""},{"$f":"IF(AND($B83=\"AZIONE_3\",$O83=5),'3 - SPECIE DA IMPIANTARE'!$I84,\"\")","v":""},null,{"$f":"IF('3 - SPECIE DA IMPIANTARE'!$G84=6,'3 - SPECIE DA IMPIANTARE'!$G84,\"\")","v":""},{"$f":"IF(AND($B83=\"AZIONE_3\",$R83=6),'3 - SPECIE DA IMPIANTARE'!$I84,\"\")","v":""}]
[1,{"$f":"IF('3 - SPECIE DA IMPIANTARE'!$H85=\"AZIONE_3\",'3 - SPECIE DA IMPIANTARE'!$H85,\"\")","v":""},{"$f":"IF('3 - SPECIE DA IMPIANTARE'!$G85=1,'3 - SPECIE DA IMPIANTARE'!$G85,\"\")","v":""},{"$f":"IF(AND($B84=\"AZIONE_3\",C84=1),'3 - SPECIE DA IMPIANTARE'!$I85,\"\")","v":""},null,{"$f":"IF('3 - SPECIE DA IMPIANTARE'!$G85=2,'3 - SPECIE DA IMPIANTARE'!$G85,\"\")","v":""},{"$f":"IF(AND($B84=\"AZIONE_3\",F84=2),'3 - SPECIE DA IMPIANTARE'!$I85,\"\")","v":""},null,{"$f":"IF('3 - SPECIE DA IMPIANTARE'!$G85=3,'3 - SPECIE DA IMPIANTARE'!$G85,\"\")","v":""},{"$f":"IF(AND($B84=\"AZIONE_3\",$I84=3),'3 - SPECIE DA IMPIANTARE'!$I85,\"\")","v":""},null,{"$f":"IF('3 - SPECIE DA IMPIANTARE'!$G85=4,'3 - SPECIE DA IMPIANTARE'!$G85,\"\")","v":""},{"$f":"IF(AND($B84=\"AZIONE_3\",$L84=4),'3 - SPECIE DA IMPIANTARE'!$I85,\"\")","v":""},null,{"$f":"IF('3 - SPECIE DA IMPIANTARE'!$G85=5,'3 - SPECIE DA IMPIANTARE'!$G85,\"\")","v":""},{"$f":"IF(AND($B84=\"AZIONE_3\",$O84=5),'3 - SPECIE DA IMPIANTARE'!$I85,\"\")","v":""},null,{"$f":"IF('3 - SPECIE DA IMPIANTARE'!$G85=6,'3 - SPECIE DA IMPIANTARE'!$G85,\"\")","v":""},{"$f":"IF(AND($B84=\"AZIONE_3\",$R84=6),'3 - SPECIE DA IMPIANTARE'!$I85,\"\")","v":""}]
[1,{"$f":"IF('3 - SPECIE DA IMPIANTARE'!$H86=\"AZIONE_3\",'3 - SPECIE DA IMPIANTARE'!$H86,\"\")","v":""},{"$f":"IF('3 - SPECIE DA IMPIANTARE'!$G86=1,'3 - SPECIE DA IMPIANTARE'!$G86,\"\")","v":""},{"$f":"IF(AND($B85=\"AZIONE_3\",C85=1),'3 - SPECIE DA IMPIANTARE'!$I86,\"\")","v":""},null,{"$f":"IF('3 - SPECIE DA IMPIANTARE'!$G86=2,'3 - SPECIE DA IMPIANTARE'!$G86,\"\")","v":""},{"$f":"IF(AND($B85=\"AZIONE_3\",F85=2),'3 - SPECIE DA IMPIANTARE'!$I86,\"\")","v":""},null,{"$f":"IF('3 - SPECIE DA IMPIANTARE'!$G86=3,'3 - SPECIE DA IMPIANTARE'!$G86,\"\")","v":""},{"$f":"IF(AND($B85=\"AZIONE_3\",$I85=3),'3 - SPECIE DA IMPIANTARE'!$I86,\"\")","v":""},null,{"$f":"IF('3 - SPECIE DA IMPIANTARE'!$G86=4,'3 - SPECIE DA IMPIANTARE'!$G86,\"\")","v":""},{"$f":"IF(AND($B85=\"AZIONE_3\",$L85=4),'3 - SPECIE DA IMPIANTARE'!$I86,\"\")","v":""},null,{"$f":"IF('3 - SPECIE DA IMPIANTARE'!$G86=5,'3 - SPECIE DA IMPIANTARE'!$G86,\"\")","v":""},{"$f":"IF(AND($B85=\"AZIONE_3\",$O85=5),'3 - SPECIE DA IMPIANTARE'!$I86,\"\")","v":""},null,{"$f":"IF('3 - SPECIE DA IMPIANTARE'!$G86=6,'3 - SPECIE DA IMPIANTARE'!$G86,\"\")","v":""},{"$f":"IF(AND($B85=\"AZIONE_3\",$R85=6),'3 - SPECIE DA IMPIANTARE'!$I86,\"\")","v":""}]
[1,{"$f":"IF('3 - SPECIE DA IMPIANTARE'!$H87=\"AZIONE_3\",'3 - SPECIE DA IMPIANTARE'!$H87,\"\")","v":""},{"$f":"IF('3 - SPECIE DA IMPIANTARE'!$G87=1,'3 - SPECIE DA IMPIANTARE'!$G87,\"\")","v":""},{"$f":"IF(AND($B86=\"AZIONE_3\",C86=1),'3 - SPECIE DA IMPIANTARE'!$I87,\"\")","v":""},null,{"$f":"IF('3 - SPECIE DA IMPIANTARE'!$G87=2,'3 - SPECIE DA IMPIANTARE'!$G87,\"\")","v":""},{"$f":"IF(AND($B86=\"AZIONE_3\",F86=2),'3 - SPECIE DA IMPIANTARE'!$I87,\"\")","v":""},null,{"$f":"IF('3 - SPECIE DA IMPIANTARE'!$G87=3,'3 - SPECIE DA IMPIANTARE'!$G87,\"\")","v":""},{"$f":"IF(AND($B86=\"AZIONE_3\",$I86=3),'3 - SPECIE DA IMPIANTARE'!$I87,\"\")","v":""},null,{"$f":"IF('3 - SPECIE DA IMPIANTARE'!$G87=4,'3 - SPECIE DA IMPIANTARE'!$G87,\"\")","v":""},{"$f":"IF(AND($B86=\"AZIONE_3\",$L86=4),'3 - SPECIE DA IMPIANTARE'!$I87,\"\")","v":""},null,{"$f":"IF('3 - SPECIE DA IMPIANTARE'!$G87=5,'3 - SPECIE DA IMPIANTARE'!$G87,\"\")","v":""},{"$f":"IF(AND($B86=\"AZIONE_3\",$O86=5),'3 - SPECIE DA IMPIANTARE'!$I87,\"\")","v":""},null,{"$f":"IF('3 - SPECIE DA IMPIANTARE'!$G87=6,'3 - SPECIE DA IMPIANTARE'!$G87,\"\")","v":""},{"$f":"IF(AND($B86=\"AZIONE_3\",$R86=6),'3 - SPECIE DA IMPIANTARE'!$I87,\"\")","v":""}]
[1,{"$f":"IF('3 - SPECIE DA IMPIANTARE'!$H88=\"AZIONE_3\",'3 - SPECIE DA IMPIANTARE'!$H88,\"\")","v":""},{"$f":"IF('3 - SPECIE DA IMPIANTARE'!$G88=1,'3 - SPECIE DA IMPIANTARE'!$G88,\"\")","v":""},{"$f":"IF(AND($B87=\"AZIONE_3\",C87=1),'3 - SPECIE DA IMPIANTARE'!$I88,\"\")","v":""},null,{"$f":"IF('3 - SPECIE DA IMPIANTARE'!$G88=2,'3 - SPECIE DA IMPIANTARE'!$G88,\"\")","v":""},{"$f":"IF(AND($B87=\"AZIONE_3\",F87=2),'3 - SPECIE DA IMPIANTARE'!$I88,\"\")","v":""},null,{"$f":"IF('3 - SPECIE DA IMPIANTARE'!$G88=3,'3 - SPECIE DA IMPIANTARE'!$G88,\"\")","v":""},{"$f":"IF(AND($B87=\"AZIONE_3\",$I87=3),'3 - SPECIE DA IMPIANTARE'!$I88,\"\")","v":""},null,{"$f":"IF('3 - SPECIE DA IMPIANTARE'!$G88=4,'3 - SPECIE DA IMPIANTARE'!$G88,\"\")","v":""},{"$f":"IF(AND($B87=\"AZIONE_3\",$L87=4),'3 - SPECIE DA IMPIANTARE'!$I88,\"\")","v":""},null,{"$f":"IF('3 - SPECIE DA IMPIANTARE'!$G88=5,'3 - SPECIE DA IMPIANTARE'!$G88,\"\")","v":""},{"$f":"IF(AND($B87=\"AZIONE_3\",$O87=5),'3 - SPECIE DA IMPIANTARE'!$I88,\"\")","v":""},null,{"$f":"IF('3 - SPECIE DA IMPIANTARE'!$G88=6,'3 - SPECIE DA IMPIANTARE'!$G88,\"\")","v":""},{"$f":"IF(AND($B87=\"AZIONE_3\",$R87=6),'3 - SPECIE DA IMPIANTARE'!$I88,\"\")","v":""}]
[1,{"$f":"IF('3 - SPECIE DA IMPIANTARE'!$H89=\"AZIONE_3\",'3 - SPECIE DA IMPIANTARE'!$H89,\"\")","v":""},{"$f":"IF('3 - SPECIE DA IMPIANTARE'!$G89=1,'3 - SPECIE DA IMPIANTARE'!$G89,\"\")","v":""},{"$f":"IF(AND($B88=\"AZIONE_3\",C88=1),'3 - SPECIE DA IMPIANTARE'!$I89,\"\")","v":""},null,{"$f":"IF('3 - SPECIE DA IMPIANTARE'!$G89=2,'3 - SPECIE DA IMPIANTARE'!$G89,\"\")","v":""},{"$f":"IF(AND($B88=\"AZIONE_3\",F88=2),'3 - SPECIE DA IMPIANTARE'!$I89,\"\")","v":""},null,{"$f":"IF('3 - SPECIE DA IMPIANTARE'!$G89=3,'3 - SPECIE DA IMPIANTARE'!$G89,\"\")","v":""},{"$f":"IF(AND($B88=\"AZIONE_3\",$I88=3),'3 - SPECIE DA IMPIANTARE'!$I89,\"\")","v":""},null,{"$f":"IF('3 - SPECIE DA IMPIANTARE'!$G89=4,'3 - SPECIE DA IMPIANTARE'!$G89,\"\")","v":""},{"$f":"IF(AND($B88=\"AZIONE_3\",$L88=4),'3 - SPECIE DA IMPIANTARE'!$I89,\"\")","v":""},null,{"$f":"IF('3 - SPECIE DA IMPIANTARE'!$G89=5,'3 - SPECIE DA IMPIANTARE'!$G89,\"\")","v":""},{"$f":"IF(AND($B88=\"AZIONE_3\",$O88=5),'3 - SPECIE DA IMPIANTARE'!$I89,\"\")","v":""},null,{"$f":"IF('3 - SPECIE DA IMPIANTARE'!$G89=6,'3 - SPECIE DA IMPIANTARE'!$G89,\"\")","v":""},{"$f":"IF(AND($B88=\"AZIONE_3\",$R88=6),'3 - SPECIE DA IMPIANTARE'!$I89,\"\")","v":""}]
[1,{"$f":"IF('3 - SPECIE DA IMPIANTARE'!$H90=\"AZIONE_3\",'3 - SPECIE DA IMPIANTARE'!$H90,\"\")","v":""},{"$f":"IF('3 - SPECIE DA IMPIANTARE'!$G90=1,'3 - SPECIE DA IMPIANTARE'!$G90,\"\")","v":""},{"$f":"IF(AND($B89=\"AZIONE_3\",C89=1),'3 - SPECIE DA IMPIANTARE'!$I90,\"\")","v":""},null,{"$f":"IF('3 - SPECIE DA IMPIANTARE'!$G90=2,'3 - SPECIE DA IMPIANTARE'!$G90,\"\")","v":""},{"$f":"IF(AND($B89=\"AZIONE_3\",F89=2),'3 - SPECIE DA IMPIANTARE'!$I90,\"\")","v":""},null,{"$f":"IF('3 - SPECIE DA IMPIANTARE'!$G90=3,'3 - SPECIE DA IMPIANTARE'!$G90,\"\")","v":""},{"$f":"IF(AND($B89=\"AZIONE_3\",$I89=3),'3 - SPECIE DA IMPIANTARE'!$I90,\"\")","v":""},null,{"$f":"IF('3 - SPECIE DA IMPIANTARE'!$G90=4,'3 - SPECIE DA IMPIANTARE'!$G90,\"\")","v":""},{"$f":"IF(AND($B89=\"AZIONE_3\",$L89=4),'3 - SPECIE DA IMPIANTARE'!$I90,\"\")","v":""},null,{"$f":"IF('3 - SPECIE DA IMPIANTARE'!$G90=5,'3 - SPECIE DA IMPIANTARE'!$G90,\"\")","v":""},{"$f":"IF(AND($B89=\"AZIONE_3\",$O89=5),'3 - SPECIE DA IMPIANTARE'!$I90,\"\")","v":""},null,{"$f":"IF('3 - SPECIE DA IMPIANTARE'!$G90=6,'3 - SPECIE DA IMPIANTARE'!$G90,\"\")","v":""},{"$f":"IF(AND($B89=\"AZIONE_3\",$R89=6),'3 - SPECIE DA IMPIANTARE'!$I90,\"\")","v":""}]
[1,{"$f":"IF('3 - SPECIE DA IMPIANTARE'!$H91=\"AZIONE_3\",'3 - SPECIE DA IMPIANTARE'!$H91,\"\")","v":""},{"$f":"IF('3 - SPECIE DA IMPIANTARE'!$G91=1,'3 - SPECIE DA IMPIANTARE'!$G91,\"\")","v":""},{"$f":"IF(AND($B90=\"AZIONE_3\",C90=1),'3 - SPECIE DA IMPIANTARE'!$I91,\"\")","v":""},null,{"$f":"IF('3 - SPECIE DA IMPIANTARE'!$G91=2,'3 - SPECIE DA IMPIANTARE'!$G91,\"\")","v":""},{"$f":"IF(AND($B90=\"AZIONE_3\",F90=2),'3 - SPECIE DA IMPIANTARE'!$I91,\"\")","v":""},null,{"$f":"IF('3 - SPECIE DA IMPIANTARE'!$G91=3,'3 - SPECIE DA IMPIANTARE'!$G91,\"\")","v":""},{"$f":"IF(AND($B90=\"AZIONE_3\",$I90=3),'3 - SPECIE DA IMPIANTARE'!$I91,\"\")","v":""},null,{"$f":"IF('3 - SPECIE DA IMPIANTARE'!$G91=4,'3 - SPECIE DA IMPIANTARE'!$G91,\"\")","v":""},{"$f":"IF(AND($B90=\"AZIONE_3\",$L90=4),'3 - SPECIE DA IMPIANTARE'!$I91,\"\")","v":""},null,{"$f":"IF('3 - SPECIE DA IMPIANTARE'!$G91=5,'3 - SPECIE DA IMPIANTARE'!$G91,\"\")","v":""},{"$f":"IF(AND($B90=\"AZIONE_3\",$O90=5),'3 - SPECIE DA IMPIANTARE'!$I91,\"\")","v":""},null,{"$f":"IF('3 - SPECIE DA IMPIANTARE'!$G91=6,'3 - SPECIE DA IMPIANTARE'!$G91,\"\")","v":""},{"$f":"IF(AND($B90=\"AZIONE_3\",$R90=6),'3 - SPECIE DA IMPIANTARE'!$I91,\"\")","v":""}]
[1,{"$f":"IF('3 - SPECIE DA IMPIANTARE'!$H92=\"AZIONE_3\",'3 - SPECIE DA IMPIANTARE'!$H92,\"\")","v":""},{"$f":"IF('3 - SPECIE DA IMPIANTARE'!$G92=1,'3 - SPECIE DA IMPIANTARE'!$G92,\"\")","v":""},{"$f":"IF(AND($B91=\"AZIONE_3\",C91=1),'3 - SPECIE DA IMPIANTARE'!$I92,\"\")","v":""},null,{"$f":"IF('3 - SPECIE DA IMPIANTARE'!$G92=2,'3 - SPECIE DA IMPIANTARE'!$G92,\"\")","v":""},{"$f":"IF(AND($B91=\"AZIONE_3\",F91=2),'3 - SPECIE DA IMPIANTARE'!$I92,\"\")","v":""},null,{"$f":"IF('3 - SPECIE DA IMPIANTARE'!$G92=3,'3 - SPECIE DA IMPIANTARE'!$G92,\"\")","v":""},{"$f":"IF(AND($B91=\"AZIONE_3\",$I91=3),'3 - SPECIE DA IMPIANTARE'!$I92,\"\")","v":""},null,{"$f":"IF('3 - SPECIE DA IMPIANTARE'!$G92=4,'3 - SPECIE DA IMPIANTARE'!$G92,\"\")","v":""},{"$f":"IF(AND($B91=\"AZIONE_3\",$L91=4),'3 - SPECIE DA IMPIANTARE'!$I92,\"\")","v":""},null,{"$f":"IF('3 - SPECIE DA IMPIANTARE'!$G92=5,'3 - SPECIE DA IMPIANTARE'!$G92,\"\")","v":""},{"$f":"IF(AND($B91=\"AZIONE_3\",$O91=5),'3 - SPECIE DA IMPIANTARE'!$I92,\"\")","v":""},null,{"$f":"IF('3 - SPECIE DA IMPIANTARE'!$G92=6,'3 - SPECIE DA IMPIANTARE'!$G92,\"\")","v":""},{"$f":"IF(AND($B91=\"AZIONE_3\",$R91=6),'3 - SPECIE DA IMPIANTARE'!$I92,\"\")","v":""}]
[1,{"$f":"IF('3 - SPECIE DA IMPIANTARE'!$H93=\"AZIONE_3\",'3 - SPECIE DA IMPIANTARE'!$H93,\"\")","v":""},{"$f":"IF('3 - SPECIE DA IMPIANTARE'!$G93=1,'3 - SPECIE DA IMPIANTARE'!$G93,\"\")","v":""},{"$f":"IF(AND($B92=\"AZIONE_3\",C92=1),'3 - SPECIE DA IMPIANTARE'!$I93,\"\")","v":""},null,{"$f":"IF('3 - SPECIE DA IMPIANTARE'!$G93=2,'3 - SPECIE DA IMPIANTARE'!$G93,\"\")","v":""},{"$f":"IF(AND($B92=\"AZIONE_3\",F92=2),'3 - SPECIE DA IMPIANTARE'!$I93,\"\")","v":""},null,{"$f":"IF('3 - SPECIE DA IMPIANTARE'!$G93=3,'3 - SPECIE DA IMPIANTARE'!$G93,\"\")","v":""},{"$f":"IF(AND($B92=\"AZIONE_3\",$I92=3),'3 - SPECIE DA IMPIANTARE'!$I93,\"\")","v":""},null,{"$f":"IF('3 - SPECIE DA IMPIANTARE'!$G93=4,'3 - SPECIE DA IMPIANTARE'!$G93,\"\")","v":""},{"$f":"IF(AND($B92=\"AZIONE_3\",$L92=4),'3 - SPECIE DA IMPIANTARE'!$I93,\"\")","v":""},null,{"$f":"IF('3 - SPECIE DA IMPIANTARE'!$G93=5,'3 - SPECIE DA IMPIANTARE'!$G93,\"\")","v":""},{"$f":"IF(AND($B92=\"AZIONE_3\",$O92=5),'3 - SPECIE DA IMPIANTARE'!$I93,\"\")","v":""},null,{"$f":"IF('3 - SPECIE DA IMPIANTARE'!$G93=6,'3 - SPECIE DA IMPIANTARE'!$G93,\"\")","v":""},{"$f":"IF(AND($B92=\"AZIONE_3\",$R92=6),'3 - SPECIE DA IMPIANTARE'!$I93,\"\")","v":""}]
[1,{"$f":"IF('3 - SPECIE DA IMPIANTARE'!$H94=\"AZIONE_3\",'3 - SPECIE DA IMPIANTARE'!$H94,\"\")","v":""},{"$f":"IF('3 - SPECIE DA IMPIANTARE'!$G94=1,'3 - SPECIE DA IMPIANTARE'!$G94,\"\")","v":""},{"$f":"IF(AND($B93=\"AZIONE_3\",C93=1),'3 - SPECIE DA IMPIANTARE'!$I94,\"\")","v":""},null,{"$f":"IF('3 - SPECIE DA IMPIANTARE'!$G94=2,'3 - SPECIE DA IMPIANTARE'!$G94,\"\")","v":""},{"$f":"IF(AND($B93=\"AZIONE_3\",F93=2),'3 - SPECIE DA IMPIANTARE'!$I94,\"\")","v":""},null,{"$f":"IF('3 - SPECIE DA IMPIANTARE'!$G94=3,'3 - SPECIE DA IMPIANTARE'!$G94,\"\")","v":""},{"$f":"IF(AND($B93=\"AZIONE_3\",$I93=3),'3 - SPECIE DA IMPIANTARE'!$I94,\"\")","v":""},null,{"$f":"IF('3 - SPECIE DA IMPIANTARE'!$G94=4,'3 - SPECIE DA IMPIANTARE'!$G94,\"\")","v":""},{"$f":"IF(AND($B93=\"AZIONE_3\",$L93=4),'3 - SPECIE DA IMPIANTARE'!$I94,\"\")","v":""},null,{"$f":"IF('3 - SPECIE DA IMPIANTARE'!$G94=5,'3 - SPECIE DA IMPIANTARE'!$G94,\"\")","v":""},{"$f":"IF(AND($B93=\"AZIONE_3\",$O93=5),'3 - SPECIE DA IMPIANTARE'!$I94,\"\")","v":""},null,{"$f":"IF('3 - SPECIE DA IMPIANTARE'!$G94=6,'3 - SPECIE DA IMPIANTARE'!$G94,\"\")","v":""},{"$f":"IF(AND($B93=\"AZIONE_3\",$R93=6),'3 - SPECIE DA IMPIANTARE'!$I94,\"\")","v":""}]
[1,{"$f":"IF('3 - SPECIE DA IMPIANTARE'!$H95=\"AZIONE_3\",'3 - SPECIE DA IMPIANTARE'!$H95,\"\")","v":""},{"$f":"IF('3 - SPECIE DA IMPIANTARE'!$G95=1,'3 - SPECIE DA IMPIANTARE'!$G95,\"\")","v":""},{"$f":"IF(AND($B94=\"AZIONE_3\",C94=1),'3 - SPECIE DA IMPIANTARE'!$I95,\"\")","v":""},null,{"$f":"IF('3 - SPECIE DA IMPIANTARE'!$G95=2,'3 - SPECIE DA IMPIANTARE'!$G95,\"\")","v":""},{"$f":"IF(AND($B94=\"AZIONE_3\",F94=2),'3 - SPECIE DA IMPIANTARE'!$I95,\"\")","v":""},null,{"$f":"IF('3 - SPECIE DA IMPIANTARE'!$G95=3,'3 - SPECIE DA IMPIANTARE'!$G95,\"\")","v":""},{"$f":"IF(AND($B94=\"AZIONE_3\",$I94=3),'3 - SPECIE DA IMPIANTARE'!$I95,\"\")","v":""},null,{"$f":"IF('3 - SPECIE DA IMPIANTARE'!$G95=4,'3 - SPECIE DA IMPIANTARE'!$G95,\"\")","v":""},{"$f":"IF(AND($B94=\"AZIONE_3\",$L94=4),'3 - SPECIE DA IMPIANTARE'!$I95,\"\")","v":""},null,{"$f":"IF('3 - SPECIE DA IMPIANTARE'!$G95=5,'3 - SPECIE DA IMPIANTARE'!$G95,\"\")","v":""},{"$f":"IF(AND($B94=\"AZIONE_3\",$O94=5),'3 - SPECIE DA IMPIANTARE'!$I95,\"\")","v":""},null,{"$f":"IF('3 - SPECIE DA IMPIANTARE'!$G95=6,'3 - SPECIE DA IMPIANTARE'!$G95,\"\")","v":""},{"$f":"IF(AND($B94=\"AZIONE_3\",$R94=6),'3 - SPECIE DA IMPIANTARE'!$I95,\"\")","v":""}]
[1,{"$f":"IF('3 - SPECIE DA IMPIANTARE'!$H96=\"AZIONE_3\",'3 - SPECIE DA IMPIANTARE'!$H96,\"\")","v":""},{"$f":"IF('3 - SPECIE DA IMPIANTARE'!$G96=1,'3 - SPECIE DA IMPIANTARE'!$G96,\"\")","v":""},{"$f":"IF(AND($B95=\"AZIONE_3\",C95=1),'3 - SPECIE DA IMPIANTARE'!$I96,\"\")","v":""},null,{"$f":"IF('3 - SPECIE DA IMPIANTARE'!$G96=2,'3 - SPECIE DA IMPIANTARE'!$G96,\"\")","v":""},{"$f":"IF(AND($B95=\"AZIONE_3\",F95=2),'3 - SPECIE DA IMPIANTARE'!$I96,\"\")","v":""},null,{"$f":"IF('3 - SPECIE DA IMPIANTARE'!$G96=3,'3 - SPECIE DA IMPIANTARE'!$G96,\"\")","v":""},{"$f":"IF(AND($B95=\"AZIONE_3\",$I95=3),'3 - SPECIE DA IMPIANTARE'!$I96,\"\")","v":""},null,{"$f":"IF('3 - SPECIE DA IMPIANTARE'!$G96=4,'3 - SPECIE DA IMPIANTARE'!$G96,\"\")","v":""},{"$f":"IF(AND($B95=\"AZIONE_3\",$L95=4),'3 - SPECIE DA IMPIANTARE'!$I96,\"\")","v":""},null,{"$f":"IF('3 - SPECIE DA IMPIANTARE'!$G96=5,'3 - SPECIE DA IMPIANTARE'!$G96,\"\")","v":""},{"$f":"IF(AND($B95=\"AZIONE_3\",$O95=5),'3 - SPECIE DA IMPIANTARE'!$I96,\"\")","v":""},null,{"$f":"IF('3 - SPECIE DA IMPIANTARE'!$G96=6,'3 - SPECIE DA IMPIANTARE'!$G96,\"\")","v":""},{"$f":"IF(AND($B95=\"AZIONE_3\",$R95=6),'3 - SPECIE DA IMPIANTARE'!$I96,\"\")","v":""}]
[1,{"$f":"IF('3 - SPECIE DA IMPIANTARE'!$H97=\"AZIONE_3\",'3 - SPECIE DA IMPIANTARE'!$H97,\"\")","v":""},{"$f":"IF('3 - SPECIE DA IMPIANTARE'!$G97=1,'3 - SPECIE DA IMPIANTARE'!$G97,\"\")","v":""},{"$f":"IF(AND($B96=\"AZIONE_3\",C96=1),'3 - SPECIE DA IMPIANTARE'!$I97,\"\")","v":""},null,{"$f":"IF('3 - SPECIE DA IMPIANTARE'!$G97=2,'3 - SPECIE DA IMPIANTARE'!$G97,\"\")","v":""},{"$f":"IF(AND($B96=\"AZIONE_3\",F96=2),'3 - SPECIE DA IMPIANTARE'!$I97,\"\")","v":""},null,{"$f":"IF('3 - SPECIE DA IMPIANTARE'!$G97=3,'3 - SPECIE DA IMPIANTARE'!$G97,\"\")","v":""},{"$f":"IF(AND($B96=\"AZIONE_3\",$I96=3),'3 - SPECIE DA IMPIANTARE'!$I97,\"\")","v":""},null,{"$f":"IF('3 - SPECIE DA IMPIANTARE'!$G97=4,'3 - SPECIE DA IMPIANTARE'!$G97,\"\")","v":""},{"$f":"IF(AND($B96=\"AZIONE_3\",$L96=4),'3 - SPECIE DA IMPIANTARE'!$I97,\"\")","v":""},null,{"$f":"IF('3 - SPECIE DA IMPIANTARE'!$G97=5,'3 - SPECIE DA IMPIANTARE'!$G97,\"\")","v":""},{"$f":"IF(AND($B96=\"AZIONE_3\",$O96=5),'3 - SPECIE DA IMPIANTARE'!$I97,\"\")","v":""},null,{"$f":"IF('3 - SPECIE DA IMPIANTARE'!$G97=6,'3 - SPECIE DA IMPIANTARE'!$G97,\"\")","v":""},{"$f":"IF(AND($B96=\"AZIONE_3\",$R96=6),'3 - SPECIE DA IMPIANTARE'!$I97,\"\")","v":""}]
[1,{"$f":"IF('3 - SPECIE DA IMPIANTARE'!$H98=\"AZIONE_3\",'3 - SPECIE DA IMPIANTARE'!$H98,\"\")","v":""},{"$f":"IF('3 - SPECIE DA IMPIANTARE'!$G98=1,'3 - SPECIE DA IMPIANTARE'!$G98,\"\")","v":""},{"$f":"IF(AND($B97=\"AZIONE_3\",C97=1),'3 - SPECIE DA IMPIANTARE'!$I98,\"\")","v":""},null,{"$f":"IF('3 - SPECIE DA IMPIANTARE'!$G98=2,'3 - SPECIE DA IMPIANTARE'!$G98,\"\")","v":""},{"$f":"IF(AND($B97=\"AZIONE_3\",F97=2),'3 - SPECIE DA IMPIANTARE'!$I98,\"\")","v":""},null,{"$f":"IF('3 - SPECIE DA IMPIANTARE'!$G98=3,'3 - SPECIE DA IMPIANTARE'!$G98,\"\")","v":""},{"$f":"IF(AND($B97=\"AZIONE_3\",$I97=3),'3 - SPECIE DA IMPIANTARE'!$I98,\"\")","v":""},null,{"$f":"IF('3 - SPECIE DA IMPIANTARE'!$G98=4,'3 - SPECIE DA IMPIANTARE'!$G98,\"\")","v":""},{"$f":"IF(AND($B97=\"AZIONE_3\",$L97=4),'3 - SPECIE DA IMPIANTARE'!$I98,\"\")","v":""},null,{"$f":"IF('3 - SPECIE DA IMPIANTARE'!$G98=5,'3 - SPECIE DA IMPIANTARE'!$G98,\"\")","v":""},{"$f":"IF(AND($B97=\"AZIONE_3\",$O97=5),'3 - SPECIE DA IMPIANTARE'!$I98,\"\")","v":""},null,{"$f":"IF('3 - SPECIE DA IMPIANTARE'!$G98=6,'3 - SPECIE DA IMPIANTARE'!$G98,\"\")","v":""},{"$f":"IF(AND($B97=\"AZIONE_3\",$R97=6),'3 - SPECIE DA IMPIANTARE'!$I98,\"\")","v":""}]
[1,{"$f":"IF('3 - SPECIE DA IMPIANTARE'!$H99=\"AZIONE_3\",'3 - SPECIE DA IMPIANTARE'!$H99,\"\")","v":""},{"$f":"IF('3 - SPECIE DA IMPIANTARE'!$G99=1,'3 - SPECIE DA IMPIANTARE'!$G99,\"\")","v":""},{"$f":"IF(AND($B98=\"AZIONE_3\",C98=1),'3 - SPECIE DA IMPIANTARE'!$I99,\"\")","v":""},null,{"$f":"IF('3 - SPECIE DA IMPIANTARE'!$G99=2,'3 - SPECIE DA IMPIANTARE'!$G99,\"\")","v":""},{"$f":"IF(AND($B98=\"AZIONE_3\",F98=2),'3 - SPECIE DA IMPIANTARE'!$I99,\"\")","v":""},null,{"$f":"IF('3 - SPECIE DA IMPIANTARE'!$G99=3,'3 - SPECIE DA IMPIANTARE'!$G99,\"\")","v":""},{"$f":"IF(AND($B98=\"AZIONE_3\",$I98=3),'3 - SPECIE DA IMPIANTARE'!$I99,\"\")","v":""},null,{"$f":"IF('3 - SPECIE DA IMPIANTARE'!$G99=4,'3 - SPECIE DA IMPIANTARE'!$G99,\"\")","v":""},{"$f":"IF(AND($B98=\"AZIONE_3\",$L98=4),'3 - SPECIE DA IMPIANTARE'!$I99,\"\")","v":""},null,{"$f":"IF('3 - SPECIE DA IMPIANTARE'!$G99=5,'3 - SPECIE DA IMPIANTARE'!$G99,\"\")","v":""},{"$f":"IF(AND($B98=\"AZIONE_3\",$O98=5),'3 - SPECIE DA IMPIANTARE'!$I99,\"\")","v":""},null,{"$f":"IF('3 - SPECIE DA IMPIANTARE'!$G99=6,'3 - SPECIE DA IMPIANTARE'!$G99,\"\")","v":""},{"$f":"IF(AND($B98=\"AZIONE_3\",$R98=6),'3 - SPECIE DA IMPIANTARE'!$I99,\"\")","v":""}]
[1,{"$f":"IF('3 - SPECIE DA IMPIANTARE'!$H100=\"AZIONE_3\",'3 - SPECIE DA IMPIANTARE'!$H100,\"\")","v":""},{"$f":"IF('3 - SPECIE DA IMPIANTARE'!$G100=1,'3 - SPECIE DA IMPIANTARE'!$G100,\"\")","v":""},{"$f":"IF(AND($B99=\"AZIONE_3\",C99=1),'3 - SPECIE DA IMPIANTARE'!$I100,\"\")","v":""},null,{"$f":"IF('3 - SPECIE DA IMPIANTARE'!$G100=2,'3 - SPECIE DA IMPIANTARE'!$G100,\"\")","v":""},{"$f":"IF(AND($B99=\"AZIONE_3\",F99=2),'3 - SPECIE DA IMPIANTARE'!$I100,\"\")","v":""},null,{"$f":"IF('3 - SPECIE DA IMPIANTARE'!$G100=3,'3 - SPECIE DA IMPIANTARE'!$G100,\"\")","v":""},{"$f":"IF(AND($B99=\"AZIONE_3\",$I99=3),'3 - SPECIE DA IMPIANTARE'!$I100,\"\")","v":""},null,{"$f":"IF('3 - SPECIE DA IMPIANTARE'!$G100=4,'3 - SPECIE DA IMPIANTARE'!$G100,\"\")","v":""},{"$f":"IF(AND($B99=\"AZIONE_3\",$L99=4),'3 - SPECIE DA IMPIANTARE'!$I100,\"\")","v":""},null,{"$f":"IF('3 - SPECIE DA IMPIANTARE'!$G100=5,'3 - SPECIE DA IMPIANTARE'!$G100,\"\")","v":""},{"$f":"IF(AND($B99=\"AZIONE_3\",$O99=5),'3 - SPECIE DA IMPIANTARE'!$I100,\"\")","v":""},null,{"$f":"IF('3 - SPECIE DA IMPIANTARE'!$G100=6,'3 - SPECIE DA IMPIANTARE'!$G100,\"\")","v":""},{"$f":"IF(AND($B99=\"AZIONE_3\",$R99=6),'3 - SPECIE DA IMPIANTARE'!$I100,\"\")","v":""}]
[1,{"$f":"IF('3 - SPECIE DA IMPIANTARE'!$H101=\"AZIONE_3\",'3 - SPECIE DA IMPIANTARE'!$H101,\"\")","v":""},{"$f":"IF('3 - SPECIE DA IMPIANTARE'!$G101=1,'3 - SPECIE DA IMPIANTARE'!$G101,\"\")","v":""},{"$f":"IF(AND($B100=\"AZIONE_3\",C100=1),'3 - SPECIE DA IMPIANTARE'!$I101,\"\")","v":""},null,{"$f":"IF('3 - SPECIE DA IMPIANTARE'!$G101=2,'3 - SPECIE DA IMPIANTARE'!$G101,\"\")","v":""},{"$f":"IF(AND($B100=\"AZIONE_3\",F100=2),'3 - SPECIE DA IMPIANTARE'!$I101,\"\")","v":""},null,{"$f":"IF('3 - SPECIE DA IMPIANTARE'!$G101=3,'3 - SPECIE DA IMPIANTARE'!$G101,\"\")","v":""},{"$f":"IF(AND($B100=\"AZIONE_3\",$I100=3),'3 - SPECIE DA IMPIANTARE'!$I101,\"\")","v":""},null,{"$f":"IF('3 - SPECIE DA IMPIANTARE'!$G101=4,'3 - SPECIE DA IMPIANTARE'!$G101,\"\")","v":""},{"$f":"IF(AND($B100=\"AZIONE_3\",$L100=4),'3 - SPECIE DA IMPIANTARE'!$I101,\"\")","v":""},null,{"$f":"IF('3 - SPECIE DA IMPIANTARE'!$G101=5,'3 - SPECIE DA IMPIANTARE'!$G101,\"\")","v":""},{"$f":"IF(AND($B100=\"AZIONE_3\",$O100=5),'3 - SPECIE DA IMPIANTARE'!$I101,\"\")","v":""},null,{"$f":"IF('3 - SPECIE DA IMPIANTARE'!$G101=6,'3 - SPECIE DA IMPIANTARE'!$G101,\"\")","v":""},{"$f":"IF(AND($B100=\"AZIONE_3\",$R100=6),'3 - SPECIE DA IMPIANTARE'!$I101,\"\")","v":""}]
[1,{"$f":"IF('3 - SPECIE DA IMPIANTARE'!$H102=\"AZIONE_3\",'3 - SPECIE DA IMPIANTARE'!$H102,\"\")","v":""},{"$f":"IF('3 - SPECIE DA IMPIANTARE'!$G102=1,'3 - SPECIE DA IMPIANTARE'!$G102,\"\")","v":""},{"$f":"IF(AND($B101=\"AZIONE_3\",C101=1),'3 - SPECIE DA IMPIANTARE'!$I102,\"\")","v":""},null,{"$f":"IF('3 - SPECIE DA IMPIANTARE'!$G102=2,'3 - SPECIE DA IMPIANTARE'!$G102,\"\")","v":""},{"$f":"IF(AND($B101=\"AZIONE_3\",F101=2),'3 - SPECIE DA IMPIANTARE'!$I102,\"\")","v":""},null,{"$f":"IF('3 - SPECIE DA IMPIANTARE'!$G102=3,'3 - SPECIE DA IMPIANTARE'!$G102,\"\")","v":""},{"$f":"IF(AND($B101=\"AZIONE_3\",$I101=3),'3 - SPECIE DA IMPIANTARE'!$I102,\"\")","v":""},null,{"$f":"IF('3 - SPECIE DA IMPIANTARE'!$G102=4,'3 - SPECIE DA IMPIANTARE'!$G102,\"\")","v":""},{"$f":"IF(AND($B101=\"AZIONE_3\",$L101=4),'3 - SPECIE DA IMPIANTARE'!$I102,\"\")","v":""},null,{"$f":"IF('3 - SPECIE DA IMPIANTARE'!$G102=5,'3 - SPECIE DA IMPIANTARE'!$G102,\"\")","v":""},{"$f":"IF(AND($B101=\"AZIONE_3\",$O101=5),'3 - SPECIE DA IMPIANTARE'!$I102,\"\")","v":""},null,{"$f":"IF('3 - SPECIE DA IMPIANTARE'!$G102=6,'3 - SPECIE DA IMPIANTARE'!$G102,\"\")","v":""},{"$f":"IF(AND($B101=\"AZIONE_3\",$R101=6),'3 - SPECIE DA IMPIANTARE'!$I102,\"\")","v":""}]
[2,{"$f":"B2","v":""},{"$f":"C2","v":""},{"$f":"IF(AND($B102=\"AZIONE_3\",C102=1),'3 - SPECIE DA IMPIANTARE'!$L3,\"\")","v":""},null,{"$f":"F2","v":""},{"$f":"IF(AND($B102=\"AZIONE_3\",F102=2),'3 - SPECIE DA IMPIANTARE'!$L3,\"\")","v":""},null,{"$f":"I2","v":""},{"$f":"IF(AND($B102=\"AZIONE_3\",$I102=3),'3 - SPECIE DA IMPIANTARE'!$L3,\"\")","v":""},null,{"$f":"L2","v":""},{"$f":"IF(AND($B102=\"AZIONE_3\",$L102=4),'3 - SPECIE DA IMPIANTARE'!$L3,\"\")","v":""},null,{"$f":"O2","v":""},{"$f":"IF(AND($B102=\"AZIONE_3\",$O102=5),'3 - SPECIE DA IMPIANTARE'!$L3,\"\")","v":""},null,{"$f":"R2","v":""},{"$f":"IF(AND($B102=\"AZIONE_3\",$R102=6),'3 - SPECIE DA IMPIANTARE'!$L3,\"\")","v":""}]
[2,{"$f":"B3","v":""},"",{"$f":"IF(AND($B103=\"AZIONE_3\",C103=1),'3 - SPECIE DA IMPIANTARE'!$L4,\"\")","v":""},null,{"$f":"F3","v":""},{"$f":"IF(AND($B103=\"AZIONE_3\",F103=2),'3 - SPECIE DA IMPIANTARE'!$L4,\"\")","v":""},null,{"$f":"I3","v":""},{"$f":"IF(AND($B103=\"AZIONE_3\",$I103=3),'3 - SPECIE DA IMPIANTARE'!$L4,\"\")","v":""},null,{"$f":"L3","v":""},{"$f":"IF(AND($B103=\"AZIONE_3\",$L103=4),'3 - SPECIE DA IMPIANTARE'!$L4,\"\")","v":""},null,{"$f":"O3","v":""},{"$f":"IF(AND($B103=\"AZIONE_3\",$O103=5),'3 - SPECIE DA IMPIANTARE'!$L4,\"\")","v":""},null,{"$f":"R3","v":""},{"$f":"IF(AND($B103=\"AZIONE_3\",$R103=6),'3 - SPECIE DA IMPIANTARE'!$L4,\"\")","v":""}]
[2,"","",{"$f":"IF(AND($B104=\"AZIONE_3\",C104=1),'3 - SPECIE DA IMPIANTARE'!$L5,\"\")","v":""},null,"",{"$f":"IF(AND($B104=\"AZIONE_3\",F104=2),'3 - SPECIE DA IMPIANTARE'!$L5,\"\")","v":""},null,"",{"$f":"IF(AND($B104=\"AZIONE_3\",$I104=3),'3 - SPECIE DA IMPIANTARE'!$L5,\"\")","v":""},null,"",{"$f":"IF(AND($B104=\"AZIONE_3\",$L104=4),'3 - SPECIE DA IMPIANTARE'!$L5,\"\")","v":""},null,"",{"$f":"IF(AND($B104=\"AZIONE_3\",$O104=5),'3 - SPECIE DA IMPIANTARE'!$L5,\"\")","v":""},null,"",{"$f":"IF(AND($B104=\"AZIONE_3\",$R104=6),'3 - SPECIE DA IMPIANTARE'!$L5,\"\")","v":""}]
[2,"","",{"$f":"IF(AND($B105=\"AZIONE_3\",C105=1),'3 - SPECIE DA IMPIANTARE'!$L6,\"\")","v":""},null,"",{"$f":"IF(AND($B105=\"AZIONE_3\",F105=2),'3 - SPECIE DA IMPIANTARE'!$L6,\"\")","v":""},null,"",{"$f":"IF(AND($B105=\"AZIONE_3\",$I105=3),'3 - SPECIE DA IMPIANTARE'!$L6,\"\")","v":""},null,"",{"$f":"IF(AND($B105=\"AZIONE_3\",$L105=4),'3 - SPECIE DA IMPIANTARE'!$L6,\"\")","v":""},null,"",{"$f":"IF(AND($B105=\"AZIONE_3\",$O105=5),'3 - SPECIE DA IMPIANTARE'!$L6,\"\")","v":""},null,"",{"$f":"IF(AND($B105=\"AZIONE_3\",$R105=6),'3 - SPECIE DA IMPIANTARE'!$L6,\"\")","v":""}]
[2,"","",{"$f":"IF(AND($B106=\"AZIONE_3\",C106=1),'3 - SPECIE DA IMPIANTARE'!$L7,\"\")","v":""},null,"",{"$f":"IF(AND($B106=\"AZIONE_3\",F106=2),'3 - SPECIE DA IMPIANTARE'!$L7,\"\")","v":""},null,"",{"$f":"IF(AND($B106=\"AZIONE_3\",$I106=3),'3 - SPECIE DA IMPIANTARE'!$L7,\"\")","v":""},null,"",{"$f":"IF(AND($B106=\"AZIONE_3\",$L106=4),'3 - SPECIE DA IMPIANTARE'!$L7,\"\")","v":""},null,"",{"$f":"IF(AND($B106=\"AZIONE_3\",$O106=5),'3 - SPECIE DA IMPIANTARE'!$L7,\"\")","v":""},null,"",{"$f":"IF(AND($B106=\"AZIONE_3\",$R106=6),'3 - SPECIE DA IMPIANTARE'!$L7,\"\")","v":""}]
[2,"","",{"$f":"IF(AND($B107=\"AZIONE_3\",C107=1),'3 - SPECIE DA IMPIANTARE'!$L8,\"\")","v":""},null,"",{"$f":"IF(AND($B107=\"AZIONE_3\",F107=2),'3 - SPECIE DA IMPIANTARE'!$L8,\"\")","v":""},null,"",{"$f":"IF(AND($B107=\"AZIONE_3\",$I107=3),'3 - SPECIE DA IMPIANTARE'!$L8,\"\")","v":""},null,"",{"$f":"IF(AND($B107=\"AZIONE_3\",$L107=4),'3 - SPECIE DA IMPIANTARE'!$L8,\"\")","v":""},null,"",{"$f":"IF(AND($B107=\"AZIONE_3\",$O107=5),'3 - SPECIE DA IMPIANTARE'!$L8,\"\")","v":""},null,"",{"$f":"IF(AND($B107=\"AZIONE_3\",$R107=6),'3 - SPECIE DA IMPIANTARE'!$L8,\"\")","v":""}]
[2,"","",{"$f":"IF(AND($B108=\"AZIONE_3\",C108=1),'3 - SPECIE DA IMPIANTARE'!$L9,\"\")","v":""},null,"",{"$f":"IF(AND($B108=\"AZIONE_3\",F108=2),'3 - SPECIE DA IMPIANTARE'!$L9,\"\")","v":""},null,"",{"$f":"IF(AND($B108=\"AZIONE_3\",$I108=3),'3 - SPECIE DA IMPIANTARE'!$L9,\"\")","v":""},null,"",{"$f":"IF(AND($B108=\"AZIONE_3\",$L108=4),'3 - SPECIE DA IMPIANTARE'!$L9,\"\")","v":""},null,"",{"$f":"IF(AND($B108=\"AZIONE_3\",$O108=5),'3 - SPECIE DA IMPIANTARE'!$L9,\"\")","v":""},null,"",{"$f":"IF(AND($B108=\"AZIONE_3\",$R108=6),'3 - SPECIE DA IMPIANTARE'!$L9,\"\")","v":""}]
[2,"","",{"$f":"IF(AND($B109=\"AZIONE_3\",C109=1),'3 - SPECIE DA IMPIANTARE'!$L10,\"\")","v":""},null,"",{"$f":"IF(AND($B109=\"AZIONE_3\",F109=2),'3 - SPECIE DA IMPIANTARE'!$L10,\"\")","v":""},null,"",{"$f":"IF(AND($B109=\"AZIONE_3\",$I109=3),'3 - SPECIE DA IMPIANTARE'!$L10,\"\")","v":""},null,"",{"$f":"IF(AND($B109=\"AZIONE_3\",$L109=4),'3 - SPECIE DA IMPIANTARE'!$L10,\"\")","v":""},null,"",{"$f":"IF(AND($B109=\"AZIONE_3\",$O109=5),'3 - SPECIE DA IMPIANTARE'!$L10,\"\")","v":""},null,"",{"$f":"IF(AND($B109=\"AZIONE_3\",$R109=6),'3 - SPECIE DA IMPIANTARE'!$L10,\"\")","v":""}]
[2,"","",{"$f":"IF(AND($B110=\"AZIONE_3\",C110=1),'3 - SPECIE DA IMPIANTARE'!$L11,\"\")","v":""},null,"",{"$f":"IF(AND($B110=\"AZIONE_3\",F110=2),'3 - SPECIE DA IMPIANTARE'!$L11,\"\")","v":""},null,"",{"$f":"IF(AND($B110=\"AZIONE_3\",$I110=3),'3 - SPECIE DA IMPIANTARE'!$L11,\"\")","v":""},null,"",{"$f":"IF(AND($B110=\"AZIONE_3\",$L110=4),'3 - SPECIE DA IMPIANTARE'!$L11,\"\")","v":""},null,"",{"$f":"IF(AND($B110=\"AZIONE_3\",$O110=5),'3 - SPECIE DA IMPIANTARE'!$L11,\"\")","v":""},null,"",{"$f":"IF(AND($B110=\"AZIONE_3\",$R110=6),'3 - SPECIE DA IMPIANTARE'!$L11,\"\")","v":""}]
[2,"","",{"$f":"IF(AND($B111=\"AZIONE_3\",C111=1),'3 - SPECIE DA IMPIANTARE'!$L12,\"\")","v":""},null,"",{"$f":"IF(AND($B111=\"AZIONE_3\",F111=2),'3 - SPECIE DA IMPIANTARE'!$L12,\"\")","v":""},null,"",{"$f":"IF(AND($B111=\"AZIONE_3\",$I111=3),'3 - SPECIE DA IMPIANTARE'!$L12,\"\")","v":""},null,"",{"$f":"IF(AND($B111=\"AZIONE_3\",$L111=4),'3 - SPECIE DA IMPIANTARE'!$L12,\"\")","v":""},null,"",{"$f":"IF(AND($B111=\"AZIONE_3\",$O111=5),'3 - SPECIE DA IMPIANTARE'!$L12,\"\")","v":""},null,"",{"$f":"IF(AND($B111=\"AZIONE_3\",$R111=6),'3 - SPECIE DA IMPIANTARE'!$L12,\"\")","v":""}]
[2,"","",{"$f":"IF(AND($B112=\"AZIONE_3\",C112=1),'3 - SPECIE DA IMPIANTARE'!$L13,\"\")","v":""},null,"",{"$f":"IF(AND($B112=\"AZIONE_3\",F112=2),'3 - SPECIE DA IMPIANTARE'!$L13,\"\")","v":""},null,"",{"$f":"IF(AND($B112=\"AZIONE_3\",$I112=3),'3 - SPECIE DA IMPIANTARE'!$L13,\"\")","v":""},null,"",{"$f":"IF(AND($B112=\"AZIONE_3\",$L112=4),'3 - SPECIE DA IMPIANTARE'!$L13,\"\")","v":""},null,"",{"$f":"IF(AND($B112=\"AZIONE_3\",$O112=5),'3 - SPECIE DA IMPIANTARE'!$L13,\"\")","v":""},null,"",{"$f":"IF(AND($B112=\"AZIONE_3\",$R112=6),'3 - SPECIE DA IMPIANTARE'!$L13,\"\")","v":""}]
[2,"","",{"$f":"IF(AND($B113=\"AZIONE_3\",C113=1),'3 - SPECIE DA IMPIANTARE'!$L14,\"\")","v":""},null,"",{"$f":"IF(AND($B113=\"AZIONE_3\",F113=2),'3 - SPECIE DA IMPIANTARE'!$L14,\"\")","v":""},null,"",{"$f":"IF(AND($B113=\"AZIONE_3\",$I113=3),'3 - SPECIE DA IMPIANTARE'!$L14,\"\")","v":""},null,"",{"$f":"IF(AND($B113=\"AZIONE_3\",$L113=4),'3 - SPECIE DA IMPIANTARE'!$L14,\"\")","v":""},null,"",{"$f":"IF(AND($B113=\"AZIONE_3\",$O113=5),'3 - SPECIE DA IMPIANTARE'!$L14,\"\")","v":""},null,"",{"$f":"IF(AND($B113=\"AZIONE_3\",$R113=6),'3 - SPECIE DA IMPIANTARE'!$L14,\"\")","v":""}]
[2,"","",{"$f":"IF(AND($B114=\"AZIONE_3\",C114=1),'3 - SPECIE DA IMPIANTARE'!$L15,\"\")","v":""},null,"",{"$f":"IF(AND($B114=\"AZIONE_3\",F114=2),'3 - SPECIE DA IMPIANTARE'!$L15,\"\")","v":""},null,"",{"$f":"IF(AND($B114=\"AZIONE_3\",$I114=3),'3 - SPECIE DA IMPIANTARE'!$L15,\"\")","v":""},null,"",{"$f":"IF(AND($B114=\"AZIONE_3\",$L114=4),'3 - SPECIE DA IMPIANTARE'!$L15,\"\")","v":""},null,"",{"$f":"IF(AND($B114=\"AZIONE_3\",$O114=5),'3 - SPECIE DA IMPIANTARE'!$L15,\"\")","v":""},null,"",{"$f":"IF(AND($B114=\"AZIONE_3\",$R114=6),'3 - SPECIE DA IMPIANTARE'!$L15,\"\")","v":""}]
[2,"","",{"$f":"IF(AND($B115=\"AZIONE_3\",C115=1),'3 - SPECIE DA IMPIANTARE'!$L16,\"\")","v":""},null,"",{"$f":"IF(AND($B115=\"AZIONE_3\",F115=2),'3 - SPECIE DA IMPIANTARE'!$L16,\"\")","v":""},null,"",{"$f":"IF(AND($B115=\"AZIONE_3\",$I115=3),'3 - SPECIE DA IMPIANTARE'!$L16,\"\")","v":""},null,"",{"$f":"IF(AND($B115=\"AZIONE_3\",$L115=4),'3 - SPECIE DA IMPIANTARE'!$L16,\"\")","v":""},null,"",{"$f":"IF(AND($B115=\"AZIONE_3\",$O115=5),'3 - SPECIE DA IMPIANTARE'!$L16,\"\")","v":""},null,"",{"$f":"IF(AND($B115=\"AZIONE_3\",$R115=6),'3 - SPECIE DA IMPIANTARE'!$L16,\"\")","v":""}]
[2,"","",{"$f":"IF(AND($B116=\"AZIONE_3\",C116=1),'3 - SPECIE DA IMPIANTARE'!$L17,\"\")","v":""},null,"",{"$f":"IF(AND($B116=\"AZIONE_3\",F116=2),'3 - SPECIE DA IMPIANTARE'!$L17,\"\")","v":""},null,"",{"$f":"IF(AND($B116=\"AZIONE_3\",$I116=3),'3 - SPECIE DA IMPIANTARE'!$L17,\"\")","v":""},null,"",{"$f":"IF(AND($B116=\"AZIONE_3\",$L116=4),'3 - SPECIE DA IMPIANTARE'!$L17,\"\")","v":""},null,"",{"$f":"IF(AND($B116=\"AZIONE_3\",$O116=5),'3 - SPECIE DA IMPIANTARE'!$L17,\"\")","v":""},null,"",{"$f":"IF(AND($B116=\"AZIONE_3\",$R116=6),'3 - SPECIE DA IMPIANTARE'!$L17,\"\")","v":""}]
[2,"","",{"$f":"IF(AND($B117=\"AZIONE_3\",C117=1),'3 - SPECIE DA IMPIANTARE'!$L18,\"\")","v":""},null,"",{"$f":"IF(AND($B117=\"AZIONE_3\",F117=2),'3 - SPECIE DA IMPIANTARE'!$L18,\"\")","v":""},null,"",{"$f":"IF(AND($B117=\"AZIONE_3\",$I117=3),'3 - SPECIE DA IMPIANTARE'!$L18,\"\")","v":""},null,"",{"$f":"IF(AND($B117=\"AZIONE_3\",$L117=4),'3 - SPECIE DA IMPIANTARE'!$L18,\"\")","v":""},null,"",{"$f":"IF(AND($B117=\"AZIONE_3\",$O117=5),'3 - SPECIE DA IMPIANTARE'!$L18,\"\")","v":""},null,"",{"$f":"IF(AND($B117=\"AZIONE_3\",$R117=6),'3 - SPECIE DA IMPIANTARE'!$L18,\"\")","v":""}]
[2,"","",{"$f":"IF(AND($B118=\"AZIONE_3\",C118=1),'3 - SPECIE DA IMPIANTARE'!$L19,\"\")","v":""},null,"",{"$f":"IF(AND($B118=\"AZIONE_3\",F118=2),'3 - SPECIE DA IMPIANTARE'!$L19,\"\")","v":""},null,"",{"$f":"IF(AND($B118=\"AZIONE_3\",$I118=3),'3 - SPECIE DA IMPIANTARE'!$L19,\"\")","v":""},null,"",{"$f":"IF(AND($B118=\"AZIONE_3\",$L118=4),'3 - SPECIE DA IMPIANTARE'!$L19,\"\")","v":""},null,"",{"$f":"IF(AND($B118=\"AZIONE_3\",$O118=5),'3 - SPECIE DA IMPIANTARE'!$L19,\"\")","v":""},null,"",{"$f":"IF(AND($B118=\"AZIONE_3\",$R118=6),'3 - SPECIE DA IMPIANTARE'!$L19,\"\")","v":""}]
[2,{"$f":"B19","v":""},"",{"$f":"IF(AND($B119=\"AZIONE_3\",C119=1),'3 - SPECIE DA IMPIANTARE'!$L20,\"\")","v":""},null,"",{"$f":"IF(AND($B119=\"AZIONE_3\",F119=2),'3 - SPECIE DA IMPIANTARE'!$L20,\"\")","v":""},null,"",{"$f":"IF(AND($B119=\"AZIONE_3\",$I119=3),'3 - SPECIE DA IMPIANTARE'!$L20,\"\")","v":""},null,"",{"$f":"IF(AND($B119=\"AZIONE_3\",$L119=4),'3 - SPECIE DA IMPIANTARE'!$L20,\"\")","v":""},null,"",{"$f":"IF(AND($B119=\"AZIONE_3\",$O119=5),'3 - SPECIE DA IMPIANTARE'!$L20,\"\")","v":""},null,"",{"$f":"IF(AND($B119=\"AZIONE_3\",$R119=6),'3 - SPECIE DA IMPIANTARE'!$L20,\"\")","v":""}]
[2,"","",{"$f":"IF(AND($B120=\"AZIONE_3\",C120=1),'3 - SPECIE DA IMPIANTARE'!$L21,\"\")","v":""},null,"",{"$f":"IF(AND($B120=\"AZIONE_3\",F120=2),'3 - SPECIE DA IMPIANTARE'!$L21,\"\")","v":""},null,"",{"$f":"IF(AND($B120=\"AZIONE_3\",$I120=3),'3 - SPECIE DA IMPIANTARE'!$L21,\"\")","v":""},null,"",{"$f":"IF(AND($B120=\"AZIONE_3\",$L120=4),'3 - SPECIE DA IMPIANTARE'!$L21,\"\")","v":""},null,"",{"$f":"IF(AND($B120=\"AZIONE_3\",$O120=5),'3 - SPECIE DA IMPIANTARE'!$L21,\"\")","v":""},null,"",{"$f":"IF(AND($B120=\"AZIONE_3\",$R120=6),'3 - SPECIE DA IMPIANTARE'!$L21,\"\")","v":""}]
[2,"","",{"$f":"IF(AND($B121=\"AZIONE_3\",C121=1),'3 - SPECIE DA IMPIANTARE'!$L22,\"\")","v":""},null,"",{"$f":"IF(AND($B121=\"AZIONE_3\",F121=2),'3 - SPECIE DA IMPIANTARE'!$L22,\"\")","v":""},null,"",{"$f":"IF(AND($B121=\"AZIONE_3\",$I121=3),'3 - SPECIE DA IMPIANTARE'!$L22,\"\")","v":""},null,"",{"$f":"IF(AND($B121=\"AZIONE_3\",$L121=4),'3 - SPECIE DA IMPIANTARE'!$L22,\"\")","v":""},null,"",{"$f":"IF(AND($B121=\"AZIONE_3\",$O121=5),'3 - SPECIE DA IMPIANTARE'!$L22,\"\")","v":""},null,"",{"$f":"IF(AND($B121=\"AZIONE_3\",$R121=6),'3 - SPECIE DA IMPIANTARE'!$L22,\"\")","v":""}]
[2,"","",{"$f":"IF(AND($B122=\"AZIONE_3\",C122=1),'3 - SPECIE DA IMPIANTARE'!$L23,\"\")","v":""},null,"",{"$f":"IF(AND($B122=\"AZIONE_3\",F122=2),'3 - SPECIE DA IMPIANTARE'!$L23,\"\")","v":""},null,"",{"$f":"IF(AND($B122=\"AZIONE_3\",$I122=3),'3 - SPECIE DA IMPIANTARE'!$L23,\"\")","v":""},null,"",{"$f":"IF(AND($B122=\"AZIONE_3\",$L122=4),'3 - SPECIE DA IMPIANTARE'!$L23,\"\")","v":""},null,"",{"$f":"IF(AND($B122=\"AZIONE_3\",$O122=5),'3 - SPECIE DA IMPIANTARE'!$L23,\"\")","v":""},null,"",{"$f":"IF(AND($B122=\"AZIONE_3\",$R122=6),'3 - SPECIE DA IMPIANTARE'!$L23,\"\")","v":""}]
[2,"","",{"$f":"IF(AND($B123=\"AZIONE_3\",C123=1),'3 - SPECIE DA IMPIANTARE'!$L24,\"\")","v":""},null,"",{"$f":"IF(AND($B123=\"AZIONE_3\",F123=2),'3 - SPECIE DA IMPIANTARE'!$L24,\"\")","v":""},null,"",{"$f":"IF(AND($B123=\"AZIONE_3\",$I123=3),'3 - SPECIE DA IMPIANTARE'!$L24,\"\")","v":""},null,"",{"$f":"IF(AND($B123=\"AZIONE_3\",$L123=4),'3 - SPECIE DA IMPIANTARE'!$L24,\"\")","v":""},null,"",{"$f":"IF(AND($B123=\"AZIONE_3\",$O123=5),'3 - SPECIE DA IMPIANTARE'!$L24,\"\")","v":""},null,"",{"$f":"IF(AND($B123=\"AZIONE_3\",$R123=6),'3 - SPECIE DA IMPIANTARE'!$L24,\"\")","v":""}]
[2,"","",{"$f":"IF(AND($B124=\"AZIONE_3\",C124=1),'3 - SPECIE DA IMPIANTARE'!$L25,\"\")","v":""},null,"",{"$f":"IF(AND($B124=\"AZIONE_3\",F124=2),'3 - SPECIE DA IMPIANTARE'!$L25,\"\")","v":""},null,"",{"$f":"IF(AND($B124=\"AZIONE_3\",$I124=3),'3 - SPECIE DA IMPIANTARE'!$L25,\"\")","v":""},null,"",{"$f":"IF(AND($B124=\"AZIONE_3\",$L124=4),'3 - SPECIE DA IMPIANTARE'!$L25,\"\")","v":""},null,"",{"$f":"IF(AND($B124=\"AZIONE_3\",$O124=5),'3 - SPECIE DA IMPIANTARE'!$L25,\"\")","v":""},null,"",{"$f":"IF(AND($B124=\"AZIONE_3\",$R124=6),'3 - SPECIE DA IMPIANTARE'!$L25,\"\")","v":""}]
[2,"","",{"$f":"IF(AND($B125=\"AZIONE_3\",C125=1),'3 - SPECIE DA IMPIANTARE'!$L26,\"\")","v":""},null,"",{"$f":"IF(AND($B125=\"AZIONE_3\",F125=2),'3 - SPECIE DA IMPIANTARE'!$L26,\"\")","v":""},null,"",{"$f":"IF(AND($B125=\"AZIONE_3\",$I125=3),'3 - SPECIE DA IMPIANTARE'!$L26,\"\")","v":""},null,"",{"$f":"IF(AND($B125=\"AZIONE_3\",$L125=4),'3 - SPECIE DA IMPIANTARE'!$L26,\"\")","v":""},null,"",{"$f":"IF(AND($B125=\"AZIONE_3\",$O125=5),'3 - SPECIE DA IMPIANTARE'!$L26,\"\")","v":""},null,"",{"$f":"IF(AND($B125=\"AZIONE_3\",$R125=6),'3 - SPECIE DA IMPIANTARE'!$L26,\"\")","v":""}]
[2,"","",{"$f":"IF(AND($B126=\"AZIONE_3\",C126=1),'3 - SPECIE DA IMPIANTARE'!$L27,\"\")","v":""},null,"",{"$f":"IF(AND($B126=\"AZIONE_3\",F126=2),'3 - SPECIE DA IMPIANTARE'!$L27,\"\")","v":""},null,"",{"$f":"IF(AND($B126=\"AZIONE_3\",$I126=3),'3 - SPECIE DA IMPIANTARE'!$L27,\"\")","v":""},null,"",{"$f":"IF(AND($B126=\"AZIONE_3\",$L126=4),'3 - SPECIE DA IMPIANTARE'!$L27,\"\")","v":""},null,"",{"$f":"IF(AND($B126=\"AZIONE_3\",$O126=5),'3 - SPECIE DA IMPIANTARE'!$L27,\"\")","v":""},null,"",{"$f":"IF(AND($B126=\"AZIONE_3\",$R126=6),'3 - SPECIE DA IMPIANTARE'!$L27,\"\")","v":""}]
[2,"","",{"$f":"IF(AND($B127=\"AZIONE_3\",C127=1),'3 - SPECIE DA IMPIANTARE'!$L28,\"\")","v":""},null,"",{"$f":"IF(AND($B127=\"AZIONE_3\",F127=2),'3 - SPECIE DA IMPIANTARE'!$L28,\"\")","v":""},null,"",{"$f":"IF(AND($B127=\"AZIONE_3\",$I127=3),'3 - SPECIE DA IMPIANTARE'!$L28,\"\")","v":""},null,"",{"$f":"IF(AND($B127=\"AZIONE_3\",$L127=4),'3 - SPECIE DA IMPIANTARE'!$L28,\"\")","v":""},null,"",{"$f":"IF(AND($B127=\"AZIONE_3\",$O127=5),'3 - SPECIE DA IMPIANTARE'!$L28,\"\")","v":""},null,"",{"$f":"IF(AND($B127=\"AZIONE_3\",$R127=6),'3 - SPECIE DA IMPIANTARE'!$L28,\"\")","v":""}]
[2,"","",{"$f":"IF(AND($B128=\"AZIONE_3\",C128=1),'3 - SPECIE DA IMPIANTARE'!$L29,\"\")","v":""},null,"",{"$f":"IF(AND($B128=\"AZIONE_3\",F128=2),'3 - SPECIE DA IMPIANTARE'!$L29,\"\")","v":""},null,"",{"$f":"IF(AND($B128=\"AZIONE_3\",$I128=3),'3 - SPECIE DA IMPIANTARE'!$L29,\"\")","v":""},null,"",{"$f":"IF(AND($B128=\"AZIONE_3\",$L128=4),'3 - SPECIE DA IMPIANTARE'!$L29,\"\")","v":""},null,"",{"$f":"IF(AND($B128=\"AZIONE_3\",$O128=5),'3 - SPECIE DA IMPIANTARE'!$L29,\"\")","v":""},null,"",{"$f":"IF(AND($B128=\"AZIONE_3\",$R128=6),'3 - SPECIE DA IMPIANTARE'!$L29,\"\")","v":""}]
[2,"","",{"$f":"IF(AND($B129=\"AZIONE_3\",C129=1),'3 - SPECIE DA IMPIANTARE'!$L30,\"\")","v":""},null,"",{"$f":"IF(AND($B129=\"AZIONE_3\",F129=2),'3 - SPECIE DA IMPIANTARE'!$L30,\"\")","v":""},null,"",{"$f":"IF(AND($B129=\"AZIONE_3\",$I129=3),'3 - SPECIE DA IMPIANTARE'!$L30,\"\")","v":""},null,"",{"$f":"IF(AND($B129=\"AZIONE_3\",$L129=4),'3 - SPECIE DA IMPIANTARE'!$L30,\"\")","v":""},null,"",{"$f":"IF(AND($B129=\"AZIONE_3\",$O129=5),'3 - SPECIE DA IMPIANTARE'!$L30,\"\")","v":""},null,"",{"$f":"IF(AND($B129=\"AZIONE_3\",$R129=6),'3 - SPECIE DA IMPIANTARE'!$L30,\"\")","v":""}]
[2,"","",{"$f":"IF(AND($B130=\"AZIONE_3\",C130=1),'3 - SPECIE DA IMPIANTARE'!$L31,\"\")","v":""},null,"",{"$f":"IF(AND($B130=\"AZIONE_3\",F130=2),'3 - SPECIE DA IMPIANTARE'!$L31,\"\")","v":""},null,"",{"$f":"IF(AND($B130=\"AZIONE_3\",$I130=3),'3 - SPECIE DA IMPIANTARE'!$L31,\"\")","v":""},null,"",{"$f":"IF(AND($B130=\"AZIONE_3\",$L130=4),'3 - SPECIE DA IMPIANTARE'!$L31,\"\")","v":""},null,"",{"$f":"IF(AND($B130=\"AZIONE_3\",$O130=5),'3 - SPECIE DA IMPIANTARE'!$L31,\"\")","v":""},null,"",{"$f":"IF(AND($B130=\"AZIONE_3\",$R130=6),'3 - SPECIE DA IMPIANTARE'!$L31,\"\")","v":""}]
[2,"","",{"$f":"IF(AND($B131=\"AZIONE_3\",C131=1),'3 - SPECIE DA IMPIANTARE'!$L32,\"\")","v":""},null,"",{"$f":"IF(AND($B131=\"AZIONE_3\",F131=2),'3 - SPECIE DA IMPIANTARE'!$L32,\"\")","v":""},null,"",{"$f":"IF(AND($B131=\"AZIONE_3\",$I131=3),'3 - SPECIE DA IMPIANTARE'!$L32,\"\")","v":""},null,"",{"$f":"IF(AND($B131=\"AZIONE_3\",$L131=4),'3 - SPECIE DA IMPIANTARE'!$L32,\"\")","v":""},null,"",{"$f":"IF(AND($B131=\"AZIONE_3\",$O131=5),'3 - SPECIE DA IMPIANTARE'!$L32,\"\")","v":""},null,"",{"$f":"IF(AND($B131=\"AZIONE_3\",$R131=6),'3 - SPECIE DA IMPIANTARE'!$L32,\"\")","v":""}]
[2,"","",{"$f":"IF(AND($B132=\"AZIONE_3\",C132=1),'3 - SPECIE DA IMPIANTARE'!$L33,\"\")","v":""},null,"",{"$f":"IF(AND($B132=\"AZIONE_3\",F132=2),'3 - SPECIE DA IMPIANTARE'!$L33,\"\")","v":""},null,"",{"$f":"IF(AND($B132=\"AZIONE_3\",$I132=3),'3 - SPECIE DA IMPIANTARE'!$L33,\"\")","v":""},null,"",{"$f":"IF(AND($B132=\"AZIONE_3\",$L132=4),'3 - SPECIE DA IMPIANTARE'!$L33,\"\")","v":""},null,"",{"$f":"IF(AND($B132=\"AZIONE_3\",$O132=5),'3 - SPECIE DA IMPIANTARE'!$L33,\"\")","v":""},null,"",{"$f":"IF(AND($B132=\"AZIONE_3\",$R132=6),'3 - SPECIE DA IMPIANTARE'!$L33,\"\")","v":""}]
[2,"","",{"$f":"IF(AND($B133=\"AZIONE_3\",C133=1),'3 - SPECIE DA IMPIANTARE'!$L34,\"\")","v":""},null,"",{"$f":"IF(AND($B133=\"AZIONE_3\",F133=2),'3 - SPECIE DA IMPIANTARE'!$L34,\"\")","v":""},null,"",{"$f":"IF(AND($B133=\"AZIONE_3\",$I133=3),'3 - SPECIE DA IMPIANTARE'!$L34,\"\")","v":""},null,"",{"$f":"IF(AND($B133=\"AZIONE_3\",$L133=4),'3 - SPECIE DA IMPIANTARE'!$L34,\"\")","v":""},null,"",{"$f":"IF(AND($B133=\"AZIONE_3\",$O133=5),'3 - SPECIE DA IMPIANTARE'!$L34,\"\")","v":""},null,"",{"$f":"IF(AND($B133=\"AZIONE_3\",$R133=6),'3 - SPECIE DA IMPIANTARE'!$L34,\"\")","v":""}]
[2,"","",{"$f":"IF(AND($B134=\"AZIONE_3\",C134=1),'3 - SPECIE DA IMPIANTARE'!$L35,\"\")","v":""},null,"",{"$f":"IF(AND($B134=\"AZIONE_3\",F134=2),'3 - SPECIE DA IMPIANTARE'!$L35,\"\")","v":""},null,"",{"$f":"IF(AND($B134=\"AZIONE_3\",$I134=3),'3 - SPECIE DA IMPIANTARE'!$L35,\"\")","v":""},null,"",{"$f":"IF(AND($B134=\"AZIONE_3\",$L134=4),'3 - SPECIE DA IMPIANTARE'!$L35,\"\")","v":""},null,"",{"$f":"IF(AND($B134=\"AZIONE_3\",$O134=5),'3 - SPECIE DA IMPIANTARE'!$L35,\"\")","v":""},null,"",{"$f":"IF(AND($B134=\"AZIONE_3\",$R134=6),'3 - SPECIE DA IMPIANTARE'!$L35,\"\")","v":""}]
[2,{"$f":"B35","v":""},"",{"$f":"IF(AND($B135=\"AZIONE_3\",C135=1),'3 - SPECIE DA IMPIANTARE'!$L36,\"\")","v":""},null,"",{"$f":"IF(AND($B135=\"AZIONE_3\",F135=2),'3 - SPECIE DA IMPIANTARE'!$L36,\"\")","v":""},null,"",{"$f":"IF(AND($B135=\"AZIONE_3\",$I135=3),'3 - SPECIE DA IMPIANTARE'!$L36,\"\")","v":""},null,"",{"$f":"IF(AND($B135=\"AZIONE_3\",$L135=4),'3 - SPECIE DA IMPIANTARE'!$L36,\"\")","v":""},null,"",{"$f":"IF(AND($B135=\"AZIONE_3\",$O135=5),'3 - SPECIE DA IMPIANTARE'!$L36,\"\")","v":""},null,"",{"$f":"IF(AND($B135=\"AZIONE_3\",$R135=6),'3 - SPECIE DA IMPIANTARE'!$L36,\"\")","v":""}]
[2,"","",{"$f":"IF(AND($B136=\"AZIONE_3\",C136=1),'3 - SPECIE DA IMPIANTARE'!$L37,\"\")","v":""},null,"",{"$f":"IF(AND($B136=\"AZIONE_3\",F136=2),'3 - SPECIE DA IMPIANTARE'!$L37,\"\")","v":""},null,"",{"$f":"IF(AND($B136=\"AZIONE_3\",$I136=3),'3 - SPECIE DA IMPIANTARE'!$L37,\"\")","v":""},null,"",{"$f":"IF(AND($B136=\"AZIONE_3\",$L136=4),'3 - SPECIE DA IMPIANTARE'!$L37,\"\")","v":""},null,"",{"$f":"IF(AND($B136=\"AZIONE_3\",$O136=5),'3 - SPECIE DA IMPIANTARE'!$L37,\"\")","v":""},null,"",{"$f":"IF(AND($B136=\"AZIONE_3\",$R136=6),'3 - SPECIE DA IMPIANTARE'!$L37,\"\")","v":""}]
[2,"","",{"$f":"IF(AND($B137=\"AZIONE_3\",C137=1),'3 - SPECIE DA IMPIANTARE'!$L38,\"\")","v":""},null,"",{"$f":"IF(AND($B137=\"AZIONE_3\",F137=2),'3 - SPECIE DA IMPIANTARE'!$L38,\"\")","v":""},null,"",{"$f":"IF(AND($B137=\"AZIONE_3\",$I137=3),'3 - SPECIE DA IMPIANTARE'!$L38,\"\")","v":""},null,"",{"$f":"IF(AND($B137=\"AZIONE_3\",$L137=4),'3 - SPECIE DA IMPIANTARE'!$L38,\"\")","v":""},null,"",{"$f":"IF(AND($B137=\"AZIONE_3\",$O137=5),'3 - SPECIE DA IMPIANTARE'!$L38,\"\")","v":""},null,"",{"$f":"IF(AND($B137=\"AZIONE_3\",$R137=6),'3 - SPECIE DA IMPIANTARE'!$L38,\"\")","v":""}]
[2,"","",{"$f":"IF(AND($B138=\"AZIONE_3\",C138=1),'3 - SPECIE DA IMPIANTARE'!$L39,\"\")","v":""},null,"",{"$f":"IF(AND($B138=\"AZIONE_3\",F138=2),'3 - SPECIE DA IMPIANTARE'!$L39,\"\")","v":""},null,"",{"$f":"IF(AND($B138=\"AZIONE_3\",$I138=3),'3 - SPECIE DA IMPIANTARE'!$L39,\"\")","v":""},null,"",{"$f":"IF(AND($B138=\"AZIONE_3\",$L138=4),'3 - SPECIE DA IMPIANTARE'!$L39,\"\")","v":""},null,"",{"$f":"IF(AND($B138=\"AZIONE_3\",$O138=5),'3 - SPECIE DA IMPIANTARE'!$L39,\"\")","v":""},null,"",{"$f":"IF(AND($B138=\"AZIONE_3\",$R138=6),'3 - SPECIE DA IMPIANTARE'!$L39,\"\")","v":""}]
[2,"","",{"$f":"IF(AND($B139=\"AZIONE_3\",C139=1),'3 - SPECIE DA IMPIANTARE'!$L40,\"\")","v":""},null,"",{"$f":"IF(AND($B139=\"AZIONE_3\",F139=2),'3 - SPECIE DA IMPIANTARE'!$L40,\"\")","v":""},null,"",{"$f":"IF(AND($B139=\"AZIONE_3\",$I139=3),'3 - SPECIE DA IMPIANTARE'!$L40,\"\")","v":""},null,"",{"$f":"IF(AND($B139=\"AZIONE_3\",$L139=4),'3 - SPECIE DA IMPIANTARE'!$L40,\"\")","v":""},null,"",{"$f":"IF(AND($B139=\"AZIONE_3\",$O139=5),'3 - SPECIE DA IMPIANTARE'!$L40,\"\")","v":""},null,"",{"$f":"IF(AND($B139=\"AZIONE_3\",$R139=6),'3 - SPECIE DA IMPIANTARE'!$L40,\"\")","v":""}]
[2,"","",{"$f":"IF(AND($B140=\"AZIONE_3\",C140=1),'3 - SPECIE DA IMPIANTARE'!$L41,\"\")","v":""},null,"",{"$f":"IF(AND($B140=\"AZIONE_3\",F140=2),'3 - SPECIE DA IMPIANTARE'!$L41,\"\")","v":""},null,"",{"$f":"IF(AND($B140=\"AZIONE_3\",$I140=3),'3 - SPECIE DA IMPIANTARE'!$L41,\"\")","v":""},null,"",{"$f":"IF(AND($B140=\"AZIONE_3\",$L140=4),'3 - SPECIE DA IMPIANTARE'!$L41,\"\")","v":""},null,"",{"$f":"IF(AND($B140=\"AZIONE_3\",$O140=5),'3 - SPECIE DA IMPIANTARE'!$L41,\"\")","v":""},null,"",{"$f":"IF(AND($B140=\"AZIONE_3\",$R140=6),'3 - SPECIE DA IMPIANTARE'!$L41,\"\")","v":""}]
[2,"","",{"$f":"IF(AND($B141=\"AZIONE_3\",C141=1),'3 - SPECIE DA IMPIANTARE'!$L42,\"\")","v":""},null,"",{"$f":"IF(AND($B141=\"AZIONE_3\",F141=2),'3 - SPECIE DA IMPIANTARE'!$L42,\"\")","v":""},null,"",{"$f":"IF(AND($B141=\"AZIONE_3\",$I141=3),'3 - SPECIE DA IMPIANTARE'!$L42,\"\")","v":""},null,"",{"$f":"IF(AND($B141=\"AZIONE_3\",$L141=4),'3 - SPECIE DA IMPIANTARE'!$L42,\"\")","v":""},null,"",{"$f":"IF(AND($B141=\"AZIONE_3\",$O141=5),'3 - SPECIE DA IMPIANTARE'!$L42,\"\")","v":""},null,"",{"$f":"IF(AND($B141=\"AZIONE_3\",$R141=6),'3 - SPECIE DA IMPIANTARE'!$L42,\"\")","v":""}]
[2,"","",{"$f":"IF(AND($B142=\"AZIONE_3\",C142=1),'3 - SPECIE DA IMPIANTARE'!$L43,\"\")","v":""},null,"",{"$f":"IF(AND($B142=\"AZIONE_3\",F142=2),'3 - SPECIE DA IMPIANTARE'!$L43,\"\")","v":""},null,"",{"$f":"IF(AND($B142=\"AZIONE_3\",$I142=3),'3 - SPECIE DA IMPIANTARE'!$L43,\"\")","v":""},null,"",{"$f":"IF(AND($B142=\"AZIONE_3\",$L142=4),'3 - SPECIE DA IMPIANTARE'!$L43,\"\")","v":""},null,"",{"$f":"IF(AND($B142=\"AZIONE_3\",$O142=5),'3 - SPECIE DA IMPIANTARE'!$L43,\"\")","v":""},null,"",{"$f":"IF(AND($B142=\"AZIONE_3\",$R142=6),'3 - SPECIE DA IMPIANTARE'!$L43,\"\")","v":""}]
[2,"","",{"$f":"IF(AND($B143=\"AZIONE_3\",C143=1),'3 - SPECIE DA IMPIANTARE'!$L44,\"\")","v":""},null,"",{"$f":"IF(AND($B143=\"AZIONE_3\",F143=2),'3 - SPECIE DA IMPIANTARE'!$L44,\"\")","v":""},null,"",{"$f":"IF(AND($B143=\"AZIONE_3\",$I143=3),'3 - SPECIE DA IMPIANTARE'!$L44,\"\")","v":""},null,"",{"$f":"IF(AND($B143=\"AZIONE_3\",$L143=4),'3 - SPECIE DA IMPIANTARE'!$L44,\"\")","v":""},null,"",{"$f":"IF(AND($B143=\"AZIONE_3\",$O143=5),'3 - SPECIE DA IMPIANTARE'!$L44,\"\")","v":""},null,"",{"$f":"IF(AND($B143=\"AZIONE_3\",$R143=6),'3 - SPECIE DA IMPIANTARE'!$L44,\"\")","v":""}]
[2,"","",{"$f":"IF(AND($B144=\"AZIONE_3\",C144=1),'3 - SPECIE DA IMPIANTARE'!$L45,\"\")","v":""},null,"",{"$f":"IF(AND($B144=\"AZIONE_3\",F144=2),'3 - SPECIE DA IMPIANTARE'!$L45,\"\")","v":""},null,"",{"$f":"IF(AND($B144=\"AZIONE_3\",$I144=3),'3 - SPECIE DA IMPIANTARE'!$L45,\"\")","v":""},null,"",{"$f":"IF(AND($B144=\"AZIONE_3\",$L144=4),'3 - SPECIE DA IMPIANTARE'!$L45,\"\")","v":""},null,"",{"$f":"IF(AND($B144=\"AZIONE_3\",$O144=5),'3 - SPECIE DA IMPIANTARE'!$L45,\"\")","v":""},null,"",{"$f":"IF(AND($B144=\"AZIONE_3\",$R144=6),'3 - SPECIE DA IMPIANTARE'!$L45,\"\")","v":""}]
[2,"","",{"$f":"IF(AND($B145=\"AZIONE_3\",C145=1),'3 - SPECIE DA IMPIANTARE'!$L46,\"\")","v":""},null,"",{"$f":"IF(AND($B145=\"AZIONE_3\",F145=2),'3 - SPECIE DA IMPIANTARE'!$L46,\"\")","v":""},null,"",{"$f":"IF(AND($B145=\"AZIONE_3\",$I145=3),'3 - SPECIE DA IMPIANTARE'!$L46,\"\")","v":""},null,"",{"$f":"IF(AND($B145=\"AZIONE_3\",$L145=4),'3 - SPECIE DA IMPIANTARE'!$L46,\"\")","v":""},null,"",{"$f":"IF(AND($B145=\"AZIONE_3\",$O145=5),'3 - SPECIE DA IMPIANTARE'!$L46,\"\")","v":""},null,"",{"$f":"IF(AND($B145=\"AZIONE_3\",$R145=6),'3 - SPECIE DA IMPIANTARE'!$L46,\"\")","v":""}]
[2,"","",{"$f":"IF(AND($B146=\"AZIONE_3\",C146=1),'3 - SPECIE DA IMPIANTARE'!$L47,\"\")","v":""},null,"",{"$f":"IF(AND($B146=\"AZIONE_3\",F146=2),'3 - SPECIE DA IMPIANTARE'!$L47,\"\")","v":""},null,"",{"$f":"IF(AND($B146=\"AZIONE_3\",$I146=3),'3 - SPECIE DA IMPIANTARE'!$L47,\"\")","v":""},null,"",{"$f":"IF(AND($B146=\"AZIONE_3\",$L146=4),'3 - SPECIE DA IMPIANTARE'!$L47,\"\")","v":""},null,"",{"$f":"IF(AND($B146=\"AZIONE_3\",$O146=5),'3 - SPECIE DA IMPIANTARE'!$L47,\"\")","v":""},null,"",{"$f":"IF(AND($B146=\"AZIONE_3\",$R146=6),'3 - SPECIE DA IMPIANTARE'!$L47,\"\")","v":""}]
[2,"","",{"$f":"IF(AND($B147=\"AZIONE_3\",C147=1),'3 - SPECIE DA IMPIANTARE'!$L48,\"\")","v":""},null,"",{"$f":"IF(AND($B147=\"AZIONE_3\",F147=2),'3 - SPECIE DA IMPIANTARE'!$L48,\"\")","v":""},null,"",{"$f":"IF(AND($B147=\"AZIONE_3\",$I147=3),'3 - SPECIE DA IMPIANTARE'!$L48,\"\")","v":""},null,"",{"$f":"IF(AND($B147=\"AZIONE_3\",$L147=4),'3 - SPECIE DA IMPIANTARE'!$L48,\"\")","v":""},null,"",{"$f":"IF(AND($B147=\"AZIONE_3\",$O147=5),'3 - SPECIE DA IMPIANTARE'!$L48,\"\")","v":""},null,"",{"$f":"IF(AND($B147=\"AZIONE_3\",$R147=6),'3 - SPECIE DA IMPIANTARE'!$L48,\"\")","v":""}]
[2,"","",{"$f":"IF(AND($B148=\"AZIONE_3\",C148=1),'3 - SPECIE DA IMPIANTARE'!$L49,\"\")","v":""},null,"",{"$f":"IF(AND($B148=\"AZIONE_3\",F148=2),'3 - SPECIE DA IMPIANTARE'!$L49,\"\")","v":""},null,"",{"$f":"IF(AND($B148=\"AZIONE_3\",$I148=3),'3 - SPECIE DA IMPIANTARE'!$L49,\"\")","v":""},null,"",{"$f":"IF(AND($B148=\"AZIONE_3\",$L148=4),'3 - SPECIE DA IMPIANTARE'!$L49,\"\")","v":""},null,"",{"$f":"IF(AND($B148=\"AZIONE_3\",$O148=5),'3 - SPECIE DA IMPIANTARE'!$L49,\"\")","v":""},null,"",{"$f":"IF(AND($B148=\"AZIONE_3\",$R148=6),'3 - SPECIE DA IMPIANTARE'!$L49,\"\")","v":""}]
[2,"","",{"$f":"IF(AND($B149=\"AZIONE_3\",C149=1),'3 - SPECIE DA IMPIANTARE'!$L50,\"\")","v":""},null,"",{"$f":"IF(AND($B149=\"AZIONE_3\",F149=2),'3 - SPECIE DA IMPIANTARE'!$L50,\"\")","v":""},null,"",{"$f":"IF(AND($B149=\"AZIONE_3\",$I149=3),'3 - SPECIE DA IMPIANTARE'!$L50,\"\")","v":""},null,"",{"$f":"IF(AND($B149=\"AZIONE_3\",$L149=4),'3 - SPECIE DA IMPIANTARE'!$L50,\"\")","v":""},null,"",{"$f":"IF(AND($B149=\"AZIONE_3\",$O149=5),'3 - SPECIE DA IMPIANTARE'!$L50,\"\")","v":""},null,"",{"$f":"IF(AND($B149=\"AZIONE_3\",$R149=6),'3 - SPECIE DA IMPIANTARE'!$L50,\"\")","v":""}]
[2,"","",{"$f":"IF(AND($B150=\"AZIONE_3\",C150=1),'3 - SPECIE DA IMPIANTARE'!$L51,\"\")","v":""},null,"",{"$f":"IF(AND($B150=\"AZIONE_3\",F150=2),'3 - SPECIE DA IMPIANTARE'!$L51,\"\")","v":""},null,"",{"$f":"IF(AND($B150=\"AZIONE_3\",$I150=3),'3 - SPECIE DA IMPIANTARE'!$L51,\"\")","v":""},null,"",{"$f":"IF(AND($B150=\"AZIONE_3\",$L150=4),'3 - SPECIE DA IMPIANTARE'!$L51,\"\")","v":""},null,"",{"$f":"IF(AND($B150=\"AZIONE_3\",$O150=5),'3 - SPECIE DA IMPIANTARE'!$L51,\"\")","v":""},null,"",{"$f":"IF(AND($B150=\"AZIONE_3\",$R150=6),'3 - SPECIE DA IMPIANTARE'!$L51,\"\")","v":""}]
[2,{"$f":"B51","v":""},"",{"$f":"IF(AND($B151=\"AZIONE_3\",C151=1),'3 - SPECIE DA IMPIANTARE'!$L52,\"\")","v":""},null,"",{"$f":"IF(AND($B151=\"AZIONE_3\",F151=2),'3 - SPECIE DA IMPIANTARE'!$L52,\"\")","v":""},null,"",{"$f":"IF(AND($B151=\"AZIONE_3\",$I151=3),'3 - SPECIE DA IMPIANTARE'!$L52,\"\")","v":""},null,"",{"$f":"IF(AND($B151=\"AZIONE_3\",$L151=4),'3 - SPECIE DA IMPIANTARE'!$L52,\"\")","v":""},null,"",{"$f":"IF(AND($B151=\"AZIONE_3\",$O151=5),'3 - SPECIE DA IMPIANTARE'!$L52,\"\")","v":""},null,"",{"$f":"IF(AND($B151=\"AZIONE_3\",$R151=6),'3 - SPECIE DA IMPIANTARE'!$L52,\"\")","v":""}]
[2,"","",{"$f":"IF(AND($B152=\"AZIONE_3\",C152=1),'3 - SPECIE DA IMPIANTARE'!$L53,\"\")","v":""},null,"",{"$f":"IF(AND($B152=\"AZIONE_3\",F152=2),'3 - SPECIE DA IMPIANTARE'!$L53,\"\")","v":""},null,"",{"$f":"IF(AND($B152=\"AZIONE_3\",$I152=3),'3 - SPECIE DA IMPIANTARE'!$L53,\"\")","v":""},null,"",{"$f":"IF(AND($B152=\"AZIONE_3\",$L152=4),'3 - SPECIE DA IMPIANTARE'!$L53,\"\")","v":""},null,"",{"$f":"IF(AND($B152=\"AZIONE_3\",$O152=5),'3 - SPECIE DA IMPIANTARE'!$L53,\"\")","v":""},null,"",{"$f":"IF(AND($B152=\"AZIONE_3\",$R152=6),'3 - SPECIE DA IMPIANTARE'!$L53,\"\")","v":""}]
[2,"","",{"$f":"IF(AND($B153=\"AZIONE_3\",C153=1),'3 - SPECIE DA IMPIANTARE'!$L54,\"\")","v":""},null,"",{"$f":"IF(AND($B153=\"AZIONE_3\",F153=2),'3 - SPECIE DA IMPIANTARE'!$L54,\"\")","v":""},null,"",{"$f":"IF(AND($B153=\"AZIONE_3\",$I153=3),'3 - SPECIE DA IMPIANTARE'!$L54,\"\")","v":""},null,"",{"$f":"IF(AND($B153=\"AZIONE_3\",$L153=4),'3 - SPECIE DA IMPIANTARE'!$L54,\"\")","v":""},null,"",{"$f":"IF(AND($B153=\"AZIONE_3\",$O153=5),'3 - SPECIE DA IMPIANTARE'!$L54,\"\")","v":""},null,"",{"$f":"IF(AND($B153=\"AZIONE_3\",$R153=6),'3 - SPECIE DA IMPIANTARE'!$L54,\"\")","v":""}]
[2,"","",{"$f":"IF(AND($B154=\"AZIONE_3\",C154=1),'3 - SPECIE DA IMPIANTARE'!$L55,\"\")","v":""},null,"",{"$f":"IF(AND($B154=\"AZIONE_3\",F154=2),'3 - SPECIE DA IMPIANTARE'!$L55,\"\")","v":""},null,"",{"$f":"IF(AND($B154=\"AZIONE_3\",$I154=3),'3 - SPECIE DA IMPIANTARE'!$L55,\"\")","v":""},null,"",{"$f":"IF(AND($B154=\"AZIONE_3\",$L154=4),'3 - SPECIE DA IMPIANTARE'!$L55,\"\")","v":""},null,"",{"$f":"IF(AND($B154=\"AZIONE_3\",$O154=5),'3 - SPECIE DA IMPIANTARE'!$L55,\"\")","v":""},null,"",{"$f":"IF(AND($B154=\"AZIONE_3\",$R154=6),'3 - SPECIE DA IMPIANTARE'!$L55,\"\")","v":""}]
[2,"","",{"$f":"IF(AND($B155=\"AZIONE_3\",C155=1),'3 - SPECIE DA IMPIANTARE'!$L56,\"\")","v":""},null,"",{"$f":"IF(AND($B155=\"AZIONE_3\",F155=2),'3 - SPECIE DA IMPIANTARE'!$L56,\"\")","v":""},null,"",{"$f":"IF(AND($B155=\"AZIONE_3\",$I155=3),'3 - SPECIE DA IMPIANTARE'!$L56,\"\")","v":""},null,"",{"$f":"IF(AND($B155=\"AZIONE_3\",$L155=4),'3 - SPECIE DA IMPIANTARE'!$L56,\"\")","v":""},null,"",{"$f":"IF(AND($B155=\"AZIONE_3\",$O155=5),'3 - SPECIE DA IMPIANTARE'!$L56,\"\")","v":""},null,"",{"$f":"IF(AND($B155=\"AZIONE_3\",$R155=6),'3 - SPECIE DA IMPIANTARE'!$L56,\"\")","v":""}]
[2,"","",{"$f":"IF(AND($B156=\"AZIONE_3\",C156=1),'3 - SPECIE DA IMPIANTARE'!$L57,\"\")","v":""},null,"",{"$f":"IF(AND($B156=\"AZIONE_3\",F156=2),'3 - SPECIE DA IMPIANTARE'!$L57,\"\")","v":""},null,"",{"$f":"IF(AND($B156=\"AZIONE_3\",$I156=3),'3 - SPECIE DA IMPIANTARE'!$L57,\"\")","v":""},null,"",{"$f":"IF(AND($B156=\"AZIONE_3\",$L156=4),'3 - SPECIE DA IMPIANTARE'!$L57,\"\")","v":""},null,"",{"$f":"IF(AND($B156=\"AZIONE_3\",$O156=5),'3 - SPECIE DA IMPIANTARE'!$L57,\"\")","v":""},null,"",{"$f":"IF(AND($B156=\"AZIONE_3\",$R156=6),'3 - SPECIE DA IMPIANTARE'!$L57,\"\")","v":""}]
[2,"","",{"$f":"IF(AND($B157=\"AZIONE_3\",C157=1),'3 - SPECIE DA IMPIANTARE'!$L58,\"\")","v":""},null,"",{"$f":"IF(AND($B157=\"AZIONE_3\",F157=2),'3 - SPECIE DA IMPIANTARE'!$L58,\"\")","v":""},null,"",{"$f":"IF(AND($B157=\"AZIONE_3\",$I157=3),'3 - SPECIE DA IMPIANTARE'!$L58,\"\")","v":""},null,"",{"$f":"IF(AND($B157=\"AZIONE_3\",$L157=4),'3 - SPECIE DA IMPIANTARE'!$L58,\"\")","v":""},null,"",{"$f":"IF(AND($B157=\"AZIONE_3\",$O157=5),'3 - SPECIE DA IMPIANTARE'!$L58,\"\")","v":""},null,"",{"$f":"IF(AND($B157=\"AZIONE_3\",$R157=6),'3 - SPECIE DA IMPIANTARE'!$L58,\"\")","v":""}]
[2,"","",{"$f":"IF(AND($B158=\"AZIONE_3\",C158=1),'3 - SPECIE DA IMPIANTARE'!$L59,\"\")","v":""},null,"",{"$f":"IF(AND($B158=\"AZIONE_3\",F158=2),'3 - SPECIE DA IMPIANTARE'!$L59,\"\")","v":""},null,"",{"$f":"IF(AND($B158=\"AZIONE_3\",$I158=3),'3 - SPECIE DA IMPIANTARE'!$L59,\"\")","v":""},null,"",{"$f":"IF(AND($B158=\"AZIONE_3\",$L158=4),'3 - SPECIE DA IMPIANTARE'!$L59,\"\")","v":""},null,"",{"$f":"IF(AND($B158=\"AZIONE_3\",$O158=5),'3 - SPECIE DA IMPIANTARE'!$L59,\"\")","v":""},null,"",{"$f":"IF(AND($B158=\"AZIONE_3\",$R158=6),'3 - SPECIE DA IMPIANTARE'!$L59,\"\")","v":""}]
[2,"","",{"$f":"IF(AND($B159=\"AZIONE_3\",C159=1),'3 - SPECIE DA IMPIANTARE'!$L60,\"\")","v":""},null,"",{"$f":"IF(AND($B159=\"AZIONE_3\",F159=2),'3 - SPECIE DA IMPIANTARE'!$L60,\"\")","v":""},null,"",{"$f":"IF(AND($B159=\"AZIONE_3\",$I159=3),'3 - SPECIE DA IMPIANTARE'!$L60,\"\")","v":""},null,"",{"$f":"IF(AND($B159=\"AZIONE_3\",$L159=4),'3 - SPECIE DA IMPIANTARE'!$L60,\"\")","v":""},null,"",{"$f":"IF(AND($B159=\"AZIONE_3\",$O159=5),'3 - SPECIE DA IMPIANTARE'!$L60,\"\")","v":""},null,"",{"$f":"IF(AND($B159=\"AZIONE_3\",$R159=6),'3 - SPECIE DA IMPIANTARE'!$L60,\"\")","v":""}]
[2,"","",{"$f":"IF(AND($B160=\"AZIONE_3\",C160=1),'3 - SPECIE DA IMPIANTARE'!$L61,\"\")","v":""},null,"",{"$f":"IF(AND($B160=\"AZIONE_3\",F160=2),'3 - SPECIE DA IMPIANTARE'!$L61,\"\")","v":""},null,"",{"$f":"IF(AND($B160=\"AZIONE_3\",$I160=3),'3 - SPECIE DA IMPIANTARE'!$L61,\"\")","v":""},null,"",{"$f":"IF(AND($B160=\"AZIONE_3\",$L160=4),'3 - SPECIE DA IMPIANTARE'!$L61,\"\")","v":""},null,"",{"$f":"IF(AND($B160=\"AZIONE_3\",$O160=5),'3 - SPECIE DA IMPIANTARE'!$L61,\"\")","v":""},null,"",{"$f":"IF(AND($B160=\"AZIONE_3\",$R160=6),'3 - SPECIE DA IMPIANTARE'!$L61,\"\")","v":""}]
[2,"","",{"$f":"IF(AND($B161=\"AZIONE_3\",C161=1),'3 - SPECIE DA IMPIANTARE'!$L62,\"\")","v":""},null,"",{"$f":"IF(AND($B161=\"AZIONE_3\",F161=2),'3 - SPECIE DA IMPIANTARE'!$L62,\"\")","v":""},null,"",{"$f":"IF(AND($B161=\"AZIONE_3\",$I161=3),'3 - SPECIE DA IMPIANTARE'!$L62,\"\")","v":""},null,"",{"$f":"IF(AND($B161=\"AZIONE_3\",$L161=4),'3 - SPECIE DA IMPIANTARE'!$L62,\"\")","v":""},null,"",{"$f":"IF(AND($B161=\"AZIONE_3\",$O161=5),'3 - SPECIE DA IMPIANTARE'!$L62,\"\")","v":""},null,"",{"$f":"IF(AND($B161=\"AZIONE_3\",$R161=6),'3 - SPECIE DA IMPIANTARE'!$L62,\"\")","v":""}]
[2,"","",{"$f":"IF(AND($B162=\"AZIONE_3\",C162=1),'3 - SPECIE DA IMPIANTARE'!$L63,\"\")","v":""},null,"",{"$f":"IF(AND($B162=\"AZIONE_3\",F162=2),'3 - SPECIE DA IMPIANTARE'!$L63,\"\")","v":""},null,"",{"$f":"IF(AND($B162=\"AZIONE_3\",$I162=3),'3 - SPECIE DA IMPIANTARE'!$L63,\"\")","v":""},null,"",{"$f":"IF(AND($B162=\"AZIONE_3\",$L162=4),'3 - SPECIE DA IMPIANTARE'!$L63,\"\")","v":""},null,"",{"$f":"IF(AND($B162=\"AZIONE_3\",$O162=5),'3 - SPECIE DA IMPIANTARE'!$L63,\"\")","v":""},null,"",{"$f":"IF(AND($B162=\"AZIONE_3\",$R162=6),'3 - SPECIE DA IMPIANTARE'!$L63,\"\")","v":""}]
[2,"","",{"$f":"IF(AND($B163=\"AZIONE_3\",C163=1),'3 - SPECIE DA IMPIANTARE'!$L64,\"\")","v":""},null,"",{"$f":"IF(AND($B163=\"AZIONE_3\",F163=2),'3 - SPECIE DA IMPIANTARE'!$L64,\"\")","v":""},null,"",{"$f":"IF(AND($B163=\"AZIONE_3\",$I163=3),'3 - SPECIE DA IMPIANTARE'!$L64,\"\")","v":""},null,"",{"$f":"IF(AND($B163=\"AZIONE_3\",$L163=4),'3 - SPECIE DA IMPIANTARE'!$L64,\"\")","v":""},null,"",{"$f":"IF(AND($B163=\"AZIONE_3\",$O163=5),'3 - SPECIE DA IMPIANTARE'!$L64,\"\")","v":""},null,"",{"$f":"IF(AND($B163=\"AZIONE_3\",$R163=6),'3 - SPECIE DA IMPIANTARE'!$L64,\"\")","v":""}]
[2,"","",{"$f":"IF(AND($B164=\"AZIONE_3\",C164=1),'3 - SPECIE DA IMPIANTARE'!$L65,\"\")","v":""},null,"",{"$f":"IF(AND($B164=\"AZIONE_3\",F164=2),'3 - SPECIE DA IMPIANTARE'!$L65,\"\")","v":""},null,"",{"$f":"IF(AND($B164=\"AZIONE_3\",$I164=3),'3 - SPECIE DA IMPIANTARE'!$L65,\"\")","v":""},null,"",{"$f":"IF(AND($B164=\"AZIONE_3\",$L164=4),'3 - SPECIE DA IMPIANTARE'!$L65,\"\")","v":""},null,"",{"$f":"IF(AND($B164=\"AZIONE_3\",$O164=5),'3 - SPECIE DA IMPIANTARE'!$L65,\"\")","v":""},null,"",{"$f":"IF(AND($B164=\"AZIONE_3\",$R164=6),'3 - SPECIE DA IMPIANTARE'!$L65,\"\")","v":""}]
[2,"","",{"$f":"IF(AND($B165=\"AZIONE_3\",C165=1),'3 - SPECIE DA IMPIANTARE'!$L66,\"\")","v":""},null,"",{"$f":"IF(AND($B165=\"AZIONE_3\",F165=2),'3 - SPECIE DA IMPIANTARE'!$L66,\"\")","v":""},null,"",{"$f":"IF(AND($B165=\"AZIONE_3\",$I165=3),'3 - SPECIE DA IMPIANTARE'!$L66,\"\")","v":""},null,"",{"$f":"IF(AND($B165=\"AZIONE_3\",$L165=4),'3 - SPECIE DA IMPIANTARE'!$L66,\"\")","v":""},null,"",{"$f":"IF(AND($B165=\"AZIONE_3\",$O165=5),'3 - SPECIE DA IMPIANTARE'!$L66,\"\")","v":""},null,"",{"$f":"IF(AND($B165=\"AZIONE_3\",$R165=6),'3 - SPECIE DA IMPIANTARE'!$L66,\"\")","v":""}]
[2,"","",{"$f":"IF(AND($B166=\"AZIONE_3\",C166=1),'3 - SPECIE DA IMPIANTARE'!$L67,\"\")","v":""},null,"",{"$f":"IF(AND($B166=\"AZIONE_3\",F166=2),'3 - SPECIE DA IMPIANTARE'!$L67,\"\")","v":""},null,"",{"$f":"IF(AND($B166=\"AZIONE_3\",$I166=3),'3 - SPECIE DA IMPIANTARE'!$L67,\"\")","v":""},null,"",{"$f":"IF(AND($B166=\"AZIONE_3\",$L166=4),'3 - SPECIE DA IMPIANTARE'!$L67,\"\")","v":""},null,"",{"$f":"IF(AND($B166=\"AZIONE_3\",$O166=5),'3 - SPECIE DA IMPIANTARE'!$L67,\"\")","v":""},null,"",{"$f":"IF(AND($B166=\"AZIONE_3\",$R166=6),'3 - SPECIE DA IMPIANTARE'!$L67,\"\")","v":""}]
[2,{"$f":"B67","v":""},"",{"$f":"IF(AND($B167=\"AZIONE_3\",C167=1),'3 - SPECIE DA IMPIANTARE'!$L68,\"\")","v":""},null,{"$f":"F67","v":""},{"$f":"IF(AND($B167=\"AZIONE_3\",F167=2),'3 - SPECIE DA IMPIANTARE'!$L68,\"\")","v":""},null,{"$f":"I67","v":""},{"$f":"IF(AND($B167=\"AZIONE_3\",$I167=3),'3 - SPECIE DA IMPIANTARE'!$L68,\"\")","v":""},null,{"$f":"L67","v":""},{"$f":"IF(AND($B167=\"AZIONE_3\",$L167=4),'3 - SPECIE DA IMPIANTARE'!$L68,\"\")","v":""},null,{"$f":"O67","v":""},{"$f":"IF(AND($B167=\"AZIONE_3\",$O167=5),'3 - SPECIE DA IMPIANTARE'!$L68,\"\")","v":""},null,{"$f":"R67","v":""},{"$f":"IF(AND($B167=\"AZIONE_3\",$R167=6),'3 - SPECIE DA IMPIANTARE'!$L68,\"\")","v":""}]
[2,"","",{"$f":"IF(AND($B168=\"AZIONE_3\",C168=1),'3 - SPECIE DA IMPIANTARE'!$L69,\"\")","v":""},null,"",{"$f":"IF(AND($B168=\"AZIONE_3\",F168=2),'3 - SPECIE DA IMPIANTARE'!$L69,\"\")","v":""},null,"",{"$f":"IF(AND($B168=\"AZIONE_3\",$I168=3),'3 - SPECIE DA IMPIANTARE'!$L69,\"\")","v":""},null,"",{"$f":"IF(AND($B168=\"AZIONE_3\",$L168=4),'3 - SPECIE DA IMPIANTARE'!$L69,\"\")","v":""},null,"",{"$f":"IF(AND($B168=\"AZIONE_3\",$O168=5),'3 - SPECIE DA IMPIANTARE'!$L69,\"\")","v":""},null,"",{"$f":"IF(AND($B168=\"AZIONE_3\",$R168=6),'3 - SPECIE DA IMPIANTARE'!$L69,\"\")","v":""}]
[2,"","",{"$f":"IF(AND($B169=\"AZIONE_3\",C169=1),'3 - SPECIE DA IMPIANTARE'!$L70,\"\")","v":""},null,"",{"$f":"IF(AND($B169=\"AZIONE_3\",F169=2),'3 - SPECIE DA IMPIANTARE'!$L70,\"\")","v":""},null,"",{"$f":"IF(AND($B169=\"AZIONE_3\",$I169=3),'3 - SPECIE DA IMPIANTARE'!$L70,\"\")","v":""},null,"",{"$f":"IF(AND($B169=\"AZIONE_3\",$L169=4),'3 - SPECIE DA IMPIANTARE'!$L70,\"\")","v":""},null,"",{"$f":"IF(AND($B169=\"AZIONE_3\",$O169=5),'3 - SPECIE DA IMPIANTARE'!$L70,\"\")","v":""},null,"",{"$f":"IF(AND($B169=\"AZIONE_3\",$R169=6),'3 - SPECIE DA IMPIANTARE'!$L70,\"\")","v":""}]
[2,"","",{"$f":"IF(AND($B170=\"AZIONE_3\",C170=1),'3 - SPECIE DA IMPIANTARE'!$L71,\"\")","v":""},null,"",{"$f":"IF(AND($B170=\"AZIONE_3\",F170=2),'3 - SPECIE DA IMPIANTARE'!$L71,\"\")","v":""},null,"",{"$f":"IF(AND($B170=\"AZIONE_3\",$I170=3),'3 - SPECIE DA IMPIANTARE'!$L71,\"\")","v":""},null,"",{"$f":"IF(AND($B170=\"AZIONE_3\",$L170=4),'3 - SPECIE DA IMPIANTARE'!$L71,\"\")","v":""},null,"",{"$f":"IF(AND($B170=\"AZIONE_3\",$O170=5),'3 - SPECIE DA IMPIANTARE'!$L71,\"\")","v":""},null,"",{"$f":"IF(AND($B170=\"AZIONE_3\",$R170=6),'3 - SPECIE DA IMPIANTARE'!$L71,\"\")","v":""}]
[2,"","",{"$f":"IF(AND($B171=\"AZIONE_3\",C171=1),'3 - SPECIE DA IMPIANTARE'!$L72,\"\")","v":""},null,"",{"$f":"IF(AND($B171=\"AZIONE_3\",F171=2),'3 - SPECIE DA IMPIANTARE'!$L72,\"\")","v":""},null,"",{"$f":"IF(AND($B171=\"AZIONE_3\",$I171=3),'3 - SPECIE DA IMPIANTARE'!$L72,\"\")","v":""},null,"",{"$f":"IF(AND($B171=\"AZIONE_3\",$L171=4),'3 - SPECIE DA IMPIANTARE'!$L72,\"\")","v":""},null,"",{"$f":"IF(AND($B171=\"AZIONE_3\",$O171=5),'3 - SPECIE DA IMPIANTARE'!$L72,\"\")","v":""},null,"",{"$f":"IF(AND($B171=\"AZIONE_3\",$R171=6),'3 - SPECIE DA IMPIANTARE'!$L72,\"\")","v":""}]
[2,"","",{"$f":"IF(AND($B172=\"AZIONE_3\",C172=1),'3 - SPECIE DA IMPIANTARE'!$L73,\"\")","v":""},null,"",{"$f":"IF(AND($B172=\"AZIONE_3\",F172=2),'3 - SPECIE DA IMPIANTARE'!$L73,\"\")","v":""},null,"",{"$f":"IF(AND($B172=\"AZIONE_3\",$I172=3),'3 - SPECIE DA IMPIANTARE'!$L73,\"\")","v":""},null,"",{"$f":"IF(AND($B172=\"AZIONE_3\",$L172=4),'3 - SPECIE DA IMPIANTARE'!$L73,\"\")","v":""},null,"",{"$f":"IF(AND($B172=\"AZIONE_3\",$O172=5),'3 - SPECIE DA IMPIANTARE'!$L73,\"\")","v":""},null,"",{"$f":"IF(AND($B172=\"AZIONE_3\",$R172=6),'3 - SPECIE DA IMPIANTARE'!$L73,\"\")","v":""}]
[2,"","",{"$f":"IF(AND($B173=\"AZIONE_3\",C173=1),'3 - SPECIE DA IMPIANTARE'!$L74,\"\")","v":""},null,"",{"$f":"IF(AND($B173=\"AZIONE_3\",F173=2),'3 - SPECIE DA IMPIANTARE'!$L74,\"\")","v":""},null,"",{"$f":"IF(AND($B173=\"AZIONE_3\",$I173=3),'3 - SPECIE DA IMPIANTARE'!$L74,\"\")","v":""},null,"",{"$f":"IF(AND($B173=\"AZIONE_3\",$L173=4),'3 - SPECIE DA IMPIANTARE'!$L74,\"\")","v":""},null,"",{"$f":"IF(AND($B173=\"AZIONE_3\",$O173=5),'3 - SPECIE DA IMPIANTARE'!$L74,\"\")","v":""},null,"",{"$f":"IF(AND($B173=\"AZIONE_3\",$R173=6),'3 - SPECIE DA IMPIANTARE'!$L74,\"\")","v":""}]
[2,"","",{"$f":"IF(AND($B174=\"AZIONE_3\",C174=1),'3 - SPECIE DA IMPIANTARE'!$L75,\"\")","v":""},null,"",{"$f":"IF(AND($B174=\"AZIONE_3\",F174=2),'3 - SPECIE DA IMPIANTARE'!$L75,\"\")","v":""},null,"",{"$f":"IF(AND($B174=\"AZIONE_3\",$I174=3),'3 - SPECIE DA IMPIANTARE'!$L75,\"\")","v":""},null,"",{"$f":"IF(AND($B174=\"AZIONE_3\",$L174=4),'3 - SPECIE DA IMPIANTARE'!$L75,\"\")","v":""},null,"",{"$f":"IF(AND($B174=\"AZIONE_3\",$O174=5),'3 - SPECIE DA IMPIANTARE'!$L75,\"\")","v":""},null,"",{"$f":"IF(AND($B174=\"AZIONE_3\",$R174=6),'3 - SPECIE DA IMPIANTARE'!$L75,\"\")","v":""}]
[2,"","",{"$f":"IF(AND($B175=\"AZIONE_3\",C175=1),'3 - SPECIE DA IMPIANTARE'!$L76,\"\")","v":""},null,"",{"$f":"IF(AND($B175=\"AZIONE_3\",F175=2),'3 - SPECIE DA IMPIANTARE'!$L76,\"\")","v":""},null,"",{"$f":"IF(AND($B175=\"AZIONE_3\",$I175=3),'3 - SPECIE DA IMPIANTARE'!$L76,\"\")","v":""},null,"",{"$f":"IF(AND($B175=\"AZIONE_3\",$L175=4),'3 - SPECIE DA IMPIANTARE'!$L76,\"\")","v":""},null,"",{"$f":"IF(AND($B175=\"AZIONE_3\",$O175=5),'3 - SPECIE DA IMPIANTARE'!$L76,\"\")","v":""},null,"",{"$f":"IF(AND($B175=\"AZIONE_3\",$R175=6),'3 - SPECIE DA IMPIANTARE'!$L76,\"\")","v":""}]
[2,"","",{"$f":"IF(AND($B176=\"AZIONE_3\",C176=1),'3 - SPECIE DA IMPIANTARE'!$L77,\"\")","v":""},null,"",{"$f":"IF(AND($B176=\"AZIONE_3\",F176=2),'3 - SPECIE DA IMPIANTARE'!$L77,\"\")","v":""},null,"",{"$f":"IF(AND($B176=\"AZIONE_3\",$I176=3),'3 - SPECIE DA IMPIANTARE'!$L77,\"\")","v":""},null,"",{"$f":"IF(AND($B176=\"AZIONE_3\",$L176=4),'3 - SPECIE DA IMPIANTARE'!$L77,\"\")","v":""},null,"",{"$f":"IF(AND($B176=\"AZIONE_3\",$O176=5),'3 - SPECIE DA IMPIANTARE'!$L77,\"\")","v":""},null,"",{"$f":"IF(AND($B176=\"AZIONE_3\",$R176=6),'3 - SPECIE DA IMPIANTARE'!$L77,\"\")","v":""}]
[2,"","",{"$f":"IF(AND($B177=\"AZIONE_3\",C177=1),'3 - SPECIE DA IMPIANTARE'!$L78,\"\")","v":""},null,"",{"$f":"IF(AND($B177=\"AZIONE_3\",F177=2),'3 - SPECIE DA IMPIANTARE'!$L78,\"\")","v":""},null,"",{"$f":"IF(AND($B177=\"AZIONE_3\",$I177=3),'3 - SPECIE DA IMPIANTARE'!$L78,\"\")","v":""},null,"",{"$f":"IF(AND($B177=\"AZIONE_3\",$L177=4),'3 - SPECIE DA IMPIANTARE'!$L78,\"\")","v":""},null,"",{"$f":"IF(AND($B177=\"AZIONE_3\",$O177=5),'3 - SPECIE DA IMPIANTARE'!$L78,\"\")","v":""},null,"",{"$f":"IF(AND($B177=\"AZIONE_3\",$R177=6),'3 - SPECIE DA IMPIANTARE'!$L78,\"\")","v":""}]
[2,"","",{"$f":"IF(AND($B178=\"AZIONE_3\",C178=1),'3 - SPECIE DA IMPIANTARE'!$L79,\"\")","v":""},null,"",{"$f":"IF(AND($B178=\"AZIONE_3\",F178=2),'3 - SPECIE DA IMPIANTARE'!$L79,\"\")","v":""},null,"",{"$f":"IF(AND($B178=\"AZIONE_3\",$I178=3),'3 - SPECIE DA IMPIANTARE'!$L79,\"\")","v":""},null,"",{"$f":"IF(AND($B178=\"AZIONE_3\",$L178=4),'3 - SPECIE DA IMPIANTARE'!$L79,\"\")","v":""},null,"",{"$f":"IF(AND($B178=\"AZIONE_3\",$O178=5),'3 - SPECIE DA IMPIANTARE'!$L79,\"\")","v":""},null,"",{"$f":"IF(AND($B178=\"AZIONE_3\",$R178=6),'3 - SPECIE DA IMPIANTARE'!$L79,\"\")","v":""}]
[2,"","",{"$f":"IF(AND($B179=\"AZIONE_3\",C179=1),'3 - SPECIE DA IMPIANTARE'!$L80,\"\")","v":""},null,"",{"$f":"IF(AND($B179=\"AZIONE_3\",F179=2),'3 - SPECIE DA IMPIANTARE'!$L80,\"\")","v":""},null,"",{"$f":"IF(AND($B179=\"AZIONE_3\",$I179=3),'3 - SPECIE DA IMPIANTARE'!$L80,\"\")","v":""},null,"",{"$f":"IF(AND($B179=\"AZIONE_3\",$L179=4),'3 - SPECIE DA IMPIANTARE'!$L80,\"\")","v":""},null,"",{"$f":"IF(AND($B179=\"AZIONE_3\",$O179=5),'3 - SPECIE DA IMPIANTARE'!$L80,\"\")","v":""},null,"",{"$f":"IF(AND($B179=\"AZIONE_3\",$R179=6),'3 - SPECIE DA IMPIANTARE'!$L80,\"\")","v":""}]
[2,"","",{"$f":"IF(AND($B180=\"AZIONE_3\",C180=1),'3 - SPECIE DA IMPIANTARE'!$L81,\"\")","v":""},null,"",{"$f":"IF(AND($B180=\"AZIONE_3\",F180=2),'3 - SPECIE DA IMPIANTARE'!$L81,\"\")","v":""},null,"",{"$f":"IF(AND($B180=\"AZIONE_3\",$I180=3),'3 - SPECIE DA IMPIANTARE'!$L81,\"\")","v":""},null,"",{"$f":"IF(AND($B180=\"AZIONE_3\",$L180=4),'3 - SPECIE DA IMPIANTARE'!$L81,\"\")","v":""},null,"",{"$f":"IF(AND($B180=\"AZIONE_3\",$O180=5),'3 - SPECIE DA IMPIANTARE'!$L81,\"\")","v":""},null,"",{"$f":"IF(AND($B180=\"AZIONE_3\",$R180=6),'3 - SPECIE DA IMPIANTARE'!$L81,\"\")","v":""}]
[2,"","",{"$f":"IF(AND($B181=\"AZIONE_3\",C181=1),'3 - SPECIE DA IMPIANTARE'!$L82,\"\")","v":""},null,"",{"$f":"IF(AND($B181=\"AZIONE_3\",F181=2),'3 - SPECIE DA IMPIANTARE'!$L82,\"\")","v":""},null,"",{"$f":"IF(AND($B181=\"AZIONE_3\",$I181=3),'3 - SPECIE DA IMPIANTARE'!$L82,\"\")","v":""},null,"",{"$f":"IF(AND($B181=\"AZIONE_3\",$L181=4),'3 - SPECIE DA IMPIANTARE'!$L82,\"\")","v":""},null,"",{"$f":"IF(AND($B181=\"AZIONE_3\",$O181=5),'3 - SPECIE DA IMPIANTARE'!$L82,\"\")","v":""},null,"",{"$f":"IF(AND($B181=\"AZIONE_3\",$R181=6),'3 - SPECIE DA IMPIANTARE'!$L82,\"\")","v":""}]
[2,"","",{"$f":"IF(AND($B182=\"AZIONE_3\",C182=1),'3 - SPECIE DA IMPIANTARE'!$L83,\"\")","v":""},null,"",{"$f":"IF(AND($B182=\"AZIONE_3\",F182=2),'3 - SPECIE DA IMPIANTARE'!$L83,\"\")","v":""},null,"",{"$f":"IF(AND($B182=\"AZIONE_3\",$I182=3),'3 - SPECIE DA IMPIANTARE'!$L83,\"\")","v":""},null,"",{"$f":"IF(AND($B182=\"AZIONE_3\",$L182=4),'3 - SPECIE DA IMPIANTARE'!$L83,\"\")","v":""},null,"",{"$f":"IF(AND($B182=\"AZIONE_3\",$O182=5),'3 - SPECIE DA IMPIANTARE'!$L83,\"\")","v":""},null,"",{"$f":"IF(AND($B182=\"AZIONE_3\",$R182=6),'3 - SPECIE DA IMPIANTARE'!$L83,\"\")","v":""}]
[2,{"$f":"B83","v":""},"",{"$f":"IF(AND($B183=\"AZIONE_3\",C183=1),'3 - SPECIE DA IMPIANTARE'!$L84,\"\")","v":""},null,"",{"$f":"IF(AND($B183=\"AZIONE_3\",F183=2),'3 - SPECIE DA IMPIANTARE'!$L84,\"\")","v":""},null,"",{"$f":"IF(AND($B183=\"AZIONE_3\",$I183=3),'3 - SPECIE DA IMPIANTARE'!$L84,\"\")","v":""},null,"",{"$f":"IF(AND($B183=\"AZIONE_3\",$L183=4),'3 - SPECIE DA IMPIANTARE'!$L84,\"\")","v":""},null,"",{"$f":"IF(AND($B183=\"AZIONE_3\",$O183=5),'3 - SPECIE DA IMPIANTARE'!$L84,\"\")","v":""},null,"",{"$f":"IF(AND($B183=\"AZIONE_3\",$R183=6),'3 - SPECIE DA IMPIANTARE'!$L84,\"\")","v":""}]
[2,"","",{"$f":"IF(AND($B184=\"AZIONE_3\",C184=1),'3 - SPECIE DA IMPIANTARE'!$L85,\"\")","v":""},null,"",{"$f":"IF(AND($B184=\"AZIONE_3\",F184=2),'3 - SPECIE DA IMPIANTARE'!$L85,\"\")","v":""},null,"",{"$f":"IF(AND($B184=\"AZIONE_3\",$I184=3),'3 - SPECIE DA IMPIANTARE'!$L85,\"\")","v":""},null,"",{"$f":"IF(AND($B184=\"AZIONE_3\",$L184=4),'3 - SPECIE DA IMPIANTARE'!$L85,\"\")","v":""},null,"",{"$f":"IF(AND($B184=\"AZIONE_3\",$O184=5),'3 - SPECIE DA IMPIANTARE'!$L85,\"\")","v":""},null,"",{"$f":"IF(AND($B184=\"AZIONE_3\",$R184=6),'3 - SPECIE DA IMPIANTARE'!$L85,\"\")","v":""}]
[2,"","",{"$f":"IF(AND($B185=\"AZIONE_3\",C185=1),'3 - SPECIE DA IMPIANTARE'!$L86,\"\")","v":""},null,"",{"$f":"IF(AND($B185=\"AZIONE_3\",F185=2),'3 - SPECIE DA IMPIANTARE'!$L86,\"\")","v":""},null,"",{"$f":"IF(AND($B185=\"AZIONE_3\",$I185=3),'3 - SPECIE DA IMPIANTARE'!$L86,\"\")","v":""},null,"",{"$f":"IF(AND($B185=\"AZIONE_3\",$L185=4),'3 - SPECIE DA IMPIANTARE'!$L86,\"\")","v":""},null,"",{"$f":"IF(AND($B185=\"AZIONE_3\",$O185=5),'3 - SPECIE DA IMPIANTARE'!$L86,\"\")","v":""},null,"",{"$f":"IF(AND($B185=\"AZIONE_3\",$R185=6),'3 - SPECIE DA IMPIANTARE'!$L86,\"\")","v":""}]
[2,"","",{"$f":"IF(AND($B186=\"AZIONE_3\",C186=1),'3 - SPECIE DA IMPIANTARE'!$L87,\"\")","v":""},null,"",{"$f":"IF(AND($B186=\"AZIONE_3\",F186=2),'3 - SPECIE DA IMPIANTARE'!$L87,\"\")","v":""},null,"",{"$f":"IF(AND($B186=\"AZIONE_3\",$I186=3),'3 - SPECIE DA IMPIANTARE'!$L87,\"\")","v":""},null,"",{"$f":"IF(AND($B186=\"AZIONE_3\",$L186=4),'3 - SPECIE DA IMPIANTARE'!$L87,\"\")","v":""},null,"",{"$f":"IF(AND($B186=\"AZIONE_3\",$O186=5),'3 - SPECIE DA IMPIANTARE'!$L87,\"\")","v":""},null,"",{"$f":"IF(AND($B186=\"AZIONE_3\",$R186=6),'3 - SPECIE DA IMPIANTARE'!$L87,\"\")","v":""}]
[2,"","",{"$f":"IF(AND($B187=\"AZIONE_3\",C187=1),'3 - SPECIE DA IMPIANTARE'!$L88,\"\")","v":""},null,"",{"$f":"IF(AND($B187=\"AZIONE_3\",F187=2),'3 - SPECIE DA IMPIANTARE'!$L88,\"\")","v":""},null,"",{"$f":"IF(AND($B187=\"AZIONE_3\",$I187=3),'3 - SPECIE DA IMPIANTARE'!$L88,\"\")","v":""},null,"",{"$f":"IF(AND($B187=\"AZIONE_3\",$L187=4),'3 - SPECIE DA IMPIANTARE'!$L88,\"\")","v":""},null,"",{"$f":"IF(AND($B187=\"AZIONE_3\",$O187=5),'3 - SPECIE DA IMPIANTARE'!$L88,\"\")","v":""},null,"",{"$f":"IF(AND($B187=\"AZIONE_3\",$R187=6),'3 - SPECIE DA IMPIANTARE'!$L88,\"\")","v":""}]
[2,"","",{"$f":"IF(AND($B188=\"AZIONE_3\",C188=1),'3 - SPECIE DA IMPIANTARE'!$L89,\"\")","v":""},null,"",{"$f":"IF(AND($B188=\"AZIONE_3\",F188=2),'3 - SPECIE DA IMPIANTARE'!$L89,\"\")","v":""},null,"",{"$f":"IF(AND($B188=\"AZIONE_3\",$I188=3),'3 - SPECIE DA IMPIANTARE'!$L89,\"\")","v":""},null,"",{"$f":"IF(AND($B188=\"AZIONE_3\",$L188=4),'3 - SPECIE DA IMPIANTARE'!$L89,\"\")","v":""},null,"",{"$f":"IF(AND($B188=\"AZIONE_3\",$O188=5),'3 - SPECIE DA IMPIANTARE'!$L89,\"\")","v":""},null,"",{"$f":"IF(AND($B188=\"AZIONE_3\",$R188=6),'3 - SPECIE DA IMPIANTARE'!$L89,\"\")","v":""}]
[2,"","",{"$f":"IF(AND($B189=\"AZIONE_3\",C189=1),'3 - SPECIE DA IMPIANTARE'!$L90,\"\")","v":""},null,"",{"$f":"IF(AND($B189=\"AZIONE_3\",F189=2),'3 - SPECIE DA IMPIANTARE'!$L90,\"\")","v":""},null,"",{"$f":"IF(AND($B189=\"AZIONE_3\",$I189=3),'3 - SPECIE DA IMPIANTARE'!$L90,\"\")","v":""},null,"",{"$f":"IF(AND($B189=\"AZIONE_3\",$L189=4),'3 - SPECIE DA IMPIANTARE'!$L90,\"\")","v":""},null,"",{"$f":"IF(AND($B189=\"AZIONE_3\",$O189=5),'3 - SPECIE DA IMPIANTARE'!$L90,\"\")","v":""},null,"",{"$f":"IF(AND($B189=\"AZIONE_3\",$R189=6),'3 - SPECIE DA IMPIANTARE'!$L90,\"\")","v":""}]
[2,"","",{"$f":"IF(AND($B190=\"AZIONE_3\",C190=1),'3 - SPECIE DA IMPIANTARE'!$L91,\"\")","v":""},null,"",{"$f":"IF(AND($B190=\"AZIONE_3\",F190=2),'3 - SPECIE DA IMPIANTARE'!$L91,\"\")","v":""},null,"",{"$f":"IF(AND($B190=\"AZIONE_3\",$I190=3),'3 - SPECIE DA IMPIANTARE'!$L91,\"\")","v":""},null,"",{"$f":"IF(AND($B190=\"AZIONE_3\",$L190=4),'3 - SPECIE DA IMPIANTARE'!$L91,\"\")","v":""},null,"",{"$f":"IF(AND($B190=\"AZIONE_3\",$O190=5),'3 - SPECIE DA IMPIANTARE'!$L91,\"\")","v":""},null,"",{"$f":"IF(AND($B190=\"AZIONE_3\",$R190=6),'3 - SPECIE DA IMPIANTARE'!$L91,\"\")","v":""}]
[2,"","",{"$f":"IF(AND($B191=\"AZIONE_3\",C191=1),'3 - SPECIE DA IMPIANTARE'!$L92,\"\")","v":""},null,"",{"$f":"IF(AND($B191=\"AZIONE_3\",F191=2),'3 - SPECIE DA IMPIANTARE'!$L92,\"\")","v":""},null,"",{"$f":"IF(AND($B191=\"AZIONE_3\",$I191=3),'3 - SPECIE DA IMPIANTARE'!$L92,\"\")","v":""},null,"",{"$f":"IF(AND($B191=\"AZIONE_3\",$L191=4),'3 - SPECIE DA IMPIANTARE'!$L92,\"\")","v":""},null,"",{"$f":"IF(AND($B191=\"AZIONE_3\",$O191=5),'3 - SPECIE DA IMPIANTARE'!$L92,\"\")","v":""},null,"",{"$f":"IF(AND($B191=\"AZIONE_3\",$R191=6),'3 - SPECIE DA IMPIANTARE'!$L92,\"\")","v":""}]
[2,"","",{"$f":"IF(AND($B192=\"AZIONE_3\",C192=1),'3 - SPECIE DA IMPIANTARE'!$L93,\"\")","v":""},null,"",{"$f":"IF(AND($B192=\"AZIONE_3\",F192=2),'3 - SPECIE DA IMPIANTARE'!$L93,\"\")","v":""},null,"",{"$f":"IF(AND($B192=\"AZIONE_3\",$I192=3),'3 - SPECIE DA IMPIANTARE'!$L93,\"\")","v":""},null,"",{"$f":"IF(AND($B192=\"AZIONE_3\",$L192=4),'3 - SPECIE DA IMPIANTARE'!$L93,\"\")","v":""},null,"",{"$f":"IF(AND($B192=\"AZIONE_3\",$O192=5),'3 - SPECIE DA IMPIANTARE'!$L93,\"\")","v":""},null,"",{"$f":"IF(AND($B192=\"AZIONE_3\",$R192=6),'3 - SPECIE DA IMPIANTARE'!$L93,\"\")","v":""}]
[2,"","",{"$f":"IF(AND($B193=\"AZIONE_3\",C193=1),'3 - SPECIE DA IMPIANTARE'!$L94,\"\")","v":""},null,"",{"$f":"IF(AND($B193=\"AZIONE_3\",F193=2),'3 - SPECIE DA IMPIANTARE'!$L94,\"\")","v":""},null,"",{"$f":"IF(AND($B193=\"AZIONE_3\",$I193=3),'3 - SPECIE DA IMPIANTARE'!$L94,\"\")","v":""},null,"",{"$f":"IF(AND($B193=\"AZIONE_3\",$L193=4),'3 - SPECIE DA IMPIANTARE'!$L94,\"\")","v":""},null,"",{"$f":"IF(AND($B193=\"AZIONE_3\",$O193=5),'3 - SPECIE DA IMPIANTARE'!$L94,\"\")","v":""},null,"",{"$f":"IF(AND($B193=\"AZIONE_3\",$R193=6),'3 - SPECIE DA IMPIANTARE'!$L94,\"\")","v":""}]
[2,"","",{"$f":"IF(AND($B194=\"AZIONE_3\",C194=1),'3 - SPECIE DA IMPIANTARE'!$L95,\"\")","v":""},null,"",{"$f":"IF(AND($B194=\"AZIONE_3\",F194=2),'3 - SPECIE DA IMPIANTARE'!$L95,\"\")","v":""},null,"",{"$f":"IF(AND($B194=\"AZIONE_3\",$I194=3),'3 - SPECIE DA IMPIANTARE'!$L95,\"\")","v":""},null,"",{"$f":"IF(AND($B194=\"AZIONE_3\",$L194=4),'3 - SPECIE DA IMPIANTARE'!$L95,\"\")","v":""},null,"",{"$f":"IF(AND($B194=\"AZIONE_3\",$O194=5),'3 - SPECIE DA IMPIANTARE'!$L95,\"\")","v":""},null,"",{"$f":"IF(AND($B194=\"AZIONE_3\",$R194=6),'3 - SPECIE DA IMPIANTARE'!$L95,\"\")","v":""}]
[2,"","",{"$f":"IF(AND($B195=\"AZIONE_3\",C195=1),'3 - SPECIE DA IMPIANTARE'!$L96,\"\")","v":""},null,"",{"$f":"IF(AND($B195=\"AZIONE_3\",F195=2),'3 - SPECIE DA IMPIANTARE'!$L96,\"\")","v":""},null,"",{"$f":"IF(AND($B195=\"AZIONE_3\",$I195=3),'3 - SPECIE DA IMPIANTARE'!$L96,\"\")","v":""},null,"",{"$f":"IF(AND($B195=\"AZIONE_3\",$L195=4),'3 - SPECIE DA IMPIANTARE'!$L96,\"\")","v":""},null,"",{"$f":"IF(AND($B195=\"AZIONE_3\",$O195=5),'3 - SPECIE DA IMPIANTARE'!$L96,\"\")","v":""},null,"",{"$f":"IF(AND($B195=\"AZIONE_3\",$R195=6),'3 - SPECIE DA IMPIANTARE'!$L96,\"\")","v":""}]
[2,"","",{"$f":"IF(AND($B196=\"AZIONE_3\",C196=1),'3 - SPECIE DA IMPIANTARE'!$L97,\"\")","v":""},null,"",{"$f":"IF(AND($B196=\"AZIONE_3\",F196=2),'3 - SPECIE DA IMPIANTARE'!$L97,\"\")","v":""},null,"",{"$f":"IF(AND($B196=\"AZIONE_3\",$I196=3),'3 - SPECIE DA IMPIANTARE'!$L97,\"\")","v":""},null,"",{"$f":"IF(AND($B196=\"AZIONE_3\",$L196=4),'3 - SPECIE DA IMPIANTARE'!$L97,\"\")","v":""},null,"",{"$f":"IF(AND($B196=\"AZIONE_3\",$O196=5),'3 - SPECIE DA IMPIANTARE'!$L97,\"\")","v":""},null,"",{"$f":"IF(AND($B196=\"AZIONE_3\",$R196=6),'3 - SPECIE DA IMPIANTARE'!$L97,\"\")","v":""}]
[2,"","",{"$f":"IF(AND($B197=\"AZIONE_3\",C197=1),'3 - SPECIE DA IMPIANTARE'!$L98,\"\")","v":""},null,"",{"$f":"IF(AND($B197=\"AZIONE_3\",F197=2),'3 - SPECIE DA IMPIANTARE'!$L98,\"\")","v":""},null,"",{"$f":"IF(AND($B197=\"AZIONE_3\",$I197=3),'3 - SPECIE DA IMPIANTARE'!$L98,\"\")","v":""},null,"",{"$f":"IF(AND($B197=\"AZIONE_3\",$L197=4),'3 - SPECIE DA IMPIANTARE'!$L98,\"\")","v":""},null,"",{"$f":"IF(AND($B197=\"AZIONE_3\",$O197=5),'3 - SPECIE DA IMPIANTARE'!$L98,\"\")","v":""},null,"",{"$f":"IF(AND($B197=\"AZIONE_3\",$R197=6),'3 - SPECIE DA IMPIANTARE'!$L98,\"\")","v":""}]
[2,"","",{"$f":"IF(AND($B198=\"AZIONE_3\",C198=1),'3 - SPECIE DA IMPIANTARE'!$L99,\"\")","v":""},null,"",{"$f":"IF(AND($B198=\"AZIONE_3\",F198=2),'3 - SPECIE DA IMPIANTARE'!$L99,\"\")","v":""},null,"",{"$f":"IF(AND($B198=\"AZIONE_3\",$I198=3),'3 - SPECIE DA IMPIANTARE'!$L99,\"\")","v":""},null,"",{"$f":"IF(AND($B198=\"AZIONE_3\",$L198=4),'3 - SPECIE DA IMPIANTARE'!$L99,\"\")","v":""},null,"",{"$f":"IF(AND($B198=\"AZIONE_3\",$O198=5),'3 - SPECIE DA IMPIANTARE'!$L99,\"\")","v":""},null,"",{"$f":"IF(AND($B198=\"AZIONE_3\",$R198=6),'3 - SPECIE DA IMPIANTARE'!$L99,\"\")","v":""}]
[2,{"$f":"B99","v":""},"",{"$f":"IF(AND($B199=\"AZIONE_3\",C199=1),'3 - SPECIE DA IMPIANTARE'!$L100,\"\")","v":""},null,"",{"$f":"IF(AND($B199=\"AZIONE_3\",F199=2),'3 - SPECIE DA IMPIANTARE'!$L100,\"\")","v":""},null,"",{"$f":"IF(AND($B199=\"AZIONE_3\",$I199=3),'3 - SPECIE DA IMPIANTARE'!$L100,\"\")","v":""},null,"",{"$f":"IF(AND($B199=\"AZIONE_3\",$L199=4),'3 - SPECIE DA IMPIANTARE'!$L100,\"\")","v":""},null,"",{"$f":"IF(AND($B199=\"AZIONE_3\",$O199=5),'3 - SPECIE DA IMPIANTARE'!$L100,\"\")","v":""},null,"",{"$f":"IF(AND($B199=\"AZIONE_3\",$R199=6),'3 - SPECIE DA IMPIANTARE'!$L100,\"\")","v":""}]
[2,"","",{"$f":"IF(AND($B200=\"AZIONE_3\",C200=1),'3 - SPECIE DA IMPIANTARE'!$L101,\"\")","v":""},null,"",{"$f":"IF(AND($B200=\"AZIONE_3\",F200=2),'3 - SPECIE DA IMPIANTARE'!$L101,\"\")","v":""},null,"",{"$f":"IF(AND($B200=\"AZIONE_3\",$I200=3),'3 - SPECIE DA IMPIANTARE'!$L101,\"\")","v":""},null,"",{"$f":"IF(AND($B200=\"AZIONE_3\",$L200=4),'3 - SPECIE DA IMPIANTARE'!$L101,\"\")","v":""},null,"",{"$f":"IF(AND($B200=\"AZIONE_3\",$O200=5),'3 - SPECIE DA IMPIANTARE'!$L101,\"\")","v":""},null,"",{"$f":"IF(AND($B200=\"AZIONE_3\",$R200=6),'3 - SPECIE DA IMPIANTARE'!$L101,\"\")","v":""}]
[2,"","",{"$f":"IF(AND($B201=\"AZIONE_3\",C201=1),'3 - SPECIE DA IMPIANTARE'!$L102,\"\")","v":""},null,"",{"$f":"IF(AND($B201=\"AZIONE_3\",F201=2),'3 - SPECIE DA IMPIANTARE'!$L102,\"\")","v":""},null,"",{"$f":"IF(AND($B201=\"AZIONE_3\",$I201=3),'3 - SPECIE DA IMPIANTARE'!$L102,\"\")","v":""},null,"",{"$f":"IF(AND($B201=\"AZIONE_3\",$L201=4),'3 - SPECIE DA IMPIANTARE'!$L102,\"\")","v":""},null,"",{"$f":"IF(AND($B201=\"AZIONE_3\",$O201=5),'3 - SPECIE DA IMPIANTARE'!$L102,\"\")","v":""},null,"",{"$f":"IF(AND($B201=\"AZIONE_3\",$R201=6),'3 - SPECIE DA IMPIANTARE'!$L102,\"\")","v":""}]
[3,"","",{"$f":"IF(AND($B202=\"AZIONE_3\",C202=1),'3 - SPECIE DA IMPIANTARE'!$O3,\"\")","v":""},null,"",{"$f":"IF(AND($B202=\"AZIONE_3\",F202=2),'3 - SPECIE DA IMPIANTARE'!$O3,\"\")","v":""},null,"",{"$f":"IF(AND($B202=\"AZIONE_3\",$I202=3),'3 - SPECIE DA IMPIANTARE'!$O3,\"\")","v":""},null,"",{"$f":"IF(AND($B202=\"AZIONE_3\",$L202=4),'3 - SPECIE DA IMPIANTARE'!$O3,\"\")","v":""},null,"",{"$f":"IF(AND($B202=\"AZIONE_3\",$O202=5),'3 - SPECIE DA IMPIANTARE'!$O3,\"\")","v":""},null,"",{"$f":"IF(AND($B202=\"AZIONE_3\",$R202=6),'3 - SPECIE DA IMPIANTARE'!$O3,\"\")","v":""}]
[3,"","",{"$f":"IF(AND($B203=\"AZIONE_3\",C203=1),'3 - SPECIE DA IMPIANTARE'!$O4,\"\")","v":""},null,"",{"$f":"IF(AND($B203=\"AZIONE_3\",F203=2),'3 - SPECIE DA IMPIANTARE'!$O4,\"\")","v":""},null,"",{"$f":"IF(AND($B203=\"AZIONE_3\",$I203=3),'3 - SPECIE DA IMPIANTARE'!$O4,\"\")","v":""},null,"",{"$f":"IF(AND($B203=\"AZIONE_3\",$L203=4),'3 - SPECIE DA IMPIANTARE'!$O4,\"\")","v":""},null,"",{"$f":"IF(AND($B203=\"AZIONE_3\",$O203=5),'3 - SPECIE DA IMPIANTARE'!$O4,\"\")","v":""},null,"",{"$f":"IF(AND($B203=\"AZIONE_3\",$R203=6),'3 - SPECIE DA IMPIANTARE'!$O4,\"\")","v":""}]
[3,"","",{"$f":"IF(AND($B204=\"AZIONE_3\",C204=1),'3 - SPECIE DA IMPIANTARE'!$O5,\"\")","v":""},null,"",{"$f":"IF(AND($B204=\"AZIONE_3\",F204=2),'3 - SPECIE DA IMPIANTARE'!$O5,\"\")","v":""},null,"",{"$f":"IF(AND($B204=\"AZIONE_3\",$I204=3),'3 - SPECIE DA IMPIANTARE'!$O5,\"\")","v":""},null,"",{"$f":"IF(AND($B204=\"AZIONE_3\",$L204=4),'3 - SPECIE DA IMPIANTARE'!$O5,\"\")","v":""},null,"",{"$f":"IF(AND($B204=\"AZIONE_3\",$O204=5),'3 - SPECIE DA IMPIANTARE'!$O5,\"\")","v":""},null,"",{"$f":"IF(AND($B204=\"AZIONE_3\",$R204=6),'3 - SPECIE DA IMPIANTARE'!$O5,\"\")","v":""}]
[3,"","",{"$f":"IF(AND($B205=\"AZIONE_3\",C205=1),'3 - SPECIE DA IMPIANTARE'!$O6,\"\")","v":""},null,"",{"$f":"IF(AND($B205=\"AZIONE_3\",F205=2),'3 - SPECIE DA IMPIANTARE'!$O6,\"\")","v":""},null,"",{"$f":"IF(AND($B205=\"AZIONE_3\",$I205=3),'3 - SPECIE DA IMPIANTARE'!$O6,\"\")","v":""},null,"",{"$f":"IF(AND($B205=\"AZIONE_3\",$L205=4),'3 - SPECIE DA IMPIANTARE'!$O6,\"\")","v":""},null,"",{"$f":"IF(AND($B205=\"AZIONE_3\",$O205=5),'3 - SPECIE DA IMPIANTARE'!$O6,\"\")","v":""},null,"",{"$f":"IF(AND($B205=\"AZIONE_3\",$R205=6),'3 - SPECIE DA IMPIANTARE'!$O6,\"\")","v":""}]
[3,"","",{"$f":"IF(AND($B206=\"AZIONE_3\",C206=1),'3 - SPECIE DA IMPIANTARE'!$O7,\"\")","v":""},null,"",{"$f":"IF(AND($B206=\"AZIONE_3\",F206=2),'3 - SPECIE DA IMPIANTARE'!$O7,\"\")","v":""},null,"",{"$f":"IF(AND($B206=\"AZIONE_3\",$I206=3),'3 - SPECIE DA IMPIANTARE'!$O7,\"\")","v":""},null,"",{"$f":"IF(AND($B206=\"AZIONE_3\",$L206=4),'3 - SPECIE DA IMPIANTARE'!$O7,\"\")","v":""},null,"",{"$f":"IF(AND($B206=\"AZIONE_3\",$O206=5),'3 - SPECIE DA IMPIANTARE'!$O7,\"\")","v":""},null,"",{"$f":"IF(AND($B206=\"AZIONE_3\",$R206=6),'3 - SPECIE DA IMPIANTARE'!$O7,\"\")","v":""}]
[3,"","",{"$f":"IF(AND($B207=\"AZIONE_3\",C207=1),'3 - SPECIE DA IMPIANTARE'!$O8,\"\")","v":""},null,"",{"$f":"IF(AND($B207=\"AZIONE_3\",F207=2),'3 - SPECIE DA IMPIANTARE'!$O8,\"\")","v":""},null,"",{"$f":"IF(AND($B207=\"AZIONE_3\",$I207=3),'3 - SPECIE DA IMPIANTARE'!$O8,\"\")","v":""},null,"",{"$f":"IF(AND($B207=\"AZIONE_3\",$L207=4),'3 - SPECIE DA IMPIANTARE'!$O8,\"\")","v":""},null,"",{"$f":"IF(AND($B207=\"AZIONE_3\",$O207=5),'3 - SPECIE DA IMPIANTARE'!$O8,\"\")","v":""},null,"",{"$f":"IF(AND($B207=\"AZIONE_3\",$R207=6),'3 - SPECIE DA IMPIANTARE'!$O8,\"\")","v":""}]
[3,"","",{"$f":"IF(AND($B208=\"AZIONE_3\",C208=1),'3 - SPECIE DA IMPIANTARE'!$O9,\"\")","v":""},null,"",{"$f":"IF(AND($B208=\"AZIONE_3\",F208=2),'3 - SPECIE DA IMPIANTARE'!$O9,\"\")","v":""},null,"",{"$f":"IF(AND($B208=\"AZIONE_3\",$I208=3),'3 - SPECIE DA IMPIANTARE'!$O9,\"\")","v":""},null,"",{"$f":"IF(AND($B208=\"AZIONE_3\",$L208=4),'3 - SPECIE DA IMPIANTARE'!$O9,\"\")","v":""},null,"",{"$f":"IF(AND($B208=\"AZIONE_3\",$O208=5),'3 - SPECIE DA IMPIANTARE'!$O9,\"\")","v":""},null,"",{"$f":"IF(AND($B208=\"AZIONE_3\",$R208=6),'3 - SPECIE DA IMPIANTARE'!$O9,\"\")","v":""}]
[3,"","",{"$f":"IF(AND($B209=\"AZIONE_3\",C209=1),'3 - SPECIE DA IMPIANTARE'!$O10,\"\")","v":""},null,"",{"$f":"IF(AND($B209=\"AZIONE_3\",F209=2),'3 - SPECIE DA IMPIANTARE'!$O10,\"\")","v":""},null,"",{"$f":"IF(AND($B209=\"AZIONE_3\",$I209=3),'3 - SPECIE DA IMPIANTARE'!$O10,\"\")","v":""},null,"",{"$f":"IF(AND($B209=\"AZIONE_3\",$L209=4),'3 - SPECIE DA IMPIANTARE'!$O10,\"\")","v":""},null,"",{"$f":"IF(AND($B209=\"AZIONE_3\",$O209=5),'3 - SPECIE DA IMPIANTARE'!$O10,\"\")","v":""},null,"",{"$f":"IF(AND($B209=\"AZIONE_3\",$R209=6),'3 - SPECIE DA IMPIANTARE'!$O10,\"\")","v":""}]
[3,"","",{"$f":"IF(AND($B210=\"AZIONE_3\",C210=1),'3 - SPECIE DA IMPIANTARE'!$O11,\"\")","v":""},null,"",{"$f":"IF(AND($B210=\"AZIONE_3\",F210=2),'3 - SPECIE DA IMPIANTARE'!$O11,\"\")","v":""},null,"",{"$f":"IF(AND($B210=\"AZIONE_3\",$I210=3),'3 - SPECIE DA IMPIANTARE'!$O11,\"\")","v":""},null,"",{"$f":"IF(AND($B210=\"AZIONE_3\",$L210=4),'3 - SPECIE DA IMPIANTARE'!$O11,\"\")","v":""},null,"",{"$f":"IF(AND($B210=\"AZIONE_3\",$O210=5),'3 - SPECIE DA IMPIANTARE'!$O11,\"\")","v":""},null,"",{"$f":"IF(AND($B210=\"AZIONE_3\",$R210=6),'3 - SPECIE DA IMPIANTARE'!$O11,\"\")","v":""}]
[3,"","",{"$f":"IF(AND($B211=\"AZIONE_3\",C211=1),'3 - SPECIE DA IMPIANTARE'!$O12,\"\")","v":""},null,"",{"$f":"IF(AND($B211=\"AZIONE_3\",F211=2),'3 - SPECIE DA IMPIANTARE'!$O12,\"\")","v":""},null,"",{"$f":"IF(AND($B211=\"AZIONE_3\",$I211=3),'3 - SPECIE DA IMPIANTARE'!$O12,\"\")","v":""},null,"",{"$f":"IF(AND($B211=\"AZIONE_3\",$L211=4),'3 - SPECIE DA IMPIANTARE'!$O12,\"\")","v":""},null,"",{"$f":"IF(AND($B211=\"AZIONE_3\",$O211=5),'3 - SPECIE DA IMPIANTARE'!$O12,\"\")","v":""},null,"",{"$f":"IF(AND($B211=\"AZIONE_3\",$R211=6),'3 - SPECIE DA IMPIANTARE'!$O12,\"\")","v":""}]
[3,"","",{"$f":"IF(AND($B212=\"AZIONE_3\",C212=1),'3 - SPECIE DA IMPIANTARE'!$O13,\"\")","v":""},null,"",{"$f":"IF(AND($B212=\"AZIONE_3\",F212=2),'3 - SPECIE DA IMPIANTARE'!$O13,\"\")","v":""},null,"",{"$f":"IF(AND($B212=\"AZIONE_3\",$I212=3),'3 - SPECIE DA IMPIANTARE'!$O13,\"\")","v":""},null,"",{"$f":"IF(AND($B212=\"AZIONE_3\",$L212=4),'3 - SPECIE DA IMPIANTARE'!$O13,\"\")","v":""},null,"",{"$f":"IF(AND($B212=\"AZIONE_3\",$O212=5),'3 - SPECIE DA IMPIANTARE'!$O13,\"\")","v":""},null,"",{"$f":"IF(AND($B212=\"AZIONE_3\",$R212=6),'3 - SPECIE DA IMPIANTARE'!$O13,\"\")","v":""}]
[3,"","",{"$f":"IF(AND($B213=\"AZIONE_3\",C213=1),'3 - SPECIE DA IMPIANTARE'!$O14,\"\")","v":""},null,"",{"$f":"IF(AND($B213=\"AZIONE_3\",F213=2),'3 - SPECIE DA IMPIANTARE'!$O14,\"\")","v":""},null,"",{"$f":"IF(AND($B213=\"AZIONE_3\",$I213=3),'3 - SPECIE DA IMPIANTARE'!$O14,\"\")","v":""},null,"",{"$f":"IF(AND($B213=\"AZIONE_3\",$L213=4),'3 - SPECIE DA IMPIANTARE'!$O14,\"\")","v":""},null,"",{"$f":"IF(AND($B213=\"AZIONE_3\",$O213=5),'3 - SPECIE DA IMPIANTARE'!$O14,\"\")","v":""},null,"",{"$f":"IF(AND($B213=\"AZIONE_3\",$R213=6),'3 - SPECIE DA IMPIANTARE'!$O14,\"\")","v":""}]
[3,"","",{"$f":"IF(AND($B214=\"AZIONE_3\",C214=1),'3 - SPECIE DA IMPIANTARE'!$O15,\"\")","v":""},null,"",{"$f":"IF(AND($B214=\"AZIONE_3\",F214=2),'3 - SPECIE DA IMPIANTARE'!$O15,\"\")","v":""},null,"",{"$f":"IF(AND($B214=\"AZIONE_3\",$I214=3),'3 - SPECIE DA IMPIANTARE'!$O15,\"\")","v":""},null,"",{"$f":"IF(AND($B214=\"AZIONE_3\",$L214=4),'3 - SPECIE DA IMPIANTARE'!$O15,\"\")","v":""},null,"",{"$f":"IF(AND($B214=\"AZIONE_3\",$O214=5),'3 - SPECIE DA IMPIANTARE'!$O15,\"\")","v":""},null,"",{"$f":"IF(AND($B214=\"AZIONE_3\",$R214=6),'3 - SPECIE DA IMPIANTARE'!$O15,\"\")","v":""}]
[3,{"$f":"B115","v":""},"",{"$f":"IF(AND($B215=\"AZIONE_3\",C215=1),'3 - SPECIE DA IMPIANTARE'!$O16,\"\")","v":""},null,"",{"$f":"IF(AND($B215=\"AZIONE_3\",F215=2),'3 - SPECIE DA IMPIANTARE'!$O16,\"\")","v":""},null,"",{"$f":"IF(AND($B215=\"AZIONE_3\",$I215=3),'3 - SPECIE DA IMPIANTARE'!$O16,\"\")","v":""},null,"",{"$f":"IF(AND($B215=\"AZIONE_3\",$L215=4),'3 - SPECIE DA IMPIANTARE'!$O16,\"\")","v":""},null,"",{"$f":"IF(AND($B215=\"AZIONE_3\",$O215=5),'3 - SPECIE DA IMPIANTARE'!$O16,\"\")","v":""},null,"",{"$f":"IF(AND($B215=\"AZIONE_3\",$R215=6),'3 - SPECIE DA IMPIANTARE'!$O16,\"\")","v":""}]
[3,"","",{"$f":"IF(AND($B216=\"AZIONE_3\",C216=1),'3 - SPECIE DA IMPIANTARE'!$O17,\"\")","v":""},null,"",{"$f":"IF(AND($B216=\"AZIONE_3\",F216=2),'3 - SPECIE DA IMPIANTARE'!$O17,\"\")","v":""},null,"",{"$f":"IF(AND($B216=\"AZIONE_3\",$I216=3),'3 - SPECIE DA IMPIANTARE'!$O17,\"\")","v":""},null,"",{"$f":"IF(AND($B216=\"AZIONE_3\",$L216=4),'3 - SPECIE DA IMPIANTARE'!$O17,\"\")","v":""},null,"",{"$f":"IF(AND($B216=\"AZIONE_3\",$O216=5),'3 - SPECIE DA IMPIANTARE'!$O17,\"\")","v":""},null,"",{"$f":"IF(AND($B216=\"AZIONE_3\",$R216=6),'3 - SPECIE DA IMPIANTARE'!$O17,\"\")","v":""}]
[3,"","",{"$f":"IF(AND($B217=\"AZIONE_3\",C217=1),'3 - SPECIE DA IMPIANTARE'!$O18,\"\")","v":""},null,"",{"$f":"IF(AND($B217=\"AZIONE_3\",F217=2),'3 - SPECIE DA IMPIANTARE'!$O18,\"\")","v":""},null,"",{"$f":"IF(AND($B217=\"AZIONE_3\",$I217=3),'3 - SPECIE DA IMPIANTARE'!$O18,\"\")","v":""},null,"",{"$f":"IF(AND($B217=\"AZIONE_3\",$L217=4),'3 - SPECIE DA IMPIANTARE'!$O18,\"\")","v":""},null,"",{"$f":"IF(AND($B217=\"AZIONE_3\",$O217=5),'3 - SPECIE DA IMPIANTARE'!$O18,\"\")","v":""},null,"",{"$f":"IF(AND($B217=\"AZIONE_3\",$R217=6),'3 - SPECIE DA IMPIANTARE'!$O18,\"\")","v":""}]
[3,"","",{"$f":"IF(AND($B218=\"AZIONE_3\",C218=1),'3 - SPECIE DA IMPIANTARE'!$O19,\"\")","v":""},null,"",{"$f":"IF(AND($B218=\"AZIONE_3\",F218=2),'3 - SPECIE DA IMPIANTARE'!$O19,\"\")","v":""},null,"",{"$f":"IF(AND($B218=\"AZIONE_3\",$I218=3),'3 - SPECIE DA IMPIANTARE'!$O19,\"\")","v":""},null,"",{"$f":"IF(AND($B218=\"AZIONE_3\",$L218=4),'3 - SPECIE DA IMPIANTARE'!$O19,\"\")","v":""},null,"",{"$f":"IF(AND($B218=\"AZIONE_3\",$O218=5),'3 - SPECIE DA IMPIANTARE'!$O19,\"\")","v":""},null,"",{"$f":"IF(AND($B218=\"AZIONE_3\",$R218=6),'3 - SPECIE DA IMPIANTARE'!$O19,\"\")","v":""}]
[3,"","",{"$f":"IF(AND($B219=\"AZIONE_3\",C219=1),'3 - SPECIE DA IMPIANTARE'!$O20,\"\")","v":""},null,"",{"$f":"IF(AND($B219=\"AZIONE_3\",F219=2),'3 - SPECIE DA IMPIANTARE'!$O20,\"\")","v":""},null,"",{"$f":"IF(AND($B219=\"AZIONE_3\",$I219=3),'3 - SPECIE DA IMPIANTARE'!$O20,\"\")","v":""},null,"",{"$f":"IF(AND($B219=\"AZIONE_3\",$L219=4),'3 - SPECIE DA IMPIANTARE'!$O20,\"\")","v":""},null,"",{"$f":"IF(AND($B219=\"AZIONE_3\",$O219=5),'3 - SPECIE DA IMPIANTARE'!$O20,\"\")","v":""},null,"",{"$f":"IF(AND($B219=\"AZIONE_3\",$R219=6),'3 - SPECIE DA IMPIANTARE'!$O20,\"\")","v":""}]
[3,"","",{"$f":"IF(AND($B220=\"AZIONE_3\",C220=1),'3 - SPECIE DA IMPIANTARE'!$O21,\"\")","v":""},null,"",{"$f":"IF(AND($B220=\"AZIONE_3\",F220=2),'3 - SPECIE DA IMPIANTARE'!$O21,\"\")","v":""},null,"",{"$f":"IF(AND($B220=\"AZIONE_3\",$I220=3),'3 - SPECIE DA IMPIANTARE'!$O21,\"\")","v":""},null,"",{"$f":"IF(AND($B220=\"AZIONE_3\",$L220=4),'3 - SPECIE DA IMPIANTARE'!$O21,\"\")","v":""},null,"",{"$f":"IF(AND($B220=\"AZIONE_3\",$O220=5),'3 - SPECIE DA IMPIANTARE'!$O21,\"\")","v":""},null,"",{"$f":"IF(AND($B220=\"AZIONE_3\",$R220=6),'3 - SPECIE DA IMPIANTARE'!$O21,\"\")","v":""}]
[3,"","",{"$f":"IF(AND($B221=\"AZIONE_3\",C221=1),'3 - SPECIE DA IMPIANTARE'!$O22,\"\")","v":""},null,"",{"$f":"IF(AND($B221=\"AZIONE_3\",F221=2),'3 - SPECIE DA IMPIANTARE'!$O22,\"\")","v":""},null,"",{"$f":"IF(AND($B221=\"AZIONE_3\",$I221=3),'3 - SPECIE DA IMPIANTARE'!$O22,\"\")","v":""},null,"",{"$f":"IF(AND($B221=\"AZIONE_3\",$L221=4),'3 - SPECIE DA IMPIANTARE'!$O22,\"\")","v":""},null,"",{"$f":"IF(AND($B221=\"AZIONE_3\",$O221=5),'3 - SPECIE DA IMPIANTARE'!$O22,\"\")","v":""},null,"",{"$f":"IF(AND($B221=\"AZIONE_3\",$R221=6),'3 - SPECIE DA IMPIANTARE'!$O22,\"\")","v":""}]
[3,"","",{"$f":"IF(AND($B222=\"AZIONE_3\",C222=1),'3 - SPECIE DA IMPIANTARE'!$O23,\"\")","v":""},null,"",{"$f":"IF(AND($B222=\"AZIONE_3\",F222=2),'3 - SPECIE DA IMPIANTARE'!$O23,\"\")","v":""},null,"",{"$f":"IF(AND($B222=\"AZIONE_3\",$I222=3),'3 - SPECIE DA IMPIANTARE'!$O23,\"\")","v":""},null,"",{"$f":"IF(AND($B222=\"AZIONE_3\",$L222=4),'3 - SPECIE DA IMPIANTARE'!$O23,\"\")","v":""},null,"",{"$f":"IF(AND($B222=\"AZIONE_3\",$O222=5),'3 - SPECIE DA IMPIANTARE'!$O23,\"\")","v":""},null,"",{"$f":"IF(AND($B222=\"AZIONE_3\",$R222=6),'3 - SPECIE DA IMPIANTARE'!$O23,\"\")","v":""}]
[3,"","",{"$f":"IF(AND($B223=\"AZIONE_3\",C223=1),'3 - SPECIE DA IMPIANTARE'!$O24,\"\")","v":""},null,"",{"$f":"IF(AND($B223=\"AZIONE_3\",F223=2),'3 - SPECIE DA IMPIANTARE'!$O24,\"\")","v":""},null,"",{"$f":"IF(AND($B223=\"AZIONE_3\",$I223=3),'3 - SPECIE DA IMPIANTARE'!$O24,\"\")","v":""},null,"",{"$f":"IF(AND($B223=\"AZIONE_3\",$L223=4),'3 - SPECIE DA IMPIANTARE'!$O24,\"\")","v":""},null,"",{"$f":"IF(AND($B223=\"AZIONE_3\",$O223=5),'3 - SPECIE DA IMPIANTARE'!$O24,\"\")","v":""},null,"",{"$f":"IF(AND($B223=\"AZIONE_3\",$R223=6),'3 - SPECIE DA IMPIANTARE'!$O24,\"\")","v":""}]
[3,"","",{"$f":"IF(AND($B224=\"AZIONE_3\",C224=1),'3 - SPECIE DA IMPIANTARE'!$O25,\"\")","v":""},null,"",{"$f":"IF(AND($B224=\"AZIONE_3\",F224=2),'3 - SPECIE DA IMPIANTARE'!$O25,\"\")","v":""},null,"",{"$f":"IF(AND($B224=\"AZIONE_3\",$I224=3),'3 - SPECIE DA IMPIANTARE'!$O25,\"\")","v":""},null,"",{"$f":"IF(AND($B224=\"AZIONE_3\",$L224=4),'3 - SPECIE DA IMPIANTARE'!$O25,\"\")","v":""},null,"",{"$f":"IF(AND($B224=\"AZIONE_3\",$O224=5),'3 - SPECIE DA IMPIANTARE'!$O25,\"\")","v":""},null,"",{"$f":"IF(AND($B224=\"AZIONE_3\",$R224=6),'3 - SPECIE DA IMPIANTARE'!$O25,\"\")","v":""}]
[3,"","",{"$f":"IF(AND($B225=\"AZIONE_3\",C225=1),'3 - SPECIE DA IMPIANTARE'!$O26,\"\")","v":""},null,"",{"$f":"IF(AND($B225=\"AZIONE_3\",F225=2),'3 - SPECIE DA IMPIANTARE'!$O26,\"\")","v":""},null,"",{"$f":"IF(AND($B225=\"AZIONE_3\",$I225=3),'3 - SPECIE DA IMPIANTARE'!$O26,\"\")","v":""},null,"",{"$f":"IF(AND($B225=\"AZIONE_3\",$L225=4),'3 - SPECIE DA IMPIANTARE'!$O26,\"\")","v":""},null,"",{"$f":"IF(AND($B225=\"AZIONE_3\",$O225=5),'3 - SPECIE DA IMPIANTARE'!$O26,\"\")","v":""},null,"",{"$f":"IF(AND($B225=\"AZIONE_3\",$R225=6),'3 - SPECIE DA IMPIANTARE'!$O26,\"\")","v":""}]
[3,"","",{"$f":"IF(AND($B226=\"AZIONE_3\",C226=1),'3 - SPECIE DA IMPIANTARE'!$O27,\"\")","v":""},null,"",{"$f":"IF(AND($B226=\"AZIONE_3\",F226=2),'3 - SPECIE DA IMPIANTARE'!$O27,\"\")","v":""},null,"",{"$f":"IF(AND($B226=\"AZIONE_3\",$I226=3),'3 - SPECIE DA IMPIANTARE'!$O27,\"\")","v":""},null,"",{"$f":"IF(AND($B226=\"AZIONE_3\",$L226=4),'3 - SPECIE DA IMPIANTARE'!$O27,\"\")","v":""},null,"",{"$f":"IF(AND($B226=\"AZIONE_3\",$O226=5),'3 - SPECIE DA IMPIANTARE'!$O27,\"\")","v":""},null,"",{"$f":"IF(AND($B226=\"AZIONE_3\",$R226=6),'3 - SPECIE DA IMPIANTARE'!$O27,\"\")","v":""}]
[3,"","",{"$f":"IF(AND($B227=\"AZIONE_3\",C227=1),'3 - SPECIE DA IMPIANTARE'!$O28,\"\")","v":""},null,"",{"$f":"IF(AND($B227=\"AZIONE_3\",F227=2),'3 - SPECIE DA IMPIANTARE'!$O28,\"\")","v":""},null,"",{"$f":"IF(AND($B227=\"AZIONE_3\",$I227=3),'3 - SPECIE DA IMPIANTARE'!$O28,\"\")","v":""},null,"",{"$f":"IF(AND($B227=\"AZIONE_3\",$L227=4),'3 - SPECIE DA IMPIANTARE'!$O28,\"\")","v":""},null,"",{"$f":"IF(AND($B227=\"AZIONE_3\",$O227=5),'3 - SPECIE DA IMPIANTARE'!$O28,\"\")","v":""},null,"",{"$f":"IF(AND($B227=\"AZIONE_3\",$R227=6),'3 - SPECIE DA IMPIANTARE'!$O28,\"\")","v":""}]
[3,"","",{"$f":"IF(AND($B228=\"AZIONE_3\",C228=1),'3 - SPECIE DA IMPIANTARE'!$O29,\"\")","v":""},null,"",{"$f":"IF(AND($B228=\"AZIONE_3\",F228=2),'3 - SPECIE DA IMPIANTARE'!$O29,\"\")","v":""},null,"",{"$f":"IF(AND($B228=\"AZIONE_3\",$I228=3),'3 - SPECIE DA IMPIANTARE'!$O29,\"\")","v":""},null,"",{"$f":"IF(AND($B228=\"AZIONE_3\",$L228=4),'3 - SPECIE DA IMPIANTARE'!$O29,\"\")","v":""},null,"",{"$f":"IF(AND($B228=\"AZIONE_3\",$O228=5),'3 - SPECIE DA IMPIANTARE'!$O29,\"\")","v":""},null,"",{"$f":"IF(AND($B228=\"AZIONE_3\",$R228=6),'3 - SPECIE DA IMPIANTARE'!$O29,\"\")","v":""}]
[3,"","",{"$f":"IF(AND($B229=\"AZIONE_3\",C229=1),'3 - SPECIE DA IMPIANTARE'!$O30,\"\")","v":""},null,"",{"$f":"IF(AND($B229=\"AZIONE_3\",F229=2),'3 - SPECIE DA IMPIANTARE'!$O30,\"\")","v":""},null,"",{"$f":"IF(AND($B229=\"AZIONE_3\",$I229=3),'3 - SPECIE DA IMPIANTARE'!$O30,\"\")","v":""},null,"",{"$f":"IF(AND($B229=\"AZIONE_3\",$L229=4),'3 - SPECIE DA IMPIANTARE'!$O30,\"\")","v":""},null,"",{"$f":"IF(AND($B229=\"AZIONE_3\",$O229=5),'3 - SPECIE DA IMPIANTARE'!$O30,\"\")","v":""},null,"",{"$f":"IF(AND($B229=\"AZIONE_3\",$R229=6),'3 - SPECIE DA IMPIANTARE'!$O30,\"\")","v":""}]
[3,"","",{"$f":"IF(AND($B230=\"AZIONE_3\",C230=1),'3 - SPECIE DA IMPIANTARE'!$O31,\"\")","v":""},null,"",{"$f":"IF(AND($B230=\"AZIONE_3\",F230=2),'3 - SPECIE DA IMPIANTARE'!$O31,\"\")","v":""},null,"",{"$f":"IF(AND($B230=\"AZIONE_3\",$I230=3),'3 - SPECIE DA IMPIANTARE'!$O31,\"\")","v":""},null,"",{"$f":"IF(AND($B230=\"AZIONE_3\",$L230=4),'3 - SPECIE DA IMPIANTARE'!$O31,\"\")","v":""},null,"",{"$f":"IF(AND($B230=\"AZIONE_3\",$O230=5),'3 - SPECIE DA IMPIANTARE'!$O31,\"\")","v":""},null,"",{"$f":"IF(AND($B230=\"AZIONE_3\",$R230=6),'3 - SPECIE DA IMPIANTARE'!$O31,\"\")","v":""}]
[3,{"$f":"B131","v":""},"",{"$f":"IF(AND($B231=\"AZIONE_3\",C231=1),'3 - SPECIE DA IMPIANTARE'!$O32,\"\")","v":""},null,{"$f":"F131","v":""},{"$f":"IF(AND($B231=\"AZIONE_3\",F231=2),'3 - SPECIE DA IMPIANTARE'!$O32,\"\")","v":""},null,{"$f":"I131","v":""},{"$f":"IF(AND($B231=\"AZIONE_3\",$I231=3),'3 - SPECIE DA IMPIANTARE'!$O32,\"\")","v":""},null,{"$f":"L131","v":""},{"$f":"IF(AND($B231=\"AZIONE_3\",$L231=4),'3 - SPECIE DA IMPIANTARE'!$O32,\"\")","v":""},null,{"$f":"O131","v":""},{"$f":"IF(AND($B231=\"AZIONE_3\",$O231=5),'3 - SPECIE DA IMPIANTARE'!$O32,\"\")","v":""},null,{"$f":"R131","v":""},{"$f":"IF(AND($B231=\"AZIONE_3\",$R231=6),'3 - SPECIE DA IMPIANTARE'!$O32,\"\")","v":""}]
[3,"","",{"$f":"IF(AND($B232=\"AZIONE_3\",C232=1),'3 - SPECIE DA IMPIANTARE'!$O33,\"\")","v":""},null,"",{"$f":"IF(AND($B232=\"AZIONE_3\",F232=2),'3 - SPECIE DA IMPIANTARE'!$O33,\"\")","v":""},null,"",{"$f":"IF(AND($B232=\"AZIONE_3\",$I232=3),'3 - SPECIE DA IMPIANTARE'!$O33,\"\")","v":""},null,"",{"$f":"IF(AND($B232=\"AZIONE_3\",$L232=4),'3 - SPECIE DA IMPIANTARE'!$O33,\"\")","v":""},null,"",{"$f":"IF(AND($B232=\"AZIONE_3\",$O232=5),'3 - SPECIE DA IMPIANTARE'!$O33,\"\")","v":""},null,"",{"$f":"IF(AND($B232=\"AZIONE_3\",$R232=6),'3 - SPECIE DA IMPIANTARE'!$O33,\"\")","v":""}]
[3,"","",{"$f":"IF(AND($B233=\"AZIONE_3\",C233=1),'3 - SPECIE DA IMPIANTARE'!$O34,\"\")","v":""},null,"",{"$f":"IF(AND($B233=\"AZIONE_3\",F233=2),'3 - SPECIE DA IMPIANTARE'!$O34,\"\")","v":""},null,"",{"$f":"IF(AND($B233=\"AZIONE_3\",$I233=3),'3 - SPECIE DA IMPIANTARE'!$O34,\"\")","v":""},null,"",{"$f":"IF(AND($B233=\"AZIONE_3\",$L233=4),'3 - SPECIE DA IMPIANTARE'!$O34,\"\")","v":""},null,"",{"$f":"IF(AND($B233=\"AZIONE_3\",$O233=5),'3 - SPECIE DA IMPIANTARE'!$O34,\"\")","v":""},null,"",{"$f":"IF(AND($B233=\"AZIONE_3\",$R233=6),'3 - SPECIE DA IMPIANTARE'!$O34,\"\")","v":""}]
[3,"","",{"$f":"IF(AND($B234=\"AZIONE_3\",C234=1),'3 - SPECIE DA IMPIANTARE'!$O35,\"\")","v":""},null,"",{"$f":"IF(AND($B234=\"AZIONE_3\",F234=2),'3 - SPECIE DA IMPIANTARE'!$O35,\"\")","v":""},null,"",{"$f":"IF(AND($B234=\"AZIONE_3\",$I234=3),'3 - SPECIE DA IMPIANTARE'!$O35,\"\")","v":""},null,"",{"$f":"IF(AND($B234=\"AZIONE_3\",$L234=4),'3 - SPECIE DA IMPIANTARE'!$O35,\"\")","v":""},null,"",{"$f":"IF(AND($B234=\"AZIONE_3\",$O234=5),'3 - SPECIE DA IMPIANTARE'!$O35,\"\")","v":""},null,"",{"$f":"IF(AND($B234=\"AZIONE_3\",$R234=6),'3 - SPECIE DA IMPIANTARE'!$O35,\"\")","v":""}]
[3,"","",{"$f":"IF(AND($B235=\"AZIONE_3\",C235=1),'3 - SPECIE DA IMPIANTARE'!$O36,\"\")","v":""},null,"",{"$f":"IF(AND($B235=\"AZIONE_3\",F235=2),'3 - SPECIE DA IMPIANTARE'!$O36,\"\")","v":""},null,"",{"$f":"IF(AND($B235=\"AZIONE_3\",$I235=3),'3 - SPECIE DA IMPIANTARE'!$O36,\"\")","v":""},null,"",{"$f":"IF(AND($B235=\"AZIONE_3\",$L235=4),'3 - SPECIE DA IMPIANTARE'!$O36,\"\")","v":""},null,"",{"$f":"IF(AND($B235=\"AZIONE_3\",$O235=5),'3 - SPECIE DA IMPIANTARE'!$O36,\"\")","v":""},null,"",{"$f":"IF(AND($B235=\"AZIONE_3\",$R235=6),'3 - SPECIE DA IMPIANTARE'!$O36,\"\")","v":""}]
[3,"","",{"$f":"IF(AND($B236=\"AZIONE_3\",C236=1),'3 - SPECIE DA IMPIANTARE'!$O37,\"\")","v":""},null,"",{"$f":"IF(AND($B236=\"AZIONE_3\",F236=2),'3 - SPECIE DA IMPIANTARE'!$O37,\"\")","v":""},null,"",{"$f":"IF(AND($B236=\"AZIONE_3\",$I236=3),'3 - SPECIE DA IMPIANTARE'!$O37,\"\")","v":""},null,"",{"$f":"IF(AND($B236=\"AZIONE_3\",$L236=4),'3 - SPECIE DA IMPIANTARE'!$O37,\"\")","v":""},null,"",{"$f":"IF(AND($B236=\"AZIONE_3\",$O236=5),'3 - SPECIE DA IMPIANTARE'!$O37,\"\")","v":""},null,"",{"$f":"IF(AND($B236=\"AZIONE_3\",$R236=6),'3 - SPECIE DA IMPIANTARE'!$O37,\"\")","v":""}]
[3,"","",{"$f":"IF(AND($B237=\"AZIONE_3\",C237=1),'3 - SPECIE DA IMPIANTARE'!$O38,\"\")","v":""},null,"",{"$f":"IF(AND($B237=\"AZIONE_3\",F237=2),'3 - SPECIE DA IMPIANTARE'!$O38,\"\")","v":""},null,"",{"$f":"IF(AND($B237=\"AZIONE_3\",$I237=3),'3 - SPECIE DA IMPIANTARE'!$O38,\"\")","v":""},null,"",{"$f":"IF(AND($B237=\"AZIONE_3\",$L237=4),'3 - SPECIE DA IMPIANTARE'!$O38,\"\")","v":""},null,"",{"$f":"IF(AND($B237=\"AZIONE_3\",$O237=5),'3 - SPECIE DA IMPIANTARE'!$O38,\"\")","v":""},null,"",{"$f":"IF(AND($B237=\"AZIONE_3\",$R237=6),'3 - SPECIE DA IMPIANTARE'!$O38,\"\")","v":""}]
[3,"","",{"$f":"IF(AND($B238=\"AZIONE_3\",C238=1),'3 - SPECIE DA IMPIANTARE'!$O39,\"\")","v":""},null,"",{"$f":"IF(AND($B238=\"AZIONE_3\",F238=2),'3 - SPECIE DA IMPIANTARE'!$O39,\"\")","v":""},null,"",{"$f":"IF(AND($B238=\"AZIONE_3\",$I238=3),'3 - SPECIE DA IMPIANTARE'!$O39,\"\")","v":""},null,"",{"$f":"IF(AND($B238=\"AZIONE_3\",$L238=4),'3 - SPECIE DA IMPIANTARE'!$O39,\"\")","v":""},null,"",{"$f":"IF(AND($B238=\"AZIONE_3\",$O238=5),'3 - SPECIE DA IMPIANTARE'!$O39,\"\")","v":""},null,"",{"$f":"IF(AND($B238=\"AZIONE_3\",$R238=6),'3 - SPECIE DA IMPIANTARE'!$O39,\"\")","v":""}]
[3,"","",{"$f":"IF(AND($B239=\"AZIONE_3\",C239=1),'3 - SPECIE DA IMPIANTARE'!$O40,\"\")","v":""},null,"",{"$f":"IF(AND($B239=\"AZIONE_3\",F239=2),'3 - SPECIE DA IMPIANTARE'!$O40,\"\")","v":""},null,"",{"$f":"IF(AND($B239=\"AZIONE_3\",$I239=3),'3 - SPECIE DA IMPIANTARE'!$O40,\"\")","v":""},null,"",{"$f":"IF(AND($B239=\"AZIONE_3\",$L239=4),'3 - SPECIE DA IMPIANTARE'!$O40,\"\")","v":""},null,"",{"$f":"IF(AND($B239=\"AZIONE_3\",$O239=5),'3 - SPECIE DA IMPIANTARE'!$O40,\"\")","v":""},null,"",{"$f":"IF(AND($B239=\"AZIONE_3\",$R239=6),'3 - SPECIE DA IMPIANTARE'!$O40,\"\")","v":""}]
[3,"","",{"$f":"IF(AND($B240=\"AZIONE_3\",C240=1),'3 - SPECIE DA IMPIANTARE'!$O41,\"\")","v":""},null,"",{"$f":"IF(AND($B240=\"AZIONE_3\",F240=2),'3 - SPECIE DA IMPIANTARE'!$O41,\"\")","v":""},null,"",{"$f":"IF(AND($B240=\"AZIONE_3\",$I240=3),'3 - SPECIE DA IMPIANTARE'!$O41,\"\")","v":""},null,"",{"$f":"IF(AND($B240=\"AZIONE_3\",$L240=4),'3 - SPECIE DA IMPIANTARE'!$O41,\"\")","v":""},null,"",{"$f":"IF(AND($B240=\"AZIONE_3\",$O240=5),'3 - SPECIE DA IMPIANTARE'!$O41,\"\")","v":""},null,"",{"$f":"IF(AND($B240=\"AZIONE_3\",$R240=6),'3 - SPECIE DA IMPIANTARE'!$O41,\"\")","v":""}]
[3,"","",{"$f":"IF(AND($B241=\"AZIONE_3\",C241=1),'3 - SPECIE DA IMPIANTARE'!$O42,\"\")","v":""},null,"",{"$f":"IF(AND($B241=\"AZIONE_3\",F241=2),'3 - SPECIE DA IMPIANTARE'!$O42,\"\")","v":""},null,"",{"$f":"IF(AND($B241=\"AZIONE_3\",$I241=3),'3 - SPECIE DA IMPIANTARE'!$O42,\"\")","v":""},null,"",{"$f":"IF(AND($B241=\"AZIONE_3\",$L241=4),'3 - SPECIE DA IMPIANTARE'!$O42,\"\")","v":""},null,"",{"$f":"IF(AND($B241=\"AZIONE_3\",$O241=5),'3 - SPECIE DA IMPIANTARE'!$O42,\"\")","v":""},null,"",{"$f":"IF(AND($B241=\"AZIONE_3\",$R241=6),'3 - SPECIE DA IMPIANTARE'!$O42,\"\")","v":""}]
[3,"","",{"$f":"IF(AND($B242=\"AZIONE_3\",C242=1),'3 - SPECIE DA IMPIANTARE'!$O43,\"\")","v":""},null,"",{"$f":"IF(AND($B242=\"AZIONE_3\",F242=2),'3 - SPECIE DA IMPIANTARE'!$O43,\"\")","v":""},null,"",{"$f":"IF(AND($B242=\"AZIONE_3\",$I242=3),'3 - SPECIE DA IMPIANTARE'!$O43,\"\")","v":""},null,"",{"$f":"IF(AND($B242=\"AZIONE_3\",$L242=4),'3 - SPECIE DA IMPIANTARE'!$O43,\"\")","v":""},null,"",{"$f":"IF(AND($B242=\"AZIONE_3\",$O242=5),'3 - SPECIE DA IMPIANTARE'!$O43,\"\")","v":""},null,"",{"$f":"IF(AND($B242=\"AZIONE_3\",$R242=6),'3 - SPECIE DA IMPIANTARE'!$O43,\"\")","v":""}]
[3,"","",{"$f":"IF(AND($B243=\"AZIONE_3\",C243=1),'3 - SPECIE DA IMPIANTARE'!$O44,\"\")","v":""},null,"",{"$f":"IF(AND($B243=\"AZIONE_3\",F243=2),'3 - SPECIE DA IMPIANTARE'!$O44,\"\")","v":""},null,"",{"$f":"IF(AND($B243=\"AZIONE_3\",$I243=3),'3 - SPECIE DA IMPIANTARE'!$O44,\"\")","v":""},null,"",{"$f":"IF(AND($B243=\"AZIONE_3\",$L243=4),'3 - SPECIE DA IMPIANTARE'!$O44,\"\")","v":""},null,"",{"$f":"IF(AND($B243=\"AZIONE_3\",$O243=5),'3 - SPECIE DA IMPIANTARE'!$O44,\"\")","v":""},null,"",{"$f":"IF(AND($B243=\"AZIONE_3\",$R243=6),'3 - SPECIE DA IMPIANTARE'!$O44,\"\")","v":""}]
[3,"","",{"$f":"IF(AND($B244=\"AZIONE_3\",C244=1),'3 - SPECIE DA IMPIANTARE'!$O45,\"\")","v":""},null,"",{"$f":"IF(AND($B244=\"AZIONE_3\",F244=2),'3 - SPECIE DA IMPIANTARE'!$O45,\"\")","v":""},null,"",{"$f":"IF(AND($B244=\"AZIONE_3\",$I244=3),'3 - SPECIE DA IMPIANTARE'!$O45,\"\")","v":""},null,"",{"$f":"IF(AND($B244=\"AZIONE_3\",$L244=4),'3 - SPECIE DA IMPIANTARE'!$O45,\"\")","v":""},null,"",{"$f":"IF(AND($B244=\"AZIONE_3\",$O244=5),'3 - SPECIE DA IMPIANTARE'!$O45,\"\")","v":""},null,"",{"$f":"IF(AND($B244=\"AZIONE_3\",$R244=6),'3 - SPECIE DA IMPIANTARE'!$O45,\"\")","v":""}]
[3,"","",{"$f":"IF(AND($B245=\"AZIONE_3\",C245=1),'3 - SPECIE DA IMPIANTARE'!$O46,\"\")","v":""},null,"",{"$f":"IF(AND($B245=\"AZIONE_3\",F245=2),'3 - SPECIE DA IMPIANTARE'!$O46,\"\")","v":""},null,"",{"$f":"IF(AND($B245=\"AZIONE_3\",$I245=3),'3 - SPECIE DA IMPIANTARE'!$O46,\"\")","v":""},null,"",{"$f":"IF(AND($B245=\"AZIONE_3\",$L245=4),'3 - SPECIE DA IMPIANTARE'!$O46,\"\")","v":""},null,"",{"$f":"IF(AND($B245=\"AZIONE_3\",$O245=5),'3 - SPECIE DA IMPIANTARE'!$O46,\"\")","v":""},null,"",{"$f":"IF(AND($B245=\"AZIONE_3\",$R245=6),'3 - SPECIE DA IMPIANTARE'!$O46,\"\")","v":""}]
[3,"","",{"$f":"IF(AND($B246=\"AZIONE_3\",C246=1),'3 - SPECIE DA IMPIANTARE'!$O47,\"\")","v":""},null,"",{"$f":"IF(AND($B246=\"AZIONE_3\",F246=2),'3 - SPECIE DA IMPIANTARE'!$O47,\"\")","v":""},null,"",{"$f":"IF(AND($B246=\"AZIONE_3\",$I246=3),'3 - SPECIE DA IMPIANTARE'!$O47,\"\")","v":""},null,"",{"$f":"IF(AND($B246=\"AZIONE_3\",$L246=4),'3 - SPECIE DA IMPIANTARE'!$O47,\"\")","v":""},null,"",{"$f":"IF(AND($B246=\"AZIONE_3\",$O246=5),'3 - SPECIE DA IMPIANTARE'!$O47,\"\")","v":""},null,"",{"$f":"IF(AND($B246=\"AZIONE_3\",$R246=6),'3 - SPECIE DA IMPIANTARE'!$O47,\"\")","v":""}]
[3,{"$f":"B147","v":""},"",{"$f":"IF(AND($B247=\"AZIONE_3\",C247=1),'3 - SPECIE DA IMPIANTARE'!$O48,\"\")","v":""},null,"",{"$f":"IF(AND($B247=\"AZIONE_3\",F247=2),'3 - SPECIE DA IMPIANTARE'!$O48,\"\")","v":""},null,"",{"$f":"IF(AND($B247=\"AZIONE_3\",$I247=3),'3 - SPECIE DA IMPIANTARE'!$O48,\"\")","v":""},null,"",{"$f":"IF(AND($B247=\"AZIONE_3\",$L247=4),'3 - SPECIE DA IMPIANTARE'!$O48,\"\")","v":""},null,"",{"$f":"IF(AND($B247=\"AZIONE_3\",$O247=5),'3 - SPECIE DA IMPIANTARE'!$O48,\"\")","v":""},null,"",{"$f":"IF(AND($B247=\"AZIONE_3\",$R247=6),'3 - SPECIE DA IMPIANTARE'!$O48,\"\")","v":""}]
[3,"","",{"$f":"IF(AND($B248=\"AZIONE_3\",C248=1),'3 - SPECIE DA IMPIANTARE'!$O49,\"\")","v":""},null,"",{"$f":"IF(AND($B248=\"AZIONE_3\",F248=2),'3 - SPECIE DA IMPIANTARE'!$O49,\"\")","v":""},null,"",{"$f":"IF(AND($B248=\"AZIONE_3\",$I248=3),'3 - SPECIE DA IMPIANTARE'!$O49,\"\")","v":""},null,"",{"$f":"IF(AND($B248=\"AZIONE_3\",$L248=4),'3 - SPECIE DA IMPIANTARE'!$O49,\"\")","v":""},null,"",{"$f":"IF(AND($B248=\"AZIONE_3\",$O248=5),'3 - SPECIE DA IMPIANTARE'!$O49,\"\")","v":""},null,"",{"$f":"IF(AND($B248=\"AZIONE_3\",$R248=6),'3 - SPECIE DA IMPIANTARE'!$O49,\"\")","v":""}]
[3,"","",{"$f":"IF(AND($B249=\"AZIONE_3\",C249=1),'3 - SPECIE DA IMPIANTARE'!$O50,\"\")","v":""},null,"",{"$f":"IF(AND($B249=\"AZIONE_3\",F249=2),'3 - SPECIE DA IMPIANTARE'!$O50,\"\")","v":""},null,"",{"$f":"IF(AND($B249=\"AZIONE_3\",$I249=3),'3 - SPECIE DA IMPIANTARE'!$O50,\"\")","v":""},null,"",{"$f":"IF(AND($B249=\"AZIONE_3\",$L249=4),'3 - SPECIE DA IMPIANTARE'!$O50,\"\")","v":""},null,"",{"$f":"IF(AND($B249=\"AZIONE_3\",$O249=5),'3 - SPECIE DA IMPIANTARE'!$O50,\"\")","v":""},null,"",{"$f":"IF(AND($B249=\"AZIONE_3\",$R249=6),'3 - SPECIE DA IMPIANTARE'!$O50,\"\")","v":""}]
[3,"","",{"$f":"IF(AND($B250=\"AZIONE_3\",C250=1),'3 - SPECIE DA IMPIANTARE'!$O51,\"\")","v":""},null,"",{"$f":"IF(AND($B250=\"AZIONE_3\",F250=2),'3 - SPECIE DA IMPIANTARE'!$O51,\"\")","v":""},null,"",{"$f":"IF(AND($B250=\"AZIONE_3\",$I250=3),'3 - SPECIE DA IMPIANTARE'!$O51,\"\")","v":""},null,"",{"$f":"IF(AND($B250=\"AZIONE_3\",$L250=4),'3 - SPECIE DA IMPIANTARE'!$O51,\"\")","v":""},null,"",{"$f":"IF(AND($B250=\"AZIONE_3\",$O250=5),'3 - SPECIE DA IMPIANTARE'!$O51,\"\")","v":""},null,"",{"$f":"IF(AND($B250=\"AZIONE_3\",$R250=6),'3 - SPECIE DA IMPIANTARE'!$O51,\"\")","v":""}]
[3,"","",{"$f":"IF(AND($B251=\"AZIONE_3\",C251=1),'3 - SPECIE DA IMPIANTARE'!$O52,\"\")","v":""},null,"",{"$f":"IF(AND($B251=\"AZIONE_3\",F251=2),'3 - SPECIE DA IMPIANTARE'!$O52,\"\")","v":""},null,"",{"$f":"IF(AND($B251=\"AZIONE_3\",$I251=3),'3 - SPECIE DA IMPIANTARE'!$O52,\"\")","v":""},null,"",{"$f":"IF(AND($B251=\"AZIONE_3\",$L251=4),'3 - SPECIE DA IMPIANTARE'!$O52,\"\")","v":""},null,"",{"$f":"IF(AND($B251=\"AZIONE_3\",$O251=5),'3 - SPECIE DA IMPIANTARE'!$O52,\"\")","v":""},null,"",{"$f":"IF(AND($B251=\"AZIONE_3\",$R251=6),'3 - SPECIE DA IMPIANTARE'!$O52,\"\")","v":""}]
[3,"","",{"$f":"IF(AND($B252=\"AZIONE_3\",C252=1),'3 - SPECIE DA IMPIANTARE'!$O53,\"\")","v":""},null,"",{"$f":"IF(AND($B252=\"AZIONE_3\",F252=2),'3 - SPECIE DA IMPIANTARE'!$O53,\"\")","v":""},null,"",{"$f":"IF(AND($B252=\"AZIONE_3\",$I252=3),'3 - SPECIE DA IMPIANTARE'!$O53,\"\")","v":""},null,"",{"$f":"IF(AND($B252=\"AZIONE_3\",$L252=4),'3 - SPECIE DA IMPIANTARE'!$O53,\"\")","v":""},null,"",{"$f":"IF(AND($B252=\"AZIONE_3\",$O252=5),'3 - SPECIE DA IMPIANTARE'!$O53,\"\")","v":""},null,"",{"$f":"IF(AND($B252=\"AZIONE_3\",$R252=6),'3 - SPECIE DA IMPIANTARE'!$O53,\"\")","v":""}]
[3,"","",{"$f":"IF(AND($B253=\"AZIONE_3\",C253=1),'3 - SPECIE DA IMPIANTARE'!$O54,\"\")","v":""},null,"",{"$f":"IF(AND($B253=\"AZIONE_3\",F253=2),'3 - SPECIE DA IMPIANTARE'!$O54,\"\")","v":""},null,"",{"$f":"IF(AND($B253=\"AZIONE_3\",$I253=3),'3 - SPECIE DA IMPIANTARE'!$O54,\"\")","v":""},null,"",{"$f":"IF(AND($B253=\"AZIONE_3\",$L253=4),'3 - SPECIE DA IMPIANTARE'!$O54,\"\")","v":""},null,"",{"$f":"IF(AND($B253=\"AZIONE_3\",$O253=5),'3 - SPECIE DA IMPIANTARE'!$O54,\"\")","v":""},null,"",{"$f":"IF(AND($B253=\"AZIONE_3\",$R253=6),'3 - SPECIE DA IMPIANTARE'!$O54,\"\")","v":""}]
[3,"","",{"$f":"IF(AND($B254=\"AZIONE_3\",C254=1),'3 - SPECIE DA IMPIANTARE'!$O55,\"\")","v":""},null,"",{"$f":"IF(AND($B254=\"AZIONE_3\",F254=2),'3 - SPECIE DA IMPIANTARE'!$O55,\"\")","v":""},null,"",{"$f":"IF(AND($B254=\"AZIONE_3\",$I254=3),'3 - SPECIE DA IMPIANTARE'!$O55,\"\")","v":""},null,"",{"$f":"IF(AND($B254=\"AZIONE_3\",$L254=4),'3 - SPECIE DA IMPIANTARE'!$O55,\"\")","v":""},null,"",{"$f":"IF(AND($B254=\"AZIONE_3\",$O254=5),'3 - SPECIE DA IMPIANTARE'!$O55,\"\")","v":""},null,"",{"$f":"IF(AND($B254=\"AZIONE_3\",$R254=6),'3 - SPECIE DA IMPIANTARE'!$O55,\"\")","v":""}]
[3,"","",{"$f":"IF(AND($B255=\"AZIONE_3\",C255=1),'3 - SPECIE DA IMPIANTARE'!$O56,\"\")","v":""},null,"",{"$f":"IF(AND($B255=\"AZIONE_3\",F255=2),'3 - SPECIE DA IMPIANTARE'!$O56,\"\")","v":""},null,"",{"$f":"IF(AND($B255=\"AZIONE_3\",$I255=3),'3 - SPECIE DA IMPIANTARE'!$O56,\"\")","v":""},null,"",{"$f":"IF(AND($B255=\"AZIONE_3\",$L255=4),'3 - SPECIE DA IMPIANTARE'!$O56,\"\")","v":""},null,"",{"$f":"IF(AND($B255=\"AZIONE_3\",$O255=5),'3 - SPECIE DA IMPIANTARE'!$O56,\"\")","v":""},null,"",{"$f":"IF(AND($B255=\"AZIONE_3\",$R255=6),'3 - SPECIE DA IMPIANTARE'!$O56,\"\")","v":""}]
[3,"","",{"$f":"IF(AND($B256=\"AZIONE_3\",C256=1),'3 - SPECIE DA IMPIANTARE'!$O57,\"\")","v":""},null,"",{"$f":"IF(AND($B256=\"AZIONE_3\",F256=2),'3 - SPECIE DA IMPIANTARE'!$O57,\"\")","v":""},null,"",{"$f":"IF(AND($B256=\"AZIONE_3\",$I256=3),'3 - SPECIE DA IMPIANTARE'!$O57,\"\")","v":""},null,"",{"$f":"IF(AND($B256=\"AZIONE_3\",$L256=4),'3 - SPECIE DA IMPIANTARE'!$O57,\"\")","v":""},null,"",{"$f":"IF(AND($B256=\"AZIONE_3\",$O256=5),'3 - SPECIE DA IMPIANTARE'!$O57,\"\")","v":""},null,"",{"$f":"IF(AND($B256=\"AZIONE_3\",$R256=6),'3 - SPECIE DA IMPIANTARE'!$O57,\"\")","v":""}]
[3,"","",{"$f":"IF(AND($B257=\"AZIONE_3\",C257=1),'3 - SPECIE DA IMPIANTARE'!$O58,\"\")","v":""},null,"",{"$f":"IF(AND($B257=\"AZIONE_3\",F257=2),'3 - SPECIE DA IMPIANTARE'!$O58,\"\")","v":""},null,"",{"$f":"IF(AND($B257=\"AZIONE_3\",$I257=3),'3 - SPECIE DA IMPIANTARE'!$O58,\"\")","v":""},null,"",{"$f":"IF(AND($B257=\"AZIONE_3\",$L257=4),'3 - SPECIE DA IMPIANTARE'!$O58,\"\")","v":""},null,"",{"$f":"IF(AND($B257=\"AZIONE_3\",$O257=5),'3 - SPECIE DA IMPIANTARE'!$O58,\"\")","v":""},null,"",{"$f":"IF(AND($B257=\"AZIONE_3\",$R257=6),'3 - SPECIE DA IMPIANTARE'!$O58,\"\")","v":""}]
[3,"","",{"$f":"IF(AND($B258=\"AZIONE_3\",C258=1),'3 - SPECIE DA IMPIANTARE'!$O59,\"\")","v":""},null,"",{"$f":"IF(AND($B258=\"AZIONE_3\",F258=2),'3 - SPECIE DA IMPIANTARE'!$O59,\"\")","v":""},null,"",{"$f":"IF(AND($B258=\"AZIONE_3\",$I258=3),'3 - SPECIE DA IMPIANTARE'!$O59,\"\")","v":""},null,"",{"$f":"IF(AND($B258=\"AZIONE_3\",$L258=4),'3 - SPECIE DA IMPIANTARE'!$O59,\"\")","v":""},null,"",{"$f":"IF(AND($B258=\"AZIONE_3\",$O258=5),'3 - SPECIE DA IMPIANTARE'!$O59,\"\")","v":""},null,"",{"$f":"IF(AND($B258=\"AZIONE_3\",$R258=6),'3 - SPECIE DA IMPIANTARE'!$O59,\"\")","v":""}]
[3,"","",{"$f":"IF(AND($B259=\"AZIONE_3\",C259=1),'3 - SPECIE DA IMPIANTARE'!$O60,\"\")","v":""},null,"",{"$f":"IF(AND($B259=\"AZIONE_3\",F259=2),'3 - SPECIE DA IMPIANTARE'!$O60,\"\")","v":""},null,"",{"$f":"IF(AND($B259=\"AZIONE_3\",$I259=3),'3 - SPECIE DA IMPIANTARE'!$O60,\"\")","v":""},null,"",{"$f":"IF(AND($B259=\"AZIONE_3\",$L259=4),'3 - SPECIE DA IMPIANTARE'!$O60,\"\")","v":""},null,"",{"$f":"IF(AND($B259=\"AZIONE_3\",$O259=5),'3 - SPECIE DA IMPIANTARE'!$O60,\"\")","v":""},null,"",{"$f":"IF(AND($B259=\"AZIONE_3\",$R259=6),'3 - SPECIE DA IMPIANTARE'!$O60,\"\")","v":""}]
[3,"","",{"$f":"IF(AND($B260=\"AZIONE_3\",C260=1),'3 - SPECIE DA IMPIANTARE'!$O61,\"\")","v":""},null,"",{"$f":"IF(AND($B260=\"AZIONE_3\",F260=2),'3 - SPECIE DA IMPIANTARE'!$O61,\"\")","v":""},null,"",{"$f":"IF(AND($B260=\"AZIONE_3\",$I260=3),'3 - SPECIE DA IMPIANTARE'!$O61,\"\")","v":""},null,"",{"$f":"IF(AND($B260=\"AZIONE_3\",$L260=4),'3 - SPECIE DA IMPIANTARE'!$O61,\"\")","v":""},null,"",{"$f":"IF(AND($B260=\"AZIONE_3\",$O260=5),'3 - SPECIE DA IMPIANTARE'!$O61,\"\")","v":""},null,"",{"$f":"IF(AND($B260=\"AZIONE_3\",$R260=6),'3 - SPECIE DA IMPIANTARE'!$O61,\"\")","v":""}]
[3,"","",{"$f":"IF(AND($B261=\"AZIONE_3\",C261=1),'3 - SPECIE DA IMPIANTARE'!$O62,\"\")","v":""},null,"",{"$f":"IF(AND($B261=\"AZIONE_3\",F261=2),'3 - SPECIE DA IMPIANTARE'!$O62,\"\")","v":""},null,"",{"$f":"IF(AND($B261=\"AZIONE_3\",$I261=3),'3 - SPECIE DA IMPIANTARE'!$O62,\"\")","v":""},null,"",{"$f":"IF(AND($B261=\"AZIONE_3\",$L261=4),'3 - SPECIE DA IMPIANTARE'!$O62,\"\")","v":""},null,"",{"$f":"IF(AND($B261=\"AZIONE_3\",$O261=5),'3 - SPECIE DA IMPIANTARE'!$O62,\"\")","v":""},null,"",{"$f":"IF(AND($B261=\"AZIONE_3\",$R261=6),'3 - SPECIE DA IMPIANTARE'!$O62,\"\")","v":""}]
[3,"","",{"$f":"IF(AND($B262=\"AZIONE_3\",C262=1),'3 - SPECIE DA IMPIANTARE'!$O63,\"\")","v":""},null,"",{"$f":"IF(AND($B262=\"AZIONE_3\",F262=2),'3 - SPECIE DA IMPIANTARE'!$O63,\"\")","v":""},null,"",{"$f":"IF(AND($B262=\"AZIONE_3\",$I262=3),'3 - SPECIE DA IMPIANTARE'!$O63,\"\")","v":""},null,"",{"$f":"IF(AND($B262=\"AZIONE_3\",$L262=4),'3 - SPECIE DA IMPIANTARE'!$O63,\"\")","v":""},null,"",{"$f":"IF(AND($B262=\"AZIONE_3\",$O262=5),'3 - SPECIE DA IMPIANTARE'!$O63,\"\")","v":""},null,"",{"$f":"IF(AND($B262=\"AZIONE_3\",$R262=6),'3 - SPECIE DA IMPIANTARE'!$O63,\"\")","v":""}]
[3,{"$f":"B163","v":""},"",{"$f":"IF(AND($B263=\"AZIONE_3\",C263=1),'3 - SPECIE DA IMPIANTARE'!$O64,\"\")","v":""},null,"",{"$f":"IF(AND($B263=\"AZIONE_3\",F263=2),'3 - SPECIE DA IMPIANTARE'!$O64,\"\")","v":""},null,"",{"$f":"IF(AND($B263=\"AZIONE_3\",$I263=3),'3 - SPECIE DA IMPIANTARE'!$O64,\"\")","v":""},null,"",{"$f":"IF(AND($B263=\"AZIONE_3\",$L263=4),'3 - SPECIE DA IMPIANTARE'!$O64,\"\")","v":""},null,"",{"$f":"IF(AND($B263=\"AZIONE_3\",$O263=5),'3 - SPECIE DA IMPIANTARE'!$O64,\"\")","v":""},null,"",{"$f":"IF(AND($B263=\"AZIONE_3\",$R263=6),'3 - SPECIE DA IMPIANTARE'!$O64,\"\")","v":""}]
[3,"","",{"$f":"IF(AND($B264=\"AZIONE_3\",C264=1),'3 - SPECIE DA IMPIANTARE'!$O65,\"\")","v":""},null,"",{"$f":"IF(AND($B264=\"AZIONE_3\",F264=2),'3 - SPECIE DA IMPIANTARE'!$O65,\"\")","v":""},null,"",{"$f":"IF(AND($B264=\"AZIONE_3\",$I264=3),'3 - SPECIE DA IMPIANTARE'!$O65,\"\")","v":""},null,"",{"$f":"IF(AND($B264=\"AZIONE_3\",$L264=4),'3 - SPECIE DA IMPIANTARE'!$O65,\"\")","v":""},null,"",{"$f":"IF(AND($B264=\"AZIONE_3\",$O264=5),'3 - SPECIE DA IMPIANTARE'!$O65,\"\")","v":""},null,"",{"$f":"IF(AND($B264=\"AZIONE_3\",$R264=6),'3 - SPECIE DA IMPIANTARE'!$O65,\"\")","v":""}]
[3,"","",{"$f":"IF(AND($B265=\"AZIONE_3\",C265=1),'3 - SPECIE DA IMPIANTARE'!$O66,\"\")","v":""},null,"",{"$f":"IF(AND($B265=\"AZIONE_3\",F265=2),'3 - SPECIE DA IMPIANTARE'!$O66,\"\")","v":""},null,"",{"$f":"IF(AND($B265=\"AZIONE_3\",$I265=3),'3 - SPECIE DA IMPIANTARE'!$O66,\"\")","v":""},null,"",{"$f":"IF(AND($B265=\"AZIONE_3\",$L265=4),'3 - SPECIE DA IMPIANTARE'!$O66,\"\")","v":""},null,"",{"$f":"IF(AND($B265=\"AZIONE_3\",$O265=5),'3 - SPECIE DA IMPIANTARE'!$O66,\"\")","v":""},null,"",{"$f":"IF(AND($B265=\"AZIONE_3\",$R265=6),'3 - SPECIE DA IMPIANTARE'!$O66,\"\")","v":""}]
[3,"","",{"$f":"IF(AND($B266=\"AZIONE_3\",C266=1),'3 - SPECIE DA IMPIANTARE'!$O67,\"\")","v":""},null,"",{"$f":"IF(AND($B266=\"AZIONE_3\",F266=2),'3 - SPECIE DA IMPIANTARE'!$O67,\"\")","v":""},null,"",{"$f":"IF(AND($B266=\"AZIONE_3\",$I266=3),'3 - SPECIE DA IMPIANTARE'!$O67,\"\")","v":""},null,"",{"$f":"IF(AND($B266=\"AZIONE_3\",$L266=4),'3 - SPECIE DA IMPIANTARE'!$O67,\"\")","v":""},null,"",{"$f":"IF(AND($B266=\"AZIONE_3\",$O266=5),'3 - SPECIE DA IMPIANTARE'!$O67,\"\")","v":""},null,"",{"$f":"IF(AND($B266=\"AZIONE_3\",$R266=6),'3 - SPECIE DA IMPIANTARE'!$O67,\"\")","v":""}]
[3,"","",{"$f":"IF(AND($B267=\"AZIONE_3\",C267=1),'3 - SPECIE DA IMPIANTARE'!$O68,\"\")","v":""},null,"",{"$f":"IF(AND($B267=\"AZIONE_3\",F267=2),'3 - SPECIE DA IMPIANTARE'!$O68,\"\")","v":""},null,"",{"$f":"IF(AND($B267=\"AZIONE_3\",$I267=3),'3 - SPECIE DA IMPIANTARE'!$O68,\"\")","v":""},null,"",{"$f":"IF(AND($B267=\"AZIONE_3\",$L267=4),'3 - SPECIE DA IMPIANTARE'!$O68,\"\")","v":""},null,"",{"$f":"IF(AND($B267=\"AZIONE_3\",$O267=5),'3 - SPECIE DA IMPIANTARE'!$O68,\"\")","v":""},null,"",{"$f":"IF(AND($B267=\"AZIONE_3\",$R267=6),'3 - SPECIE DA IMPIANTARE'!$O68,\"\")","v":""}]
[3,"","",{"$f":"IF(AND($B268=\"AZIONE_3\",C268=1),'3 - SPECIE DA IMPIANTARE'!$O69,\"\")","v":""},null,"",{"$f":"IF(AND($B268=\"AZIONE_3\",F268=2),'3 - SPECIE DA IMPIANTARE'!$O69,\"\")","v":""},null,"",{"$f":"IF(AND($B268=\"AZIONE_3\",$I268=3),'3 - SPECIE DA IMPIANTARE'!$O69,\"\")","v":""},null,"",{"$f":"IF(AND($B268=\"AZIONE_3\",$L268=4),'3 - SPECIE DA IMPIANTARE'!$O69,\"\")","v":""},null,"",{"$f":"IF(AND($B268=\"AZIONE_3\",$O268=5),'3 - SPECIE DA IMPIANTARE'!$O69,\"\")","v":""},null,"",{"$f":"IF(AND($B268=\"AZIONE_3\",$R268=6),'3 - SPECIE DA IMPIANTARE'!$O69,\"\")","v":""}]
[3,"","",{"$f":"IF(AND($B269=\"AZIONE_3\",C269=1),'3 - SPECIE DA IMPIANTARE'!$O70,\"\")","v":""},null,"",{"$f":"IF(AND($B269=\"AZIONE_3\",F269=2),'3 - SPECIE DA IMPIANTARE'!$O70,\"\")","v":""},null,"",{"$f":"IF(AND($B269=\"AZIONE_3\",$I269=3),'3 - SPECIE DA IMPIANTARE'!$O70,\"\")","v":""},null,"",{"$f":"IF(AND($B269=\"AZIONE_3\",$L269=4),'3 - SPECIE DA IMPIANTARE'!$O70,\"\")","v":""},null,"",{"$f":"IF(AND($B269=\"AZIONE_3\",$O269=5),'3 - SPECIE DA IMPIANTARE'!$O70,\"\")","v":""},null,"",{"$f":"IF(AND($B269=\"AZIONE_3\",$R269=6),'3 - SPECIE DA IMPIANTARE'!$O70,\"\")","v":""}]
[3,"","",{"$f":"IF(AND($B270=\"AZIONE_3\",C270=1),'3 - SPECIE DA IMPIANTARE'!$O71,\"\")","v":""},null,"",{"$f":"IF(AND($B270=\"AZIONE_3\",F270=2),'3 - SPECIE DA IMPIANTARE'!$O71,\"\")","v":""},null,"",{"$f":"IF(AND($B270=\"AZIONE_3\",$I270=3),'3 - SPECIE DA IMPIANTARE'!$O71,\"\")","v":""},null,"",{"$f":"IF(AND($B270=\"AZIONE_3\",$L270=4),'3 - SPECIE DA IMPIANTARE'!$O71,\"\")","v":""},null,"",{"$f":"IF(AND($B270=\"AZIONE_3\",$O270=5),'3 - SPECIE DA IMPIANTARE'!$O71,\"\")","v":""},null,"",{"$f":"IF(AND($B270=\"AZIONE_3\",$R270=6),'3 - SPECIE DA IMPIANTARE'!$O71,\"\")","v":""}]
[3,"","",{"$f":"IF(AND($B271=\"AZIONE_3\",C271=1),'3 - SPECIE DA IMPIANTARE'!$O72,\"\")","v":""},null,"",{"$f":"IF(AND($B271=\"AZIONE_3\",F271=2),'3 - SPECIE DA IMPIANTARE'!$O72,\"\")","v":""},null,"",{"$f":"IF(AND($B271=\"AZIONE_3\",$I271=3),'3 - SPECIE DA IMPIANTARE'!$O72,\"\")","v":""},null,"",{"$f":"IF(AND($B271=\"AZIONE_3\",$L271=4),'3 - SPECIE DA IMPIANTARE'!$O72,\"\")","v":""},null,"",{"$f":"IF(AND($B271=\"AZIONE_3\",$O271=5),'3 - SPECIE DA IMPIANTARE'!$O72,\"\")","v":""},null,"",{"$f":"IF(AND($B271=\"AZIONE_3\",$R271=6),'3 - SPECIE DA IMPIANTARE'!$O72,\"\")","v":""}]
[3,"","",{"$f":"IF(AND($B272=\"AZIONE_3\",C272=1),'3 - SPECIE DA IMPIANTARE'!$O73,\"\")","v":""},null,"",{"$f":"IF(AND($B272=\"AZIONE_3\",F272=2),'3 - SPECIE DA IMPIANTARE'!$O73,\"\")","v":""},null,"",{"$f":"IF(AND($B272=\"AZIONE_3\",$I272=3),'3 - SPECIE DA IMPIANTARE'!$O73,\"\")","v":""},null,"",{"$f":"IF(AND($B272=\"AZIONE_3\",$L272=4),'3 - SPECIE DA IMPIANTARE'!$O73,\"\")","v":""},null,"",{"$f":"IF(AND($B272=\"AZIONE_3\",$O272=5),'3 - SPECIE DA IMPIANTARE'!$O73,\"\")","v":""},null,"",{"$f":"IF(AND($B272=\"AZIONE_3\",$R272=6),'3 - SPECIE DA IMPIANTARE'!$O73,\"\")","v":""}]
[3,"","",{"$f":"IF(AND($B273=\"AZIONE_3\",C273=1),'3 - SPECIE DA IMPIANTARE'!$O74,\"\")","v":""},null,"",{"$f":"IF(AND($B273=\"AZIONE_3\",F273=2),'3 - SPECIE DA IMPIANTARE'!$O74,\"\")","v":""},null,"",{"$f":"IF(AND($B273=\"AZIONE_3\",$I273=3),'3 - SPECIE DA IMPIANTARE'!$O74,\"\")","v":""},null,"",{"$f":"IF(AND($B273=\"AZIONE_3\",$L273=4),'3 - SPECIE DA IMPIANTARE'!$O74,\"\")","v":""},null,"",{"$f":"IF(AND($B273=\"AZIONE_3\",$O273=5),'3 - SPECIE DA IMPIANTARE'!$O74,\"\")","v":""},null,"",{"$f":"IF(AND($B273=\"AZIONE_3\",$R273=6),'3 - SPECIE DA IMPIANTARE'!$O74,\"\")","v":""}]
[3,"","",{"$f":"IF(AND($B274=\"AZIONE_3\",C274=1),'3 - SPECIE DA IMPIANTARE'!$O75,\"\")","v":""},null,"",{"$f":"IF(AND($B274=\"AZIONE_3\",F274=2),'3 - SPECIE DA IMPIANTARE'!$O75,\"\")","v":""},null,"",{"$f":"IF(AND($B274=\"AZIONE_3\",$I274=3),'3 - SPECIE DA IMPIANTARE'!$O75,\"\")","v":""},null,"",{"$f":"IF(AND($B274=\"AZIONE_3\",$L274=4),'3 - SPECIE DA IMPIANTARE'!$O75,\"\")","v":""},null,"",{"$f":"IF(AND($B274=\"AZIONE_3\",$O274=5),'3 - SPECIE DA IMPIANTARE'!$O75,\"\")","v":""},null,"",{"$f":"IF(AND($B274=\"AZIONE_3\",$R274=6),'3 - SPECIE DA IMPIANTARE'!$O75,\"\")","v":""}]
[3,"","",{"$f":"IF(AND($B275=\"AZIONE_3\",C275=1),'3 - SPECIE DA IMPIANTARE'!$O76,\"\")","v":""},null,"",{"$f":"IF(AND($B275=\"AZIONE_3\",F275=2),'3 - SPECIE DA IMPIANTARE'!$O76,\"\")","v":""},null,"",{"$f":"IF(AND($B275=\"AZIONE_3\",$I275=3),'3 - SPECIE DA IMPIANTARE'!$O76,\"\")","v":""},null,"",{"$f":"IF(AND($B275=\"AZIONE_3\",$L275=4),'3 - SPECIE DA IMPIANTARE'!$O76,\"\")","v":""},null,"",{"$f":"IF(AND($B275=\"AZIONE_3\",$O275=5),'3 - SPECIE DA IMPIANTARE'!$O76,\"\")","v":""},null,"",{"$f":"IF(AND($B275=\"AZIONE_3\",$R275=6),'3 - SPECIE DA IMPIANTARE'!$O76,\"\")","v":""}]
[3,"","",{"$f":"IF(AND($B276=\"AZIONE_3\",C276=1),'3 - SPECIE DA IMPIANTARE'!$O77,\"\")","v":""},null,"",{"$f":"IF(AND($B276=\"AZIONE_3\",F276=2),'3 - SPECIE DA IMPIANTARE'!$O77,\"\")","v":""},null,"",{"$f":"IF(AND($B276=\"AZIONE_3\",$I276=3),'3 - SPECIE DA IMPIANTARE'!$O77,\"\")","v":""},null,"",{"$f":"IF(AND($B276=\"AZIONE_3\",$L276=4),'3 - SPECIE DA IMPIANTARE'!$O77,\"\")","v":""},null,"",{"$f":"IF(AND($B276=\"AZIONE_3\",$O276=5),'3 - SPECIE DA IMPIANTARE'!$O77,\"\")","v":""},null,"",{"$f":"IF(AND($B276=\"AZIONE_3\",$R276=6),'3 - SPECIE DA IMPIANTARE'!$O77,\"\")","v":""}]
[3,"","",{"$f":"IF(AND($B277=\"AZIONE_3\",C277=1),'3 - SPECIE DA IMPIANTARE'!$O78,\"\")","v":""},null,"",{"$f":"IF(AND($B277=\"AZIONE_3\",F277=2),'3 - SPECIE DA IMPIANTARE'!$O78,\"\")","v":""},null,"",{"$f":"IF(AND($B277=\"AZIONE_3\",$I277=3),'3 - SPECIE DA IMPIANTARE'!$O78,\"\")","v":""},null,"",{"$f":"IF(AND($B277=\"AZIONE_3\",$L277=4),'3 - SPECIE DA IMPIANTARE'!$O78,\"\")","v":""},null,"",{"$f":"IF(AND($B277=\"AZIONE_3\",$O277=5),'3 - SPECIE DA IMPIANTARE'!$O78,\"\")","v":""},null,"",{"$f":"IF(AND($B277=\"AZIONE_3\",$R277=6),'3 - SPECIE DA IMPIANTARE'!$O78,\"\")","v":""}]
[3,"","",{"$f":"IF(AND($B278=\"AZIONE_3\",C278=1),'3 - SPECIE DA IMPIANTARE'!$O79,\"\")","v":""},null,"",{"$f":"IF(AND($B278=\"AZIONE_3\",F278=2),'3 - SPECIE DA IMPIANTARE'!$O79,\"\")","v":""},null,"",{"$f":"IF(AND($B278=\"AZIONE_3\",$I278=3),'3 - SPECIE DA IMPIANTARE'!$O79,\"\")","v":""},null,"",{"$f":"IF(AND($B278=\"AZIONE_3\",$L278=4),'3 - SPECIE DA IMPIANTARE'!$O79,\"\")","v":""},null,"",{"$f":"IF(AND($B278=\"AZIONE_3\",$O278=5),'3 - SPECIE DA IMPIANTARE'!$O79,\"\")","v":""},null,"",{"$f":"IF(AND($B278=\"AZIONE_3\",$R278=6),'3 - SPECIE DA IMPIANTARE'!$O79,\"\")","v":""}]
[3,{"$f":"B179","v":""},"",{"$f":"IF(AND($B279=\"AZIONE_3\",C279=1),'3 - SPECIE DA IMPIANTARE'!$O80,\"\")","v":""},null,"",{"$f":"IF(AND($B279=\"AZIONE_3\",F279=2),'3 - SPECIE DA IMPIANTARE'!$O80,\"\")","v":""},null,"",{"$f":"IF(AND($B279=\"AZIONE_3\",$I279=3),'3 - SPECIE DA IMPIANTARE'!$O80,\"\")","v":""},null,"",{"$f":"IF(AND($B279=\"AZIONE_3\",$L279=4),'3 - SPECIE DA IMPIANTARE'!$O80,\"\")","v":""},null,"",{"$f":"IF(AND($B279=\"AZIONE_3\",$O279=5),'3 - SPECIE DA IMPIANTARE'!$O80,\"\")","v":""},null,"",{"$f":"IF(AND($B279=\"AZIONE_3\",$R279=6),'3 - SPECIE DA IMPIANTARE'!$O80,\"\")","v":""}]
[3,"","",{"$f":"IF(AND($B280=\"AZIONE_3\",C280=1),'3 - SPECIE DA IMPIANTARE'!$O81,\"\")","v":""},null,"",{"$f":"IF(AND($B280=\"AZIONE_3\",F280=2),'3 - SPECIE DA IMPIANTARE'!$O81,\"\")","v":""},null,"",{"$f":"IF(AND($B280=\"AZIONE_3\",$I280=3),'3 - SPECIE DA IMPIANTARE'!$O81,\"\")","v":""},null,"",{"$f":"IF(AND($B280=\"AZIONE_3\",$L280=4),'3 - SPECIE DA IMPIANTARE'!$O81,\"\")","v":""},null,"",{"$f":"IF(AND($B280=\"AZIONE_3\",$O280=5),'3 - SPECIE DA IMPIANTARE'!$O81,\"\")","v":""},null,"",{"$f":"IF(AND($B280=\"AZIONE_3\",$R280=6),'3 - SPECIE DA IMPIANTARE'!$O81,\"\")","v":""}]
[3,"","",{"$f":"IF(AND($B281=\"AZIONE_3\",C281=1),'3 - SPECIE DA IMPIANTARE'!$O82,\"\")","v":""},null,"",{"$f":"IF(AND($B281=\"AZIONE_3\",F281=2),'3 - SPECIE DA IMPIANTARE'!$O82,\"\")","v":""},null,"",{"$f":"IF(AND($B281=\"AZIONE_3\",$I281=3),'3 - SPECIE DA IMPIANTARE'!$O82,\"\")","v":""},null,"",{"$f":"IF(AND($B281=\"AZIONE_3\",$L281=4),'3 - SPECIE DA IMPIANTARE'!$O82,\"\")","v":""},null,"",{"$f":"IF(AND($B281=\"AZIONE_3\",$O281=5),'3 - SPECIE DA IMPIANTARE'!$O82,\"\")","v":""},null,"",{"$f":"IF(AND($B281=\"AZIONE_3\",$R281=6),'3 - SPECIE DA IMPIANTARE'!$O82,\"\")","v":""}]
[3,"","",{"$f":"IF(AND($B282=\"AZIONE_3\",C282=1),'3 - SPECIE DA IMPIANTARE'!$O83,\"\")","v":""},null,"",{"$f":"IF(AND($B282=\"AZIONE_3\",F282=2),'3 - SPECIE DA IMPIANTARE'!$O83,\"\")","v":""},null,"",{"$f":"IF(AND($B282=\"AZIONE_3\",$I282=3),'3 - SPECIE DA IMPIANTARE'!$O83,\"\")","v":""},null,"",{"$f":"IF(AND($B282=\"AZIONE_3\",$L282=4),'3 - SPECIE DA IMPIANTARE'!$O83,\"\")","v":""},null,"",{"$f":"IF(AND($B282=\"AZIONE_3\",$O282=5),'3 - SPECIE DA IMPIANTARE'!$O83,\"\")","v":""},null,"",{"$f":"IF(AND($B282=\"AZIONE_3\",$R282=6),'3 - SPECIE DA IMPIANTARE'!$O83,\"\")","v":""}]
[3,"","",{"$f":"IF(AND($B283=\"AZIONE_3\",C283=1),'3 - SPECIE DA IMPIANTARE'!$O84,\"\")","v":""},null,"",{"$f":"IF(AND($B283=\"AZIONE_3\",F283=2),'3 - SPECIE DA IMPIANTARE'!$O84,\"\")","v":""},null,"",{"$f":"IF(AND($B283=\"AZIONE_3\",$I283=3),'3 - SPECIE DA IMPIANTARE'!$O84,\"\")","v":""},null,"",{"$f":"IF(AND($B283=\"AZIONE_3\",$L283=4),'3 - SPECIE DA IMPIANTARE'!$O84,\"\")","v":""},null,"",{"$f":"IF(AND($B283=\"AZIONE_3\",$O283=5),'3 - SPECIE DA IMPIANTARE'!$O84,\"\")","v":""},null,"",{"$f":"IF(AND($B283=\"AZIONE_3\",$R283=6),'3 - SPECIE DA IMPIANTARE'!$O84,\"\")","v":""}]
[3,"","",{"$f":"IF(AND($B284=\"AZIONE_3\",C284=1),'3 - SPECIE DA IMPIANTARE'!$O85,\"\")","v":""},null,"",{"$f":"IF(AND($B284=\"AZIONE_3\",F284=2),'3 - SPECIE DA IMPIANTARE'!$O85,\"\")","v":""},null,"",{"$f":"IF(AND($B284=\"AZIONE_3\",$I284=3),'3 - SPECIE DA IMPIANTARE'!$O85,\"\")","v":""},null,"",{"$f":"IF(AND($B284=\"AZIONE_3\",$L284=4),'3 - SPECIE DA IMPIANTARE'!$O85,\"\")","v":""},null,"",{"$f":"IF(AND($B284=\"AZIONE_3\",$O284=5),'3 - SPECIE DA IMPIANTARE'!$O85,\"\")","v":""},null,"",{"$f":"IF(AND($B284=\"AZIONE_3\",$R284=6),'3 - SPECIE DA IMPIANTARE'!$O85,\"\")","v":""}]
[3,"","",{"$f":"IF(AND($B285=\"AZIONE_3\",C285=1),'3 - SPECIE DA IMPIANTARE'!$O86,\"\")","v":""},null,"",{"$f":"IF(AND($B285=\"AZIONE_3\",F285=2),'3 - SPECIE DA IMPIANTARE'!$O86,\"\")","v":""},null,"",{"$f":"IF(AND($B285=\"AZIONE_3\",$I285=3),'3 - SPECIE DA IMPIANTARE'!$O86,\"\")","v":""},null,"",{"$f":"IF(AND($B285=\"AZIONE_3\",$L285=4),'3 - SPECIE DA IMPIANTARE'!$O86,\"\")","v":""},null,"",{"$f":"IF(AND($B285=\"AZIONE_3\",$O285=5),'3 - SPECIE DA IMPIANTARE'!$O86,\"\")","v":""},null,"",{"$f":"IF(AND($B285=\"AZIONE_3\",$R285=6),'3 - SPECIE DA IMPIANTARE'!$O86,\"\")","v":""}]
[3,"","",{"$f":"IF(AND($B286=\"AZIONE_3\",C286=1),'3 - SPECIE DA IMPIANTARE'!$O87,\"\")","v":""},null,"",{"$f":"IF(AND($B286=\"AZIONE_3\",F286=2),'3 - SPECIE DA IMPIANTARE'!$O87,\"\")","v":""},null,"",{"$f":"IF(AND($B286=\"AZIONE_3\",$I286=3),'3 - SPECIE DA IMPIANTARE'!$O87,\"\")","v":""},null,"",{"$f":"IF(AND($B286=\"AZIONE_3\",$L286=4),'3 - SPECIE DA IMPIANTARE'!$O87,\"\")","v":""},null,"",{"$f":"IF(AND($B286=\"AZIONE_3\",$O286=5),'3 - SPECIE DA IMPIANTARE'!$O87,\"\")","v":""},null,"",{"$f":"IF(AND($B286=\"AZIONE_3\",$R286=6),'3 - SPECIE DA IMPIANTARE'!$O87,\"\")","v":""}]
[3,"","",{"$f":"IF(AND($B287=\"AZIONE_3\",C287=1),'3 - SPECIE DA IMPIANTARE'!$O88,\"\")","v":""},null,"",{"$f":"IF(AND($B287=\"AZIONE_3\",F287=2),'3 - SPECIE DA IMPIANTARE'!$O88,\"\")","v":""},null,"",{"$f":"IF(AND($B287=\"AZIONE_3\",$I287=3),'3 - SPECIE DA IMPIANTARE'!$O88,\"\")","v":""},null,"",{"$f":"IF(AND($B287=\"AZIONE_3\",$L287=4),'3 - SPECIE DA IMPIANTARE'!$O88,\"\")","v":""},null,"",{"$f":"IF(AND($B287=\"AZIONE_3\",$O287=5),'3 - SPECIE DA IMPIANTARE'!$O88,\"\")","v":""},null,"",{"$f":"IF(AND($B287=\"AZIONE_3\",$R287=6),'3 - SPECIE DA IMPIANTARE'!$O88,\"\")","v":""}]
[3,"","",{"$f":"IF(AND($B288=\"AZIONE_3\",C288=1),'3 - SPECIE DA IMPIANTARE'!$O89,\"\")","v":""},null,"",{"$f":"IF(AND($B288=\"AZIONE_3\",F288=2),'3 - SPECIE DA IMPIANTARE'!$O89,\"\")","v":""},null,"",{"$f":"IF(AND($B288=\"AZIONE_3\",$I288=3),'3 - SPECIE DA IMPIANTARE'!$O89,\"\")","v":""},null,"",{"$f":"IF(AND($B288=\"AZIONE_3\",$L288=4),'3 - SPECIE DA IMPIANTARE'!$O89,\"\")","v":""},null,"",{"$f":"IF(AND($B288=\"AZIONE_3\",$O288=5),'3 - SPECIE DA IMPIANTARE'!$O89,\"\")","v":""},null,"",{"$f":"IF(AND($B288=\"AZIONE_3\",$R288=6),'3 - SPECIE DA IMPIANTARE'!$O89,\"\")","v":""}]
[3,"","",{"$f":"IF(AND($B289=\"AZIONE_3\",C289=1),'3 - SPECIE DA IMPIANTARE'!$O90,\"\")","v":""},null,"",{"$f":"IF(AND($B289=\"AZIONE_3\",F289=2),'3 - SPECIE DA IMPIANTARE'!$O90,\"\")","v":""},null,"",{"$f":"IF(AND($B289=\"AZIONE_3\",$I289=3),'3 - SPECIE DA IMPIANTARE'!$O90,\"\")","v":""},null,"",{"$f":"IF(AND($B289=\"AZIONE_3\",$L289=4),'3 - SPECIE DA IMPIANTARE'!$O90,\"\")","v":""},null,"",{"$f":"IF(AND($B289=\"AZIONE_3\",$O289=5),'3 - SPECIE DA IMPIANTARE'!$O90,\"\")","v":""},null,"",{"$f":"IF(AND($B289=\"AZIONE_3\",$R289=6),'3 - SPECIE DA IMPIANTARE'!$O90,\"\")","v":""}]
[3,"","",{"$f":"IF(AND($B290=\"AZIONE_3\",C290=1),'3 - SPECIE DA IMPIANTARE'!$O91,\"\")","v":""},null,"",{"$f":"IF(AND($B290=\"AZIONE_3\",F290=2),'3 - SPECIE DA IMPIANTARE'!$O91,\"\")","v":""},null,"",{"$f":"IF(AND($B290=\"AZIONE_3\",$I290=3),'3 - SPECIE DA IMPIANTARE'!$O91,\"\")","v":""},null,"",{"$f":"IF(AND($B290=\"AZIONE_3\",$L290=4),'3 - SPECIE DA IMPIANTARE'!$O91,\"\")","v":""},null,"",{"$f":"IF(AND($B290=\"AZIONE_3\",$O290=5),'3 - SPECIE DA IMPIANTARE'!$O91,\"\")","v":""},null,"",{"$f":"IF(AND($B290=\"AZIONE_3\",$R290=6),'3 - SPECIE DA IMPIANTARE'!$O91,\"\")","v":""}]
[3,"","",{"$f":"IF(AND($B291=\"AZIONE_3\",C291=1),'3 - SPECIE DA IMPIANTARE'!$O92,\"\")","v":""},null,"",{"$f":"IF(AND($B291=\"AZIONE_3\",F291=2),'3 - SPECIE DA IMPIANTARE'!$O92,\"\")","v":""},null,"",{"$f":"IF(AND($B291=\"AZIONE_3\",$I291=3),'3 - SPECIE DA IMPIANTARE'!$O92,\"\")","v":""},null,"",{"$f":"IF(AND($B291=\"AZIONE_3\",$L291=4),'3 - SPECIE DA IMPIANTARE'!$O92,\"\")","v":""},null,"",{"$f":"IF(AND($B291=\"AZIONE_3\",$O291=5),'3 - SPECIE DA IMPIANTARE'!$O92,\"\")","v":""},null,"",{"$f":"IF(AND($B291=\"AZIONE_3\",$R291=6),'3 - SPECIE DA IMPIANTARE'!$O92,\"\")","v":""}]
[3,"","",{"$f":"IF(AND($B292=\"AZIONE_3\",C292=1),'3 - SPECIE DA IMPIANTARE'!$O93,\"\")","v":""},null,"",{"$f":"IF(AND($B292=\"AZIONE_3\",F292=2),'3 - SPECIE DA IMPIANTARE'!$O93,\"\")","v":""},null,"",{"$f":"IF(AND($B292=\"AZIONE_3\",$I292=3),'3 - SPECIE DA IMPIANTARE'!$O93,\"\")","v":""},null,"",{"$f":"IF(AND($B292=\"AZIONE_3\",$L292=4),'3 - SPECIE DA IMPIANTARE'!$O93,\"\")","v":""},null,"",{"$f":"IF(AND($B292=\"AZIONE_3\",$O292=5),'3 - SPECIE DA IMPIANTARE'!$O93,\"\")","v":""},null,"",{"$f":"IF(AND($B292=\"AZIONE_3\",$R292=6),'3 - SPECIE DA IMPIANTARE'!$O93,\"\")","v":""}]
[3,"","",{"$f":"IF(AND($B293=\"AZIONE_3\",C293=1),'3 - SPECIE DA IMPIANTARE'!$O94,\"\")","v":""},null,"",{"$f":"IF(AND($B293=\"AZIONE_3\",F293=2),'3 - SPECIE DA IMPIANTARE'!$O94,\"\")","v":""},null,"",{"$f":"IF(AND($B293=\"AZIONE_3\",$I293=3),'3 - SPECIE DA IMPIANTARE'!$O94,\"\")","v":""},null,"",{"$f":"IF(AND($B293=\"AZIONE_3\",$L293=4),'3 - SPECIE DA IMPIANTARE'!$O94,\"\")","v":""},null,"",{"$f":"IF(AND($B293=\"AZIONE_3\",$O293=5),'3 - SPECIE DA IMPIANTARE'!$O94,\"\")","v":""},null,"",{"$f":"IF(AND($B293=\"AZIONE_3\",$R293=6),'3 - SPECIE DA IMPIANTARE'!$O94,\"\")","v":""}]
[3,"","",{"$f":"IF(AND($B294=\"AZIONE_3\",C294=1),'3 - SPECIE DA IMPIANTARE'!$O95,\"\")","v":""},null,"",{"$f":"IF(AND($B294=\"AZIONE_3\",F294=2),'3 - SPECIE DA IMPIANTARE'!$O95,\"\")","v":""},null,"",{"$f":"IF(AND($B294=\"AZIONE_3\",$I294=3),'3 - SPECIE DA IMPIANTARE'!$O95,\"\")","v":""},null,"",{"$f":"IF(AND($B294=\"AZIONE_3\",$L294=4),'3 - SPECIE DA IMPIANTARE'!$O95,\"\")","v":""},null,"",{"$f":"IF(AND($B294=\"AZIONE_3\",$O294=5),'3 - SPECIE DA IMPIANTARE'!$O95,\"\")","v":""},null,"",{"$f":"IF(AND($B294=\"AZIONE_3\",$R294=6),'3 - SPECIE DA IMPIANTARE'!$O95,\"\")","v":""}]
[3,{"$f":"B195","v":""},"",{"$f":"IF(AND($B295=\"AZIONE_3\",C295=1),'3 - SPECIE DA IMPIANTARE'!$O96,\"\")","v":""},null,{"$f":"F195","v":""},{"$f":"IF(AND($B295=\"AZIONE_3\",F295=2),'3 - SPECIE DA IMPIANTARE'!$O96,\"\")","v":""},null,{"$f":"I195","v":""},{"$f":"IF(AND($B295=\"AZIONE_3\",$I295=3),'3 - SPECIE DA IMPIANTARE'!$O96,\"\")","v":""},null,{"$f":"L195","v":""},{"$f":"IF(AND($B295=\"AZIONE_3\",$L295=4),'3 - SPECIE DA IMPIANTARE'!$O96,\"\")","v":""},null,{"$f":"O195","v":""},{"$f":"IF(AND($B295=\"AZIONE_3\",$O295=5),'3 - SPECIE DA IMPIANTARE'!$O96,\"\")","v":""},null,{"$f":"R195","v":""},{"$f":"IF(AND($B295=\"AZIONE_3\",$R295=6),'3 - SPECIE DA IMPIANTARE'!$O96,\"\")","v":""}]
[3,"","",{"$f":"IF(AND($B296=\"AZIONE_3\",C296=1),'3 - SPECIE DA IMPIANTARE'!$O97,\"\")","v":""},null,"",{"$f":"IF(AND($B296=\"AZIONE_3\",F296=2),'3 - SPECIE DA IMPIANTARE'!$O97,\"\")","v":""},null,"",{"$f":"IF(AND($B296=\"AZIONE_3\",$I296=3),'3 - SPECIE DA IMPIANTARE'!$O97,\"\")","v":""},null,"",{"$f":"IF(AND($B296=\"AZIONE_3\",$L296=4),'3 - SPECIE DA IMPIANTARE'!$O97,\"\")","v":""},null,"",{"$f":"IF(AND($B296=\"AZIONE_3\",$O296=5),'3 - SPECIE DA IMPIANTARE'!$O97,\"\")","v":""},null,"",{"$f":"IF(AND($B296=\"AZIONE_3\",$R296=6),'3 - SPECIE DA IMPIANTARE'!$O97,\"\")","v":""}]
[3,"","",{"$f":"IF(AND($B297=\"AZIONE_3\",C297=1),'3 - SPECIE DA IMPIANTARE'!$O98,\"\")","v":""},null,"",{"$f":"IF(AND($B297=\"AZIONE_3\",F297=2),'3 - SPECIE DA IMPIANTARE'!$O98,\"\")","v":""},null,"",{"$f":"IF(AND($B297=\"AZIONE_3\",$I297=3),'3 - SPECIE DA IMPIANTARE'!$O98,\"\")","v":""},null,"",{"$f":"IF(AND($B297=\"AZIONE_3\",$L297=4),'3 - SPECIE DA IMPIANTARE'!$O98,\"\")","v":""},null,"",{"$f":"IF(AND($B297=\"AZIONE_3\",$O297=5),'3 - SPECIE DA IMPIANTARE'!$O98,\"\")","v":""},null,"",{"$f":"IF(AND($B297=\"AZIONE_3\",$R297=6),'3 - SPECIE DA IMPIANTARE'!$O98,\"\")","v":""}]
[3,"","",{"$f":"IF(AND($B298=\"AZIONE_3\",C298=1),'3 - SPECIE DA IMPIANTARE'!$O99,\"\")","v":""},null,"",{"$f":"IF(AND($B298=\"AZIONE_3\",F298=2),'3 - SPECIE DA IMPIANTARE'!$O99,\"\")","v":""},null,"",{"$f":"IF(AND($B298=\"AZIONE_3\",$I298=3),'3 - SPECIE DA IMPIANTARE'!$O99,\"\")","v":""},null,"",{"$f":"IF(AND($B298=\"AZIONE_3\",$L298=4),'3 - SPECIE DA IMPIANTARE'!$O99,\"\")","v":""},null,"",{"$f":"IF(AND($B298=\"AZIONE_3\",$O298=5),'3 - SPECIE DA IMPIANTARE'!$O99,\"\")","v":""},null,"",{"$f":"IF(AND($B298=\"AZIONE_3\",$R298=6),'3 - SPECIE DA IMPIANTARE'!$O99,\"\")","v":""}]
[3,"","",{"$f":"IF(AND($B299=\"AZIONE_3\",C299=1),'3 - SPECIE DA IMPIANTARE'!$O100,\"\")","v":""},null,"",{"$f":"IF(AND($B299=\"AZIONE_3\",F299=2),'3 - SPECIE DA IMPIANTARE'!$O100,\"\")","v":""},null,"",{"$f":"IF(AND($B299=\"AZIONE_3\",$I299=3),'3 - SPECIE DA IMPIANTARE'!$O100,\"\")","v":""},null,"",{"$f":"IF(AND($B299=\"AZIONE_3\",$L299=4),'3 - SPECIE DA IMPIANTARE'!$O100,\"\")","v":""},null,"",{"$f":"IF(AND($B299=\"AZIONE_3\",$O299=5),'3 - SPECIE DA IMPIANTARE'!$O100,\"\")","v":""},null,"",{"$f":"IF(AND($B299=\"AZIONE_3\",$R299=6),'3 - SPECIE DA IMPIANTARE'!$O100,\"\")","v":""}]
[3,"","",{"$f":"IF(AND($B300=\"AZIONE_3\",C300=1),'3 - SPECIE DA IMPIANTARE'!$O101,\"\")","v":""},null,"",{"$f":"IF(AND($B300=\"AZIONE_3\",F300=2),'3 - SPECIE DA IMPIANTARE'!$O101,\"\")","v":""},null,"",{"$f":"IF(AND($B300=\"AZIONE_3\",$I300=3),'3 - SPECIE DA IMPIANTARE'!$O101,\"\")","v":""},null,"",{"$f":"IF(AND($B300=\"AZIONE_3\",$L300=4),'3 - SPECIE DA IMPIANTARE'!$O101,\"\")","v":""},null,"",{"$f":"IF(AND($B300=\"AZIONE_3\",$O300=5),'3 - SPECIE DA IMPIANTARE'!$O101,\"\")","v":""},null,"",{"$f":"IF(AND($B300=\"AZIONE_3\",$R300=6),'3 - SPECIE DA IMPIANTARE'!$O101,\"\")","v":""}]
[3,"","",{"$f":"IF(AND($B301=\"AZIONE_3\",C301=1),'3 - SPECIE DA IMPIANTARE'!$O102,\"\")","v":""},null,"",{"$f":"IF(AND($B301=\"AZIONE_3\",F301=2),'3 - SPECIE DA IMPIANTARE'!$O102,\"\")","v":""},null,"",{"$f":"IF(AND($B301=\"AZIONE_3\",$I301=3),'3 - SPECIE DA IMPIANTARE'!$O102,\"\")","v":""},null,"",{"$f":"IF(AND($B301=\"AZIONE_3\",$L301=4),'3 - SPECIE DA IMPIANTARE'!$O102,\"\")","v":""},null,"",{"$f":"IF(AND($B301=\"AZIONE_3\",$O301=5),'3 - SPECIE DA IMPIANTARE'!$O102,\"\")","v":""},null,"",{"$f":"IF(AND($B301=\"AZIONE_3\",$R301=6),'3 - SPECIE DA IMPIANTARE'!$O102,\"\")","v":""}]
[4,"","",{"$f":"IF(AND($B302=\"AZIONE_3\",C302=1),'3 - SPECIE DA IMPIANTARE'!$R3,\"\")","v":""},null,"",{"$f":"IF(AND($B302=\"AZIONE_3\",F302=2),'3 - SPECIE DA IMPIANTARE'!$R3,\"\")","v":""},null,"",{"$f":"IF(AND($B302=\"AZIONE_3\",$I302=3),'3 - SPECIE DA IMPIANTARE'!$R3,\"\")","v":""},null,"",{"$f":"IF(AND($B302=\"AZIONE_3\",$L302=4),'3 - SPECIE DA IMPIANTARE'!$R3,\"\")","v":""},null,"",{"$f":"IF(AND($B302=\"AZIONE_3\",$O302=5),'3 - SPECIE DA IMPIANTARE'!$R3,\"\")","v":""},null,"",{"$f":"IF(AND($B302=\"AZIONE_3\",$R302=6),'3 - SPECIE DA IMPIANTARE'!$R3,\"\")","v":""}]
[4,"","",{"$f":"IF(AND($B303=\"AZIONE_3\",C303=1),'3 - SPECIE DA IMPIANTARE'!$R4,\"\")","v":""},null,"",{"$f":"IF(AND($B303=\"AZIONE_3\",F303=2),'3 - SPECIE DA IMPIANTARE'!$R4,\"\")","v":""},null,"",{"$f":"IF(AND($B303=\"AZIONE_3\",$I303=3),'3 - SPECIE DA IMPIANTARE'!$R4,\"\")","v":""},null,"",{"$f":"IF(AND($B303=\"AZIONE_3\",$L303=4),'3 - SPECIE DA IMPIANTARE'!$R4,\"\")","v":""},null,"",{"$f":"IF(AND($B303=\"AZIONE_3\",$O303=5),'3 - SPECIE DA IMPIANTARE'!$R4,\"\")","v":""},null,"",{"$f":"IF(AND($B303=\"AZIONE_3\",$R303=6),'3 - SPECIE DA IMPIANTARE'!$R4,\"\")","v":""}]
[4,"","",{"$f":"IF(AND($B304=\"AZIONE_3\",C304=1),'3 - SPECIE DA IMPIANTARE'!$R5,\"\")","v":""},null,"",{"$f":"IF(AND($B304=\"AZIONE_3\",F304=2),'3 - SPECIE DA IMPIANTARE'!$R5,\"\")","v":""},null,"",{"$f":"IF(AND($B304=\"AZIONE_3\",$I304=3),'3 - SPECIE DA IMPIANTARE'!$R5,\"\")","v":""},null,"",{"$f":"IF(AND($B304=\"AZIONE_3\",$L304=4),'3 - SPECIE DA IMPIANTARE'!$R5,\"\")","v":""},null,"",{"$f":"IF(AND($B304=\"AZIONE_3\",$O304=5),'3 - SPECIE DA IMPIANTARE'!$R5,\"\")","v":""},null,"",{"$f":"IF(AND($B304=\"AZIONE_3\",$R304=6),'3 - SPECIE DA IMPIANTARE'!$R5,\"\")","v":""}]
[4,"","",{"$f":"IF(AND($B305=\"AZIONE_3\",C305=1),'3 - SPECIE DA IMPIANTARE'!$R6,\"\")","v":""},null,"",{"$f":"IF(AND($B305=\"AZIONE_3\",F305=2),'3 - SPECIE DA IMPIANTARE'!$R6,\"\")","v":""},null,"",{"$f":"IF(AND($B305=\"AZIONE_3\",$I305=3),'3 - SPECIE DA IMPIANTARE'!$R6,\"\")","v":""},null,"",{"$f":"IF(AND($B305=\"AZIONE_3\",$L305=4),'3 - SPECIE DA IMPIANTARE'!$R6,\"\")","v":""},null,"",{"$f":"IF(AND($B305=\"AZIONE_3\",$O305=5),'3 - SPECIE DA IMPIANTARE'!$R6,\"\")","v":""},null,"",{"$f":"IF(AND($B305=\"AZIONE_3\",$R305=6),'3 - SPECIE DA IMPIANTARE'!$R6,\"\")","v":""}]
[4,"","",{"$f":"IF(AND($B306=\"AZIONE_3\",C306=1),'3 - SPECIE DA IMPIANTARE'!$R7,\"\")","v":""},null,"",{"$f":"IF(AND($B306=\"AZIONE_3\",F306=2),'3 - SPECIE DA IMPIANTARE'!$R7,\"\")","v":""},null,"",{"$f":"IF(AND($B306=\"AZIONE_3\",$I306=3),'3 - SPECIE DA IMPIANTARE'!$R7,\"\")","v":""},null,"",{"$f":"IF(AND($B306=\"AZIONE_3\",$L306=4),'3 - SPECIE DA IMPIANTARE'!$R7,\"\")","v":""},null,"",{"$f":"IF(AND($B306=\"AZIONE_3\",$O306=5),'3 - SPECIE DA IMPIANTARE'!$R7,\"\")","v":""},null,"",{"$f":"IF(AND($B306=\"AZIONE_3\",$R306=6),'3 - SPECIE DA IMPIANTARE'!$R7,\"\")","v":""}]
[4,"","",{"$f":"IF(AND($B307=\"AZIONE_3\",C307=1),'3 - SPECIE DA IMPIANTARE'!$R8,\"\")","v":""},null,"",{"$f":"IF(AND($B307=\"AZIONE_3\",F307=2),'3 - SPECIE DA IMPIANTARE'!$R8,\"\")","v":""},null,"",{"$f":"IF(AND($B307=\"AZIONE_3\",$I307=3),'3 - SPECIE DA IMPIANTARE'!$R8,\"\")","v":""},null,"",{"$f":"IF(AND($B307=\"AZIONE_3\",$L307=4),'3 - SPECIE DA IMPIANTARE'!$R8,\"\")","v":""},null,"",{"$f":"IF(AND($B307=\"AZIONE_3\",$O307=5),'3 - SPECIE DA IMPIANTARE'!$R8,\"\")","v":""},null,"",{"$f":"IF(AND($B307=\"AZIONE_3\",$R307=6),'3 - SPECIE DA IMPIANTARE'!$R8,\"\")","v":""}]
[4,"","",{"$f":"IF(AND($B308=\"AZIONE_3\",C308=1),'3 - SPECIE DA IMPIANTARE'!$R9,\"\")","v":""},null,"",{"$f":"IF(AND($B308=\"AZIONE_3\",F308=2),'3 - SPECIE DA IMPIANTARE'!$R9,\"\")","v":""},null,"",{"$f":"IF(AND($B308=\"AZIONE_3\",$I308=3),'3 - SPECIE DA IMPIANTARE'!$R9,\"\")","v":""},null,"",{"$f":"IF(AND($B308=\"AZIONE_3\",$L308=4),'3 - SPECIE DA IMPIANTARE'!$R9,\"\")","v":""},null,"",{"$f":"IF(AND($B308=\"AZIONE_3\",$O308=5),'3 - SPECIE DA IMPIANTARE'!$R9,\"\")","v":""},null,"",{"$f":"IF(AND($B308=\"AZIONE_3\",$R308=6),'3 - SPECIE DA IMPIANTARE'!$R9,\"\")","v":""}]
[4,"","",{"$f":"IF(AND($B309=\"AZIONE_3\",C309=1),'3 - SPECIE DA IMPIANTARE'!$R10,\"\")","v":""},null,"",{"$f":"IF(AND($B309=\"AZIONE_3\",F309=2),'3 - SPECIE DA IMPIANTARE'!$R10,\"\")","v":""},null,"",{"$f":"IF(AND($B309=\"AZIONE_3\",$I309=3),'3 - SPECIE DA IMPIANTARE'!$R10,\"\")","v":""},null,"",{"$f":"IF(AND($B309=\"AZIONE_3\",$L309=4),'3 - SPECIE DA IMPIANTARE'!$R10,\"\")","v":""},null,"",{"$f":"IF(AND($B309=\"AZIONE_3\",$O309=5),'3 - SPECIE DA IMPIANTARE'!$R10,\"\")","v":""},null,"",{"$f":"IF(AND($B309=\"AZIONE_3\",$R309=6),'3 - SPECIE DA IMPIANTARE'!$R10,\"\")","v":""}]
[4,"","",{"$f":"IF(AND($B310=\"AZIONE_3\",C310=1),'3 - SPECIE DA IMPIANTARE'!$R11,\"\")","v":""},null,"",{"$f":"IF(AND($B310=\"AZIONE_3\",F310=2),'3 - SPECIE DA IMPIANTARE'!$R11,\"\")","v":""},null,"",{"$f":"IF(AND($B310=\"AZIONE_3\",$I310=3),'3 - SPECIE DA IMPIANTARE'!$R11,\"\")","v":""},null,"",{"$f":"IF(AND($B310=\"AZIONE_3\",$L310=4),'3 - SPECIE DA IMPIANTARE'!$R11,\"\")","v":""},null,"",{"$f":"IF(AND($B310=\"AZIONE_3\",$O310=5),'3 - SPECIE DA IMPIANTARE'!$R11,\"\")","v":""},null,"",{"$f":"IF(AND($B310=\"AZIONE_3\",$R310=6),'3 - SPECIE DA IMPIANTARE'!$R11,\"\")","v":""}]
[4,{"$f":"B211","v":""},"",{"$f":"IF(AND($B311=\"AZIONE_3\",C311=1),'3 - SPECIE DA IMPIANTARE'!$R12,\"\")","v":""},null,"",{"$f":"IF(AND($B311=\"AZIONE_3\",F311=2),'3 - SPECIE DA IMPIANTARE'!$R12,\"\")","v":""},null,"",{"$f":"IF(AND($B311=\"AZIONE_3\",$I311=3),'3 - SPECIE DA IMPIANTARE'!$R12,\"\")","v":""},null,"",{"$f":"IF(AND($B311=\"AZIONE_3\",$L311=4),'3 - SPECIE DA IMPIANTARE'!$R12,\"\")","v":""},null,"",{"$f":"IF(AND($B311=\"AZIONE_3\",$O311=5),'3 - SPECIE DA IMPIANTARE'!$R12,\"\")","v":""},null,"",{"$f":"IF(AND($B311=\"AZIONE_3\",$R311=6),'3 - SPECIE DA IMPIANTARE'!$R12,\"\")","v":""}]
[4,"","",{"$f":"IF(AND($B312=\"AZIONE_3\",C312=1),'3 - SPECIE DA IMPIANTARE'!$R13,\"\")","v":""},null,"",{"$f":"IF(AND($B312=\"AZIONE_3\",F312=2),'3 - SPECIE DA IMPIANTARE'!$R13,\"\")","v":""},null,"",{"$f":"IF(AND($B312=\"AZIONE_3\",$I312=3),'3 - SPECIE DA IMPIANTARE'!$R13,\"\")","v":""},null,"",{"$f":"IF(AND($B312=\"AZIONE_3\",$L312=4),'3 - SPECIE DA IMPIANTARE'!$R13,\"\")","v":""},null,"",{"$f":"IF(AND($B312=\"AZIONE_3\",$O312=5),'3 - SPECIE DA IMPIANTARE'!$R13,\"\")","v":""},null,"",{"$f":"IF(AND($B312=\"AZIONE_3\",$R312=6),'3 - SPECIE DA IMPIANTARE'!$R13,\"\")","v":""}]
[4,"","",{"$f":"IF(AND($B313=\"AZIONE_3\",C313=1),'3 - SPECIE DA IMPIANTARE'!$R14,\"\")","v":""},null,"",{"$f":"IF(AND($B313=\"AZIONE_3\",F313=2),'3 - SPECIE DA IMPIANTARE'!$R14,\"\")","v":""},null,"",{"$f":"IF(AND($B313=\"AZIONE_3\",$I313=3),'3 - SPECIE DA IMPIANTARE'!$R14,\"\")","v":""},null,"",{"$f":"IF(AND($B313=\"AZIONE_3\",$L313=4),'3 - SPECIE DA IMPIANTARE'!$R14,\"\")","v":""},null,"",{"$f":"IF(AND($B313=\"AZIONE_3\",$O313=5),'3 - SPECIE DA IMPIANTARE'!$R14,\"\")","v":""},null,"",{"$f":"IF(AND($B313=\"AZIONE_3\",$R313=6),'3 - SPECIE DA IMPIANTARE'!$R14,\"\")","v":""}]
[4,"","",{"$f":"IF(AND($B314=\"AZIONE_3\",C314=1),'3 - SPECIE DA IMPIANTARE'!$R15,\"\")","v":""},null,"",{"$f":"IF(AND($B314=\"AZIONE_3\",F314=2),'3 - SPECIE DA IMPIANTARE'!$R15,\"\")","v":""},null,"",{"$f":"IF(AND($B314=\"AZIONE_3\",$I314=3),'3 - SPECIE DA IMPIANTARE'!$R15,\"\")","v":""},null,"",{"$f":"IF(AND($B314=\"AZIONE_3\",$L314=4),'3 - SPECIE DA IMPIANTARE'!$R15,\"\")","v":""},null,"",{"$f":"IF(AND($B314=\"AZIONE_3\",$O314=5),'3 - SPECIE DA IMPIANTARE'!$R15,\"\")","v":""},null,"",{"$f":"IF(AND($B314=\"AZIONE_3\",$R314=6),'3 - SPECIE DA IMPIANTARE'!$R15,\"\")","v":""}]
[4,"","",{"$f":"IF(AND($B315=\"AZIONE_3\",C315=1),'3 - SPECIE DA IMPIANTARE'!$R16,\"\")","v":""},null,"",{"$f":"IF(AND($B315=\"AZIONE_3\",F315=2),'3 - SPECIE DA IMPIANTARE'!$R16,\"\")","v":""},null,"",{"$f":"IF(AND($B315=\"AZIONE_3\",$I315=3),'3 - SPECIE DA IMPIANTARE'!$R16,\"\")","v":""},null,"",{"$f":"IF(AND($B315=\"AZIONE_3\",$L315=4),'3 - SPECIE DA IMPIANTARE'!$R16,\"\")","v":""},null,"",{"$f":"IF(AND($B315=\"AZIONE_3\",$O315=5),'3 - SPECIE DA IMPIANTARE'!$R16,\"\")","v":""},null,"",{"$f":"IF(AND($B315=\"AZIONE_3\",$R315=6),'3 - SPECIE DA IMPIANTARE'!$R16,\"\")","v":""}]
[4,"","",{"$f":"IF(AND($B316=\"AZIONE_3\",C316=1),'3 - SPECIE DA IMPIANTARE'!$R17,\"\")","v":""},null,"",{"$f":"IF(AND($B316=\"AZIONE_3\",F316=2),'3 - SPECIE DA IMPIANTARE'!$R17,\"\")","v":""},null,"",{"$f":"IF(AND($B316=\"AZIONE_3\",$I316=3),'3 - SPECIE DA IMPIANTARE'!$R17,\"\")","v":""},null,"",{"$f":"IF(AND($B316=\"AZIONE_3\",$L316=4),'3 - SPECIE DA IMPIANTARE'!$R17,\"\")","v":""},null,"",{"$f":"IF(AND($B316=\"AZIONE_3\",$O316=5),'3 - SPECIE DA IMPIANTARE'!$R17,\"\")","v":""},null,"",{"$f":"IF(AND($B316=\"AZIONE_3\",$R316=6),'3 - SPECIE DA IMPIANTARE'!$R17,\"\")","v":""}]
[4,"","",{"$f":"IF(AND($B317=\"AZIONE_3\",C317=1),'3 - SPECIE DA IMPIANTARE'!$R18,\"\")","v":""},null,"",{"$f":"IF(AND($B317=\"AZIONE_3\",F317=2),'3 - SPECIE DA IMPIANTARE'!$R18,\"\")","v":""},null,"",{"$f":"IF(AND($B317=\"AZIONE_3\",$I317=3),'3 - SPECIE DA IMPIANTARE'!$R18,\"\")","v":""},null,"",{"$f":"IF(AND($B317=\"AZIONE_3\",$L317=4),'3 - SPECIE DA IMPIANTARE'!$R18,\"\")","v":""},null,"",{"$f":"IF(AND($B317=\"AZIONE_3\",$O317=5),'3 - SPECIE DA IMPIANTARE'!$R18,\"\")","v":""},null,"",{"$f":"IF(AND($B317=\"AZIONE_3\",$R317=6),'3 - SPECIE DA IMPIANTARE'!$R18,\"\")","v":""}]
[4,"","",{"$f":"IF(AND($B318=\"AZIONE_3\",C318=1),'3 - SPECIE DA IMPIANTARE'!$R19,\"\")","v":""},null,"",{"$f":"IF(AND($B318=\"AZIONE_3\",F318=2),'3 - SPECIE DA IMPIANTARE'!$R19,\"\")","v":""},null,"",{"$f":"IF(AND($B318=\"AZIONE_3\",$I318=3),'3 - SPECIE DA IMPIANTARE'!$R19,\"\")","v":""},null,"",{"$f":"IF(AND($B318=\"AZIONE_3\",$L318=4),'3 - SPECIE DA IMPIANTARE'!$R19,\"\")","v":""},null,"",{"$f":"IF(AND($B318=\"AZIONE_3\",$O318=5),'3 - SPECIE DA IMPIANTARE'!$R19,\"\")","v":""},null,"",{"$f":"IF(AND($B318=\"AZIONE_3\",$R318=6),'3 - SPECIE DA IMPIANTARE'!$R19,\"\")","v":""}]
[4,"","",{"$f":"IF(AND($B319=\"AZIONE_3\",C319=1),'3 - SPECIE DA IMPIANTARE'!$R20,\"\")","v":""},null,"",{"$f":"IF(AND($B319=\"AZIONE_3\",F319=2),'3 - SPECIE DA IMPIANTARE'!$R20,\"\")","v":""},null,"",{"$f":"IF(AND($B319=\"AZIONE_3\",$I319=3),'3 - SPECIE DA IMPIANTARE'!$R20,\"\")","v":""},null,"",{"$f":"IF(AND($B319=\"AZIONE_3\",$L319=4),'3 - SPECIE DA IMPIANTARE'!$R20,\"\")","v":""},null,"",{"$f":"IF(AND($B319=\"AZIONE_3\",$O319=5),'3 - SPECIE DA IMPIANTARE'!$R20,\"\")","v":""},null,"",{"$f":"IF(AND($B319=\"AZIONE_3\",$R319=6),'3 - SPECIE DA IMPIANTARE'!$R20,\"\")","v":""}]
[4,"","",{"$f":"IF(AND($B320=\"AZIONE_3\",C320=1),'3 - SPECIE DA IMPIANTARE'!$R21,\"\")","v":""},null,"",{"$f":"IF(AND($B320=\"AZIONE_3\",F320=2),'3 - SPECIE DA IMPIANTARE'!$R21,\"\")","v":""},null,"",{"$f":"IF(AND($B320=\"AZIONE_3\",$I320=3),'3 - SPECIE DA IMPIANTARE'!$R21,\"\")","v":""},null,"",{"$f":"IF(AND($B320=\"AZIONE_3\",$L320=4),'3 - SPECIE DA IMPIANTARE'!$R21,\"\")","v":""},null,"",{"$f":"IF(AND($B320=\"AZIONE_3\",$O320=5),'3 - SPECIE DA IMPIANTARE'!$R21,\"\")","v":""},null,"",{"$f":"IF(AND($B320=\"AZIONE_3\",$R320=6),'3 - SPECIE DA IMPIANTARE'!$R21,\"\")","v":""}]
[4,"","",{"$f":"IF(AND($B321=\"AZIONE_3\",C321=1),'3 - SPECIE DA IMPIANTARE'!$R22,\"\")","v":""},null,"",{"$f":"IF(AND($B321=\"AZIONE_3\",F321=2),'3 - SPECIE DA IMPIANTARE'!$R22,\"\")","v":""},null,"",{"$f":"IF(AND($B321=\"AZIONE_3\",$I321=3),'3 - SPECIE DA IMPIANTARE'!$R22,\"\")","v":""},null,"",{"$f":"IF(AND($B321=\"AZIONE_3\",$L321=4),'3 - SPECIE DA IMPIANTARE'!$R22,\"\")","v":""},null,"",{"$f":"IF(AND($B321=\"AZIONE_3\",$O321=5),'3 - SPECIE DA IMPIANTARE'!$R22,\"\")","v":""},null,"",{"$f":"IF(AND($B321=\"AZIONE_3\",$R321=6),'3 - SPECIE DA IMPIANTARE'!$R22,\"\")","v":""}]
[4,"","",{"$f":"IF(AND($B322=\"AZIONE_3\",C322=1),'3 - SPECIE DA IMPIANTARE'!$R23,\"\")","v":""},null,"",{"$f":"IF(AND($B322=\"AZIONE_3\",F322=2),'3 - SPECIE DA IMPIANTARE'!$R23,\"\")","v":""},null,"",{"$f":"IF(AND($B322=\"AZIONE_3\",$I322=3),'3 - SPECIE DA IMPIANTARE'!$R23,\"\")","v":""},null,"",{"$f":"IF(AND($B322=\"AZIONE_3\",$L322=4),'3 - SPECIE DA IMPIANTARE'!$R23,\"\")","v":""},null,"",{"$f":"IF(AND($B322=\"AZIONE_3\",$O322=5),'3 - SPECIE DA IMPIANTARE'!$R23,\"\")","v":""},null,"",{"$f":"IF(AND($B322=\"AZIONE_3\",$R322=6),'3 - SPECIE DA IMPIANTARE'!$R23,\"\")","v":""}]
[4,"","",{"$f":"IF(AND($B323=\"AZIONE_3\",C323=1),'3 - SPECIE DA IMPIANTARE'!$R24,\"\")","v":""},null,"",{"$f":"IF(AND($B323=\"AZIONE_3\",F323=2),'3 - SPECIE DA IMPIANTARE'!$R24,\"\")","v":""},null,"",{"$f":"IF(AND($B323=\"AZIONE_3\",$I323=3),'3 - SPECIE DA IMPIANTARE'!$R24,\"\")","v":""},null,"",{"$f":"IF(AND($B323=\"AZIONE_3\",$L323=4),'3 - SPECIE DA IMPIANTARE'!$R24,\"\")","v":""},null,"",{"$f":"IF(AND($B323=\"AZIONE_3\",$O323=5),'3 - SPECIE DA IMPIANTARE'!$R24,\"\")","v":""},null,"",{"$f":"IF(AND($B323=\"AZIONE_3\",$R323=6),'3 - SPECIE DA IMPIANTARE'!$R24,\"\")","v":""}]
[4,"","",{"$f":"IF(AND($B324=\"AZIONE_3\",C324=1),'3 - SPECIE DA IMPIANTARE'!$R25,\"\")","v":""},null,"",{"$f":"IF(AND($B324=\"AZIONE_3\",F324=2),'3 - SPECIE DA IMPIANTARE'!$R25,\"\")","v":""},null,"",{"$f":"IF(AND($B324=\"AZIONE_3\",$I324=3),'3 - SPECIE DA IMPIANTARE'!$R25,\"\")","v":""},null,"",{"$f":"IF(AND($B324=\"AZIONE_3\",$L324=4),'3 - SPECIE DA IMPIANTARE'!$R25,\"\")","v":""},null,"",{"$f":"IF(AND($B324=\"AZIONE_3\",$O324=5),'3 - SPECIE DA IMPIANTARE'!$R25,\"\")","v":""},null,"",{"$f":"IF(AND($B324=\"AZIONE_3\",$R324=6),'3 - SPECIE DA IMPIANTARE'!$R25,\"\")","v":""}]
[4,"","",{"$f":"IF(AND($B325=\"AZIONE_3\",C325=1),'3 - SPECIE DA IMPIANTARE'!$R26,\"\")","v":""},null,"",{"$f":"IF(AND($B325=\"AZIONE_3\",F325=2),'3 - SPECIE DA IMPIANTARE'!$R26,\"\")","v":""},null,"",{"$f":"IF(AND($B325=\"AZIONE_3\",$I325=3),'3 - SPECIE DA IMPIANTARE'!$R26,\"\")","v":""},null,"",{"$f":"IF(AND($B325=\"AZIONE_3\",$L325=4),'3 - SPECIE DA IMPIANTARE'!$R26,\"\")","v":""},null,"",{"$f":"IF(AND($B325=\"AZIONE_3\",$O325=5),'3 - SPECIE DA IMPIANTARE'!$R26,\"\")","v":""},null,"",{"$f":"IF(AND($B325=\"AZIONE_3\",$R325=6),'3 - SPECIE DA IMPIANTARE'!$R26,\"\")","v":""}]
[4,"","",{"$f":"IF(AND($B326=\"AZIONE_3\",C326=1),'3 - SPECIE DA IMPIANTARE'!$R27,\"\")","v":""},null,"",{"$f":"IF(AND($B326=\"AZIONE_3\",F326=2),'3 - SPECIE DA IMPIANTARE'!$R27,\"\")","v":""},null,"",{"$f":"IF(AND($B326=\"AZIONE_3\",$I326=3),'3 - SPECIE DA IMPIANTARE'!$R27,\"\")","v":""},null,"",{"$f":"IF(AND($B326=\"AZIONE_3\",$L326=4),'3 - SPECIE DA IMPIANTARE'!$R27,\"\")","v":""},null,"",{"$f":"IF(AND($B326=\"AZIONE_3\",$O326=5),'3 - SPECIE DA IMPIANTARE'!$R27,\"\")","v":""},null,"",{"$f":"IF(AND($B326=\"AZIONE_3\",$R326=6),'3 - SPECIE DA IMPIANTARE'!$R27,\"\")","v":""}]
[4,{"$f":"B227","v":""},"",{"$f":"IF(AND($B327=\"AZIONE_3\",C327=1),'3 - SPECIE DA IMPIANTARE'!$R28,\"\")","v":""},null,"",{"$f":"IF(AND($B327=\"AZIONE_3\",F327=2),'3 - SPECIE DA IMPIANTARE'!$R28,\"\")","v":""},null,"",{"$f":"IF(AND($B327=\"AZIONE_3\",$I327=3),'3 - SPECIE DA IMPIANTARE'!$R28,\"\")","v":""},null,"",{"$f":"IF(AND($B327=\"AZIONE_3\",$L327=4),'3 - SPECIE DA IMPIANTARE'!$R28,\"\")","v":""},null,"",{"$f":"IF(AND($B327=\"AZIONE_3\",$O327=5),'3 - SPECIE DA IMPIANTARE'!$R28,\"\")","v":""},null,"",{"$f":"IF(AND($B327=\"AZIONE_3\",$R327=6),'3 - SPECIE DA IMPIANTARE'!$R28,\"\")","v":""}]
[4,"","",{"$f":"IF(AND($B328=\"AZIONE_3\",C328=1),'3 - SPECIE DA IMPIANTARE'!$R29,\"\")","v":""},null,"",{"$f":"IF(AND($B328=\"AZIONE_3\",F328=2),'3 - SPECIE DA IMPIANTARE'!$R29,\"\")","v":""},null,"",{"$f":"IF(AND($B328=\"AZIONE_3\",$I328=3),'3 - SPECIE DA IMPIANTARE'!$R29,\"\")","v":""},null,"",{"$f":"IF(AND($B328=\"AZIONE_3\",$L328=4),'3 - SPECIE DA IMPIANTARE'!$R29,\"\")","v":""},null,"",{"$f":"IF(AND($B328=\"AZIONE_3\",$O328=5),'3 - SPECIE DA IMPIANTARE'!$R29,\"\")","v":""},null,"",{"$f":"IF(AND($B328=\"AZIONE_3\",$R328=6),'3 - SPECIE DA IMPIANTARE'!$R29,\"\")","v":""}]
[4,"","",{"$f":"IF(AND($B329=\"AZIONE_3\",C329=1),'3 - SPECIE DA IMPIANTARE'!$R30,\"\")","v":""},null,"",{"$f":"IF(AND($B329=\"AZIONE_3\",F329=2),'3 - SPECIE DA IMPIANTARE'!$R30,\"\")","v":""},null,"",{"$f":"IF(AND($B329=\"AZIONE_3\",$I329=3),'3 - SPECIE DA IMPIANTARE'!$R30,\"\")","v":""},null,"",{"$f":"IF(AND($B329=\"AZIONE_3\",$L329=4),'3 - SPECIE DA IMPIANTARE'!$R30,\"\")","v":""},null,"",{"$f":"IF(AND($B329=\"AZIONE_3\",$O329=5),'3 - SPECIE DA IMPIANTARE'!$R30,\"\")","v":""},null,"",{"$f":"IF(AND($B329=\"AZIONE_3\",$R329=6),'3 - SPECIE DA IMPIANTARE'!$R30,\"\")","v":""}]
[4,"","",{"$f":"IF(AND($B330=\"AZIONE_3\",C330=1),'3 - SPECIE DA IMPIANTARE'!$R31,\"\")","v":""},null,"",{"$f":"IF(AND($B330=\"AZIONE_3\",F330=2),'3 - SPECIE DA IMPIANTARE'!$R31,\"\")","v":""},null,"",{"$f":"IF(AND($B330=\"AZIONE_3\",$I330=3),'3 - SPECIE DA IMPIANTARE'!$R31,\"\")","v":""},null,"",{"$f":"IF(AND($B330=\"AZIONE_3\",$L330=4),'3 - SPECIE DA IMPIANTARE'!$R31,\"\")","v":""},null,"",{"$f":"IF(AND($B330=\"AZIONE_3\",$O330=5),'3 - SPECIE DA IMPIANTARE'!$R31,\"\")","v":""},null,"",{"$f":"IF(AND($B330=\"AZIONE_3\",$R330=6),'3 - SPECIE DA IMPIANTARE'!$R31,\"\")","v":""}]
[4,"","",{"$f":"IF(AND($B331=\"AZIONE_3\",C331=1),'3 - SPECIE DA IMPIANTARE'!$R32,\"\")","v":""},null,"",{"$f":"IF(AND($B331=\"AZIONE_3\",F331=2),'3 - SPECIE DA IMPIANTARE'!$R32,\"\")","v":""},null,"",{"$f":"IF(AND($B331=\"AZIONE_3\",$I331=3),'3 - SPECIE DA IMPIANTARE'!$R32,\"\")","v":""},null,"",{"$f":"IF(AND($B331=\"AZIONE_3\",$L331=4),'3 - SPECIE DA IMPIANTARE'!$R32,\"\")","v":""},null,"",{"$f":"IF(AND($B331=\"AZIONE_3\",$O331=5),'3 - SPECIE DA IMPIANTARE'!$R32,\"\")","v":""},null,"",{"$f":"IF(AND($B331=\"AZIONE_3\",$R331=6),'3 - SPECIE DA IMPIANTARE'!$R32,\"\")","v":""}]
[4,"","",{"$f":"IF(AND($B332=\"AZIONE_3\",C332=1),'3 - SPECIE DA IMPIANTARE'!$R33,\"\")","v":""},null,"",{"$f":"IF(AND($B332=\"AZIONE_3\",F332=2),'3 - SPECIE DA IMPIANTARE'!$R33,\"\")","v":""},null,"",{"$f":"IF(AND($B332=\"AZIONE_3\",$I332=3),'3 - SPECIE DA IMPIANTARE'!$R33,\"\")","v":""},null,"",{"$f":"IF(AND($B332=\"AZIONE_3\",$L332=4),'3 - SPECIE DA IMPIANTARE'!$R33,\"\")","v":""},null,"",{"$f":"IF(AND($B332=\"AZIONE_3\",$O332=5),'3 - SPECIE DA IMPIANTARE'!$R33,\"\")","v":""},null,"",{"$f":"IF(AND($B332=\"AZIONE_3\",$R332=6),'3 - SPECIE DA IMPIANTARE'!$R33,\"\")","v":""}]
[4,"","",{"$f":"IF(AND($B333=\"AZIONE_3\",C333=1),'3 - SPECIE DA IMPIANTARE'!$R34,\"\")","v":""},null,"",{"$f":"IF(AND($B333=\"AZIONE_3\",F333=2),'3 - SPECIE DA IMPIANTARE'!$R34,\"\")","v":""},null,"",{"$f":"IF(AND($B333=\"AZIONE_3\",$I333=3),'3 - SPECIE DA IMPIANTARE'!$R34,\"\")","v":""},null,"",{"$f":"IF(AND($B333=\"AZIONE_3\",$L333=4),'3 - SPECIE DA IMPIANTARE'!$R34,\"\")","v":""},null,"",{"$f":"IF(AND($B333=\"AZIONE_3\",$O333=5),'3 - SPECIE DA IMPIANTARE'!$R34,\"\")","v":""},null,"",{"$f":"IF(AND($B333=\"AZIONE_3\",$R333=6),'3 - SPECIE DA IMPIANTARE'!$R34,\"\")","v":""}]
[4,"","",{"$f":"IF(AND($B334=\"AZIONE_3\",C334=1),'3 - SPECIE DA IMPIANTARE'!$R35,\"\")","v":""},null,"",{"$f":"IF(AND($B334=\"AZIONE_3\",F334=2),'3 - SPECIE DA IMPIANTARE'!$R35,\"\")","v":""},null,"",{"$f":"IF(AND($B334=\"AZIONE_3\",$I334=3),'3 - SPECIE DA IMPIANTARE'!$R35,\"\")","v":""},null,"",{"$f":"IF(AND($B334=\"AZIONE_3\",$L334=4),'3 - SPECIE DA IMPIANTARE'!$R35,\"\")","v":""},null,"",{"$f":"IF(AND($B334=\"AZIONE_3\",$O334=5),'3 - SPECIE DA IMPIANTARE'!$R35,\"\")","v":""},null,"",{"$f":"IF(AND($B334=\"AZIONE_3\",$R334=6),'3 - SPECIE DA IMPIANTARE'!$R35,\"\")","v":""}]
[4,"","",{"$f":"IF(AND($B335=\"AZIONE_3\",C335=1),'3 - SPECIE DA IMPIANTARE'!$R36,\"\")","v":""},null,"",{"$f":"IF(AND($B335=\"AZIONE_3\",F335=2),'3 - SPECIE DA IMPIANTARE'!$R36,\"\")","v":""},null,"",{"$f":"IF(AND($B335=\"AZIONE_3\",$I335=3),'3 - SPECIE DA IMPIANTARE'!$R36,\"\")","v":""},null,"",{"$f":"IF(AND($B335=\"AZIONE_3\",$L335=4),'3 - SPECIE DA IMPIANTARE'!$R36,\"\")","v":""},null,"",{"$f":"IF(AND($B335=\"AZIONE_3\",$O335=5),'3 - SPECIE DA IMPIANTARE'!$R36,\"\")","v":""},null,"",{"$f":"IF(AND($B335=\"AZIONE_3\",$R335=6),'3 - SPECIE DA IMPIANTARE'!$R36,\"\")","v":""}]
[4,"","",{"$f":"IF(AND($B336=\"AZIONE_3\",C336=1),'3 - SPECIE DA IMPIANTARE'!$R37,\"\")","v":""},null,"",{"$f":"IF(AND($B336=\"AZIONE_3\",F336=2),'3 - SPECIE DA IMPIANTARE'!$R37,\"\")","v":""},null,"",{"$f":"IF(AND($B336=\"AZIONE_3\",$I336=3),'3 - SPECIE DA IMPIANTARE'!$R37,\"\")","v":""},null,"",{"$f":"IF(AND($B336=\"AZIONE_3\",$L336=4),'3 - SPECIE DA IMPIANTARE'!$R37,\"\")","v":""},null,"",{"$f":"IF(AND($B336=\"AZIONE_3\",$O336=5),'3 - SPECIE DA IMPIANTARE'!$R37,\"\")","v":""},null,"",{"$f":"IF(AND($B336=\"AZIONE_3\",$R336=6),'3 - SPECIE DA IMPIANTARE'!$R37,\"\")","v":""}]
[4,"","",{"$f":"IF(AND($B337=\"AZIONE_3\",C337=1),'3 - SPECIE DA IMPIANTARE'!$R38,\"\")","v":""},null,"",{"$f":"IF(AND($B337=\"AZIONE_3\",F337=2),'3 - SPECIE DA IMPIANTARE'!$R38,\"\")","v":""},null,"",{"$f":"IF(AND($B337=\"AZIONE_3\",$I337=3),'3 - SPECIE DA IMPIANTARE'!$R38,\"\")","v":""},null,"",{"$f":"IF(AND($B337=\"AZIONE_3\",$L337=4),'3 - SPECIE DA IMPIANTARE'!$R38,\"\")","v":""},null,"",{"$f":"IF(AND($B337=\"AZIONE_3\",$O337=5),'3 - SPECIE DA IMPIANTARE'!$R38,\"\")","v":""},null,"",{"$f":"IF(AND($B337=\"AZIONE_3\",$R337=6),'3 - SPECIE DA IMPIANTARE'!$R38,\"\")","v":""}]
[4,"","",{"$f":"IF(AND($B338=\"AZIONE_3\",C338=1),'3 - SPECIE DA IMPIANTARE'!$R39,\"\")","v":""},null,"",{"$f":"IF(AND($B338=\"AZIONE_3\",F338=2),'3 - SPECIE DA IMPIANTARE'!$R39,\"\")","v":""},null,"",{"$f":"IF(AND($B338=\"AZIONE_3\",$I338=3),'3 - SPECIE DA IMPIANTARE'!$R39,\"\")","v":""},null,"",{"$f":"IF(AND($B338=\"AZIONE_3\",$L338=4),'3 - SPECIE DA IMPIANTARE'!$R39,\"\")","v":""},null,"",{"$f":"IF(AND($B338=\"AZIONE_3\",$O338=5),'3 - SPECIE DA IMPIANTARE'!$R39,\"\")","v":""},null,"",{"$f":"IF(AND($B338=\"AZIONE_3\",$R338=6),'3 - SPECIE DA IMPIANTARE'!$R39,\"\")","v":""}]
[4,"","",{"$f":"IF(AND($B339=\"AZIONE_3\",C339=1),'3 - SPECIE DA IMPIANTARE'!$R40,\"\")","v":""},null,"",{"$f":"IF(AND($B339=\"AZIONE_3\",F339=2),'3 - SPECIE DA IMPIANTARE'!$R40,\"\")","v":""},null,"",{"$f":"IF(AND($B339=\"AZIONE_3\",$I339=3),'3 - SPECIE DA IMPIANTARE'!$R40,\"\")","v":""},null,"",{"$f":"IF(AND($B339=\"AZIONE_3\",$L339=4),'3 - SPECIE DA IMPIANTARE'!$R40,\"\")","v":""},null,"",{"$f":"IF(AND($B339=\"AZIONE_3\",$O339=5),'3 - SPECIE DA IMPIANTARE'!$R40,\"\")","v":""},null,"",{"$f":"IF(AND($B339=\"AZIONE_3\",$R339=6),'3 - SPECIE DA IMPIANTARE'!$R40,\"\")","v":""}]
[4,"","",{"$f":"IF(AND($B340=\"AZIONE_3\",C340=1),'3 - SPECIE DA IMPIANTARE'!$R41,\"\")","v":""},null,"",{"$f":"IF(AND($B340=\"AZIONE_3\",F340=2),'3 - SPECIE DA IMPIANTARE'!$R41,\"\")","v":""},null,"",{"$f":"IF(AND($B340=\"AZIONE_3\",$I340=3),'3 - SPECIE DA IMPIANTARE'!$R41,\"\")","v":""},null,"",{"$f":"IF(AND($B340=\"AZIONE_3\",$L340=4),'3 - SPECIE DA IMPIANTARE'!$R41,\"\")","v":""},null,"",{"$f":"IF(AND($B340=\"AZIONE_3\",$O340=5),'3 - SPECIE DA IMPIANTARE'!$R41,\"\")","v":""},null,"",{"$f":"IF(AND($B340=\"AZIONE_3\",$R340=6),'3 - SPECIE DA IMPIANTARE'!$R41,\"\")","v":""}]
[4,"","",{"$f":"IF(AND($B341=\"AZIONE_3\",C341=1),'3 - SPECIE DA IMPIANTARE'!$R42,\"\")","v":""},null,"",{"$f":"IF(AND($B341=\"AZIONE_3\",F341=2),'3 - SPECIE DA IMPIANTARE'!$R42,\"\")","v":""},null,"",{"$f":"IF(AND($B341=\"AZIONE_3\",$I341=3),'3 - SPECIE DA IMPIANTARE'!$R42,\"\")","v":""},null,"",{"$f":"IF(AND($B341=\"AZIONE_3\",$L341=4),'3 - SPECIE DA IMPIANTARE'!$R42,\"\")","v":""},null,"",{"$f":"IF(AND($B341=\"AZIONE_3\",$O341=5),'3 - SPECIE DA IMPIANTARE'!$R42,\"\")","v":""},null,"",{"$f":"IF(AND($B341=\"AZIONE_3\",$R341=6),'3 - SPECIE DA IMPIANTARE'!$R42,\"\")","v":""}]
[4,"","",{"$f":"IF(AND($B342=\"AZIONE_3\",C342=1),'3 - SPECIE DA IMPIANTARE'!$R43,\"\")","v":""},null,"",{"$f":"IF(AND($B342=\"AZIONE_3\",F342=2),'3 - SPECIE DA IMPIANTARE'!$R43,\"\")","v":""},null,"",{"$f":"IF(AND($B342=\"AZIONE_3\",$I342=3),'3 - SPECIE DA IMPIANTARE'!$R43,\"\")","v":""},null,"",{"$f":"IF(AND($B342=\"AZIONE_3\",$L342=4),'3 - SPECIE DA IMPIANTARE'!$R43,\"\")","v":""},null,"",{"$f":"IF(AND($B342=\"AZIONE_3\",$O342=5),'3 - SPECIE DA IMPIANTARE'!$R43,\"\")","v":""},null,"",{"$f":"IF(AND($B342=\"AZIONE_3\",$R342=6),'3 - SPECIE DA IMPIANTARE'!$R43,\"\")","v":""}]
[4,{"$f":"B243","v":""},"",{"$f":"IF(AND($B343=\"AZIONE_3\",C343=1),'3 - SPECIE DA IMPIANTARE'!$R44,\"\")","v":""},null,"",{"$f":"IF(AND($B343=\"AZIONE_3\",F343=2),'3 - SPECIE DA IMPIANTARE'!$R44,\"\")","v":""},null,"",{"$f":"IF(AND($B343=\"AZIONE_3\",$I343=3),'3 - SPECIE DA IMPIANTARE'!$R44,\"\")","v":""},null,"",{"$f":"IF(AND($B343=\"AZIONE_3\",$L343=4),'3 - SPECIE DA IMPIANTARE'!$R44,\"\")","v":""},null,"",{"$f":"IF(AND($B343=\"AZIONE_3\",$O343=5),'3 - SPECIE DA IMPIANTARE'!$R44,\"\")","v":""},null,"",{"$f":"IF(AND($B343=\"AZIONE_3\",$R343=6),'3 - SPECIE DA IMPIANTARE'!$R44,\"\")","v":""}]
[4,"","",{"$f":"IF(AND($B344=\"AZIONE_3\",C344=1),'3 - SPECIE DA IMPIANTARE'!$R45,\"\")","v":""},null,"",{"$f":"IF(AND($B344=\"AZIONE_3\",F344=2),'3 - SPECIE DA IMPIANTARE'!$R45,\"\")","v":""},null,"",{"$f":"IF(AND($B344=\"AZIONE_3\",$I344=3),'3 - SPECIE DA IMPIANTARE'!$R45,\"\")","v":""},null,"",{"$f":"IF(AND($B344=\"AZIONE_3\",$L344=4),'3 - SPECIE DA IMPIANTARE'!$R45,\"\")","v":""},null,"",{"$f":"IF(AND($B344=\"AZIONE_3\",$O344=5),'3 - SPECIE DA IMPIANTARE'!$R45,\"\")","v":""},null,"",{"$f":"IF(AND($B344=\"AZIONE_3\",$R344=6),'3 - SPECIE DA IMPIANTARE'!$R45,\"\")","v":""}]
[4,"","",{"$f":"IF(AND($B345=\"AZIONE_3\",C345=1),'3 - SPECIE DA IMPIANTARE'!$R46,\"\")","v":""},null,"",{"$f":"IF(AND($B345=\"AZIONE_3\",F345=2),'3 - SPECIE DA IMPIANTARE'!$R46,\"\")","v":""},null,"",{"$f":"IF(AND($B345=\"AZIONE_3\",$I345=3),'3 - SPECIE DA IMPIANTARE'!$R46,\"\")","v":""},null,"",{"$f":"IF(AND($B345=\"AZIONE_3\",$L345=4),'3 - SPECIE DA IMPIANTARE'!$R46,\"\")","v":""},null,"",{"$f":"IF(AND($B345=\"AZIONE_3\",$O345=5),'3 - SPECIE DA IMPIANTARE'!$R46,\"\")","v":""},null,"",{"$f":"IF(AND($B345=\"AZIONE_3\",$R345=6),'3 - SPECIE DA IMPIANTARE'!$R46,\"\")","v":""}]
[4,"","",{"$f":"IF(AND($B346=\"AZIONE_3\",C346=1),'3 - SPECIE DA IMPIANTARE'!$R47,\"\")","v":""},null,"",{"$f":"IF(AND($B346=\"AZIONE_3\",F346=2),'3 - SPECIE DA IMPIANTARE'!$R47,\"\")","v":""},null,"",{"$f":"IF(AND($B346=\"AZIONE_3\",$I346=3),'3 - SPECIE DA IMPIANTARE'!$R47,\"\")","v":""},null,"",{"$f":"IF(AND($B346=\"AZIONE_3\",$L346=4),'3 - SPECIE DA IMPIANTARE'!$R47,\"\")","v":""},null,"",{"$f":"IF(AND($B346=\"AZIONE_3\",$O346=5),'3 - SPECIE DA IMPIANTARE'!$R47,\"\")","v":""},null,"",{"$f":"IF(AND($B346=\"AZIONE_3\",$R346=6),'3 - SPECIE DA IMPIANTARE'!$R47,\"\")","v":""}]
[4,"","",{"$f":"IF(AND($B347=\"AZIONE_3\",C347=1),'3 - SPECIE DA IMPIANTARE'!$R48,\"\")","v":""},null,"",{"$f":"IF(AND($B347=\"AZIONE_3\",F347=2),'3 - SPECIE DA IMPIANTARE'!$R48,\"\")","v":""},null,"",{"$f":"IF(AND($B347=\"AZIONE_3\",$I347=3),'3 - SPECIE DA IMPIANTARE'!$R48,\"\")","v":""},null,"",{"$f":"IF(AND($B347=\"AZIONE_3\",$L347=4),'3 - SPECIE DA IMPIANTARE'!$R48,\"\")","v":""},null,"",{"$f":"IF(AND($B347=\"AZIONE_3\",$O347=5),'3 - SPECIE DA IMPIANTARE'!$R48,\"\")","v":""},null,"",{"$f":"IF(AND($B347=\"AZIONE_3\",$R347=6),'3 - SPECIE DA IMPIANTARE'!$R48,\"\")","v":""}]
[4,"","",{"$f":"IF(AND($B348=\"AZIONE_3\",C348=1),'3 - SPECIE DA IMPIANTARE'!$R49,\"\")","v":""},null,"",{"$f":"IF(AND($B348=\"AZIONE_3\",F348=2),'3 - SPECIE DA IMPIANTARE'!$R49,\"\")","v":""},null,"",{"$f":"IF(AND($B348=\"AZIONE_3\",$I348=3),'3 - SPECIE DA IMPIANTARE'!$R49,\"\")","v":""},null,"",{"$f":"IF(AND($B348=\"AZIONE_3\",$L348=4),'3 - SPECIE DA IMPIANTARE'!$R49,\"\")","v":""},null,"",{"$f":"IF(AND($B348=\"AZIONE_3\",$O348=5),'3 - SPECIE DA IMPIANTARE'!$R49,\"\")","v":""},null,"",{"$f":"IF(AND($B348=\"AZIONE_3\",$R348=6),'3 - SPECIE DA IMPIANTARE'!$R49,\"\")","v":""}]
[4,"","",{"$f":"IF(AND($B349=\"AZIONE_3\",C349=1),'3 - SPECIE DA IMPIANTARE'!$R50,\"\")","v":""},null,"",{"$f":"IF(AND($B349=\"AZIONE_3\",F349=2),'3 - SPECIE DA IMPIANTARE'!$R50,\"\")","v":""},null,"",{"$f":"IF(AND($B349=\"AZIONE_3\",$I349=3),'3 - SPECIE DA IMPIANTARE'!$R50,\"\")","v":""},null,"",{"$f":"IF(AND($B349=\"AZIONE_3\",$L349=4),'3 - SPECIE DA IMPIANTARE'!$R50,\"\")","v":""},null,"",{"$f":"IF(AND($B349=\"AZIONE_3\",$O349=5),'3 - SPECIE DA IMPIANTARE'!$R50,\"\")","v":""},null,"",{"$f":"IF(AND($B349=\"AZIONE_3\",$R349=6),'3 - SPECIE DA IMPIANTARE'!$R50,\"\")","v":""}]
[4,"","",{"$f":"IF(AND($B350=\"AZIONE_3\",C350=1),'3 - SPECIE DA IMPIANTARE'!$R51,\"\")","v":""},null,"",{"$f":"IF(AND($B350=\"AZIONE_3\",F350=2),'3 - SPECIE DA IMPIANTARE'!$R51,\"\")","v":""},null,"",{"$f":"IF(AND($B350=\"AZIONE_3\",$I350=3),'3 - SPECIE DA IMPIANTARE'!$R51,\"\")","v":""},null,"",{"$f":"IF(AND($B350=\"AZIONE_3\",$L350=4),'3 - SPECIE DA IMPIANTARE'!$R51,\"\")","v":""},null,"",{"$f":"IF(AND($B350=\"AZIONE_3\",$O350=5),'3 - SPECIE DA IMPIANTARE'!$R51,\"\")","v":""},null,"",{"$f":"IF(AND($B350=\"AZIONE_3\",$R350=6),'3 - SPECIE DA IMPIANTARE'!$R51,\"\")","v":""}]
[4,"","",{"$f":"IF(AND($B351=\"AZIONE_3\",C351=1),'3 - SPECIE DA IMPIANTARE'!$R52,\"\")","v":""},null,"",{"$f":"IF(AND($B351=\"AZIONE_3\",F351=2),'3 - SPECIE DA IMPIANTARE'!$R52,\"\")","v":""},null,"",{"$f":"IF(AND($B351=\"AZIONE_3\",$I351=3),'3 - SPECIE DA IMPIANTARE'!$R52,\"\")","v":""},null,"",{"$f":"IF(AND($B351=\"AZIONE_3\",$L351=4),'3 - SPECIE DA IMPIANTARE'!$R52,\"\")","v":""},null,"",{"$f":"IF(AND($B351=\"AZIONE_3\",$O351=5),'3 - SPECIE DA IMPIANTARE'!$R52,\"\")","v":""},null,"",{"$f":"IF(AND($B351=\"AZIONE_3\",$R351=6),'3 - SPECIE DA IMPIANTARE'!$R52,\"\")","v":""}]
[4,"","",{"$f":"IF(AND($B352=\"AZIONE_3\",C352=1),'3 - SPECIE DA IMPIANTARE'!$R53,\"\")","v":""},null,"",{"$f":"IF(AND($B352=\"AZIONE_3\",F352=2),'3 - SPECIE DA IMPIANTARE'!$R53,\"\")","v":""},null,"",{"$f":"IF(AND($B352=\"AZIONE_3\",$I352=3),'3 - SPECIE DA IMPIANTARE'!$R53,\"\")","v":""},null,"",{"$f":"IF(AND($B352=\"AZIONE_3\",$L352=4),'3 - SPECIE DA IMPIANTARE'!$R53,\"\")","v":""},null,"",{"$f":"IF(AND($B352=\"AZIONE_3\",$O352=5),'3 - SPECIE DA IMPIANTARE'!$R53,\"\")","v":""},null,"",{"$f":"IF(AND($B352=\"AZIONE_3\",$R352=6),'3 - SPECIE DA IMPIANTARE'!$R53,\"\")","v":""}]
[4,"","",{"$f":"IF(AND($B353=\"AZIONE_3\",C353=1),'3 - SPECIE DA IMPIANTARE'!$R54,\"\")","v":""},null,"",{"$f":"IF(AND($B353=\"AZIONE_3\",F353=2),'3 - SPECIE DA IMPIANTARE'!$R54,\"\")","v":""},null,"",{"$f":"IF(AND($B353=\"AZIONE_3\",$I353=3),'3 - SPECIE DA IMPIANTARE'!$R54,\"\")","v":""},null,"",{"$f":"IF(AND($B353=\"AZIONE_3\",$L353=4),'3 - SPECIE DA IMPIANTARE'!$R54,\"\")","v":""},null,"",{"$f":"IF(AND($B353=\"AZIONE_3\",$O353=5),'3 - SPECIE DA IMPIANTARE'!$R54,\"\")","v":""},null,"",{"$f":"IF(AND($B353=\"AZIONE_3\",$R353=6),'3 - SPECIE DA IMPIANTARE'!$R54,\"\")","v":""}]
[4,"","",{"$f":"IF(AND($B354=\"AZIONE_3\",C354=1),'3 - SPECIE DA IMPIANTARE'!$R55,\"\")","v":""},null,"",{"$f":"IF(AND($B354=\"AZIONE_3\",F354=2),'3 - SPECIE DA IMPIANTARE'!$R55,\"\")","v":""},null,"",{"$f":"IF(AND($B354=\"AZIONE_3\",$I354=3),'3 - SPECIE DA IMPIANTARE'!$R55,\"\")","v":""},null,"",{"$f":"IF(AND($B354=\"AZIONE_3\",$L354=4),'3 - SPECIE DA IMPIANTARE'!$R55,\"\")","v":""},null,"",{"$f":"IF(AND($B354=\"AZIONE_3\",$O354=5),'3 - SPECIE DA IMPIANTARE'!$R55,\"\")","v":""},null,"",{"$f":"IF(AND($B354=\"AZIONE_3\",$R354=6),'3 - SPECIE DA IMPIANTARE'!$R55,\"\")","v":""}]
[4,"","",{"$f":"IF(AND($B355=\"AZIONE_3\",C355=1),'3 - SPECIE DA IMPIANTARE'!$R56,\"\")","v":""},null,"",{"$f":"IF(AND($B355=\"AZIONE_3\",F355=2),'3 - SPECIE DA IMPIANTARE'!$R56,\"\")","v":""},null,"",{"$f":"IF(AND($B355=\"AZIONE_3\",$I355=3),'3 - SPECIE DA IMPIANTARE'!$R56,\"\")","v":""},null,"",{"$f":"IF(AND($B355=\"AZIONE_3\",$L355=4),'3 - SPECIE DA IMPIANTARE'!$R56,\"\")","v":""},null,"",{"$f":"IF(AND($B355=\"AZIONE_3\",$O355=5),'3 - SPECIE DA IMPIANTARE'!$R56,\"\")","v":""},null,"",{"$f":"IF(AND($B355=\"AZIONE_3\",$R355=6),'3 - SPECIE DA IMPIANTARE'!$R56,\"\")","v":""}]
[4,"","",{"$f":"IF(AND($B356=\"AZIONE_3\",C356=1),'3 - SPECIE DA IMPIANTARE'!$R57,\"\")","v":""},null,"",{"$f":"IF(AND($B356=\"AZIONE_3\",F356=2),'3 - SPECIE DA IMPIANTARE'!$R57,\"\")","v":""},null,"",{"$f":"IF(AND($B356=\"AZIONE_3\",$I356=3),'3 - SPECIE DA IMPIANTARE'!$R57,\"\")","v":""},null,"",{"$f":"IF(AND($B356=\"AZIONE_3\",$L356=4),'3 - SPECIE DA IMPIANTARE'!$R57,\"\")","v":""},null,"",{"$f":"IF(AND($B356=\"AZIONE_3\",$O356=5),'3 - SPECIE DA IMPIANTARE'!$R57,\"\")","v":""},null,"",{"$f":"IF(AND($B356=\"AZIONE_3\",$R356=6),'3 - SPECIE DA IMPIANTARE'!$R57,\"\")","v":""}]
[4,"","",{"$f":"IF(AND($B357=\"AZIONE_3\",C357=1),'3 - SPECIE DA IMPIANTARE'!$R58,\"\")","v":""},null,"",{"$f":"IF(AND($B357=\"AZIONE_3\",F357=2),'3 - SPECIE DA IMPIANTARE'!$R58,\"\")","v":""},null,"",{"$f":"IF(AND($B357=\"AZIONE_3\",$I357=3),'3 - SPECIE DA IMPIANTARE'!$R58,\"\")","v":""},null,"",{"$f":"IF(AND($B357=\"AZIONE_3\",$L357=4),'3 - SPECIE DA IMPIANTARE'!$R58,\"\")","v":""},null,"",{"$f":"IF(AND($B357=\"AZIONE_3\",$O357=5),'3 - SPECIE DA IMPIANTARE'!$R58,\"\")","v":""},null,"",{"$f":"IF(AND($B357=\"AZIONE_3\",$R357=6),'3 - SPECIE DA IMPIANTARE'!$R58,\"\")","v":""}]
[4,"","",{"$f":"IF(AND($B358=\"AZIONE_3\",C358=1),'3 - SPECIE DA IMPIANTARE'!$R59,\"\")","v":""},null,"",{"$f":"IF(AND($B358=\"AZIONE_3\",F358=2),'3 - SPECIE DA IMPIANTARE'!$R59,\"\")","v":""},null,"",{"$f":"IF(AND($B358=\"AZIONE_3\",$I358=3),'3 - SPECIE DA IMPIANTARE'!$R59,\"\")","v":""},null,"",{"$f":"IF(AND($B358=\"AZIONE_3\",$L358=4),'3 - SPECIE DA IMPIANTARE'!$R59,\"\")","v":""},null,"",{"$f":"IF(AND($B358=\"AZIONE_3\",$O358=5),'3 - SPECIE DA IMPIANTARE'!$R59,\"\")","v":""},null,"",{"$f":"IF(AND($B358=\"AZIONE_3\",$R358=6),'3 - SPECIE DA IMPIANTARE'!$R59,\"\")","v":""}]
[4,{"$f":"B259","v":""},"",{"$f":"IF(AND($B359=\"AZIONE_3\",C359=1),'3 - SPECIE DA IMPIANTARE'!$R60,\"\")","v":""},null,{"$f":"F259","v":""},{"$f":"IF(AND($B359=\"AZIONE_3\",F359=2),'3 - SPECIE DA IMPIANTARE'!$R60,\"\")","v":""},null,{"$f":"I259","v":""},{"$f":"IF(AND($B359=\"AZIONE_3\",$I359=3),'3 - SPECIE DA IMPIANTARE'!$R60,\"\")","v":""},null,{"$f":"L259","v":""},{"$f":"IF(AND($B359=\"AZIONE_3\",$L359=4),'3 - SPECIE DA IMPIANTARE'!$R60,\"\")","v":""},null,{"$f":"O259","v":""},{"$f":"IF(AND($B359=\"AZIONE_3\",$O359=5),'3 - SPECIE DA IMPIANTARE'!$R60,\"\")","v":""},null,{"$f":"R259","v":""},{"$f":"IF(AND($B359=\"AZIONE_3\",$R359=6),'3 - SPECIE DA IMPIANTARE'!$R60,\"\")","v":""}]
[4,"","",{"$f":"IF(AND($B360=\"AZIONE_3\",C360=1),'3 - SPECIE DA IMPIANTARE'!$R61,\"\")","v":""},null,"",{"$f":"IF(AND($B360=\"AZIONE_3\",F360=2),'3 - SPECIE DA IMPIANTARE'!$R61,\"\")","v":""},null,"",{"$f":"IF(AND($B360=\"AZIONE_3\",$I360=3),'3 - SPECIE DA IMPIANTARE'!$R61,\"\")","v":""},null,"",{"$f":"IF(AND($B360=\"AZIONE_3\",$L360=4),'3 - SPECIE DA IMPIANTARE'!$R61,\"\")","v":""},null,"",{"$f":"IF(AND($B360=\"AZIONE_3\",$O360=5),'3 - SPECIE DA IMPIANTARE'!$R61,\"\")","v":""},null,"",{"$f":"IF(AND($B360=\"AZIONE_3\",$R360=6),'3 - SPECIE DA IMPIANTARE'!$R61,\"\")","v":""}]
[4,"","",{"$f":"IF(AND($B361=\"AZIONE_3\",C361=1),'3 - SPECIE DA IMPIANTARE'!$R62,\"\")","v":""},null,"",{"$f":"IF(AND($B361=\"AZIONE_3\",F361=2),'3 - SPECIE DA IMPIANTARE'!$R62,\"\")","v":""},null,"",{"$f":"IF(AND($B361=\"AZIONE_3\",$I361=3),'3 - SPECIE DA IMPIANTARE'!$R62,\"\")","v":""},null,"",{"$f":"IF(AND($B361=\"AZIONE_3\",$L361=4),'3 - SPECIE DA IMPIANTARE'!$R62,\"\")","v":""},null,"",{"$f":"IF(AND($B361=\"AZIONE_3\",$O361=5),'3 - SPECIE DA IMPIANTARE'!$R62,\"\")","v":""},null,"",{"$f":"IF(AND($B361=\"AZIONE_3\",$R361=6),'3 - SPECIE DA IMPIANTARE'!$R62,\"\")","v":""}]
[4,"","",{"$f":"IF(AND($B362=\"AZIONE_3\",C362=1),'3 - SPECIE DA IMPIANTARE'!$R63,\"\")","v":""},null,"",{"$f":"IF(AND($B362=\"AZIONE_3\",F362=2),'3 - SPECIE DA IMPIANTARE'!$R63,\"\")","v":""},null,"",{"$f":"IF(AND($B362=\"AZIONE_3\",$I362=3),'3 - SPECIE DA IMPIANTARE'!$R63,\"\")","v":""},null,"",{"$f":"IF(AND($B362=\"AZIONE_3\",$L362=4),'3 - SPECIE DA IMPIANTARE'!$R63,\"\")","v":""},null,"",{"$f":"IF(AND($B362=\"AZIONE_3\",$O362=5),'3 - SPECIE DA IMPIANTARE'!$R63,\"\")","v":""},null,"",{"$f":"IF(AND($B362=\"AZIONE_3\",$R362=6),'3 - SPECIE DA IMPIANTARE'!$R63,\"\")","v":""}]
[4,"","",{"$f":"IF(AND($B363=\"AZIONE_3\",C363=1),'3 - SPECIE DA IMPIANTARE'!$R64,\"\")","v":""},null,"",{"$f":"IF(AND($B363=\"AZIONE_3\",F363=2),'3 - SPECIE DA IMPIANTARE'!$R64,\"\")","v":""},null,"",{"$f":"IF(AND($B363=\"AZIONE_3\",$I363=3),'3 - SPECIE DA IMPIANTARE'!$R64,\"\")","v":""},null,"",{"$f":"IF(AND($B363=\"AZIONE_3\",$L363=4),'3 - SPECIE DA IMPIANTARE'!$R64,\"\")","v":""},null,"",{"$f":"IF(AND($B363=\"AZIONE_3\",$O363=5),'3 - SPECIE DA IMPIANTARE'!$R64,\"\")","v":""},null,"",{"$f":"IF(AND($B363=\"AZIONE_3\",$R363=6),'3 - SPECIE DA IMPIANTARE'!$R64,\"\")","v":""}]
[4,"","",{"$f":"IF(AND($B364=\"AZIONE_3\",C364=1),'3 - SPECIE DA IMPIANTARE'!$R65,\"\")","v":""},null,"",{"$f":"IF(AND($B364=\"AZIONE_3\",F364=2),'3 - SPECIE DA IMPIANTARE'!$R65,\"\")","v":""},null,"",{"$f":"IF(AND($B364=\"AZIONE_3\",$I364=3),'3 - SPECIE DA IMPIANTARE'!$R65,\"\")","v":""},null,"",{"$f":"IF(AND($B364=\"AZIONE_3\",$L364=4),'3 - SPECIE DA IMPIANTARE'!$R65,\"\")","v":""},null,"",{"$f":"IF(AND($B364=\"AZIONE_3\",$O364=5),'3 - SPECIE DA IMPIANTARE'!$R65,\"\")","v":""},null,"",{"$f":"IF(AND($B364=\"AZIONE_3\",$R364=6),'3 - SPECIE DA IMPIANTARE'!$R65,\"\")","v":""}]
[4,"","",{"$f":"IF(AND($B365=\"AZIONE_3\",C365=1),'3 - SPECIE DA IMPIANTARE'!$R66,\"\")","v":""},null,"",{"$f":"IF(AND($B365=\"AZIONE_3\",F365=2),'3 - SPECIE DA IMPIANTARE'!$R66,\"\")","v":""},null,"",{"$f":"IF(AND($B365=\"AZIONE_3\",$I365=3),'3 - SPECIE DA IMPIANTARE'!$R66,\"\")","v":""},null,"",{"$f":"IF(AND($B365=\"AZIONE_3\",$L365=4),'3 - SPECIE DA IMPIANTARE'!$R66,\"\")","v":""},null,"",{"$f":"IF(AND($B365=\"AZIONE_3\",$O365=5),'3 - SPECIE DA IMPIANTARE'!$R66,\"\")","v":""},null,"",{"$f":"IF(AND($B365=\"AZIONE_3\",$R365=6),'3 - SPECIE DA IMPIANTARE'!$R66,\"\")","v":""}]
[4,"","",{"$f":"IF(AND($B366=\"AZIONE_3\",C366=1),'3 - SPECIE DA IMPIANTARE'!$R67,\"\")","v":""},null,"",{"$f":"IF(AND($B366=\"AZIONE_3\",F366=2),'3 - SPECIE DA IMPIANTARE'!$R67,\"\")","v":""},null,"",{"$f":"IF(AND($B366=\"AZIONE_3\",$I366=3),'3 - SPECIE DA IMPIANTARE'!$R67,\"\")","v":""},null,"",{"$f":"IF(AND($B366=\"AZIONE_3\",$L366=4),'3 - SPECIE DA IMPIANTARE'!$R67,\"\")","v":""},null,"",{"$f":"IF(AND($B366=\"AZIONE_3\",$O366=5),'3 - SPECIE DA IMPIANTARE'!$R67,\"\")","v":""},null,"",{"$f":"IF(AND($B366=\"AZIONE_3\",$R366=6),'3 - SPECIE DA IMPIANTARE'!$R67,\"\")","v":""}]
[4,"","",{"$f":"IF(AND($B367=\"AZIONE_3\",C367=1),'3 - SPECIE DA IMPIANTARE'!$R68,\"\")","v":""},null,"",{"$f":"IF(AND($B367=\"AZIONE_3\",F367=2),'3 - SPECIE DA IMPIANTARE'!$R68,\"\")","v":""},null,"",{"$f":"IF(AND($B367=\"AZIONE_3\",$I367=3),'3 - SPECIE DA IMPIANTARE'!$R68,\"\")","v":""},null,"",{"$f":"IF(AND($B367=\"AZIONE_3\",$L367=4),'3 - SPECIE DA IMPIANTARE'!$R68,\"\")","v":""},null,"",{"$f":"IF(AND($B367=\"AZIONE_3\",$O367=5),'3 - SPECIE DA IMPIANTARE'!$R68,\"\")","v":""},null,"",{"$f":"IF(AND($B367=\"AZIONE_3\",$R367=6),'3 - SPECIE DA IMPIANTARE'!$R68,\"\")","v":""}]
[4,"","",{"$f":"IF(AND($B368=\"AZIONE_3\",C368=1),'3 - SPECIE DA IMPIANTARE'!$R69,\"\")","v":""},null,"",{"$f":"IF(AND($B368=\"AZIONE_3\",F368=2),'3 - SPECIE DA IMPIANTARE'!$R69,\"\")","v":""},null,"",{"$f":"IF(AND($B368=\"AZIONE_3\",$I368=3),'3 - SPECIE DA IMPIANTARE'!$R69,\"\")","v":""},null,"",{"$f":"IF(AND($B368=\"AZIONE_3\",$L368=4),'3 - SPECIE DA IMPIANTARE'!$R69,\"\")","v":""},null,"",{"$f":"IF(AND($B368=\"AZIONE_3\",$O368=5),'3 - SPECIE DA IMPIANTARE'!$R69,\"\")","v":""},null,"",{"$f":"IF(AND($B368=\"AZIONE_3\",$R368=6),'3 - SPECIE DA IMPIANTARE'!$R69,\"\")","v":""}]
[4,"","",{"$f":"IF(AND($B369=\"AZIONE_3\",C369=1),'3 - SPECIE DA IMPIANTARE'!$R70,\"\")","v":""},null,"",{"$f":"IF(AND($B369=\"AZIONE_3\",F369=2),'3 - SPECIE DA IMPIANTARE'!$R70,\"\")","v":""},null,"",{"$f":"IF(AND($B369=\"AZIONE_3\",$I369=3),'3 - SPECIE DA IMPIANTARE'!$R70,\"\")","v":""},null,"",{"$f":"IF(AND($B369=\"AZIONE_3\",$L369=4),'3 - SPECIE DA IMPIANTARE'!$R70,\"\")","v":""},null,"",{"$f":"IF(AND($B369=\"AZIONE_3\",$O369=5),'3 - SPECIE DA IMPIANTARE'!$R70,\"\")","v":""},null,"",{"$f":"IF(AND($B369=\"AZIONE_3\",$R369=6),'3 - SPECIE DA IMPIANTARE'!$R70,\"\")","v":""}]
[4,"","",{"$f":"IF(AND($B370=\"AZIONE_3\",C370=1),'3 - SPECIE DA IMPIANTARE'!$R71,\"\")","v":""},null,"",{"$f":"IF(AND($B370=\"AZIONE_3\",F370=2),'3 - SPECIE DA IMPIANTARE'!$R71,\"\")","v":""},null,"",{"$f":"IF(AND($B370=\"AZIONE_3\",$I370=3),'3 - SPECIE DA IMPIANTARE'!$R71,\"\")","v":""},null,"",{"$f":"IF(AND($B370=\"AZIONE_3\",$L370=4),'3 - SPECIE DA IMPIANTARE'!$R71,\"\")","v":""},null,"",{"$f":"IF(AND($B370=\"AZIONE_3\",$O370=5),'3 - SPECIE DA IMPIANTARE'!$R71,\"\")","v":""},null,"",{"$f":"IF(AND($B370=\"AZIONE_3\",$R370=6),'3 - SPECIE DA IMPIANTARE'!$R71,\"\")","v":""}]
[4,"","",{"$f":"IF(AND($B371=\"AZIONE_3\",C371=1),'3 - SPECIE DA IMPIANTARE'!$R72,\"\")","v":""},null,"",{"$f":"IF(AND($B371=\"AZIONE_3\",F371=2),'3 - SPECIE DA IMPIANTARE'!$R72,\"\")","v":""},null,"",{"$f":"IF(AND($B371=\"AZIONE_3\",$I371=3),'3 - SPECIE DA IMPIANTARE'!$R72,\"\")","v":""},null,"",{"$f":"IF(AND($B371=\"AZIONE_3\",$L371=4),'3 - SPECIE DA IMPIANTARE'!$R72,\"\")","v":""},null,"",{"$f":"IF(AND($B371=\"AZIONE_3\",$O371=5),'3 - SPECIE DA IMPIANTARE'!$R72,\"\")","v":""},null,"",{"$f":"IF(AND($B371=\"AZIONE_3\",$R371=6),'3 - SPECIE DA IMPIANTARE'!$R72,\"\")","v":""}]
[4,"","",{"$f":"IF(AND($B372=\"AZIONE_3\",C372=1),'3 - SPECIE DA IMPIANTARE'!$R73,\"\")","v":""},null,"",{"$f":"IF(AND($B372=\"AZIONE_3\",F372=2),'3 - SPECIE DA IMPIANTARE'!$R73,\"\")","v":""},null,"",{"$f":"IF(AND($B372=\"AZIONE_3\",$I372=3),'3 - SPECIE DA IMPIANTARE'!$R73,\"\")","v":""},null,"",{"$f":"IF(AND($B372=\"AZIONE_3\",$L372=4),'3 - SPECIE DA IMPIANTARE'!$R73,\"\")","v":""},null,"",{"$f":"IF(AND($B372=\"AZIONE_3\",$O372=5),'3 - SPECIE DA IMPIANTARE'!$R73,\"\")","v":""},null,"",{"$f":"IF(AND($B372=\"AZIONE_3\",$R372=6),'3 - SPECIE DA IMPIANTARE'!$R73,\"\")","v":""}]
[4,"","",{"$f":"IF(AND($B373=\"AZIONE_3\",C373=1),'3 - SPECIE DA IMPIANTARE'!$R74,\"\")","v":""},null,"",{"$f":"IF(AND($B373=\"AZIONE_3\",F373=2),'3 - SPECIE DA IMPIANTARE'!$R74,\"\")","v":""},null,"",{"$f":"IF(AND($B373=\"AZIONE_3\",$I373=3),'3 - SPECIE DA IMPIANTARE'!$R74,\"\")","v":""},null,"",{"$f":"IF(AND($B373=\"AZIONE_3\",$L373=4),'3 - SPECIE DA IMPIANTARE'!$R74,\"\")","v":""},null,"",{"$f":"IF(AND($B373=\"AZIONE_3\",$O373=5),'3 - SPECIE DA IMPIANTARE'!$R74,\"\")","v":""},null,"",{"$f":"IF(AND($B373=\"AZIONE_3\",$R373=6),'3 - SPECIE DA IMPIANTARE'!$R74,\"\")","v":""}]
[4,"","",{"$f":"IF(AND($B374=\"AZIONE_3\",C374=1),'3 - SPECIE DA IMPIANTARE'!$R75,\"\")","v":""},null,"",{"$f":"IF(AND($B374=\"AZIONE_3\",F374=2),'3 - SPECIE DA IMPIANTARE'!$R75,\"\")","v":""},null,"",{"$f":"IF(AND($B374=\"AZIONE_3\",$I374=3),'3 - SPECIE DA IMPIANTARE'!$R75,\"\")","v":""},null,"",{"$f":"IF(AND($B374=\"AZIONE_3\",$L374=4),'3 - SPECIE DA IMPIANTARE'!$R75,\"\")","v":""},null,"",{"$f":"IF(AND($B374=\"AZIONE_3\",$O374=5),'3 - SPECIE DA IMPIANTARE'!$R75,\"\")","v":""},null,"",{"$f":"IF(AND($B374=\"AZIONE_3\",$R374=6),'3 - SPECIE DA IMPIANTARE'!$R75,\"\")","v":""}]
[4,{"$f":"B275","v":""},"",{"$f":"IF(AND($B375=\"AZIONE_3\",C375=1),'3 - SPECIE DA IMPIANTARE'!$R76,\"\")","v":""},null,"",{"$f":"IF(AND($B375=\"AZIONE_3\",F375=2),'3 - SPECIE DA IMPIANTARE'!$R76,\"\")","v":""},null,"",{"$f":"IF(AND($B375=\"AZIONE_3\",$I375=3),'3 - SPECIE DA IMPIANTARE'!$R76,\"\")","v":""},null,"",{"$f":"IF(AND($B375=\"AZIONE_3\",$L375=4),'3 - SPECIE DA IMPIANTARE'!$R76,\"\")","v":""},null,"",{"$f":"IF(AND($B375=\"AZIONE_3\",$O375=5),'3 - SPECIE DA IMPIANTARE'!$R76,\"\")","v":""},null,"",{"$f":"IF(AND($B375=\"AZIONE_3\",$R375=6),'3 - SPECIE DA IMPIANTARE'!$R76,\"\")","v":""}]
[4,"","",{"$f":"IF(AND($B376=\"AZIONE_3\",C376=1),'3 - SPECIE DA IMPIANTARE'!$R77,\"\")","v":""},null,"",{"$f":"IF(AND($B376=\"AZIONE_3\",F376=2),'3 - SPECIE DA IMPIANTARE'!$R77,\"\")","v":""},null,"",{"$f":"IF(AND($B376=\"AZIONE_3\",$I376=3),'3 - SPECIE DA IMPIANTARE'!$R77,\"\")","v":""},null,"",{"$f":"IF(AND($B376=\"AZIONE_3\",$L376=4),'3 - SPECIE DA IMPIANTARE'!$R77,\"\")","v":""},null,"",{"$f":"IF(AND($B376=\"AZIONE_3\",$O376=5),'3 - SPECIE DA IMPIANTARE'!$R77,\"\")","v":""},null,"",{"$f":"IF(AND($B376=\"AZIONE_3\",$R376=6),'3 - SPECIE DA IMPIANTARE'!$R77,\"\")","v":""}]
[4,"","",{"$f":"IF(AND($B377=\"AZIONE_3\",C377=1),'3 - SPECIE DA IMPIANTARE'!$R78,\"\")","v":""},null,"",{"$f":"IF(AND($B377=\"AZIONE_3\",F377=2),'3 - SPECIE DA IMPIANTARE'!$R78,\"\")","v":""},null,"",{"$f":"IF(AND($B377=\"AZIONE_3\",$I377=3),'3 - SPECIE DA IMPIANTARE'!$R78,\"\")","v":""},null,"",{"$f":"IF(AND($B377=\"AZIONE_3\",$L377=4),'3 - SPECIE DA IMPIANTARE'!$R78,\"\")","v":""},null,"",{"$f":"IF(AND($B377=\"AZIONE_3\",$O377=5),'3 - SPECIE DA IMPIANTARE'!$R78,\"\")","v":""},null,"",{"$f":"IF(AND($B377=\"AZIONE_3\",$R377=6),'3 - SPECIE DA IMPIANTARE'!$R78,\"\")","v":""}]
[4,"","",{"$f":"IF(AND($B378=\"AZIONE_3\",C378=1),'3 - SPECIE DA IMPIANTARE'!$R79,\"\")","v":""},null,"",{"$f":"IF(AND($B378=\"AZIONE_3\",F378=2),'3 - SPECIE DA IMPIANTARE'!$R79,\"\")","v":""},null,"",{"$f":"IF(AND($B378=\"AZIONE_3\",$I378=3),'3 - SPECIE DA IMPIANTARE'!$R79,\"\")","v":""},null,"",{"$f":"IF(AND($B378=\"AZIONE_3\",$L378=4),'3 - SPECIE DA IMPIANTARE'!$R79,\"\")","v":""},null,"",{"$f":"IF(AND($B378=\"AZIONE_3\",$O378=5),'3 - SPECIE DA IMPIANTARE'!$R79,\"\")","v":""},null,"",{"$f":"IF(AND($B378=\"AZIONE_3\",$R378=6),'3 - SPECIE DA IMPIANTARE'!$R79,\"\")","v":""}]
[4,"","",{"$f":"IF(AND($B379=\"AZIONE_3\",C379=1),'3 - SPECIE DA IMPIANTARE'!$R80,\"\")","v":""},null,"",{"$f":"IF(AND($B379=\"AZIONE_3\",F379=2),'3 - SPECIE DA IMPIANTARE'!$R80,\"\")","v":""},null,"",{"$f":"IF(AND($B379=\"AZIONE_3\",$I379=3),'3 - SPECIE DA IMPIANTARE'!$R80,\"\")","v":""},null,"",{"$f":"IF(AND($B379=\"AZIONE_3\",$L379=4),'3 - SPECIE DA IMPIANTARE'!$R80,\"\")","v":""},null,"",{"$f":"IF(AND($B379=\"AZIONE_3\",$O379=5),'3 - SPECIE DA IMPIANTARE'!$R80,\"\")","v":""},null,"",{"$f":"IF(AND($B379=\"AZIONE_3\",$R379=6),'3 - SPECIE DA IMPIANTARE'!$R80,\"\")","v":""}]
[4,"","",{"$f":"IF(AND($B380=\"AZIONE_3\",C380=1),'3 - SPECIE DA IMPIANTARE'!$R81,\"\")","v":""},null,"",{"$f":"IF(AND($B380=\"AZIONE_3\",F380=2),'3 - SPECIE DA IMPIANTARE'!$R81,\"\")","v":""},null,"",{"$f":"IF(AND($B380=\"AZIONE_3\",$I380=3),'3 - SPECIE DA IMPIANTARE'!$R81,\"\")","v":""},null,"",{"$f":"IF(AND($B380=\"AZIONE_3\",$L380=4),'3 - SPECIE DA IMPIANTARE'!$R81,\"\")","v":""},null,"",{"$f":"IF(AND($B380=\"AZIONE_3\",$O380=5),'3 - SPECIE DA IMPIANTARE'!$R81,\"\")","v":""},null,"",{"$f":"IF(AND($B380=\"AZIONE_3\",$R380=6),'3 - SPECIE DA IMPIANTARE'!$R81,\"\")","v":""}]
[4,"","",{"$f":"IF(AND($B381=\"AZIONE_3\",C381=1),'3 - SPECIE DA IMPIANTARE'!$R82,\"\")","v":""},null,"",{"$f":"IF(AND($B381=\"AZIONE_3\",F381=2),'3 - SPECIE DA IMPIANTARE'!$R82,\"\")","v":""},null,"",{"$f":"IF(AND($B381=\"AZIONE_3\",$I381=3),'3 - SPECIE DA IMPIANTARE'!$R82,\"\")","v":""},null,"",{"$f":"IF(AND($B381=\"AZIONE_3\",$L381=4),'3 - SPECIE DA IMPIANTARE'!$R82,\"\")","v":""},null,"",{"$f":"IF(AND($B381=\"AZIONE_3\",$O381=5),'3 - SPECIE DA IMPIANTARE'!$R82,\"\")","v":""},null,"",{"$f":"IF(AND($B381=\"AZIONE_3\",$R381=6),'3 - SPECIE DA IMPIANTARE'!$R82,\"\")","v":""}]
[4,"","",{"$f":"IF(AND($B382=\"AZIONE_3\",C382=1),'3 - SPECIE DA IMPIANTARE'!$R83,\"\")","v":""},null,"",{"$f":"IF(AND($B382=\"AZIONE_3\",F382=2),'3 - SPECIE DA IMPIANTARE'!$R83,\"\")","v":""},null,"",{"$f":"IF(AND($B382=\"AZIONE_3\",$I382=3),'3 - SPECIE DA IMPIANTARE'!$R83,\"\")","v":""},null,"",{"$f":"IF(AND($B382=\"AZIONE_3\",$L382=4),'3 - SPECIE DA IMPIANTARE'!$R83,\"\")","v":""},null,"",{"$f":"IF(AND($B382=\"AZIONE_3\",$O382=5),'3 - SPECIE DA IMPIANTARE'!$R83,\"\")","v":""},null,"",{"$f":"IF(AND($B382=\"AZIONE_3\",$R382=6),'3 - SPECIE DA IMPIANTARE'!$R83,\"\")","v":""}]
[4,"","",{"$f":"IF(AND($B383=\"AZIONE_3\",C383=1),'3 - SPECIE DA IMPIANTARE'!$R84,\"\")","v":""},null,"",{"$f":"IF(AND($B383=\"AZIONE_3\",F383=2),'3 - SPECIE DA IMPIANTARE'!$R84,\"\")","v":""},null,"",{"$f":"IF(AND($B383=\"AZIONE_3\",$I383=3),'3 - SPECIE DA IMPIANTARE'!$R84,\"\")","v":""},null,"",{"$f":"IF(AND($B383=\"AZIONE_3\",$L383=4),'3 - SPECIE DA IMPIANTARE'!$R84,\"\")","v":""},null,"",{"$f":"IF(AND($B383=\"AZIONE_3\",$O383=5),'3 - SPECIE DA IMPIANTARE'!$R84,\"\")","v":""},null,"",{"$f":"IF(AND($B383=\"AZIONE_3\",$R383=6),'3 - SPECIE DA IMPIANTARE'!$R84,\"\")","v":""}]
[4,"","",{"$f":"IF(AND($B384=\"AZIONE_3\",C384=1),'3 - SPECIE DA IMPIANTARE'!$R85,\"\")","v":""},null,"",{"$f":"IF(AND($B384=\"AZIONE_3\",F384=2),'3 - SPECIE DA IMPIANTARE'!$R85,\"\")","v":""},null,"",{"$f":"IF(AND($B384=\"AZIONE_3\",$I384=3),'3 - SPECIE DA IMPIANTARE'!$R85,\"\")","v":""},null,"",{"$f":"IF(AND($B384=\"AZIONE_3\",$L384=4),'3 - SPECIE DA IMPIANTARE'!$R85,\"\")","v":""},null,"",{"$f":"IF(AND($B384=\"AZIONE_3\",$O384=5),'3 - SPECIE DA IMPIANTARE'!$R85,\"\")","v":""},null,"",{"$f":"IF(AND($B384=\"AZIONE_3\",$R384=6),'3 - SPECIE DA IMPIANTARE'!$R85,\"\")","v":""}]
[4,"","",{"$f":"IF(AND($B385=\"AZIONE_3\",C385=1),'3 - SPECIE DA IMPIANTARE'!$R86,\"\")","v":""},null,"",{"$f":"IF(AND($B385=\"AZIONE_3\",F385=2),'3 - SPECIE DA IMPIANTARE'!$R86,\"\")","v":""},null,"",{"$f":"IF(AND($B385=\"AZIONE_3\",$I385=3),'3 - SPECIE DA IMPIANTARE'!$R86,\"\")","v":""},null,"",{"$f":"IF(AND($B385=\"AZIONE_3\",$L385=4),'3 - SPECIE DA IMPIANTARE'!$R86,\"\")","v":""},null,"",{"$f":"IF(AND($B385=\"AZIONE_3\",$O385=5),'3 - SPECIE DA IMPIANTARE'!$R86,\"\")","v":""},null,"",{"$f":"IF(AND($B385=\"AZIONE_3\",$R385=6),'3 - SPECIE DA IMPIANTARE'!$R86,\"\")","v":""}]
[4,"","",{"$f":"IF(AND($B386=\"AZIONE_3\",C386=1),'3 - SPECIE DA IMPIANTARE'!$R87,\"\")","v":""},null,"",{"$f":"IF(AND($B386=\"AZIONE_3\",F386=2),'3 - SPECIE DA IMPIANTARE'!$R87,\"\")","v":""},null,"",{"$f":"IF(AND($B386=\"AZIONE_3\",$I386=3),'3 - SPECIE DA IMPIANTARE'!$R87,\"\")","v":""},null,"",{"$f":"IF(AND($B386=\"AZIONE_3\",$L386=4),'3 - SPECIE DA IMPIANTARE'!$R87,\"\")","v":""},null,"",{"$f":"IF(AND($B386=\"AZIONE_3\",$O386=5),'3 - SPECIE DA IMPIANTARE'!$R87,\"\")","v":""},null,"",{"$f":"IF(AND($B386=\"AZIONE_3\",$R386=6),'3 - SPECIE DA IMPIANTARE'!$R87,\"\")","v":""}]
[4,"","",{"$f":"IF(AND($B387=\"AZIONE_3\",C387=1),'3 - SPECIE DA IMPIANTARE'!$R88,\"\")","v":""},null,"",{"$f":"IF(AND($B387=\"AZIONE_3\",F387=2),'3 - SPECIE DA IMPIANTARE'!$R88,\"\")","v":""},null,"",{"$f":"IF(AND($B387=\"AZIONE_3\",$I387=3),'3 - SPECIE DA IMPIANTARE'!$R88,\"\")","v":""},null,"",{"$f":"IF(AND($B387=\"AZIONE_3\",$L387=4),'3 - SPECIE DA IMPIANTARE'!$R88,\"\")","v":""},null,"",{"$f":"IF(AND($B387=\"AZIONE_3\",$O387=5),'3 - SPECIE DA IMPIANTARE'!$R88,\"\")","v":""},null,"",{"$f":"IF(AND($B387=\"AZIONE_3\",$R387=6),'3 - SPECIE DA IMPIANTARE'!$R88,\"\")","v":""}]
[4,"","",{"$f":"IF(AND($B388=\"AZIONE_3\",C388=1),'3 - SPECIE DA IMPIANTARE'!$R89,\"\")","v":""},null,"",{"$f":"IF(AND($B388=\"AZIONE_3\",F388=2),'3 - SPECIE DA IMPIANTARE'!$R89,\"\")","v":""},null,"",{"$f":"IF(AND($B388=\"AZIONE_3\",$I388=3),'3 - SPECIE DA IMPIANTARE'!$R89,\"\")","v":""},null,"",{"$f":"IF(AND($B388=\"AZIONE_3\",$L388=4),'3 - SPECIE DA IMPIANTARE'!$R89,\"\")","v":""},null,"",{"$f":"IF(AND($B388=\"AZIONE_3\",$O388=5),'3 - SPECIE DA IMPIANTARE'!$R89,\"\")","v":""},null,"",{"$f":"IF(AND($B388=\"AZIONE_3\",$R388=6),'3 - SPECIE DA IMPIANTARE'!$R89,\"\")","v":""}]
[4,"","",{"$f":"IF(AND($B389=\"AZIONE_3\",C389=1),'3 - SPECIE DA IMPIANTARE'!$R90,\"\")","v":""},null,"",{"$f":"IF(AND($B389=\"AZIONE_3\",F389=2),'3 - SPECIE DA IMPIANTARE'!$R90,\"\")","v":""},null,"",{"$f":"IF(AND($B389=\"AZIONE_3\",$I389=3),'3 - SPECIE DA IMPIANTARE'!$R90,\"\")","v":""},null,"",{"$f":"IF(AND($B389=\"AZIONE_3\",$L389=4),'3 - SPECIE DA IMPIANTARE'!$R90,\"\")","v":""},null,"",{"$f":"IF(AND($B389=\"AZIONE_3\",$O389=5),'3 - SPECIE DA IMPIANTARE'!$R90,\"\")","v":""},null,"",{"$f":"IF(AND($B389=\"AZIONE_3\",$R389=6),'3 - SPECIE DA IMPIANTARE'!$R90,\"\")","v":""}]
[4,"","",{"$f":"IF(AND($B390=\"AZIONE_3\",C390=1),'3 - SPECIE DA IMPIANTARE'!$R91,\"\")","v":""},null,"",{"$f":"IF(AND($B390=\"AZIONE_3\",F390=2),'3 - SPECIE DA IMPIANTARE'!$R91,\"\")","v":""},null,"",{"$f":"IF(AND($B390=\"AZIONE_3\",$I390=3),'3 - SPECIE DA IMPIANTARE'!$R91,\"\")","v":""},null,"",{"$f":"IF(AND($B390=\"AZIONE_3\",$L390=4),'3 - SPECIE DA IMPIANTARE'!$R91,\"\")","v":""},null,"",{"$f":"IF(AND($B390=\"AZIONE_3\",$O390=5),'3 - SPECIE DA IMPIANTARE'!$R91,\"\")","v":""},null,"",{"$f":"IF(AND($B390=\"AZIONE_3\",$R390=6),'3 - SPECIE DA IMPIANTARE'!$R91,\"\")","v":""}]
[4,{"$f":"B291","v":""},"",{"$f":"IF(AND($B391=\"AZIONE_3\",C391=1),'3 - SPECIE DA IMPIANTARE'!$R92,\"\")","v":""},null,"",{"$f":"IF(AND($B391=\"AZIONE_3\",F391=2),'3 - SPECIE DA IMPIANTARE'!$R92,\"\")","v":""},null,"",{"$f":"IF(AND($B391=\"AZIONE_3\",$I391=3),'3 - SPECIE DA IMPIANTARE'!$R92,\"\")","v":""},null,"",{"$f":"IF(AND($B391=\"AZIONE_3\",$L391=4),'3 - SPECIE DA IMPIANTARE'!$R92,\"\")","v":""},null,"",{"$f":"IF(AND($B391=\"AZIONE_3\",$O391=5),'3 - SPECIE DA IMPIANTARE'!$R92,\"\")","v":""},null,"",{"$f":"IF(AND($B391=\"AZIONE_3\",$R391=6),'3 - SPECIE DA IMPIANTARE'!$R92,\"\")","v":""}]
[4,"","",{"$f":"IF(AND($B392=\"AZIONE_3\",C392=1),'3 - SPECIE DA IMPIANTARE'!$R93,\"\")","v":""},null,"",{"$f":"IF(AND($B392=\"AZIONE_3\",F392=2),'3 - SPECIE DA IMPIANTARE'!$R93,\"\")","v":""},null,"",{"$f":"IF(AND($B392=\"AZIONE_3\",$I392=3),'3 - SPECIE DA IMPIANTARE'!$R93,\"\")","v":""},null,"",{"$f":"IF(AND($B392=\"AZIONE_3\",$L392=4),'3 - SPECIE DA IMPIANTARE'!$R93,\"\")","v":""},null,"",{"$f":"IF(AND($B392=\"AZIONE_3\",$O392=5),'3 - SPECIE DA IMPIANTARE'!$R93,\"\")","v":""},null,"",{"$f":"IF(AND($B392=\"AZIONE_3\",$R392=6),'3 - SPECIE DA IMPIANTARE'!$R93,\"\")","v":""}]
[4,"","",{"$f":"IF(AND($B393=\"AZIONE_3\",C393=1),'3 - SPECIE DA IMPIANTARE'!$R94,\"\")","v":""},null,"",{"$f":"IF(AND($B393=\"AZIONE_3\",F393=2),'3 - SPECIE DA IMPIANTARE'!$R94,\"\")","v":""},null,"",{"$f":"IF(AND($B393=\"AZIONE_3\",$I393=3),'3 - SPECIE DA IMPIANTARE'!$R94,\"\")","v":""},null,"",{"$f":"IF(AND($B393=\"AZIONE_3\",$L393=4),'3 - SPECIE DA IMPIANTARE'!$R94,\"\")","v":""},null,"",{"$f":"IF(AND($B393=\"AZIONE_3\",$O393=5),'3 - SPECIE DA IMPIANTARE'!$R94,\"\")","v":""},null,"",{"$f":"IF(AND($B393=\"AZIONE_3\",$R393=6),'3 - SPECIE DA IMPIANTARE'!$R94,\"\")","v":""}]
[4,"","",{"$f":"IF(AND($B394=\"AZIONE_3\",C394=1),'3 - SPECIE DA IMPIANTARE'!$R95,\"\")","v":""},null,"",{"$f":"IF(AND($B394=\"AZIONE_3\",F394=2),'3 - SPECIE DA IMPIANTARE'!$R95,\"\")","v":""},null,"",{"$f":"IF(AND($B394=\"AZIONE_3\",$I394=3),'3 - SPECIE DA IMPIANTARE'!$R95,\"\")","v":""},null,"",{"$f":"IF(AND($B394=\"AZIONE_3\",$L394=4),'3 - SPECIE DA IMPIANTARE'!$R95,\"\")","v":""},null,"",{"$f":"IF(AND($B394=\"AZIONE_3\",$O394=5),'3 - SPECIE DA IMPIANTARE'!$R95,\"\")","v":""},null,"",{"$f":"IF(AND($B394=\"AZIONE_3\",$R394=6),'3 - SPECIE DA IMPIANTARE'!$R95,\"\")","v":""}]
[4,"","",{"$f":"IF(AND($B395=\"AZIONE_3\",C395=1),'3 - SPECIE DA IMPIANTARE'!$R96,\"\")","v":""},null,"",{"$f":"IF(AND($B395=\"AZIONE_3\",F395=2),'3 - SPECIE DA IMPIANTARE'!$R96,\"\")","v":""},null,"",{"$f":"IF(AND($B395=\"AZIONE_3\",$I395=3),'3 - SPECIE DA IMPIANTARE'!$R96,\"\")","v":""},null,"",{"$f":"IF(AND($B395=\"AZIONE_3\",$L395=4),'3 - SPECIE DA IMPIANTARE'!$R96,\"\")","v":""},null,"",{"$f":"IF(AND($B395=\"AZIONE_3\",$O395=5),'3 - SPECIE DA IMPIANTARE'!$R96,\"\")","v":""},null,"",{"$f":"IF(AND($B395=\"AZIONE_3\",$R395=6),'3 - SPECIE DA IMPIANTARE'!$R96,\"\")","v":""}]
[4,"","",{"$f":"IF(AND($B396=\"AZIONE_3\",C396=1),'3 - SPECIE DA IMPIANTARE'!$R97,\"\")","v":""},null,"",{"$f":"IF(AND($B396=\"AZIONE_3\",F396=2),'3 - SPECIE DA IMPIANTARE'!$R97,\"\")","v":""},null,"",{"$f":"IF(AND($B396=\"AZIONE_3\",$I396=3),'3 - SPECIE DA IMPIANTARE'!$R97,\"\")","v":""},null,"",{"$f":"IF(AND($B396=\"AZIONE_3\",$L396=4),'3 - SPECIE DA IMPIANTARE'!$R97,\"\")","v":""},null,"",{"$f":"IF(AND($B396=\"AZIONE_3\",$O396=5),'3 - SPECIE DA IMPIANTARE'!$R97,\"\")","v":""},null,"",{"$f":"IF(AND($B396=\"AZIONE_3\",$R396=6),'3 - SPECIE DA IMPIANTARE'!$R97,\"\")","v":""}]
[4,"","",{"$f":"IF(AND($B397=\"AZIONE_3\",C397=1),'3 - SPECIE DA IMPIANTARE'!$R98,\"\")","v":""},null,"",{"$f":"IF(AND($B397=\"AZIONE_3\",F397=2),'3 - SPECIE DA IMPIANTARE'!$R98,\"\")","v":""},null,"",{"$f":"IF(AND($B397=\"AZIONE_3\",$I397=3),'3 - SPECIE DA IMPIANTARE'!$R98,\"\")","v":""},null,"",{"$f":"IF(AND($B397=\"AZIONE_3\",$L397=4),'3 - SPECIE DA IMPIANTARE'!$R98,\"\")","v":""},null,"",{"$f":"IF(AND($B397=\"AZIONE_3\",$O397=5),'3 - SPECIE DA IMPIANTARE'!$R98,\"\")","v":""},null,"",{"$f":"IF(AND($B397=\"AZIONE_3\",$R397=6),'3 - SPECIE DA IMPIANTARE'!$R98,\"\")","v":""}]
[4,"","",{"$f":"IF(AND($B398=\"AZIONE_3\",C398=1),'3 - SPECIE DA IMPIANTARE'!$R99,\"\")","v":""},null,"",{"$f":"IF(AND($B398=\"AZIONE_3\",F398=2),'3 - SPECIE DA IMPIANTARE'!$R99,\"\")","v":""},null,"",{"$f":"IF(AND($B398=\"AZIONE_3\",$I398=3),'3 - SPECIE DA IMPIANTARE'!$R99,\"\")","v":""},null,"",{"$f":"IF(AND($B398=\"AZIONE_3\",$L398=4),'3 - SPECIE DA IMPIANTARE'!$R99,\"\")","v":""},null,"",{"$f":"IF(AND($B398=\"AZIONE_3\",$O398=5),'3 - SPECIE DA IMPIANTARE'!$R99,\"\")","v":""},null,"",{"$f":"IF(AND($B398=\"AZIONE_3\",$R398=6),'3 - SPECIE DA IMPIANTARE'!$R99,\"\")","v":""}]
[4,"","",{"$f":"IF(AND($B399=\"AZIONE_3\",C399=1),'3 - SPECIE DA IMPIANTARE'!$R100,\"\")","v":""},null,"",{"$f":"IF(AND($B399=\"AZIONE_3\",F399=2),'3 - SPECIE DA IMPIANTARE'!$R100,\"\")","v":""},null,"",{"$f":"IF(AND($B399=\"AZIONE_3\",$I399=3),'3 - SPECIE DA IMPIANTARE'!$R100,\"\")","v":""},null,"",{"$f":"IF(AND($B399=\"AZIONE_3\",$L399=4),'3 - SPECIE DA IMPIANTARE'!$R100,\"\")","v":""},null,"",{"$f":"IF(AND($B399=\"AZIONE_3\",$O399=5),'3 - SPECIE DA IMPIANTARE'!$R100,\"\")","v":""},null,"",{"$f":"IF(AND($B399=\"AZIONE_3\",$R399=6),'3 - SPECIE DA IMPIANTARE'!$R100,\"\")","v":""}]
[4,"","",{"$f":"IF(AND($B400=\"AZIONE_3\",C400=1),'3 - SPECIE DA IMPIANTARE'!$R101,\"\")","v":""},null,"",{"$f":"IF(AND($B400=\"AZIONE_3\",F400=2),'3 - SPECIE DA IMPIANTARE'!$R101,\"\")","v":""},null,"",{"$f":"IF(AND($B400=\"AZIONE_3\",$I400=3),'3 - SPECIE DA IMPIANTARE'!$R101,\"\")","v":""},null,"",{"$f":"IF(AND($B400=\"AZIONE_3\",$L400=4),'3 - SPECIE DA IMPIANTARE'!$R101,\"\")","v":""},null,"",{"$f":"IF(AND($B400=\"AZIONE_3\",$O400=5),'3 - SPECIE DA IMPIANTARE'!$R101,\"\")","v":""},null,"",{"$f":"IF(AND($B400=\"AZIONE_3\",$R400=6),'3 - SPECIE DA IMPIANTARE'!$R101,\"\")","v":""}]
[4,"","",{"$f":"IF(AND($B401=\"AZIONE_3\",C401=1),'3 - SPECIE DA IMPIANTARE'!$R102,\"\")","v":""},null,"",{"$f":"IF(AND($B401=\"AZIONE_3\",F401=2),'3 - SPECIE DA IMPIANTARE'!$R102,\"\")","v":""},null,"",{"$f":"IF(AND($B401=\"AZIONE_3\",$I401=3),'3 - SPECIE DA IMPIANTARE'!$R102,\"\")","v":""},null,"",{"$f":"IF(AND($B401=\"AZIONE_3\",$L401=4),'3 - SPECIE DA IMPIANTARE'!$R102,\"\")","v":""},null,"",{"$f":"IF(AND($B401=\"AZIONE_3\",$O401=5),'3 - SPECIE DA IMPIANTARE'!$R102,\"\")","v":""},null,"",{"$f":"IF(AND($B401=\"AZIONE_3\",$R401=6),'3 - SPECIE DA IMPIANTARE'!$R102,\"\")","v":""}]
[5,"","",{"$f":"IF(AND($B402=\"AZIONE_3\",C402=1),'3 - SPECIE DA IMPIANTARE'!$U3,\"\")","v":""},null,"",{"$f":"IF(AND($B402=\"AZIONE_3\",F402=2),'3 - SPECIE DA IMPIANTARE'!$U3,\"\")","v":""},null,"",{"$f":"IF(AND($B402=\"AZIONE_3\",$I402=3),'3 - SPECIE DA IMPIANTARE'!$U3,\"\")","v":""},null,"",{"$f":"IF(AND($B402=\"AZIONE_3\",$L402=4),'3 - SPECIE DA IMPIANTARE'!$U3,\"\")","v":""},null,"",{"$f":"IF(AND($B402=\"AZIONE_3\",$O402=5),'3 - SPECIE DA IMPIANTARE'!$U3,\"\")","v":""},null,"",{"$f":"IF(AND($B402=\"AZIONE_3\",$R402=6),'3 - SPECIE DA IMPIANTARE'!$U3,\"\")","v":""}]
[5,"","",{"$f":"IF(AND($B403=\"AZIONE_3\",C403=1),'3 - SPECIE DA IMPIANTARE'!$U4,\"\")","v":""},null,"",{"$f":"IF(AND($B403=\"AZIONE_3\",F403=2),'3 - SPECIE DA IMPIANTARE'!$U4,\"\")","v":""},null,"",{"$f":"IF(AND($B403=\"AZIONE_3\",$I403=3),'3 - SPECIE DA IMPIANTARE'!$U4,\"\")","v":""},null,"",{"$f":"IF(AND($B403=\"AZIONE_3\",$L403=4),'3 - SPECIE DA IMPIANTARE'!$U4,\"\")","v":""},null,"",{"$f":"IF(AND($B403=\"AZIONE_3\",$O403=5),'3 - SPECIE DA IMPIANTARE'!$U4,\"\")","v":""},null,"",{"$f":"IF(AND($B403=\"AZIONE_3\",$R403=6),'3 - SPECIE DA IMPIANTARE'!$U4,\"\")","v":""}]
[5,"","",{"$f":"IF(AND($B404=\"AZIONE_3\",C404=1),'3 - SPECIE DA IMPIANTARE'!$U5,\"\")","v":""},null,"",{"$f":"IF(AND($B404=\"AZIONE_3\",F404=2),'3 - SPECIE DA IMPIANTARE'!$U5,\"\")","v":""},null,"",{"$f":"IF(AND($B404=\"AZIONE_3\",$I404=3),'3 - SPECIE DA IMPIANTARE'!$U5,\"\")","v":""},null,"",{"$f":"IF(AND($B404=\"AZIONE_3\",$L404=4),'3 - SPECIE DA IMPIANTARE'!$U5,\"\")","v":""},null,"",{"$f":"IF(AND($B404=\"AZIONE_3\",$O404=5),'3 - SPECIE DA IMPIANTARE'!$U5,\"\")","v":""},null,"",{"$f":"IF(AND($B404=\"AZIONE_3\",$R404=6),'3 - SPECIE DA IMPIANTARE'!$U5,\"\")","v":""}]
[5,"","",{"$f":"IF(AND($B405=\"AZIONE_3\",C405=1),'3 - SPECIE DA IMPIANTARE'!$U6,\"\")","v":""},null,"",{"$f":"IF(AND($B405=\"AZIONE_3\",F405=2),'3 - SPECIE DA IMPIANTARE'!$U6,\"\")","v":""},null,"",{"$f":"IF(AND($B405=\"AZIONE_3\",$I405=3),'3 - SPECIE DA IMPIANTARE'!$U6,\"\")","v":""},null,"",{"$f":"IF(AND($B405=\"AZIONE_3\",$L405=4),'3 - SPECIE DA IMPIANTARE'!$U6,\"\")","v":""},null,"",{"$f":"IF(AND($B405=\"AZIONE_3\",$O405=5),'3 - SPECIE DA IMPIANTARE'!$U6,\"\")","v":""},null,"",{"$f":"IF(AND($B405=\"AZIONE_3\",$R405=6),'3 - SPECIE DA IMPIANTARE'!$U6,\"\")","v":""}]
[5,"","",{"$f":"IF(AND($B406=\"AZIONE_3\",C406=1),'3 - SPECIE DA IMPIANTARE'!$U7,\"\")","v":""},null,"",{"$f":"IF(AND($B406=\"AZIONE_3\",F406=2),'3 - SPECIE DA IMPIANTARE'!$U7,\"\")","v":""},null,"",{"$f":"IF(AND($B406=\"AZIONE_3\",$I406=3),'3 - SPECIE DA IMPIANTARE'!$U7,\"\")","v":""},null,"",{"$f":"IF(AND($B406=\"AZIONE_3\",$L406=4),'3 - SPECIE DA IMPIANTARE'!$U7,\"\")","v":""},null,"",{"$f":"IF(AND($B406=\"AZIONE_3\",$O406=5),'3 - SPECIE DA IMPIANTARE'!$U7,\"\")","v":""},null,"",{"$f":"IF(AND($B406=\"AZIONE_3\",$R406=6),'3 - SPECIE DA IMPIANTARE'!$U7,\"\")","v":""}]
[5,{"$f":"B307","v":""},"",{"$f":"IF(AND($B407=\"AZIONE_3\",C407=1),'3 - SPECIE DA IMPIANTARE'!$U8,\"\")","v":""},null,"",{"$f":"IF(AND($B407=\"AZIONE_3\",F407=2),'3 - SPECIE DA IMPIANTARE'!$U8,\"\")","v":""},null,"",{"$f":"IF(AND($B407=\"AZIONE_3\",$I407=3),'3 - SPECIE DA IMPIANTARE'!$U8,\"\")","v":""},null,"",{"$f":"IF(AND($B407=\"AZIONE_3\",$L407=4),'3 - SPECIE DA IMPIANTARE'!$U8,\"\")","v":""},null,"",{"$f":"IF(AND($B407=\"AZIONE_3\",$O407=5),'3 - SPECIE DA IMPIANTARE'!$U8,\"\")","v":""},null,"",{"$f":"IF(AND($B407=\"AZIONE_3\",$R407=6),'3 - SPECIE DA IMPIANTARE'!$U8,\"\")","v":""}]
[5,"","",{"$f":"IF(AND($B408=\"AZIONE_3\",C408=1),'3 - SPECIE DA IMPIANTARE'!$U9,\"\")","v":""},null,"",{"$f":"IF(AND($B408=\"AZIONE_3\",F408=2),'3 - SPECIE DA IMPIANTARE'!$U9,\"\")","v":""},null,"",{"$f":"IF(AND($B408=\"AZIONE_3\",$I408=3),'3 - SPECIE DA IMPIANTARE'!$U9,\"\")","v":""},null,"",{"$f":"IF(AND($B408=\"AZIONE_3\",$L408=4),'3 - SPECIE DA IMPIANTARE'!$U9,\"\")","v":""},null,"",{"$f":"IF(AND($B408=\"AZIONE_3\",$O408=5),'3 - SPECIE DA IMPIANTARE'!$U9,\"\")","v":""},null,"",{"$f":"IF(AND($B408=\"AZIONE_3\",$R408=6),'3 - SPECIE DA IMPIANTARE'!$U9,\"\")","v":""}]
[5,"","",{"$f":"IF(AND($B409=\"AZIONE_3\",C409=1),'3 - SPECIE DA IMPIANTARE'!$U10,\"\")","v":""},null,"",{"$f":"IF(AND($B409=\"AZIONE_3\",F409=2),'3 - SPECIE DA IMPIANTARE'!$U10,\"\")","v":""},null,"",{"$f":"IF(AND($B409=\"AZIONE_3\",$I409=3),'3 - SPECIE DA IMPIANTARE'!$U10,\"\")","v":""},null,"",{"$f":"IF(AND($B409=\"AZIONE_3\",$L409=4),'3 - SPECIE DA IMPIANTARE'!$U10,\"\")","v":""},null,"",{"$f":"IF(AND($B409=\"AZIONE_3\",$O409=5),'3 - SPECIE DA IMPIANTARE'!$U10,\"\")","v":""},null,"",{"$f":"IF(AND($B409=\"AZIONE_3\",$R409=6),'3 - SPECIE DA IMPIANTARE'!$U10,\"\")","v":""}]
[5,"","",{"$f":"IF(AND($B410=\"AZIONE_3\",C410=1),'3 - SPECIE DA IMPIANTARE'!$U11,\"\")","v":""},null,"",{"$f":"IF(AND($B410=\"AZIONE_3\",F410=2),'3 - SPECIE DA IMPIANTARE'!$U11,\"\")","v":""},null,"",{"$f":"IF(AND($B410=\"AZIONE_3\",$I410=3),'3 - SPECIE DA IMPIANTARE'!$U11,\"\")","v":""},null,"",{"$f":"IF(AND($B410=\"AZIONE_3\",$L410=4),'3 - SPECIE DA IMPIANTARE'!$U11,\"\")","v":""},null,"",{"$f":"IF(AND($B410=\"AZIONE_3\",$O410=5),'3 - SPECIE DA IMPIANTARE'!$U11,\"\")","v":""},null,"",{"$f":"IF(AND($B410=\"AZIONE_3\",$R410=6),'3 - SPECIE DA IMPIANTARE'!$U11,\"\")","v":""}]
[5,"","",{"$f":"IF(AND($B411=\"AZIONE_3\",C411=1),'3 - SPECIE DA IMPIANTARE'!$U12,\"\")","v":""},null,"",{"$f":"IF(AND($B411=\"AZIONE_3\",F411=2),'3 - SPECIE DA IMPIANTARE'!$U12,\"\")","v":""},null,"",{"$f":"IF(AND($B411=\"AZIONE_3\",$I411=3),'3 - SPECIE DA IMPIANTARE'!$U12,\"\")","v":""},null,"",{"$f":"IF(AND($B411=\"AZIONE_3\",$L411=4),'3 - SPECIE DA IMPIANTARE'!$U12,\"\")","v":""},null,"",{"$f":"IF(AND($B411=\"AZIONE_3\",$O411=5),'3 - SPECIE DA IMPIANTARE'!$U12,\"\")","v":""},null,"",{"$f":"IF(AND($B411=\"AZIONE_3\",$R411=6),'3 - SPECIE DA IMPIANTARE'!$U12,\"\")","v":""}]
[5,"","",{"$f":"IF(AND($B412=\"AZIONE_3\",C412=1),'3 - SPECIE DA IMPIANTARE'!$U13,\"\")","v":""},null,"",{"$f":"IF(AND($B412=\"AZIONE_3\",F412=2),'3 - SPECIE DA IMPIANTARE'!$U13,\"\")","v":""},null,"",{"$f":"IF(AND($B412=\"AZIONE_3\",$I412=3),'3 - SPECIE DA IMPIANTARE'!$U13,\"\")","v":""},null,"",{"$f":"IF(AND($B412=\"AZIONE_3\",$L412=4),'3 - SPECIE DA IMPIANTARE'!$U13,\"\")","v":""},null,"",{"$f":"IF(AND($B412=\"AZIONE_3\",$O412=5),'3 - SPECIE DA IMPIANTARE'!$U13,\"\")","v":""},null,"",{"$f":"IF(AND($B412=\"AZIONE_3\",$R412=6),'3 - SPECIE DA IMPIANTARE'!$U13,\"\")","v":""}]
[5,"","",{"$f":"IF(AND($B413=\"AZIONE_3\",C413=1),'3 - SPECIE DA IMPIANTARE'!$U14,\"\")","v":""},null,"",{"$f":"IF(AND($B413=\"AZIONE_3\",F413=2),'3 - SPECIE DA IMPIANTARE'!$U14,\"\")","v":""},null,"",{"$f":"IF(AND($B413=\"AZIONE_3\",$I413=3),'3 - SPECIE DA IMPIANTARE'!$U14,\"\")","v":""},null,"",{"$f":"IF(AND($B413=\"AZIONE_3\",$L413=4),'3 - SPECIE DA IMPIANTARE'!$U14,\"\")","v":""},null,"",{"$f":"IF(AND($B413=\"AZIONE_3\",$O413=5),'3 - SPECIE DA IMPIANTARE'!$U14,\"\")","v":""},null,"",{"$f":"IF(AND($B413=\"AZIONE_3\",$R413=6),'3 - SPECIE DA IMPIANTARE'!$U14,\"\")","v":""}]
[5,"","",{"$f":"IF(AND($B414=\"AZIONE_3\",C414=1),'3 - SPECIE DA IMPIANTARE'!$U15,\"\")","v":""},null,"",{"$f":"IF(AND($B414=\"AZIONE_3\",F414=2),'3 - SPECIE DA IMPIANTARE'!$U15,\"\")","v":""},null,"",{"$f":"IF(AND($B414=\"AZIONE_3\",$I414=3),'3 - SPECIE DA IMPIANTARE'!$U15,\"\")","v":""},null,"",{"$f":"IF(AND($B414=\"AZIONE_3\",$L414=4),'3 - SPECIE DA IMPIANTARE'!$U15,\"\")","v":""},null,"",{"$f":"IF(AND($B414=\"AZIONE_3\",$O414=5),'3 - SPECIE DA IMPIANTARE'!$U15,\"\")","v":""},null,"",{"$f":"IF(AND($B414=\"AZIONE_3\",$R414=6),'3 - SPECIE DA IMPIANTARE'!$U15,\"\")","v":""}]
[5,"","",{"$f":"IF(AND($B415=\"AZIONE_3\",C415=1),'3 - SPECIE DA IMPIANTARE'!$U16,\"\")","v":""},null,"",{"$f":"IF(AND($B415=\"AZIONE_3\",F415=2),'3 - SPECIE DA IMPIANTARE'!$U16,\"\")","v":""},null,"",{"$f":"IF(AND($B415=\"AZIONE_3\",$I415=3),'3 - SPECIE DA IMPIANTARE'!$U16,\"\")","v":""},null,"",{"$f":"IF(AND($B415=\"AZIONE_3\",$L415=4),'3 - SPECIE DA IMPIANTARE'!$U16,\"\")","v":""},null,"",{"$f":"IF(AND($B415=\"AZIONE_3\",$O415=5),'3 - SPECIE DA IMPIANTARE'!$U16,\"\")","v":""},null,"",{"$f":"IF(AND($B415=\"AZIONE_3\",$R415=6),'3 - SPECIE DA IMPIANTARE'!$U16,\"\")","v":""}]
[5,"","",{"$f":"IF(AND($B416=\"AZIONE_3\",C416=1),'3 - SPECIE DA IMPIANTARE'!$U17,\"\")","v":""},null,"",{"$f":"IF(AND($B416=\"AZIONE_3\",F416=2),'3 - SPECIE DA IMPIANTARE'!$U17,\"\")","v":""},null,"",{"$f":"IF(AND($B416=\"AZIONE_3\",$I416=3),'3 - SPECIE DA IMPIANTARE'!$U17,\"\")","v":""},null,"",{"$f":"IF(AND($B416=\"AZIONE_3\",$L416=4),'3 - SPECIE DA IMPIANTARE'!$U17,\"\")","v":""},null,"",{"$f":"IF(AND($B416=\"AZIONE_3\",$O416=5),'3 - SPECIE DA IMPIANTARE'!$U17,\"\")","v":""},null,"",{"$f":"IF(AND($B416=\"AZIONE_3\",$R416=6),'3 - SPECIE DA IMPIANTARE'!$U17,\"\")","v":""}]
[5,"","",{"$f":"IF(AND($B417=\"AZIONE_3\",C417=1),'3 - SPECIE DA IMPIANTARE'!$U18,\"\")","v":""},null,"",{"$f":"IF(AND($B417=\"AZIONE_3\",F417=2),'3 - SPECIE DA IMPIANTARE'!$U18,\"\")","v":""},null,"",{"$f":"IF(AND($B417=\"AZIONE_3\",$I417=3),'3 - SPECIE DA IMPIANTARE'!$U18,\"\")","v":""},null,"",{"$f":"IF(AND($B417=\"AZIONE_3\",$L417=4),'3 - SPECIE DA IMPIANTARE'!$U18,\"\")","v":""},null,"",{"$f":"IF(AND($B417=\"AZIONE_3\",$O417=5),'3 - SPECIE DA IMPIANTARE'!$U18,\"\")","v":""},null,"",{"$f":"IF(AND($B417=\"AZIONE_3\",$R417=6),'3 - SPECIE DA IMPIANTARE'!$U18,\"\")","v":""}]
[5,"","",{"$f":"IF(AND($B418=\"AZIONE_3\",C418=1),'3 - SPECIE DA IMPIANTARE'!$U19,\"\")","v":""},null,"",{"$f":"IF(AND($B418=\"AZIONE_3\",F418=2),'3 - SPECIE DA IMPIANTARE'!$U19,\"\")","v":""},null,"",{"$f":"IF(AND($B418=\"AZIONE_3\",$I418=3),'3 - SPECIE DA IMPIANTARE'!$U19,\"\")","v":""},null,"",{"$f":"IF(AND($B418=\"AZIONE_3\",$L418=4),'3 - SPECIE DA IMPIANTARE'!$U19,\"\")","v":""},null,"",{"$f":"IF(AND($B418=\"AZIONE_3\",$O418=5),'3 - SPECIE DA IMPIANTARE'!$U19,\"\")","v":""},null,"",{"$f":"IF(AND($B418=\"AZIONE_3\",$R418=6),'3 - SPECIE DA IMPIANTARE'!$U19,\"\")","v":""}]
[5,"","",{"$f":"IF(AND($B419=\"AZIONE_3\",C419=1),'3 - SPECIE DA IMPIANTARE'!$U20,\"\")","v":""},null,"",{"$f":"IF(AND($B419=\"AZIONE_3\",F419=2),'3 - SPECIE DA IMPIANTARE'!$U20,\"\")","v":""},null,"",{"$f":"IF(AND($B419=\"AZIONE_3\",$I419=3),'3 - SPECIE DA IMPIANTARE'!$U20,\"\")","v":""},null,"",{"$f":"IF(AND($B419=\"AZIONE_3\",$L419=4),'3 - SPECIE DA IMPIANTARE'!$U20,\"\")","v":""},null,"",{"$f":"IF(AND($B419=\"AZIONE_3\",$O419=5),'3 - SPECIE DA IMPIANTARE'!$U20,\"\")","v":""},null,"",{"$f":"IF(AND($B419=\"AZIONE_3\",$R419=6),'3 - SPECIE DA IMPIANTARE'!$U20,\"\")","v":""}]
[5,"","",{"$f":"IF(AND($B420=\"AZIONE_3\",C420=1),'3 - SPECIE DA IMPIANTARE'!$U21,\"\")","v":""},null,"",{"$f":"IF(AND($B420=\"AZIONE_3\",F420=2),'3 - SPECIE DA IMPIANTARE'!$U21,\"\")","v":""},null,"",{"$f":"IF(AND($B420=\"AZIONE_3\",$I420=3),'3 - SPECIE DA IMPIANTARE'!$U21,\"\")","v":""},null,"",{"$f":"IF(AND($B420=\"AZIONE_3\",$L420=4),'3 - SPECIE DA IMPIANTARE'!$U21,\"\")","v":""},null,"",{"$f":"IF(AND($B420=\"AZIONE_3\",$O420=5),'3 - SPECIE DA IMPIANTARE'!$U21,\"\")","v":""},null,"",{"$f":"IF(AND($B420=\"AZIONE_3\",$R420=6),'3 - SPECIE DA IMPIANTARE'!$U21,\"\")","v":""}]
[5,"","",{"$f":"IF(AND($B421=\"AZIONE_3\",C421=1),'3 - SPECIE DA IMPIANTARE'!$U22,\"\")","v":""},null,"",{"$f":"IF(AND($B421=\"AZIONE_3\",F421=2),'3 - SPECIE DA IMPIANTARE'!$U22,\"\")","v":""},null,"",{"$f":"IF(AND($B421=\"AZIONE_3\",$I421=3),'3 - SPECIE DA IMPIANTARE'!$U22,\"\")","v":""},null,"",{"$f":"IF(AND($B421=\"AZIONE_3\",$L421=4),'3 - SPECIE DA IMPIANTARE'!$U22,\"\")","v":""},null,"",{"$f":"IF(AND($B421=\"AZIONE_3\",$O421=5),'3 - SPECIE DA IMPIANTARE'!$U22,\"\")","v":""},null,"",{"$f":"IF(AND($B421=\"AZIONE_3\",$R421=6),'3 - SPECIE DA IMPIANTARE'!$U22,\"\")","v":""}]
[5,"","",{"$f":"IF(AND($B422=\"AZIONE_3\",C422=1),'3 - SPECIE DA IMPIANTARE'!$U23,\"\")","v":""},null,"",{"$f":"IF(AND($B422=\"AZIONE_3\",F422=2),'3 - SPECIE DA IMPIANTARE'!$U23,\"\")","v":""},null,"",{"$f":"IF(AND($B422=\"AZIONE_3\",$I422=3),'3 - SPECIE DA IMPIANTARE'!$U23,\"\")","v":""},null,"",{"$f":"IF(AND($B422=\"AZIONE_3\",$L422=4),'3 - SPECIE DA IMPIANTARE'!$U23,\"\")","v":""},null,"",{"$f":"IF(AND($B422=\"AZIONE_3\",$O422=5),'3 - SPECIE DA IMPIANTARE'!$U23,\"\")","v":""},null,"",{"$f":"IF(AND($B422=\"AZIONE_3\",$R422=6),'3 - SPECIE DA IMPIANTARE'!$U23,\"\")","v":""}]
[5,{"$f":"B323","v":""},"",{"$f":"IF(AND($B423=\"AZIONE_3\",C423=1),'3 - SPECIE DA IMPIANTARE'!$U24,\"\")","v":""},null,{"$f":"F323","v":""},{"$f":"IF(AND($B423=\"AZIONE_3\",F423=2),'3 - SPECIE DA IMPIANTARE'!$U24,\"\")","v":""},null,{"$f":"I323","v":""},{"$f":"IF(AND($B423=\"AZIONE_3\",$I423=3),'3 - SPECIE DA IMPIANTARE'!$U24,\"\")","v":""},null,{"$f":"L323","v":""},{"$f":"IF(AND($B423=\"AZIONE_3\",$L423=4),'3 - SPECIE DA IMPIANTARE'!$U24,\"\")","v":""},null,{"$f":"O323","v":""},{"$f":"IF(AND($B423=\"AZIONE_3\",$O423=5),'3 - SPECIE DA IMPIANTARE'!$U24,\"\")","v":""},null,{"$f":"R323","v":""},{"$f":"IF(AND($B423=\"AZIONE_3\",$R423=6),'3 - SPECIE DA IMPIANTARE'!$U24,\"\")","v":""}]
[5,"","",{"$f":"IF(AND($B424=\"AZIONE_3\",C424=1),'3 - SPECIE DA IMPIANTARE'!$U25,\"\")","v":""},null,"",{"$f":"IF(AND($B424=\"AZIONE_3\",F424=2),'3 - SPECIE DA IMPIANTARE'!$U25,\"\")","v":""},null,"",{"$f":"IF(AND($B424=\"AZIONE_3\",$I424=3),'3 - SPECIE DA IMPIANTARE'!$U25,\"\")","v":""},null,"",{"$f":"IF(AND($B424=\"AZIONE_3\",$L424=4),'3 - SPECIE DA IMPIANTARE'!$U25,\"\")","v":""},null,"",{"$f":"IF(AND($B424=\"AZIONE_3\",$O424=5),'3 - SPECIE DA IMPIANTARE'!$U25,\"\")","v":""},null,"",{"$f":"IF(AND($B424=\"AZIONE_3\",$R424=6),'3 - SPECIE DA IMPIANTARE'!$U25,\"\")","v":""}]
[5,"","",{"$f":"IF(AND($B425=\"AZIONE_3\",C425=1),'3 - SPECIE DA IMPIANTARE'!$U26,\"\")","v":""},null,"",{"$f":"IF(AND($B425=\"AZIONE_3\",F425=2),'3 - SPECIE DA IMPIANTARE'!$U26,\"\")","v":""},null,"",{"$f":"IF(AND($B425=\"AZIONE_3\",$I425=3),'3 - SPECIE DA IMPIANTARE'!$U26,\"\")","v":""},null,"",{"$f":"IF(AND($B425=\"AZIONE_3\",$L425=4),'3 - SPECIE DA IMPIANTARE'!$U26,\"\")","v":""},null,"",{"$f":"IF(AND($B425=\"AZIONE_3\",$O425=5),'3 - SPECIE DA IMPIANTARE'!$U26,\"\")","v":""},null,"",{"$f":"IF(AND($B425=\"AZIONE_3\",$R425=6),'3 - SPECIE DA IMPIANTARE'!$U26,\"\")","v":""}]
[5,"","",{"$f":"IF(AND($B426=\"AZIONE_3\",C426=1),'3 - SPECIE DA IMPIANTARE'!$U27,\"\")","v":""},null,"",{"$f":"IF(AND($B426=\"AZIONE_3\",F426=2),'3 - SPECIE DA IMPIANTARE'!$U27,\"\")","v":""},null,"",{"$f":"IF(AND($B426=\"AZIONE_3\",$I426=3),'3 - SPECIE DA IMPIANTARE'!$U27,\"\")","v":""},null,"",{"$f":"IF(AND($B426=\"AZIONE_3\",$L426=4),'3 - SPECIE DA IMPIANTARE'!$U27,\"\")","v":""},null,"",{"$f":"IF(AND($B426=\"AZIONE_3\",$O426=5),'3 - SPECIE DA IMPIANTARE'!$U27,\"\")","v":""},null,"",{"$f":"IF(AND($B426=\"AZIONE_3\",$R426=6),'3 - SPECIE DA IMPIANTARE'!$U27,\"\")","v":""}]
[5,"","",{"$f":"IF(AND($B427=\"AZIONE_3\",C427=1),'3 - SPECIE DA IMPIANTARE'!$U28,\"\")","v":""},null,"",{"$f":"IF(AND($B427=\"AZIONE_3\",F427=2),'3 - SPECIE DA IMPIANTARE'!$U28,\"\")","v":""},null,"",{"$f":"IF(AND($B427=\"AZIONE_3\",$I427=3),'3 - SPECIE DA IMPIANTARE'!$U28,\"\")","v":""},null,"",{"$f":"IF(AND($B427=\"AZIONE_3\",$L427=4),'3 - SPECIE DA IMPIANTARE'!$U28,\"\")","v":""},null,"",{"$f":"IF(AND($B427=\"AZIONE_3\",$O427=5),'3 - SPECIE DA IMPIANTARE'!$U28,\"\")","v":""},null,"",{"$f":"IF(AND($B427=\"AZIONE_3\",$R427=6),'3 - SPECIE DA IMPIANTARE'!$U28,\"\")","v":""}]
[5,"","",{"$f":"IF(AND($B428=\"AZIONE_3\",C428=1),'3 - SPECIE DA IMPIANTARE'!$U29,\"\")","v":""},null,"",{"$f":"IF(AND($B428=\"AZIONE_3\",F428=2),'3 - SPECIE DA IMPIANTARE'!$U29,\"\")","v":""},null,"",{"$f":"IF(AND($B428=\"AZIONE_3\",$I428=3),'3 - SPECIE DA IMPIANTARE'!$U29,\"\")","v":""},null,"",{"$f":"IF(AND($B428=\"AZIONE_3\",$L428=4),'3 - SPECIE DA IMPIANTARE'!$U29,\"\")","v":""},null,"",{"$f":"IF(AND($B428=\"AZIONE_3\",$O428=5),'3 - SPECIE DA IMPIANTARE'!$U29,\"\")","v":""},null,"",{"$f":"IF(AND($B428=\"AZIONE_3\",$R428=6),'3 - SPECIE DA IMPIANTARE'!$U29,\"\")","v":""}]
[5,"","",{"$f":"IF(AND($B429=\"AZIONE_3\",C429=1),'3 - SPECIE DA IMPIANTARE'!$U30,\"\")","v":""},null,"",{"$f":"IF(AND($B429=\"AZIONE_3\",F429=2),'3 - SPECIE DA IMPIANTARE'!$U30,\"\")","v":""},null,"",{"$f":"IF(AND($B429=\"AZIONE_3\",$I429=3),'3 - SPECIE DA IMPIANTARE'!$U30,\"\")","v":""},null,"",{"$f":"IF(AND($B429=\"AZIONE_3\",$L429=4),'3 - SPECIE DA IMPIANTARE'!$U30,\"\")","v":""},null,"",{"$f":"IF(AND($B429=\"AZIONE_3\",$O429=5),'3 - SPECIE DA IMPIANTARE'!$U30,\"\")","v":""},null,"",{"$f":"IF(AND($B429=\"AZIONE_3\",$R429=6),'3 - SPECIE DA IMPIANTARE'!$U30,\"\")","v":""}]
[5,"","",{"$f":"IF(AND($B430=\"AZIONE_3\",C430=1),'3 - SPECIE DA IMPIANTARE'!$U31,\"\")","v":""},null,"",{"$f":"IF(AND($B430=\"AZIONE_3\",F430=2),'3 - SPECIE DA IMPIANTARE'!$U31,\"\")","v":""},null,"",{"$f":"IF(AND($B430=\"AZIONE_3\",$I430=3),'3 - SPECIE DA IMPIANTARE'!$U31,\"\")","v":""},null,"",{"$f":"IF(AND($B430=\"AZIONE_3\",$L430=4),'3 - SPECIE DA IMPIANTARE'!$U31,\"\")","v":""},null,"",{"$f":"IF(AND($B430=\"AZIONE_3\",$O430=5),'3 - SPECIE DA IMPIANTARE'!$U31,\"\")","v":""},null,"",{"$f":"IF(AND($B430=\"AZIONE_3\",$R430=6),'3 - SPECIE DA IMPIANTARE'!$U31,\"\")","v":""}]
[5,"","",{"$f":"IF(AND($B431=\"AZIONE_3\",C431=1),'3 - SPECIE DA IMPIANTARE'!$U32,\"\")","v":""},null,"",{"$f":"IF(AND($B431=\"AZIONE_3\",F431=2),'3 - SPECIE DA IMPIANTARE'!$U32,\"\")","v":""},null,"",{"$f":"IF(AND($B431=\"AZIONE_3\",$I431=3),'3 - SPECIE DA IMPIANTARE'!$U32,\"\")","v":""},null,"",{"$f":"IF(AND($B431=\"AZIONE_3\",$L431=4),'3 - SPECIE DA IMPIANTARE'!$U32,\"\")","v":""},null,"",{"$f":"IF(AND($B431=\"AZIONE_3\",$O431=5),'3 - SPECIE DA IMPIANTARE'!$U32,\"\")","v":""},null,"",{"$f":"IF(AND($B431=\"AZIONE_3\",$R431=6),'3 - SPECIE DA IMPIANTARE'!$U32,\"\")","v":""}]
[5,"","",{"$f":"IF(AND($B432=\"AZIONE_3\",C432=1),'3 - SPECIE DA IMPIANTARE'!$U33,\"\")","v":""},null,"",{"$f":"IF(AND($B432=\"AZIONE_3\",F432=2),'3 - SPECIE DA IMPIANTARE'!$U33,\"\")","v":""},null,"",{"$f":"IF(AND($B432=\"AZIONE_3\",$I432=3),'3 - SPECIE DA IMPIANTARE'!$U33,\"\")","v":""},null,"",{"$f":"IF(AND($B432=\"AZIONE_3\",$L432=4),'3 - SPECIE DA IMPIANTARE'!$U33,\"\")","v":""},null,"",{"$f":"IF(AND($B432=\"AZIONE_3\",$O432=5),'3 - SPECIE DA IMPIANTARE'!$U33,\"\")","v":""},null,"",{"$f":"IF(AND($B432=\"AZIONE_3\",$R432=6),'3 - SPECIE DA IMPIANTARE'!$U33,\"\")","v":""}]
[5,"","",{"$f":"IF(AND($B433=\"AZIONE_3\",C433=1),'3 - SPECIE DA IMPIANTARE'!$U34,\"\")","v":""},null,"",{"$f":"IF(AND($B433=\"AZIONE_3\",F433=2),'3 - SPECIE DA IMPIANTARE'!$U34,\"\")","v":""},null,"",{"$f":"IF(AND($B433=\"AZIONE_3\",$I433=3),'3 - SPECIE DA IMPIANTARE'!$U34,\"\")","v":""},null,"",{"$f":"IF(AND($B433=\"AZIONE_3\",$L433=4),'3 - SPECIE DA IMPIANTARE'!$U34,\"\")","v":""},null,"",{"$f":"IF(AND($B433=\"AZIONE_3\",$O433=5),'3 - SPECIE DA IMPIANTARE'!$U34,\"\")","v":""},null,"",{"$f":"IF(AND($B433=\"AZIONE_3\",$R433=6),'3 - SPECIE DA IMPIANTARE'!$U34,\"\")","v":""}]
[5,"","",{"$f":"IF(AND($B434=\"AZIONE_3\",C434=1),'3 - SPECIE DA IMPIANTARE'!$U35,\"\")","v":""},null,"",{"$f":"IF(AND($B434=\"AZIONE_3\",F434=2),'3 - SPECIE DA IMPIANTARE'!$U35,\"\")","v":""},null,"",{"$f":"IF(AND($B434=\"AZIONE_3\",$I434=3),'3 - SPECIE DA IMPIANTARE'!$U35,\"\")","v":""},null,"",{"$f":"IF(AND($B434=\"AZIONE_3\",$L434=4),'3 - SPECIE DA IMPIANTARE'!$U35,\"\")","v":""},null,"",{"$f":"IF(AND($B434=\"AZIONE_3\",$O434=5),'3 - SPECIE DA IMPIANTARE'!$U35,\"\")","v":""},null,"",{"$f":"IF(AND($B434=\"AZIONE_3\",$R434=6),'3 - SPECIE DA IMPIANTARE'!$U35,\"\")","v":""}]
[5,"","",{"$f":"IF(AND($B435=\"AZIONE_3\",C435=1),'3 - SPECIE DA IMPIANTARE'!$U36,\"\")","v":""},null,"",{"$f":"IF(AND($B435=\"AZIONE_3\",F435=2),'3 - SPECIE DA IMPIANTARE'!$U36,\"\")","v":""},null,"",{"$f":"IF(AND($B435=\"AZIONE_3\",$I435=3),'3 - SPECIE DA IMPIANTARE'!$U36,\"\")","v":""},null,"",{"$f":"IF(AND($B435=\"AZIONE_3\",$L435=4),'3 - SPECIE DA IMPIANTARE'!$U36,\"\")","v":""},null,"",{"$f":"IF(AND($B435=\"AZIONE_3\",$O435=5),'3 - SPECIE DA IMPIANTARE'!$U36,\"\")","v":""},null,"",{"$f":"IF(AND($B435=\"AZIONE_3\",$R435=6),'3 - SPECIE DA IMPIANTARE'!$U36,\"\")","v":""}]
[5,"","",{"$f":"IF(AND($B436=\"AZIONE_3\",C436=1),'3 - SPECIE DA IMPIANTARE'!$U37,\"\")","v":""},null,"",{"$f":"IF(AND($B436=\"AZIONE_3\",F436=2),'3 - SPECIE DA IMPIANTARE'!$U37,\"\")","v":""},null,"",{"$f":"IF(AND($B436=\"AZIONE_3\",$I436=3),'3 - SPECIE DA IMPIANTARE'!$U37,\"\")","v":""},null,"",{"$f":"IF(AND($B436=\"AZIONE_3\",$L436=4),'3 - SPECIE DA IMPIANTARE'!$U37,\"\")","v":""},null,"",{"$f":"IF(AND($B436=\"AZIONE_3\",$O436=5),'3 - SPECIE DA IMPIANTARE'!$U37,\"\")","v":""},null,"",{"$f":"IF(AND($B436=\"AZIONE_3\",$R436=6),'3 - SPECIE DA IMPIANTARE'!$U37,\"\")","v":""}]
[5,"","",{"$f":"IF(AND($B437=\"AZIONE_3\",C437=1),'3 - SPECIE DA IMPIANTARE'!$U38,\"\")","v":""},null,"",{"$f":"IF(AND($B437=\"AZIONE_3\",F437=2),'3 - SPECIE DA IMPIANTARE'!$U38,\"\")","v":""},null,"",{"$f":"IF(AND($B437=\"AZIONE_3\",$I437=3),'3 - SPECIE DA IMPIANTARE'!$U38,\"\")","v":""},null,"",{"$f":"IF(AND($B437=\"AZIONE_3\",$L437=4),'3 - SPECIE DA IMPIANTARE'!$U38,\"\")","v":""},null,"",{"$f":"IF(AND($B437=\"AZIONE_3\",$O437=5),'3 - SPECIE DA IMPIANTARE'!$U38,\"\")","v":""},null,"",{"$f":"IF(AND($B437=\"AZIONE_3\",$R437=6),'3 - SPECIE DA IMPIANTARE'!$U38,\"\")","v":""}]
[5,"","",{"$f":"IF(AND($B438=\"AZIONE_3\",C438=1),'3 - SPECIE DA IMPIANTARE'!$U39,\"\")","v":""},null,"",{"$f":"IF(AND($B438=\"AZIONE_3\",F438=2),'3 - SPECIE DA IMPIANTARE'!$U39,\"\")","v":""},null,"",{"$f":"IF(AND($B438=\"AZIONE_3\",$I438=3),'3 - SPECIE DA IMPIANTARE'!$U39,\"\")","v":""},null,"",{"$f":"IF(AND($B438=\"AZIONE_3\",$L438=4),'3 - SPECIE DA IMPIANTARE'!$U39,\"\")","v":""},null,"",{"$f":"IF(AND($B438=\"AZIONE_3\",$O438=5),'3 - SPECIE DA IMPIANTARE'!$U39,\"\")","v":""},null,"",{"$f":"IF(AND($B438=\"AZIONE_3\",$R438=6),'3 - SPECIE DA IMPIANTARE'!$U39,\"\")","v":""}]
[5,{"$f":"B339","v":""},"",{"$f":"IF(AND($B439=\"AZIONE_3\",C439=1),'3 - SPECIE DA IMPIANTARE'!$U40,\"\")","v":""},null,"",{"$f":"IF(AND($B439=\"AZIONE_3\",F439=2),'3 - SPECIE DA IMPIANTARE'!$U40,\"\")","v":""},null,"",{"$f":"IF(AND($B439=\"AZIONE_3\",$I439=3),'3 - SPECIE DA IMPIANTARE'!$U40,\"\")","v":""},null,"",{"$f":"IF(AND($B439=\"AZIONE_3\",$L439=4),'3 - SPECIE DA IMPIANTARE'!$U40,\"\")","v":""},null,"",{"$f":"IF(AND($B439=\"AZIONE_3\",$O439=5),'3 - SPECIE DA IMPIANTARE'!$U40,\"\")","v":""},null,"",{"$f":"IF(AND($B439=\"AZIONE_3\",$R439=6),'3 - SPECIE DA IMPIANTARE'!$U40,\"\")","v":""}]
[5,"","",{"$f":"IF(AND($B440=\"AZIONE_3\",C440=1),'3 - SPECIE DA IMPIANTARE'!$U41,\"\")","v":""},null,"",{"$f":"IF(AND($B440=\"AZIONE_3\",F440=2),'3 - SPECIE DA IMPIANTARE'!$U41,\"\")","v":""},null,"",{"$f":"IF(AND($B440=\"AZIONE_3\",$I440=3),'3 - SPECIE DA IMPIANTARE'!$U41,\"\")","v":""},null,"",{"$f":"IF(AND($B440=\"AZIONE_3\",$L440=4),'3 - SPECIE DA IMPIANTARE'!$U41,\"\")","v":""},null,"",{"$f":"IF(AND($B440=\"AZIONE_3\",$O440=5),'3 - SPECIE DA IMPIANTARE'!$U41,\"\")","v":""},null,"",{"$f":"IF(AND($B440=\"AZIONE_3\",$R440=6),'3 - SPECIE DA IMPIANTARE'!$U41,\"\")","v":""}]
[5,"","",{"$f":"IF(AND($B441=\"AZIONE_3\",C441=1),'3 - SPECIE DA IMPIANTARE'!$U42,\"\")","v":""},null,"",{"$f":"IF(AND($B441=\"AZIONE_3\",F441=2),'3 - SPECIE DA IMPIANTARE'!$U42,\"\")","v":""},null,"",{"$f":"IF(AND($B441=\"AZIONE_3\",$I441=3),'3 - SPECIE DA IMPIANTARE'!$U42,\"\")","v":""},null,"",{"$f":"IF(AND($B441=\"AZIONE_3\",$L441=4),'3 - SPECIE DA IMPIANTARE'!$U42,\"\")","v":""},null,"",{"$f":"IF(AND($B441=\"AZIONE_3\",$O441=5),'3 - SPECIE DA IMPIANTARE'!$U42,\"\")","v":""},null,"",{"$f":"IF(AND($B441=\"AZIONE_3\",$R441=6),'3 - SPECIE DA IMPIANTARE'!$U42,\"\")","v":""}]
[5,"","",{"$f":"IF(AND($B442=\"AZIONE_3\",C442=1),'3 - SPECIE DA IMPIANTARE'!$U43,\"\")","v":""},null,"",{"$f":"IF(AND($B442=\"AZIONE_3\",F442=2),'3 - SPECIE DA IMPIANTARE'!$U43,\"\")","v":""},null,"",{"$f":"IF(AND($B442=\"AZIONE_3\",$I442=3),'3 - SPECIE DA IMPIANTARE'!$U43,\"\")","v":""},null,"",{"$f":"IF(AND($B442=\"AZIONE_3\",$L442=4),'3 - SPECIE DA IMPIANTARE'!$U43,\"\")","v":""},null,"",{"$f":"IF(AND($B442=\"AZIONE_3\",$O442=5),'3 - SPECIE DA IMPIANTARE'!$U43,\"\")","v":""},null,"",{"$f":"IF(AND($B442=\"AZIONE_3\",$R442=6),'3 - SPECIE DA IMPIANTARE'!$U43,\"\")","v":""}]
[5,"","",{"$f":"IF(AND($B443=\"AZIONE_3\",C443=1),'3 - SPECIE DA IMPIANTARE'!$U44,\"\")","v":""},null,"",{"$f":"IF(AND($B443=\"AZIONE_3\",F443=2),'3 - SPECIE DA IMPIANTARE'!$U44,\"\")","v":""},null,"",{"$f":"IF(AND($B443=\"AZIONE_3\",$I443=3),'3 - SPECIE DA IMPIANTARE'!$U44,\"\")","v":""},null,"",{"$f":"IF(AND($B443=\"AZIONE_3\",$L443=4),'3 - SPECIE DA IMPIANTARE'!$U44,\"\")","v":""},null,"",{"$f":"IF(AND($B443=\"AZIONE_3\",$O443=5),'3 - SPECIE DA IMPIANTARE'!$U44,\"\")","v":""},null,"",{"$f":"IF(AND($B443=\"AZIONE_3\",$R443=6),'3 - SPECIE DA IMPIANTARE'!$U44,\"\")","v":""}]
[5,"","",{"$f":"IF(AND($B444=\"AZIONE_3\",C444=1),'3 - SPECIE DA IMPIANTARE'!$U45,\"\")","v":""},null,"",{"$f":"IF(AND($B444=\"AZIONE_3\",F444=2),'3 - SPECIE DA IMPIANTARE'!$U45,\"\")","v":""},null,"",{"$f":"IF(AND($B444=\"AZIONE_3\",$I444=3),'3 - SPECIE DA IMPIANTARE'!$U45,\"\")","v":""},null,"",{"$f":"IF(AND($B444=\"AZIONE_3\",$L444=4),'3 - SPECIE DA IMPIANTARE'!$U45,\"\")","v":""},null,"",{"$f":"IF(AND($B444=\"AZIONE_3\",$O444=5),'3 - SPECIE DA IMPIANTARE'!$U45,\"\")","v":""},null,"",{"$f":"IF(AND($B444=\"AZIONE_3\",$R444=6),'3 - SPECIE DA IMPIANTARE'!$U45,\"\")","v":""}]
[5,"","",{"$f":"IF(AND($B445=\"AZIONE_3\",C445=1),'3 - SPECIE DA IMPIANTARE'!$U46,\"\")","v":""},null,"",{"$f":"IF(AND($B445=\"AZIONE_3\",F445=2),'3 - SPECIE DA IMPIANTARE'!$U46,\"\")","v":""},null,"",{"$f":"IF(AND($B445=\"AZIONE_3\",$I445=3),'3 - SPECIE DA IMPIANTARE'!$U46,\"\")","v":""},null,"",{"$f":"IF(AND($B445=\"AZIONE_3\",$L445=4),'3 - SPECIE DA IMPIANTARE'!$U46,\"\")","v":""},null,"",{"$f":"IF(AND($B445=\"AZIONE_3\",$O445=5),'3 - SPECIE DA IMPIANTARE'!$U46,\"\")","v":""},null,"",{"$f":"IF(AND($B445=\"AZIONE_3\",$R445=6),'3 - SPECIE DA IMPIANTARE'!$U46,\"\")","v":""}]
[5,"","",{"$f":"IF(AND($B446=\"AZIONE_3\",C446=1),'3 - SPECIE DA IMPIANTARE'!$U47,\"\")","v":""},null,"",{"$f":"IF(AND($B446=\"AZIONE_3\",F446=2),'3 - SPECIE DA IMPIANTARE'!$U47,\"\")","v":""},null,"",{"$f":"IF(AND($B446=\"AZIONE_3\",$I446=3),'3 - SPECIE DA IMPIANTARE'!$U47,\"\")","v":""},null,"",{"$f":"IF(AND($B446=\"AZIONE_3\",$L446=4),'3 - SPECIE DA IMPIANTARE'!$U47,\"\")","v":""},null,"",{"$f":"IF(AND($B446=\"AZIONE_3\",$O446=5),'3 - SPECIE DA IMPIANTARE'!$U47,\"\")","v":""},null,"",{"$f":"IF(AND($B446=\"AZIONE_3\",$R446=6),'3 - SPECIE DA IMPIANTARE'!$U47,\"\")","v":""}]
[5,"","",{"$f":"IF(AND($B447=\"AZIONE_3\",C447=1),'3 - SPECIE DA IMPIANTARE'!$U48,\"\")","v":""},null,"",{"$f":"IF(AND($B447=\"AZIONE_3\",F447=2),'3 - SPECIE DA IMPIANTARE'!$U48,\"\")","v":""},null,"",{"$f":"IF(AND($B447=\"AZIONE_3\",$I447=3),'3 - SPECIE DA IMPIANTARE'!$U48,\"\")","v":""},null,"",{"$f":"IF(AND($B447=\"AZIONE_3\",$L447=4),'3 - SPECIE DA IMPIANTARE'!$U48,\"\")","v":""},null,"",{"$f":"IF(AND($B447=\"AZIONE_3\",$O447=5),'3 - SPECIE DA IMPIANTARE'!$U48,\"\")","v":""},null,"",{"$f":"IF(AND($B447=\"AZIONE_3\",$R447=6),'3 - SPECIE DA IMPIANTARE'!$U48,\"\")","v":""}]
[5,"","",{"$f":"IF(AND($B448=\"AZIONE_3\",C448=1),'3 - SPECIE DA IMPIANTARE'!$U49,\"\")","v":""},null,"",{"$f":"IF(AND($B448=\"AZIONE_3\",F448=2),'3 - SPECIE DA IMPIANTARE'!$U49,\"\")","v":""},null,"",{"$f":"IF(AND($B448=\"AZIONE_3\",$I448=3),'3 - SPECIE DA IMPIANTARE'!$U49,\"\")","v":""},null,"",{"$f":"IF(AND($B448=\"AZIONE_3\",$L448=4),'3 - SPECIE DA IMPIANTARE'!$U49,\"\")","v":""},null,"",{"$f":"IF(AND($B448=\"AZIONE_3\",$O448=5),'3 - SPECIE DA IMPIANTARE'!$U49,\"\")","v":""},null,"",{"$f":"IF(AND($B448=\"AZIONE_3\",$R448=6),'3 - SPECIE DA IMPIANTARE'!$U49,\"\")","v":""}]
[5,"","",{"$f":"IF(AND($B449=\"AZIONE_3\",C449=1),'3 - SPECIE DA IMPIANTARE'!$U50,\"\")","v":""},null,"",{"$f":"IF(AND($B449=\"AZIONE_3\",F449=2),'3 - SPECIE DA IMPIANTARE'!$U50,\"\")","v":""},null,"",{"$f":"IF(AND($B449=\"AZIONE_3\",$I449=3),'3 - SPECIE DA IMPIANTARE'!$U50,\"\")","v":""},null,"",{"$f":"IF(AND($B449=\"AZIONE_3\",$L449=4),'3 - SPECIE DA IMPIANTARE'!$U50,\"\")","v":""},null,"",{"$f":"IF(AND($B449=\"AZIONE_3\",$O449=5),'3 - SPECIE DA IMPIANTARE'!$U50,\"\")","v":""},null,"",{"$f":"IF(AND($B449=\"AZIONE_3\",$R449=6),'3 - SPECIE DA IMPIANTARE'!$U50,\"\")","v":""}]
[5,"","",{"$f":"IF(AND($B450=\"AZIONE_3\",C450=1),'3 - SPECIE DA IMPIANTARE'!$U51,\"\")","v":""},null,"",{"$f":"IF(AND($B450=\"AZIONE_3\",F450=2),'3 - SPECIE DA IMPIANTARE'!$U51,\"\")","v":""},null,"",{"$f":"IF(AND($B450=\"AZIONE_3\",$I450=3),'3 - SPECIE DA IMPIANTARE'!$U51,\"\")","v":""},null,"",{"$f":"IF(AND($B450=\"AZIONE_3\",$L450=4),'3 - SPECIE DA IMPIANTARE'!$U51,\"\")","v":""},null,"",{"$f":"IF(AND($B450=\"AZIONE_3\",$O450=5),'3 - SPECIE DA IMPIANTARE'!$U51,\"\")","v":""},null,"",{"$f":"IF(AND($B450=\"AZIONE_3\",$R450=6),'3 - SPECIE DA IMPIANTARE'!$U51,\"\")","v":""}]
[5,"","",{"$f":"IF(AND($B451=\"AZIONE_3\",C451=1),'3 - SPECIE DA IMPIANTARE'!$U52,\"\")","v":""},null,"",{"$f":"IF(AND($B451=\"AZIONE_3\",F451=2),'3 - SPECIE DA IMPIANTARE'!$U52,\"\")","v":""},null,"",{"$f":"IF(AND($B451=\"AZIONE_3\",$I451=3),'3 - SPECIE DA IMPIANTARE'!$U52,\"\")","v":""},null,"",{"$f":"IF(AND($B451=\"AZIONE_3\",$L451=4),'3 - SPECIE DA IMPIANTARE'!$U52,\"\")","v":""},null,"",{"$f":"IF(AND($B451=\"AZIONE_3\",$O451=5),'3 - SPECIE DA IMPIANTARE'!$U52,\"\")","v":""},null,"",{"$f":"IF(AND($B451=\"AZIONE_3\",$R451=6),'3 - SPECIE DA IMPIANTARE'!$U52,\"\")","v":""}]
[5,"","",{"$f":"IF(AND($B452=\"AZIONE_3\",C452=1),'3 - SPECIE DA IMPIANTARE'!$U53,\"\")","v":""},null,"",{"$f":"IF(AND($B452=\"AZIONE_3\",F452=2),'3 - SPECIE DA IMPIANTARE'!$U53,\"\")","v":""},null,"",{"$f":"IF(AND($B452=\"AZIONE_3\",$I452=3),'3 - SPECIE DA IMPIANTARE'!$U53,\"\")","v":""},null,"",{"$f":"IF(AND($B452=\"AZIONE_3\",$L452=4),'3 - SPECIE DA IMPIANTARE'!$U53,\"\")","v":""},null,"",{"$f":"IF(AND($B452=\"AZIONE_3\",$O452=5),'3 - SPECIE DA IMPIANTARE'!$U53,\"\")","v":""},null,"",{"$f":"IF(AND($B452=\"AZIONE_3\",$R452=6),'3 - SPECIE DA IMPIANTARE'!$U53,\"\")","v":""}]
[5,"","",{"$f":"IF(AND($B453=\"AZIONE_3\",C453=1),'3 - SPECIE DA IMPIANTARE'!$U54,\"\")","v":""},null,"",{"$f":"IF(AND($B453=\"AZIONE_3\",F453=2),'3 - SPECIE DA IMPIANTARE'!$U54,\"\")","v":""},null,"",{"$f":"IF(AND($B453=\"AZIONE_3\",$I453=3),'3 - SPECIE DA IMPIANTARE'!$U54,\"\")","v":""},null,"",{"$f":"IF(AND($B453=\"AZIONE_3\",$L453=4),'3 - SPECIE DA IMPIANTARE'!$U54,\"\")","v":""},null,"",{"$f":"IF(AND($B453=\"AZIONE_3\",$O453=5),'3 - SPECIE DA IMPIANTARE'!$U54,\"\")","v":""},null,"",{"$f":"IF(AND($B453=\"AZIONE_3\",$R453=6),'3 - SPECIE DA IMPIANTARE'!$U54,\"\")","v":""}]
[5,"","",{"$f":"IF(AND($B454=\"AZIONE_3\",C454=1),'3 - SPECIE DA IMPIANTARE'!$U55,\"\")","v":""},null,"",{"$f":"IF(AND($B454=\"AZIONE_3\",F454=2),'3 - SPECIE DA IMPIANTARE'!$U55,\"\")","v":""},null,"",{"$f":"IF(AND($B454=\"AZIONE_3\",$I454=3),'3 - SPECIE DA IMPIANTARE'!$U55,\"\")","v":""},null,"",{"$f":"IF(AND($B454=\"AZIONE_3\",$L454=4),'3 - SPECIE DA IMPIANTARE'!$U55,\"\")","v":""},null,"",{"$f":"IF(AND($B454=\"AZIONE_3\",$O454=5),'3 - SPECIE DA IMPIANTARE'!$U55,\"\")","v":""},null,"",{"$f":"IF(AND($B454=\"AZIONE_3\",$R454=6),'3 - SPECIE DA IMPIANTARE'!$U55,\"\")","v":""}]
[5,{"$f":"B355","v":""},"",{"$f":"IF(AND($B455=\"AZIONE_3\",C455=1),'3 - SPECIE DA IMPIANTARE'!$U56,\"\")","v":""},null,"",{"$f":"IF(AND($B455=\"AZIONE_3\",F455=2),'3 - SPECIE DA IMPIANTARE'!$U56,\"\")","v":""},null,"",{"$f":"IF(AND($B455=\"AZIONE_3\",$I455=3),'3 - SPECIE DA IMPIANTARE'!$U56,\"\")","v":""},null,"",{"$f":"IF(AND($B455=\"AZIONE_3\",$L455=4),'3 - SPECIE DA IMPIANTARE'!$U56,\"\")","v":""},null,"",{"$f":"IF(AND($B455=\"AZIONE_3\",$O455=5),'3 - SPECIE DA IMPIANTARE'!$U56,\"\")","v":""},null,"",{"$f":"IF(AND($B455=\"AZIONE_3\",$R455=6),'3 - SPECIE DA IMPIANTARE'!$U56,\"\")","v":""}]
[5,"","",{"$f":"IF(AND($B456=\"AZIONE_3\",C456=1),'3 - SPECIE DA IMPIANTARE'!$U57,\"\")","v":""},null,"",{"$f":"IF(AND($B456=\"AZIONE_3\",F456=2),'3 - SPECIE DA IMPIANTARE'!$U57,\"\")","v":""},null,"",{"$f":"IF(AND($B456=\"AZIONE_3\",$I456=3),'3 - SPECIE DA IMPIANTARE'!$U57,\"\")","v":""},null,"",{"$f":"IF(AND($B456=\"AZIONE_3\",$L456=4),'3 - SPECIE DA IMPIANTARE'!$U57,\"\")","v":""},null,"",{"$f":"IF(AND($B456=\"AZIONE_3\",$O456=5),'3 - SPECIE DA IMPIANTARE'!$U57,\"\")","v":""},null,"",{"$f":"IF(AND($B456=\"AZIONE_3\",$R456=6),'3 - SPECIE DA IMPIANTARE'!$U57,\"\")","v":""}]
[5,"","",{"$f":"IF(AND($B457=\"AZIONE_3\",C457=1),'3 - SPECIE DA IMPIANTARE'!$U58,\"\")","v":""},null,"",{"$f":"IF(AND($B457=\"AZIONE_3\",F457=2),'3 - SPECIE DA IMPIANTARE'!$U58,\"\")","v":""},null,"",{"$f":"IF(AND($B457=\"AZIONE_3\",$I457=3),'3 - SPECIE DA IMPIANTARE'!$U58,\"\")","v":""},null,"",{"$f":"IF(AND($B457=\"AZIONE_3\",$L457=4),'3 - SPECIE DA IMPIANTARE'!$U58,\"\")","v":""},null,"",{"$f":"IF(AND($B457=\"AZIONE_3\",$O457=5),'3 - SPECIE DA IMPIANTARE'!$U58,\"\")","v":""},null,"",{"$f":"IF(AND($B457=\"AZIONE_3\",$R457=6),'3 - SPECIE DA IMPIANTARE'!$U58,\"\")","v":""}]
[5,"","",{"$f":"IF(AND($B458=\"AZIONE_3\",C458=1),'3 - SPECIE DA IMPIANTARE'!$U59,\"\")","v":""},null,"",{"$f":"IF(AND($B458=\"AZIONE_3\",F458=2),'3 - SPECIE DA IMPIANTARE'!$U59,\"\")","v":""},null,"",{"$f":"IF(AND($B458=\"AZIONE_3\",$I458=3),'3 - SPECIE DA IMPIANTARE'!$U59,\"\")","v":""},null,"",{"$f":"IF(AND($B458=\"AZIONE_3\",$L458=4),'3 - SPECIE DA IMPIANTARE'!$U59,\"\")","v":""},null,"",{"$f":"IF(AND($B458=\"AZIONE_3\",$O458=5),'3 - SPECIE DA IMPIANTARE'!$U59,\"\")","v":""},null,"",{"$f":"IF(AND($B458=\"AZIONE_3\",$R458=6),'3 - SPECIE DA IMPIANTARE'!$U59,\"\")","v":""}]
[5,"","",{"$f":"IF(AND($B459=\"AZIONE_3\",C459=1),'3 - SPECIE DA IMPIANTARE'!$U60,\"\")","v":""},null,"",{"$f":"IF(AND($B459=\"AZIONE_3\",F459=2),'3 - SPECIE DA IMPIANTARE'!$U60,\"\")","v":""},null,"",{"$f":"IF(AND($B459=\"AZIONE_3\",$I459=3),'3 - SPECIE DA IMPIANTARE'!$U60,\"\")","v":""},null,"",{"$f":"IF(AND($B459=\"AZIONE_3\",$L459=4),'3 - SPECIE DA IMPIANTARE'!$U60,\"\")","v":""},null,"",{"$f":"IF(AND($B459=\"AZIONE_3\",$O459=5),'3 - SPECIE DA IMPIANTARE'!$U60,\"\")","v":""},null,"",{"$f":"IF(AND($B459=\"AZIONE_3\",$R459=6),'3 - SPECIE DA IMPIANTARE'!$U60,\"\")","v":""}]
[5,"","",{"$f":"IF(AND($B460=\"AZIONE_3\",C460=1),'3 - SPECIE DA IMPIANTARE'!$U61,\"\")","v":""},null,"",{"$f":"IF(AND($B460=\"AZIONE_3\",F460=2),'3 - SPECIE DA IMPIANTARE'!$U61,\"\")","v":""},null,"",{"$f":"IF(AND($B460=\"AZIONE_3\",$I460=3),'3 - SPECIE DA IMPIANTARE'!$U61,\"\")","v":""},null,"",{"$f":"IF(AND($B460=\"AZIONE_3\",$L460=4),'3 - SPECIE DA IMPIANTARE'!$U61,\"\")","v":""},null,"",{"$f":"IF(AND($B460=\"AZIONE_3\",$O460=5),'3 - SPECIE DA IMPIANTARE'!$U61,\"\")","v":""},null,"",{"$f":"IF(AND($B460=\"AZIONE_3\",$R460=6),'3 - SPECIE DA IMPIANTARE'!$U61,\"\")","v":""}]
[5,"","",{"$f":"IF(AND($B461=\"AZIONE_3\",C461=1),'3 - SPECIE DA IMPIANTARE'!$U62,\"\")","v":""},null,"",{"$f":"IF(AND($B461=\"AZIONE_3\",F461=2),'3 - SPECIE DA IMPIANTARE'!$U62,\"\")","v":""},null,"",{"$f":"IF(AND($B461=\"AZIONE_3\",$I461=3),'3 - SPECIE DA IMPIANTARE'!$U62,\"\")","v":""},null,"",{"$f":"IF(AND($B461=\"AZIONE_3\",$L461=4),'3 - SPECIE DA IMPIANTARE'!$U62,\"\")","v":""},null,"",{"$f":"IF(AND($B461=\"AZIONE_3\",$O461=5),'3 - SPECIE DA IMPIANTARE'!$U62,\"\")","v":""},null,"",{"$f":"IF(AND($B461=\"AZIONE_3\",$R461=6),'3 - SPECIE DA IMPIANTARE'!$U62,\"\")","v":""}]
[5,"","",{"$f":"IF(AND($B462=\"AZIONE_3\",C462=1),'3 - SPECIE DA IMPIANTARE'!$U63,\"\")","v":""},null,"",{"$f":"IF(AND($B462=\"AZIONE_3\",F462=2),'3 - SPECIE DA IMPIANTARE'!$U63,\"\")","v":""},null,"",{"$f":"IF(AND($B462=\"AZIONE_3\",$I462=3),'3 - SPECIE DA IMPIANTARE'!$U63,\"\")","v":""},null,"",{"$f":"IF(AND($B462=\"AZIONE_3\",$L462=4),'3 - SPECIE DA IMPIANTARE'!$U63,\"\")","v":""},null,"",{"$f":"IF(AND($B462=\"AZIONE_3\",$O462=5),'3 - SPECIE DA IMPIANTARE'!$U63,\"\")","v":""},null,"",{"$f":"IF(AND($B462=\"AZIONE_3\",$R462=6),'3 - SPECIE DA IMPIANTARE'!$U63,\"\")","v":""}]
[5,"","",{"$f":"IF(AND($B463=\"AZIONE_3\",C463=1),'3 - SPECIE DA IMPIANTARE'!$U64,\"\")","v":""},null,"",{"$f":"IF(AND($B463=\"AZIONE_3\",F463=2),'3 - SPECIE DA IMPIANTARE'!$U64,\"\")","v":""},null,"",{"$f":"IF(AND($B463=\"AZIONE_3\",$I463=3),'3 - SPECIE DA IMPIANTARE'!$U64,\"\")","v":""},null,"",{"$f":"IF(AND($B463=\"AZIONE_3\",$L463=4),'3 - SPECIE DA IMPIANTARE'!$U64,\"\")","v":""},null,"",{"$f":"IF(AND($B463=\"AZIONE_3\",$O463=5),'3 - SPECIE DA IMPIANTARE'!$U64,\"\")","v":""},null,"",{"$f":"IF(AND($B463=\"AZIONE_3\",$R463=6),'3 - SPECIE DA IMPIANTARE'!$U64,\"\")","v":""}]
[5,"","",{"$f":"IF(AND($B464=\"AZIONE_3\",C464=1),'3 - SPECIE DA IMPIANTARE'!$U65,\"\")","v":""},null,"",{"$f":"IF(AND($B464=\"AZIONE_3\",F464=2),'3 - SPECIE DA IMPIANTARE'!$U65,\"\")","v":""},null,"",{"$f":"IF(AND($B464=\"AZIONE_3\",$I464=3),'3 - SPECIE DA IMPIANTARE'!$U65,\"\")","v":""},null,"",{"$f":"IF(AND($B464=\"AZIONE_3\",$L464=4),'3 - SPECIE DA IMPIANTARE'!$U65,\"\")","v":""},null,"",{"$f":"IF(AND($B464=\"AZIONE_3\",$O464=5),'3 - SPECIE DA IMPIANTARE'!$U65,\"\")","v":""},null,"",{"$f":"IF(AND($B464=\"AZIONE_3\",$R464=6),'3 - SPECIE DA IMPIANTARE'!$U65,\"\")","v":""}]
[5,"","",{"$f":"IF(AND($B465=\"AZIONE_3\",C465=1),'3 - SPECIE DA IMPIANTARE'!$U66,\"\")","v":""},null,"",{"$f":"IF(AND($B465=\"AZIONE_3\",F465=2),'3 - SPECIE DA IMPIANTARE'!$U66,\"\")","v":""},null,"",{"$f":"IF(AND($B465=\"AZIONE_3\",$I465=3),'3 - SPECIE DA IMPIANTARE'!$U66,\"\")","v":""},null,"",{"$f":"IF(AND($B465=\"AZIONE_3\",$L465=4),'3 - SPECIE DA IMPIANTARE'!$U66,\"\")","v":""},null,"",{"$f":"IF(AND($B465=\"AZIONE_3\",$O465=5),'3 - SPECIE DA IMPIANTARE'!$U66,\"\")","v":""},null,"",{"$f":"IF(AND($B465=\"AZIONE_3\",$R465=6),'3 - SPECIE DA IMPIANTARE'!$U66,\"\")","v":""}]
[5,"","",{"$f":"IF(AND($B466=\"AZIONE_3\",C466=1),'3 - SPECIE DA IMPIANTARE'!$U67,\"\")","v":""},null,"",{"$f":"IF(AND($B466=\"AZIONE_3\",F466=2),'3 - SPECIE DA IMPIANTARE'!$U67,\"\")","v":""},null,"",{"$f":"IF(AND($B466=\"AZIONE_3\",$I466=3),'3 - SPECIE DA IMPIANTARE'!$U67,\"\")","v":""},null,"",{"$f":"IF(AND($B466=\"AZIONE_3\",$L466=4),'3 - SPECIE DA IMPIANTARE'!$U67,\"\")","v":""},null,"",{"$f":"IF(AND($B466=\"AZIONE_3\",$O466=5),'3 - SPECIE DA IMPIANTARE'!$U67,\"\")","v":""},null,"",{"$f":"IF(AND($B466=\"AZIONE_3\",$R466=6),'3 - SPECIE DA IMPIANTARE'!$U67,\"\")","v":""}]
[5,"","",{"$f":"IF(AND($B467=\"AZIONE_3\",C467=1),'3 - SPECIE DA IMPIANTARE'!$U68,\"\")","v":""},null,"",{"$f":"IF(AND($B467=\"AZIONE_3\",F467=2),'3 - SPECIE DA IMPIANTARE'!$U68,\"\")","v":""},null,"",{"$f":"IF(AND($B467=\"AZIONE_3\",$I467=3),'3 - SPECIE DA IMPIANTARE'!$U68,\"\")","v":""},null,"",{"$f":"IF(AND($B467=\"AZIONE_3\",$L467=4),'3 - SPECIE DA IMPIANTARE'!$U68,\"\")","v":""},null,"",{"$f":"IF(AND($B467=\"AZIONE_3\",$O467=5),'3 - SPECIE DA IMPIANTARE'!$U68,\"\")","v":""},null,"",{"$f":"IF(AND($B467=\"AZIONE_3\",$R467=6),'3 - SPECIE DA IMPIANTARE'!$U68,\"\")","v":""}]
[5,"","",{"$f":"IF(AND($B468=\"AZIONE_3\",C468=1),'3 - SPECIE DA IMPIANTARE'!$U69,\"\")","v":""},null,"",{"$f":"IF(AND($B468=\"AZIONE_3\",F468=2),'3 - SPECIE DA IMPIANTARE'!$U69,\"\")","v":""},null,"",{"$f":"IF(AND($B468=\"AZIONE_3\",$I468=3),'3 - SPECIE DA IMPIANTARE'!$U69,\"\")","v":""},null,"",{"$f":"IF(AND($B468=\"AZIONE_3\",$L468=4),'3 - SPECIE DA IMPIANTARE'!$U69,\"\")","v":""},null,"",{"$f":"IF(AND($B468=\"AZIONE_3\",$O468=5),'3 - SPECIE DA IMPIANTARE'!$U69,\"\")","v":""},null,"",{"$f":"IF(AND($B468=\"AZIONE_3\",$R468=6),'3 - SPECIE DA IMPIANTARE'!$U69,\"\")","v":""}]
[5,"","",{"$f":"IF(AND($B469=\"AZIONE_3\",C469=1),'3 - SPECIE DA IMPIANTARE'!$U70,\"\")","v":""},null,"",{"$f":"IF(AND($B469=\"AZIONE_3\",F469=2),'3 - SPECIE DA IMPIANTARE'!$U70,\"\")","v":""},null,"",{"$f":"IF(AND($B469=\"AZIONE_3\",$I469=3),'3 - SPECIE DA IMPIANTARE'!$U70,\"\")","v":""},null,"",{"$f":"IF(AND($B469=\"AZIONE_3\",$L469=4),'3 - SPECIE DA IMPIANTARE'!$U70,\"\")","v":""},null,"",{"$f":"IF(AND($B469=\"AZIONE_3\",$O469=5),'3 - SPECIE DA IMPIANTARE'!$U70,\"\")","v":""},null,"",{"$f":"IF(AND($B469=\"AZIONE_3\",$R469=6),'3 - SPECIE DA IMPIANTARE'!$U70,\"\")","v":""}]
[5,"","",{"$f":"IF(AND($B470=\"AZIONE_3\",C470=1),'3 - SPECIE DA IMPIANTARE'!$U71,\"\")","v":""},null,"",{"$f":"IF(AND($B470=\"AZIONE_3\",F470=2),'3 - SPECIE DA IMPIANTARE'!$U71,\"\")","v":""},null,"",{"$f":"IF(AND($B470=\"AZIONE_3\",$I470=3),'3 - SPECIE DA IMPIANTARE'!$U71,\"\")","v":""},null,"",{"$f":"IF(AND($B470=\"AZIONE_3\",$L470=4),'3 - SPECIE DA IMPIANTARE'!$U71,\"\")","v":""},null,"",{"$f":"IF(AND($B470=\"AZIONE_3\",$O470=5),'3 - SPECIE DA IMPIANTARE'!$U71,\"\")","v":""},null,"",{"$f":"IF(AND($B470=\"AZIONE_3\",$R470=6),'3 - SPECIE DA IMPIANTARE'!$U71,\"\")","v":""}]
[5,{"$f":"B371","v":""},"",{"$f":"IF(AND($B471=\"AZIONE_3\",C471=1),'3 - SPECIE DA IMPIANTARE'!$U72,\"\")","v":""},null,"",{"$f":"IF(AND($B471=\"AZIONE_3\",F471=2),'3 - SPECIE DA IMPIANTARE'!$U72,\"\")","v":""},null,"",{"$f":"IF(AND($B471=\"AZIONE_3\",$I471=3),'3 - SPECIE DA IMPIANTARE'!$U72,\"\")","v":""},null,"",{"$f":"IF(AND($B471=\"AZIONE_3\",$L471=4),'3 - SPECIE DA IMPIANTARE'!$U72,\"\")","v":""},null,"",{"$f":"IF(AND($B471=\"AZIONE_3\",$O471=5),'3 - SPECIE DA IMPIANTARE'!$U72,\"\")","v":""},null,"",{"$f":"IF(AND($B471=\"AZIONE_3\",$R471=6),'3 - SPECIE DA IMPIANTARE'!$U72,\"\")","v":""}]
[5,"","",{"$f":"IF(AND($B472=\"AZIONE_3\",C472=1),'3 - SPECIE DA IMPIANTARE'!$U73,\"\")","v":""},null,"",{"$f":"IF(AND($B472=\"AZIONE_3\",F472=2),'3 - SPECIE DA IMPIANTARE'!$U73,\"\")","v":""},null,"",{"$f":"IF(AND($B472=\"AZIONE_3\",$I472=3),'3 - SPECIE DA IMPIANTARE'!$U73,\"\")","v":""},null,"",{"$f":"IF(AND($B472=\"AZIONE_3\",$L472=4),'3 - SPECIE DA IMPIANTARE'!$U73,\"\")","v":""},null,"",{"$f":"IF(AND($B472=\"AZIONE_3\",$O472=5),'3 - SPECIE DA IMPIANTARE'!$U73,\"\")","v":""},null,"",{"$f":"IF(AND($B472=\"AZIONE_3\",$R472=6),'3 - SPECIE DA IMPIANTARE'!$U73,\"\")","v":""}]
[5,"","",{"$f":"IF(AND($B473=\"AZIONE_3\",C473=1),'3 - SPECIE DA IMPIANTARE'!$U74,\"\")","v":""},null,"",{"$f":"IF(AND($B473=\"AZIONE_3\",F473=2),'3 - SPECIE DA IMPIANTARE'!$U74,\"\")","v":""},null,"",{"$f":"IF(AND($B473=\"AZIONE_3\",$I473=3),'3 - SPECIE DA IMPIANTARE'!$U74,\"\")","v":""},null,"",{"$f":"IF(AND($B473=\"AZIONE_3\",$L473=4),'3 - SPECIE DA IMPIANTARE'!$U74,\"\")","v":""},null,"",{"$f":"IF(AND($B473=\"AZIONE_3\",$O473=5),'3 - SPECIE DA IMPIANTARE'!$U74,\"\")","v":""},null,"",{"$f":"IF(AND($B473=\"AZIONE_3\",$R473=6),'3 - SPECIE DA IMPIANTARE'!$U74,\"\")","v":""}]
[5,"","",{"$f":"IF(AND($B474=\"AZIONE_3\",C474=1),'3 - SPECIE DA IMPIANTARE'!$U75,\"\")","v":""},null,"",{"$f":"IF(AND($B474=\"AZIONE_3\",F474=2),'3 - SPECIE DA IMPIANTARE'!$U75,\"\")","v":""},null,"",{"$f":"IF(AND($B474=\"AZIONE_3\",$I474=3),'3 - SPECIE DA IMPIANTARE'!$U75,\"\")","v":""},null,"",{"$f":"IF(AND($B474=\"AZIONE_3\",$L474=4),'3 - SPECIE DA IMPIANTARE'!$U75,\"\")","v":""},null,"",{"$f":"IF(AND($B474=\"AZIONE_3\",$O474=5),'3 - SPECIE DA IMPIANTARE'!$U75,\"\")","v":""},null,"",{"$f":"IF(AND($B474=\"AZIONE_3\",$R474=6),'3 - SPECIE DA IMPIANTARE'!$U75,\"\")","v":""}]
[5,"","",{"$f":"IF(AND($B475=\"AZIONE_3\",C475=1),'3 - SPECIE DA IMPIANTARE'!$U76,\"\")","v":""},null,"",{"$f":"IF(AND($B475=\"AZIONE_3\",F475=2),'3 - SPECIE DA IMPIANTARE'!$U76,\"\")","v":""},null,"",{"$f":"IF(AND($B475=\"AZIONE_3\",$I475=3),'3 - SPECIE DA IMPIANTARE'!$U76,\"\")","v":""},null,"",{"$f":"IF(AND($B475=\"AZIONE_3\",$L475=4),'3 - SPECIE DA IMPIANTARE'!$U76,\"\")","v":""},null,"",{"$f":"IF(AND($B475=\"AZIONE_3\",$O475=5),'3 - SPECIE DA IMPIANTARE'!$U76,\"\")","v":""},null,"",{"$f":"IF(AND($B475=\"AZIONE_3\",$R475=6),'3 - SPECIE DA IMPIANTARE'!$U76,\"\")","v":""}]
[5,"","",{"$f":"IF(AND($B476=\"AZIONE_3\",C476=1),'3 - SPECIE DA IMPIANTARE'!$U77,\"\")","v":""},null,"",{"$f":"IF(AND($B476=\"AZIONE_3\",F476=2),'3 - SPECIE DA IMPIANTARE'!$U77,\"\")","v":""},null,"",{"$f":"IF(AND($B476=\"AZIONE_3\",$I476=3),'3 - SPECIE DA IMPIANTARE'!$U77,\"\")","v":""},null,"",{"$f":"IF(AND($B476=\"AZIONE_3\",$L476=4),'3 - SPECIE DA IMPIANTARE'!$U77,\"\")","v":""},null,"",{"$f":"IF(AND($B476=\"AZIONE_3\",$O476=5),'3 - SPECIE DA IMPIANTARE'!$U77,\"\")","v":""},null,"",{"$f":"IF(AND($B476=\"AZIONE_3\",$R476=6),'3 - SPECIE DA IMPIANTARE'!$U77,\"\")","v":""}]
[5,"","",{"$f":"IF(AND($B477=\"AZIONE_3\",C477=1),'3 - SPECIE DA IMPIANTARE'!$U78,\"\")","v":""},null,"",{"$f":"IF(AND($B477=\"AZIONE_3\",F477=2),'3 - SPECIE DA IMPIANTARE'!$U78,\"\")","v":""},null,"",{"$f":"IF(AND($B477=\"AZIONE_3\",$I477=3),'3 - SPECIE DA IMPIANTARE'!$U78,\"\")","v":""},null,"",{"$f":"IF(AND($B477=\"AZIONE_3\",$L477=4),'3 - SPECIE DA IMPIANTARE'!$U78,\"\")","v":""},null,"",{"$f":"IF(AND($B477=\"AZIONE_3\",$O477=5),'3 - SPECIE DA IMPIANTARE'!$U78,\"\")","v":""},null,"",{"$f":"IF(AND($B477=\"AZIONE_3\",$R477=6),'3 - SPECIE DA IMPIANTARE'!$U78,\"\")","v":""}]
[5,"","",{"$f":"IF(AND($B478=\"AZIONE_3\",C478=1),'3 - SPECIE DA IMPIANTARE'!$U79,\"\")","v":""},null,"",{"$f":"IF(AND($B478=\"AZIONE_3\",F478=2),'3 - SPECIE DA IMPIANTARE'!$U79,\"\")","v":""},null,"",{"$f":"IF(AND($B478=\"AZIONE_3\",$I478=3),'3 - SPECIE DA IMPIANTARE'!$U79,\"\")","v":""},null,"",{"$f":"IF(AND($B478=\"AZIONE_3\",$L478=4),'3 - SPECIE DA IMPIANTARE'!$U79,\"\")","v":""},null,"",{"$f":"IF(AND($B478=\"AZIONE_3\",$O478=5),'3 - SPECIE DA IMPIANTARE'!$U79,\"\")","v":""},null,"",{"$f":"IF(AND($B478=\"AZIONE_3\",$R478=6),'3 - SPECIE DA IMPIANTARE'!$U79,\"\")","v":""}]
[5,"","",{"$f":"IF(AND($B479=\"AZIONE_3\",C479=1),'3 - SPECIE DA IMPIANTARE'!$U80,\"\")","v":""},null,"",{"$f":"IF(AND($B479=\"AZIONE_3\",F479=2),'3 - SPECIE DA IMPIANTARE'!$U80,\"\")","v":""},null,"",{"$f":"IF(AND($B479=\"AZIONE_3\",$I479=3),'3 - SPECIE DA IMPIANTARE'!$U80,\"\")","v":""},null,"",{"$f":"IF(AND($B479=\"AZIONE_3\",$L479=4),'3 - SPECIE DA IMPIANTARE'!$U80,\"\")","v":""},null,"",{"$f":"IF(AND($B479=\"AZIONE_3\",$O479=5),'3 - SPECIE DA IMPIANTARE'!$U80,\"\")","v":""},null,"",{"$f":"IF(AND($B479=\"AZIONE_3\",$R479=6),'3 - SPECIE DA IMPIANTARE'!$U80,\"\")","v":""}]
[5,"","",{"$f":"IF(AND($B480=\"AZIONE_3\",C480=1),'3 - SPECIE DA IMPIANTARE'!$U81,\"\")","v":""},null,"",{"$f":"IF(AND($B480=\"AZIONE_3\",F480=2),'3 - SPECIE DA IMPIANTARE'!$U81,\"\")","v":""},null,"",{"$f":"IF(AND($B480=\"AZIONE_3\",$I480=3),'3 - SPECIE DA IMPIANTARE'!$U81,\"\")","v":""},null,"",{"$f":"IF(AND($B480=\"AZIONE_3\",$L480=4),'3 - SPECIE DA IMPIANTARE'!$U81,\"\")","v":""},null,"",{"$f":"IF(AND($B480=\"AZIONE_3\",$O480=5),'3 - SPECIE DA IMPIANTARE'!$U81,\"\")","v":""},null,"",{"$f":"IF(AND($B480=\"AZIONE_3\",$R480=6),'3 - SPECIE DA IMPIANTARE'!$U81,\"\")","v":""}]
[5,"","",{"$f":"IF(AND($B481=\"AZIONE_3\",C481=1),'3 - SPECIE DA IMPIANTARE'!$U82,\"\")","v":""},null,"",{"$f":"IF(AND($B481=\"AZIONE_3\",F481=2),'3 - SPECIE DA IMPIANTARE'!$U82,\"\")","v":""},null,"",{"$f":"IF(AND($B481=\"AZIONE_3\",$I481=3),'3 - SPECIE DA IMPIANTARE'!$U82,\"\")","v":""},null,"",{"$f":"IF(AND($B481=\"AZIONE_3\",$L481=4),'3 - SPECIE DA IMPIANTARE'!$U82,\"\")","v":""},null,"",{"$f":"IF(AND($B481=\"AZIONE_3\",$O481=5),'3 - SPECIE DA IMPIANTARE'!$U82,\"\")","v":""},null,"",{"$f":"IF(AND($B481=\"AZIONE_3\",$R481=6),'3 - SPECIE DA IMPIANTARE'!$U82,\"\")","v":""}]
[5,"","",{"$f":"IF(AND($B482=\"AZIONE_3\",C482=1),'3 - SPECIE DA IMPIANTARE'!$U83,\"\")","v":""},null,"",{"$f":"IF(AND($B482=\"AZIONE_3\",F482=2),'3 - SPECIE DA IMPIANTARE'!$U83,\"\")","v":""},null,"",{"$f":"IF(AND($B482=\"AZIONE_3\",$I482=3),'3 - SPECIE DA IMPIANTARE'!$U83,\"\")","v":""},null,"",{"$f":"IF(AND($B482=\"AZIONE_3\",$L482=4),'3 - SPECIE DA IMPIANTARE'!$U83,\"\")","v":""},null,"",{"$f":"IF(AND($B482=\"AZIONE_3\",$O482=5),'3 - SPECIE DA IMPIANTARE'!$U83,\"\")","v":""},null,"",{"$f":"IF(AND($B482=\"AZIONE_3\",$R482=6),'3 - SPECIE DA IMPIANTARE'!$U83,\"\")","v":""}]
[5,"","",{"$f":"IF(AND($B483=\"AZIONE_3\",C483=1),'3 - SPECIE DA IMPIANTARE'!$U84,\"\")","v":""},null,"",{"$f":"IF(AND($B483=\"AZIONE_3\",F483=2),'3 - SPECIE DA IMPIANTARE'!$U84,\"\")","v":""},null,"",{"$f":"IF(AND($B483=\"AZIONE_3\",$I483=3),'3 - SPECIE DA IMPIANTARE'!$U84,\"\")","v":""},null,"",{"$f":"IF(AND($B483=\"AZIONE_3\",$L483=4),'3 - SPECIE DA IMPIANTARE'!$U84,\"\")","v":""},null,"",{"$f":"IF(AND($B483=\"AZIONE_3\",$O483=5),'3 - SPECIE DA IMPIANTARE'!$U84,\"\")","v":""},null,"",{"$f":"IF(AND($B483=\"AZIONE_3\",$R483=6),'3 - SPECIE DA IMPIANTARE'!$U84,\"\")","v":""}]
[5,"","",{"$f":"IF(AND($B484=\"AZIONE_3\",C484=1),'3 - SPECIE DA IMPIANTARE'!$U85,\"\")","v":""},null,"",{"$f":"IF(AND($B484=\"AZIONE_3\",F484=2),'3 - SPECIE DA IMPIANTARE'!$U85,\"\")","v":""},null,"",{"$f":"IF(AND($B484=\"AZIONE_3\",$I484=3),'3 - SPECIE DA IMPIANTARE'!$U85,\"\")","v":""},null,"",{"$f":"IF(AND($B484=\"AZIONE_3\",$L484=4),'3 - SPECIE DA IMPIANTARE'!$U85,\"\")","v":""},null,"",{"$f":"IF(AND($B484=\"AZIONE_3\",$O484=5),'3 - SPECIE DA IMPIANTARE'!$U85,\"\")","v":""},null,"",{"$f":"IF(AND($B484=\"AZIONE_3\",$R484=6),'3 - SPECIE DA IMPIANTARE'!$U85,\"\")","v":""}]
[5,"","",{"$f":"IF(AND($B485=\"AZIONE_3\",C485=1),'3 - SPECIE DA IMPIANTARE'!$U86,\"\")","v":""},null,"",{"$f":"IF(AND($B485=\"AZIONE_3\",F485=2),'3 - SPECIE DA IMPIANTARE'!$U86,\"\")","v":""},null,"",{"$f":"IF(AND($B485=\"AZIONE_3\",$I485=3),'3 - SPECIE DA IMPIANTARE'!$U86,\"\")","v":""},null,"",{"$f":"IF(AND($B485=\"AZIONE_3\",$L485=4),'3 - SPECIE DA IMPIANTARE'!$U86,\"\")","v":""},null,"",{"$f":"IF(AND($B485=\"AZIONE_3\",$O485=5),'3 - SPECIE DA IMPIANTARE'!$U86,\"\")","v":""},null,"",{"$f":"IF(AND($B485=\"AZIONE_3\",$R485=6),'3 - SPECIE DA IMPIANTARE'!$U86,\"\")","v":""}]
[5,"","",{"$f":"IF(AND($B486=\"AZIONE_3\",C486=1),'3 - SPECIE DA IMPIANTARE'!$U87,\"\")","v":""},null,"",{"$f":"IF(AND($B486=\"AZIONE_3\",F486=2),'3 - SPECIE DA IMPIANTARE'!$U87,\"\")","v":""},null,"",{"$f":"IF(AND($B486=\"AZIONE_3\",$I486=3),'3 - SPECIE DA IMPIANTARE'!$U87,\"\")","v":""},null,"",{"$f":"IF(AND($B486=\"AZIONE_3\",$L486=4),'3 - SPECIE DA IMPIANTARE'!$U87,\"\")","v":""},null,"",{"$f":"IF(AND($B486=\"AZIONE_3\",$O486=5),'3 - SPECIE DA IMPIANTARE'!$U87,\"\")","v":""},null,"",{"$f":"IF(AND($B486=\"AZIONE_3\",$R486=6),'3 - SPECIE DA IMPIANTARE'!$U87,\"\")","v":""}]
[5,{"$f":"B387","v":""},"",{"$f":"IF(AND($B487=\"AZIONE_3\",C487=1),'3 - SPECIE DA IMPIANTARE'!$U88,\"\")","v":""},null,{"$f":"F387","v":""},{"$f":"IF(AND($B487=\"AZIONE_3\",F487=2),'3 - SPECIE DA IMPIANTARE'!$U88,\"\")","v":""},null,{"$f":"I387","v":""},{"$f":"IF(AND($B487=\"AZIONE_3\",$I487=3),'3 - SPECIE DA IMPIANTARE'!$U88,\"\")","v":""},null,{"$f":"L387","v":""},{"$f":"IF(AND($B487=\"AZIONE_3\",$L487=4),'3 - SPECIE DA IMPIANTARE'!$U88,\"\")","v":""},null,{"$f":"O387","v":""},{"$f":"IF(AND($B487=\"AZIONE_3\",$O487=5),'3 - SPECIE DA IMPIANTARE'!$U88,\"\")","v":""},null,{"$f":"R387","v":""},{"$f":"IF(AND($B487=\"AZIONE_3\",$R487=6),'3 - SPECIE DA IMPIANTARE'!$U88,\"\")","v":""}]
[5,"","",{"$f":"IF(AND($B488=\"AZIONE_3\",C488=1),'3 - SPECIE DA IMPIANTARE'!$U89,\"\")","v":""},null,"",{"$f":"IF(AND($B488=\"AZIONE_3\",F488=2),'3 - SPECIE DA IMPIANTARE'!$U89,\"\")","v":""},null,"",{"$f":"IF(AND($B488=\"AZIONE_3\",$I488=3),'3 - SPECIE DA IMPIANTARE'!$U89,\"\")","v":""},null,"",{"$f":"IF(AND($B488=\"AZIONE_3\",$L488=4),'3 - SPECIE DA IMPIANTARE'!$U89,\"\")","v":""},null,"",{"$f":"IF(AND($B488=\"AZIONE_3\",$O488=5),'3 - SPECIE DA IMPIANTARE'!$U89,\"\")","v":""},null,"",{"$f":"IF(AND($B488=\"AZIONE_3\",$R488=6),'3 - SPECIE DA IMPIANTARE'!$U89,\"\")","v":""}]
[5,"","",{"$f":"IF(AND($B489=\"AZIONE_3\",C489=1),'3 - SPECIE DA IMPIANTARE'!$U90,\"\")","v":""},null,"",{"$f":"IF(AND($B489=\"AZIONE_3\",F489=2),'3 - SPECIE DA IMPIANTARE'!$U90,\"\")","v":""},null,"",{"$f":"IF(AND($B489=\"AZIONE_3\",$I489=3),'3 - SPECIE DA IMPIANTARE'!$U90,\"\")","v":""},null,"",{"$f":"IF(AND($B489=\"AZIONE_3\",$L489=4),'3 - SPECIE DA IMPIANTARE'!$U90,\"\")","v":""},null,"",{"$f":"IF(AND($B489=\"AZIONE_3\",$O489=5),'3 - SPECIE DA IMPIANTARE'!$U90,\"\")","v":""},null,"",{"$f":"IF(AND($B489=\"AZIONE_3\",$R489=6),'3 - SPECIE DA IMPIANTARE'!$U90,\"\")","v":""}]
[5,"","",{"$f":"IF(AND($B490=\"AZIONE_3\",C490=1),'3 - SPECIE DA IMPIANTARE'!$U91,\"\")","v":""},null,"",{"$f":"IF(AND($B490=\"AZIONE_3\",F490=2),'3 - SPECIE DA IMPIANTARE'!$U91,\"\")","v":""},null,"",{"$f":"IF(AND($B490=\"AZIONE_3\",$I490=3),'3 - SPECIE DA IMPIANTARE'!$U91,\"\")","v":""},null,"",{"$f":"IF(AND($B490=\"AZIONE_3\",$L490=4),'3 - SPECIE DA IMPIANTARE'!$U91,\"\")","v":""},null,"",{"$f":"IF(AND($B490=\"AZIONE_3\",$O490=5),'3 - SPECIE DA IMPIANTARE'!$U91,\"\")","v":""},null,"",{"$f":"IF(AND($B490=\"AZIONE_3\",$R490=6),'3 - SPECIE DA IMPIANTARE'!$U91,\"\")","v":""}]
[5,"","",{"$f":"IF(AND($B491=\"AZIONE_3\",C491=1),'3 - SPECIE DA IMPIANTARE'!$U92,\"\")","v":""},null,"",{"$f":"IF(AND($B491=\"AZIONE_3\",F491=2),'3 - SPECIE DA IMPIANTARE'!$U92,\"\")","v":""},null,"",{"$f":"IF(AND($B491=\"AZIONE_3\",$I491=3),'3 - SPECIE DA IMPIANTARE'!$U92,\"\")","v":""},null,"",{"$f":"IF(AND($B491=\"AZIONE_3\",$L491=4),'3 - SPECIE DA IMPIANTARE'!$U92,\"\")","v":""},null,"",{"$f":"IF(AND($B491=\"AZIONE_3\",$O491=5),'3 - SPECIE DA IMPIANTARE'!$U92,\"\")","v":""},null,"",{"$f":"IF(AND($B491=\"AZIONE_3\",$R491=6),'3 - SPECIE DA IMPIANTARE'!$U92,\"\")","v":""}]
[5,"","",{"$f":"IF(AND($B492=\"AZIONE_3\",C492=1),'3 - SPECIE DA IMPIANTARE'!$U93,\"\")","v":""},null,"",{"$f":"IF(AND($B492=\"AZIONE_3\",F492=2),'3 - SPECIE DA IMPIANTARE'!$U93,\"\")","v":""},null,"",{"$f":"IF(AND($B492=\"AZIONE_3\",$I492=3),'3 - SPECIE DA IMPIANTARE'!$U93,\"\")","v":""},null,"",{"$f":"IF(AND($B492=\"AZIONE_3\",$L492=4),'3 - SPECIE DA IMPIANTARE'!$U93,\"\")","v":""},null,"",{"$f":"IF(AND($B492=\"AZIONE_3\",$O492=5),'3 - SPECIE DA IMPIANTARE'!$U93,\"\")","v":""},null,"",{"$f":"IF(AND($B492=\"AZIONE_3\",$R492=6),'3 - SPECIE DA IMPIANTARE'!$U93,\"\")","v":""}]
[5,"","",{"$f":"IF(AND($B493=\"AZIONE_3\",C493=1),'3 - SPECIE DA IMPIANTARE'!$U94,\"\")","v":""},null,"",{"$f":"IF(AND($B493=\"AZIONE_3\",F493=2),'3 - SPECIE DA IMPIANTARE'!$U94,\"\")","v":""},null,"",{"$f":"IF(AND($B493=\"AZIONE_3\",$I493=3),'3 - SPECIE DA IMPIANTARE'!$U94,\"\")","v":""},null,"",{"$f":"IF(AND($B493=\"AZIONE_3\",$L493=4),'3 - SPECIE DA IMPIANTARE'!$U94,\"\")","v":""},null,"",{"$f":"IF(AND($B493=\"AZIONE_3\",$O493=5),'3 - SPECIE DA IMPIANTARE'!$U94,\"\")","v":""},null,"",{"$f":"IF(AND($B493=\"AZIONE_3\",$R493=6),'3 - SPECIE DA IMPIANTARE'!$U94,\"\")","v":""}]
[5,"","",{"$f":"IF(AND($B494=\"AZIONE_3\",C494=1),'3 - SPECIE DA IMPIANTARE'!$U95,\"\")","v":""},null,"",{"$f":"IF(AND($B494=\"AZIONE_3\",F494=2),'3 - SPECIE DA IMPIANTARE'!$U95,\"\")","v":""},null,"",{"$f":"IF(AND($B494=\"AZIONE_3\",$I494=3),'3 - SPECIE DA IMPIANTARE'!$U95,\"\")","v":""},null,"",{"$f":"IF(AND($B494=\"AZIONE_3\",$L494=4),'3 - SPECIE DA IMPIANTARE'!$U95,\"\")","v":""},null,"",{"$f":"IF(AND($B494=\"AZIONE_3\",$O494=5),'3 - SPECIE DA IMPIANTARE'!$U95,\"\")","v":""},null,"",{"$f":"IF(AND($B494=\"AZIONE_3\",$R494=6),'3 - SPECIE DA IMPIANTARE'!$U95,\"\")","v":""}]
[5,"","",{"$f":"IF(AND($B495=\"AZIONE_3\",C495=1),'3 - SPECIE DA IMPIANTARE'!$U96,\"\")","v":""},null,"",{"$f":"IF(AND($B495=\"AZIONE_3\",F495=2),'3 - SPECIE DA IMPIANTARE'!$U96,\"\")","v":""},null,"",{"$f":"IF(AND($B495=\"AZIONE_3\",$I495=3),'3 - SPECIE DA IMPIANTARE'!$U96,\"\")","v":""},null,"",{"$f":"IF(AND($B495=\"AZIONE_3\",$L495=4),'3 - SPECIE DA IMPIANTARE'!$U96,\"\")","v":""},null,"",{"$f":"IF(AND($B495=\"AZIONE_3\",$O495=5),'3 - SPECIE DA IMPIANTARE'!$U96,\"\")","v":""},null,"",{"$f":"IF(AND($B495=\"AZIONE_3\",$R495=6),'3 - SPECIE DA IMPIANTARE'!$U96,\"\")","v":""}]
[5,"","",{"$f":"IF(AND($B496=\"AZIONE_3\",C496=1),'3 - SPECIE DA IMPIANTARE'!$U97,\"\")","v":""},null,"",{"$f":"IF(AND($B496=\"AZIONE_3\",F496=2),'3 - SPECIE DA IMPIANTARE'!$U97,\"\")","v":""},null,"",{"$f":"IF(AND($B496=\"AZIONE_3\",$I496=3),'3 - SPECIE DA IMPIANTARE'!$U97,\"\")","v":""},null,"",{"$f":"IF(AND($B496=\"AZIONE_3\",$L496=4),'3 - SPECIE DA IMPIANTARE'!$U97,\"\")","v":""},null,"",{"$f":"IF(AND($B496=\"AZIONE_3\",$O496=5),'3 - SPECIE DA IMPIANTARE'!$U97,\"\")","v":""},null,"",{"$f":"IF(AND($B496=\"AZIONE_3\",$R496=6),'3 - SPECIE DA IMPIANTARE'!$U97,\"\")","v":""}]
[5,"","",{"$f":"IF(AND($B497=\"AZIONE_3\",C497=1),'3 - SPECIE DA IMPIANTARE'!$U98,\"\")","v":""},null,"",{"$f":"IF(AND($B497=\"AZIONE_3\",F497=2),'3 - SPECIE DA IMPIANTARE'!$U98,\"\")","v":""},null,"",{"$f":"IF(AND($B497=\"AZIONE_3\",$I497=3),'3 - SPECIE DA IMPIANTARE'!$U98,\"\")","v":""},null,"",{"$f":"IF(AND($B497=\"AZIONE_3\",$L497=4),'3 - SPECIE DA IMPIANTARE'!$U98,\"\")","v":""},null,"",{"$f":"IF(AND($B497=\"AZIONE_3\",$O497=5),'3 - SPECIE DA IMPIANTARE'!$U98,\"\")","v":""},null,"",{"$f":"IF(AND($B497=\"AZIONE_3\",$R497=6),'3 - SPECIE DA IMPIANTARE'!$U98,\"\")","v":""}]
[5,"","",{"$f":"IF(AND($B498=\"AZIONE_3\",C498=1),'3 - SPECIE DA IMPIANTARE'!$U99,\"\")","v":""},null,"",{"$f":"IF(AND($B498=\"AZIONE_3\",F498=2),'3 - SPECIE DA IMPIANTARE'!$U99,\"\")","v":""},null,"",{"$f":"IF(AND($B498=\"AZIONE_3\",$I498=3),'3 - SPECIE DA IMPIANTARE'!$U99,\"\")","v":""},null,"",{"$f":"IF(AND($B498=\"AZIONE_3\",$L498=4),'3 - SPECIE DA IMPIANTARE'!$U99,\"\")","v":""},null,"",{"$f":"IF(AND($B498=\"AZIONE_3\",$O498=5),'3 - SPECIE DA IMPIANTARE'!$U99,\"\")","v":""},null,"",{"$f":"IF(AND($B498=\"AZIONE_3\",$R498=6),'3 - SPECIE DA IMPIANTARE'!$U99,\"\")","v":""}]
[5,"","",{"$f":"IF(AND($B499=\"AZIONE_3\",C499=1),'3 - SPECIE DA IMPIANTARE'!$U100,\"\")","v":""},null,"",{"$f":"IF(AND($B499=\"AZIONE_3\",F499=2),'3 - SPECIE DA IMPIANTARE'!$U100,\"\")","v":""},null,"",{"$f":"IF(AND($B499=\"AZIONE_3\",$I499=3),'3 - SPECIE DA IMPIANTARE'!$U100,\"\")","v":""},null,"",{"$f":"IF(AND($B499=\"AZIONE_3\",$L499=4),'3 - SPECIE DA IMPIANTARE'!$U100,\"\")","v":""},null,"",{"$f":"IF(AND($B499=\"AZIONE_3\",$O499=5),'3 - SPECIE DA IMPIANTARE'!$U100,\"\")","v":""},null,"",{"$f":"IF(AND($B499=\"AZIONE_3\",$R499=6),'3 - SPECIE DA IMPIANTARE'!$U100,\"\")","v":""}]
[5,"","",{"$f":"IF(AND($B500=\"AZIONE_3\",C500=1),'3 - SPECIE DA IMPIANTARE'!$U101,\"\")","v":""},null,"",{"$f":"IF(AND($B500=\"AZIONE_3\",F500=2),'3 - SPECIE DA IMPIANTARE'!$U101,\"\")","v":""},null,"",{"$f":"IF(AND($B500=\"AZIONE_3\",$I500=3),'3 - SPECIE DA IMPIANTARE'!$U101,\"\")","v":""},null,"",{"$f":"IF(AND($B500=\"AZIONE_3\",$L500=4),'3 - SPECIE DA IMPIANTARE'!$U101,\"\")","v":""},null,"",{"$f":"IF(AND($B500=\"AZIONE_3\",$O500=5),'3 - SPECIE DA IMPIANTARE'!$U101,\"\")","v":""},null,"",{"$f":"IF(AND($B500=\"AZIONE_3\",$R500=6),'3 - SPECIE DA IMPIANTARE'!$U101,\"\")","v":""}]
[5,"","",{"$f":"IF(AND($B501=\"AZIONE_3\",C501=1),'3 - SPECIE DA IMPIANTARE'!$U102,\"\")","v":""},null,"",{"$f":"IF(AND($B501=\"AZIONE_3\",F501=2),'3 - SPECIE DA IMPIANTARE'!$U102,\"\")","v":""},null,"",{"$f":"IF(AND($B501=\"AZIONE_3\",$I501=3),'3 - SPECIE DA IMPIANTARE'!$U102,\"\")","v":""},null,"",{"$f":"IF(AND($B501=\"AZIONE_3\",$L501=4),'3 - SPECIE DA IMPIANTARE'!$U102,\"\")","v":""},null,"",{"$f":"IF(AND($B501=\"AZIONE_3\",$O501=5),'3 - SPECIE DA IMPIANTARE'!$U102,\"\")","v":""},null,"",{"$f":"IF(AND($B501=\"AZIONE_3\",$R501=6),'3 - SPECIE DA IMPIANTARE'!$U102,\"\")","v":""}]
[6,"","",{"$f":"IF(AND($B502=\"AZIONE_3\",C502=1),'3 - SPECIE DA IMPIANTARE'!$X3,\"\")","v":""},null,"",{"$f":"IF(AND($B502=\"AZIONE_3\",F502=2),'3 - SPECIE DA IMPIANTARE'!$X3,\"\")","v":""},null,"",{"$f":"IF(AND($B502=\"AZIONE_3\",$I502=3),'3 - SPECIE DA IMPIANTARE'!$X3,\"\")","v":""},null,"",{"$f":"IF(AND($B502=\"AZIONE_3\",$L502=4),'3 - SPECIE DA IMPIANTARE'!$X3,\"\")","v":""},null,"",{"$f":"IF(AND($B502=\"AZIONE_3\",$O502=5),'3 - SPECIE DA IMPIANTARE'!$X3,\"\")","v":""},null,"",{"$f":"IF(AND($B502=\"AZIONE_3\",$R502=6),'3 - SPECIE DA IMPIANTARE'!$X3,\"\")","v":""}]
[6,{"$f":"B403","v":""},"",{"$f":"IF(AND($B503=\"AZIONE_3\",C503=1),'3 - SPECIE DA IMPIANTARE'!$X4,\"\")","v":""},null,"",{"$f":"IF(AND($B503=\"AZIONE_3\",F503=2),'3 - SPECIE DA IMPIANTARE'!$X4,\"\")","v":""},null,"",{"$f":"IF(AND($B503=\"AZIONE_3\",$I503=3),'3 - SPECIE DA IMPIANTARE'!$X4,\"\")","v":""},null,"",{"$f":"IF(AND($B503=\"AZIONE_3\",$L503=4),'3 - SPECIE DA IMPIANTARE'!$X4,\"\")","v":""},null,"",{"$f":"IF(AND($B503=\"AZIONE_3\",$O503=5),'3 - SPECIE DA IMPIANTARE'!$X4,\"\")","v":""},null,"",{"$f":"IF(AND($B503=\"AZIONE_3\",$R503=6),'3 - SPECIE DA IMPIANTARE'!$X4,\"\")","v":""}]
[6,"","",{"$f":"IF(AND($B504=\"AZIONE_3\",C504=1),'3 - SPECIE DA IMPIANTARE'!$X5,\"\")","v":""},null,"",{"$f":"IF(AND($B504=\"AZIONE_3\",F504=2),'3 - SPECIE DA IMPIANTARE'!$X5,\"\")","v":""},null,"",{"$f":"IF(AND($B504=\"AZIONE_3\",$I504=3),'3 - SPECIE DA IMPIANTARE'!$X5,\"\")","v":""},null,"",{"$f":"IF(AND($B504=\"AZIONE_3\",$L504=4),'3 - SPECIE DA IMPIANTARE'!$X5,\"\")","v":""},null,"",{"$f":"IF(AND($B504=\"AZIONE_3\",$O504=5),'3 - SPECIE DA IMPIANTARE'!$X5,\"\")","v":""},null,"",{"$f":"IF(AND($B504=\"AZIONE_3\",$R504=6),'3 - SPECIE DA IMPIANTARE'!$X5,\"\")","v":""}]
[6,"","",{"$f":"IF(AND($B505=\"AZIONE_3\",C505=1),'3 - SPECIE DA IMPIANTARE'!$X6,\"\")","v":""},null,"",{"$f":"IF(AND($B505=\"AZIONE_3\",F505=2),'3 - SPECIE DA IMPIANTARE'!$X6,\"\")","v":""},null,"",{"$f":"IF(AND($B505=\"AZIONE_3\",$I505=3),'3 - SPECIE DA IMPIANTARE'!$X6,\"\")","v":""},null,"",{"$f":"IF(AND($B505=\"AZIONE_3\",$L505=4),'3 - SPECIE DA IMPIANTARE'!$X6,\"\")","v":""},null,"",{"$f":"IF(AND($B505=\"AZIONE_3\",$O505=5),'3 - SPECIE DA IMPIANTARE'!$X6,\"\")","v":""},null,"",{"$f":"IF(AND($B505=\"AZIONE_3\",$R505=6),'3 - SPECIE DA IMPIANTARE'!$X6,\"\")","v":""}]
[6,"","",{"$f":"IF(AND($B506=\"AZIONE_3\",C506=1),'3 - SPECIE DA IMPIANTARE'!$X7,\"\")","v":""},null,"",{"$f":"IF(AND($B506=\"AZIONE_3\",F506=2),'3 - SPECIE DA IMPIANTARE'!$X7,\"\")","v":""},null,"",{"$f":"IF(AND($B506=\"AZIONE_3\",$I506=3),'3 - SPECIE DA IMPIANTARE'!$X7,\"\")","v":""},null,"",{"$f":"IF(AND($B506=\"AZIONE_3\",$L506=4),'3 - SPECIE DA IMPIANTARE'!$X7,\"\")","v":""},null,"",{"$f":"IF(AND($B506=\"AZIONE_3\",$O506=5),'3 - SPECIE DA IMPIANTARE'!$X7,\"\")","v":""},null,"",{"$f":"IF(AND($B506=\"AZIONE_3\",$R506=6),'3 - SPECIE DA IMPIANTARE'!$X7,\"\")","v":""}]
[6,"","",{"$f":"IF(AND($B507=\"AZIONE_3\",C507=1),'3 - SPECIE DA IMPIANTARE'!$X8,\"\")","v":""},null,"",{"$f":"IF(AND($B507=\"AZIONE_3\",F507=2),'3 - SPECIE DA IMPIANTARE'!$X8,\"\")","v":""},null,"",{"$f":"IF(AND($B507=\"AZIONE_3\",$I507=3),'3 - SPECIE DA IMPIANTARE'!$X8,\"\")","v":""},null,"",{"$f":"IF(AND($B507=\"AZIONE_3\",$L507=4),'3 - SPECIE DA IMPIANTARE'!$X8,\"\")","v":""},null,"",{"$f":"IF(AND($B507=\"AZIONE_3\",$O507=5),'3 - SPECIE DA IMPIANTARE'!$X8,\"\")","v":""},null,"",{"$f":"IF(AND($B507=\"AZIONE_3\",$R507=6),'3 - SPECIE DA IMPIANTARE'!$X8,\"\")","v":""}]
[6,"","",{"$f":"IF(AND($B508=\"AZIONE_3\",C508=1),'3 - SPECIE DA IMPIANTARE'!$X9,\"\")","v":""},null,"",{"$f":"IF(AND($B508=\"AZIONE_3\",F508=2),'3 - SPECIE DA IMPIANTARE'!$X9,\"\")","v":""},null,"",{"$f":"IF(AND($B508=\"AZIONE_3\",$I508=3),'3 - SPECIE DA IMPIANTARE'!$X9,\"\")","v":""},null,"",{"$f":"IF(AND($B508=\"AZIONE_3\",$L508=4),'3 - SPECIE DA IMPIANTARE'!$X9,\"\")","v":""},null,"",{"$f":"IF(AND($B508=\"AZIONE_3\",$O508=5),'3 - SPECIE DA IMPIANTARE'!$X9,\"\")","v":""},null,"",{"$f":"IF(AND($B508=\"AZIONE_3\",$R508=6),'3 - SPECIE DA IMPIANTARE'!$X9,\"\")","v":""}]
[6,"","",{"$f":"IF(AND($B509=\"AZIONE_3\",C509=1),'3 - SPECIE DA IMPIANTARE'!$X10,\"\")","v":""},null,"",{"$f":"IF(AND($B509=\"AZIONE_3\",F509=2),'3 - SPECIE DA IMPIANTARE'!$X10,\"\")","v":""},null,"",{"$f":"IF(AND($B509=\"AZIONE_3\",$I509=3),'3 - SPECIE DA IMPIANTARE'!$X10,\"\")","v":""},null,"",{"$f":"IF(AND($B509=\"AZIONE_3\",$L509=4),'3 - SPECIE DA IMPIANTARE'!$X10,\"\")","v":""},null,"",{"$f":"IF(AND($B509=\"AZIONE_3\",$O509=5),'3 - SPECIE DA IMPIANTARE'!$X10,\"\")","v":""},null,"",{"$f":"IF(AND($B509=\"AZIONE_3\",$R509=6),'3 - SPECIE DA IMPIANTARE'!$X10,\"\")","v":""}]
[6,"","",{"$f":"IF(AND($B510=\"AZIONE_3\",C510=1),'3 - SPECIE DA IMPIANTARE'!$X11,\"\")","v":""},null,"",{"$f":"IF(AND($B510=\"AZIONE_3\",F510=2),'3 - SPECIE DA IMPIANTARE'!$X11,\"\")","v":""},null,"",{"$f":"IF(AND($B510=\"AZIONE_3\",$I510=3),'3 - SPECIE DA IMPIANTARE'!$X11,\"\")","v":""},null,"",{"$f":"IF(AND($B510=\"AZIONE_3\",$L510=4),'3 - SPECIE DA IMPIANTARE'!$X11,\"\")","v":""},null,"",{"$f":"IF(AND($B510=\"AZIONE_3\",$O510=5),'3 - SPECIE DA IMPIANTARE'!$X11,\"\")","v":""},null,"",{"$f":"IF(AND($B510=\"AZIONE_3\",$R510=6),'3 - SPECIE DA IMPIANTARE'!$X11,\"\")","v":""}]
[6,"","",{"$f":"IF(AND($B511=\"AZIONE_3\",C511=1),'3 - SPECIE DA IMPIANTARE'!$X12,\"\")","v":""},null,"",{"$f":"IF(AND($B511=\"AZIONE_3\",F511=2),'3 - SPECIE DA IMPIANTARE'!$X12,\"\")","v":""},null,"",{"$f":"IF(AND($B511=\"AZIONE_3\",$I511=3),'3 - SPECIE DA IMPIANTARE'!$X12,\"\")","v":""},null,"",{"$f":"IF(AND($B511=\"AZIONE_3\",$L511=4),'3 - SPECIE DA IMPIANTARE'!$X12,\"\")","v":""},null,"",{"$f":"IF(AND($B511=\"AZIONE_3\",$O511=5),'3 - SPECIE DA IMPIANTARE'!$X12,\"\")","v":""},null,"",{"$f":"IF(AND($B511=\"AZIONE_3\",$R511=6),'3 - SPECIE DA IMPIANTARE'!$X12,\"\")","v":""}]
[6,"","",{"$f":"IF(AND($B512=\"AZIONE_3\",C512=1),'3 - SPECIE DA IMPIANTARE'!$X13,\"\")","v":""},null,"",{"$f":"IF(AND($B512=\"AZIONE_3\",F512=2),'3 - SPECIE DA IMPIANTARE'!$X13,\"\")","v":""},null,"",{"$f":"IF(AND($B512=\"AZIONE_3\",$I512=3),'3 - SPECIE DA IMPIANTARE'!$X13,\"\")","v":""},null,"",{"$f":"IF(AND($B512=\"AZIONE_3\",$L512=4),'3 - SPECIE DA IMPIANTARE'!$X13,\"\")","v":""},null,"",{"$f":"IF(AND($B512=\"AZIONE_3\",$O512=5),'3 - SPECIE DA IMPIANTARE'!$X13,\"\")","v":""},null,"",{"$f":"IF(AND($B512=\"AZIONE_3\",$R512=6),'3 - SPECIE DA IMPIANTARE'!$X13,\"\")","v":""}]
[6,"","",{"$f":"IF(AND($B513=\"AZIONE_3\",C513=1),'3 - SPECIE DA IMPIANTARE'!$X14,\"\")","v":""},null,"",{"$f":"IF(AND($B513=\"AZIONE_3\",F513=2),'3 - SPECIE DA IMPIANTARE'!$X14,\"\")","v":""},null,"",{"$f":"IF(AND($B513=\"AZIONE_3\",$I513=3),'3 - SPECIE DA IMPIANTARE'!$X14,\"\")","v":""},null,"",{"$f":"IF(AND($B513=\"AZIONE_3\",$L513=4),'3 - SPECIE DA IMPIANTARE'!$X14,\"\")","v":""},null,"",{"$f":"IF(AND($B513=\"AZIONE_3\",$O513=5),'3 - SPECIE DA IMPIANTARE'!$X14,\"\")","v":""},null,"",{"$f":"IF(AND($B513=\"AZIONE_3\",$R513=6),'3 - SPECIE DA IMPIANTARE'!$X14,\"\")","v":""}]
[6,"","",{"$f":"IF(AND($B514=\"AZIONE_3\",C514=1),'3 - SPECIE DA IMPIANTARE'!$X15,\"\")","v":""},null,"",{"$f":"IF(AND($B514=\"AZIONE_3\",F514=2),'3 - SPECIE DA IMPIANTARE'!$X15,\"\")","v":""},null,"",{"$f":"IF(AND($B514=\"AZIONE_3\",$I514=3),'3 - SPECIE DA IMPIANTARE'!$X15,\"\")","v":""},null,"",{"$f":"IF(AND($B514=\"AZIONE_3\",$L514=4),'3 - SPECIE DA IMPIANTARE'!$X15,\"\")","v":""},null,"",{"$f":"IF(AND($B514=\"AZIONE_3\",$O514=5),'3 - SPECIE DA IMPIANTARE'!$X15,\"\")","v":""},null,"",{"$f":"IF(AND($B514=\"AZIONE_3\",$R514=6),'3 - SPECIE DA IMPIANTARE'!$X15,\"\")","v":""}]
[6,"","",{"$f":"IF(AND($B515=\"AZIONE_3\",C515=1),'3 - SPECIE DA IMPIANTARE'!$X16,\"\")","v":""},null,"",{"$f":"IF(AND($B515=\"AZIONE_3\",F515=2),'3 - SPECIE DA IMPIANTARE'!$X16,\"\")","v":""},null,"",{"$f":"IF(AND($B515=\"AZIONE_3\",$I515=3),'3 - SPECIE DA IMPIANTARE'!$X16,\"\")","v":""},null,"",{"$f":"IF(AND($B515=\"AZIONE_3\",$L515=4),'3 - SPECIE DA IMPIANTARE'!$X16,\"\")","v":""},null,"",{"$f":"IF(AND($B515=\"AZIONE_3\",$O515=5),'3 - SPECIE DA IMPIANTARE'!$X16,\"\")","v":""},null,"",{"$f":"IF(AND($B515=\"AZIONE_3\",$R515=6),'3 - SPECIE DA IMPIANTARE'!$X16,\"\")","v":""}]
[6,"","",{"$f":"IF(AND($B516=\"AZIONE_3\",C516=1),'3 - SPECIE DA IMPIANTARE'!$X17,\"\")","v":""},null,"",{"$f":"IF(AND($B516=\"AZIONE_3\",F516=2),'3 - SPECIE DA IMPIANTARE'!$X17,\"\")","v":""},null,"",{"$f":"IF(AND($B516=\"AZIONE_3\",$I516=3),'3 - SPECIE DA IMPIANTARE'!$X17,\"\")","v":""},null,"",{"$f":"IF(AND($B516=\"AZIONE_3\",$L516=4),'3 - SPECIE DA IMPIANTARE'!$X17,\"\")","v":""},null,"",{"$f":"IF(AND($B516=\"AZIONE_3\",$O516=5),'3 - SPECIE DA IMPIANTARE'!$X17,\"\")","v":""},null,"",{"$f":"IF(AND($B516=\"AZIONE_3\",$R516=6),'3 - SPECIE DA IMPIANTARE'!$X17,\"\")","v":""}]
[6,"","",{"$f":"IF(AND($B517=\"AZIONE_3\",C517=1),'3 - SPECIE DA IMPIANTARE'!$X18,\"\")","v":""},null,"",{"$f":"IF(AND($B517=\"AZIONE_3\",F517=2),'3 - SPECIE DA IMPIANTARE'!$X18,\"\")","v":""},null,"",{"$f":"IF(AND($B517=\"AZIONE_3\",$I517=3),'3 - SPECIE DA IMPIANTARE'!$X18,\"\")","v":""},null,"",{"$f":"IF(AND($B517=\"AZIONE_3\",$L517=4),'3 - SPECIE DA IMPIANTARE'!$X18,\"\")","v":""},null,"",{"$f":"IF(AND($B517=\"AZIONE_3\",$O517=5),'3 - SPECIE DA IMPIANTARE'!$X18,\"\")","v":""},null,"",{"$f":"IF(AND($B517=\"AZIONE_3\",$R517=6),'3 - SPECIE DA IMPIANTARE'!$X18,\"\")","v":""}]
[6,"","",{"$f":"IF(AND($B518=\"AZIONE_3\",C518=1),'3 - SPECIE DA IMPIANTARE'!$X19,\"\")","v":""},null,"",{"$f":"IF(AND($B518=\"AZIONE_3\",F518=2),'3 - SPECIE DA IMPIANTARE'!$X19,\"\")","v":""},null,"",{"$f":"IF(AND($B518=\"AZIONE_3\",$I518=3),'3 - SPECIE DA IMPIANTARE'!$X19,\"\")","v":""},null,"",{"$f":"IF(AND($B518=\"AZIONE_3\",$L518=4),'3 - SPECIE DA IMPIANTARE'!$X19,\"\")","v":""},null,"",{"$f":"IF(AND($B518=\"AZIONE_3\",$O518=5),'3 - SPECIE DA IMPIANTARE'!$X19,\"\")","v":""},null,"",{"$f":"IF(AND($B518=\"AZIONE_3\",$R518=6),'3 - SPECIE DA IMPIANTARE'!$X19,\"\")","v":""}]
[6,{"$f":"B419","v":""},"",{"$f":"IF(AND($B519=\"AZIONE_3\",C519=1),'3 - SPECIE DA IMPIANTARE'!$X20,\"\")","v":""},null,"",{"$f":"IF(AND($B519=\"AZIONE_3\",F519=2),'3 - SPECIE DA IMPIANTARE'!$X20,\"\")","v":""},null,"",{"$f":"IF(AND($B519=\"AZIONE_3\",$I519=3),'3 - SPECIE DA IMPIANTARE'!$X20,\"\")","v":""},null,"",{"$f":"IF(AND($B519=\"AZIONE_3\",$L519=4),'3 - SPECIE DA IMPIANTARE'!$X20,\"\")","v":""},null,"",{"$f":"IF(AND($B519=\"AZIONE_3\",$O519=5),'3 - SPECIE DA IMPIANTARE'!$X20,\"\")","v":""},null,"",{"$f":"IF(AND($B519=\"AZIONE_3\",$R519=6),'3 - SPECIE DA IMPIANTARE'!$X20,\"\")","v":""}]
[6,"","",{"$f":"IF(AND($B520=\"AZIONE_3\",C520=1),'3 - SPECIE DA IMPIANTARE'!$X21,\"\")","v":""},null,"",{"$f":"IF(AND($B520=\"AZIONE_3\",F520=2),'3 - SPECIE DA IMPIANTARE'!$X21,\"\")","v":""},null,"",{"$f":"IF(AND($B520=\"AZIONE_3\",$I520=3),'3 - SPECIE DA IMPIANTARE'!$X21,\"\")","v":""},null,"",{"$f":"IF(AND($B520=\"AZIONE_3\",$L520=4),'3 - SPECIE DA IMPIANTARE'!$X21,\"\")","v":""},null,"",{"$f":"IF(AND($B520=\"AZIONE_3\",$O520=5),'3 - SPECIE DA IMPIANTARE'!$X21,\"\")","v":""},null,"",{"$f":"IF(AND($B520=\"AZIONE_3\",$R520=6),'3 - SPECIE DA IMPIANTARE'!$X21,\"\")","v":""}]
[6,"","",{"$f":"IF(AND($B521=\"AZIONE_3\",C521=1),'3 - SPECIE DA IMPIANTARE'!$X22,\"\")","v":""},null,"",{"$f":"IF(AND($B521=\"AZIONE_3\",F521=2),'3 - SPECIE DA IMPIANTARE'!$X22,\"\")","v":""},null,"",{"$f":"IF(AND($B521=\"AZIONE_3\",$I521=3),'3 - SPECIE DA IMPIANTARE'!$X22,\"\")","v":""},null,"",{"$f":"IF(AND($B521=\"AZIONE_3\",$L521=4),'3 - SPECIE DA IMPIANTARE'!$X22,\"\")","v":""},null,"",{"$f":"IF(AND($B521=\"AZIONE_3\",$O521=5),'3 - SPECIE DA IMPIANTARE'!$X22,\"\")","v":""},null,"",{"$f":"IF(AND($B521=\"AZIONE_3\",$R521=6),'3 - SPECIE DA IMPIANTARE'!$X22,\"\")","v":""}]
[6,"","",{"$f":"IF(AND($B522=\"AZIONE_3\",C522=1),'3 - SPECIE DA IMPIANTARE'!$X23,\"\")","v":""},null,"",{"$f":"IF(AND($B522=\"AZIONE_3\",F522=2),'3 - SPECIE DA IMPIANTARE'!$X23,\"\")","v":""},null,"",{"$f":"IF(AND($B522=\"AZIONE_3\",$I522=3),'3 - SPECIE DA IMPIANTARE'!$X23,\"\")","v":""},null,"",{"$f":"IF(AND($B522=\"AZIONE_3\",$L522=4),'3 - SPECIE DA IMPIANTARE'!$X23,\"\")","v":""},null,"",{"$f":"IF(AND($B522=\"AZIONE_3\",$O522=5),'3 - SPECIE DA IMPIANTARE'!$X23,\"\")","v":""},null,"",{"$f":"IF(AND($B522=\"AZIONE_3\",$R522=6),'3 - SPECIE DA IMPIANTARE'!$X23,\"\")","v":""}]
[6,"","",{"$f":"IF(AND($B523=\"AZIONE_3\",C523=1),'3 - SPECIE DA IMPIANTARE'!$X24,\"\")","v":""},null,"",{"$f":"IF(AND($B523=\"AZIONE_3\",F523=2),'3 - SPECIE DA IMPIANTARE'!$X24,\"\")","v":""},null,"",{"$f":"IF(AND($B523=\"AZIONE_3\",$I523=3),'3 - SPECIE DA IMPIANTARE'!$X24,\"\")","v":""},null,"",{"$f":"IF(AND($B523=\"AZIONE_3\",$L523=4),'3 - SPECIE DA IMPIANTARE'!$X24,\"\")","v":""},null,"",{"$f":"IF(AND($B523=\"AZIONE_3\",$O523=5),'3 - SPECIE DA IMPIANTARE'!$X24,\"\")","v":""},null,"",{"$f":"IF(AND($B523=\"AZIONE_3\",$R523=6),'3 - SPECIE DA IMPIANTARE'!$X24,\"\")","v":""}]
[6,"","",{"$f":"IF(AND($B524=\"AZIONE_3\",C524=1),'3 - SPECIE DA IMPIANTARE'!$X25,\"\")","v":""},null,"",{"$f":"IF(AND($B524=\"AZIONE_3\",F524=2),'3 - SPECIE DA IMPIANTARE'!$X25,\"\")","v":""},null,"",{"$f":"IF(AND($B524=\"AZIONE_3\",$I524=3),'3 - SPECIE DA IMPIANTARE'!$X25,\"\")","v":""},null,"",{"$f":"IF(AND($B524=\"AZIONE_3\",$L524=4),'3 - SPECIE DA IMPIANTARE'!$X25,\"\")","v":""},null,"",{"$f":"IF(AND($B524=\"AZIONE_3\",$O524=5),'3 - SPECIE DA IMPIANTARE'!$X25,\"\")","v":""},null,"",{"$f":"IF(AND($B524=\"AZIONE_3\",$R524=6),'3 - SPECIE DA IMPIANTARE'!$X25,\"\")","v":""}]
[6,"","",{"$f":"IF(AND($B525=\"AZIONE_3\",C525=1),'3 - SPECIE DA IMPIANTARE'!$X26,\"\")","v":""},null,"",{"$f":"IF(AND($B525=\"AZIONE_3\",F525=2),'3 - SPECIE DA IMPIANTARE'!$X26,\"\")","v":""},null,"",{"$f":"IF(AND($B525=\"AZIONE_3\",$I525=3),'3 - SPECIE DA IMPIANTARE'!$X26,\"\")","v":""},null,"",{"$f":"IF(AND($B525=\"AZIONE_3\",$L525=4),'3 - SPECIE DA IMPIANTARE'!$X26,\"\")","v":""},null,"",{"$f":"IF(AND($B525=\"AZIONE_3\",$O525=5),'3 - SPECIE DA IMPIANTARE'!$X26,\"\")","v":""},null,"",{"$f":"IF(AND($B525=\"AZIONE_3\",$R525=6),'3 - SPECIE DA IMPIANTARE'!$X26,\"\")","v":""}]
[6,"","",{"$f":"IF(AND($B526=\"AZIONE_3\",C526=1),'3 - SPECIE DA IMPIANTARE'!$X27,\"\")","v":""},null,"",{"$f":"IF(AND($B526=\"AZIONE_3\",F526=2),'3 - SPECIE DA IMPIANTARE'!$X27,\"\")","v":""},null,"",{"$f":"IF(AND($B526=\"AZIONE_3\",$I526=3),'3 - SPECIE DA IMPIANTARE'!$X27,\"\")","v":""},null,"",{"$f":"IF(AND($B526=\"AZIONE_3\",$L526=4),'3 - SPECIE DA IMPIANTARE'!$X27,\"\")","v":""},null,"",{"$f":"IF(AND($B526=\"AZIONE_3\",$O526=5),'3 - SPECIE DA IMPIANTARE'!$X27,\"\")","v":""},null,"",{"$f":"IF(AND($B526=\"AZIONE_3\",$R526=6),'3 - SPECIE DA IMPIANTARE'!$X27,\"\")","v":""}]
[6,"","",{"$f":"IF(AND($B527=\"AZIONE_3\",C527=1),'3 - SPECIE DA IMPIANTARE'!$X28,\"\")","v":""},null,"",{"$f":"IF(AND($B527=\"AZIONE_3\",F527=2),'3 - SPECIE DA IMPIANTARE'!$X28,\"\")","v":""},null,"",{"$f":"IF(AND($B527=\"AZIONE_3\",$I527=3),'3 - SPECIE DA IMPIANTARE'!$X28,\"\")","v":""},null,"",{"$f":"IF(AND($B527=\"AZIONE_3\",$L527=4),'3 - SPECIE DA IMPIANTARE'!$X28,\"\")","v":""},null,"",{"$f":"IF(AND($B527=\"AZIONE_3\",$O527=5),'3 - SPECIE DA IMPIANTARE'!$X28,\"\")","v":""},null,"",{"$f":"IF(AND($B527=\"AZIONE_3\",$R527=6),'3 - SPECIE DA IMPIANTARE'!$X28,\"\")","v":""}]
[6,"","",{"$f":"IF(AND($B528=\"AZIONE_3\",C528=1),'3 - SPECIE DA IMPIANTARE'!$X29,\"\")","v":""},null,"",{"$f":"IF(AND($B528=\"AZIONE_3\",F528=2),'3 - SPECIE DA IMPIANTARE'!$X29,\"\")","v":""},null,"",{"$f":"IF(AND($B528=\"AZIONE_3\",$I528=3),'3 - SPECIE DA IMPIANTARE'!$X29,\"\")","v":""},null,"",{"$f":"IF(AND($B528=\"AZIONE_3\",$L528=4),'3 - SPECIE DA IMPIANTARE'!$X29,\"\")","v":""},null,"",{"$f":"IF(AND($B528=\"AZIONE_3\",$O528=5),'3 - SPECIE DA IMPIANTARE'!$X29,\"\")","v":""},null,"",{"$f":"IF(AND($B528=\"AZIONE_3\",$R528=6),'3 - SPECIE DA IMPIANTARE'!$X29,\"\")","v":""}]
[6,"","",{"$f":"IF(AND($B529=\"AZIONE_3\",C529=1),'3 - SPECIE DA IMPIANTARE'!$X30,\"\")","v":""},null,"",{"$f":"IF(AND($B529=\"AZIONE_3\",F529=2),'3 - SPECIE DA IMPIANTARE'!$X30,\"\")","v":""},null,"",{"$f":"IF(AND($B529=\"AZIONE_3\",$I529=3),'3 - SPECIE DA IMPIANTARE'!$X30,\"\")","v":""},null,"",{"$f":"IF(AND($B529=\"AZIONE_3\",$L529=4),'3 - SPECIE DA IMPIANTARE'!$X30,\"\")","v":""},null,"",{"$f":"IF(AND($B529=\"AZIONE_3\",$O529=5),'3 - SPECIE DA IMPIANTARE'!$X30,\"\")","v":""},null,"",{"$f":"IF(AND($B529=\"AZIONE_3\",$R529=6),'3 - SPECIE DA IMPIANTARE'!$X30,\"\")","v":""}]
[6,"","",{"$f":"IF(AND($B530=\"AZIONE_3\",C530=1),'3 - SPECIE DA IMPIANTARE'!$X31,\"\")","v":""},null,"",{"$f":"IF(AND($B530=\"AZIONE_3\",F530=2),'3 - SPECIE DA IMPIANTARE'!$X31,\"\")","v":""},null,"",{"$f":"IF(AND($B530=\"AZIONE_3\",$I530=3),'3 - SPECIE DA IMPIANTARE'!$X31,\"\")","v":""},null,"",{"$f":"IF(AND($B530=\"AZIONE_3\",$L530=4),'3 - SPECIE DA IMPIANTARE'!$X31,\"\")","v":""},null,"",{"$f":"IF(AND($B530=\"AZIONE_3\",$O530=5),'3 - SPECIE DA IMPIANTARE'!$X31,\"\")","v":""},null,"",{"$f":"IF(AND($B530=\"AZIONE_3\",$R530=6),'3 - SPECIE DA IMPIANTARE'!$X31,\"\")","v":""}]
[6,"","",{"$f":"IF(AND($B531=\"AZIONE_3\",C531=1),'3 - SPECIE DA IMPIANTARE'!$X32,\"\")","v":""},null,"",{"$f":"IF(AND($B531=\"AZIONE_3\",F531=2),'3 - SPECIE DA IMPIANTARE'!$X32,\"\")","v":""},null,"",{"$f":"IF(AND($B531=\"AZIONE_3\",$I531=3),'3 - SPECIE DA IMPIANTARE'!$X32,\"\")","v":""},null,"",{"$f":"IF(AND($B531=\"AZIONE_3\",$L531=4),'3 - SPECIE DA IMPIANTARE'!$X32,\"\")","v":""},null,"",{"$f":"IF(AND($B531=\"AZIONE_3\",$O531=5),'3 - SPECIE DA IMPIANTARE'!$X32,\"\")","v":""},null,"",{"$f":"IF(AND($B531=\"AZIONE_3\",$R531=6),'3 - SPECIE DA IMPIANTARE'!$X32,\"\")","v":""}]
[6,"","",{"$f":"IF(AND($B532=\"AZIONE_3\",C532=1),'3 - SPECIE DA IMPIANTARE'!$X33,\"\")","v":""},null,"",{"$f":"IF(AND($B532=\"AZIONE_3\",F532=2),'3 - SPECIE DA IMPIANTARE'!$X33,\"\")","v":""},null,"",{"$f":"IF(AND($B532=\"AZIONE_3\",$I532=3),'3 - SPECIE DA IMPIANTARE'!$X33,\"\")","v":""},null,"",{"$f":"IF(AND($B532=\"AZIONE_3\",$L532=4),'3 - SPECIE DA IMPIANTARE'!$X33,\"\")","v":""},null,"",{"$f":"IF(AND($B532=\"AZIONE_3\",$O532=5),'3 - SPECIE DA IMPIANTARE'!$X33,\"\")","v":""},null,"",{"$f":"IF(AND($B532=\"AZIONE_3\",$R532=6),'3 - SPECIE DA IMPIANTARE'!$X33,\"\")","v":""}]
[6,"","",{"$f":"IF(AND($B533=\"AZIONE_3\",C533=1),'3 - SPECIE DA IMPIANTARE'!$X34,\"\")","v":""},null,"",{"$f":"IF(AND($B533=\"AZIONE_3\",F533=2),'3 - SPECIE DA IMPIANTARE'!$X34,\"\")","v":""},null,"",{"$f":"IF(AND($B533=\"AZIONE_3\",$I533=3),'3 - SPECIE DA IMPIANTARE'!$X34,\"\")","v":""},null,"",{"$f":"IF(AND($B533=\"AZIONE_3\",$L533=4),'3 - SPECIE DA IMPIANTARE'!$X34,\"\")","v":""},null,"",{"$f":"IF(AND($B533=\"AZIONE_3\",$O533=5),'3 - SPECIE DA IMPIANTARE'!$X34,\"\")","v":""},null,"",{"$f":"IF(AND($B533=\"AZIONE_3\",$R533=6),'3 - SPECIE DA IMPIANTARE'!$X34,\"\")","v":""}]
[6,"","",{"$f":"IF(AND($B534=\"AZIONE_3\",C534=1),'3 - SPECIE DA IMPIANTARE'!$X35,\"\")","v":""},null,"",{"$f":"IF(AND($B534=\"AZIONE_3\",F534=2),'3 - SPECIE DA IMPIANTARE'!$X35,\"\")","v":""},null,"",{"$f":"IF(AND($B534=\"AZIONE_3\",$I534=3),'3 - SPECIE DA IMPIANTARE'!$X35,\"\")","v":""},null,"",{"$f":"IF(AND($B534=\"AZIONE_3\",$L534=4),'3 - SPECIE DA IMPIANTARE'!$X35,\"\")","v":""},null,"",{"$f":"IF(AND($B534=\"AZIONE_3\",$O534=5),'3 - SPECIE DA IMPIANTARE'!$X35,\"\")","v":""},null,"",{"$f":"IF(AND($B534=\"AZIONE_3\",$R534=6),'3 - SPECIE DA IMPIANTARE'!$X35,\"\")","v":""}]
[6,{"$f":"B435","v":""},"",{"$f":"IF(AND($B535=\"AZIONE_3\",C535=1),'3 - SPECIE DA IMPIANTARE'!$X36,\"\")","v":""},null,"",{"$f":"IF(AND($B535=\"AZIONE_3\",F535=2),'3 - SPECIE DA IMPIANTARE'!$X36,\"\")","v":""},null,"",{"$f":"IF(AND($B535=\"AZIONE_3\",$I535=3),'3 - SPECIE DA IMPIANTARE'!$X36,\"\")","v":""},null,"",{"$f":"IF(AND($B535=\"AZIONE_3\",$L535=4),'3 - SPECIE DA IMPIANTARE'!$X36,\"\")","v":""},null,"",{"$f":"IF(AND($B535=\"AZIONE_3\",$O535=5),'3 - SPECIE DA IMPIANTARE'!$X36,\"\")","v":""},null,"",{"$f":"IF(AND($B535=\"AZIONE_3\",$R535=6),'3 - SPECIE DA IMPIANTARE'!$X36,\"\")","v":""}]
[6,"","",{"$f":"IF(AND($B536=\"AZIONE_3\",C536=1),'3 - SPECIE DA IMPIANTARE'!$X37,\"\")","v":""},null,"",{"$f":"IF(AND($B536=\"AZIONE_3\",F536=2),'3 - SPECIE DA IMPIANTARE'!$X37,\"\")","v":""},null,"",{"$f":"IF(AND($B536=\"AZIONE_3\",$I536=3),'3 - SPECIE DA IMPIANTARE'!$X37,\"\")","v":""},null,"",{"$f":"IF(AND($B536=\"AZIONE_3\",$L536=4),'3 - SPECIE DA IMPIANTARE'!$X37,\"\")","v":""},null,"",{"$f":"IF(AND($B536=\"AZIONE_3\",$O536=5),'3 - SPECIE DA IMPIANTARE'!$X37,\"\")","v":""},null,"",{"$f":"IF(AND($B536=\"AZIONE_3\",$R536=6),'3 - SPECIE DA IMPIANTARE'!$X37,\"\")","v":""}]
[6,"","",{"$f":"IF(AND($B537=\"AZIONE_3\",C537=1),'3 - SPECIE DA IMPIANTARE'!$X38,\"\")","v":""},null,"",{"$f":"IF(AND($B537=\"AZIONE_3\",F537=2),'3 - SPECIE DA IMPIANTARE'!$X38,\"\")","v":""},null,"",{"$f":"IF(AND($B537=\"AZIONE_3\",$I537=3),'3 - SPECIE DA IMPIANTARE'!$X38,\"\")","v":""},null,"",{"$f":"IF(AND($B537=\"AZIONE_3\",$L537=4),'3 - SPECIE DA IMPIANTARE'!$X38,\"\")","v":""},null,"",{"$f":"IF(AND($B537=\"AZIONE_3\",$O537=5),'3 - SPECIE DA IMPIANTARE'!$X38,\"\")","v":""},null,"",{"$f":"IF(AND($B537=\"AZIONE_3\",$R537=6),'3 - SPECIE DA IMPIANTARE'!$X38,\"\")","v":""}]
[6,"","",{"$f":"IF(AND($B538=\"AZIONE_3\",C538=1),'3 - SPECIE DA IMPIANTARE'!$X39,\"\")","v":""},null,"",{"$f":"IF(AND($B538=\"AZIONE_3\",F538=2),'3 - SPECIE DA IMPIANTARE'!$X39,\"\")","v":""},null,"",{"$f":"IF(AND($B538=\"AZIONE_3\",$I538=3),'3 - SPECIE DA IMPIANTARE'!$X39,\"\")","v":""},null,"",{"$f":"IF(AND($B538=\"AZIONE_3\",$L538=4),'3 - SPECIE DA IMPIANTARE'!$X39,\"\")","v":""},null,"",{"$f":"IF(AND($B538=\"AZIONE_3\",$O538=5),'3 - SPECIE DA IMPIANTARE'!$X39,\"\")","v":""},null,"",{"$f":"IF(AND($B538=\"AZIONE_3\",$R538=6),'3 - SPECIE DA IMPIANTARE'!$X39,\"\")","v":""}]
[6,"","",{"$f":"IF(AND($B539=\"AZIONE_3\",C539=1),'3 - SPECIE DA IMPIANTARE'!$X40,\"\")","v":""},null,"",{"$f":"IF(AND($B539=\"AZIONE_3\",F539=2),'3 - SPECIE DA IMPIANTARE'!$X40,\"\")","v":""},null,"",{"$f":"IF(AND($B539=\"AZIONE_3\",$I539=3),'3 - SPECIE DA IMPIANTARE'!$X40,\"\")","v":""},null,"",{"$f":"IF(AND($B539=\"AZIONE_3\",$L539=4),'3 - SPECIE DA IMPIANTARE'!$X40,\"\")","v":""},null,"",{"$f":"IF(AND($B539=\"AZIONE_3\",$O539=5),'3 - SPECIE DA IMPIANTARE'!$X40,\"\")","v":""},null,"",{"$f":"IF(AND($B539=\"AZIONE_3\",$R539=6),'3 - SPECIE DA IMPIANTARE'!$X40,\"\")","v":""}]
[6,"","",{"$f":"IF(AND($B540=\"AZIONE_3\",C540=1),'3 - SPECIE DA IMPIANTARE'!$X41,\"\")","v":""},null,"",{"$f":"IF(AND($B540=\"AZIONE_3\",F540=2),'3 - SPECIE DA IMPIANTARE'!$X41,\"\")","v":""},null,"",{"$f":"IF(AND($B540=\"AZIONE_3\",$I540=3),'3 - SPECIE DA IMPIANTARE'!$X41,\"\")","v":""},null,"",{"$f":"IF(AND($B540=\"AZIONE_3\",$L540=4),'3 - SPECIE DA IMPIANTARE'!$X41,\"\")","v":""},null,"",{"$f":"IF(AND($B540=\"AZIONE_3\",$O540=5),'3 - SPECIE DA IMPIANTARE'!$X41,\"\")","v":""},null,"",{"$f":"IF(AND($B540=\"AZIONE_3\",$R540=6),'3 - SPECIE DA IMPIANTARE'!$X41,\"\")","v":""}]
[6,"","",{"$f":"IF(AND($B541=\"AZIONE_3\",C541=1),'3 - SPECIE DA IMPIANTARE'!$X42,\"\")","v":""},null,"",{"$f":"IF(AND($B541=\"AZIONE_3\",F541=2),'3 - SPECIE DA IMPIANTARE'!$X42,\"\")","v":""},null,"",{"$f":"IF(AND($B541=\"AZIONE_3\",$I541=3),'3 - SPECIE DA IMPIANTARE'!$X42,\"\")","v":""},null,"",{"$f":"IF(AND($B541=\"AZIONE_3\",$L541=4),'3 - SPECIE DA IMPIANTARE'!$X42,\"\")","v":""},null,"",{"$f":"IF(AND($B541=\"AZIONE_3\",$O541=5),'3 - SPECIE DA IMPIANTARE'!$X42,\"\")","v":""},null,"",{"$f":"IF(AND($B541=\"AZIONE_3\",$R541=6),'3 - SPECIE DA IMPIANTARE'!$X42,\"\")","v":""}]
[6,"","",{"$f":"IF(AND($B542=\"AZIONE_3\",C542=1),'3 - SPECIE DA IMPIANTARE'!$X43,\"\")","v":""},null,"",{"$f":"IF(AND($B542=\"AZIONE_3\",F542=2),'3 - SPECIE DA IMPIANTARE'!$X43,\"\")","v":""},null,"",{"$f":"IF(AND($B542=\"AZIONE_3\",$I542=3),'3 - SPECIE DA IMPIANTARE'!$X43,\"\")","v":""},null,"",{"$f":"IF(AND($B542=\"AZIONE_3\",$L542=4),'3 - SPECIE DA IMPIANTARE'!$X43,\"\")","v":""},null,"",{"$f":"IF(AND($B542=\"AZIONE_3\",$O542=5),'3 - SPECIE DA IMPIANTARE'!$X43,\"\")","v":""},null,"",{"$f":"IF(AND($B542=\"AZIONE_3\",$R542=6),'3 - SPECIE DA IMPIANTARE'!$X43,\"\")","v":""}]
[6,"","",{"$f":"IF(AND($B543=\"AZIONE_3\",C543=1),'3 - SPECIE DA IMPIANTARE'!$X44,\"\")","v":""},null,"",{"$f":"IF(AND($B543=\"AZIONE_3\",F543=2),'3 - SPECIE DA IMPIANTARE'!$X44,\"\")","v":""},null,"",{"$f":"IF(AND($B543=\"AZIONE_3\",$I543=3),'3 - SPECIE DA IMPIANTARE'!$X44,\"\")","v":""},null,"",{"$f":"IF(AND($B543=\"AZIONE_3\",$L543=4),'3 - SPECIE DA IMPIANTARE'!$X44,\"\")","v":""},null,"",{"$f":"IF(AND($B543=\"AZIONE_3\",$O543=5),'3 - SPECIE DA IMPIANTARE'!$X44,\"\")","v":""},null,"",{"$f":"IF(AND($B543=\"AZIONE_3\",$R543=6),'3 - SPECIE DA IMPIANTARE'!$X44,\"\")","v":""}]
[6,"","",{"$f":"IF(AND($B544=\"AZIONE_3\",C544=1),'3 - SPECIE DA IMPIANTARE'!$X45,\"\")","v":""},null,"",{"$f":"IF(AND($B544=\"AZIONE_3\",F544=2),'3 - SPECIE DA IMPIANTARE'!$X45,\"\")","v":""},null,"",{"$f":"IF(AND($B544=\"AZIONE_3\",$I544=3),'3 - SPECIE DA IMPIANTARE'!$X45,\"\")","v":""},null,"",{"$f":"IF(AND($B544=\"AZIONE_3\",$L544=4),'3 - SPECIE DA IMPIANTARE'!$X45,\"\")","v":""},null,"",{"$f":"IF(AND($B544=\"AZIONE_3\",$O544=5),'3 - SPECIE DA IMPIANTARE'!$X45,\"\")","v":""},null,"",{"$f":"IF(AND($B544=\"AZIONE_3\",$R544=6),'3 - SPECIE DA IMPIANTARE'!$X45,\"\")","v":""}]
[6,"","",{"$f":"IF(AND($B545=\"AZIONE_3\",C545=1),'3 - SPECIE DA IMPIANTARE'!$X46,\"\")","v":""},null,"",{"$f":"IF(AND($B545=\"AZIONE_3\",F545=2),'3 - SPECIE DA IMPIANTARE'!$X46,\"\")","v":""},null,"",{"$f":"IF(AND($B545=\"AZIONE_3\",$I545=3),'3 - SPECIE DA IMPIANTARE'!$X46,\"\")","v":""},null,"",{"$f":"IF(AND($B545=\"AZIONE_3\",$L545=4),'3 - SPECIE DA IMPIANTARE'!$X46,\"\")","v":""},null,"",{"$f":"IF(AND($B545=\"AZIONE_3\",$O545=5),'3 - SPECIE DA IMPIANTARE'!$X46,\"\")","v":""},null,"",{"$f":"IF(AND($B545=\"AZIONE_3\",$R545=6),'3 - SPECIE DA IMPIANTARE'!$X46,\"\")","v":""}]
[6,"","",{"$f":"IF(AND($B546=\"AZIONE_3\",C546=1),'3 - SPECIE DA IMPIANTARE'!$X47,\"\")","v":""},null,"",{"$f":"IF(AND($B546=\"AZIONE_3\",F546=2),'3 - SPECIE DA IMPIANTARE'!$X47,\"\")","v":""},null,"",{"$f":"IF(AND($B546=\"AZIONE_3\",$I546=3),'3 - SPECIE DA IMPIANTARE'!$X47,\"\")","v":""},null,"",{"$f":"IF(AND($B546=\"AZIONE_3\",$L546=4),'3 - SPECIE DA IMPIANTARE'!$X47,\"\")","v":""},null,"",{"$f":"IF(AND($B546=\"AZIONE_3\",$O546=5),'3 - SPECIE DA IMPIANTARE'!$X47,\"\")","v":""},null,"",{"$f":"IF(AND($B546=\"AZIONE_3\",$R546=6),'3 - SPECIE DA IMPIANTARE'!$X47,\"\")","v":""}]
[6,"","",{"$f":"IF(AND($B547=\"AZIONE_3\",C547=1),'3 - SPECIE DA IMPIANTARE'!$X48,\"\")","v":""},null,"",{"$f":"IF(AND($B547=\"AZIONE_3\",F547=2),'3 - SPECIE DA IMPIANTARE'!$X48,\"\")","v":""},null,"",{"$f":"IF(AND($B547=\"AZIONE_3\",$I547=3),'3 - SPECIE DA IMPIANTARE'!$X48,\"\")","v":""},null,"",{"$f":"IF(AND($B547=\"AZIONE_3\",$L547=4),'3 - SPECIE DA IMPIANTARE'!$X48,\"\")","v":""},null,"",{"$f":"IF(AND($B547=\"AZIONE_3\",$O547=5),'3 - SPECIE DA IMPIANTARE'!$X48,\"\")","v":""},null,"",{"$f":"IF(AND($B547=\"AZIONE_3\",$R547=6),'3 - SPECIE DA IMPIANTARE'!$X48,\"\")","v":""}]
[6,"","",{"$f":"IF(AND($B548=\"AZIONE_3\",C548=1),'3 - SPECIE DA IMPIANTARE'!$X49,\"\")","v":""},null,"",{"$f":"IF(AND($B548=\"AZIONE_3\",F548=2),'3 - SPECIE DA IMPIANTARE'!$X49,\"\")","v":""},null,"",{"$f":"IF(AND($B548=\"AZIONE_3\",$I548=3),'3 - SPECIE DA IMPIANTARE'!$X49,\"\")","v":""},null,"",{"$f":"IF(AND($B548=\"AZIONE_3\",$L548=4),'3 - SPECIE DA IMPIANTARE'!$X49,\"\")","v":""},null,"",{"$f":"IF(AND($B548=\"AZIONE_3\",$O548=5),'3 - SPECIE DA IMPIANTARE'!$X49,\"\")","v":""},null,"",{"$f":"IF(AND($B548=\"AZIONE_3\",$R548=6),'3 - SPECIE DA IMPIANTARE'!$X49,\"\")","v":""}]
[6,"","",{"$f":"IF(AND($B549=\"AZIONE_3\",C549=1),'3 - SPECIE DA IMPIANTARE'!$X50,\"\")","v":""},null,"",{"$f":"IF(AND($B549=\"AZIONE_3\",F549=2),'3 - SPECIE DA IMPIANTARE'!$X50,\"\")","v":""},null,"",{"$f":"IF(AND($B549=\"AZIONE_3\",$I549=3),'3 - SPECIE DA IMPIANTARE'!$X50,\"\")","v":""},null,"",{"$f":"IF(AND($B549=\"AZIONE_3\",$L549=4),'3 - SPECIE DA IMPIANTARE'!$X50,\"\")","v":""},null,"",{"$f":"IF(AND($B549=\"AZIONE_3\",$O549=5),'3 - SPECIE DA IMPIANTARE'!$X50,\"\")","v":""},null,"",{"$f":"IF(AND($B549=\"AZIONE_3\",$R549=6),'3 - SPECIE DA IMPIANTARE'!$X50,\"\")","v":""}]
[6,"","",{"$f":"IF(AND($B550=\"AZIONE_3\",C550=1),'3 - SPECIE DA IMPIANTARE'!$X51,\"\")","v":""},null,"",{"$f":"IF(AND($B550=\"AZIONE_3\",F550=2),'3 - SPECIE DA IMPIANTARE'!$X51,\"\")","v":""},null,"",{"$f":"IF(AND($B550=\"AZIONE_3\",$I550=3),'3 - SPECIE DA IMPIANTARE'!$X51,\"\")","v":""},null,"",{"$f":"IF(AND($B550=\"AZIONE_3\",$L550=4),'3 - SPECIE DA IMPIANTARE'!$X51,\"\")","v":""},null,"",{"$f":"IF(AND($B550=\"AZIONE_3\",$O550=5),'3 - SPECIE DA IMPIANTARE'!$X51,\"\")","v":""},null,"",{"$f":"IF(AND($B550=\"AZIONE_3\",$R550=6),'3 - SPECIE DA IMPIANTARE'!$X51,\"\")","v":""}]
[6,{"$f":"B451","v":""},"",{"$f":"IF(AND($B551=\"AZIONE_3\",C551=1),'3 - SPECIE DA IMPIANTARE'!$X52,\"\")","v":""},null,{"$f":"F451","v":""},{"$f":"IF(AND($B551=\"AZIONE_3\",F551=2),'3 - SPECIE DA IMPIANTARE'!$X52,\"\")","v":""},null,{"$f":"I451","v":""},{"$f":"IF(AND($B551=\"AZIONE_3\",$I551=3),'3 - SPECIE DA IMPIANTARE'!$X52,\"\")","v":""},null,{"$f":"L451","v":""},{"$f":"IF(AND($B551=\"AZIONE_3\",$L551=4),'3 - SPECIE DA IMPIANTARE'!$X52,\"\")","v":""},null,{"$f":"O451","v":""},{"$f":"IF(AND($B551=\"AZIONE_3\",$O551=5),'3 - SPECIE DA IMPIANTARE'!$X52,\"\")","v":""},null,{"$f":"R451","v":""},{"$f":"IF(AND($B551=\"AZIONE_3\",$R551=6),'3 - SPECIE DA IMPIANTARE'!$X52,\"\")","v":""}]
[6,"","",{"$f":"IF(AND($B552=\"AZIONE_3\",C552=1),'3 - SPECIE DA IMPIANTARE'!$X53,\"\")","v":""},null,"",{"$f":"IF(AND($B552=\"AZIONE_3\",F552=2),'3 - SPECIE DA IMPIANTARE'!$X53,\"\")","v":""},null,"",{"$f":"IF(AND($B552=\"AZIONE_3\",$I552=3),'3 - SPECIE DA IMPIANTARE'!$X53,\"\")","v":""},null,"",{"$f":"IF(AND($B552=\"AZIONE_3\",$L552=4),'3 - SPECIE DA IMPIANTARE'!$X53,\"\")","v":""},null,"",{"$f":"IF(AND($B552=\"AZIONE_3\",$O552=5),'3 - SPECIE DA IMPIANTARE'!$X53,\"\")","v":""},null,"",{"$f":"IF(AND($B552=\"AZIONE_3\",$R552=6),'3 - SPECIE DA IMPIANTARE'!$X53,\"\")","v":""}]
[6,"","",{"$f":"IF(AND($B553=\"AZIONE_3\",C553=1),'3 - SPECIE DA IMPIANTARE'!$X54,\"\")","v":""},null,"",{"$f":"IF(AND($B553=\"AZIONE_3\",F553=2),'3 - SPECIE DA IMPIANTARE'!$X54,\"\")","v":""},null,"",{"$f":"IF(AND($B553=\"AZIONE_3\",$I553=3),'3 - SPECIE DA IMPIANTARE'!$X54,\"\")","v":""},null,"",{"$f":"IF(AND($B553=\"AZIONE_3\",$L553=4),'3 - SPECIE DA IMPIANTARE'!$X54,\"\")","v":""},null,"",{"$f":"IF(AND($B553=\"AZIONE_3\",$O553=5),'3 - SPECIE DA IMPIANTARE'!$X54,\"\")","v":""},null,"",{"$f":"IF(AND($B553=\"AZIONE_3\",$R553=6),'3 - SPECIE DA IMPIANTARE'!$X54,\"\")","v":""}]
[6,"","",{"$f":"IF(AND($B554=\"AZIONE_3\",C554=1),'3 - SPECIE DA IMPIANTARE'!$X55,\"\")","v":""},null,"",{"$f":"IF(AND($B554=\"AZIONE_3\",F554=2),'3 - SPECIE DA IMPIANTARE'!$X55,\"\")","v":""},null,"",{"$f":"IF(AND($B554=\"AZIONE_3\",$I554=3),'3 - SPECIE DA IMPIANTARE'!$X55,\"\")","v":""},null,"",{"$f":"IF(AND($B554=\"AZIONE_3\",$L554=4),'3 - SPECIE DA IMPIANTARE'!$X55,\"\")","v":""},null,"",{"$f":"IF(AND($B554=\"AZIONE_3\",$O554=5),'3 - SPECIE DA IMPIANTARE'!$X55,\"\")","v":""},null,"",{"$f":"IF(AND($B554=\"AZIONE_3\",$R554=6),'3 - SPECIE DA IMPIANTARE'!$X55,\"\")","v":""}]
[6,"","",{"$f":"IF(AND($B555=\"AZIONE_3\",C555=1),'3 - SPECIE DA IMPIANTARE'!$X56,\"\")","v":""},null,"",{"$f":"IF(AND($B555=\"AZIONE_3\",F555=2),'3 - SPECIE DA IMPIANTARE'!$X56,\"\")","v":""},null,"",{"$f":"IF(AND($B555=\"AZIONE_3\",$I555=3),'3 - SPECIE DA IMPIANTARE'!$X56,\"\")","v":""},null,"",{"$f":"IF(AND($B555=\"AZIONE_3\",$L555=4),'3 - SPECIE DA IMPIANTARE'!$X56,\"\")","v":""},null,"",{"$f":"IF(AND($B555=\"AZIONE_3\",$O555=5),'3 - SPECIE DA IMPIANTARE'!$X56,\"\")","v":""},null,"",{"$f":"IF(AND($B555=\"AZIONE_3\",$R555=6),'3 - SPECIE DA IMPIANTARE'!$X56,\"\")","v":""}]
[6,"","",{"$f":"IF(AND($B556=\"AZIONE_3\",C556=1),'3 - SPECIE DA IMPIANTARE'!$X57,\"\")","v":""},null,"",{"$f":"IF(AND($B556=\"AZIONE_3\",F556=2),'3 - SPECIE DA IMPIANTARE'!$X57,\"\")","v":""},null,"",{"$f":"IF(AND($B556=\"AZIONE_3\",$I556=3),'3 - SPECIE DA IMPIANTARE'!$X57,\"\")","v":""},null,"",{"$f":"IF(AND($B556=\"AZIONE_3\",$L556=4),'3 - SPECIE DA IMPIANTARE'!$X57,\"\")","v":""},null,"",{"$f":"IF(AND($B556=\"AZIONE_3\",$O556=5),'3 - SPECIE DA IMPIANTARE'!$X57,\"\")","v":""},null,"",{"$f":"IF(AND($B556=\"AZIONE_3\",$R556=6),'3 - SPECIE DA IMPIANTARE'!$X57,\"\")","v":""}]
[6,"","",{"$f":"IF(AND($B557=\"AZIONE_3\",C557=1),'3 - SPECIE DA IMPIANTARE'!$X58,\"\")","v":""},null,"",{"$f":"IF(AND($B557=\"AZIONE_3\",F557=2),'3 - SPECIE DA IMPIANTARE'!$X58,\"\")","v":""},null,"",{"$f":"IF(AND($B557=\"AZIONE_3\",$I557=3),'3 - SPECIE DA IMPIANTARE'!$X58,\"\")","v":""},null,"",{"$f":"IF(AND($B557=\"AZIONE_3\",$L557=4),'3 - SPECIE DA IMPIANTARE'!$X58,\"\")","v":""},null,"",{"$f":"IF(AND($B557=\"AZIONE_3\",$O557=5),'3 - SPECIE DA IMPIANTARE'!$X58,\"\")","v":""},null,"",{"$f":"IF(AND($B557=\"AZIONE_3\",$R557=6),'3 - SPECIE DA IMPIANTARE'!$X58,\"\")","v":""}]
[6,"","",{"$f":"IF(AND($B558=\"AZIONE_3\",C558=1),'3 - SPECIE DA IMPIANTARE'!$X59,\"\")","v":""},null,"",{"$f":"IF(AND($B558=\"AZIONE_3\",F558=2),'3 - SPECIE DA IMPIANTARE'!$X59,\"\")","v":""},null,"",{"$f":"IF(AND($B558=\"AZIONE_3\",$I558=3),'3 - SPECIE DA IMPIANTARE'!$X59,\"\")","v":""},null,"",{"$f":"IF(AND($B558=\"AZIONE_3\",$L558=4),'3 - SPECIE DA IMPIANTARE'!$X59,\"\")","v":""},null,"",{"$f":"IF(AND($B558=\"AZIONE_3\",$O558=5),'3 - SPECIE DA IMPIANTARE'!$X59,\"\")","v":""},null,"",{"$f":"IF(AND($B558=\"AZIONE_3\",$R558=6),'3 - SPECIE DA IMPIANTARE'!$X59,\"\")","v":""}]
[6,"","",{"$f":"IF(AND($B559=\"AZIONE_3\",C559=1),'3 - SPECIE DA IMPIANTARE'!$X60,\"\")","v":""},null,"",{"$f":"IF(AND($B559=\"AZIONE_3\",F559=2),'3 - SPECIE DA IMPIANTARE'!$X60,\"\")","v":""},null,"",{"$f":"IF(AND($B559=\"AZIONE_3\",$I559=3),'3 - SPECIE DA IMPIANTARE'!$X60,\"\")","v":""},null,"",{"$f":"IF(AND($B559=\"AZIONE_3\",$L559=4),'3 - SPECIE DA IMPIANTARE'!$X60,\"\")","v":""},null,"",{"$f":"IF(AND($B559=\"AZIONE_3\",$O559=5),'3 - SPECIE DA IMPIANTARE'!$X60,\"\")","v":""},null,"",{"$f":"IF(AND($B559=\"AZIONE_3\",$R559=6),'3 - SPECIE DA IMPIANTARE'!$X60,\"\")","v":""}]
[6,"","",{"$f":"IF(AND($B560=\"AZIONE_3\",C560=1),'3 - SPECIE DA IMPIANTARE'!$X61,\"\")","v":""},null,"",{"$f":"IF(AND($B560=\"AZIONE_3\",F560=2),'3 - SPECIE DA IMPIANTARE'!$X61,\"\")","v":""},null,"",{"$f":"IF(AND($B560=\"AZIONE_3\",$I560=3),'3 - SPECIE DA IMPIANTARE'!$X61,\"\")","v":""},null,"",{"$f":"IF(AND($B560=\"AZIONE_3\",$L560=4),'3 - SPECIE DA IMPIANTARE'!$X61,\"\")","v":""},null,"",{"$f":"IF(AND($B560=\"AZIONE_3\",$O560=5),'3 - SPECIE DA IMPIANTARE'!$X61,\"\")","v":""},null,"",{"$f":"IF(AND($B560=\"AZIONE_3\",$R560=6),'3 - SPECIE DA IMPIANTARE'!$X61,\"\")","v":""}]
[6,"","",{"$f":"IF(AND($B561=\"AZIONE_3\",C561=1),'3 - SPECIE DA IMPIANTARE'!$X62,\"\")","v":""},null,"",{"$f":"IF(AND($B561=\"AZIONE_3\",F561=2),'3 - SPECIE DA IMPIANTARE'!$X62,\"\")","v":""},null,"",{"$f":"IF(AND($B561=\"AZIONE_3\",$I561=3),'3 - SPECIE DA IMPIANTARE'!$X62,\"\")","v":""},null,"",{"$f":"IF(AND($B561=\"AZIONE_3\",$L561=4),'3 - SPECIE DA IMPIANTARE'!$X62,\"\")","v":""},null,"",{"$f":"IF(AND($B561=\"AZIONE_3\",$O561=5),'3 - SPECIE DA IMPIANTARE'!$X62,\"\")","v":""},null,"",{"$f":"IF(AND($B561=\"AZIONE_3\",$R561=6),'3 - SPECIE DA IMPIANTARE'!$X62,\"\")","v":""}]
[6,"","",{"$f":"IF(AND($B562=\"AZIONE_3\",C562=1),'3 - SPECIE DA IMPIANTARE'!$X63,\"\")","v":""},null,"",{"$f":"IF(AND($B562=\"AZIONE_3\",F562=2),'3 - SPECIE DA IMPIANTARE'!$X63,\"\")","v":""},null,"",{"$f":"IF(AND($B562=\"AZIONE_3\",$I562=3),'3 - SPECIE DA IMPIANTARE'!$X63,\"\")","v":""},null,"",{"$f":"IF(AND($B562=\"AZIONE_3\",$L562=4),'3 - SPECIE DA IMPIANTARE'!$X63,\"\")","v":""},null,"",{"$f":"IF(AND($B562=\"AZIONE_3\",$O562=5),'3 - SPECIE DA IMPIANTARE'!$X63,\"\")","v":""},null,"",{"$f":"IF(AND($B562=\"AZIONE_3\",$R562=6),'3 - SPECIE DA IMPIANTARE'!$X63,\"\")","v":""}]
[6,"","",{"$f":"IF(AND($B563=\"AZIONE_3\",C563=1),'3 - SPECIE DA IMPIANTARE'!$X64,\"\")","v":""},null,"",{"$f":"IF(AND($B563=\"AZIONE_3\",F563=2),'3 - SPECIE DA IMPIANTARE'!$X64,\"\")","v":""},null,"",{"$f":"IF(AND($B563=\"AZIONE_3\",$I563=3),'3 - SPECIE DA IMPIANTARE'!$X64,\"\")","v":""},null,"",{"$f":"IF(AND($B563=\"AZIONE_3\",$L563=4),'3 - SPECIE DA IMPIANTARE'!$X64,\"\")","v":""},null,"",{"$f":"IF(AND($B563=\"AZIONE_3\",$O563=5),'3 - SPECIE DA IMPIANTARE'!$X64,\"\")","v":""},null,"",{"$f":"IF(AND($B563=\"AZIONE_3\",$R563=6),'3 - SPECIE DA IMPIANTARE'!$X64,\"\")","v":""}]
[6,"","",{"$f":"IF(AND($B564=\"AZIONE_3\",C564=1),'3 - SPECIE DA IMPIANTARE'!$X65,\"\")","v":""},null,"",{"$f":"IF(AND($B564=\"AZIONE_3\",F564=2),'3 - SPECIE DA IMPIANTARE'!$X65,\"\")","v":""},null,"",{"$f":"IF(AND($B564=\"AZIONE_3\",$I564=3),'3 - SPECIE DA IMPIANTARE'!$X65,\"\")","v":""},null,"",{"$f":"IF(AND($B564=\"AZIONE_3\",$L564=4),'3 - SPECIE DA IMPIANTARE'!$X65,\"\")","v":""},null,"",{"$f":"IF(AND($B564=\"AZIONE_3\",$O564=5),'3 - SPECIE DA IMPIANTARE'!$X65,\"\")","v":""},null,"",{"$f":"IF(AND($B564=\"AZIONE_3\",$R564=6),'3 - SPECIE DA IMPIANTARE'!$X65,\"\")","v":""}]
[6,"","",{"$f":"IF(AND($B565=\"AZIONE_3\",C565=1),'3 - SPECIE DA IMPIANTARE'!$X66,\"\")","v":""},null,"",{"$f":"IF(AND($B565=\"AZIONE_3\",F565=2),'3 - SPECIE DA IMPIANTARE'!$X66,\"\")","v":""},null,"",{"$f":"IF(AND($B565=\"AZIONE_3\",$I565=3),'3 - SPECIE DA IMPIANTARE'!$X66,\"\")","v":""},null,"",{"$f":"IF(AND($B565=\"AZIONE_3\",$L565=4),'3 - SPECIE DA IMPIANTARE'!$X66,\"\")","v":""},null,"",{"$f":"IF(AND($B565=\"AZIONE_3\",$O565=5),'3 - SPECIE DA IMPIANTARE'!$X66,\"\")","v":""},null,"",{"$f":"IF(AND($B565=\"AZIONE_3\",$R565=6),'3 - SPECIE DA IMPIANTARE'!$X66,\"\")","v":""}]
[6,"","",{"$f":"IF(AND($B566=\"AZIONE_3\",C566=1),'3 - SPECIE DA IMPIANTARE'!$X67,\"\")","v":""},null,"",{"$f":"IF(AND($B566=\"AZIONE_3\",F566=2),'3 - SPECIE DA IMPIANTARE'!$X67,\"\")","v":""},null,"",{"$f":"IF(AND($B566=\"AZIONE_3\",$I566=3),'3 - SPECIE DA IMPIANTARE'!$X67,\"\")","v":""},null,"",{"$f":"IF(AND($B566=\"AZIONE_3\",$L566=4),'3 - SPECIE DA IMPIANTARE'!$X67,\"\")","v":""},null,"",{"$f":"IF(AND($B566=\"AZIONE_3\",$O566=5),'3 - SPECIE DA IMPIANTARE'!$X67,\"\")","v":""},null,"",{"$f":"IF(AND($B566=\"AZIONE_3\",$R566=6),'3 - SPECIE DA IMPIANTARE'!$X67,\"\")","v":""}]
[6,{"$f":"B467","v":""},"",{"$f":"IF(AND($B567=\"AZIONE_3\",C567=1),'3 - SPECIE DA IMPIANTARE'!$X68,\"\")","v":""},null,"",{"$f":"IF(AND($B567=\"AZIONE_3\",F567=2),'3 - SPECIE DA IMPIANTARE'!$X68,\"\")","v":""},null,"",{"$f":"IF(AND($B567=\"AZIONE_3\",$I567=3),'3 - SPECIE DA IMPIANTARE'!$X68,\"\")","v":""},null,"",{"$f":"IF(AND($B567=\"AZIONE_3\",$L567=4),'3 - SPECIE DA IMPIANTARE'!$X68,\"\")","v":""},null,"",{"$f":"IF(AND($B567=\"AZIONE_3\",$O567=5),'3 - SPECIE DA IMPIANTARE'!$X68,\"\")","v":""},null,"",{"$f":"IF(AND($B567=\"AZIONE_3\",$R567=6),'3 - SPECIE DA IMPIANTARE'!$X68,\"\")","v":""}]
[6,"","",{"$f":"IF(AND($B568=\"AZIONE_3\",C568=1),'3 - SPECIE DA IMPIANTARE'!$X69,\"\")","v":""},null,"",{"$f":"IF(AND($B568=\"AZIONE_3\",F568=2),'3 - SPECIE DA IMPIANTARE'!$X69,\"\")","v":""},null,"",{"$f":"IF(AND($B568=\"AZIONE_3\",$I568=3),'3 - SPECIE DA IMPIANTARE'!$X69,\"\")","v":""},null,"",{"$f":"IF(AND($B568=\"AZIONE_3\",$L568=4),'3 - SPECIE DA IMPIANTARE'!$X69,\"\")","v":""},null,"",{"$f":"IF(AND($B568=\"AZIONE_3\",$O568=5),'3 - SPECIE DA IMPIANTARE'!$X69,\"\")","v":""},null,"",{"$f":"IF(AND($B568=\"AZIONE_3\",$R568=6),'3 - SPECIE DA IMPIANTARE'!$X69,\"\")","v":""}]
[6,"","",{"$f":"IF(AND($B569=\"AZIONE_3\",C569=1),'3 - SPECIE DA IMPIANTARE'!$X70,\"\")","v":""},null,"",{"$f":"IF(AND($B569=\"AZIONE_3\",F569=2),'3 - SPECIE DA IMPIANTARE'!$X70,\"\")","v":""},null,"",{"$f":"IF(AND($B569=\"AZIONE_3\",$I569=3),'3 - SPECIE DA IMPIANTARE'!$X70,\"\")","v":""},null,"",{"$f":"IF(AND($B569=\"AZIONE_3\",$L569=4),'3 - SPECIE DA IMPIANTARE'!$X70,\"\")","v":""},null,"",{"$f":"IF(AND($B569=\"AZIONE_3\",$O569=5),'3 - SPECIE DA IMPIANTARE'!$X70,\"\")","v":""},null,"",{"$f":"IF(AND($B569=\"AZIONE_3\",$R569=6),'3 - SPECIE DA IMPIANTARE'!$X70,\"\")","v":""}]
[6,"","",{"$f":"IF(AND($B570=\"AZIONE_3\",C570=1),'3 - SPECIE DA IMPIANTARE'!$X71,\"\")","v":""},null,"",{"$f":"IF(AND($B570=\"AZIONE_3\",F570=2),'3 - SPECIE DA IMPIANTARE'!$X71,\"\")","v":""},null,"",{"$f":"IF(AND($B570=\"AZIONE_3\",$I570=3),'3 - SPECIE DA IMPIANTARE'!$X71,\"\")","v":""},null,"",{"$f":"IF(AND($B570=\"AZIONE_3\",$L570=4),'3 - SPECIE DA IMPIANTARE'!$X71,\"\")","v":""},null,"",{"$f":"IF(AND($B570=\"AZIONE_3\",$O570=5),'3 - SPECIE DA IMPIANTARE'!$X71,\"\")","v":""},null,"",{"$f":"IF(AND($B570=\"AZIONE_3\",$R570=6),'3 - SPECIE DA IMPIANTARE'!$X71,\"\")","v":""}]
[6,"","",{"$f":"IF(AND($B571=\"AZIONE_3\",C571=1),'3 - SPECIE DA IMPIANTARE'!$X72,\"\")","v":""},null,"",{"$f":"IF(AND($B571=\"AZIONE_3\",F571=2),'3 - SPECIE DA IMPIANTARE'!$X72,\"\")","v":""},null,"",{"$f":"IF(AND($B571=\"AZIONE_3\",$I571=3),'3 - SPECIE DA IMPIANTARE'!$X72,\"\")","v":""},null,"",{"$f":"IF(AND($B571=\"AZIONE_3\",$L571=4),'3 - SPECIE DA IMPIANTARE'!$X72,\"\")","v":""},null,"",{"$f":"IF(AND($B571=\"AZIONE_3\",$O571=5),'3 - SPECIE DA IMPIANTARE'!$X72,\"\")","v":""},null,"",{"$f":"IF(AND($B571=\"AZIONE_3\",$R571=6),'3 - SPECIE DA IMPIANTARE'!$X72,\"\")","v":""}]
[6,"","",{"$f":"IF(AND($B572=\"AZIONE_3\",C572=1),'3 - SPECIE DA IMPIANTARE'!$X73,\"\")","v":""},null,"",{"$f":"IF(AND($B572=\"AZIONE_3\",F572=2),'3 - SPECIE DA IMPIANTARE'!$X73,\"\")","v":""},null,"",{"$f":"IF(AND($B572=\"AZIONE_3\",$I572=3),'3 - SPECIE DA IMPIANTARE'!$X73,\"\")","v":""},null,"",{"$f":"IF(AND($B572=\"AZIONE_3\",$L572=4),'3 - SPECIE DA IMPIANTARE'!$X73,\"\")","v":""},null,"",{"$f":"IF(AND($B572=\"AZIONE_3\",$O572=5),'3 - SPECIE DA IMPIANTARE'!$X73,\"\")","v":""},null,"",{"$f":"IF(AND($B572=\"AZIONE_3\",$R572=6),'3 - SPECIE DA IMPIANTARE'!$X73,\"\")","v":""}]
[6,"","",{"$f":"IF(AND($B573=\"AZIONE_3\",C573=1),'3 - SPECIE DA IMPIANTARE'!$X74,\"\")","v":""},null,"",{"$f":"IF(AND($B573=\"AZIONE_3\",F573=2),'3 - SPECIE DA IMPIANTARE'!$X74,\"\")","v":""},null,"",{"$f":"IF(AND($B573=\"AZIONE_3\",$I573=3),'3 - SPECIE DA IMPIANTARE'!$X74,\"\")","v":""},null,"",{"$f":"IF(AND($B573=\"AZIONE_3\",$L573=4),'3 - SPECIE DA IMPIANTARE'!$X74,\"\")","v":""},null,"",{"$f":"IF(AND($B573=\"AZIONE_3\",$O573=5),'3 - SPECIE DA IMPIANTARE'!$X74,\"\")","v":""},null,"",{"$f":"IF(AND($B573=\"AZIONE_3\",$R573=6),'3 - SPECIE DA IMPIANTARE'!$X74,\"\")","v":""}]
[6,"","",{"$f":"IF(AND($B574=\"AZIONE_3\",C574=1),'3 - SPECIE DA IMPIANTARE'!$X75,\"\")","v":""},null,"",{"$f":"IF(AND($B574=\"AZIONE_3\",F574=2),'3 - SPECIE DA IMPIANTARE'!$X75,\"\")","v":""},null,"",{"$f":"IF(AND($B574=\"AZIONE_3\",$I574=3),'3 - SPECIE DA IMPIANTARE'!$X75,\"\")","v":""},null,"",{"$f":"IF(AND($B574=\"AZIONE_3\",$L574=4),'3 - SPECIE DA IMPIANTARE'!$X75,\"\")","v":""},null,"",{"$f":"IF(AND($B574=\"AZIONE_3\",$O574=5),'3 - SPECIE DA IMPIANTARE'!$X75,\"\")","v":""},null,"",{"$f":"IF(AND($B574=\"AZIONE_3\",$R574=6),'3 - SPECIE DA IMPIANTARE'!$X75,\"\")","v":""}]
[6,"","",{"$f":"IF(AND($B575=\"AZIONE_3\",C575=1),'3 - SPECIE DA IMPIANTARE'!$X76,\"\")","v":""},null,"",{"$f":"IF(AND($B575=\"AZIONE_3\",F575=2),'3 - SPECIE DA IMPIANTARE'!$X76,\"\")","v":""},null,"",{"$f":"IF(AND($B575=\"AZIONE_3\",$I575=3),'3 - SPECIE DA IMPIANTARE'!$X76,\"\")","v":""},null,"",{"$f":"IF(AND($B575=\"AZIONE_3\",$L575=4),'3 - SPECIE DA IMPIANTARE'!$X76,\"\")","v":""},null,"",{"$f":"IF(AND($B575=\"AZIONE_3\",$O575=5),'3 - SPECIE DA IMPIANTARE'!$X76,\"\")","v":""},null,"",{"$f":"IF(AND($B575=\"AZIONE_3\",$R575=6),'3 - SPECIE DA IMPIANTARE'!$X76,\"\")","v":""}]
[6,"","",{"$f":"IF(AND($B576=\"AZIONE_3\",C576=1),'3 - SPECIE DA IMPIANTARE'!$X77,\"\")","v":""},null,"",{"$f":"IF(AND($B576=\"AZIONE_3\",F576=2),'3 - SPECIE DA IMPIANTARE'!$X77,\"\")","v":""},null,"",{"$f":"IF(AND($B576=\"AZIONE_3\",$I576=3),'3 - SPECIE DA IMPIANTARE'!$X77,\"\")","v":""},null,"",{"$f":"IF(AND($B576=\"AZIONE_3\",$L576=4),'3 - SPECIE DA IMPIANTARE'!$X77,\"\")","v":""},null,"",{"$f":"IF(AND($B576=\"AZIONE_3\",$O576=5),'3 - SPECIE DA IMPIANTARE'!$X77,\"\")","v":""},null,"",{"$f":"IF(AND($B576=\"AZIONE_3\",$R576=6),'3 - SPECIE DA IMPIANTARE'!$X77,\"\")","v":""}]
[6,"","",{"$f":"IF(AND($B577=\"AZIONE_3\",C577=1),'3 - SPECIE DA IMPIANTARE'!$X78,\"\")","v":""},null,"",{"$f":"IF(AND($B577=\"AZIONE_3\",F577=2),'3 - SPECIE DA IMPIANTARE'!$X78,\"\")","v":""},null,"",{"$f":"IF(AND($B577=\"AZIONE_3\",$I577=3),'3 - SPECIE DA IMPIANTARE'!$X78,\"\")","v":""},null,"",{"$f":"IF(AND($B577=\"AZIONE_3\",$L577=4),'3 - SPECIE DA IMPIANTARE'!$X78,\"\")","v":""},null,"",{"$f":"IF(AND($B577=\"AZIONE_3\",$O577=5),'3 - SPECIE DA IMPIANTARE'!$X78,\"\")","v":""},null,"",{"$f":"IF(AND($B577=\"AZIONE_3\",$R577=6),'3 - SPECIE DA IMPIANTARE'!$X78,\"\")","v":""}]
[6,"","",{"$f":"IF(AND($B578=\"AZIONE_3\",C578=1),'3 - SPECIE DA IMPIANTARE'!$X79,\"\")","v":""},null,"",{"$f":"IF(AND($B578=\"AZIONE_3\",F578=2),'3 - SPECIE DA IMPIANTARE'!$X79,\"\")","v":""},null,"",{"$f":"IF(AND($B578=\"AZIONE_3\",$I578=3),'3 - SPECIE DA IMPIANTARE'!$X79,\"\")","v":""},null,"",{"$f":"IF(AND($B578=\"AZIONE_3\",$L578=4),'3 - SPECIE DA IMPIANTARE'!$X79,\"\")","v":""},null,"",{"$f":"IF(AND($B578=\"AZIONE_3\",$O578=5),'3 - SPECIE DA IMPIANTARE'!$X79,\"\")","v":""},null,"",{"$f":"IF(AND($B578=\"AZIONE_3\",$R578=6),'3 - SPECIE DA IMPIANTARE'!$X79,\"\")","v":""}]
[6,"","",{"$f":"IF(AND($B579=\"AZIONE_3\",C579=1),'3 - SPECIE DA IMPIANTARE'!$X80,\"\")","v":""},null,"",{"$f":"IF(AND($B579=\"AZIONE_3\",F579=2),'3 - SPECIE DA IMPIANTARE'!$X80,\"\")","v":""},null,"",{"$f":"IF(AND($B579=\"AZIONE_3\",$I579=3),'3 - SPECIE DA IMPIANTARE'!$X80,\"\")","v":""},null,"",{"$f":"IF(AND($B579=\"AZIONE_3\",$L579=4),'3 - SPECIE DA IMPIANTARE'!$X80,\"\")","v":""},null,"",{"$f":"IF(AND($B579=\"AZIONE_3\",$O579=5),'3 - SPECIE DA IMPIANTARE'!$X80,\"\")","v":""},null,"",{"$f":"IF(AND($B579=\"AZIONE_3\",$R579=6),'3 - SPECIE DA IMPIANTARE'!$X80,\"\")","v":""}]
[6,"","",{"$f":"IF(AND($B580=\"AZIONE_3\",C580=1),'3 - SPECIE DA IMPIANTARE'!$X81,\"\")","v":""},null,"",{"$f":"IF(AND($B580=\"AZIONE_3\",F580=2),'3 - SPECIE DA IMPIANTARE'!$X81,\"\")","v":""},null,"",{"$f":"IF(AND($B580=\"AZIONE_3\",$I580=3),'3 - SPECIE DA IMPIANTARE'!$X81,\"\")","v":""},null,"",{"$f":"IF(AND($B580=\"AZIONE_3\",$L580=4),'3 - SPECIE DA IMPIANTARE'!$X81,\"\")","v":""},null,"",{"$f":"IF(AND($B580=\"AZIONE_3\",$O580=5),'3 - SPECIE DA IMPIANTARE'!$X81,\"\")","v":""},null,"",{"$f":"IF(AND($B580=\"AZIONE_3\",$R580=6),'3 - SPECIE DA IMPIANTARE'!$X81,\"\")","v":""}]
[6,"","",{"$f":"IF(AND($B581=\"AZIONE_3\",C581=1),'3 - SPECIE DA IMPIANTARE'!$X82,\"\")","v":""},null,"",{"$f":"IF(AND($B581=\"AZIONE_3\",F581=2),'3 - SPECIE DA IMPIANTARE'!$X82,\"\")","v":""},null,"",{"$f":"IF(AND($B581=\"AZIONE_3\",$I581=3),'3 - SPECIE DA IMPIANTARE'!$X82,\"\")","v":""},null,"",{"$f":"IF(AND($B581=\"AZIONE_3\",$L581=4),'3 - SPECIE DA IMPIANTARE'!$X82,\"\")","v":""},null,"",{"$f":"IF(AND($B581=\"AZIONE_3\",$O581=5),'3 - SPECIE DA IMPIANTARE'!$X82,\"\")","v":""},null,"",{"$f":"IF(AND($B581=\"AZIONE_3\",$R581=6),'3 - SPECIE DA IMPIANTARE'!$X82,\"\")","v":""}]
[6,"","",{"$f":"IF(AND($B582=\"AZIONE_3\",C582=1),'3 - SPECIE DA IMPIANTARE'!$X83,\"\")","v":""},null,"",{"$f":"IF(AND($B582=\"AZIONE_3\",F582=2),'3 - SPECIE DA IMPIANTARE'!$X83,\"\")","v":""},null,"",{"$f":"IF(AND($B582=\"AZIONE_3\",$I582=3),'3 - SPECIE DA IMPIANTARE'!$X83,\"\")","v":""},null,"",{"$f":"IF(AND($B582=\"AZIONE_3\",$L582=4),'3 - SPECIE DA IMPIANTARE'!$X83,\"\")","v":""},null,"",{"$f":"IF(AND($B582=\"AZIONE_3\",$O582=5),'3 - SPECIE DA IMPIANTARE'!$X83,\"\")","v":""},null,"",{"$f":"IF(AND($B582=\"AZIONE_3\",$R582=6),'3 - SPECIE DA IMPIANTARE'!$X83,\"\")","v":""}]
[6,{"$f":"B483","v":""},"",{"$f":"IF(AND($B583=\"AZIONE_3\",C583=1),'3 - SPECIE DA IMPIANTARE'!$X84,\"\")","v":""},null,"",{"$f":"IF(AND($B583=\"AZIONE_3\",F583=2),'3 - SPECIE DA IMPIANTARE'!$X84,\"\")","v":""},null,"",{"$f":"IF(AND($B583=\"AZIONE_3\",$I583=3),'3 - SPECIE DA IMPIANTARE'!$X84,\"\")","v":""},null,"",{"$f":"IF(AND($B583=\"AZIONE_3\",$L583=4),'3 - SPECIE DA IMPIANTARE'!$X84,\"\")","v":""},null,"",{"$f":"IF(AND($B583=\"AZIONE_3\",$O583=5),'3 - SPECIE DA IMPIANTARE'!$X84,\"\")","v":""},null,"",{"$f":"IF(AND($B583=\"AZIONE_3\",$R583=6),'3 - SPECIE DA IMPIANTARE'!$X84,\"\")","v":""}]
[6,"","",{"$f":"IF(AND($B584=\"AZIONE_3\",C584=1),'3 - SPECIE DA IMPIANTARE'!$X85,\"\")","v":""},null,"",{"$f":"IF(AND($B584=\"AZIONE_3\",F584=2),'3 - SPECIE DA IMPIANTARE'!$X85,\"\")","v":""},null,"",{"$f":"IF(AND($B584=\"AZIONE_3\",$I584=3),'3 - SPECIE DA IMPIANTARE'!$X85,\"\")","v":""},null,"",{"$f":"IF(AND($B584=\"AZIONE_3\",$L584=4),'3 - SPECIE DA IMPIANTARE'!$X85,\"\")","v":""},null,"",{"$f":"IF(AND($B584=\"AZIONE_3\",$O584=5),'3 - SPECIE DA IMPIANTARE'!$X85,\"\")","v":""},null,"",{"$f":"IF(AND($B584=\"AZIONE_3\",$R584=6),'3 - SPECIE DA IMPIANTARE'!$X85,\"\")","v":""}]
[6,"","",{"$f":"IF(AND($B585=\"AZIONE_3\",C585=1),'3 - SPECIE DA IMPIANTARE'!$X86,\"\")","v":""},null,"",{"$f":"IF(AND($B585=\"AZIONE_3\",F585=2),'3 - SPECIE DA IMPIANTARE'!$X86,\"\")","v":""},null,"",{"$f":"IF(AND($B585=\"AZIONE_3\",$I585=3),'3 - SPECIE DA IMPIANTARE'!$X86,\"\")","v":""},null,"",{"$f":"IF(AND($B585=\"AZIONE_3\",$L585=4),'3 - SPECIE DA IMPIANTARE'!$X86,\"\")","v":""},null,"",{"$f":"IF(AND($B585=\"AZIONE_3\",$O585=5),'3 - SPECIE DA IMPIANTARE'!$X86,\"\")","v":""},null,"",{"$f":"IF(AND($B585=\"AZIONE_3\",$R585=6),'3 - SPECIE DA IMPIANTARE'!$X86,\"\")","v":""}]
[6,"","",{"$f":"IF(AND($B586=\"AZIONE_3\",C586=1),'3 - SPECIE DA IMPIANTARE'!$X87,\"\")","v":""},null,"",{"$f":"IF(AND($B586=\"AZIONE_3\",F586=2),'3 - SPECIE DA IMPIANTARE'!$X87,\"\")","v":""},null,"",{"$f":"IF(AND($B586=\"AZIONE_3\",$I586=3),'3 - SPECIE DA IMPIANTARE'!$X87,\"\")","v":""},null,"",{"$f":"IF(AND($B586=\"AZIONE_3\",$L586=4),'3 - SPECIE DA IMPIANTARE'!$X87,\"\")","v":""},null,"",{"$f":"IF(AND($B586=\"AZIONE_3\",$O586=5),'3 - SPECIE DA IMPIANTARE'!$X87,\"\")","v":""},null,"",{"$f":"IF(AND($B586=\"AZIONE_3\",$R586=6),'3 - SPECIE DA IMPIANTARE'!$X87,\"\")","v":""}]
[6,"","",{"$f":"IF(AND($B587=\"AZIONE_3\",C587=1),'3 - SPECIE DA IMPIANTARE'!$X88,\"\")","v":""},null,"",{"$f":"IF(AND($B587=\"AZIONE_3\",F587=2),'3 - SPECIE DA IMPIANTARE'!$X88,\"\")","v":""},null,"",{"$f":"IF(AND($B587=\"AZIONE_3\",$I587=3),'3 - SPECIE DA IMPIANTARE'!$X88,\"\")","v":""},null,"",{"$f":"IF(AND($B587=\"AZIONE_3\",$L587=4),'3 - SPECIE DA IMPIANTARE'!$X88,\"\")","v":""},null,"",{"$f":"IF(AND($B587=\"AZIONE_3\",$O587=5),'3 - SPECIE DA IMPIANTARE'!$X88,\"\")","v":""},null,"",{"$f":"IF(AND($B587=\"AZIONE_3\",$R587=6),'3 - SPECIE DA IMPIANTARE'!$X88,\"\")","v":""}]
[6,"","",{"$f":"IF(AND($B588=\"AZIONE_3\",C588=1),'3 - SPECIE DA IMPIANTARE'!$X89,\"\")","v":""},null,"",{"$f":"IF(AND($B588=\"AZIONE_3\",F588=2),'3 - SPECIE DA IMPIANTARE'!$X89,\"\")","v":""},null,"",{"$f":"IF(AND($B588=\"AZIONE_3\",$I588=3),'3 - SPECIE DA IMPIANTARE'!$X89,\"\")","v":""},null,"",{"$f":"IF(AND($B588=\"AZIONE_3\",$L588=4),'3 - SPECIE DA IMPIANTARE'!$X89,\"\")","v":""},null,"",{"$f":"IF(AND($B588=\"AZIONE_3\",$O588=5),'3 - SPECIE DA IMPIANTARE'!$X89,\"\")","v":""},null,"",{"$f":"IF(AND($B588=\"AZIONE_3\",$R588=6),'3 - SPECIE DA IMPIANTARE'!$X89,\"\")","v":""}]
[6,"","",{"$f":"IF(AND($B589=\"AZIONE_3\",C589=1),'3 - SPECIE DA IMPIANTARE'!$X90,\"\")","v":""},null,"",{"$f":"IF(AND($B589=\"AZIONE_3\",F589=2),'3 - SPECIE DA IMPIANTARE'!$X90,\"\")","v":""},null,"",{"$f":"IF(AND($B589=\"AZIONE_3\",$I589=3),'3 - SPECIE DA IMPIANTARE'!$X90,\"\")","v":""},null,"",{"$f":"IF(AND($B589=\"AZIONE_3\",$L589=4),'3 - SPECIE DA IMPIANTARE'!$X90,\"\")","v":""},null,"",{"$f":"IF(AND($B589=\"AZIONE_3\",$O589=5),'3 - SPECIE DA IMPIANTARE'!$X90,\"\")","v":""},null,"",{"$f":"IF(AND($B589=\"AZIONE_3\",$R589=6),'3 - SPECIE DA IMPIANTARE'!$X90,\"\")","v":""}]
[6,"","",{"$f":"IF(AND($B590=\"AZIONE_3\",C590=1),'3 - SPECIE DA IMPIANTARE'!$X91,\"\")","v":""},null,"",{"$f":"IF(AND($B590=\"AZIONE_3\",F590=2),'3 - SPECIE DA IMPIANTARE'!$X91,\"\")","v":""},null,"",{"$f":"IF(AND($B590=\"AZIONE_3\",$I590=3),'3 - SPECIE DA IMPIANTARE'!$X91,\"\")","v":""},null,"",{"$f":"IF(AND($B590=\"AZIONE_3\",$L590=4),'3 - SPECIE DA IMPIANTARE'!$X91,\"\")","v":""},null,"",{"$f":"IF(AND($B590=\"AZIONE_3\",$O590=5),'3 - SPECIE DA IMPIANTARE'!$X91,\"\")","v":""},null,"",{"$f":"IF(AND($B590=\"AZIONE_3\",$R590=6),'3 - SPECIE DA IMPIANTARE'!$X91,\"\")","v":""}]
[6,"","",{"$f":"IF(AND($B591=\"AZIONE_3\",C591=1),'3 - SPECIE DA IMPIANTARE'!$X92,\"\")","v":""},null,"",{"$f":"IF(AND($B591=\"AZIONE_3\",F591=2),'3 - SPECIE DA IMPIANTARE'!$X92,\"\")","v":""},null,"",{"$f":"IF(AND($B591=\"AZIONE_3\",$I591=3),'3 - SPECIE DA IMPIANTARE'!$X92,\"\")","v":""},null,"",{"$f":"IF(AND($B591=\"AZIONE_3\",$L591=4),'3 - SPECIE DA IMPIANTARE'!$X92,\"\")","v":""},null,"",{"$f":"IF(AND($B591=\"AZIONE_3\",$O591=5),'3 - SPECIE DA IMPIANTARE'!$X92,\"\")","v":""},null,"",{"$f":"IF(AND($B591=\"AZIONE_3\",$R591=6),'3 - SPECIE DA IMPIANTARE'!$X92,\"\")","v":""}]
[6,"","",{"$f":"IF(AND($B592=\"AZIONE_3\",C592=1),'3 - SPECIE DA IMPIANTARE'!$X93,\"\")","v":""},null,"",{"$f":"IF(AND($B592=\"AZIONE_3\",F592=2),'3 - SPECIE DA IMPIANTARE'!$X93,\"\")","v":""},null,"",{"$f":"IF(AND($B592=\"AZIONE_3\",$I592=3),'3 - SPECIE DA IMPIANTARE'!$X93,\"\")","v":""},null,"",{"$f":"IF(AND($B592=\"AZIONE_3\",$L592=4),'3 - SPECIE DA IMPIANTARE'!$X93,\"\")","v":""},null,"",{"$f":"IF(AND($B592=\"AZIONE_3\",$O592=5),'3 - SPECIE DA IMPIANTARE'!$X93,\"\")","v":""},null,"",{"$f":"IF(AND($B592=\"AZIONE_3\",$R592=6),'3 - SPECIE DA IMPIANTARE'!$X93,\"\")","v":""}]
[6,"","",{"$f":"IF(AND($B593=\"AZIONE_3\",C593=1),'3 - SPECIE DA IMPIANTARE'!$X94,\"\")","v":""},null,"",{"$f":"IF(AND($B593=\"AZIONE_3\",F593=2),'3 - SPECIE DA IMPIANTARE'!$X94,\"\")","v":""},null,"",{"$f":"IF(AND($B593=\"AZIONE_3\",$I593=3),'3 - SPECIE DA IMPIANTARE'!$X94,\"\")","v":""},null,"",{"$f":"IF(AND($B593=\"AZIONE_3\",$L593=4),'3 - SPECIE DA IMPIANTARE'!$X94,\"\")","v":""},null,"",{"$f":"IF(AND($B593=\"AZIONE_3\",$O593=5),'3 - SPECIE DA IMPIANTARE'!$X94,\"\")","v":""},null,"",{"$f":"IF(AND($B593=\"AZIONE_3\",$R593=6),'3 - SPECIE DA IMPIANTARE'!$X94,\"\")","v":""}]
[6,"","",{"$f":"IF(AND($B594=\"AZIONE_3\",C594=1),'3 - SPECIE DA IMPIANTARE'!$X95,\"\")","v":""},null,"",{"$f":"IF(AND($B594=\"AZIONE_3\",F594=2),'3 - SPECIE DA IMPIANTARE'!$X95,\"\")","v":""},null,"",{"$f":"IF(AND($B594=\"AZIONE_3\",$I594=3),'3 - SPECIE DA IMPIANTARE'!$X95,\"\")","v":""},null,"",{"$f":"IF(AND($B594=\"AZIONE_3\",$L594=4),'3 - SPECIE DA IMPIANTARE'!$X95,\"\")","v":""},null,"",{"$f":"IF(AND($B594=\"AZIONE_3\",$O594=5),'3 - SPECIE DA IMPIANTARE'!$X95,\"\")","v":""},null,"",{"$f":"IF(AND($B594=\"AZIONE_3\",$R594=6),'3 - SPECIE DA IMPIANTARE'!$X95,\"\")","v":""}]
[6,"","",{"$f":"IF(AND($B595=\"AZIONE_3\",C595=1),'3 - SPECIE DA IMPIANTARE'!$X96,\"\")","v":""},null,"",{"$f":"IF(AND($B595=\"AZIONE_3\",F595=2),'3 - SPECIE DA IMPIANTARE'!$X96,\"\")","v":""},null,"",{"$f":"IF(AND($B595=\"AZIONE_3\",$I595=3),'3 - SPECIE DA IMPIANTARE'!$X96,\"\")","v":""},null,"",{"$f":"IF(AND($B595=\"AZIONE_3\",$L595=4),'3 - SPECIE DA IMPIANTARE'!$X96,\"\")","v":""},null,"",{"$f":"IF(AND($B595=\"AZIONE_3\",$O595=5),'3 - SPECIE DA IMPIANTARE'!$X96,\"\")","v":""},null,"",{"$f":"IF(AND($B595=\"AZIONE_3\",$R595=6),'3 - SPECIE DA IMPIANTARE'!$X96,\"\")","v":""}]
[6,"","",{"$f":"IF(AND($B596=\"AZIONE_3\",C596=1),'3 - SPECIE DA IMPIANTARE'!$X97,\"\")","v":""},null,"",{"$f":"IF(AND($B596=\"AZIONE_3\",F596=2),'3 - SPECIE DA IMPIANTARE'!$X97,\"\")","v":""},null,"",{"$f":"IF(AND($B596=\"AZIONE_3\",$I596=3),'3 - SPECIE DA IMPIANTARE'!$X97,\"\")","v":""},null,"",{"$f":"IF(AND($B596=\"AZIONE_3\",$L596=4),'3 - SPECIE DA IMPIANTARE'!$X97,\"\")","v":""},null,"",{"$f":"IF(AND($B596=\"AZIONE_3\",$O596=5),'3 - SPECIE DA IMPIANTARE'!$X97,\"\")","v":""},null,"",{"$f":"IF(AND($B596=\"AZIONE_3\",$R596=6),'3 - SPECIE DA IMPIANTARE'!$X97,\"\")","v":""}]
[6,"","",{"$f":"IF(AND($B597=\"AZIONE_3\",C597=1),'3 - SPECIE DA IMPIANTARE'!$X98,\"\")","v":""},null,"",{"$f":"IF(AND($B597=\"AZIONE_3\",F597=2),'3 - SPECIE DA IMPIANTARE'!$X98,\"\")","v":""},null,"",{"$f":"IF(AND($B597=\"AZIONE_3\",$I597=3),'3 - SPECIE DA IMPIANTARE'!$X98,\"\")","v":""},null,"",{"$f":"IF(AND($B597=\"AZIONE_3\",$L597=4),'3 - SPECIE DA IMPIANTARE'!$X98,\"\")","v":""},null,"",{"$f":"IF(AND($B597=\"AZIONE_3\",$O597=5),'3 - SPECIE DA IMPIANTARE'!$X98,\"\")","v":""},null,"",{"$f":"IF(AND($B597=\"AZIONE_3\",$R597=6),'3 - SPECIE DA IMPIANTARE'!$X98,\"\")","v":""}]
[6,"","",{"$f":"IF(AND($B598=\"AZIONE_3\",C598=1),'3 - SPECIE DA IMPIANTARE'!$X99,\"\")","v":""},null,"",{"$f":"IF(AND($B598=\"AZIONE_3\",F598=2),'3 - SPECIE DA IMPIANTARE'!$X99,\"\")","v":""},null,"",{"$f":"IF(AND($B598=\"AZIONE_3\",$I598=3),'3 - SPECIE DA IMPIANTARE'!$X99,\"\")","v":""},null,"",{"$f":"IF(AND($B598=\"AZIONE_3\",$L598=4),'3 - SPECIE DA IMPIANTARE'!$X99,\"\")","v":""},null,"",{"$f":"IF(AND($B598=\"AZIONE_3\",$O598=5),'3 - SPECIE DA IMPIANTARE'!$X99,\"\")","v":""},null,"",{"$f":"IF(AND($B598=\"AZIONE_3\",$R598=6),'3 - SPECIE DA IMPIANTARE'!$X99,\"\")","v":""}]
[6,{"$f":"B499","v":""},"",{"$f":"IF(AND($B599=\"AZIONE_3\",C599=1),'3 - SPECIE DA IMPIANTARE'!$X100,\"\")","v":""},null,"",{"$f":"IF(AND($B599=\"AZIONE_3\",F599=2),'3 - SPECIE DA IMPIANTARE'!$X100,\"\")","v":""},null,"",{"$f":"IF(AND($B599=\"AZIONE_3\",$I599=3),'3 - SPECIE DA IMPIANTARE'!$X100,\"\")","v":""},null,"",{"$f":"IF(AND($B599=\"AZIONE_3\",$L599=4),'3 - SPECIE DA IMPIANTARE'!$X100,\"\")","v":""},null,"",{"$f":"IF(AND($B599=\"AZIONE_3\",$O599=5),'3 - SPECIE DA IMPIANTARE'!$X100,\"\")","v":""},null,"",{"$f":"IF(AND($B599=\"AZIONE_3\",$R599=6),'3 - SPECIE DA IMPIANTARE'!$X100,\"\")","v":""}]
[6,"","",{"$f":"IF(AND($B600=\"AZIONE_3\",C600=1),'3 - SPECIE DA IMPIANTARE'!$X101,\"\")","v":""},null,"",{"$f":"IF(AND($B600=\"AZIONE_3\",F600=2),'3 - SPECIE DA IMPIANTARE'!$X101,\"\")","v":""},null,"",{"$f":"IF(AND($B600=\"AZIONE_3\",$I600=3),'3 - SPECIE DA IMPIANTARE'!$X101,\"\")","v":""},null,"",{"$f":"IF(AND($B600=\"AZIONE_3\",$L600=4),'3 - SPECIE DA IMPIANTARE'!$X101,\"\")","v":""},null,"",{"$f":"IF(AND($B600=\"AZIONE_3\",$O600=5),'3 - SPECIE DA IMPIANTARE'!$X101,\"\")","v":""},null,"",{"$f":"IF(AND($B600=\"AZIONE_3\",$R600=6),'3 - SPECIE DA IMPIANTARE'!$X101,\"\")","v":""}]
[6,"","",{"$f":"IF(AND($B601=\"AZIONE_3\",C601=1),'3 - SPECIE DA IMPIANTARE'!$X102,\"\")","v":""},null,"",{"$f":"IF(AND($B601=\"AZIONE_3\",F601=2),'3 - SPECIE DA IMPIANTARE'!$X102,\"\")","v":""},null,"",{"$f":"IF(AND($B601=\"AZIONE_3\",$I601=3),'3 - SPECIE DA IMPIANTARE'!$X102,\"\")","v":""},null,"",{"$f":"IF(AND($B601=\"AZIONE_3\",$L601=4),'3 - SPECIE DA IMPIANTARE'!$X102,\"\")","v":""},null,"",{"$f":"IF(AND($B601=\"AZIONE_3\",$O601=5),'3 - SPECIE DA IMPIANTARE'!$X102,\"\")","v":""},null,"",{"$f":"IF(AND($B601=\"AZIONE_3\",$R601=6),'3 - SPECIE DA IMPIANTARE'!$X102,\"\")","v":""}]

{"sheet":"Foglio1","index":12,"n_rows":0,"n_cols":0,"rows_kept":0,"cut":false,"hidden":true,"merged":[]}